{"text_format":"1","workbook":"xlsx","n_sheets":9,"sheets":["Acute","Maternity","Ambulance","CCG-Prov(Acute)","CCG List","CCG-Prov(Amb)","Sheet3","CCG-Prov(Births)","provnames"],"not_rendered":{"charts":0,"images":1,"macros":1,"external_links":1,"defined_names":9,"comments":0,"pivot_tables":0},"unopened":[],"bounds":{"document_bytes":16777216,"sheet_cells":100000,"rows_first":2000,"rows_last":500,"rows_between":2000,"halvings":0,"cell_chars":16384,"cell_head_chars":4096},"cells_cut":0,"cells_raw":0,"read":"whole","date_system":"1900"}

{"sheet":"Acute","index":0,"n_rows":35,"n_cols":34,"rows_kept":35,"cut":false,"hidden":false,"merged":[[30,1,30,6],[0,1,0,2],[5,1,5,2],[2,1,2,2],[1,1,1,2]]}
[]
[null,"Acute Admissions"]
[null,"Select CCG below"]
[null,"Leeds South & East",{"$f":"OFFSET('CCG List'!$A$2,MATCH(B4,collabrange,0),0)","v":"03G"}]
[]
[null,"Select admissions cutoff for providers to be tabulated (up to 10 will be shown)",null,null,null,{"$f":"COLUMN()","v":6},{"$f":"COLUMN()","v":7},{"$f":"COLUMN()","v":8},{"$f":"COLUMN()","v":9},{"$f":"COLUMN()","v":10},{"$f":"COLUMN()","v":11},{"$f":"COLUMN()","v":12},{"$f":"COLUMN()","v":13},{"$f":"COLUMN()","v":14},{"$f":"COLUMN()","v":15},{"$f":"COLUMN()","v":16},{"$f":"COLUMN()","v":17},{"$f":"COLUMN()","v":18},{"$f":"COLUMN()","v":19},{"$f":"COLUMN()","v":20},{"$f":"COLUMN()","v":21},{"$f":"COLUMN()","v":22},{"$f":"COLUMN()","v":23},{"$f":"COLUMN()","v":24},{"$f":"COLUMN()","v":25},{"$f":"COLUMN()","v":26},{"$f":"COLUMN()","v":27},{"$f":"COLUMN()","v":28},{"$f":"COLUMN()","v":29},{"$f":"COLUMN()","v":30},{"$f":"COLUMN()","v":31},{"$f":"COLUMN()","v":32},{"$f":"COLUMN()","v":33},{"$f":"COLUMN()","v":34}]
[null,500,"Admissions",null,null,{"$f":"VLOOKUP(F8,'CCG List'!$Q$3:$S$288,3,0)","v":204},null,null,{"$f":"VLOOKUP(I8,'CCG List'!$Q$3:$S$288,3,0)","v":153},null,null,{"$f":"VLOOKUP(L8,'CCG List'!$Q$3:$S$288,3,0)","v":189},null,null,{"$f":"VLOOKUP(O8,'CCG List'!$Q$3:$S$288,3,0)","v":149},null,null,{"$f":"VLOOKUP(R8,'CCG List'!$Q$3:$S$288,3,0)","v":165},null,null,{"$f":"VLOOKUP(U8,'CCG List'!$Q$3:$S$288,3,0)","v":172},null,null,{"$f":"VLOOKUP(X8,'CCG List'!$Q$3:$S$288,3,0)","v":194},null,null,{"$f":"VLOOKUP(AA8,'CCG List'!$Q$3:$S$288,3,0)","v":166},null,null,{"$f":"VLOOKUP(AD8,'CCG List'!$Q$3:$S$288,3,0)","v":164},null,null,{"$f":"VLOOKUP(AG8,'CCG List'!$Q$3:$S$288,3,0)","v":191}]
[null,null,null,null,null,{"$f":"OFFSET($D$9,F6/3-1,0)","v":"RR8"},null,null,{"$f":"OFFSET($D$9,I6/3-1,0)","v":"RXF"},null,null,{"$f":"OFFSET($D$9,L6/3-1,0)","v":"NT3"},null,null,{"$f":"OFFSET($D$9,O6/3-1,0)","v":"RCD"},null,null,{"$f":"OFFSET($D$9,R6/3-1,0)","v":"RAE"},null,null,{"$f":"OFFSET($D$9,U6/3-1,0)","v":"RCB"},null,null,{"$f":"OFFSET($D$9,X6/3-1,0)","v":"RHQ"},null,null,{"$f":"OFFSET($D$9,AA6/3-1,0)","v":"RJL"},null,null,{"$f":"OFFSET($D$9,AD6/3-1,0)","v":"RCC"},null,null,{"$f":"OFFSET($D$9,AG6/3-1,0)","v":"NVC"}]
[null,{"$f":"\"Providers (ordered by number of admissions) for \"&B4&\" CCG\"","v":"Providers (ordered by number of admissions) for Leeds South & East CCG"},"Number of Admissions / spells",{"$f":"COUNTIF(C10:C19,\">=\"&B7)","v":4},null,{"$f":"OFFSET($B$9,F6/3-1,0)","v":"Leeds Teaching Hospitals NHS Trust"},"No. of Adm / spells",null,{"$f":"OFFSET($B$9,I6/3-1,0)","v":"Mid Yorkshire Hospitals NHS Trust"},"No. of Adm / spells",null,{"$f":"OFFSET($B$9,L6/3-1,0)","v":"Spire Healthcare"},"No. of Adm / spells",null,{"$f":"OFFSET($B$9,O6/3-1,0)","v":"Harrogate & District NHS FT"},"No. of Adm / spells",null,{"$f":"OFFSET($B$9,R6/3-1,0)","v":"Bradford Teaching Hospitals NHS FT"},"No. of Adm / spells",null,{"$f":"OFFSET($B$9,U6/3-1,0)","v":"York Teaching Hospital NHS FT"},"No. of Adm / spells",null,{"$f":"OFFSET($B$9,X6/3-1,0)","v":"Sheffield Teaching Hospitals NHS FT"},"No. of Adm / spells",null,{"$f":"OFFSET($B$9,AA6/3-1,0)","v":"Northern Lincolnshire & Goole Hospitals NHS FT"},"No. of Adm / spells",null,{"$f":"OFFSET($B$9,AD6/3-1,0)","v":"Scarborough & NE Yorkshire Health Care NHS Trust"},"No. of Adm / spells",null,{"$f":"OFFSET($B$9,AG6/3-1,0)","v":"Ramsay Healthcare UK Operations Ltd"},"No. of Adm / spells"]
[1,{"$f":"VLOOKUP(D10,provnames!$A$2:$B$331,2,0)","v":"Leeds Teaching Hospitals NHS Trust"},{"$f":"IF(A10<=$A$21,OFFSET('CCG-Prov(Acute)'!$C$1,MATCH(Acute!$C$4,'CCG-Prov(Acute)'!$A$2:$A$29012,0)+$A10-1,0),\"\")","v":51443},{"$f":"IF(A10<=$A$21,OFFSET('CCG-Prov(Acute)'!$B$1,MATCH(Acute!$C$4,'CCG-Prov(Acute)'!$A$2:$A$29012,0)+$A10-1,0),\"\")","v":"RR8"},null,{"$f":"IF($A10<=F$7,VLOOKUP(OFFSET('CCG-Prov(Acute)'!$G$1,MATCH(F$8,'CCG-Prov(Acute)'!$F$2:$F$29012,0)+$A10-1,0),'CCG List'!$A$3:$B$213,2,0),\"\")","v":"Leeds West"},{"$f":"IF($A10<=F$7,OFFSET('CCG-Prov(Acute)'!$H$1,MATCH(F$8,'CCG-Prov(Acute)'!$F$2:$F$29012,0)+$A10-1,0),\"\")","v":56375},null,{"$f":"IF($A10<=I$7,VLOOKUP(OFFSET('CCG-Prov(Acute)'!$G$1,MATCH(I$8,'CCG-Prov(Acute)'!$F$2:$F$29012,0)+$A10-1,0),'CCG List'!$A$3:$B$213,2,0),\"\")","v":"Wakefield "},{"$f":"IF($A10<=I$7,OFFSET('CCG-Prov(Acute)'!$H$1,MATCH(I$8,'CCG-Prov(Acute)'!$F$2:$F$29012,0)+$A10-1,0),\"\")","v":68550},null,{"$f":"IF($A10<=L$7,VLOOKUP(OFFSET('CCG-Prov(Acute)'!$G$1,MATCH(L$8,'CCG-Prov(Acute)'!$F$2:$F$29012,0)+$A10-1,0),'CCG List'!$A$3:$B$213,2,0),\"\")","v":"Liverpool"},{"$f":"IF($A10<=L$7,OFFSET('CCG-Prov(Acute)'!$H$1,MATCH(L$8,'CCG-Prov(Acute)'!$F$2:$F$29012,0)+$A10-1,0),\"\")","v":1872},null,{"$f":"IF($A10<=O$7,VLOOKUP(OFFSET('CCG-Prov(Acute)'!$G$1,MATCH(O$8,'CCG-Prov(Acute)'!$F$2:$F$29012,0)+$A10-1,0),'CCG List'!$A$3:$B$213,2,0),\"\")","v":"Harrogate & Rural District"},{"$f":"IF($A10<=O$7,OFFSET('CCG-Prov(Acute)'!$H$1,MATCH(O$8,'CCG-Prov(Acute)'!$F$2:$F$29012,0)+$A10-1,0),\"\")","v":29025},null,{"$f":"IF($A10<=R$7,VLOOKUP(OFFSET('CCG-Prov(Acute)'!$G$1,MATCH(R$8,'CCG-Prov(Acute)'!$F$2:$F$29012,0)+$A10-1,0),'CCG List'!$A$3:$B$213,2,0),\"\")","v":"Bradford Districts"},{"$f":"IF($A10<=R$7,OFFSET('CCG-Prov(Acute)'!$H$1,MATCH(R$8,'CCG-Prov(Acute)'!$F$2:$F$29012,0)+$A10-1,0),\"\")","v":61249},null,{"$f":"IF($A10<=U$7,VLOOKUP(OFFSET('CCG-Prov(Acute)'!$G$1,MATCH(U$8,'CCG-Prov(Acute)'!$F$2:$F$29012,0)+$A10-1,0),'CCG List'!$A$3:$B$213,2,0),\"\")","v":"Vale of York"},{"$f":"IF($A10<=U$7,OFFSET('CCG-Prov(Acute)'!$H$1,MATCH(U$8,'CCG-Prov(Acute)'!$F$2:$F$29012,0)+$A10-1,0),\"\")","v":56913},null,{"$f":"IF($A10<=X$7,VLOOKUP(OFFSET('CCG-Prov(Acute)'!$G$1,MATCH(X$8,'CCG-Prov(Acute)'!$F$2:$F$29012,0)+$A10-1,0),'CCG List'!$A$3:$B$213,2,0),\"\")","v":"Sheffield"},{"$f":"IF($A10<=X$7,OFFSET('CCG-Prov(Acute)'!$H$1,MATCH(X$8,'CCG-Prov(Acute)'!$F$2:$F$29012,0)+$A10-1,0),\"\")","v":105704},null,{"$f":"IF($A10<=AA$7,VLOOKUP(OFFSET('CCG-Prov(Acute)'!$G$1,MATCH(AA$8,'CCG-Prov(Acute)'!$F$2:$F$29012,0)+$A10-1,0),'CCG List'!$A$3:$B$213,2,0),\"\")","v":"North Lincolnshire"},{"$f":"IF($A10<=AA$7,OFFSET('CCG-Prov(Acute)'!$H$1,MATCH(AA$8,'CCG-Prov(Acute)'!$F$2:$F$29012,0)+$A10-1,0),\"\")","v":31749},null,{"$f":"IF($A10<=AD$7,VLOOKUP(OFFSET('CCG-Prov(Acute)'!$G$1,MATCH(AD$8,'CCG-Prov(Acute)'!$F$2:$F$29012,0)+$A10-1,0),'CCG List'!$A$3:$B$213,2,0),\"\")","v":"Scarborough & Ryedale"},{"$f":"IF($A10<=AD$7,OFFSET('CCG-Prov(Acute)'!$H$1,MATCH(AD$8,'CCG-Prov(Acute)'!$F$2:$F$29012,0)+$A10-1,0),\"\")","v":19517},null,{"$f":"IF($A10<=AG$7,VLOOKUP(OFFSET('CCG-Prov(Acute)'!$G$1,MATCH(AG$8,'CCG-Prov(Acute)'!$F$2:$F$29012,0)+$A10-1,0),'CCG List'!$A$3:$B$213,2,0),\"\")","v":"Kernow"},{"$f":"IF($A10<=AG$7,OFFSET('CCG-Prov(Acute)'!$H$1,MATCH(AG$8,'CCG-Prov(Acute)'!$F$2:$F$29012,0)+$A10-1,0),\"\")","v":6914}]
[2,{"$f":"VLOOKUP(D11,provnames!$A$2:$B$331,2,0)","v":"Mid Yorkshire Hospitals NHS Trust"},{"$f":"IF(A11<=$A$21,OFFSET('CCG-Prov(Acute)'!$C$1,MATCH(Acute!$C$4,'CCG-Prov(Acute)'!$A$2:$A$29012,0)+$A11-1,0),\"\")","v":4875},{"$f":"IF(A11<=$A$21,OFFSET('CCG-Prov(Acute)'!$B$1,MATCH(Acute!$C$4,'CCG-Prov(Acute)'!$A$2:$A$29012,0)+$A11-1,0),\"\")","v":"RXF"},null,{"$f":"IF($A11<=F$7,VLOOKUP(OFFSET('CCG-Prov(Acute)'!$G$1,MATCH(F$8,'CCG-Prov(Acute)'!$F$2:$F$29012,0)+$A11-1,0),'CCG List'!$A$3:$B$213,2,0),\"\")","v":"Leeds South & East"},{"$f":"IF($A11<=F$7,OFFSET('CCG-Prov(Acute)'!$H$1,MATCH(F$8,'CCG-Prov(Acute)'!$F$2:$F$29012,0)+$A11-1,0),\"\")","v":51443},null,{"$f":"IF($A11<=I$7,VLOOKUP(OFFSET('CCG-Prov(Acute)'!$G$1,MATCH(I$8,'CCG-Prov(Acute)'!$F$2:$F$29012,0)+$A11-1,0),'CCG List'!$A$3:$B$213,2,0),\"\")","v":"North Kirklees"},{"$f":"IF($A11<=I$7,OFFSET('CCG-Prov(Acute)'!$H$1,MATCH(I$8,'CCG-Prov(Acute)'!$F$2:$F$29012,0)+$A11-1,0),\"\")","v":30423},null,{"$f":"IF($A11<=L$7,VLOOKUP(OFFSET('CCG-Prov(Acute)'!$G$1,MATCH(L$8,'CCG-Prov(Acute)'!$F$2:$F$29012,0)+$A11-1,0),'CCG List'!$A$3:$B$213,2,0),\"\")","v":"Hull"},{"$f":"IF($A11<=L$7,OFFSET('CCG-Prov(Acute)'!$H$1,MATCH(L$8,'CCG-Prov(Acute)'!$F$2:$F$29012,0)+$A11-1,0),\"\")","v":1714},null,{"$f":"IF($A11<=O$7,VLOOKUP(OFFSET('CCG-Prov(Acute)'!$G$1,MATCH(O$8,'CCG-Prov(Acute)'!$F$2:$F$29012,0)+$A11-1,0),'CCG List'!$A$3:$B$213,2,0),\"\")","v":"Leeds North"},{"$f":"IF($A11<=O$7,OFFSET('CCG-Prov(Acute)'!$H$1,MATCH(O$8,'CCG-Prov(Acute)'!$F$2:$F$29012,0)+$A11-1,0),\"\")","v":6569},null,{"$f":"IF($A11<=R$7,VLOOKUP(OFFSET('CCG-Prov(Acute)'!$G$1,MATCH(R$8,'CCG-Prov(Acute)'!$F$2:$F$29012,0)+$A11-1,0),'CCG List'!$A$3:$B$213,2,0),\"\")","v":"Bradford City"},{"$f":"IF($A11<=R$7,OFFSET('CCG-Prov(Acute)'!$H$1,MATCH(R$8,'CCG-Prov(Acute)'!$F$2:$F$29012,0)+$A11-1,0),\"\")","v":18292},null,{"$f":"IF($A11<=U$7,VLOOKUP(OFFSET('CCG-Prov(Acute)'!$G$1,MATCH(U$8,'CCG-Prov(Acute)'!$F$2:$F$29012,0)+$A11-1,0),'CCG List'!$A$3:$B$213,2,0),\"\")","v":"Scarborough & Ryedale"},{"$f":"IF($A11<=U$7,OFFSET('CCG-Prov(Acute)'!$H$1,MATCH(U$8,'CCG-Prov(Acute)'!$F$2:$F$29012,0)+$A11-1,0),\"\")","v":2791},null,{"$f":"IF($A11<=X$7,VLOOKUP(OFFSET('CCG-Prov(Acute)'!$G$1,MATCH(X$8,'CCG-Prov(Acute)'!$F$2:$F$29012,0)+$A11-1,0),'CCG List'!$A$3:$B$213,2,0),\"\")","v":"Barnsley"},{"$f":"IF($A11<=X$7,OFFSET('CCG-Prov(Acute)'!$H$1,MATCH(X$8,'CCG-Prov(Acute)'!$F$2:$F$29012,0)+$A11-1,0),\"\")","v":10154},null,{"$f":"IF($A11<=AA$7,VLOOKUP(OFFSET('CCG-Prov(Acute)'!$G$1,MATCH(AA$8,'CCG-Prov(Acute)'!$F$2:$F$29012,0)+$A11-1,0),'CCG List'!$A$3:$B$213,2,0),\"\")","v":"North East Lincolnshire"},{"$f":"IF($A11<=AA$7,OFFSET('CCG-Prov(Acute)'!$H$1,MATCH(AA$8,'CCG-Prov(Acute)'!$F$2:$F$29012,0)+$A11-1,0),\"\")","v":29927},null,{"$f":"IF($A11<=AD$7,VLOOKUP(OFFSET('CCG-Prov(Acute)'!$G$1,MATCH(AD$8,'CCG-Prov(Acute)'!$F$2:$F$29012,0)+$A11-1,0),'CCG List'!$A$3:$B$213,2,0),\"\")","v":"East Riding of Yorkshire"},{"$f":"IF($A11<=AD$7,OFFSET('CCG-Prov(Acute)'!$H$1,MATCH(AD$8,'CCG-Prov(Acute)'!$F$2:$F$29012,0)+$A11-1,0),\"\")","v":11135},null,{"$f":"IF($A11<=AG$7,VLOOKUP(OFFSET('CCG-Prov(Acute)'!$G$1,MATCH(AG$8,'CCG-Prov(Acute)'!$F$2:$F$29012,0)+$A11-1,0),'CCG List'!$A$3:$B$213,2,0),\"\")","v":"East & North Hertfordshire"},{"$f":"IF($A11<=AG$7,OFFSET('CCG-Prov(Acute)'!$H$1,MATCH(AG$8,'CCG-Prov(Acute)'!$F$2:$F$29012,0)+$A11-1,0),\"\")","v":4576}]
[3,{"$f":"VLOOKUP(D12,provnames!$A$2:$B$331,2,0)","v":"Spire Healthcare"},{"$f":"IF(A12<=$A$21,OFFSET('CCG-Prov(Acute)'!$C$1,MATCH(Acute!$C$4,'CCG-Prov(Acute)'!$A$2:$A$29012,0)+$A12-1,0),\"\")","v":750},{"$f":"IF(A12<=$A$21,OFFSET('CCG-Prov(Acute)'!$B$1,MATCH(Acute!$C$4,'CCG-Prov(Acute)'!$A$2:$A$29012,0)+$A12-1,0),\"\")","v":"NT3"},null,{"$f":"IF($A12<=F$7,VLOOKUP(OFFSET('CCG-Prov(Acute)'!$G$1,MATCH(F$8,'CCG-Prov(Acute)'!$F$2:$F$29012,0)+$A12-1,0),'CCG List'!$A$3:$B$213,2,0),\"\")","v":"Leeds North"},{"$f":"IF($A12<=F$7,OFFSET('CCG-Prov(Acute)'!$H$1,MATCH(F$8,'CCG-Prov(Acute)'!$F$2:$F$29012,0)+$A12-1,0),\"\")","v":30965},null,{"$f":"IF($A12<=I$7,VLOOKUP(OFFSET('CCG-Prov(Acute)'!$G$1,MATCH(I$8,'CCG-Prov(Acute)'!$F$2:$F$29012,0)+$A12-1,0),'CCG List'!$A$3:$B$213,2,0),\"\")","v":"Leeds South & East"},{"$f":"IF($A12<=I$7,OFFSET('CCG-Prov(Acute)'!$H$1,MATCH(I$8,'CCG-Prov(Acute)'!$F$2:$F$29012,0)+$A12-1,0),\"\")","v":4875},null,{"$f":"IF($A12<=L$7,VLOOKUP(OFFSET('CCG-Prov(Acute)'!$G$1,MATCH(L$8,'CCG-Prov(Acute)'!$F$2:$F$29012,0)+$A12-1,0),'CCG List'!$A$3:$B$213,2,0),\"\")","v":"East Riding of Yorkshire"},{"$f":"IF($A12<=L$7,OFFSET('CCG-Prov(Acute)'!$H$1,MATCH(L$8,'CCG-Prov(Acute)'!$F$2:$F$29012,0)+$A12-1,0),\"\")","v":1303},null,{"$f":"IF($A12<=O$7,VLOOKUP(OFFSET('CCG-Prov(Acute)'!$G$1,MATCH(O$8,'CCG-Prov(Acute)'!$F$2:$F$29012,0)+$A12-1,0),'CCG List'!$A$3:$B$213,2,0),\"\")","v":"Leeds West"},{"$f":"IF($A12<=O$7,OFFSET('CCG-Prov(Acute)'!$H$1,MATCH(O$8,'CCG-Prov(Acute)'!$F$2:$F$29012,0)+$A12-1,0),\"\")","v":640},null,{"$f":"IF($A12<=R$7,VLOOKUP(OFFSET('CCG-Prov(Acute)'!$G$1,MATCH(R$8,'CCG-Prov(Acute)'!$F$2:$F$29012,0)+$A12-1,0),'CCG List'!$A$3:$B$213,2,0),\"\")","v":"Airedale, Wharfedale & Craven"},{"$f":"IF($A12<=R$7,OFFSET('CCG-Prov(Acute)'!$H$1,MATCH(R$8,'CCG-Prov(Acute)'!$F$2:$F$29012,0)+$A12-1,0),\"\")","v":4821},null,{"$f":"IF($A12<=U$7,VLOOKUP(OFFSET('CCG-Prov(Acute)'!$G$1,MATCH(U$8,'CCG-Prov(Acute)'!$F$2:$F$29012,0)+$A12-1,0),'CCG List'!$A$3:$B$213,2,0),\"\")","v":"East Riding of Yorkshire"},{"$f":"IF($A12<=U$7,OFFSET('CCG-Prov(Acute)'!$H$1,MATCH(U$8,'CCG-Prov(Acute)'!$F$2:$F$29012,0)+$A12-1,0),\"\")","v":1823},null,{"$f":"IF($A12<=X$7,VLOOKUP(OFFSET('CCG-Prov(Acute)'!$G$1,MATCH(X$8,'CCG-Prov(Acute)'!$F$2:$F$29012,0)+$A12-1,0),'CCG List'!$A$3:$B$213,2,0),\"\")","v":"Rotherham"},{"$f":"IF($A12<=X$7,OFFSET('CCG-Prov(Acute)'!$H$1,MATCH(X$8,'CCG-Prov(Acute)'!$F$2:$F$29012,0)+$A12-1,0),\"\")","v":8950},null,{"$f":"IF($A12<=AA$7,VLOOKUP(OFFSET('CCG-Prov(Acute)'!$G$1,MATCH(AA$8,'CCG-Prov(Acute)'!$F$2:$F$29012,0)+$A12-1,0),'CCG List'!$A$3:$B$213,2,0),\"\")","v":"East Riding of Yorkshire"},{"$f":"IF($A12<=AA$7,OFFSET('CCG-Prov(Acute)'!$H$1,MATCH(AA$8,'CCG-Prov(Acute)'!$F$2:$F$29012,0)+$A12-1,0),\"\")","v":7771},null,{"$f":"IF($A12<=AD$7,VLOOKUP(OFFSET('CCG-Prov(Acute)'!$G$1,MATCH(AD$8,'CCG-Prov(Acute)'!$F$2:$F$29012,0)+$A12-1,0),'CCG List'!$A$3:$B$213,2,0),\"\")","v":"Hambleton, Richmondshire & Whitby"},{"$f":"IF($A12<=AD$7,OFFSET('CCG-Prov(Acute)'!$H$1,MATCH(AD$8,'CCG-Prov(Acute)'!$F$2:$F$29012,0)+$A12-1,0),\"\")","v":2223},null,{"$f":"IF($A12<=AG$7,VLOOKUP(OFFSET('CCG-Prov(Acute)'!$G$1,MATCH(AG$8,'CCG-Prov(Acute)'!$F$2:$F$29012,0)+$A12-1,0),'CCG List'!$A$3:$B$213,2,0),\"\")","v":"Bradford Districts"},{"$f":"IF($A12<=AG$7,OFFSET('CCG-Prov(Acute)'!$H$1,MATCH(AG$8,'CCG-Prov(Acute)'!$F$2:$F$29012,0)+$A12-1,0),\"\")","v":4104}]
[4,{"$f":"VLOOKUP(D13,provnames!$A$2:$B$331,2,0)","v":"Harrogate & District NHS FT"},{"$f":"IF(A13<=$A$21,OFFSET('CCG-Prov(Acute)'!$C$1,MATCH(Acute!$C$4,'CCG-Prov(Acute)'!$A$2:$A$29012,0)+$A13-1,0),\"\")","v":555},{"$f":"IF(A13<=$A$21,OFFSET('CCG-Prov(Acute)'!$B$1,MATCH(Acute!$C$4,'CCG-Prov(Acute)'!$A$2:$A$29012,0)+$A13-1,0),\"\")","v":"RCD"},null,{"$f":"IF($A13<=F$7,VLOOKUP(OFFSET('CCG-Prov(Acute)'!$G$1,MATCH(F$8,'CCG-Prov(Acute)'!$F$2:$F$29012,0)+$A13-1,0),'CCG List'!$A$3:$B$213,2,0),\"\")","v":"Wakefield "},{"$f":"IF($A13<=F$7,OFFSET('CCG-Prov(Acute)'!$H$1,MATCH(F$8,'CCG-Prov(Acute)'!$F$2:$F$29012,0)+$A13-1,0),\"\")","v":5286},null,{"$f":"IF($A13<=I$7,VLOOKUP(OFFSET('CCG-Prov(Acute)'!$G$1,MATCH(I$8,'CCG-Prov(Acute)'!$F$2:$F$29012,0)+$A13-1,0),'CCG List'!$A$3:$B$213,2,0),\"\")","v":"Leeds West"},{"$f":"IF($A13<=I$7,OFFSET('CCG-Prov(Acute)'!$H$1,MATCH(I$8,'CCG-Prov(Acute)'!$F$2:$F$29012,0)+$A13-1,0),\"\")","v":4256},null,{"$f":"IF($A13<=L$7,VLOOKUP(OFFSET('CCG-Prov(Acute)'!$G$1,MATCH(L$8,'CCG-Prov(Acute)'!$F$2:$F$29012,0)+$A13-1,0),'CCG List'!$A$3:$B$213,2,0),\"\")","v":"Wirral"},{"$f":"IF($A13<=L$7,OFFSET('CCG-Prov(Acute)'!$H$1,MATCH(L$8,'CCG-Prov(Acute)'!$F$2:$F$29012,0)+$A13-1,0),\"\")","v":1265},null,{"$f":"IF($A13<=O$7,VLOOKUP(OFFSET('CCG-Prov(Acute)'!$G$1,MATCH(O$8,'CCG-Prov(Acute)'!$F$2:$F$29012,0)+$A13-1,0),'CCG List'!$A$3:$B$213,2,0),\"\")","v":"Leeds South & East"},{"$f":"IF($A13<=O$7,OFFSET('CCG-Prov(Acute)'!$H$1,MATCH(O$8,'CCG-Prov(Acute)'!$F$2:$F$29012,0)+$A13-1,0),\"\")","v":555},null,{"$f":"IF($A13<=R$7,VLOOKUP(OFFSET('CCG-Prov(Acute)'!$G$1,MATCH(R$8,'CCG-Prov(Acute)'!$F$2:$F$29012,0)+$A13-1,0),'CCG List'!$A$3:$B$213,2,0),\"\")","v":"Leeds West"},{"$f":"IF($A13<=R$7,OFFSET('CCG-Prov(Acute)'!$H$1,MATCH(R$8,'CCG-Prov(Acute)'!$F$2:$F$29012,0)+$A13-1,0),\"\")","v":1938},null,{"$f":"IF($A13<=U$7,VLOOKUP(OFFSET('CCG-Prov(Acute)'!$G$1,MATCH(U$8,'CCG-Prov(Acute)'!$F$2:$F$29012,0)+$A13-1,0),'CCG List'!$A$3:$B$213,2,0),\"\")","v":"Harrogate & Rural District"},{"$f":"IF($A13<=U$7,OFFSET('CCG-Prov(Acute)'!$H$1,MATCH(U$8,'CCG-Prov(Acute)'!$F$2:$F$29012,0)+$A13-1,0),\"\")","v":1752},null,{"$f":"IF($A13<=X$7,VLOOKUP(OFFSET('CCG-Prov(Acute)'!$G$1,MATCH(X$8,'CCG-Prov(Acute)'!$F$2:$F$29012,0)+$A13-1,0),'CCG List'!$A$3:$B$213,2,0),\"\")","v":"North Derbyshire"},{"$f":"IF($A13<=X$7,OFFSET('CCG-Prov(Acute)'!$H$1,MATCH(X$8,'CCG-Prov(Acute)'!$F$2:$F$29012,0)+$A13-1,0),\"\")","v":8828},null,{"$f":"IF($A13<=AA$7,VLOOKUP(OFFSET('CCG-Prov(Acute)'!$G$1,MATCH(AA$8,'CCG-Prov(Acute)'!$F$2:$F$29012,0)+$A13-1,0),'CCG List'!$A$3:$B$213,2,0),\"\")","v":"Lincolnshire East"},{"$f":"IF($A13<=AA$7,OFFSET('CCG-Prov(Acute)'!$H$1,MATCH(AA$8,'CCG-Prov(Acute)'!$F$2:$F$29012,0)+$A13-1,0),\"\")","v":7290},null,{"$f":"IF($A13<=AD$7,VLOOKUP(OFFSET('CCG-Prov(Acute)'!$G$1,MATCH(AD$8,'CCG-Prov(Acute)'!$F$2:$F$29012,0)+$A13-1,0),'CCG List'!$A$3:$B$213,2,0),\"\")","v":"Vale of York"},{"$f":"IF($A13<=AD$7,OFFSET('CCG-Prov(Acute)'!$H$1,MATCH(AD$8,'CCG-Prov(Acute)'!$F$2:$F$29012,0)+$A13-1,0),\"\")","v":1519},null,{"$f":"IF($A13<=AG$7,VLOOKUP(OFFSET('CCG-Prov(Acute)'!$G$1,MATCH(AG$8,'CCG-Prov(Acute)'!$F$2:$F$29012,0)+$A13-1,0),'CCG List'!$A$3:$B$213,2,0),\"\")","v":"Greater Preston"},{"$f":"IF($A13<=AG$7,OFFSET('CCG-Prov(Acute)'!$H$1,MATCH(AG$8,'CCG-Prov(Acute)'!$F$2:$F$29012,0)+$A13-1,0),\"\")","v":3361}]
[5,{"$f":"VLOOKUP(D14,provnames!$A$2:$B$331,2,0)","v":"Bradford Teaching Hospitals NHS FT"},{"$f":"IF(A14<=$A$21,OFFSET('CCG-Prov(Acute)'!$C$1,MATCH(Acute!$C$4,'CCG-Prov(Acute)'!$A$2:$A$29012,0)+$A14-1,0),\"\")","v":126},{"$f":"IF(A14<=$A$21,OFFSET('CCG-Prov(Acute)'!$B$1,MATCH(Acute!$C$4,'CCG-Prov(Acute)'!$A$2:$A$29012,0)+$A14-1,0),\"\")","v":"RAE"},null,{"$f":"IF($A14<=F$7,VLOOKUP(OFFSET('CCG-Prov(Acute)'!$G$1,MATCH(F$8,'CCG-Prov(Acute)'!$F$2:$F$29012,0)+$A14-1,0),'CCG List'!$A$3:$B$213,2,0),\"\")","v":"Vale of York"},{"$f":"IF($A14<=F$7,OFFSET('CCG-Prov(Acute)'!$H$1,MATCH(F$8,'CCG-Prov(Acute)'!$F$2:$F$29012,0)+$A14-1,0),\"\")","v":2857},null,{"$f":"IF($A14<=I$7,VLOOKUP(OFFSET('CCG-Prov(Acute)'!$G$1,MATCH(I$8,'CCG-Prov(Acute)'!$F$2:$F$29012,0)+$A14-1,0),'CCG List'!$A$3:$B$213,2,0),\"\")","v":"Vale of York"},{"$f":"IF($A14<=I$7,OFFSET('CCG-Prov(Acute)'!$H$1,MATCH(I$8,'CCG-Prov(Acute)'!$F$2:$F$29012,0)+$A14-1,0),\"\")","v":968},null,{"$f":"IF($A14<=L$7,VLOOKUP(OFFSET('CCG-Prov(Acute)'!$G$1,MATCH(L$8,'CCG-Prov(Acute)'!$F$2:$F$29012,0)+$A14-1,0),'CCG List'!$A$3:$B$213,2,0),\"\")","v":"Wakefield "},{"$f":"IF($A14<=L$7,OFFSET('CCG-Prov(Acute)'!$H$1,MATCH(L$8,'CCG-Prov(Acute)'!$F$2:$F$29012,0)+$A14-1,0),\"\")","v":1094},null,{"$f":"IF($A14<=O$7,VLOOKUP(OFFSET('CCG-Prov(Acute)'!$G$1,MATCH(O$8,'CCG-Prov(Acute)'!$F$2:$F$29012,0)+$A14-1,0),'CCG List'!$A$3:$B$213,2,0),\"\")","v":"Vale of York"},{"$f":"IF($A14<=O$7,OFFSET('CCG-Prov(Acute)'!$H$1,MATCH(O$8,'CCG-Prov(Acute)'!$F$2:$F$29012,0)+$A14-1,0),\"\")","v":420},null,{"$f":"IF($A14<=R$7,VLOOKUP(OFFSET('CCG-Prov(Acute)'!$G$1,MATCH(R$8,'CCG-Prov(Acute)'!$F$2:$F$29012,0)+$A14-1,0),'CCG List'!$A$3:$B$213,2,0),\"\")","v":"Calderdale"},{"$f":"IF($A14<=R$7,OFFSET('CCG-Prov(Acute)'!$H$1,MATCH(R$8,'CCG-Prov(Acute)'!$F$2:$F$29012,0)+$A14-1,0),\"\")","v":1888},null,{"$f":"IF($A14<=U$7,VLOOKUP(OFFSET('CCG-Prov(Acute)'!$G$1,MATCH(U$8,'CCG-Prov(Acute)'!$F$2:$F$29012,0)+$A14-1,0),'CCG List'!$A$3:$B$213,2,0),\"\")","v":"Leeds North"},{"$f":"IF($A14<=U$7,OFFSET('CCG-Prov(Acute)'!$H$1,MATCH(U$8,'CCG-Prov(Acute)'!$F$2:$F$29012,0)+$A14-1,0),\"\")","v":571},null,{"$f":"IF($A14<=X$7,VLOOKUP(OFFSET('CCG-Prov(Acute)'!$G$1,MATCH(X$8,'CCG-Prov(Acute)'!$F$2:$F$29012,0)+$A14-1,0),'CCG List'!$A$3:$B$213,2,0),\"\")","v":"Doncaster"},{"$f":"IF($A14<=X$7,OFFSET('CCG-Prov(Acute)'!$H$1,MATCH(X$8,'CCG-Prov(Acute)'!$F$2:$F$29012,0)+$A14-1,0),\"\")","v":6376},null,{"$f":"IF($A14<=AA$7,VLOOKUP(OFFSET('CCG-Prov(Acute)'!$G$1,MATCH(AA$8,'CCG-Prov(Acute)'!$F$2:$F$29012,0)+$A14-1,0),'CCG List'!$A$3:$B$213,2,0),\"\")","v":"Lincolnshire West"},{"$f":"IF($A14<=AA$7,OFFSET('CCG-Prov(Acute)'!$H$1,MATCH(AA$8,'CCG-Prov(Acute)'!$F$2:$F$29012,0)+$A14-1,0),\"\")","v":2591},null,{"$f":"IF($A14<=AD$7,VLOOKUP(OFFSET('CCG-Prov(Acute)'!$G$1,MATCH(AD$8,'CCG-Prov(Acute)'!$F$2:$F$29012,0)+$A14-1,0),'CCG List'!$A$3:$B$213,2,0),\"\")","v":"Hull"},{"$f":"IF($A14<=AD$7,OFFSET('CCG-Prov(Acute)'!$H$1,MATCH(AD$8,'CCG-Prov(Acute)'!$F$2:$F$29012,0)+$A14-1,0),\"\")","v":64},null,{"$f":"IF($A14<=AG$7,VLOOKUP(OFFSET('CCG-Prov(Acute)'!$G$1,MATCH(AG$8,'CCG-Prov(Acute)'!$F$2:$F$29012,0)+$A14-1,0),'CCG List'!$A$3:$B$213,2,0),\"\")","v":"Chorley & South Ribble"},{"$f":"IF($A14<=AG$7,OFFSET('CCG-Prov(Acute)'!$H$1,MATCH(AG$8,'CCG-Prov(Acute)'!$F$2:$F$29012,0)+$A14-1,0),\"\")","v":3217}]
[6,{"$f":"VLOOKUP(D15,provnames!$A$2:$B$331,2,0)","v":"York Teaching Hospital NHS FT"},{"$f":"IF(A15<=$A$21,OFFSET('CCG-Prov(Acute)'!$C$1,MATCH(Acute!$C$4,'CCG-Prov(Acute)'!$A$2:$A$29012,0)+$A15-1,0),\"\")","v":114},{"$f":"IF(A15<=$A$21,OFFSET('CCG-Prov(Acute)'!$B$1,MATCH(Acute!$C$4,'CCG-Prov(Acute)'!$A$2:$A$29012,0)+$A15-1,0),\"\")","v":"RCB"},null,{"$f":"IF($A15<=F$7,VLOOKUP(OFFSET('CCG-Prov(Acute)'!$G$1,MATCH(F$8,'CCG-Prov(Acute)'!$F$2:$F$29012,0)+$A15-1,0),'CCG List'!$A$3:$B$213,2,0),\"\")","v":"North Kirklees"},{"$f":"IF($A15<=F$7,OFFSET('CCG-Prov(Acute)'!$H$1,MATCH(F$8,'CCG-Prov(Acute)'!$F$2:$F$29012,0)+$A15-1,0),\"\")","v":2689},null,{"$f":"IF($A15<=I$7,VLOOKUP(OFFSET('CCG-Prov(Acute)'!$G$1,MATCH(I$8,'CCG-Prov(Acute)'!$F$2:$F$29012,0)+$A15-1,0),'CCG List'!$A$3:$B$213,2,0),\"\")","v":"Bradford Districts"},{"$f":"IF($A15<=I$7,OFFSET('CCG-Prov(Acute)'!$H$1,MATCH(I$8,'CCG-Prov(Acute)'!$F$2:$F$29012,0)+$A15-1,0),\"\")","v":525},null,{"$f":"IF($A15<=L$7,VLOOKUP(OFFSET('CCG-Prov(Acute)'!$G$1,MATCH(L$8,'CCG-Prov(Acute)'!$F$2:$F$29012,0)+$A15-1,0),'CCG List'!$A$3:$B$213,2,0),\"\")","v":"South Worcestershire"},{"$f":"IF($A15<=L$7,OFFSET('CCG-Prov(Acute)'!$H$1,MATCH(L$8,'CCG-Prov(Acute)'!$F$2:$F$29012,0)+$A15-1,0),\"\")","v":1093},null,{"$f":"IF($A15<=O$7,VLOOKUP(OFFSET('CCG-Prov(Acute)'!$G$1,MATCH(O$8,'CCG-Prov(Acute)'!$F$2:$F$29012,0)+$A15-1,0),'CCG List'!$A$3:$B$213,2,0),\"\")","v":"Airedale, Wharfedale & Craven"},{"$f":"IF($A15<=O$7,OFFSET('CCG-Prov(Acute)'!$H$1,MATCH(O$8,'CCG-Prov(Acute)'!$F$2:$F$29012,0)+$A15-1,0),\"\")","v":389},null,{"$f":"IF($A15<=R$7,VLOOKUP(OFFSET('CCG-Prov(Acute)'!$G$1,MATCH(R$8,'CCG-Prov(Acute)'!$F$2:$F$29012,0)+$A15-1,0),'CCG List'!$A$3:$B$213,2,0),\"\")","v":"Greater Huddersfield"},{"$f":"IF($A15<=R$7,OFFSET('CCG-Prov(Acute)'!$H$1,MATCH(R$8,'CCG-Prov(Acute)'!$F$2:$F$29012,0)+$A15-1,0),\"\")","v":1150},null,{"$f":"IF($A15<=U$7,VLOOKUP(OFFSET('CCG-Prov(Acute)'!$G$1,MATCH(U$8,'CCG-Prov(Acute)'!$F$2:$F$29012,0)+$A15-1,0),'CCG List'!$A$3:$B$213,2,0),\"\")","v":"Hambleton, Richmondshire & Whitby"},{"$f":"IF($A15<=U$7,OFFSET('CCG-Prov(Acute)'!$H$1,MATCH(U$8,'CCG-Prov(Acute)'!$F$2:$F$29012,0)+$A15-1,0),\"\")","v":293},null,{"$f":"IF($A15<=X$7,VLOOKUP(OFFSET('CCG-Prov(Acute)'!$G$1,MATCH(X$8,'CCG-Prov(Acute)'!$F$2:$F$29012,0)+$A15-1,0),'CCG List'!$A$3:$B$213,2,0),\"\")","v":"Bassetlaw"},{"$f":"IF($A15<=X$7,OFFSET('CCG-Prov(Acute)'!$H$1,MATCH(X$8,'CCG-Prov(Acute)'!$F$2:$F$29012,0)+$A15-1,0),\"\")","v":2830},null,{"$f":"IF($A15<=AA$7,VLOOKUP(OFFSET('CCG-Prov(Acute)'!$G$1,MATCH(AA$8,'CCG-Prov(Acute)'!$F$2:$F$29012,0)+$A15-1,0),'CCG List'!$A$3:$B$213,2,0),\"\")","v":"Doncaster"},{"$f":"IF($A15<=AA$7,OFFSET('CCG-Prov(Acute)'!$H$1,MATCH(AA$8,'CCG-Prov(Acute)'!$F$2:$F$29012,0)+$A15-1,0),\"\")","v":478},null,{"$f":"IF($A15<=AD$7,VLOOKUP(OFFSET('CCG-Prov(Acute)'!$G$1,MATCH(AD$8,'CCG-Prov(Acute)'!$F$2:$F$29012,0)+$A15-1,0),'CCG List'!$A$3:$B$213,2,0),\"\")","v":"South Tees"},{"$f":"IF($A15<=AD$7,OFFSET('CCG-Prov(Acute)'!$H$1,MATCH(AD$8,'CCG-Prov(Acute)'!$F$2:$F$29012,0)+$A15-1,0),\"\")","v":56},null,{"$f":"IF($A15<=AG$7,VLOOKUP(OFFSET('CCG-Prov(Acute)'!$G$1,MATCH(AG$8,'CCG-Prov(Acute)'!$F$2:$F$29012,0)+$A15-1,0),'CCG List'!$A$3:$B$213,2,0),\"\")","v":"South Tees"},{"$f":"IF($A15<=AG$7,OFFSET('CCG-Prov(Acute)'!$H$1,MATCH(AG$8,'CCG-Prov(Acute)'!$F$2:$F$29012,0)+$A15-1,0),\"\")","v":2963}]
[7,{"$f":"VLOOKUP(D16,provnames!$A$2:$B$331,2,0)","v":"Sheffield Teaching Hospitals NHS FT"},{"$f":"IF(A16<=$A$21,OFFSET('CCG-Prov(Acute)'!$C$1,MATCH(Acute!$C$4,'CCG-Prov(Acute)'!$A$2:$A$29012,0)+$A16-1,0),\"\")","v":73},{"$f":"IF(A16<=$A$21,OFFSET('CCG-Prov(Acute)'!$B$1,MATCH(Acute!$C$4,'CCG-Prov(Acute)'!$A$2:$A$29012,0)+$A16-1,0),\"\")","v":"RHQ"},null,{"$f":"IF($A16<=F$7,VLOOKUP(OFFSET('CCG-Prov(Acute)'!$G$1,MATCH(F$8,'CCG-Prov(Acute)'!$F$2:$F$29012,0)+$A16-1,0),'CCG List'!$A$3:$B$213,2,0),\"\")","v":"Bradford Districts"},{"$f":"IF($A16<=F$7,OFFSET('CCG-Prov(Acute)'!$H$1,MATCH(F$8,'CCG-Prov(Acute)'!$F$2:$F$29012,0)+$A16-1,0),\"\")","v":2673},null,{"$f":"IF($A16<=I$7,VLOOKUP(OFFSET('CCG-Prov(Acute)'!$G$1,MATCH(I$8,'CCG-Prov(Acute)'!$F$2:$F$29012,0)+$A16-1,0),'CCG List'!$A$3:$B$213,2,0),\"\")","v":"Greater Huddersfield"},{"$f":"IF($A16<=I$7,OFFSET('CCG-Prov(Acute)'!$H$1,MATCH(I$8,'CCG-Prov(Acute)'!$F$2:$F$29012,0)+$A16-1,0),\"\")","v":505},null,{"$f":"IF($A16<=L$7,VLOOKUP(OFFSET('CCG-Prov(Acute)'!$G$1,MATCH(L$8,'CCG-Prov(Acute)'!$F$2:$F$29012,0)+$A16-1,0),'CCG List'!$A$3:$B$213,2,0),\"\")","v":"Sunderland"},{"$f":"IF($A16<=L$7,OFFSET('CCG-Prov(Acute)'!$H$1,MATCH(L$8,'CCG-Prov(Acute)'!$F$2:$F$29012,0)+$A16-1,0),\"\")","v":976},null,{"$f":"IF($A16<=O$7,VLOOKUP(OFFSET('CCG-Prov(Acute)'!$G$1,MATCH(O$8,'CCG-Prov(Acute)'!$F$2:$F$29012,0)+$A16-1,0),'CCG List'!$A$3:$B$213,2,0),\"\")","v":"Hambleton, Richmondshire & Whitby"},{"$f":"IF($A16<=O$7,OFFSET('CCG-Prov(Acute)'!$H$1,MATCH(O$8,'CCG-Prov(Acute)'!$F$2:$F$29012,0)+$A16-1,0),\"\")","v":208},null,{"$f":"IF($A16<=R$7,VLOOKUP(OFFSET('CCG-Prov(Acute)'!$G$1,MATCH(R$8,'CCG-Prov(Acute)'!$F$2:$F$29012,0)+$A16-1,0),'CCG List'!$A$3:$B$213,2,0),\"\")","v":"North Kirklees"},{"$f":"IF($A16<=R$7,OFFSET('CCG-Prov(Acute)'!$H$1,MATCH(R$8,'CCG-Prov(Acute)'!$F$2:$F$29012,0)+$A16-1,0),\"\")","v":642},null,{"$f":"IF($A16<=U$7,VLOOKUP(OFFSET('CCG-Prov(Acute)'!$G$1,MATCH(U$8,'CCG-Prov(Acute)'!$F$2:$F$29012,0)+$A16-1,0),'CCG List'!$A$3:$B$213,2,0),\"\")","v":"Wakefield "},{"$f":"IF($A16<=U$7,OFFSET('CCG-Prov(Acute)'!$H$1,MATCH(U$8,'CCG-Prov(Acute)'!$F$2:$F$29012,0)+$A16-1,0),\"\")","v":267},null,{"$f":"IF($A16<=X$7,VLOOKUP(OFFSET('CCG-Prov(Acute)'!$G$1,MATCH(X$8,'CCG-Prov(Acute)'!$F$2:$F$29012,0)+$A16-1,0),'CCG List'!$A$3:$B$213,2,0),\"\")","v":"Hardwick"},{"$f":"IF($A16<=X$7,OFFSET('CCG-Prov(Acute)'!$H$1,MATCH(X$8,'CCG-Prov(Acute)'!$F$2:$F$29012,0)+$A16-1,0),\"\")","v":1761},null,{"$f":"IF($A16<=AA$7,VLOOKUP(OFFSET('CCG-Prov(Acute)'!$G$1,MATCH(AA$8,'CCG-Prov(Acute)'!$F$2:$F$29012,0)+$A16-1,0),'CCG List'!$A$3:$B$213,2,0),\"\")","v":"Vale of York"},{"$f":"IF($A16<=AA$7,OFFSET('CCG-Prov(Acute)'!$H$1,MATCH(AA$8,'CCG-Prov(Acute)'!$F$2:$F$29012,0)+$A16-1,0),\"\")","v":427},null,{"$f":"IF($A16<=AD$7,VLOOKUP(OFFSET('CCG-Prov(Acute)'!$G$1,MATCH(AD$8,'CCG-Prov(Acute)'!$F$2:$F$29012,0)+$A16-1,0),'CCG List'!$A$3:$B$213,2,0),\"\")","v":"Leeds West"},{"$f":"IF($A16<=AD$7,OFFSET('CCG-Prov(Acute)'!$H$1,MATCH(AD$8,'CCG-Prov(Acute)'!$F$2:$F$29012,0)+$A16-1,0),\"\")","v":53},null,{"$f":"IF($A16<=AG$7,VLOOKUP(OFFSET('CCG-Prov(Acute)'!$G$1,MATCH(AG$8,'CCG-Prov(Acute)'!$F$2:$F$29012,0)+$A16-1,0),'CCG List'!$A$3:$B$213,2,0),\"\")","v":"East Lancashire"},{"$f":"IF($A16<=AG$7,OFFSET('CCG-Prov(Acute)'!$H$1,MATCH(AG$8,'CCG-Prov(Acute)'!$F$2:$F$29012,0)+$A16-1,0),\"\")","v":2910}]
[8,{"$f":"VLOOKUP(D17,provnames!$A$2:$B$331,2,0)","v":"Northern Lincolnshire & Goole Hospitals NHS FT"},{"$f":"IF(A17<=$A$21,OFFSET('CCG-Prov(Acute)'!$C$1,MATCH(Acute!$C$4,'CCG-Prov(Acute)'!$A$2:$A$29012,0)+$A17-1,0),\"\")","v":58},{"$f":"IF(A17<=$A$21,OFFSET('CCG-Prov(Acute)'!$B$1,MATCH(Acute!$C$4,'CCG-Prov(Acute)'!$A$2:$A$29012,0)+$A17-1,0),\"\")","v":"RJL"},null,{"$f":"IF($A17<=F$7,VLOOKUP(OFFSET('CCG-Prov(Acute)'!$G$1,MATCH(F$8,'CCG-Prov(Acute)'!$F$2:$F$29012,0)+$A17-1,0),'CCG List'!$A$3:$B$213,2,0),\"\")","v":"Greater Huddersfield"},{"$f":"IF($A17<=F$7,OFFSET('CCG-Prov(Acute)'!$H$1,MATCH(F$8,'CCG-Prov(Acute)'!$F$2:$F$29012,0)+$A17-1,0),\"\")","v":2202},null,{"$f":"IF($A17<=I$7,VLOOKUP(OFFSET('CCG-Prov(Acute)'!$G$1,MATCH(I$8,'CCG-Prov(Acute)'!$F$2:$F$29012,0)+$A17-1,0),'CCG List'!$A$3:$B$213,2,0),\"\")","v":"Barnsley"},{"$f":"IF($A17<=I$7,OFFSET('CCG-Prov(Acute)'!$H$1,MATCH(I$8,'CCG-Prov(Acute)'!$F$2:$F$29012,0)+$A17-1,0),\"\")","v":474},null,{"$f":"IF($A17<=L$7,VLOOKUP(OFFSET('CCG-Prov(Acute)'!$G$1,MATCH(L$8,'CCG-Prov(Acute)'!$F$2:$F$29012,0)+$A17-1,0),'CCG List'!$A$3:$B$213,2,0),\"\")","v":"Southend"},{"$f":"IF($A17<=L$7,OFFSET('CCG-Prov(Acute)'!$H$1,MATCH(L$8,'CCG-Prov(Acute)'!$F$2:$F$29012,0)+$A17-1,0),\"\")","v":912},null,{"$f":"IF($A17<=O$7,VLOOKUP(OFFSET('CCG-Prov(Acute)'!$G$1,MATCH(O$8,'CCG-Prov(Acute)'!$F$2:$F$29012,0)+$A17-1,0),'CCG List'!$A$3:$B$213,2,0),\"\")","v":"Bradford Districts"},{"$f":"IF($A17<=O$7,OFFSET('CCG-Prov(Acute)'!$H$1,MATCH(O$8,'CCG-Prov(Acute)'!$F$2:$F$29012,0)+$A17-1,0),\"\")","v":74},null,{"$f":"IF($A17<=R$7,VLOOKUP(OFFSET('CCG-Prov(Acute)'!$G$1,MATCH(R$8,'CCG-Prov(Acute)'!$F$2:$F$29012,0)+$A17-1,0),'CCG List'!$A$3:$B$213,2,0),\"\")","v":"East Lancashire"},{"$f":"IF($A17<=R$7,OFFSET('CCG-Prov(Acute)'!$H$1,MATCH(R$8,'CCG-Prov(Acute)'!$F$2:$F$29012,0)+$A17-1,0),\"\")","v":450},null,{"$f":"IF($A17<=U$7,VLOOKUP(OFFSET('CCG-Prov(Acute)'!$G$1,MATCH(U$8,'CCG-Prov(Acute)'!$F$2:$F$29012,0)+$A17-1,0),'CCG List'!$A$3:$B$213,2,0),\"\")","v":"Leeds South & East"},{"$f":"IF($A17<=U$7,OFFSET('CCG-Prov(Acute)'!$H$1,MATCH(U$8,'CCG-Prov(Acute)'!$F$2:$F$29012,0)+$A17-1,0),\"\")","v":114},null,{"$f":"IF($A17<=X$7,VLOOKUP(OFFSET('CCG-Prov(Acute)'!$G$1,MATCH(X$8,'CCG-Prov(Acute)'!$F$2:$F$29012,0)+$A17-1,0),'CCG List'!$A$3:$B$213,2,0),\"\")","v":"North Lincolnshire"},{"$f":"IF($A17<=X$7,OFFSET('CCG-Prov(Acute)'!$H$1,MATCH(X$8,'CCG-Prov(Acute)'!$F$2:$F$29012,0)+$A17-1,0),\"\")","v":523},null,{"$f":"IF($A17<=AA$7,VLOOKUP(OFFSET('CCG-Prov(Acute)'!$G$1,MATCH(AA$8,'CCG-Prov(Acute)'!$F$2:$F$29012,0)+$A17-1,0),'CCG List'!$A$3:$B$213,2,0),\"\")","v":"Wakefield "},{"$f":"IF($A17<=AA$7,OFFSET('CCG-Prov(Acute)'!$H$1,MATCH(AA$8,'CCG-Prov(Acute)'!$F$2:$F$29012,0)+$A17-1,0),\"\")","v":189},null,{"$f":"IF($A17<=AD$7,VLOOKUP(OFFSET('CCG-Prov(Acute)'!$G$1,MATCH(AD$8,'CCG-Prov(Acute)'!$F$2:$F$29012,0)+$A17-1,0),'CCG List'!$A$3:$B$213,2,0),\"\")","v":"Wakefield "},{"$f":"IF($A17<=AD$7,OFFSET('CCG-Prov(Acute)'!$H$1,MATCH(AD$8,'CCG-Prov(Acute)'!$F$2:$F$29012,0)+$A17-1,0),\"\")","v":53},null,{"$f":"IF($A17<=AG$7,VLOOKUP(OFFSET('CCG-Prov(Acute)'!$G$1,MATCH(AG$8,'CCG-Prov(Acute)'!$F$2:$F$29012,0)+$A17-1,0),'CCG List'!$A$3:$B$213,2,0),\"\")","v":"Nene"},{"$f":"IF($A17<=AG$7,OFFSET('CCG-Prov(Acute)'!$H$1,MATCH(AG$8,'CCG-Prov(Acute)'!$F$2:$F$29012,0)+$A17-1,0),\"\")","v":2675}]
[9,{"$f":"VLOOKUP(D18,provnames!$A$2:$B$331,2,0)","v":"Scarborough & NE Yorkshire Health Care NHS Trust"},{"$f":"IF(A18<=$A$21,OFFSET('CCG-Prov(Acute)'!$C$1,MATCH(Acute!$C$4,'CCG-Prov(Acute)'!$A$2:$A$29012,0)+$A18-1,0),\"\")","v":46},{"$f":"IF(A18<=$A$21,OFFSET('CCG-Prov(Acute)'!$B$1,MATCH(Acute!$C$4,'CCG-Prov(Acute)'!$A$2:$A$29012,0)+$A18-1,0),\"\")","v":"RCC"},null,{"$f":"IF($A18<=F$7,VLOOKUP(OFFSET('CCG-Prov(Acute)'!$G$1,MATCH(F$8,'CCG-Prov(Acute)'!$F$2:$F$29012,0)+$A18-1,0),'CCG List'!$A$3:$B$213,2,0),\"\")","v":"Airedale, Wharfedale & Craven"},{"$f":"IF($A18<=F$7,OFFSET('CCG-Prov(Acute)'!$H$1,MATCH(F$8,'CCG-Prov(Acute)'!$F$2:$F$29012,0)+$A18-1,0),\"\")","v":1957},null,{"$f":"IF($A18<=I$7,VLOOKUP(OFFSET('CCG-Prov(Acute)'!$G$1,MATCH(I$8,'CCG-Prov(Acute)'!$F$2:$F$29012,0)+$A18-1,0),'CCG List'!$A$3:$B$213,2,0),\"\")","v":"East Riding of Yorkshire"},{"$f":"IF($A18<=I$7,OFFSET('CCG-Prov(Acute)'!$H$1,MATCH(I$8,'CCG-Prov(Acute)'!$F$2:$F$29012,0)+$A18-1,0),\"\")","v":458},null,{"$f":"IF($A18<=L$7,VLOOKUP(OFFSET('CCG-Prov(Acute)'!$G$1,MATCH(L$8,'CCG-Prov(Acute)'!$F$2:$F$29012,0)+$A18-1,0),'CCG List'!$A$3:$B$213,2,0),\"\")","v":"Birmingham CrossCity"},{"$f":"IF($A18<=L$7,OFFSET('CCG-Prov(Acute)'!$H$1,MATCH(L$8,'CCG-Prov(Acute)'!$F$2:$F$29012,0)+$A18-1,0),\"\")","v":893},null,{"$f":"IF($A18<=O$7,VLOOKUP(OFFSET('CCG-Prov(Acute)'!$G$1,MATCH(O$8,'CCG-Prov(Acute)'!$F$2:$F$29012,0)+$A18-1,0),'CCG List'!$A$3:$B$213,2,0),\"\")","v":"Wakefield "},{"$f":"IF($A18<=O$7,OFFSET('CCG-Prov(Acute)'!$H$1,MATCH(O$8,'CCG-Prov(Acute)'!$F$2:$F$29012,0)+$A18-1,0),\"\")","v":65},null,{"$f":"IF($A18<=R$7,VLOOKUP(OFFSET('CCG-Prov(Acute)'!$G$1,MATCH(R$8,'CCG-Prov(Acute)'!$F$2:$F$29012,0)+$A18-1,0),'CCG List'!$A$3:$B$213,2,0),\"\")","v":"Leeds North"},{"$f":"IF($A18<=R$7,OFFSET('CCG-Prov(Acute)'!$H$1,MATCH(R$8,'CCG-Prov(Acute)'!$F$2:$F$29012,0)+$A18-1,0),\"\")","v":294},null,{"$f":"IF($A18<=U$7,VLOOKUP(OFFSET('CCG-Prov(Acute)'!$G$1,MATCH(U$8,'CCG-Prov(Acute)'!$F$2:$F$29012,0)+$A18-1,0),'CCG List'!$A$3:$B$213,2,0),\"\")","v":"Leeds West"},{"$f":"IF($A18<=U$7,OFFSET('CCG-Prov(Acute)'!$H$1,MATCH(U$8,'CCG-Prov(Acute)'!$F$2:$F$29012,0)+$A18-1,0),\"\")","v":64},null,{"$f":"IF($A18<=X$7,VLOOKUP(OFFSET('CCG-Prov(Acute)'!$G$1,MATCH(X$8,'CCG-Prov(Acute)'!$F$2:$F$29012,0)+$A18-1,0),'CCG List'!$A$3:$B$213,2,0),\"\")","v":"Wakefield "},{"$f":"IF($A18<=X$7,OFFSET('CCG-Prov(Acute)'!$H$1,MATCH(X$8,'CCG-Prov(Acute)'!$F$2:$F$29012,0)+$A18-1,0),\"\")","v":478},null,{"$f":"IF($A18<=AA$7,VLOOKUP(OFFSET('CCG-Prov(Acute)'!$G$1,MATCH(AA$8,'CCG-Prov(Acute)'!$F$2:$F$29012,0)+$A18-1,0),'CCG List'!$A$3:$B$213,2,0),\"\")","v":"Hull"},{"$f":"IF($A18<=AA$7,OFFSET('CCG-Prov(Acute)'!$H$1,MATCH(AA$8,'CCG-Prov(Acute)'!$F$2:$F$29012,0)+$A18-1,0),\"\")","v":165},null,{"$f":"IF($A18<=AD$7,VLOOKUP(OFFSET('CCG-Prov(Acute)'!$G$1,MATCH(AD$8,'CCG-Prov(Acute)'!$F$2:$F$29012,0)+$A18-1,0),'CCG List'!$A$3:$B$213,2,0),\"\")","v":"Leeds South & East"},{"$f":"IF($A18<=AD$7,OFFSET('CCG-Prov(Acute)'!$H$1,MATCH(AD$8,'CCG-Prov(Acute)'!$F$2:$F$29012,0)+$A18-1,0),\"\")","v":46},null,{"$f":"IF($A18<=AG$7,VLOOKUP(OFFSET('CCG-Prov(Acute)'!$G$1,MATCH(AG$8,'CCG-Prov(Acute)'!$F$2:$F$29012,0)+$A18-1,0),'CCG List'!$A$3:$B$213,2,0),\"\")","v":"Mid Essex"},{"$f":"IF($A18<=AG$7,OFFSET('CCG-Prov(Acute)'!$H$1,MATCH(AG$8,'CCG-Prov(Acute)'!$F$2:$F$29012,0)+$A18-1,0),\"\")","v":2362}]
[10,{"$f":"VLOOKUP(D19,provnames!$A$2:$B$331,2,0)","v":"Ramsay Healthcare UK Operations Ltd"},{"$f":"IF(A19<=$A$21,OFFSET('CCG-Prov(Acute)'!$C$1,MATCH(Acute!$C$4,'CCG-Prov(Acute)'!$A$2:$A$29012,0)+$A19-1,0),\"\")","v":40},{"$f":"IF(A19<=$A$21,OFFSET('CCG-Prov(Acute)'!$B$1,MATCH(Acute!$C$4,'CCG-Prov(Acute)'!$A$2:$A$29012,0)+$A19-1,0),\"\")","v":"NVC"},null,{"$f":"IF($A19<=F$7,VLOOKUP(OFFSET('CCG-Prov(Acute)'!$G$1,MATCH(F$8,'CCG-Prov(Acute)'!$F$2:$F$29012,0)+$A19-1,0),'CCG List'!$A$3:$B$213,2,0),\"\")","v":"Harrogate & Rural District"},{"$f":"IF($A19<=F$7,OFFSET('CCG-Prov(Acute)'!$H$1,MATCH(F$8,'CCG-Prov(Acute)'!$F$2:$F$29012,0)+$A19-1,0),\"\")","v":1896},null,{"$f":"IF($A19<=I$7,VLOOKUP(OFFSET('CCG-Prov(Acute)'!$G$1,MATCH(I$8,'CCG-Prov(Acute)'!$F$2:$F$29012,0)+$A19-1,0),'CCG List'!$A$3:$B$213,2,0),\"\")","v":"Calderdale"},{"$f":"IF($A19<=I$7,OFFSET('CCG-Prov(Acute)'!$H$1,MATCH(I$8,'CCG-Prov(Acute)'!$F$2:$F$29012,0)+$A19-1,0),\"\")","v":173},null,{"$f":"IF($A19<=L$7,VLOOKUP(OFFSET('CCG-Prov(Acute)'!$G$1,MATCH(L$8,'CCG-Prov(Acute)'!$F$2:$F$29012,0)+$A19-1,0),'CCG List'!$A$3:$B$213,2,0),\"\")","v":"Leicester City"},{"$f":"IF($A19<=L$7,OFFSET('CCG-Prov(Acute)'!$H$1,MATCH(L$8,'CCG-Prov(Acute)'!$F$2:$F$29012,0)+$A19-1,0),\"\")","v":783},null,{"$f":"IF($A19<=O$7,VLOOKUP(OFFSET('CCG-Prov(Acute)'!$G$1,MATCH(O$8,'CCG-Prov(Acute)'!$F$2:$F$29012,0)+$A19-1,0),'CCG List'!$A$3:$B$213,2,0),\"\")","v":"Scarborough & Ryedale"},{"$f":"IF($A19<=O$7,OFFSET('CCG-Prov(Acute)'!$H$1,MATCH(O$8,'CCG-Prov(Acute)'!$F$2:$F$29012,0)+$A19-1,0),\"\")","v":48},null,{"$f":"IF($A19<=R$7,VLOOKUP(OFFSET('CCG-Prov(Acute)'!$G$1,MATCH(R$8,'CCG-Prov(Acute)'!$F$2:$F$29012,0)+$A19-1,0),'CCG List'!$A$3:$B$213,2,0),\"\")","v":"Wakefield "},{"$f":"IF($A19<=R$7,OFFSET('CCG-Prov(Acute)'!$H$1,MATCH(R$8,'CCG-Prov(Acute)'!$F$2:$F$29012,0)+$A19-1,0),\"\")","v":142},null,{"$f":"IF($A19<=U$7,VLOOKUP(OFFSET('CCG-Prov(Acute)'!$G$1,MATCH(U$8,'CCG-Prov(Acute)'!$F$2:$F$29012,0)+$A19-1,0),'CCG List'!$A$3:$B$213,2,0),\"\")","v":"Hull"},{"$f":"IF($A19<=U$7,OFFSET('CCG-Prov(Acute)'!$H$1,MATCH(U$8,'CCG-Prov(Acute)'!$F$2:$F$29012,0)+$A19-1,0),\"\")","v":48},null,{"$f":"IF($A19<=X$7,VLOOKUP(OFFSET('CCG-Prov(Acute)'!$G$1,MATCH(X$8,'CCG-Prov(Acute)'!$F$2:$F$29012,0)+$A19-1,0),'CCG List'!$A$3:$B$213,2,0),\"\")","v":"Lincolnshire West"},{"$f":"IF($A19<=X$7,OFFSET('CCG-Prov(Acute)'!$H$1,MATCH(X$8,'CCG-Prov(Acute)'!$F$2:$F$29012,0)+$A19-1,0),\"\")","v":420},null,{"$f":"IF($A19<=AA$7,VLOOKUP(OFFSET('CCG-Prov(Acute)'!$G$1,MATCH(AA$8,'CCG-Prov(Acute)'!$F$2:$F$29012,0)+$A19-1,0),'CCG List'!$A$3:$B$213,2,0),\"\")","v":"South West Lincolnshire "},{"$f":"IF($A19<=AA$7,OFFSET('CCG-Prov(Acute)'!$H$1,MATCH(AA$8,'CCG-Prov(Acute)'!$F$2:$F$29012,0)+$A19-1,0),\"\")","v":86},null,{"$f":"IF($A19<=AD$7,VLOOKUP(OFFSET('CCG-Prov(Acute)'!$G$1,MATCH(AD$8,'CCG-Prov(Acute)'!$F$2:$F$29012,0)+$A19-1,0),'CCG List'!$A$3:$B$213,2,0),\"\")","v":"Barnsley"},{"$f":"IF($A19<=AD$7,OFFSET('CCG-Prov(Acute)'!$H$1,MATCH(AD$8,'CCG-Prov(Acute)'!$F$2:$F$29012,0)+$A19-1,0),\"\")","v":44},null,{"$f":"IF($A19<=AG$7,VLOOKUP(OFFSET('CCG-Prov(Acute)'!$G$1,MATCH(AG$8,'CCG-Prov(Acute)'!$F$2:$F$29012,0)+$A19-1,0),'CCG List'!$A$3:$B$213,2,0),\"\")","v":"North East Essex"},{"$f":"IF($A19<=AG$7,OFFSET('CCG-Prov(Acute)'!$H$1,MATCH(AG$8,'CCG-Prov(Acute)'!$F$2:$F$29012,0)+$A19-1,0),\"\")","v":2123}]
[null,"Others",{"$f":"C21-SUM(C10:C19)","v":643},null,null,"Other",{"$f":"G21-SUM(G10:G19)","v":8766},null,"Other",{"$f":"J21-SUM(J10:J19)","v":1091},null,"Other",{"$f":"M21-SUM(M10:M19)","v":25819},null,"Other",{"$f":"P21-SUM(P10:P19)","v":512},null,"Other",{"$f":"S21-SUM(S10:S19)","v":1211},null,"Other",{"$f":"V21-SUM(V10:V19)","v":798},null,"Other",{"$f":"Y21-SUM(Y10:Y19)","v":5886},null,"Other",{"$f":"AB21-SUM(AB10:AB19)","v":715},null,"Other",{"$f":"AE21-SUM(AE10:AE19)","v":742},null,"Other",{"$f":"AH21-SUM(AH10:AH19)","v":51057}]
[{"$f":"MIN(VLOOKUP(C4,'CCG List'!$A$3:$D$213,3,0),10)","v":10},"Total",{"$f":"SUMIF('CCG-Prov(Acute)'!$A$2:$A$29012,C4,'CCG-Prov(Acute)'!$C$2:$C$29012)","v":58723},null,null,"Total",{"$f":"SUMIF('CCG-Prov(Acute)'!$F$2:$F$29012,F8,'CCG-Prov(Acute)'!$H$2:$H$29012)","v":167109},null,"Total",{"$f":"SUMIF('CCG-Prov(Acute)'!$F$2:$F$29012,I8,'CCG-Prov(Acute)'!$H$2:$H$29012)","v":112298},null,"Total",{"$f":"SUMIF('CCG-Prov(Acute)'!$F$2:$F$29012,L8,'CCG-Prov(Acute)'!$H$2:$H$29012)","v":37724},null,"Total",{"$f":"SUMIF('CCG-Prov(Acute)'!$F$2:$F$29012,O8,'CCG-Prov(Acute)'!$H$2:$H$29012)","v":38505},null,"Total",{"$f":"SUMIF('CCG-Prov(Acute)'!$F$2:$F$29012,R8,'CCG-Prov(Acute)'!$H$2:$H$29012)","v":92077},null,"Total",{"$f":"SUMIF('CCG-Prov(Acute)'!$F$2:$F$29012,U8,'CCG-Prov(Acute)'!$H$2:$H$29012)","v":65434},null,"Total",{"$f":"SUMIF('CCG-Prov(Acute)'!$F$2:$F$29012,X8,'CCG-Prov(Acute)'!$H$2:$H$29012)","v":151910},null,"Total",{"$f":"SUMIF('CCG-Prov(Acute)'!$F$2:$F$29012,AA8,'CCG-Prov(Acute)'!$H$2:$H$29012)","v":81388},null,"Total",{"$f":"SUMIF('CCG-Prov(Acute)'!$F$2:$F$29012,AD8,'CCG-Prov(Acute)'!$H$2:$H$29012)","v":35452},null,"Total",{"$f":"SUMIF('CCG-Prov(Acute)'!$F$2:$F$29012,AG8,'CCG-Prov(Acute)'!$H$2:$H$29012)","v":86262}]
[]
[]
[]
[]
[]
[null,0]
[null,500]
[null,1000]
[null,5000]
[null,"The first table shows the providers that a CCG's population were admitted to. The other tables then show which other CCGs that those providers have treated."]
[]
[]
[]
[null,null,null,null,null,null,null,null,null,null,null,{"$f":"IFERROR(RANK(F35,#REF!),\"\")","v":""},{"$f":"IFERROR(RANK(G35,#REF!),\"\")","v":""},null,{"$f":"IFERROR(RANK(I35,#REF!),\"\")","v":""},{"$f":"IFERROR(RANK(J35,#REF!),\"\")","v":""}]

{"sheet":"Maternity","index":1,"n_rows":35,"n_cols":34,"rows_kept":35,"cut":false,"hidden":false,"merged":[[0,1,0,2],[1,1,1,2],[2,1,2,2],[5,1,5,2],[30,1,30,6]]}
[]
[null,"Deliveries"]
[null,"Select CCG below"]
[null,"Leeds South & East",{"$f":"OFFSET('CCG List'!$A$2,MATCH(B4,collabrange,0),0)","v":"03G"}]
[]
[null,"Select deliveries cutoff for providers to be tabulated (up to 10 will be shown)",null,null,null,{"$f":"COLUMN()","v":6},{"$f":"COLUMN()","v":7},{"$f":"COLUMN()","v":8},{"$f":"COLUMN()","v":9},{"$f":"COLUMN()","v":10},{"$f":"COLUMN()","v":11},{"$f":"COLUMN()","v":12},{"$f":"COLUMN()","v":13},{"$f":"COLUMN()","v":14},{"$f":"COLUMN()","v":15},{"$f":"COLUMN()","v":16},{"$f":"COLUMN()","v":17},{"$f":"COLUMN()","v":18},{"$f":"COLUMN()","v":19},{"$f":"COLUMN()","v":20},{"$f":"COLUMN()","v":21},{"$f":"COLUMN()","v":22},{"$f":"COLUMN()","v":23},{"$f":"COLUMN()","v":24},{"$f":"COLUMN()","v":25},{"$f":"COLUMN()","v":26},{"$f":"COLUMN()","v":27},{"$f":"COLUMN()","v":28},{"$f":"COLUMN()","v":29},{"$f":"COLUMN()","v":30},{"$f":"COLUMN()","v":31},{"$f":"COLUMN()","v":32},{"$f":"COLUMN()","v":33},{"$f":"COLUMN()","v":34}]
[null,50,"Deliveries",null,null,{"$f":"VLOOKUP(F8,'CCG List'!$AO$3:$AQ$157,3,0)","v":72},null,null,{"$f":"VLOOKUP(I8,'CCG List'!$AO$3:$AQ$157,3,0)","v":38},null,null,{"$f":"VLOOKUP(L8,'CCG List'!$AO$3:$AQ$157,3,0)","v":25},null,null,{"$f":"VLOOKUP(O8,'CCG List'!$AO$3:$AQ$157,3,0)","v":40},null,null,{"$f":"VLOOKUP(R8,'CCG List'!$AO$3:$AQ$157,3,0)","v":39},null,null,{"$f":"VLOOKUP(U8,'CCG List'!$AO$3:$AQ$157,3,0)","v":28},null,null,{"$f":"VLOOKUP(X8,'CCG List'!$AO$3:$AQ$157,3,0)","v":40},null,null,{"$f":"VLOOKUP(AA8,'CCG List'!$AO$3:$AQ$157,3,0)","v":42},null,null,{"$f":"VLOOKUP(AD8,'CCG List'!$AO$3:$AQ$157,3,0)","v":46},null,null,{"$f":"VLOOKUP(AG8,'CCG List'!$AO$3:$AQ$157,3,0)","v":35}]
[null,null,null,null,null,{"$f":"OFFSET($D$9,F6/3-1,0)","v":"RR8"},null,null,{"$f":"OFFSET($D$9,I6/3-1,0)","v":"RXF"},null,null,{"$f":"OFFSET($D$9,L6/3-1,0)","v":"RCD"},null,null,{"$f":"OFFSET($D$9,O6/3-1,0)","v":"RCB"},null,null,{"$f":"OFFSET($D$9,R6/3-1,0)","v":"RFF"},null,null,{"$f":"OFFSET($D$9,U6/3-1,0)","v":"RWY"},null,null,{"$f":"OFFSET($D$9,X6/3-1,0)","v":"RP5"},null,null,{"$f":"OFFSET($D$9,AA6/3-1,0)","v":"RAE"},null,null,{"$f":"OFFSET($D$9,AD6/3-1,0)","v":"RAS"},null,null,{"$f":"OFFSET($D$9,AG6/3-1,0)","v":"RCC"}]
[null,{"$f":"\"Providers (ordered by total number of Births) for \"&B4&\" CCG\"","v":"Providers (ordered by total number of Births) for Leeds South & East CCG"},"Number of Births",{"$f":"COUNTIF(C10:C19,\">=\"&B7)","v":2},null,{"$f":"OFFSET($B$9,F6/3-1,0)","v":"Leeds Teaching Hospitals NHS Trust"},"No. of Births",null,{"$f":"OFFSET($B$9,I6/3-1,0)","v":"Mid Yorkshire Hospitals NHS Trust"},"No. of Births",null,{"$f":"OFFSET($B$9,L6/3-1,0)","v":"Harrogate & District NHS FT"},"No. of Births",null,{"$f":"OFFSET($B$9,O6/3-1,0)","v":"York Teaching Hospital NHS FT"},"No. of Births",null,{"$f":"OFFSET($B$9,R6/3-1,0)","v":"Barnsley Hospital NHS FT"},"No. of Births",null,{"$f":"OFFSET($B$9,U6/3-1,0)","v":"Calderdale & Huddersfield NHS FT"},"No. of Births",null,{"$f":"OFFSET($B$9,X6/3-1,0)","v":"Doncaster & Bassetlaw Hospitals NHS FT"},"No. of Births",null,{"$f":"OFFSET($B$9,AA6/3-1,0)","v":"Bradford Teaching Hospitals NHS FT"},"No. of Births",null,{"$f":"OFFSET($B$9,AD6/3-1,0)","v":"The Hillingdon Hospitals NHS FT"},"No. of Births",null,{"$f":"OFFSET($B$9,AG6/3-1,0)","v":"Scarborough & NE Yorkshire Health Care NHS Trust"},"No. of Births"]
[1,{"$f":"VLOOKUP(D10,provnames!$A$2:$B$332,2,0)","v":"Leeds Teaching Hospitals NHS Trust"},{"$f":"IF(A10<=$A$21,OFFSET('CCG-Prov(Births)'!$C$1,MATCH(Maternity!$C$4,'CCG-Prov(Births)'!$A$2:$A$6150,0)+$A10-1,0),\"\")","v":3793},{"$f":"IF(A10<=$A$21,OFFSET('CCG-Prov(Births)'!$B$1,MATCH(Maternity!$C$4,'CCG-Prov(Births)'!$A$2:$A$6150,0)+$A10-1,0),\"\")","v":"RR8"},null,{"$f":"IF($A10<=F$7,VLOOKUP(OFFSET('CCG-Prov(Births)'!$H$1,MATCH(F$8,'CCG-Prov(Births)'!$G$2:$G$28861,0)+$A10-1,0),'CCG List'!$A$3:$B$213,2,0),\"\")","v":"Leeds West"},{"$f":"IF($A10<=F$7,OFFSET('CCG-Prov(Births)'!$I$1,MATCH(F$8,'CCG-Prov(Births)'!$G$2:$G$28861,0)+$A10-1,0),\"\")","v":4000},null,{"$f":"IF($A10<=I$7,VLOOKUP(OFFSET('CCG-Prov(Births)'!$H$1,MATCH(I$8,'CCG-Prov(Births)'!$G$2:$G$28861,0)+$A10-1,0),'CCG List'!$A$3:$B$213,2,0),\"\")","v":"Wakefield "},{"$f":"IF($A10<=I$7,OFFSET('CCG-Prov(Births)'!$I$1,MATCH(I$8,'CCG-Prov(Births)'!$G$2:$G$28861,0)+$A10-1,0),\"\")","v":4139},null,{"$f":"IF($A10<=L$7,VLOOKUP(OFFSET('CCG-Prov(Births)'!$H$1,MATCH(L$8,'CCG-Prov(Births)'!$G$2:$G$28861,0)+$A10-1,0),'CCG List'!$A$3:$B$213,2,0),\"\")","v":"Harrogate & Rural District"},{"$f":"IF($A10<=L$7,OFFSET('CCG-Prov(Births)'!$I$1,MATCH(L$8,'CCG-Prov(Births)'!$G$2:$G$28861,0)+$A10-1,0),\"\")","v":1324},null,{"$f":"IF($A10<=O$7,VLOOKUP(OFFSET('CCG-Prov(Births)'!$H$1,MATCH(O$8,'CCG-Prov(Births)'!$G$2:$G$28861,0)+$A10-1,0),'CCG List'!$A$3:$B$213,2,0),\"\")","v":"Vale of York"},{"$f":"IF($A10<=O$7,OFFSET('CCG-Prov(Births)'!$I$1,MATCH(O$8,'CCG-Prov(Births)'!$G$2:$G$28861,0)+$A10-1,0),\"\")","v":3304},null,{"$f":"IF($A10<=R$7,VLOOKUP(OFFSET('CCG-Prov(Births)'!$H$1,MATCH(R$8,'CCG-Prov(Births)'!$G$2:$G$28861,0)+$A10-1,0),'CCG List'!$A$3:$B$213,2,0),\"\")","v":"Barnsley"},{"$f":"IF($A10<=R$7,OFFSET('CCG-Prov(Births)'!$I$1,MATCH(R$8,'CCG-Prov(Births)'!$G$2:$G$28861,0)+$A10-1,0),\"\")","v":3806},null,{"$f":"IF($A10<=U$7,VLOOKUP(OFFSET('CCG-Prov(Births)'!$H$1,MATCH(U$8,'CCG-Prov(Births)'!$G$2:$G$28861,0)+$A10-1,0),'CCG List'!$A$3:$B$213,2,0),\"\")","v":"Greater Huddersfield"},{"$f":"IF($A10<=U$7,OFFSET('CCG-Prov(Births)'!$I$1,MATCH(U$8,'CCG-Prov(Births)'!$G$2:$G$28861,0)+$A10-1,0),\"\")","v":3071},null,{"$f":"IF($A10<=X$7,VLOOKUP(OFFSET('CCG-Prov(Births)'!$H$1,MATCH(X$8,'CCG-Prov(Births)'!$G$2:$G$28861,0)+$A10-1,0),'CCG List'!$A$3:$B$213,2,0),\"\")","v":"Doncaster"},{"$f":"IF($A10<=X$7,OFFSET('CCG-Prov(Births)'!$I$1,MATCH(X$8,'CCG-Prov(Births)'!$G$2:$G$28861,0)+$A10-1,0),\"\")","v":3922},null,{"$f":"IF($A10<=AA$7,VLOOKUP(OFFSET('CCG-Prov(Births)'!$H$1,MATCH(AA$8,'CCG-Prov(Births)'!$G$2:$G$28861,0)+$A10-1,0),'CCG List'!$A$3:$B$213,2,0),\"\")","v":"Bradford Districts"},{"$f":"IF($A10<=AA$7,OFFSET('CCG-Prov(Births)'!$I$1,MATCH(AA$8,'CCG-Prov(Births)'!$G$2:$G$28861,0)+$A10-1,0),\"\")","v":3531},null,{"$f":"IF($A10<=AD$7,VLOOKUP(OFFSET('CCG-Prov(Births)'!$H$1,MATCH(AD$8,'CCG-Prov(Births)'!$G$2:$G$28861,0)+$A10-1,0),'CCG List'!$A$3:$B$213,2,0),\"\")","v":"Hillingdon"},{"$f":"IF($A10<=AD$7,OFFSET('CCG-Prov(Births)'!$I$1,MATCH(AD$8,'CCG-Prov(Births)'!$G$2:$G$28861,0)+$A10-1,0),\"\")","v":3374},null,{"$f":"IF($A10<=AG$7,VLOOKUP(OFFSET('CCG-Prov(Births)'!$H$1,MATCH(AG$8,'CCG-Prov(Births)'!$G$2:$G$28861,0)+$A10-1,0),'CCG List'!$A$3:$B$213,2,0),\"\")","v":"Scarborough & Ryedale"},{"$f":"IF($A10<=AG$7,OFFSET('CCG-Prov(Births)'!$I$1,MATCH(AG$8,'CCG-Prov(Births)'!$G$2:$G$28861,0)+$A10-1,0),\"\")","v":1123}]
[2,{"$f":"VLOOKUP(D11,provnames!$A$2:$B$332,2,0)","v":"Mid Yorkshire Hospitals NHS Trust"},{"$f":"IF(A11<=$A$21,OFFSET('CCG-Prov(Births)'!$C$1,MATCH(Maternity!$C$4,'CCG-Prov(Births)'!$A$2:$A$6150,0)+$A11-1,0),\"\")","v":140},{"$f":"IF(A11<=$A$21,OFFSET('CCG-Prov(Births)'!$B$1,MATCH(Maternity!$C$4,'CCG-Prov(Births)'!$A$2:$A$6150,0)+$A11-1,0),\"\")","v":"RXF"},null,{"$f":"IF($A11<=F$7,VLOOKUP(OFFSET('CCG-Prov(Births)'!$H$1,MATCH(F$8,'CCG-Prov(Births)'!$G$2:$G$28861,0)+$A11-1,0),'CCG List'!$A$3:$B$213,2,0),\"\")","v":"Leeds South & East"},{"$f":"IF($A11<=F$7,OFFSET('CCG-Prov(Births)'!$I$1,MATCH(F$8,'CCG-Prov(Births)'!$G$2:$G$28861,0)+$A11-1,0),\"\")","v":3793},null,{"$f":"IF($A11<=I$7,VLOOKUP(OFFSET('CCG-Prov(Births)'!$H$1,MATCH(I$8,'CCG-Prov(Births)'!$G$2:$G$28861,0)+$A11-1,0),'CCG List'!$A$3:$B$213,2,0),\"\")","v":"North Kirklees"},{"$f":"IF($A11<=I$7,OFFSET('CCG-Prov(Births)'!$I$1,MATCH(I$8,'CCG-Prov(Births)'!$G$2:$G$28861,0)+$A11-1,0),\"\")","v":2615},null,{"$f":"IF($A11<=L$7,VLOOKUP(OFFSET('CCG-Prov(Births)'!$H$1,MATCH(L$8,'CCG-Prov(Births)'!$G$2:$G$28861,0)+$A11-1,0),'CCG List'!$A$3:$B$213,2,0),\"\")","v":"Leeds North"},{"$f":"IF($A11<=L$7,OFFSET('CCG-Prov(Births)'!$I$1,MATCH(L$8,'CCG-Prov(Births)'!$G$2:$G$28861,0)+$A11-1,0),\"\")","v":409},null,{"$f":"IF($A11<=O$7,VLOOKUP(OFFSET('CCG-Prov(Births)'!$H$1,MATCH(O$8,'CCG-Prov(Births)'!$G$2:$G$28861,0)+$A11-1,0),'CCG List'!$A$3:$B$213,2,0),\"\")","v":"East Riding of Yorkshire"},{"$f":"IF($A11<=O$7,OFFSET('CCG-Prov(Births)'!$I$1,MATCH(O$8,'CCG-Prov(Births)'!$G$2:$G$28861,0)+$A11-1,0),\"\")","v":128},null,{"$f":"IF($A11<=R$7,VLOOKUP(OFFSET('CCG-Prov(Births)'!$H$1,MATCH(R$8,'CCG-Prov(Births)'!$G$2:$G$28861,0)+$A11-1,0),'CCG List'!$A$3:$B$213,2,0),\"\")","v":"Greater Huddersfield"},{"$f":"IF($A11<=R$7,OFFSET('CCG-Prov(Births)'!$I$1,MATCH(R$8,'CCG-Prov(Births)'!$G$2:$G$28861,0)+$A11-1,0),\"\")","v":219},null,{"$f":"IF($A11<=U$7,VLOOKUP(OFFSET('CCG-Prov(Births)'!$H$1,MATCH(U$8,'CCG-Prov(Births)'!$G$2:$G$28861,0)+$A11-1,0),'CCG List'!$A$3:$B$213,2,0),\"\")","v":"Calderdale"},{"$f":"IF($A11<=U$7,OFFSET('CCG-Prov(Births)'!$I$1,MATCH(U$8,'CCG-Prov(Births)'!$G$2:$G$28861,0)+$A11-1,0),\"\")","v":2929},null,{"$f":"IF($A11<=X$7,VLOOKUP(OFFSET('CCG-Prov(Births)'!$H$1,MATCH(X$8,'CCG-Prov(Births)'!$G$2:$G$28861,0)+$A11-1,0),'CCG List'!$A$3:$B$213,2,0),\"\")","v":"Bassetlaw"},{"$f":"IF($A11<=X$7,OFFSET('CCG-Prov(Births)'!$I$1,MATCH(X$8,'CCG-Prov(Births)'!$G$2:$G$28861,0)+$A11-1,0),\"\")","v":1267},null,{"$f":"IF($A11<=AA$7,VLOOKUP(OFFSET('CCG-Prov(Births)'!$H$1,MATCH(AA$8,'CCG-Prov(Births)'!$G$2:$G$28861,0)+$A11-1,0),'CCG List'!$A$3:$B$213,2,0),\"\")","v":"Bradford City"},{"$f":"IF($A11<=AA$7,OFFSET('CCG-Prov(Births)'!$I$1,MATCH(AA$8,'CCG-Prov(Births)'!$G$2:$G$28861,0)+$A11-1,0),\"\")","v":2241},null,{"$f":"IF($A11<=AD$7,VLOOKUP(OFFSET('CCG-Prov(Births)'!$H$1,MATCH(AD$8,'CCG-Prov(Births)'!$G$2:$G$28861,0)+$A11-1,0),'CCG List'!$A$3:$B$213,2,0),\"\")","v":"Ealing"},{"$f":"IF($A11<=AD$7,OFFSET('CCG-Prov(Births)'!$I$1,MATCH(AD$8,'CCG-Prov(Births)'!$G$2:$G$28861,0)+$A11-1,0),\"\")","v":471},null,{"$f":"IF($A11<=AG$7,VLOOKUP(OFFSET('CCG-Prov(Births)'!$H$1,MATCH(AG$8,'CCG-Prov(Births)'!$G$2:$G$28861,0)+$A11-1,0),'CCG List'!$A$3:$B$213,2,0),\"\")","v":"East Riding of Yorkshire"},{"$f":"IF($A11<=AG$7,OFFSET('CCG-Prov(Births)'!$I$1,MATCH(AG$8,'CCG-Prov(Births)'!$G$2:$G$28861,0)+$A11-1,0),\"\")","v":440}]
[3,{"$f":"VLOOKUP(D12,provnames!$A$2:$B$332,2,0)","v":"Harrogate & District NHS FT"},{"$f":"IF(A12<=$A$21,OFFSET('CCG-Prov(Births)'!$C$1,MATCH(Maternity!$C$4,'CCG-Prov(Births)'!$A$2:$A$6150,0)+$A12-1,0),\"\")","v":14},{"$f":"IF(A12<=$A$21,OFFSET('CCG-Prov(Births)'!$B$1,MATCH(Maternity!$C$4,'CCG-Prov(Births)'!$A$2:$A$6150,0)+$A12-1,0),\"\")","v":"RCD"},null,{"$f":"IF($A12<=F$7,VLOOKUP(OFFSET('CCG-Prov(Births)'!$H$1,MATCH(F$8,'CCG-Prov(Births)'!$G$2:$G$28861,0)+$A12-1,0),'CCG List'!$A$3:$B$213,2,0),\"\")","v":"Leeds North"},{"$f":"IF($A12<=F$7,OFFSET('CCG-Prov(Births)'!$I$1,MATCH(F$8,'CCG-Prov(Births)'!$G$2:$G$28861,0)+$A12-1,0),\"\")","v":2201},null,{"$f":"IF($A12<=I$7,VLOOKUP(OFFSET('CCG-Prov(Births)'!$H$1,MATCH(I$8,'CCG-Prov(Births)'!$G$2:$G$28861,0)+$A12-1,0),'CCG List'!$A$3:$B$213,2,0),\"\")","v":"Leeds West"},{"$f":"IF($A12<=I$7,OFFSET('CCG-Prov(Births)'!$I$1,MATCH(I$8,'CCG-Prov(Births)'!$G$2:$G$28861,0)+$A12-1,0),\"\")","v":222},null,{"$f":"IF($A12<=L$7,VLOOKUP(OFFSET('CCG-Prov(Births)'!$H$1,MATCH(L$8,'CCG-Prov(Births)'!$G$2:$G$28861,0)+$A12-1,0),'CCG List'!$A$3:$B$213,2,0),\"\")","v":"Leeds West"},{"$f":"IF($A12<=L$7,OFFSET('CCG-Prov(Births)'!$I$1,MATCH(L$8,'CCG-Prov(Births)'!$G$2:$G$28861,0)+$A12-1,0),\"\")","v":190},null,{"$f":"IF($A12<=O$7,VLOOKUP(OFFSET('CCG-Prov(Births)'!$H$1,MATCH(O$8,'CCG-Prov(Births)'!$G$2:$G$28861,0)+$A12-1,0),'CCG List'!$A$3:$B$213,2,0),\"\")","v":"Scarborough & Ryedale"},{"$f":"IF($A12<=O$7,OFFSET('CCG-Prov(Births)'!$I$1,MATCH(O$8,'CCG-Prov(Births)'!$G$2:$G$28861,0)+$A12-1,0),\"\")","v":86},null,{"$f":"IF($A12<=R$7,VLOOKUP(OFFSET('CCG-Prov(Births)'!$H$1,MATCH(R$8,'CCG-Prov(Births)'!$G$2:$G$28861,0)+$A12-1,0),'CCG List'!$A$3:$B$213,2,0),\"\")","v":"Wakefield "},{"$f":"IF($A12<=R$7,OFFSET('CCG-Prov(Births)'!$I$1,MATCH(R$8,'CCG-Prov(Births)'!$G$2:$G$28861,0)+$A12-1,0),\"\")","v":137},null,{"$f":"IF($A12<=U$7,VLOOKUP(OFFSET('CCG-Prov(Births)'!$H$1,MATCH(U$8,'CCG-Prov(Births)'!$G$2:$G$28861,0)+$A12-1,0),'CCG List'!$A$3:$B$213,2,0),\"\")","v":"Bradford Districts"},{"$f":"IF($A12<=U$7,OFFSET('CCG-Prov(Births)'!$I$1,MATCH(U$8,'CCG-Prov(Births)'!$G$2:$G$28861,0)+$A12-1,0),\"\")","v":478},null,{"$f":"IF($A12<=X$7,VLOOKUP(OFFSET('CCG-Prov(Births)'!$H$1,MATCH(X$8,'CCG-Prov(Births)'!$G$2:$G$28861,0)+$A12-1,0),'CCG List'!$A$3:$B$213,2,0),\"\")","v":"Rotherham"},{"$f":"IF($A12<=X$7,OFFSET('CCG-Prov(Births)'!$I$1,MATCH(X$8,'CCG-Prov(Births)'!$G$2:$G$28861,0)+$A12-1,0),\"\")","v":204},null,{"$f":"IF($A12<=AA$7,VLOOKUP(OFFSET('CCG-Prov(Births)'!$H$1,MATCH(AA$8,'CCG-Prov(Births)'!$G$2:$G$28861,0)+$A12-1,0),'CCG List'!$A$3:$B$213,2,0),\"\")","v":"Leeds West"},{"$f":"IF($A12<=AA$7,OFFSET('CCG-Prov(Births)'!$I$1,MATCH(AA$8,'CCG-Prov(Births)'!$G$2:$G$28861,0)+$A12-1,0),\"\")","v":41},null,{"$f":"IF($A12<=AD$7,VLOOKUP(OFFSET('CCG-Prov(Births)'!$H$1,MATCH(AD$8,'CCG-Prov(Births)'!$G$2:$G$28861,0)+$A12-1,0),'CCG List'!$A$3:$B$213,2,0),\"\")","v":"Harrow"},{"$f":"IF($A12<=AD$7,OFFSET('CCG-Prov(Births)'!$I$1,MATCH(AD$8,'CCG-Prov(Births)'!$G$2:$G$28861,0)+$A12-1,0),\"\")","v":134},null,{"$f":"IF($A12<=AG$7,VLOOKUP(OFFSET('CCG-Prov(Births)'!$H$1,MATCH(AG$8,'CCG-Prov(Births)'!$G$2:$G$28861,0)+$A12-1,0),'CCG List'!$A$3:$B$213,2,0),\"\")","v":"Hambleton, Richmondshire & Whitby"},{"$f":"IF($A12<=AG$7,OFFSET('CCG-Prov(Births)'!$I$1,MATCH(AG$8,'CCG-Prov(Births)'!$G$2:$G$28861,0)+$A12-1,0),\"\")","v":109}]
[4,{"$f":"VLOOKUP(D13,provnames!$A$2:$B$332,2,0)","v":"York Teaching Hospital NHS FT"},{"$f":"IF(A13<=$A$21,OFFSET('CCG-Prov(Births)'!$C$1,MATCH(Maternity!$C$4,'CCG-Prov(Births)'!$A$2:$A$6150,0)+$A13-1,0),\"\")","v":12},{"$f":"IF(A13<=$A$21,OFFSET('CCG-Prov(Births)'!$B$1,MATCH(Maternity!$C$4,'CCG-Prov(Births)'!$A$2:$A$6150,0)+$A13-1,0),\"\")","v":"RCB"},null,{"$f":"IF($A13<=F$7,VLOOKUP(OFFSET('CCG-Prov(Births)'!$H$1,MATCH(F$8,'CCG-Prov(Births)'!$G$2:$G$28861,0)+$A13-1,0),'CCG List'!$A$3:$B$213,2,0),\"\")","v":"Wakefield "},{"$f":"IF($A13<=F$7,OFFSET('CCG-Prov(Births)'!$I$1,MATCH(F$8,'CCG-Prov(Births)'!$G$2:$G$28861,0)+$A13-1,0),\"\")","v":185},null,{"$f":"IF($A13<=I$7,VLOOKUP(OFFSET('CCG-Prov(Births)'!$H$1,MATCH(I$8,'CCG-Prov(Births)'!$G$2:$G$28861,0)+$A13-1,0),'CCG List'!$A$3:$B$213,2,0),\"\")","v":"Leeds South & East"},{"$f":"IF($A13<=I$7,OFFSET('CCG-Prov(Births)'!$I$1,MATCH(I$8,'CCG-Prov(Births)'!$G$2:$G$28861,0)+$A13-1,0),\"\")","v":140},null,{"$f":"IF($A13<=L$7,VLOOKUP(OFFSET('CCG-Prov(Births)'!$H$1,MATCH(L$8,'CCG-Prov(Births)'!$G$2:$G$28861,0)+$A13-1,0),'CCG List'!$A$3:$B$213,2,0),\"\")","v":"Vale of York"},{"$f":"IF($A13<=L$7,OFFSET('CCG-Prov(Births)'!$I$1,MATCH(L$8,'CCG-Prov(Births)'!$G$2:$G$28861,0)+$A13-1,0),\"\")","v":29},null,{"$f":"IF($A13<=O$7,VLOOKUP(OFFSET('CCG-Prov(Births)'!$H$1,MATCH(O$8,'CCG-Prov(Births)'!$G$2:$G$28861,0)+$A13-1,0),'CCG List'!$A$3:$B$213,2,0),\"\")","v":"Leeds North"},{"$f":"IF($A13<=O$7,OFFSET('CCG-Prov(Births)'!$I$1,MATCH(O$8,'CCG-Prov(Births)'!$G$2:$G$28861,0)+$A13-1,0),\"\")","v":18},null,{"$f":"IF($A13<=R$7,VLOOKUP(OFFSET('CCG-Prov(Births)'!$H$1,MATCH(R$8,'CCG-Prov(Births)'!$G$2:$G$28861,0)+$A13-1,0),'CCG List'!$A$3:$B$213,2,0),\"\")","v":"Rotherham"},{"$f":"IF($A13<=R$7,OFFSET('CCG-Prov(Births)'!$I$1,MATCH(R$8,'CCG-Prov(Births)'!$G$2:$G$28861,0)+$A13-1,0),\"\")","v":36},null,{"$f":"IF($A13<=U$7,VLOOKUP(OFFSET('CCG-Prov(Births)'!$H$1,MATCH(U$8,'CCG-Prov(Births)'!$G$2:$G$28861,0)+$A13-1,0),'CCG List'!$A$3:$B$213,2,0),\"\")","v":"North Kirklees"},{"$f":"IF($A13<=U$7,OFFSET('CCG-Prov(Births)'!$I$1,MATCH(U$8,'CCG-Prov(Births)'!$G$2:$G$28861,0)+$A13-1,0),\"\")","v":161},null,{"$f":"IF($A13<=X$7,VLOOKUP(OFFSET('CCG-Prov(Births)'!$H$1,MATCH(X$8,'CCG-Prov(Births)'!$G$2:$G$28861,0)+$A13-1,0),'CCG List'!$A$3:$B$213,2,0),\"\")","v":"Barnsley"},{"$f":"IF($A13<=X$7,OFFSET('CCG-Prov(Births)'!$I$1,MATCH(X$8,'CCG-Prov(Births)'!$G$2:$G$28861,0)+$A13-1,0),\"\")","v":94},null,{"$f":"IF($A13<=AA$7,VLOOKUP(OFFSET('CCG-Prov(Births)'!$H$1,MATCH(AA$8,'CCG-Prov(Births)'!$G$2:$G$28861,0)+$A13-1,0),'CCG List'!$A$3:$B$213,2,0),\"\")","v":"Airedale, Wharfedale & Craven"},{"$f":"IF($A13<=AA$7,OFFSET('CCG-Prov(Births)'!$I$1,MATCH(AA$8,'CCG-Prov(Births)'!$G$2:$G$28861,0)+$A13-1,0),\"\")","v":18},null,{"$f":"IF($A13<=AD$7,VLOOKUP(OFFSET('CCG-Prov(Births)'!$H$1,MATCH(AD$8,'CCG-Prov(Births)'!$G$2:$G$28861,0)+$A13-1,0),'CCG List'!$A$3:$B$213,2,0),\"\")","v":"Hounslow"},{"$f":"IF($A13<=AD$7,OFFSET('CCG-Prov(Births)'!$I$1,MATCH(AD$8,'CCG-Prov(Births)'!$G$2:$G$28861,0)+$A13-1,0),\"\")","v":61},null,{"$f":"IF($A13<=AG$7,VLOOKUP(OFFSET('CCG-Prov(Births)'!$H$1,MATCH(AG$8,'CCG-Prov(Births)'!$G$2:$G$28861,0)+$A13-1,0),'CCG List'!$A$3:$B$213,2,0),\"\")","v":"Vale of York"},{"$f":"IF($A13<=AG$7,OFFSET('CCG-Prov(Births)'!$I$1,MATCH(AG$8,'CCG-Prov(Births)'!$G$2:$G$28861,0)+$A13-1,0),\"\")","v":91}]
[5,{"$f":"VLOOKUP(D14,provnames!$A$2:$B$332,2,0)","v":"Barnsley Hospital NHS FT"},{"$f":"IF(A14<=$A$21,OFFSET('CCG-Prov(Births)'!$C$1,MATCH(Maternity!$C$4,'CCG-Prov(Births)'!$A$2:$A$6150,0)+$A14-1,0),\"\")","v":4},{"$f":"IF(A14<=$A$21,OFFSET('CCG-Prov(Births)'!$B$1,MATCH(Maternity!$C$4,'CCG-Prov(Births)'!$A$2:$A$6150,0)+$A14-1,0),\"\")","v":"RFF"},null,{"$f":"IF($A14<=F$7,VLOOKUP(OFFSET('CCG-Prov(Births)'!$H$1,MATCH(F$8,'CCG-Prov(Births)'!$G$2:$G$28861,0)+$A14-1,0),'CCG List'!$A$3:$B$213,2,0),\"\")","v":"Bradford Districts"},{"$f":"IF($A14<=F$7,OFFSET('CCG-Prov(Births)'!$I$1,MATCH(F$8,'CCG-Prov(Births)'!$G$2:$G$28861,0)+$A14-1,0),\"\")","v":115},null,{"$f":"IF($A14<=I$7,VLOOKUP(OFFSET('CCG-Prov(Births)'!$H$1,MATCH(I$8,'CCG-Prov(Births)'!$G$2:$G$28861,0)+$A14-1,0),'CCG List'!$A$3:$B$213,2,0),\"\")","v":"Bradford Districts"},{"$f":"IF($A14<=I$7,OFFSET('CCG-Prov(Births)'!$I$1,MATCH(I$8,'CCG-Prov(Births)'!$G$2:$G$28861,0)+$A14-1,0),\"\")","v":43},null,{"$f":"IF($A14<=L$7,VLOOKUP(OFFSET('CCG-Prov(Births)'!$H$1,MATCH(L$8,'CCG-Prov(Births)'!$G$2:$G$28861,0)+$A14-1,0),'CCG List'!$A$3:$B$213,2,0),\"\")","v":"Airedale, Wharfedale & Craven"},{"$f":"IF($A14<=L$7,OFFSET('CCG-Prov(Births)'!$I$1,MATCH(L$8,'CCG-Prov(Births)'!$G$2:$G$28861,0)+$A14-1,0),\"\")","v":28},null,{"$f":"IF($A14<=O$7,VLOOKUP(OFFSET('CCG-Prov(Births)'!$H$1,MATCH(O$8,'CCG-Prov(Births)'!$G$2:$G$28861,0)+$A14-1,0),'CCG List'!$A$3:$B$213,2,0),\"\")","v":"Harrogate & Rural District"},{"$f":"IF($A14<=O$7,OFFSET('CCG-Prov(Births)'!$I$1,MATCH(O$8,'CCG-Prov(Births)'!$G$2:$G$28861,0)+$A14-1,0),\"\")","v":16},null,{"$f":"IF($A14<=R$7,VLOOKUP(OFFSET('CCG-Prov(Births)'!$H$1,MATCH(R$8,'CCG-Prov(Births)'!$G$2:$G$28861,0)+$A14-1,0),'CCG List'!$A$3:$B$213,2,0),\"\")","v":"Sheffield"},{"$f":"IF($A14<=R$7,OFFSET('CCG-Prov(Births)'!$I$1,MATCH(R$8,'CCG-Prov(Births)'!$G$2:$G$28861,0)+$A14-1,0),\"\")","v":17},null,{"$f":"IF($A14<=U$7,VLOOKUP(OFFSET('CCG-Prov(Births)'!$H$1,MATCH(U$8,'CCG-Prov(Births)'!$G$2:$G$28861,0)+$A14-1,0),'CCG List'!$A$3:$B$213,2,0),\"\")","v":"Bradford City"},{"$f":"IF($A14<=U$7,OFFSET('CCG-Prov(Births)'!$I$1,MATCH(U$8,'CCG-Prov(Births)'!$G$2:$G$28861,0)+$A14-1,0),\"\")","v":18},null,{"$f":"IF($A14<=X$7,VLOOKUP(OFFSET('CCG-Prov(Births)'!$H$1,MATCH(X$8,'CCG-Prov(Births)'!$G$2:$G$28861,0)+$A14-1,0),'CCG List'!$A$3:$B$213,2,0),\"\")","v":"Hardwick"},{"$f":"IF($A14<=X$7,OFFSET('CCG-Prov(Births)'!$I$1,MATCH(X$8,'CCG-Prov(Births)'!$G$2:$G$28861,0)+$A14-1,0),\"\")","v":92},null,{"$f":"IF($A14<=AA$7,VLOOKUP(OFFSET('CCG-Prov(Births)'!$H$1,MATCH(AA$8,'CCG-Prov(Births)'!$G$2:$G$28861,0)+$A14-1,0),'CCG List'!$A$3:$B$213,2,0),\"\")","v":"North Kirklees"},{"$f":"IF($A14<=AA$7,OFFSET('CCG-Prov(Births)'!$I$1,MATCH(AA$8,'CCG-Prov(Births)'!$G$2:$G$28861,0)+$A14-1,0),\"\")","v":8},null,{"$f":"IF($A14<=AD$7,VLOOKUP(OFFSET('CCG-Prov(Births)'!$H$1,MATCH(AD$8,'CCG-Prov(Births)'!$G$2:$G$28861,0)+$A14-1,0),'CCG List'!$A$3:$B$213,2,0),\"\")","v":"Chiltern"},{"$f":"IF($A14<=AD$7,OFFSET('CCG-Prov(Births)'!$I$1,MATCH(AD$8,'CCG-Prov(Births)'!$G$2:$G$28861,0)+$A14-1,0),\"\")","v":54},null,{"$f":"IF($A14<=AG$7,VLOOKUP(OFFSET('CCG-Prov(Births)'!$H$1,MATCH(AG$8,'CCG-Prov(Births)'!$G$2:$G$28861,0)+$A14-1,0),'CCG List'!$A$3:$B$213,2,0),\"\")","v":"Leeds West"},{"$f":"IF($A14<=AG$7,OFFSET('CCG-Prov(Births)'!$I$1,MATCH(AG$8,'CCG-Prov(Births)'!$G$2:$G$28861,0)+$A14-1,0),\"\")","v":3}]
[6,{"$f":"VLOOKUP(D15,provnames!$A$2:$B$332,2,0)","v":"Calderdale & Huddersfield NHS FT"},{"$f":"IF(A15<=$A$21,OFFSET('CCG-Prov(Births)'!$C$1,MATCH(Maternity!$C$4,'CCG-Prov(Births)'!$A$2:$A$6150,0)+$A15-1,0),\"\")","v":3},{"$f":"IF(A15<=$A$21,OFFSET('CCG-Prov(Births)'!$B$1,MATCH(Maternity!$C$4,'CCG-Prov(Births)'!$A$2:$A$6150,0)+$A15-1,0),\"\")","v":"RWY"},null,{"$f":"IF($A15<=F$7,VLOOKUP(OFFSET('CCG-Prov(Births)'!$H$1,MATCH(F$8,'CCG-Prov(Births)'!$G$2:$G$28861,0)+$A15-1,0),'CCG List'!$A$3:$B$213,2,0),\"\")","v":"Vale of York"},{"$f":"IF($A15<=F$7,OFFSET('CCG-Prov(Births)'!$I$1,MATCH(F$8,'CCG-Prov(Births)'!$G$2:$G$28861,0)+$A15-1,0),\"\")","v":82},null,{"$f":"IF($A15<=I$7,VLOOKUP(OFFSET('CCG-Prov(Births)'!$H$1,MATCH(I$8,'CCG-Prov(Births)'!$G$2:$G$28861,0)+$A15-1,0),'CCG List'!$A$3:$B$213,2,0),\"\")","v":"Vale of York"},{"$f":"IF($A15<=I$7,OFFSET('CCG-Prov(Births)'!$I$1,MATCH(I$8,'CCG-Prov(Births)'!$G$2:$G$28861,0)+$A15-1,0),\"\")","v":38},null,{"$f":"IF($A15<=L$7,VLOOKUP(OFFSET('CCG-Prov(Births)'!$H$1,MATCH(L$8,'CCG-Prov(Births)'!$G$2:$G$28861,0)+$A15-1,0),'CCG List'!$A$3:$B$213,2,0),\"\")","v":"Leeds South & East"},{"$f":"IF($A15<=L$7,OFFSET('CCG-Prov(Births)'!$I$1,MATCH(L$8,'CCG-Prov(Births)'!$G$2:$G$28861,0)+$A15-1,0),\"\")","v":14},null,{"$f":"IF($A15<=O$7,VLOOKUP(OFFSET('CCG-Prov(Births)'!$H$1,MATCH(O$8,'CCG-Prov(Births)'!$G$2:$G$28861,0)+$A15-1,0),'CCG List'!$A$3:$B$213,2,0),\"\")","v":"Leeds South & East"},{"$f":"IF($A15<=O$7,OFFSET('CCG-Prov(Births)'!$I$1,MATCH(O$8,'CCG-Prov(Births)'!$G$2:$G$28861,0)+$A15-1,0),\"\")","v":12},null,{"$f":"IF($A15<=R$7,VLOOKUP(OFFSET('CCG-Prov(Births)'!$H$1,MATCH(R$8,'CCG-Prov(Births)'!$G$2:$G$28861,0)+$A15-1,0),'CCG List'!$A$3:$B$213,2,0),\"\")","v":"Doncaster"},{"$f":"IF($A15<=R$7,OFFSET('CCG-Prov(Births)'!$I$1,MATCH(R$8,'CCG-Prov(Births)'!$G$2:$G$28861,0)+$A15-1,0),\"\")","v":7},null,{"$f":"IF($A15<=U$7,VLOOKUP(OFFSET('CCG-Prov(Births)'!$H$1,MATCH(U$8,'CCG-Prov(Births)'!$G$2:$G$28861,0)+$A15-1,0),'CCG List'!$A$3:$B$213,2,0),\"\")","v":"Wakefield "},{"$f":"IF($A15<=U$7,OFFSET('CCG-Prov(Births)'!$I$1,MATCH(U$8,'CCG-Prov(Births)'!$G$2:$G$28861,0)+$A15-1,0),\"\")","v":12},null,{"$f":"IF($A15<=X$7,VLOOKUP(OFFSET('CCG-Prov(Births)'!$H$1,MATCH(X$8,'CCG-Prov(Births)'!$G$2:$G$28861,0)+$A15-1,0),'CCG List'!$A$3:$B$213,2,0),\"\")","v":"Newark & Sherwood"},{"$f":"IF($A15<=X$7,OFFSET('CCG-Prov(Births)'!$I$1,MATCH(X$8,'CCG-Prov(Births)'!$G$2:$G$28861,0)+$A15-1,0),\"\")","v":85},null,{"$f":"IF($A15<=AA$7,VLOOKUP(OFFSET('CCG-Prov(Births)'!$H$1,MATCH(AA$8,'CCG-Prov(Births)'!$G$2:$G$28861,0)+$A15-1,0),'CCG List'!$A$3:$B$213,2,0),\"\")","v":"Calderdale"},{"$f":"IF($A15<=AA$7,OFFSET('CCG-Prov(Births)'!$I$1,MATCH(AA$8,'CCG-Prov(Births)'!$G$2:$G$28861,0)+$A15-1,0),\"\")","v":7},null,{"$f":"IF($A15<=AD$7,VLOOKUP(OFFSET('CCG-Prov(Births)'!$H$1,MATCH(AD$8,'CCG-Prov(Births)'!$G$2:$G$28861,0)+$A15-1,0),'CCG List'!$A$3:$B$213,2,0),\"\")","v":"Slough"},{"$f":"IF($A15<=AD$7,OFFSET('CCG-Prov(Births)'!$I$1,MATCH(AD$8,'CCG-Prov(Births)'!$G$2:$G$28861,0)+$A15-1,0),\"\")","v":22},null,{"$f":"IF($A15<=AG$7,VLOOKUP(OFFSET('CCG-Prov(Births)'!$H$1,MATCH(AG$8,'CCG-Prov(Births)'!$G$2:$G$28861,0)+$A15-1,0),'CCG List'!$A$3:$B$213,2,0),\"\")","v":"North East Lincolnshire"},{"$f":"IF($A15<=AG$7,OFFSET('CCG-Prov(Births)'!$I$1,MATCH(AG$8,'CCG-Prov(Births)'!$G$2:$G$28861,0)+$A15-1,0),\"\")","v":3}]
[7,{"$f":"VLOOKUP(D16,provnames!$A$2:$B$332,2,0)","v":"Doncaster & Bassetlaw Hospitals NHS FT"},{"$f":"IF(A16<=$A$21,OFFSET('CCG-Prov(Births)'!$C$1,MATCH(Maternity!$C$4,'CCG-Prov(Births)'!$A$2:$A$6150,0)+$A16-1,0),\"\")","v":2},{"$f":"IF(A16<=$A$21,OFFSET('CCG-Prov(Births)'!$B$1,MATCH(Maternity!$C$4,'CCG-Prov(Births)'!$A$2:$A$6150,0)+$A16-1,0),\"\")","v":"RP5"},null,{"$f":"IF($A16<=F$7,VLOOKUP(OFFSET('CCG-Prov(Births)'!$H$1,MATCH(F$8,'CCG-Prov(Births)'!$G$2:$G$28861,0)+$A16-1,0),'CCG List'!$A$3:$B$213,2,0),\"\")","v":"North Kirklees"},{"$f":"IF($A16<=F$7,OFFSET('CCG-Prov(Births)'!$I$1,MATCH(F$8,'CCG-Prov(Births)'!$G$2:$G$28861,0)+$A16-1,0),\"\")","v":75},null,{"$f":"IF($A16<=I$7,VLOOKUP(OFFSET('CCG-Prov(Births)'!$H$1,MATCH(I$8,'CCG-Prov(Births)'!$G$2:$G$28861,0)+$A16-1,0),'CCG List'!$A$3:$B$213,2,0),\"\")","v":"East Riding of Yorkshire"},{"$f":"IF($A16<=I$7,OFFSET('CCG-Prov(Births)'!$I$1,MATCH(I$8,'CCG-Prov(Births)'!$G$2:$G$28861,0)+$A16-1,0),\"\")","v":30},null,{"$f":"IF($A16<=L$7,VLOOKUP(OFFSET('CCG-Prov(Births)'!$H$1,MATCH(L$8,'CCG-Prov(Births)'!$G$2:$G$28861,0)+$A16-1,0),'CCG List'!$A$3:$B$213,2,0),\"\")","v":"Bradford Districts"},{"$f":"IF($A16<=L$7,OFFSET('CCG-Prov(Births)'!$I$1,MATCH(L$8,'CCG-Prov(Births)'!$G$2:$G$28861,0)+$A16-1,0),\"\")","v":11},null,{"$f":"IF($A16<=O$7,VLOOKUP(OFFSET('CCG-Prov(Births)'!$H$1,MATCH(O$8,'CCG-Prov(Births)'!$G$2:$G$28861,0)+$A16-1,0),'CCG List'!$A$3:$B$213,2,0),\"\")","v":"Wakefield "},{"$f":"IF($A16<=O$7,OFFSET('CCG-Prov(Births)'!$I$1,MATCH(O$8,'CCG-Prov(Births)'!$G$2:$G$28861,0)+$A16-1,0),\"\")","v":6},null,{"$f":"IF($A16<=R$7,VLOOKUP(OFFSET('CCG-Prov(Births)'!$H$1,MATCH(R$8,'CCG-Prov(Births)'!$G$2:$G$28861,0)+$A16-1,0),'CCG List'!$A$3:$B$213,2,0),\"\")","v":"Leeds West"},{"$f":"IF($A16<=R$7,OFFSET('CCG-Prov(Births)'!$I$1,MATCH(R$8,'CCG-Prov(Births)'!$G$2:$G$28861,0)+$A16-1,0),\"\")","v":4},null,{"$f":"IF($A16<=U$7,VLOOKUP(OFFSET('CCG-Prov(Births)'!$H$1,MATCH(U$8,'CCG-Prov(Births)'!$G$2:$G$28861,0)+$A16-1,0),'CCG List'!$A$3:$B$213,2,0),\"\")","v":"Airedale, Wharfedale & Craven"},{"$f":"IF($A16<=U$7,OFFSET('CCG-Prov(Births)'!$I$1,MATCH(U$8,'CCG-Prov(Births)'!$G$2:$G$28861,0)+$A16-1,0),\"\")","v":10},null,{"$f":"IF($A16<=X$7,VLOOKUP(OFFSET('CCG-Prov(Births)'!$H$1,MATCH(X$8,'CCG-Prov(Births)'!$G$2:$G$28861,0)+$A16-1,0),'CCG List'!$A$3:$B$213,2,0),\"\")","v":"North Lincolnshire"},{"$f":"IF($A16<=X$7,OFFSET('CCG-Prov(Births)'!$I$1,MATCH(X$8,'CCG-Prov(Births)'!$G$2:$G$28861,0)+$A16-1,0),\"\")","v":58},null,{"$f":"IF($A16<=AA$7,VLOOKUP(OFFSET('CCG-Prov(Births)'!$H$1,MATCH(AA$8,'CCG-Prov(Births)'!$G$2:$G$28861,0)+$A16-1,0),'CCG List'!$A$3:$B$213,2,0),\"\")","v":"Greater Huddersfield"},{"$f":"IF($A16<=AA$7,OFFSET('CCG-Prov(Births)'!$I$1,MATCH(AA$8,'CCG-Prov(Births)'!$G$2:$G$28861,0)+$A16-1,0),\"\")","v":7},null,{"$f":"IF($A16<=AD$7,VLOOKUP(OFFSET('CCG-Prov(Births)'!$H$1,MATCH(AD$8,'CCG-Prov(Births)'!$G$2:$G$28861,0)+$A16-1,0),'CCG List'!$A$3:$B$213,2,0),\"\")","v":"Herts Valleys"},{"$f":"IF($A16<=AD$7,OFFSET('CCG-Prov(Births)'!$I$1,MATCH(AD$8,'CCG-Prov(Births)'!$G$2:$G$28861,0)+$A16-1,0),\"\")","v":12},null,{"$f":"IF($A16<=AG$7,VLOOKUP(OFFSET('CCG-Prov(Births)'!$H$1,MATCH(AG$8,'CCG-Prov(Births)'!$G$2:$G$28861,0)+$A16-1,0),'CCG List'!$A$3:$B$213,2,0),\"\")","v":"South Tees"},{"$f":"IF($A16<=AG$7,OFFSET('CCG-Prov(Births)'!$I$1,MATCH(AG$8,'CCG-Prov(Births)'!$G$2:$G$28861,0)+$A16-1,0),\"\")","v":2}]
[8,{"$f":"VLOOKUP(D17,provnames!$A$2:$B$332,2,0)","v":"Bradford Teaching Hospitals NHS FT"},{"$f":"IF(A17<=$A$21,OFFSET('CCG-Prov(Births)'!$C$1,MATCH(Maternity!$C$4,'CCG-Prov(Births)'!$A$2:$A$6150,0)+$A17-1,0),\"\")","v":1},{"$f":"IF(A17<=$A$21,OFFSET('CCG-Prov(Births)'!$B$1,MATCH(Maternity!$C$4,'CCG-Prov(Births)'!$A$2:$A$6150,0)+$A17-1,0),\"\")","v":"RAE"},null,{"$f":"IF($A17<=F$7,VLOOKUP(OFFSET('CCG-Prov(Births)'!$H$1,MATCH(F$8,'CCG-Prov(Births)'!$G$2:$G$28861,0)+$A17-1,0),'CCG List'!$A$3:$B$213,2,0),\"\")","v":"Airedale, Wharfedale & Craven"},{"$f":"IF($A17<=F$7,OFFSET('CCG-Prov(Births)'!$I$1,MATCH(F$8,'CCG-Prov(Births)'!$G$2:$G$28861,0)+$A17-1,0),\"\")","v":29},null,{"$f":"IF($A17<=I$7,VLOOKUP(OFFSET('CCG-Prov(Births)'!$H$1,MATCH(I$8,'CCG-Prov(Births)'!$G$2:$G$28861,0)+$A17-1,0),'CCG List'!$A$3:$B$213,2,0),\"\")","v":"Barnsley"},{"$f":"IF($A17<=I$7,OFFSET('CCG-Prov(Births)'!$I$1,MATCH(I$8,'CCG-Prov(Births)'!$G$2:$G$28861,0)+$A17-1,0),\"\")","v":14},null,{"$f":"IF($A17<=L$7,VLOOKUP(OFFSET('CCG-Prov(Births)'!$H$1,MATCH(L$8,'CCG-Prov(Births)'!$G$2:$G$28861,0)+$A17-1,0),'CCG List'!$A$3:$B$213,2,0),\"\")","v":"Hambleton, Richmondshire & Whitby"},{"$f":"IF($A17<=L$7,OFFSET('CCG-Prov(Births)'!$I$1,MATCH(L$8,'CCG-Prov(Births)'!$G$2:$G$28861,0)+$A17-1,0),\"\")","v":5},null,{"$f":"IF($A17<=O$7,VLOOKUP(OFFSET('CCG-Prov(Births)'!$H$1,MATCH(O$8,'CCG-Prov(Births)'!$G$2:$G$28861,0)+$A17-1,0),'CCG List'!$A$3:$B$213,2,0),\"\")","v":"Hull"},{"$f":"IF($A17<=O$7,OFFSET('CCG-Prov(Births)'!$I$1,MATCH(O$8,'CCG-Prov(Births)'!$G$2:$G$28861,0)+$A17-1,0),\"\")","v":5},null,{"$f":"IF($A17<=R$7,VLOOKUP(OFFSET('CCG-Prov(Births)'!$H$1,MATCH(R$8,'CCG-Prov(Births)'!$G$2:$G$28861,0)+$A17-1,0),'CCG List'!$A$3:$B$213,2,0),\"\")","v":"Leeds South & East"},{"$f":"IF($A17<=R$7,OFFSET('CCG-Prov(Births)'!$I$1,MATCH(R$8,'CCG-Prov(Births)'!$G$2:$G$28861,0)+$A17-1,0),\"\")","v":4},null,{"$f":"IF($A17<=U$7,VLOOKUP(OFFSET('CCG-Prov(Births)'!$H$1,MATCH(U$8,'CCG-Prov(Births)'!$G$2:$G$28861,0)+$A17-1,0),'CCG List'!$A$3:$B$213,2,0),\"\")","v":"Leeds North"},{"$f":"IF($A17<=U$7,OFFSET('CCG-Prov(Births)'!$I$1,MATCH(U$8,'CCG-Prov(Births)'!$G$2:$G$28861,0)+$A17-1,0),\"\")","v":7},null,{"$f":"IF($A17<=X$7,VLOOKUP(OFFSET('CCG-Prov(Births)'!$H$1,MATCH(X$8,'CCG-Prov(Births)'!$G$2:$G$28861,0)+$A17-1,0),'CCG List'!$A$3:$B$213,2,0),\"\")","v":"Wakefield "},{"$f":"IF($A17<=X$7,OFFSET('CCG-Prov(Births)'!$I$1,MATCH(X$8,'CCG-Prov(Births)'!$G$2:$G$28861,0)+$A17-1,0),\"\")","v":35},null,{"$f":"IF($A17<=AA$7,VLOOKUP(OFFSET('CCG-Prov(Births)'!$H$1,MATCH(AA$8,'CCG-Prov(Births)'!$G$2:$G$28861,0)+$A17-1,0),'CCG List'!$A$3:$B$213,2,0),\"\")","v":"East Lancashire"},{"$f":"IF($A17<=AA$7,OFFSET('CCG-Prov(Births)'!$I$1,MATCH(AA$8,'CCG-Prov(Births)'!$G$2:$G$28861,0)+$A17-1,0),\"\")","v":4},null,{"$f":"IF($A17<=AD$7,VLOOKUP(OFFSET('CCG-Prov(Births)'!$H$1,MATCH(AD$8,'CCG-Prov(Births)'!$G$2:$G$28861,0)+$A17-1,0),'CCG List'!$A$3:$B$213,2,0),\"\")","v":"Brent"},{"$f":"IF($A17<=AD$7,OFFSET('CCG-Prov(Births)'!$I$1,MATCH(AD$8,'CCG-Prov(Births)'!$G$2:$G$28861,0)+$A17-1,0),\"\")","v":10},null,{"$f":"IF($A17<=AG$7,VLOOKUP(OFFSET('CCG-Prov(Births)'!$H$1,MATCH(AG$8,'CCG-Prov(Births)'!$G$2:$G$28861,0)+$A17-1,0),'CCG List'!$A$3:$B$213,2,0),\"\")","v":"Sunderland"},{"$f":"IF($A17<=AG$7,OFFSET('CCG-Prov(Births)'!$I$1,MATCH(AG$8,'CCG-Prov(Births)'!$G$2:$G$28861,0)+$A17-1,0),\"\")","v":2}]
[9,{"$f":"VLOOKUP(D18,provnames!$A$2:$B$332,2,0)","v":"The Hillingdon Hospitals NHS FT"},{"$f":"IF(A18<=$A$21,OFFSET('CCG-Prov(Births)'!$C$1,MATCH(Maternity!$C$4,'CCG-Prov(Births)'!$A$2:$A$6150,0)+$A18-1,0),\"\")","v":1},{"$f":"IF(A18<=$A$21,OFFSET('CCG-Prov(Births)'!$B$1,MATCH(Maternity!$C$4,'CCG-Prov(Births)'!$A$2:$A$6150,0)+$A18-1,0),\"\")","v":"RAS"},null,{"$f":"IF($A18<=F$7,VLOOKUP(OFFSET('CCG-Prov(Births)'!$H$1,MATCH(F$8,'CCG-Prov(Births)'!$G$2:$G$28861,0)+$A18-1,0),'CCG List'!$A$3:$B$213,2,0),\"\")","v":"Bradford City"},{"$f":"IF($A18<=F$7,OFFSET('CCG-Prov(Births)'!$I$1,MATCH(F$8,'CCG-Prov(Births)'!$G$2:$G$28861,0)+$A18-1,0),\"\")","v":24},null,{"$f":"IF($A18<=I$7,VLOOKUP(OFFSET('CCG-Prov(Births)'!$H$1,MATCH(I$8,'CCG-Prov(Births)'!$G$2:$G$28861,0)+$A18-1,0),'CCG List'!$A$3:$B$213,2,0),\"\")","v":"Greater Huddersfield"},{"$f":"IF($A18<=I$7,OFFSET('CCG-Prov(Births)'!$I$1,MATCH(I$8,'CCG-Prov(Births)'!$G$2:$G$28861,0)+$A18-1,0),\"\")","v":13},null,{"$f":"IF($A18<=L$7,VLOOKUP(OFFSET('CCG-Prov(Births)'!$H$1,MATCH(L$8,'CCG-Prov(Births)'!$G$2:$G$28861,0)+$A18-1,0),'CCG List'!$A$3:$B$213,2,0),\"\")","v":"Wakefield "},{"$f":"IF($A18<=L$7,OFFSET('CCG-Prov(Births)'!$I$1,MATCH(L$8,'CCG-Prov(Births)'!$G$2:$G$28861,0)+$A18-1,0),\"\")","v":2},null,{"$f":"IF($A18<=O$7,VLOOKUP(OFFSET('CCG-Prov(Births)'!$H$1,MATCH(O$8,'CCG-Prov(Births)'!$G$2:$G$28861,0)+$A18-1,0),'CCG List'!$A$3:$B$213,2,0),\"\")","v":"Hambleton, Richmondshire & Whitby"},{"$f":"IF($A18<=O$7,OFFSET('CCG-Prov(Births)'!$I$1,MATCH(O$8,'CCG-Prov(Births)'!$G$2:$G$28861,0)+$A18-1,0),\"\")","v":3},null,{"$f":"IF($A18<=R$7,VLOOKUP(OFFSET('CCG-Prov(Births)'!$H$1,MATCH(R$8,'CCG-Prov(Births)'!$G$2:$G$28861,0)+$A18-1,0),'CCG List'!$A$3:$B$213,2,0),\"\")","v":"Bolton"},{"$f":"IF($A18<=R$7,OFFSET('CCG-Prov(Births)'!$I$1,MATCH(R$8,'CCG-Prov(Births)'!$G$2:$G$28861,0)+$A18-1,0),\"\")","v":2},null,{"$f":"IF($A18<=U$7,VLOOKUP(OFFSET('CCG-Prov(Births)'!$H$1,MATCH(U$8,'CCG-Prov(Births)'!$G$2:$G$28861,0)+$A18-1,0),'CCG List'!$A$3:$B$213,2,0),\"\")","v":"Oldham"},{"$f":"IF($A18<=U$7,OFFSET('CCG-Prov(Births)'!$I$1,MATCH(U$8,'CCG-Prov(Births)'!$G$2:$G$28861,0)+$A18-1,0),\"\")","v":3},null,{"$f":"IF($A18<=X$7,VLOOKUP(OFFSET('CCG-Prov(Births)'!$H$1,MATCH(X$8,'CCG-Prov(Births)'!$G$2:$G$28861,0)+$A18-1,0),'CCG List'!$A$3:$B$213,2,0),\"\")","v":"East Riding of Yorkshire"},{"$f":"IF($A18<=X$7,OFFSET('CCG-Prov(Births)'!$I$1,MATCH(X$8,'CCG-Prov(Births)'!$G$2:$G$28861,0)+$A18-1,0),\"\")","v":22},null,{"$f":"IF($A18<=AA$7,VLOOKUP(OFFSET('CCG-Prov(Births)'!$H$1,MATCH(AA$8,'CCG-Prov(Births)'!$G$2:$G$28861,0)+$A18-1,0),'CCG List'!$A$3:$B$213,2,0),\"\")","v":"Wakefield "},{"$f":"IF($A18<=AA$7,OFFSET('CCG-Prov(Births)'!$I$1,MATCH(AA$8,'CCG-Prov(Births)'!$G$2:$G$28861,0)+$A18-1,0),\"\")","v":3},null,{"$f":"IF($A18<=AD$7,VLOOKUP(OFFSET('CCG-Prov(Births)'!$H$1,MATCH(AD$8,'CCG-Prov(Births)'!$G$2:$G$28861,0)+$A18-1,0),'CCG List'!$A$3:$B$213,2,0),\"\")","v":"Hammersmith & Fulham"},{"$f":"IF($A18<=AD$7,OFFSET('CCG-Prov(Births)'!$I$1,MATCH(AD$8,'CCG-Prov(Births)'!$G$2:$G$28861,0)+$A18-1,0),\"\")","v":4},null,{"$f":"IF($A18<=AG$7,VLOOKUP(OFFSET('CCG-Prov(Births)'!$H$1,MATCH(AG$8,'CCG-Prov(Births)'!$G$2:$G$28861,0)+$A18-1,0),'CCG List'!$A$3:$B$213,2,0),\"\")","v":"Bradford Districts"},{"$f":"IF($A18<=AG$7,OFFSET('CCG-Prov(Births)'!$I$1,MATCH(AG$8,'CCG-Prov(Births)'!$G$2:$G$28861,0)+$A18-1,0),\"\")","v":2}]
[10,{"$f":"VLOOKUP(D19,provnames!$A$2:$B$332,2,0)","v":"Scarborough & NE Yorkshire Health Care NHS Trust"},{"$f":"IF(A19<=$A$21,OFFSET('CCG-Prov(Births)'!$C$1,MATCH(Maternity!$C$4,'CCG-Prov(Births)'!$A$2:$A$6150,0)+$A19-1,0),\"\")","v":1},{"$f":"IF(A19<=$A$21,OFFSET('CCG-Prov(Births)'!$B$1,MATCH(Maternity!$C$4,'CCG-Prov(Births)'!$A$2:$A$6150,0)+$A19-1,0),\"\")","v":"RCC"},null,{"$f":"IF($A19<=F$7,VLOOKUP(OFFSET('CCG-Prov(Births)'!$H$1,MATCH(F$8,'CCG-Prov(Births)'!$G$2:$G$28861,0)+$A19-1,0),'CCG List'!$A$3:$B$213,2,0),\"\")","v":"Greater Huddersfield"},{"$f":"IF($A19<=F$7,OFFSET('CCG-Prov(Births)'!$I$1,MATCH(F$8,'CCG-Prov(Births)'!$G$2:$G$28861,0)+$A19-1,0),\"\")","v":21},null,{"$f":"IF($A19<=I$7,VLOOKUP(OFFSET('CCG-Prov(Births)'!$H$1,MATCH(I$8,'CCG-Prov(Births)'!$G$2:$G$28861,0)+$A19-1,0),'CCG List'!$A$3:$B$213,2,0),\"\")","v":"Bradford City"},{"$f":"IF($A19<=I$7,OFFSET('CCG-Prov(Births)'!$I$1,MATCH(I$8,'CCG-Prov(Births)'!$G$2:$G$28861,0)+$A19-1,0),\"\")","v":7},null,{"$f":"IF($A19<=L$7,VLOOKUP(OFFSET('CCG-Prov(Births)'!$H$1,MATCH(L$8,'CCG-Prov(Births)'!$G$2:$G$28861,0)+$A19-1,0),'CCG List'!$A$3:$B$213,2,0),\"\")","v":"Hartlepool & Stockton-on-Tees"},{"$f":"IF($A19<=L$7,OFFSET('CCG-Prov(Births)'!$I$1,MATCH(L$8,'CCG-Prov(Births)'!$G$2:$G$28861,0)+$A19-1,0),\"\")","v":1},null,{"$f":"IF($A19<=O$7,VLOOKUP(OFFSET('CCG-Prov(Births)'!$H$1,MATCH(O$8,'CCG-Prov(Births)'!$G$2:$G$28861,0)+$A19-1,0),'CCG List'!$A$3:$B$213,2,0),\"\")","v":"Bradford Districts"},{"$f":"IF($A19<=O$7,OFFSET('CCG-Prov(Births)'!$I$1,MATCH(O$8,'CCG-Prov(Births)'!$G$2:$G$28861,0)+$A19-1,0),\"\")","v":2},null,{"$f":"IF($A19<=R$7,VLOOKUP(OFFSET('CCG-Prov(Births)'!$H$1,MATCH(R$8,'CCG-Prov(Births)'!$G$2:$G$28861,0)+$A19-1,0),'CCG List'!$A$3:$B$213,2,0),\"\")","v":"North Manchester"},{"$f":"IF($A19<=R$7,OFFSET('CCG-Prov(Births)'!$I$1,MATCH(R$8,'CCG-Prov(Births)'!$G$2:$G$28861,0)+$A19-1,0),\"\")","v":2},null,{"$f":"IF($A19<=U$7,VLOOKUP(OFFSET('CCG-Prov(Births)'!$H$1,MATCH(U$8,'CCG-Prov(Births)'!$G$2:$G$28861,0)+$A19-1,0),'CCG List'!$A$3:$B$213,2,0),\"\")","v":"Leeds West"},{"$f":"IF($A19<=U$7,OFFSET('CCG-Prov(Births)'!$I$1,MATCH(U$8,'CCG-Prov(Births)'!$G$2:$G$28861,0)+$A19-1,0),\"\")","v":3},null,{"$f":"IF($A19<=X$7,VLOOKUP(OFFSET('CCG-Prov(Births)'!$H$1,MATCH(X$8,'CCG-Prov(Births)'!$G$2:$G$28861,0)+$A19-1,0),'CCG List'!$A$3:$B$213,2,0),\"\")","v":"North Derbyshire"},{"$f":"IF($A19<=X$7,OFFSET('CCG-Prov(Births)'!$I$1,MATCH(X$8,'CCG-Prov(Births)'!$G$2:$G$28861,0)+$A19-1,0),\"\")","v":18},null,{"$f":"IF($A19<=AA$7,VLOOKUP(OFFSET('CCG-Prov(Births)'!$H$1,MATCH(AA$8,'CCG-Prov(Births)'!$G$2:$G$28861,0)+$A19-1,0),'CCG List'!$A$3:$B$213,2,0),\"\")","v":"Leicester City"},{"$f":"IF($A19<=AA$7,OFFSET('CCG-Prov(Births)'!$I$1,MATCH(AA$8,'CCG-Prov(Births)'!$G$2:$G$28861,0)+$A19-1,0),\"\")","v":3},null,{"$f":"IF($A19<=AD$7,VLOOKUP(OFFSET('CCG-Prov(Births)'!$H$1,MATCH(AD$8,'CCG-Prov(Births)'!$G$2:$G$28861,0)+$A19-1,0),'CCG List'!$A$3:$B$213,2,0),\"\")","v":"Windsor, Ascot & Maidenhead"},{"$f":"IF($A19<=AD$7,OFFSET('CCG-Prov(Births)'!$I$1,MATCH(AD$8,'CCG-Prov(Births)'!$G$2:$G$28861,0)+$A19-1,0),\"\")","v":4},null,{"$f":"IF($A19<=AG$7,VLOOKUP(OFFSET('CCG-Prov(Births)'!$H$1,MATCH(AG$8,'CCG-Prov(Births)'!$G$2:$G$28861,0)+$A19-1,0),'CCG List'!$A$3:$B$213,2,0),\"\")","v":"Doncaster"},{"$f":"IF($A19<=AG$7,OFFSET('CCG-Prov(Births)'!$I$1,MATCH(AG$8,'CCG-Prov(Births)'!$G$2:$G$28861,0)+$A19-1,0),\"\")","v":2}]
[null,"Others",{"$f":"C21-SUM(C10:C19)","v":18},null,null,"Others",{"$f":"G21-SUM(G10:G19)","v":172},null,"Others",{"$f":"J21-SUM(J10:J19)","v":39},null,"Others",{"$f":"M21-SUM(M10:M19)","v":15},null,"Others",{"$f":"P21-SUM(P10:P19)","v":33},null,"Others",{"$f":"S21-SUM(S10:S19)","v":33},null,"Others",{"$f":"V21-SUM(V10:V19)","v":22},null,"Others",{"$f":"Y21-SUM(Y10:Y19)","v":62},null,"Others",{"$f":"AB21-SUM(AB10:AB19)","v":41},null,"Others",{"$f":"AE21-SUM(AE10:AE19)","v":52},null,"Others",{"$f":"AH21-SUM(AH10:AH19)","v":26}]
[{"$f":"MIN(VLOOKUP(C4,'CCG List'!$A$3:$AH$213,33,0),10)","v":10},"Total",{"$f":"SUMIF('CCG-Prov(Births)'!$A$2:$A$29008,C4,'CCG-Prov(Births)'!$C$2:$C$29008)","v":3989},null,null,"Total",{"$f":"SUMIF('CCG-Prov(Births)'!$G$2:$G$28861,F8,'CCG-Prov(Births)'!$I$2:$I$28861)","v":10697},null,"Total",{"$f":"SUMIF('CCG-Prov(Births)'!$G$2:$G$28861,I8,'CCG-Prov(Births)'!$I$2:$I$28861)","v":7300},null,"Total",{"$f":"SUMIF('CCG-Prov(Births)'!$G$2:$G$28861,L8,'CCG-Prov(Births)'!$I$2:$I$28861)","v":2028},null,"Total",{"$f":"SUMIF('CCG-Prov(Births)'!$G$2:$G$28861,O8,'CCG-Prov(Births)'!$I$2:$I$28861)","v":3613},null,"Total",{"$f":"SUMIF('CCG-Prov(Births)'!$G$2:$G$28861,R8,'CCG-Prov(Births)'!$I$2:$I$28861)","v":4267},null,"Total",{"$f":"SUMIF('CCG-Prov(Births)'!$G$2:$G$28861,U8,'CCG-Prov(Births)'!$I$2:$I$28861)","v":6714},null,"Total",{"$f":"SUMIF('CCG-Prov(Births)'!$G$2:$G$28861,X8,'CCG-Prov(Births)'!$I$2:$I$28861)","v":5859},null,"Total",{"$f":"SUMIF('CCG-Prov(Births)'!$G$2:$G$28861,AA8,'CCG-Prov(Births)'!$I$2:$I$28861)","v":5904},null,"Total",{"$f":"SUMIF('CCG-Prov(Births)'!$G$2:$G$28861,AD8,'CCG-Prov(Births)'!$I$2:$I$28861)","v":4198},null,"Total",{"$f":"SUMIF('CCG-Prov(Births)'!$G$2:$G$28861,AG8,'CCG-Prov(Births)'!$I$2:$I$28861)","v":1803}]
[]
[]
[]
[]
[]
[null,0]
[null,50]
[null,100]
[null,500]
[null,"The first table shows the providers where CCG's a population gave birth. The other tables then show which other CCGs that those providers have treated.\nDeliveries includes all birth events, including still births."]
[]
[]
[]
[null,null,null,null,null,null,null,null,null,null,null,{"$f":"IFERROR(RANK(F35,#REF!),\"\")","v":""},{"$f":"IFERROR(RANK(G35,#REF!),\"\")","v":""},null,{"$f":"IFERROR(RANK(I35,#REF!),\"\")","v":""},{"$f":"IFERROR(RANK(J35,#REF!),\"\")","v":""}]

{"sheet":"Ambulance","index":2,"n_rows":45,"n_cols":34,"rows_kept":45,"cut":false,"hidden":false,"merged":[[0,1,0,2],[1,1,1,2],[2,1,2,2],[5,1,5,2],[40,1,40,6]]}
[]
[null,"Ambulance Services Coverage (people)"]
[null,"Select CCG below"]
[null,"Isle of Wight",{"$f":"OFFSET('CCG List'!$A$2,MATCH(B4,collabrange,0),0)","v":"10L"}]
[]
[null,"Select cutoff for providers to be tabulated (up to 10 will be shown)",null,null,null,{"$f":"COLUMN()","v":6},{"$f":"COLUMN()","v":7},{"$f":"COLUMN()","v":8},{"$f":"COLUMN()","v":9},{"$f":"COLUMN()","v":10},{"$f":"COLUMN()","v":11},{"$f":"COLUMN()","v":12},{"$f":"COLUMN()","v":13},{"$f":"COLUMN()","v":14},{"$f":"COLUMN()","v":15},{"$f":"COLUMN()","v":16},{"$f":"COLUMN()","v":17},{"$f":"COLUMN()","v":18},{"$f":"COLUMN()","v":19},{"$f":"COLUMN()","v":20},{"$f":"COLUMN()","v":21},{"$f":"COLUMN()","v":22},{"$f":"COLUMN()","v":23},{"$f":"COLUMN()","v":24},{"$f":"COLUMN()","v":25},{"$f":"COLUMN()","v":26},{"$f":"COLUMN()","v":27},{"$f":"COLUMN()","v":28},{"$f":"COLUMN()","v":29},{"$f":"COLUMN()","v":30},{"$f":"COLUMN()","v":31},{"$f":"COLUMN()","v":32},{"$f":"COLUMN()","v":33},{"$f":"COLUMN()","v":34}]
[null,1000,"People",null,null,{"$f":"VLOOKUP(F8,'CCG List'!$AC$3:$AE$14,3,0)","v":1},null,null,{"$f":"VLOOKUP(I8,'CCG List'!$AC$3:$AE$14,3,0)","v":{"$error":"#N/A"}},null,null,{"$f":"VLOOKUP(L8,'CCG List'!$AC$3:$AE$14,3,0)","v":{"$error":"#N/A"}},null,null,{"$f":"VLOOKUP(O8,'CCG List'!$AC$3:$AE$14,3,0)","v":{"$error":"#N/A"}},null,null,{"$f":"VLOOKUP(R8,'CCG List'!$AC$3:$AE$14,3,0)","v":{"$error":"#N/A"}},null,null,{"$f":"VLOOKUP(U8,'CCG List'!$AC$3:$AE$14,3,0)","v":{"$error":"#N/A"}},null,null,{"$f":"VLOOKUP(X8,'CCG List'!$AC$3:$AE$14,3,0)","v":{"$error":"#N/A"}},null,null,{"$f":"VLOOKUP(AA8,'CCG List'!$AC$3:$AE$14,3,0)","v":{"$error":"#N/A"}},null,null,{"$f":"VLOOKUP(AD8,'CCG List'!$AC$3:$AE$14,3,0)","v":{"$error":"#N/A"}},null,null,{"$f":"VLOOKUP(AG8,'CCG List'!$AC$3:$AE$14,3,0)","v":{"$error":"#N/A"}}]
[null,null,null,null,null,{"$f":"OFFSET($D$9,F6/3-1,0)","v":"5QT"},null,null,{"$f":"OFFSET($D$9,I6/3-1,0)","v":""},null,null,{"$f":"OFFSET($D$9,L6/3-1,0)","v":""},null,null,{"$f":"OFFSET($D$9,O6/3-1,0)","v":""},null,null,{"$f":"OFFSET($D$9,R6/3-1,0)","v":""},null,null,{"$f":"OFFSET($D$9,U6/3-1,0)","v":""},null,null,{"$f":"OFFSET($D$9,X6/3-1,0)","v":""},null,null,{"$f":"OFFSET($D$9,AA6/3-1,0)","v":""},null,null,{"$f":"OFFSET($D$9,AD6/3-1,0)","v":""},null,null,{"$f":"OFFSET($D$9,AG6/3-1,0)","v":""}]
[null,{"$f":"\"Providers (ordered by number of people) for \"&B4&\" CCG\"","v":"Providers (ordered by number of people) for Isle of Wight CCG"},"Number of People",{"$f":"COUNTIF(C10:C29,\">=\"&B7)","v":1},null,{"$f":"OFFSET($B$9,F6/3-1,0)","v":"Isle of Wight (Ambulance)"},"No. of People",null,{"$f":"OFFSET($B$9,I6/3-1,0)","v":""},"No. of People",null,{"$f":"OFFSET($B$9,L6/3-1,0)","v":""},"No. of People",null,{"$f":"OFFSET($B$9,O6/3-1,0)","v":""},"No. of People",null,{"$f":"OFFSET($B$9,R6/3-1,0)","v":""},"No. of People",null,{"$f":"OFFSET($B$9,U6/3-1,0)","v":""},"No. of People",null,{"$f":"OFFSET($B$9,X6/3-1,0)","v":""},"No. of People",null,{"$f":"OFFSET($B$9,AA6/3-1,0)","v":""},"No. of People",null,{"$f":"OFFSET($B$9,AD6/3-1,0)","v":""},"No. of People",null,{"$f":"OFFSET($B$9,AG6/3-1,0)","v":""},"No. of People"]
[1,{"$f":"VLOOKUP(D10,provnames!$A$334:$B$346,2,0)","v":"Isle of Wight (Ambulance)"},{"$f":"IF(A10<=$A$31,OFFSET('CCG-Prov(Amb)'!$C$1,MATCH(Ambulance!$C$4,'CCG-Prov(Amb)'!$A$2:$A$335,0)+$A10-1,0),\"\")","v":141052},{"$f":"IF(A10<=$A$31,OFFSET('CCG-Prov(Amb)'!$B$1,MATCH(Ambulance!$C$4,'CCG-Prov(Amb)'!$A$2:$A$335,0)+$A10-1,0),\"\")","v":"5QT"},null,{"$f":"IF($A10<=F$7,VLOOKUP(OFFSET('CCG-Prov(Amb)'!$G$1,MATCH(F$8,'CCG-Prov(Amb)'!$F$2:$F$335,0)+$A10-1,0),'CCG List'!$A$3:$B$213,2,0),\"\")","v":"Isle of Wight"},{"$f":"IF($A10<=F$7,OFFSET('CCG-Prov(Amb)'!$H$1,MATCH(F$8,'CCG-Prov(Amb)'!$F$2:$F$335,0)+$A10-1,0),\"\")","v":141052},null,{"$f":"IF($A10<=I$7,VLOOKUP(OFFSET('CCG-Prov(Amb)'!$G$1,MATCH(I$8,'CCG-Prov(Amb)'!$F$2:$F$335,0)+$A10-1,0),'CCG List'!$A$3:$B$213,2,0),\"\")","v":{"$error":"#N/A"}},{"$f":"IF($A10<=I$7,OFFSET('CCG-Prov(Amb)'!$H$1,MATCH(I$8,'CCG-Prov(Amb)'!$F$2:$F$335,0)+$A10-1,0),\"\")","v":{"$error":"#N/A"}},null,{"$f":"IF($A10<=L$7,VLOOKUP(OFFSET('CCG-Prov(Amb)'!$G$1,MATCH(L$8,'CCG-Prov(Amb)'!$F$2:$F$335,0)+$A10-1,0),'CCG List'!$A$3:$B$213,2,0),\"\")","v":{"$error":"#N/A"}},{"$f":"IF($A10<=L$7,OFFSET('CCG-Prov(Amb)'!$H$1,MATCH(L$8,'CCG-Prov(Amb)'!$F$2:$F$335,0)+$A10-1,0),\"\")","v":{"$error":"#N/A"}},null,{"$f":"IF($A10<=O$7,VLOOKUP(OFFSET('CCG-Prov(Amb)'!$G$1,MATCH(O$8,'CCG-Prov(Amb)'!$F$2:$F$335,0)+$A10-1,0),'CCG List'!$A$3:$B$213,2,0),\"\")","v":{"$error":"#N/A"}},{"$f":"IF($A10<=O$7,OFFSET('CCG-Prov(Amb)'!$H$1,MATCH(O$8,'CCG-Prov(Amb)'!$F$2:$F$335,0)+$A10-1,0),\"\")","v":{"$error":"#N/A"}},null,{"$f":"IF($A10<=R$7,VLOOKUP(OFFSET('CCG-Prov(Amb)'!$G$1,MATCH(R$8,'CCG-Prov(Amb)'!$F$2:$F$335,0)+$A10-1,0),'CCG List'!$A$3:$B$213,2,0),\"\")","v":{"$error":"#N/A"}},{"$f":"IF($A10<=R$7,OFFSET('CCG-Prov(Amb)'!$H$1,MATCH(R$8,'CCG-Prov(Amb)'!$F$2:$F$335,0)+$A10-1,0),\"\")","v":{"$error":"#N/A"}},null,{"$f":"IF($A10<=U$7,VLOOKUP(OFFSET('CCG-Prov(Amb)'!$G$1,MATCH(U$8,'CCG-Prov(Amb)'!$F$2:$F$335,0)+$A10-1,0),'CCG List'!$A$3:$B$213,2,0),\"\")","v":{"$error":"#N/A"}},{"$f":"IF($A10<=U$7,OFFSET('CCG-Prov(Amb)'!$H$1,MATCH(U$8,'CCG-Prov(Amb)'!$F$2:$F$335,0)+$A10-1,0),\"\")","v":{"$error":"#N/A"}},null,{"$f":"IF($A10<=X$7,VLOOKUP(OFFSET('CCG-Prov(Amb)'!$G$1,MATCH(X$8,'CCG-Prov(Amb)'!$F$2:$F$335,0)+$A10-1,0),'CCG List'!$A$3:$B$213,2,0),\"\")","v":{"$error":"#N/A"}},{"$f":"IF($A10<=X$7,OFFSET('CCG-Prov(Amb)'!$H$1,MATCH(X$8,'CCG-Prov(Amb)'!$F$2:$F$335,0)+$A10-1,0),\"\")","v":{"$error":"#N/A"}},null,{"$f":"IF($A10<=AA$7,VLOOKUP(OFFSET('CCG-Prov(Amb)'!$G$1,MATCH(AA$8,'CCG-Prov(Amb)'!$F$2:$F$335,0)+$A10-1,0),'CCG List'!$A$3:$B$213,2,0),\"\")","v":{"$error":"#N/A"}},{"$f":"IF($A10<=AA$7,OFFSET('CCG-Prov(Amb)'!$H$1,MATCH(AA$8,'CCG-Prov(Amb)'!$F$2:$F$335,0)+$A10-1,0),\"\")","v":{"$error":"#N/A"}},null,{"$f":"IF($A10<=AD$7,VLOOKUP(OFFSET('CCG-Prov(Amb)'!$G$1,MATCH(AD$8,'CCG-Prov(Amb)'!$F$2:$F$335,0)+$A10-1,0),'CCG List'!$A$3:$B$213,2,0),\"\")","v":{"$error":"#N/A"}},{"$f":"IF($A10<=AD$7,OFFSET('CCG-Prov(Amb)'!$H$1,MATCH(AD$8,'CCG-Prov(Amb)'!$F$2:$F$335,0)+$A10-1,0),\"\")","v":{"$error":"#N/A"}},null,{"$f":"IF($A10<=AG$7,VLOOKUP(OFFSET('CCG-Prov(Amb)'!$G$1,MATCH(AG$8,'CCG-Prov(Amb)'!$F$2:$F$335,0)+$A10-1,0),'CCG List'!$A$3:$B$213,2,0),\"\")","v":{"$error":"#N/A"}},{"$f":"IF($A10<=AG$7,OFFSET('CCG-Prov(Amb)'!$H$1,MATCH(AG$8,'CCG-Prov(Amb)'!$F$2:$F$335,0)+$A10-1,0),\"\")","v":{"$error":"#N/A"}}]
[2,{"$f":"VLOOKUP(D11,provnames!$A$334:$B$346,2,0)","v":""},{"$f":"IF(A11<=$A$31,OFFSET('CCG-Prov(Amb)'!$C$1,MATCH(Ambulance!$C$4,'CCG-Prov(Amb)'!$A$2:$A$335,0)+$A11-1,0),\"\")","v":""},{"$f":"IF(A11<=$A$31,OFFSET('CCG-Prov(Amb)'!$B$1,MATCH(Ambulance!$C$4,'CCG-Prov(Amb)'!$A$2:$A$335,0)+$A11-1,0),\"\")","v":""},null,{"$f":"IF($A11<=F$7,VLOOKUP(OFFSET('CCG-Prov(Amb)'!$G$1,MATCH(F$8,'CCG-Prov(Amb)'!$F$2:$F$335,0)+$A11-1,0),'CCG List'!$A$3:$B$213,2,0),\"\")","v":""},{"$f":"IF($A11<=F$7,OFFSET('CCG-Prov(Amb)'!$H$1,MATCH(F$8,'CCG-Prov(Amb)'!$F$2:$F$335,0)+$A11-1,0),\"\")","v":""},null,{"$f":"IF($A11<=I$7,VLOOKUP(OFFSET('CCG-Prov(Amb)'!$G$1,MATCH(I$8,'CCG-Prov(Amb)'!$F$2:$F$335,0)+$A11-1,0),'CCG List'!$A$3:$B$213,2,0),\"\")","v":{"$error":"#N/A"}},{"$f":"IF($A11<=I$7,OFFSET('CCG-Prov(Amb)'!$H$1,MATCH(I$8,'CCG-Prov(Amb)'!$F$2:$F$335,0)+$A11-1,0),\"\")","v":{"$error":"#N/A"}},null,{"$f":"IF($A11<=L$7,VLOOKUP(OFFSET('CCG-Prov(Amb)'!$G$1,MATCH(L$8,'CCG-Prov(Amb)'!$F$2:$F$335,0)+$A11-1,0),'CCG List'!$A$3:$B$213,2,0),\"\")","v":{"$error":"#N/A"}},{"$f":"IF($A11<=L$7,OFFSET('CCG-Prov(Amb)'!$H$1,MATCH(L$8,'CCG-Prov(Amb)'!$F$2:$F$335,0)+$A11-1,0),\"\")","v":{"$error":"#N/A"}},null,{"$f":"IF($A11<=O$7,VLOOKUP(OFFSET('CCG-Prov(Amb)'!$G$1,MATCH(O$8,'CCG-Prov(Amb)'!$F$2:$F$335,0)+$A11-1,0),'CCG List'!$A$3:$B$213,2,0),\"\")","v":{"$error":"#N/A"}},{"$f":"IF($A11<=O$7,OFFSET('CCG-Prov(Amb)'!$H$1,MATCH(O$8,'CCG-Prov(Amb)'!$F$2:$F$335,0)+$A11-1,0),\"\")","v":{"$error":"#N/A"}},null,{"$f":"IF($A11<=R$7,VLOOKUP(OFFSET('CCG-Prov(Amb)'!$G$1,MATCH(R$8,'CCG-Prov(Amb)'!$F$2:$F$335,0)+$A11-1,0),'CCG List'!$A$3:$B$213,2,0),\"\")","v":{"$error":"#N/A"}},{"$f":"IF($A11<=R$7,OFFSET('CCG-Prov(Amb)'!$H$1,MATCH(R$8,'CCG-Prov(Amb)'!$F$2:$F$335,0)+$A11-1,0),\"\")","v":{"$error":"#N/A"}},null,{"$f":"IF($A11<=U$7,VLOOKUP(OFFSET('CCG-Prov(Amb)'!$G$1,MATCH(U$8,'CCG-Prov(Amb)'!$F$2:$F$335,0)+$A11-1,0),'CCG List'!$A$3:$B$213,2,0),\"\")","v":{"$error":"#N/A"}},{"$f":"IF($A11<=U$7,OFFSET('CCG-Prov(Amb)'!$H$1,MATCH(U$8,'CCG-Prov(Amb)'!$F$2:$F$335,0)+$A11-1,0),\"\")","v":{"$error":"#N/A"}},null,{"$f":"IF($A11<=X$7,VLOOKUP(OFFSET('CCG-Prov(Amb)'!$G$1,MATCH(X$8,'CCG-Prov(Amb)'!$F$2:$F$335,0)+$A11-1,0),'CCG List'!$A$3:$B$213,2,0),\"\")","v":{"$error":"#N/A"}},{"$f":"IF($A11<=X$7,OFFSET('CCG-Prov(Amb)'!$H$1,MATCH(X$8,'CCG-Prov(Amb)'!$F$2:$F$335,0)+$A11-1,0),\"\")","v":{"$error":"#N/A"}},null,{"$f":"IF($A11<=AA$7,VLOOKUP(OFFSET('CCG-Prov(Amb)'!$G$1,MATCH(AA$8,'CCG-Prov(Amb)'!$F$2:$F$335,0)+$A11-1,0),'CCG List'!$A$3:$B$213,2,0),\"\")","v":{"$error":"#N/A"}},{"$f":"IF($A11<=AA$7,OFFSET('CCG-Prov(Amb)'!$H$1,MATCH(AA$8,'CCG-Prov(Amb)'!$F$2:$F$335,0)+$A11-1,0),\"\")","v":{"$error":"#N/A"}},null,{"$f":"IF($A11<=AD$7,VLOOKUP(OFFSET('CCG-Prov(Amb)'!$G$1,MATCH(AD$8,'CCG-Prov(Amb)'!$F$2:$F$335,0)+$A11-1,0),'CCG List'!$A$3:$B$213,2,0),\"\")","v":{"$error":"#N/A"}},{"$f":"IF($A11<=AD$7,OFFSET('CCG-Prov(Amb)'!$H$1,MATCH(AD$8,'CCG-Prov(Amb)'!$F$2:$F$335,0)+$A11-1,0),\"\")","v":{"$error":"#N/A"}},null,{"$f":"IF($A11<=AG$7,VLOOKUP(OFFSET('CCG-Prov(Amb)'!$G$1,MATCH(AG$8,'CCG-Prov(Amb)'!$F$2:$F$335,0)+$A11-1,0),'CCG List'!$A$3:$B$213,2,0),\"\")","v":{"$error":"#N/A"}},{"$f":"IF($A11<=AG$7,OFFSET('CCG-Prov(Amb)'!$H$1,MATCH(AG$8,'CCG-Prov(Amb)'!$F$2:$F$335,0)+$A11-1,0),\"\")","v":{"$error":"#N/A"}}]
[3,{"$f":"VLOOKUP(D12,provnames!$A$334:$B$346,2,0)","v":""},{"$f":"IF(A12<=$A$31,OFFSET('CCG-Prov(Amb)'!$C$1,MATCH(Ambulance!$C$4,'CCG-Prov(Amb)'!$A$2:$A$335,0)+$A12-1,0),\"\")","v":""},{"$f":"IF(A12<=$A$31,OFFSET('CCG-Prov(Amb)'!$B$1,MATCH(Ambulance!$C$4,'CCG-Prov(Amb)'!$A$2:$A$335,0)+$A12-1,0),\"\")","v":""},null,{"$f":"IF($A12<=F$7,VLOOKUP(OFFSET('CCG-Prov(Amb)'!$G$1,MATCH(F$8,'CCG-Prov(Amb)'!$F$2:$F$335,0)+$A12-1,0),'CCG List'!$A$3:$B$213,2,0),\"\")","v":""},{"$f":"IF($A12<=F$7,OFFSET('CCG-Prov(Amb)'!$H$1,MATCH(F$8,'CCG-Prov(Amb)'!$F$2:$F$335,0)+$A12-1,0),\"\")","v":""},null,{"$f":"IF($A12<=I$7,VLOOKUP(OFFSET('CCG-Prov(Amb)'!$G$1,MATCH(I$8,'CCG-Prov(Amb)'!$F$2:$F$335,0)+$A12-1,0),'CCG List'!$A$3:$B$213,2,0),\"\")","v":{"$error":"#N/A"}},{"$f":"IF($A12<=I$7,OFFSET('CCG-Prov(Amb)'!$H$1,MATCH(I$8,'CCG-Prov(Amb)'!$F$2:$F$335,0)+$A12-1,0),\"\")","v":{"$error":"#N/A"}},null,{"$f":"IF($A12<=L$7,VLOOKUP(OFFSET('CCG-Prov(Amb)'!$G$1,MATCH(L$8,'CCG-Prov(Amb)'!$F$2:$F$335,0)+$A12-1,0),'CCG List'!$A$3:$B$213,2,0),\"\")","v":{"$error":"#N/A"}},{"$f":"IF($A12<=L$7,OFFSET('CCG-Prov(Amb)'!$H$1,MATCH(L$8,'CCG-Prov(Amb)'!$F$2:$F$335,0)+$A12-1,0),\"\")","v":{"$error":"#N/A"}},null,{"$f":"IF($A12<=O$7,VLOOKUP(OFFSET('CCG-Prov(Amb)'!$G$1,MATCH(O$8,'CCG-Prov(Amb)'!$F$2:$F$335,0)+$A12-1,0),'CCG List'!$A$3:$B$213,2,0),\"\")","v":{"$error":"#N/A"}},{"$f":"IF($A12<=O$7,OFFSET('CCG-Prov(Amb)'!$H$1,MATCH(O$8,'CCG-Prov(Amb)'!$F$2:$F$335,0)+$A12-1,0),\"\")","v":{"$error":"#N/A"}},null,{"$f":"IF($A12<=R$7,VLOOKUP(OFFSET('CCG-Prov(Amb)'!$G$1,MATCH(R$8,'CCG-Prov(Amb)'!$F$2:$F$335,0)+$A12-1,0),'CCG List'!$A$3:$B$213,2,0),\"\")","v":{"$error":"#N/A"}},{"$f":"IF($A12<=R$7,OFFSET('CCG-Prov(Amb)'!$H$1,MATCH(R$8,'CCG-Prov(Amb)'!$F$2:$F$335,0)+$A12-1,0),\"\")","v":{"$error":"#N/A"}},null,{"$f":"IF($A12<=U$7,VLOOKUP(OFFSET('CCG-Prov(Amb)'!$G$1,MATCH(U$8,'CCG-Prov(Amb)'!$F$2:$F$335,0)+$A12-1,0),'CCG List'!$A$3:$B$213,2,0),\"\")","v":{"$error":"#N/A"}},{"$f":"IF($A12<=U$7,OFFSET('CCG-Prov(Amb)'!$H$1,MATCH(U$8,'CCG-Prov(Amb)'!$F$2:$F$335,0)+$A12-1,0),\"\")","v":{"$error":"#N/A"}},null,{"$f":"IF($A12<=X$7,VLOOKUP(OFFSET('CCG-Prov(Amb)'!$G$1,MATCH(X$8,'CCG-Prov(Amb)'!$F$2:$F$335,0)+$A12-1,0),'CCG List'!$A$3:$B$213,2,0),\"\")","v":{"$error":"#N/A"}},{"$f":"IF($A12<=X$7,OFFSET('CCG-Prov(Amb)'!$H$1,MATCH(X$8,'CCG-Prov(Amb)'!$F$2:$F$335,0)+$A12-1,0),\"\")","v":{"$error":"#N/A"}},null,{"$f":"IF($A12<=AA$7,VLOOKUP(OFFSET('CCG-Prov(Amb)'!$G$1,MATCH(AA$8,'CCG-Prov(Amb)'!$F$2:$F$335,0)+$A12-1,0),'CCG List'!$A$3:$B$213,2,0),\"\")","v":{"$error":"#N/A"}},{"$f":"IF($A12<=AA$7,OFFSET('CCG-Prov(Amb)'!$H$1,MATCH(AA$8,'CCG-Prov(Amb)'!$F$2:$F$335,0)+$A12-1,0),\"\")","v":{"$error":"#N/A"}},null,{"$f":"IF($A12<=AD$7,VLOOKUP(OFFSET('CCG-Prov(Amb)'!$G$1,MATCH(AD$8,'CCG-Prov(Amb)'!$F$2:$F$335,0)+$A12-1,0),'CCG List'!$A$3:$B$213,2,0),\"\")","v":{"$error":"#N/A"}},{"$f":"IF($A12<=AD$7,OFFSET('CCG-Prov(Amb)'!$H$1,MATCH(AD$8,'CCG-Prov(Amb)'!$F$2:$F$335,0)+$A12-1,0),\"\")","v":{"$error":"#N/A"}},null,{"$f":"IF($A12<=AG$7,VLOOKUP(OFFSET('CCG-Prov(Amb)'!$G$1,MATCH(AG$8,'CCG-Prov(Amb)'!$F$2:$F$335,0)+$A12-1,0),'CCG List'!$A$3:$B$213,2,0),\"\")","v":{"$error":"#N/A"}},{"$f":"IF($A12<=AG$7,OFFSET('CCG-Prov(Amb)'!$H$1,MATCH(AG$8,'CCG-Prov(Amb)'!$F$2:$F$335,0)+$A12-1,0),\"\")","v":{"$error":"#N/A"}}]
[4,{"$f":"VLOOKUP(D13,provnames!$A$334:$B$346,2,0)","v":""},{"$f":"IF(A13<=$A$31,OFFSET('CCG-Prov(Amb)'!$C$1,MATCH(Ambulance!$C$4,'CCG-Prov(Amb)'!$A$2:$A$335,0)+$A13-1,0),\"\")","v":""},{"$f":"IF(A13<=$A$31,OFFSET('CCG-Prov(Amb)'!$B$1,MATCH(Ambulance!$C$4,'CCG-Prov(Amb)'!$A$2:$A$335,0)+$A13-1,0),\"\")","v":""},null,{"$f":"IF($A13<=F$7,VLOOKUP(OFFSET('CCG-Prov(Amb)'!$G$1,MATCH(F$8,'CCG-Prov(Amb)'!$F$2:$F$335,0)+$A13-1,0),'CCG List'!$A$3:$B$213,2,0),\"\")","v":""},{"$f":"IF($A13<=F$7,OFFSET('CCG-Prov(Amb)'!$H$1,MATCH(F$8,'CCG-Prov(Amb)'!$F$2:$F$335,0)+$A13-1,0),\"\")","v":""},null,{"$f":"IF($A13<=I$7,VLOOKUP(OFFSET('CCG-Prov(Amb)'!$G$1,MATCH(I$8,'CCG-Prov(Amb)'!$F$2:$F$335,0)+$A13-1,0),'CCG List'!$A$3:$B$213,2,0),\"\")","v":{"$error":"#N/A"}},{"$f":"IF($A13<=I$7,OFFSET('CCG-Prov(Amb)'!$H$1,MATCH(I$8,'CCG-Prov(Amb)'!$F$2:$F$335,0)+$A13-1,0),\"\")","v":{"$error":"#N/A"}},null,{"$f":"IF($A13<=L$7,VLOOKUP(OFFSET('CCG-Prov(Amb)'!$G$1,MATCH(L$8,'CCG-Prov(Amb)'!$F$2:$F$335,0)+$A13-1,0),'CCG List'!$A$3:$B$213,2,0),\"\")","v":{"$error":"#N/A"}},{"$f":"IF($A13<=L$7,OFFSET('CCG-Prov(Amb)'!$H$1,MATCH(L$8,'CCG-Prov(Amb)'!$F$2:$F$335,0)+$A13-1,0),\"\")","v":{"$error":"#N/A"}},null,{"$f":"IF($A13<=O$7,VLOOKUP(OFFSET('CCG-Prov(Amb)'!$G$1,MATCH(O$8,'CCG-Prov(Amb)'!$F$2:$F$335,0)+$A13-1,0),'CCG List'!$A$3:$B$213,2,0),\"\")","v":{"$error":"#N/A"}},{"$f":"IF($A13<=O$7,OFFSET('CCG-Prov(Amb)'!$H$1,MATCH(O$8,'CCG-Prov(Amb)'!$F$2:$F$335,0)+$A13-1,0),\"\")","v":{"$error":"#N/A"}},null,{"$f":"IF($A13<=R$7,VLOOKUP(OFFSET('CCG-Prov(Amb)'!$G$1,MATCH(R$8,'CCG-Prov(Amb)'!$F$2:$F$335,0)+$A13-1,0),'CCG List'!$A$3:$B$213,2,0),\"\")","v":{"$error":"#N/A"}},{"$f":"IF($A13<=R$7,OFFSET('CCG-Prov(Amb)'!$H$1,MATCH(R$8,'CCG-Prov(Amb)'!$F$2:$F$335,0)+$A13-1,0),\"\")","v":{"$error":"#N/A"}},null,{"$f":"IF($A13<=U$7,VLOOKUP(OFFSET('CCG-Prov(Amb)'!$G$1,MATCH(U$8,'CCG-Prov(Amb)'!$F$2:$F$335,0)+$A13-1,0),'CCG List'!$A$3:$B$213,2,0),\"\")","v":{"$error":"#N/A"}},{"$f":"IF($A13<=U$7,OFFSET('CCG-Prov(Amb)'!$H$1,MATCH(U$8,'CCG-Prov(Amb)'!$F$2:$F$335,0)+$A13-1,0),\"\")","v":{"$error":"#N/A"}},null,{"$f":"IF($A13<=X$7,VLOOKUP(OFFSET('CCG-Prov(Amb)'!$G$1,MATCH(X$8,'CCG-Prov(Amb)'!$F$2:$F$335,0)+$A13-1,0),'CCG List'!$A$3:$B$213,2,0),\"\")","v":{"$error":"#N/A"}},{"$f":"IF($A13<=X$7,OFFSET('CCG-Prov(Amb)'!$H$1,MATCH(X$8,'CCG-Prov(Amb)'!$F$2:$F$335,0)+$A13-1,0),\"\")","v":{"$error":"#N/A"}},null,{"$f":"IF($A13<=AA$7,VLOOKUP(OFFSET('CCG-Prov(Amb)'!$G$1,MATCH(AA$8,'CCG-Prov(Amb)'!$F$2:$F$335,0)+$A13-1,0),'CCG List'!$A$3:$B$213,2,0),\"\")","v":{"$error":"#N/A"}},{"$f":"IF($A13<=AA$7,OFFSET('CCG-Prov(Amb)'!$H$1,MATCH(AA$8,'CCG-Prov(Amb)'!$F$2:$F$335,0)+$A13-1,0),\"\")","v":{"$error":"#N/A"}},null,{"$f":"IF($A13<=AD$7,VLOOKUP(OFFSET('CCG-Prov(Amb)'!$G$1,MATCH(AD$8,'CCG-Prov(Amb)'!$F$2:$F$335,0)+$A13-1,0),'CCG List'!$A$3:$B$213,2,0),\"\")","v":{"$error":"#N/A"}},{"$f":"IF($A13<=AD$7,OFFSET('CCG-Prov(Amb)'!$H$1,MATCH(AD$8,'CCG-Prov(Amb)'!$F$2:$F$335,0)+$A13-1,0),\"\")","v":{"$error":"#N/A"}},null,{"$f":"IF($A13<=AG$7,VLOOKUP(OFFSET('CCG-Prov(Amb)'!$G$1,MATCH(AG$8,'CCG-Prov(Amb)'!$F$2:$F$335,0)+$A13-1,0),'CCG List'!$A$3:$B$213,2,0),\"\")","v":{"$error":"#N/A"}},{"$f":"IF($A13<=AG$7,OFFSET('CCG-Prov(Amb)'!$H$1,MATCH(AG$8,'CCG-Prov(Amb)'!$F$2:$F$335,0)+$A13-1,0),\"\")","v":{"$error":"#N/A"}}]
[5,{"$f":"VLOOKUP(D14,provnames!$A$334:$B$346,2,0)","v":""},{"$f":"IF(A14<=$A$31,OFFSET('CCG-Prov(Amb)'!$C$1,MATCH(Ambulance!$C$4,'CCG-Prov(Amb)'!$A$2:$A$335,0)+$A14-1,0),\"\")","v":""},{"$f":"IF(A14<=$A$31,OFFSET('CCG-Prov(Amb)'!$B$1,MATCH(Ambulance!$C$4,'CCG-Prov(Amb)'!$A$2:$A$335,0)+$A14-1,0),\"\")","v":""},null,{"$f":"IF($A14<=F$7,VLOOKUP(OFFSET('CCG-Prov(Amb)'!$G$1,MATCH(F$8,'CCG-Prov(Amb)'!$F$2:$F$335,0)+$A14-1,0),'CCG List'!$A$3:$B$213,2,0),\"\")","v":""},{"$f":"IF($A14<=F$7,OFFSET('CCG-Prov(Amb)'!$H$1,MATCH(F$8,'CCG-Prov(Amb)'!$F$2:$F$335,0)+$A14-1,0),\"\")","v":""},null,{"$f":"IF($A14<=I$7,VLOOKUP(OFFSET('CCG-Prov(Amb)'!$G$1,MATCH(I$8,'CCG-Prov(Amb)'!$F$2:$F$335,0)+$A14-1,0),'CCG List'!$A$3:$B$213,2,0),\"\")","v":{"$error":"#N/A"}},{"$f":"IF($A14<=I$7,OFFSET('CCG-Prov(Amb)'!$H$1,MATCH(I$8,'CCG-Prov(Amb)'!$F$2:$F$335,0)+$A14-1,0),\"\")","v":{"$error":"#N/A"}},null,{"$f":"IF($A14<=L$7,VLOOKUP(OFFSET('CCG-Prov(Amb)'!$G$1,MATCH(L$8,'CCG-Prov(Amb)'!$F$2:$F$335,0)+$A14-1,0),'CCG List'!$A$3:$B$213,2,0),\"\")","v":{"$error":"#N/A"}},{"$f":"IF($A14<=L$7,OFFSET('CCG-Prov(Amb)'!$H$1,MATCH(L$8,'CCG-Prov(Amb)'!$F$2:$F$335,0)+$A14-1,0),\"\")","v":{"$error":"#N/A"}},null,{"$f":"IF($A14<=O$7,VLOOKUP(OFFSET('CCG-Prov(Amb)'!$G$1,MATCH(O$8,'CCG-Prov(Amb)'!$F$2:$F$335,0)+$A14-1,0),'CCG List'!$A$3:$B$213,2,0),\"\")","v":{"$error":"#N/A"}},{"$f":"IF($A14<=O$7,OFFSET('CCG-Prov(Amb)'!$H$1,MATCH(O$8,'CCG-Prov(Amb)'!$F$2:$F$335,0)+$A14-1,0),\"\")","v":{"$error":"#N/A"}},null,{"$f":"IF($A14<=R$7,VLOOKUP(OFFSET('CCG-Prov(Amb)'!$G$1,MATCH(R$8,'CCG-Prov(Amb)'!$F$2:$F$335,0)+$A14-1,0),'CCG List'!$A$3:$B$213,2,0),\"\")","v":{"$error":"#N/A"}},{"$f":"IF($A14<=R$7,OFFSET('CCG-Prov(Amb)'!$H$1,MATCH(R$8,'CCG-Prov(Amb)'!$F$2:$F$335,0)+$A14-1,0),\"\")","v":{"$error":"#N/A"}},null,{"$f":"IF($A14<=U$7,VLOOKUP(OFFSET('CCG-Prov(Amb)'!$G$1,MATCH(U$8,'CCG-Prov(Amb)'!$F$2:$F$335,0)+$A14-1,0),'CCG List'!$A$3:$B$213,2,0),\"\")","v":{"$error":"#N/A"}},{"$f":"IF($A14<=U$7,OFFSET('CCG-Prov(Amb)'!$H$1,MATCH(U$8,'CCG-Prov(Amb)'!$F$2:$F$335,0)+$A14-1,0),\"\")","v":{"$error":"#N/A"}},null,{"$f":"IF($A14<=X$7,VLOOKUP(OFFSET('CCG-Prov(Amb)'!$G$1,MATCH(X$8,'CCG-Prov(Amb)'!$F$2:$F$335,0)+$A14-1,0),'CCG List'!$A$3:$B$213,2,0),\"\")","v":{"$error":"#N/A"}},{"$f":"IF($A14<=X$7,OFFSET('CCG-Prov(Amb)'!$H$1,MATCH(X$8,'CCG-Prov(Amb)'!$F$2:$F$335,0)+$A14-1,0),\"\")","v":{"$error":"#N/A"}},null,{"$f":"IF($A14<=AA$7,VLOOKUP(OFFSET('CCG-Prov(Amb)'!$G$1,MATCH(AA$8,'CCG-Prov(Amb)'!$F$2:$F$335,0)+$A14-1,0),'CCG List'!$A$3:$B$213,2,0),\"\")","v":{"$error":"#N/A"}},{"$f":"IF($A14<=AA$7,OFFSET('CCG-Prov(Amb)'!$H$1,MATCH(AA$8,'CCG-Prov(Amb)'!$F$2:$F$335,0)+$A14-1,0),\"\")","v":{"$error":"#N/A"}},null,{"$f":"IF($A14<=AD$7,VLOOKUP(OFFSET('CCG-Prov(Amb)'!$G$1,MATCH(AD$8,'CCG-Prov(Amb)'!$F$2:$F$335,0)+$A14-1,0),'CCG List'!$A$3:$B$213,2,0),\"\")","v":{"$error":"#N/A"}},{"$f":"IF($A14<=AD$7,OFFSET('CCG-Prov(Amb)'!$H$1,MATCH(AD$8,'CCG-Prov(Amb)'!$F$2:$F$335,0)+$A14-1,0),\"\")","v":{"$error":"#N/A"}},null,{"$f":"IF($A14<=AG$7,VLOOKUP(OFFSET('CCG-Prov(Amb)'!$G$1,MATCH(AG$8,'CCG-Prov(Amb)'!$F$2:$F$335,0)+$A14-1,0),'CCG List'!$A$3:$B$213,2,0),\"\")","v":{"$error":"#N/A"}},{"$f":"IF($A14<=AG$7,OFFSET('CCG-Prov(Amb)'!$H$1,MATCH(AG$8,'CCG-Prov(Amb)'!$F$2:$F$335,0)+$A14-1,0),\"\")","v":{"$error":"#N/A"}}]
[6,{"$f":"VLOOKUP(D15,provnames!$A$334:$B$346,2,0)","v":""},{"$f":"IF(A15<=$A$31,OFFSET('CCG-Prov(Amb)'!$C$1,MATCH(Ambulance!$C$4,'CCG-Prov(Amb)'!$A$2:$A$335,0)+$A15-1,0),\"\")","v":""},{"$f":"IF(A15<=$A$31,OFFSET('CCG-Prov(Amb)'!$B$1,MATCH(Ambulance!$C$4,'CCG-Prov(Amb)'!$A$2:$A$335,0)+$A15-1,0),\"\")","v":""},null,{"$f":"IF($A15<=F$7,VLOOKUP(OFFSET('CCG-Prov(Amb)'!$G$1,MATCH(F$8,'CCG-Prov(Amb)'!$F$2:$F$335,0)+$A15-1,0),'CCG List'!$A$3:$B$213,2,0),\"\")","v":""},{"$f":"IF($A15<=F$7,OFFSET('CCG-Prov(Amb)'!$H$1,MATCH(F$8,'CCG-Prov(Amb)'!$F$2:$F$335,0)+$A15-1,0),\"\")","v":""},null,{"$f":"IF($A15<=I$7,VLOOKUP(OFFSET('CCG-Prov(Amb)'!$G$1,MATCH(I$8,'CCG-Prov(Amb)'!$F$2:$F$335,0)+$A15-1,0),'CCG List'!$A$3:$B$213,2,0),\"\")","v":{"$error":"#N/A"}},{"$f":"IF($A15<=I$7,OFFSET('CCG-Prov(Amb)'!$H$1,MATCH(I$8,'CCG-Prov(Amb)'!$F$2:$F$335,0)+$A15-1,0),\"\")","v":{"$error":"#N/A"}},null,{"$f":"IF($A15<=L$7,VLOOKUP(OFFSET('CCG-Prov(Amb)'!$G$1,MATCH(L$8,'CCG-Prov(Amb)'!$F$2:$F$335,0)+$A15-1,0),'CCG List'!$A$3:$B$213,2,0),\"\")","v":{"$error":"#N/A"}},{"$f":"IF($A15<=L$7,OFFSET('CCG-Prov(Amb)'!$H$1,MATCH(L$8,'CCG-Prov(Amb)'!$F$2:$F$335,0)+$A15-1,0),\"\")","v":{"$error":"#N/A"}},null,{"$f":"IF($A15<=O$7,VLOOKUP(OFFSET('CCG-Prov(Amb)'!$G$1,MATCH(O$8,'CCG-Prov(Amb)'!$F$2:$F$335,0)+$A15-1,0),'CCG List'!$A$3:$B$213,2,0),\"\")","v":{"$error":"#N/A"}},{"$f":"IF($A15<=O$7,OFFSET('CCG-Prov(Amb)'!$H$1,MATCH(O$8,'CCG-Prov(Amb)'!$F$2:$F$335,0)+$A15-1,0),\"\")","v":{"$error":"#N/A"}},null,{"$f":"IF($A15<=R$7,VLOOKUP(OFFSET('CCG-Prov(Amb)'!$G$1,MATCH(R$8,'CCG-Prov(Amb)'!$F$2:$F$335,0)+$A15-1,0),'CCG List'!$A$3:$B$213,2,0),\"\")","v":{"$error":"#N/A"}},{"$f":"IF($A15<=R$7,OFFSET('CCG-Prov(Amb)'!$H$1,MATCH(R$8,'CCG-Prov(Amb)'!$F$2:$F$335,0)+$A15-1,0),\"\")","v":{"$error":"#N/A"}},null,{"$f":"IF($A15<=U$7,VLOOKUP(OFFSET('CCG-Prov(Amb)'!$G$1,MATCH(U$8,'CCG-Prov(Amb)'!$F$2:$F$335,0)+$A15-1,0),'CCG List'!$A$3:$B$213,2,0),\"\")","v":{"$error":"#N/A"}},{"$f":"IF($A15<=U$7,OFFSET('CCG-Prov(Amb)'!$H$1,MATCH(U$8,'CCG-Prov(Amb)'!$F$2:$F$335,0)+$A15-1,0),\"\")","v":{"$error":"#N/A"}},null,{"$f":"IF($A15<=X$7,VLOOKUP(OFFSET('CCG-Prov(Amb)'!$G$1,MATCH(X$8,'CCG-Prov(Amb)'!$F$2:$F$335,0)+$A15-1,0),'CCG List'!$A$3:$B$213,2,0),\"\")","v":{"$error":"#N/A"}},{"$f":"IF($A15<=X$7,OFFSET('CCG-Prov(Amb)'!$H$1,MATCH(X$8,'CCG-Prov(Amb)'!$F$2:$F$335,0)+$A15-1,0),\"\")","v":{"$error":"#N/A"}},null,{"$f":"IF($A15<=AA$7,VLOOKUP(OFFSET('CCG-Prov(Amb)'!$G$1,MATCH(AA$8,'CCG-Prov(Amb)'!$F$2:$F$335,0)+$A15-1,0),'CCG List'!$A$3:$B$213,2,0),\"\")","v":{"$error":"#N/A"}},{"$f":"IF($A15<=AA$7,OFFSET('CCG-Prov(Amb)'!$H$1,MATCH(AA$8,'CCG-Prov(Amb)'!$F$2:$F$335,0)+$A15-1,0),\"\")","v":{"$error":"#N/A"}},null,{"$f":"IF($A15<=AD$7,VLOOKUP(OFFSET('CCG-Prov(Amb)'!$G$1,MATCH(AD$8,'CCG-Prov(Amb)'!$F$2:$F$335,0)+$A15-1,0),'CCG List'!$A$3:$B$213,2,0),\"\")","v":{"$error":"#N/A"}},{"$f":"IF($A15<=AD$7,OFFSET('CCG-Prov(Amb)'!$H$1,MATCH(AD$8,'CCG-Prov(Amb)'!$F$2:$F$335,0)+$A15-1,0),\"\")","v":{"$error":"#N/A"}},null,{"$f":"IF($A15<=AG$7,VLOOKUP(OFFSET('CCG-Prov(Amb)'!$G$1,MATCH(AG$8,'CCG-Prov(Amb)'!$F$2:$F$335,0)+$A15-1,0),'CCG List'!$A$3:$B$213,2,0),\"\")","v":{"$error":"#N/A"}},{"$f":"IF($A15<=AG$7,OFFSET('CCG-Prov(Amb)'!$H$1,MATCH(AG$8,'CCG-Prov(Amb)'!$F$2:$F$335,0)+$A15-1,0),\"\")","v":{"$error":"#N/A"}}]
[7,{"$f":"VLOOKUP(D16,provnames!$A$334:$B$346,2,0)","v":""},{"$f":"IF(A16<=$A$31,OFFSET('CCG-Prov(Amb)'!$C$1,MATCH(Ambulance!$C$4,'CCG-Prov(Amb)'!$A$2:$A$335,0)+$A16-1,0),\"\")","v":""},{"$f":"IF(A16<=$A$31,OFFSET('CCG-Prov(Amb)'!$B$1,MATCH(Ambulance!$C$4,'CCG-Prov(Amb)'!$A$2:$A$335,0)+$A16-1,0),\"\")","v":""},null,{"$f":"IF($A16<=F$7,VLOOKUP(OFFSET('CCG-Prov(Amb)'!$G$1,MATCH(F$8,'CCG-Prov(Amb)'!$F$2:$F$335,0)+$A16-1,0),'CCG List'!$A$3:$B$213,2,0),\"\")","v":""},{"$f":"IF($A16<=F$7,OFFSET('CCG-Prov(Amb)'!$H$1,MATCH(F$8,'CCG-Prov(Amb)'!$F$2:$F$335,0)+$A16-1,0),\"\")","v":""},null,{"$f":"IF($A16<=I$7,VLOOKUP(OFFSET('CCG-Prov(Amb)'!$G$1,MATCH(I$8,'CCG-Prov(Amb)'!$F$2:$F$335,0)+$A16-1,0),'CCG List'!$A$3:$B$213,2,0),\"\")","v":{"$error":"#N/A"}},{"$f":"IF($A16<=I$7,OFFSET('CCG-Prov(Amb)'!$H$1,MATCH(I$8,'CCG-Prov(Amb)'!$F$2:$F$335,0)+$A16-1,0),\"\")","v":{"$error":"#N/A"}},null,{"$f":"IF($A16<=L$7,VLOOKUP(OFFSET('CCG-Prov(Amb)'!$G$1,MATCH(L$8,'CCG-Prov(Amb)'!$F$2:$F$335,0)+$A16-1,0),'CCG List'!$A$3:$B$213,2,0),\"\")","v":{"$error":"#N/A"}},{"$f":"IF($A16<=L$7,OFFSET('CCG-Prov(Amb)'!$H$1,MATCH(L$8,'CCG-Prov(Amb)'!$F$2:$F$335,0)+$A16-1,0),\"\")","v":{"$error":"#N/A"}},null,{"$f":"IF($A16<=O$7,VLOOKUP(OFFSET('CCG-Prov(Amb)'!$G$1,MATCH(O$8,'CCG-Prov(Amb)'!$F$2:$F$335,0)+$A16-1,0),'CCG List'!$A$3:$B$213,2,0),\"\")","v":{"$error":"#N/A"}},{"$f":"IF($A16<=O$7,OFFSET('CCG-Prov(Amb)'!$H$1,MATCH(O$8,'CCG-Prov(Amb)'!$F$2:$F$335,0)+$A16-1,0),\"\")","v":{"$error":"#N/A"}},null,{"$f":"IF($A16<=R$7,VLOOKUP(OFFSET('CCG-Prov(Amb)'!$G$1,MATCH(R$8,'CCG-Prov(Amb)'!$F$2:$F$335,0)+$A16-1,0),'CCG List'!$A$3:$B$213,2,0),\"\")","v":{"$error":"#N/A"}},{"$f":"IF($A16<=R$7,OFFSET('CCG-Prov(Amb)'!$H$1,MATCH(R$8,'CCG-Prov(Amb)'!$F$2:$F$335,0)+$A16-1,0),\"\")","v":{"$error":"#N/A"}},null,{"$f":"IF($A16<=U$7,VLOOKUP(OFFSET('CCG-Prov(Amb)'!$G$1,MATCH(U$8,'CCG-Prov(Amb)'!$F$2:$F$335,0)+$A16-1,0),'CCG List'!$A$3:$B$213,2,0),\"\")","v":{"$error":"#N/A"}},{"$f":"IF($A16<=U$7,OFFSET('CCG-Prov(Amb)'!$H$1,MATCH(U$8,'CCG-Prov(Amb)'!$F$2:$F$335,0)+$A16-1,0),\"\")","v":{"$error":"#N/A"}},null,{"$f":"IF($A16<=X$7,VLOOKUP(OFFSET('CCG-Prov(Amb)'!$G$1,MATCH(X$8,'CCG-Prov(Amb)'!$F$2:$F$335,0)+$A16-1,0),'CCG List'!$A$3:$B$213,2,0),\"\")","v":{"$error":"#N/A"}},{"$f":"IF($A16<=X$7,OFFSET('CCG-Prov(Amb)'!$H$1,MATCH(X$8,'CCG-Prov(Amb)'!$F$2:$F$335,0)+$A16-1,0),\"\")","v":{"$error":"#N/A"}},null,{"$f":"IF($A16<=AA$7,VLOOKUP(OFFSET('CCG-Prov(Amb)'!$G$1,MATCH(AA$8,'CCG-Prov(Amb)'!$F$2:$F$335,0)+$A16-1,0),'CCG List'!$A$3:$B$213,2,0),\"\")","v":{"$error":"#N/A"}},{"$f":"IF($A16<=AA$7,OFFSET('CCG-Prov(Amb)'!$H$1,MATCH(AA$8,'CCG-Prov(Amb)'!$F$2:$F$335,0)+$A16-1,0),\"\")","v":{"$error":"#N/A"}},null,{"$f":"IF($A16<=AD$7,VLOOKUP(OFFSET('CCG-Prov(Amb)'!$G$1,MATCH(AD$8,'CCG-Prov(Amb)'!$F$2:$F$335,0)+$A16-1,0),'CCG List'!$A$3:$B$213,2,0),\"\")","v":{"$error":"#N/A"}},{"$f":"IF($A16<=AD$7,OFFSET('CCG-Prov(Amb)'!$H$1,MATCH(AD$8,'CCG-Prov(Amb)'!$F$2:$F$335,0)+$A16-1,0),\"\")","v":{"$error":"#N/A"}},null,{"$f":"IF($A16<=AG$7,VLOOKUP(OFFSET('CCG-Prov(Amb)'!$G$1,MATCH(AG$8,'CCG-Prov(Amb)'!$F$2:$F$335,0)+$A16-1,0),'CCG List'!$A$3:$B$213,2,0),\"\")","v":{"$error":"#N/A"}},{"$f":"IF($A16<=AG$7,OFFSET('CCG-Prov(Amb)'!$H$1,MATCH(AG$8,'CCG-Prov(Amb)'!$F$2:$F$335,0)+$A16-1,0),\"\")","v":{"$error":"#N/A"}}]
[8,{"$f":"VLOOKUP(D17,provnames!$A$334:$B$346,2,0)","v":""},{"$f":"IF(A17<=$A$31,OFFSET('CCG-Prov(Amb)'!$C$1,MATCH(Ambulance!$C$4,'CCG-Prov(Amb)'!$A$2:$A$335,0)+$A17-1,0),\"\")","v":""},{"$f":"IF(A17<=$A$31,OFFSET('CCG-Prov(Amb)'!$B$1,MATCH(Ambulance!$C$4,'CCG-Prov(Amb)'!$A$2:$A$335,0)+$A17-1,0),\"\")","v":""},null,{"$f":"IF($A17<=F$7,VLOOKUP(OFFSET('CCG-Prov(Amb)'!$G$1,MATCH(F$8,'CCG-Prov(Amb)'!$F$2:$F$335,0)+$A17-1,0),'CCG List'!$A$3:$B$213,2,0),\"\")","v":""},{"$f":"IF($A17<=F$7,OFFSET('CCG-Prov(Amb)'!$H$1,MATCH(F$8,'CCG-Prov(Amb)'!$F$2:$F$335,0)+$A17-1,0),\"\")","v":""},null,{"$f":"IF($A17<=I$7,VLOOKUP(OFFSET('CCG-Prov(Amb)'!$G$1,MATCH(I$8,'CCG-Prov(Amb)'!$F$2:$F$335,0)+$A17-1,0),'CCG List'!$A$3:$B$213,2,0),\"\")","v":{"$error":"#N/A"}},{"$f":"IF($A17<=I$7,OFFSET('CCG-Prov(Amb)'!$H$1,MATCH(I$8,'CCG-Prov(Amb)'!$F$2:$F$335,0)+$A17-1,0),\"\")","v":{"$error":"#N/A"}},null,{"$f":"IF($A17<=L$7,VLOOKUP(OFFSET('CCG-Prov(Amb)'!$G$1,MATCH(L$8,'CCG-Prov(Amb)'!$F$2:$F$335,0)+$A17-1,0),'CCG List'!$A$3:$B$213,2,0),\"\")","v":{"$error":"#N/A"}},{"$f":"IF($A17<=L$7,OFFSET('CCG-Prov(Amb)'!$H$1,MATCH(L$8,'CCG-Prov(Amb)'!$F$2:$F$335,0)+$A17-1,0),\"\")","v":{"$error":"#N/A"}},null,{"$f":"IF($A17<=O$7,VLOOKUP(OFFSET('CCG-Prov(Amb)'!$G$1,MATCH(O$8,'CCG-Prov(Amb)'!$F$2:$F$335,0)+$A17-1,0),'CCG List'!$A$3:$B$213,2,0),\"\")","v":{"$error":"#N/A"}},{"$f":"IF($A17<=O$7,OFFSET('CCG-Prov(Amb)'!$H$1,MATCH(O$8,'CCG-Prov(Amb)'!$F$2:$F$335,0)+$A17-1,0),\"\")","v":{"$error":"#N/A"}},null,{"$f":"IF($A17<=R$7,VLOOKUP(OFFSET('CCG-Prov(Amb)'!$G$1,MATCH(R$8,'CCG-Prov(Amb)'!$F$2:$F$335,0)+$A17-1,0),'CCG List'!$A$3:$B$213,2,0),\"\")","v":{"$error":"#N/A"}},{"$f":"IF($A17<=R$7,OFFSET('CCG-Prov(Amb)'!$H$1,MATCH(R$8,'CCG-Prov(Amb)'!$F$2:$F$335,0)+$A17-1,0),\"\")","v":{"$error":"#N/A"}},null,{"$f":"IF($A17<=U$7,VLOOKUP(OFFSET('CCG-Prov(Amb)'!$G$1,MATCH(U$8,'CCG-Prov(Amb)'!$F$2:$F$335,0)+$A17-1,0),'CCG List'!$A$3:$B$213,2,0),\"\")","v":{"$error":"#N/A"}},{"$f":"IF($A17<=U$7,OFFSET('CCG-Prov(Amb)'!$H$1,MATCH(U$8,'CCG-Prov(Amb)'!$F$2:$F$335,0)+$A17-1,0),\"\")","v":{"$error":"#N/A"}},null,{"$f":"IF($A17<=X$7,VLOOKUP(OFFSET('CCG-Prov(Amb)'!$G$1,MATCH(X$8,'CCG-Prov(Amb)'!$F$2:$F$335,0)+$A17-1,0),'CCG List'!$A$3:$B$213,2,0),\"\")","v":{"$error":"#N/A"}},{"$f":"IF($A17<=X$7,OFFSET('CCG-Prov(Amb)'!$H$1,MATCH(X$8,'CCG-Prov(Amb)'!$F$2:$F$335,0)+$A17-1,0),\"\")","v":{"$error":"#N/A"}},null,{"$f":"IF($A17<=AA$7,VLOOKUP(OFFSET('CCG-Prov(Amb)'!$G$1,MATCH(AA$8,'CCG-Prov(Amb)'!$F$2:$F$335,0)+$A17-1,0),'CCG List'!$A$3:$B$213,2,0),\"\")","v":{"$error":"#N/A"}},{"$f":"IF($A17<=AA$7,OFFSET('CCG-Prov(Amb)'!$H$1,MATCH(AA$8,'CCG-Prov(Amb)'!$F$2:$F$335,0)+$A17-1,0),\"\")","v":{"$error":"#N/A"}},null,{"$f":"IF($A17<=AD$7,VLOOKUP(OFFSET('CCG-Prov(Amb)'!$G$1,MATCH(AD$8,'CCG-Prov(Amb)'!$F$2:$F$335,0)+$A17-1,0),'CCG List'!$A$3:$B$213,2,0),\"\")","v":{"$error":"#N/A"}},{"$f":"IF($A17<=AD$7,OFFSET('CCG-Prov(Amb)'!$H$1,MATCH(AD$8,'CCG-Prov(Amb)'!$F$2:$F$335,0)+$A17-1,0),\"\")","v":{"$error":"#N/A"}},null,{"$f":"IF($A17<=AG$7,VLOOKUP(OFFSET('CCG-Prov(Amb)'!$G$1,MATCH(AG$8,'CCG-Prov(Amb)'!$F$2:$F$335,0)+$A17-1,0),'CCG List'!$A$3:$B$213,2,0),\"\")","v":{"$error":"#N/A"}},{"$f":"IF($A17<=AG$7,OFFSET('CCG-Prov(Amb)'!$H$1,MATCH(AG$8,'CCG-Prov(Amb)'!$F$2:$F$335,0)+$A17-1,0),\"\")","v":{"$error":"#N/A"}}]
[9,{"$f":"VLOOKUP(D18,provnames!$A$334:$B$346,2,0)","v":""},{"$f":"IF(A18<=$A$31,OFFSET('CCG-Prov(Amb)'!$C$1,MATCH(Ambulance!$C$4,'CCG-Prov(Amb)'!$A$2:$A$335,0)+$A18-1,0),\"\")","v":""},{"$f":"IF(A18<=$A$31,OFFSET('CCG-Prov(Amb)'!$B$1,MATCH(Ambulance!$C$4,'CCG-Prov(Amb)'!$A$2:$A$335,0)+$A18-1,0),\"\")","v":""},null,{"$f":"IF($A18<=F$7,VLOOKUP(OFFSET('CCG-Prov(Amb)'!$G$1,MATCH(F$8,'CCG-Prov(Amb)'!$F$2:$F$335,0)+$A18-1,0),'CCG List'!$A$3:$B$213,2,0),\"\")","v":""},{"$f":"IF($A18<=F$7,OFFSET('CCG-Prov(Amb)'!$H$1,MATCH(F$8,'CCG-Prov(Amb)'!$F$2:$F$335,0)+$A18-1,0),\"\")","v":""},null,{"$f":"IF($A18<=I$7,VLOOKUP(OFFSET('CCG-Prov(Amb)'!$G$1,MATCH(I$8,'CCG-Prov(Amb)'!$F$2:$F$335,0)+$A18-1,0),'CCG List'!$A$3:$B$213,2,0),\"\")","v":{"$error":"#N/A"}},{"$f":"IF($A18<=I$7,OFFSET('CCG-Prov(Amb)'!$H$1,MATCH(I$8,'CCG-Prov(Amb)'!$F$2:$F$335,0)+$A18-1,0),\"\")","v":{"$error":"#N/A"}},null,{"$f":"IF($A18<=L$7,VLOOKUP(OFFSET('CCG-Prov(Amb)'!$G$1,MATCH(L$8,'CCG-Prov(Amb)'!$F$2:$F$335,0)+$A18-1,0),'CCG List'!$A$3:$B$213,2,0),\"\")","v":{"$error":"#N/A"}},{"$f":"IF($A18<=L$7,OFFSET('CCG-Prov(Amb)'!$H$1,MATCH(L$8,'CCG-Prov(Amb)'!$F$2:$F$335,0)+$A18-1,0),\"\")","v":{"$error":"#N/A"}},null,{"$f":"IF($A18<=O$7,VLOOKUP(OFFSET('CCG-Prov(Amb)'!$G$1,MATCH(O$8,'CCG-Prov(Amb)'!$F$2:$F$335,0)+$A18-1,0),'CCG List'!$A$3:$B$213,2,0),\"\")","v":{"$error":"#N/A"}},{"$f":"IF($A18<=O$7,OFFSET('CCG-Prov(Amb)'!$H$1,MATCH(O$8,'CCG-Prov(Amb)'!$F$2:$F$335,0)+$A18-1,0),\"\")","v":{"$error":"#N/A"}},null,{"$f":"IF($A18<=R$7,VLOOKUP(OFFSET('CCG-Prov(Amb)'!$G$1,MATCH(R$8,'CCG-Prov(Amb)'!$F$2:$F$335,0)+$A18-1,0),'CCG List'!$A$3:$B$213,2,0),\"\")","v":{"$error":"#N/A"}},{"$f":"IF($A18<=R$7,OFFSET('CCG-Prov(Amb)'!$H$1,MATCH(R$8,'CCG-Prov(Amb)'!$F$2:$F$335,0)+$A18-1,0),\"\")","v":{"$error":"#N/A"}},null,{"$f":"IF($A18<=U$7,VLOOKUP(OFFSET('CCG-Prov(Amb)'!$G$1,MATCH(U$8,'CCG-Prov(Amb)'!$F$2:$F$335,0)+$A18-1,0),'CCG List'!$A$3:$B$213,2,0),\"\")","v":{"$error":"#N/A"}},{"$f":"IF($A18<=U$7,OFFSET('CCG-Prov(Amb)'!$H$1,MATCH(U$8,'CCG-Prov(Amb)'!$F$2:$F$335,0)+$A18-1,0),\"\")","v":{"$error":"#N/A"}},null,{"$f":"IF($A18<=X$7,VLOOKUP(OFFSET('CCG-Prov(Amb)'!$G$1,MATCH(X$8,'CCG-Prov(Amb)'!$F$2:$F$335,0)+$A18-1,0),'CCG List'!$A$3:$B$213,2,0),\"\")","v":{"$error":"#N/A"}},{"$f":"IF($A18<=X$7,OFFSET('CCG-Prov(Amb)'!$H$1,MATCH(X$8,'CCG-Prov(Amb)'!$F$2:$F$335,0)+$A18-1,0),\"\")","v":{"$error":"#N/A"}},null,{"$f":"IF($A18<=AA$7,VLOOKUP(OFFSET('CCG-Prov(Amb)'!$G$1,MATCH(AA$8,'CCG-Prov(Amb)'!$F$2:$F$335,0)+$A18-1,0),'CCG List'!$A$3:$B$213,2,0),\"\")","v":{"$error":"#N/A"}},{"$f":"IF($A18<=AA$7,OFFSET('CCG-Prov(Amb)'!$H$1,MATCH(AA$8,'CCG-Prov(Amb)'!$F$2:$F$335,0)+$A18-1,0),\"\")","v":{"$error":"#N/A"}},null,{"$f":"IF($A18<=AD$7,VLOOKUP(OFFSET('CCG-Prov(Amb)'!$G$1,MATCH(AD$8,'CCG-Prov(Amb)'!$F$2:$F$335,0)+$A18-1,0),'CCG List'!$A$3:$B$213,2,0),\"\")","v":{"$error":"#N/A"}},{"$f":"IF($A18<=AD$7,OFFSET('CCG-Prov(Amb)'!$H$1,MATCH(AD$8,'CCG-Prov(Amb)'!$F$2:$F$335,0)+$A18-1,0),\"\")","v":{"$error":"#N/A"}},null,{"$f":"IF($A18<=AG$7,VLOOKUP(OFFSET('CCG-Prov(Amb)'!$G$1,MATCH(AG$8,'CCG-Prov(Amb)'!$F$2:$F$335,0)+$A18-1,0),'CCG List'!$A$3:$B$213,2,0),\"\")","v":{"$error":"#N/A"}},{"$f":"IF($A18<=AG$7,OFFSET('CCG-Prov(Amb)'!$H$1,MATCH(AG$8,'CCG-Prov(Amb)'!$F$2:$F$335,0)+$A18-1,0),\"\")","v":{"$error":"#N/A"}}]
[10,{"$f":"VLOOKUP(D19,provnames!$A$334:$B$346,2,0)","v":""},{"$f":"IF(A19<=$A$31,OFFSET('CCG-Prov(Amb)'!$C$1,MATCH(Ambulance!$C$4,'CCG-Prov(Amb)'!$A$2:$A$335,0)+$A19-1,0),\"\")","v":""},{"$f":"IF(A19<=$A$31,OFFSET('CCG-Prov(Amb)'!$B$1,MATCH(Ambulance!$C$4,'CCG-Prov(Amb)'!$A$2:$A$335,0)+$A19-1,0),\"\")","v":""},null,{"$f":"IF($A19<=F$7,VLOOKUP(OFFSET('CCG-Prov(Amb)'!$G$1,MATCH(F$8,'CCG-Prov(Amb)'!$F$2:$F$335,0)+$A19-1,0),'CCG List'!$A$3:$B$213,2,0),\"\")","v":""},{"$f":"IF($A19<=F$7,OFFSET('CCG-Prov(Amb)'!$H$1,MATCH(F$8,'CCG-Prov(Amb)'!$F$2:$F$335,0)+$A19-1,0),\"\")","v":""},null,{"$f":"IF($A19<=I$7,VLOOKUP(OFFSET('CCG-Prov(Amb)'!$G$1,MATCH(I$8,'CCG-Prov(Amb)'!$F$2:$F$335,0)+$A19-1,0),'CCG List'!$A$3:$B$213,2,0),\"\")","v":{"$error":"#N/A"}},{"$f":"IF($A19<=I$7,OFFSET('CCG-Prov(Amb)'!$H$1,MATCH(I$8,'CCG-Prov(Amb)'!$F$2:$F$335,0)+$A19-1,0),\"\")","v":{"$error":"#N/A"}},null,{"$f":"IF($A19<=L$7,VLOOKUP(OFFSET('CCG-Prov(Amb)'!$G$1,MATCH(L$8,'CCG-Prov(Amb)'!$F$2:$F$335,0)+$A19-1,0),'CCG List'!$A$3:$B$213,2,0),\"\")","v":{"$error":"#N/A"}},{"$f":"IF($A19<=L$7,OFFSET('CCG-Prov(Amb)'!$H$1,MATCH(L$8,'CCG-Prov(Amb)'!$F$2:$F$335,0)+$A19-1,0),\"\")","v":{"$error":"#N/A"}},null,{"$f":"IF($A19<=O$7,VLOOKUP(OFFSET('CCG-Prov(Amb)'!$G$1,MATCH(O$8,'CCG-Prov(Amb)'!$F$2:$F$335,0)+$A19-1,0),'CCG List'!$A$3:$B$213,2,0),\"\")","v":{"$error":"#N/A"}},{"$f":"IF($A19<=O$7,OFFSET('CCG-Prov(Amb)'!$H$1,MATCH(O$8,'CCG-Prov(Amb)'!$F$2:$F$335,0)+$A19-1,0),\"\")","v":{"$error":"#N/A"}},null,{"$f":"IF($A19<=R$7,VLOOKUP(OFFSET('CCG-Prov(Amb)'!$G$1,MATCH(R$8,'CCG-Prov(Amb)'!$F$2:$F$335,0)+$A19-1,0),'CCG List'!$A$3:$B$213,2,0),\"\")","v":{"$error":"#N/A"}},{"$f":"IF($A19<=R$7,OFFSET('CCG-Prov(Amb)'!$H$1,MATCH(R$8,'CCG-Prov(Amb)'!$F$2:$F$335,0)+$A19-1,0),\"\")","v":{"$error":"#N/A"}},null,{"$f":"IF($A19<=U$7,VLOOKUP(OFFSET('CCG-Prov(Amb)'!$G$1,MATCH(U$8,'CCG-Prov(Amb)'!$F$2:$F$335,0)+$A19-1,0),'CCG List'!$A$3:$B$213,2,0),\"\")","v":{"$error":"#N/A"}},{"$f":"IF($A19<=U$7,OFFSET('CCG-Prov(Amb)'!$H$1,MATCH(U$8,'CCG-Prov(Amb)'!$F$2:$F$335,0)+$A19-1,0),\"\")","v":{"$error":"#N/A"}},null,{"$f":"IF($A19<=X$7,VLOOKUP(OFFSET('CCG-Prov(Amb)'!$G$1,MATCH(X$8,'CCG-Prov(Amb)'!$F$2:$F$335,0)+$A19-1,0),'CCG List'!$A$3:$B$213,2,0),\"\")","v":{"$error":"#N/A"}},{"$f":"IF($A19<=X$7,OFFSET('CCG-Prov(Amb)'!$H$1,MATCH(X$8,'CCG-Prov(Amb)'!$F$2:$F$335,0)+$A19-1,0),\"\")","v":{"$error":"#N/A"}},null,{"$f":"IF($A19<=AA$7,VLOOKUP(OFFSET('CCG-Prov(Amb)'!$G$1,MATCH(AA$8,'CCG-Prov(Amb)'!$F$2:$F$335,0)+$A19-1,0),'CCG List'!$A$3:$B$213,2,0),\"\")","v":{"$error":"#N/A"}},{"$f":"IF($A19<=AA$7,OFFSET('CCG-Prov(Amb)'!$H$1,MATCH(AA$8,'CCG-Prov(Amb)'!$F$2:$F$335,0)+$A19-1,0),\"\")","v":{"$error":"#N/A"}},null,{"$f":"IF($A19<=AD$7,VLOOKUP(OFFSET('CCG-Prov(Amb)'!$G$1,MATCH(AD$8,'CCG-Prov(Amb)'!$F$2:$F$335,0)+$A19-1,0),'CCG List'!$A$3:$B$213,2,0),\"\")","v":{"$error":"#N/A"}},{"$f":"IF($A19<=AD$7,OFFSET('CCG-Prov(Amb)'!$H$1,MATCH(AD$8,'CCG-Prov(Amb)'!$F$2:$F$335,0)+$A19-1,0),\"\")","v":{"$error":"#N/A"}},null,{"$f":"IF($A19<=AG$7,VLOOKUP(OFFSET('CCG-Prov(Amb)'!$G$1,MATCH(AG$8,'CCG-Prov(Amb)'!$F$2:$F$335,0)+$A19-1,0),'CCG List'!$A$3:$B$213,2,0),\"\")","v":{"$error":"#N/A"}},{"$f":"IF($A19<=AG$7,OFFSET('CCG-Prov(Amb)'!$H$1,MATCH(AG$8,'CCG-Prov(Amb)'!$F$2:$F$335,0)+$A19-1,0),\"\")","v":{"$error":"#N/A"}}]
[11,{"$f":"VLOOKUP(D20,provnames!$A$334:$B$346,2,0)","v":""},{"$f":"IF(A20<=$A$31,OFFSET('CCG-Prov(Amb)'!$C$1,MATCH(Ambulance!$C$4,'CCG-Prov(Amb)'!$A$2:$A$335,0)+$A20-1,0),\"\")","v":""},{"$f":"IF(A20<=$A$31,OFFSET('CCG-Prov(Amb)'!$B$1,MATCH(Ambulance!$C$4,'CCG-Prov(Amb)'!$A$2:$A$335,0)+$A20-1,0),\"\")","v":""},null,{"$f":"IF($A20<=F$7,VLOOKUP(OFFSET('CCG-Prov(Amb)'!$G$1,MATCH(F$8,'CCG-Prov(Amb)'!$F$2:$F$335,0)+$A20-1,0),'CCG List'!$A$3:$B$213,2,0),\"\")","v":""},{"$f":"IF($A20<=F$7,OFFSET('CCG-Prov(Amb)'!$H$1,MATCH(F$8,'CCG-Prov(Amb)'!$F$2:$F$335,0)+$A20-1,0),\"\")","v":""},null,{"$f":"IF($A20<=I$7,VLOOKUP(OFFSET('CCG-Prov(Amb)'!$G$1,MATCH(I$8,'CCG-Prov(Amb)'!$F$2:$F$335,0)+$A20-1,0),'CCG List'!$A$3:$B$213,2,0),\"\")","v":{"$error":"#N/A"}},{"$f":"IF($A20<=I$7,OFFSET('CCG-Prov(Amb)'!$H$1,MATCH(I$8,'CCG-Prov(Amb)'!$F$2:$F$335,0)+$A20-1,0),\"\")","v":{"$error":"#N/A"}},null,{"$f":"IF($A20<=L$7,VLOOKUP(OFFSET('CCG-Prov(Amb)'!$G$1,MATCH(L$8,'CCG-Prov(Amb)'!$F$2:$F$335,0)+$A20-1,0),'CCG List'!$A$3:$B$213,2,0),\"\")","v":{"$error":"#N/A"}},{"$f":"IF($A20<=L$7,OFFSET('CCG-Prov(Amb)'!$H$1,MATCH(L$8,'CCG-Prov(Amb)'!$F$2:$F$335,0)+$A20-1,0),\"\")","v":{"$error":"#N/A"}},null,{"$f":"IF($A20<=O$7,VLOOKUP(OFFSET('CCG-Prov(Amb)'!$G$1,MATCH(O$8,'CCG-Prov(Amb)'!$F$2:$F$335,0)+$A20-1,0),'CCG List'!$A$3:$B$213,2,0),\"\")","v":{"$error":"#N/A"}},{"$f":"IF($A20<=O$7,OFFSET('CCG-Prov(Amb)'!$H$1,MATCH(O$8,'CCG-Prov(Amb)'!$F$2:$F$335,0)+$A20-1,0),\"\")","v":{"$error":"#N/A"}},null,{"$f":"IF($A20<=R$7,VLOOKUP(OFFSET('CCG-Prov(Amb)'!$G$1,MATCH(R$8,'CCG-Prov(Amb)'!$F$2:$F$335,0)+$A20-1,0),'CCG List'!$A$3:$B$213,2,0),\"\")","v":{"$error":"#N/A"}},{"$f":"IF($A20<=R$7,OFFSET('CCG-Prov(Amb)'!$H$1,MATCH(R$8,'CCG-Prov(Amb)'!$F$2:$F$335,0)+$A20-1,0),\"\")","v":{"$error":"#N/A"}},null,{"$f":"IF($A20<=U$7,VLOOKUP(OFFSET('CCG-Prov(Amb)'!$G$1,MATCH(U$8,'CCG-Prov(Amb)'!$F$2:$F$335,0)+$A20-1,0),'CCG List'!$A$3:$B$213,2,0),\"\")","v":{"$error":"#N/A"}},{"$f":"IF($A20<=U$7,OFFSET('CCG-Prov(Amb)'!$H$1,MATCH(U$8,'CCG-Prov(Amb)'!$F$2:$F$335,0)+$A20-1,0),\"\")","v":{"$error":"#N/A"}},null,{"$f":"IF($A20<=X$7,VLOOKUP(OFFSET('CCG-Prov(Amb)'!$G$1,MATCH(X$8,'CCG-Prov(Amb)'!$F$2:$F$335,0)+$A20-1,0),'CCG List'!$A$3:$B$213,2,0),\"\")","v":{"$error":"#N/A"}},{"$f":"IF($A20<=X$7,OFFSET('CCG-Prov(Amb)'!$H$1,MATCH(X$8,'CCG-Prov(Amb)'!$F$2:$F$335,0)+$A20-1,0),\"\")","v":{"$error":"#N/A"}},null,{"$f":"IF($A20<=AA$7,VLOOKUP(OFFSET('CCG-Prov(Amb)'!$G$1,MATCH(AA$8,'CCG-Prov(Amb)'!$F$2:$F$335,0)+$A20-1,0),'CCG List'!$A$3:$B$213,2,0),\"\")","v":{"$error":"#N/A"}},{"$f":"IF($A20<=AA$7,OFFSET('CCG-Prov(Amb)'!$H$1,MATCH(AA$8,'CCG-Prov(Amb)'!$F$2:$F$335,0)+$A20-1,0),\"\")","v":{"$error":"#N/A"}},null,{"$f":"IF($A20<=AD$7,VLOOKUP(OFFSET('CCG-Prov(Amb)'!$G$1,MATCH(AD$8,'CCG-Prov(Amb)'!$F$2:$F$335,0)+$A20-1,0),'CCG List'!$A$3:$B$213,2,0),\"\")","v":{"$error":"#N/A"}},{"$f":"IF($A20<=AD$7,OFFSET('CCG-Prov(Amb)'!$H$1,MATCH(AD$8,'CCG-Prov(Amb)'!$F$2:$F$335,0)+$A20-1,0),\"\")","v":{"$error":"#N/A"}},null,{"$f":"IF($A20<=AG$7,VLOOKUP(OFFSET('CCG-Prov(Amb)'!$G$1,MATCH(AG$8,'CCG-Prov(Amb)'!$F$2:$F$335,0)+$A20-1,0),'CCG List'!$A$3:$B$213,2,0),\"\")","v":{"$error":"#N/A"}},{"$f":"IF($A20<=AG$7,OFFSET('CCG-Prov(Amb)'!$H$1,MATCH(AG$8,'CCG-Prov(Amb)'!$F$2:$F$335,0)+$A20-1,0),\"\")","v":{"$error":"#N/A"}}]
[12,{"$f":"VLOOKUP(D21,provnames!$A$334:$B$346,2,0)","v":""},{"$f":"IF(A21<=$A$31,OFFSET('CCG-Prov(Amb)'!$C$1,MATCH(Ambulance!$C$4,'CCG-Prov(Amb)'!$A$2:$A$335,0)+$A21-1,0),\"\")","v":""},{"$f":"IF(A21<=$A$31,OFFSET('CCG-Prov(Amb)'!$B$1,MATCH(Ambulance!$C$4,'CCG-Prov(Amb)'!$A$2:$A$335,0)+$A21-1,0),\"\")","v":""},null,{"$f":"IF($A21<=F$7,VLOOKUP(OFFSET('CCG-Prov(Amb)'!$G$1,MATCH(F$8,'CCG-Prov(Amb)'!$F$2:$F$335,0)+$A21-1,0),'CCG List'!$A$3:$B$213,2,0),\"\")","v":""},{"$f":"IF($A21<=F$7,OFFSET('CCG-Prov(Amb)'!$H$1,MATCH(F$8,'CCG-Prov(Amb)'!$F$2:$F$335,0)+$A21-1,0),\"\")","v":""},null,{"$f":"IF($A21<=I$7,VLOOKUP(OFFSET('CCG-Prov(Amb)'!$G$1,MATCH(I$8,'CCG-Prov(Amb)'!$F$2:$F$335,0)+$A21-1,0),'CCG List'!$A$3:$B$213,2,0),\"\")","v":{"$error":"#N/A"}},{"$f":"IF($A21<=I$7,OFFSET('CCG-Prov(Amb)'!$H$1,MATCH(I$8,'CCG-Prov(Amb)'!$F$2:$F$335,0)+$A21-1,0),\"\")","v":{"$error":"#N/A"}},null,{"$f":"IF($A21<=L$7,VLOOKUP(OFFSET('CCG-Prov(Amb)'!$G$1,MATCH(L$8,'CCG-Prov(Amb)'!$F$2:$F$335,0)+$A21-1,0),'CCG List'!$A$3:$B$213,2,0),\"\")","v":{"$error":"#N/A"}},{"$f":"IF($A21<=L$7,OFFSET('CCG-Prov(Amb)'!$H$1,MATCH(L$8,'CCG-Prov(Amb)'!$F$2:$F$335,0)+$A21-1,0),\"\")","v":{"$error":"#N/A"}},null,{"$f":"IF($A21<=O$7,VLOOKUP(OFFSET('CCG-Prov(Amb)'!$G$1,MATCH(O$8,'CCG-Prov(Amb)'!$F$2:$F$335,0)+$A21-1,0),'CCG List'!$A$3:$B$213,2,0),\"\")","v":{"$error":"#N/A"}},{"$f":"IF($A21<=O$7,OFFSET('CCG-Prov(Amb)'!$H$1,MATCH(O$8,'CCG-Prov(Amb)'!$F$2:$F$335,0)+$A21-1,0),\"\")","v":{"$error":"#N/A"}},null,{"$f":"IF($A21<=R$7,VLOOKUP(OFFSET('CCG-Prov(Amb)'!$G$1,MATCH(R$8,'CCG-Prov(Amb)'!$F$2:$F$335,0)+$A21-1,0),'CCG List'!$A$3:$B$213,2,0),\"\")","v":{"$error":"#N/A"}},{"$f":"IF($A21<=R$7,OFFSET('CCG-Prov(Amb)'!$H$1,MATCH(R$8,'CCG-Prov(Amb)'!$F$2:$F$335,0)+$A21-1,0),\"\")","v":{"$error":"#N/A"}},null,{"$f":"IF($A21<=U$7,VLOOKUP(OFFSET('CCG-Prov(Amb)'!$G$1,MATCH(U$8,'CCG-Prov(Amb)'!$F$2:$F$335,0)+$A21-1,0),'CCG List'!$A$3:$B$213,2,0),\"\")","v":{"$error":"#N/A"}},{"$f":"IF($A21<=U$7,OFFSET('CCG-Prov(Amb)'!$H$1,MATCH(U$8,'CCG-Prov(Amb)'!$F$2:$F$335,0)+$A21-1,0),\"\")","v":{"$error":"#N/A"}},null,{"$f":"IF($A21<=X$7,VLOOKUP(OFFSET('CCG-Prov(Amb)'!$G$1,MATCH(X$8,'CCG-Prov(Amb)'!$F$2:$F$335,0)+$A21-1,0),'CCG List'!$A$3:$B$213,2,0),\"\")","v":{"$error":"#N/A"}},{"$f":"IF($A21<=X$7,OFFSET('CCG-Prov(Amb)'!$H$1,MATCH(X$8,'CCG-Prov(Amb)'!$F$2:$F$335,0)+$A21-1,0),\"\")","v":{"$error":"#N/A"}},null,{"$f":"IF($A21<=AA$7,VLOOKUP(OFFSET('CCG-Prov(Amb)'!$G$1,MATCH(AA$8,'CCG-Prov(Amb)'!$F$2:$F$335,0)+$A21-1,0),'CCG List'!$A$3:$B$213,2,0),\"\")","v":{"$error":"#N/A"}},{"$f":"IF($A21<=AA$7,OFFSET('CCG-Prov(Amb)'!$H$1,MATCH(AA$8,'CCG-Prov(Amb)'!$F$2:$F$335,0)+$A21-1,0),\"\")","v":{"$error":"#N/A"}},null,{"$f":"IF($A21<=AD$7,VLOOKUP(OFFSET('CCG-Prov(Amb)'!$G$1,MATCH(AD$8,'CCG-Prov(Amb)'!$F$2:$F$335,0)+$A21-1,0),'CCG List'!$A$3:$B$213,2,0),\"\")","v":{"$error":"#N/A"}},{"$f":"IF($A21<=AD$7,OFFSET('CCG-Prov(Amb)'!$H$1,MATCH(AD$8,'CCG-Prov(Amb)'!$F$2:$F$335,0)+$A21-1,0),\"\")","v":{"$error":"#N/A"}},null,{"$f":"IF($A21<=AG$7,VLOOKUP(OFFSET('CCG-Prov(Amb)'!$G$1,MATCH(AG$8,'CCG-Prov(Amb)'!$F$2:$F$335,0)+$A21-1,0),'CCG List'!$A$3:$B$213,2,0),\"\")","v":{"$error":"#N/A"}},{"$f":"IF($A21<=AG$7,OFFSET('CCG-Prov(Amb)'!$H$1,MATCH(AG$8,'CCG-Prov(Amb)'!$F$2:$F$335,0)+$A21-1,0),\"\")","v":{"$error":"#N/A"}}]
[13,{"$f":"VLOOKUP(D22,provnames!$A$334:$B$346,2,0)","v":""},{"$f":"IF(A22<=$A$31,OFFSET('CCG-Prov(Amb)'!$C$1,MATCH(Ambulance!$C$4,'CCG-Prov(Amb)'!$A$2:$A$335,0)+$A22-1,0),\"\")","v":""},{"$f":"IF(A22<=$A$31,OFFSET('CCG-Prov(Amb)'!$B$1,MATCH(Ambulance!$C$4,'CCG-Prov(Amb)'!$A$2:$A$335,0)+$A22-1,0),\"\")","v":""},null,{"$f":"IF($A22<=F$7,VLOOKUP(OFFSET('CCG-Prov(Amb)'!$G$1,MATCH(F$8,'CCG-Prov(Amb)'!$F$2:$F$335,0)+$A22-1,0),'CCG List'!$A$3:$B$213,2,0),\"\")","v":""},{"$f":"IF($A22<=F$7,OFFSET('CCG-Prov(Amb)'!$H$1,MATCH(F$8,'CCG-Prov(Amb)'!$F$2:$F$335,0)+$A22-1,0),\"\")","v":""},null,{"$f":"IF($A22<=I$7,VLOOKUP(OFFSET('CCG-Prov(Amb)'!$G$1,MATCH(I$8,'CCG-Prov(Amb)'!$F$2:$F$335,0)+$A22-1,0),'CCG List'!$A$3:$B$213,2,0),\"\")","v":{"$error":"#N/A"}},{"$f":"IF($A22<=I$7,OFFSET('CCG-Prov(Amb)'!$H$1,MATCH(I$8,'CCG-Prov(Amb)'!$F$2:$F$335,0)+$A22-1,0),\"\")","v":{"$error":"#N/A"}},null,{"$f":"IF($A22<=L$7,VLOOKUP(OFFSET('CCG-Prov(Amb)'!$G$1,MATCH(L$8,'CCG-Prov(Amb)'!$F$2:$F$335,0)+$A22-1,0),'CCG List'!$A$3:$B$213,2,0),\"\")","v":{"$error":"#N/A"}},{"$f":"IF($A22<=L$7,OFFSET('CCG-Prov(Amb)'!$H$1,MATCH(L$8,'CCG-Prov(Amb)'!$F$2:$F$335,0)+$A22-1,0),\"\")","v":{"$error":"#N/A"}},null,{"$f":"IF($A22<=O$7,VLOOKUP(OFFSET('CCG-Prov(Amb)'!$G$1,MATCH(O$8,'CCG-Prov(Amb)'!$F$2:$F$335,0)+$A22-1,0),'CCG List'!$A$3:$B$213,2,0),\"\")","v":{"$error":"#N/A"}},{"$f":"IF($A22<=O$7,OFFSET('CCG-Prov(Amb)'!$H$1,MATCH(O$8,'CCG-Prov(Amb)'!$F$2:$F$335,0)+$A22-1,0),\"\")","v":{"$error":"#N/A"}},null,{"$f":"IF($A22<=R$7,VLOOKUP(OFFSET('CCG-Prov(Amb)'!$G$1,MATCH(R$8,'CCG-Prov(Amb)'!$F$2:$F$335,0)+$A22-1,0),'CCG List'!$A$3:$B$213,2,0),\"\")","v":{"$error":"#N/A"}},{"$f":"IF($A22<=R$7,OFFSET('CCG-Prov(Amb)'!$H$1,MATCH(R$8,'CCG-Prov(Amb)'!$F$2:$F$335,0)+$A22-1,0),\"\")","v":{"$error":"#N/A"}},null,{"$f":"IF($A22<=U$7,VLOOKUP(OFFSET('CCG-Prov(Amb)'!$G$1,MATCH(U$8,'CCG-Prov(Amb)'!$F$2:$F$335,0)+$A22-1,0),'CCG List'!$A$3:$B$213,2,0),\"\")","v":{"$error":"#N/A"}},{"$f":"IF($A22<=U$7,OFFSET('CCG-Prov(Amb)'!$H$1,MATCH(U$8,'CCG-Prov(Amb)'!$F$2:$F$335,0)+$A22-1,0),\"\")","v":{"$error":"#N/A"}},null,{"$f":"IF($A22<=X$7,VLOOKUP(OFFSET('CCG-Prov(Amb)'!$G$1,MATCH(X$8,'CCG-Prov(Amb)'!$F$2:$F$335,0)+$A22-1,0),'CCG List'!$A$3:$B$213,2,0),\"\")","v":{"$error":"#N/A"}},{"$f":"IF($A22<=X$7,OFFSET('CCG-Prov(Amb)'!$H$1,MATCH(X$8,'CCG-Prov(Amb)'!$F$2:$F$335,0)+$A22-1,0),\"\")","v":{"$error":"#N/A"}},null,{"$f":"IF($A22<=AA$7,VLOOKUP(OFFSET('CCG-Prov(Amb)'!$G$1,MATCH(AA$8,'CCG-Prov(Amb)'!$F$2:$F$335,0)+$A22-1,0),'CCG List'!$A$3:$B$213,2,0),\"\")","v":{"$error":"#N/A"}},{"$f":"IF($A22<=AA$7,OFFSET('CCG-Prov(Amb)'!$H$1,MATCH(AA$8,'CCG-Prov(Amb)'!$F$2:$F$335,0)+$A22-1,0),\"\")","v":{"$error":"#N/A"}},null,{"$f":"IF($A22<=AD$7,VLOOKUP(OFFSET('CCG-Prov(Amb)'!$G$1,MATCH(AD$8,'CCG-Prov(Amb)'!$F$2:$F$335,0)+$A22-1,0),'CCG List'!$A$3:$B$213,2,0),\"\")","v":{"$error":"#N/A"}},{"$f":"IF($A22<=AD$7,OFFSET('CCG-Prov(Amb)'!$H$1,MATCH(AD$8,'CCG-Prov(Amb)'!$F$2:$F$335,0)+$A22-1,0),\"\")","v":{"$error":"#N/A"}},null,{"$f":"IF($A22<=AG$7,VLOOKUP(OFFSET('CCG-Prov(Amb)'!$G$1,MATCH(AG$8,'CCG-Prov(Amb)'!$F$2:$F$335,0)+$A22-1,0),'CCG List'!$A$3:$B$213,2,0),\"\")","v":{"$error":"#N/A"}},{"$f":"IF($A22<=AG$7,OFFSET('CCG-Prov(Amb)'!$H$1,MATCH(AG$8,'CCG-Prov(Amb)'!$F$2:$F$335,0)+$A22-1,0),\"\")","v":{"$error":"#N/A"}}]
[14,{"$f":"VLOOKUP(D23,provnames!$A$334:$B$346,2,0)","v":""},{"$f":"IF(A23<=$A$31,OFFSET('CCG-Prov(Amb)'!$C$1,MATCH(Ambulance!$C$4,'CCG-Prov(Amb)'!$A$2:$A$335,0)+$A23-1,0),\"\")","v":""},{"$f":"IF(A23<=$A$31,OFFSET('CCG-Prov(Amb)'!$B$1,MATCH(Ambulance!$C$4,'CCG-Prov(Amb)'!$A$2:$A$335,0)+$A23-1,0),\"\")","v":""},null,{"$f":"IF($A23<=F$7,VLOOKUP(OFFSET('CCG-Prov(Amb)'!$G$1,MATCH(F$8,'CCG-Prov(Amb)'!$F$2:$F$335,0)+$A23-1,0),'CCG List'!$A$3:$B$213,2,0),\"\")","v":""},{"$f":"IF($A23<=F$7,OFFSET('CCG-Prov(Amb)'!$H$1,MATCH(F$8,'CCG-Prov(Amb)'!$F$2:$F$335,0)+$A23-1,0),\"\")","v":""},null,{"$f":"IF($A23<=I$7,VLOOKUP(OFFSET('CCG-Prov(Amb)'!$G$1,MATCH(I$8,'CCG-Prov(Amb)'!$F$2:$F$335,0)+$A23-1,0),'CCG List'!$A$3:$B$213,2,0),\"\")","v":{"$error":"#N/A"}},{"$f":"IF($A23<=I$7,OFFSET('CCG-Prov(Amb)'!$H$1,MATCH(I$8,'CCG-Prov(Amb)'!$F$2:$F$335,0)+$A23-1,0),\"\")","v":{"$error":"#N/A"}},null,{"$f":"IF($A23<=L$7,VLOOKUP(OFFSET('CCG-Prov(Amb)'!$G$1,MATCH(L$8,'CCG-Prov(Amb)'!$F$2:$F$335,0)+$A23-1,0),'CCG List'!$A$3:$B$213,2,0),\"\")","v":{"$error":"#N/A"}},{"$f":"IF($A23<=L$7,OFFSET('CCG-Prov(Amb)'!$H$1,MATCH(L$8,'CCG-Prov(Amb)'!$F$2:$F$335,0)+$A23-1,0),\"\")","v":{"$error":"#N/A"}},null,{"$f":"IF($A23<=O$7,VLOOKUP(OFFSET('CCG-Prov(Amb)'!$G$1,MATCH(O$8,'CCG-Prov(Amb)'!$F$2:$F$335,0)+$A23-1,0),'CCG List'!$A$3:$B$213,2,0),\"\")","v":{"$error":"#N/A"}},{"$f":"IF($A23<=O$7,OFFSET('CCG-Prov(Amb)'!$H$1,MATCH(O$8,'CCG-Prov(Amb)'!$F$2:$F$335,0)+$A23-1,0),\"\")","v":{"$error":"#N/A"}},null,{"$f":"IF($A23<=R$7,VLOOKUP(OFFSET('CCG-Prov(Amb)'!$G$1,MATCH(R$8,'CCG-Prov(Amb)'!$F$2:$F$335,0)+$A23-1,0),'CCG List'!$A$3:$B$213,2,0),\"\")","v":{"$error":"#N/A"}},{"$f":"IF($A23<=R$7,OFFSET('CCG-Prov(Amb)'!$H$1,MATCH(R$8,'CCG-Prov(Amb)'!$F$2:$F$335,0)+$A23-1,0),\"\")","v":{"$error":"#N/A"}},null,{"$f":"IF($A23<=U$7,VLOOKUP(OFFSET('CCG-Prov(Amb)'!$G$1,MATCH(U$8,'CCG-Prov(Amb)'!$F$2:$F$335,0)+$A23-1,0),'CCG List'!$A$3:$B$213,2,0),\"\")","v":{"$error":"#N/A"}},{"$f":"IF($A23<=U$7,OFFSET('CCG-Prov(Amb)'!$H$1,MATCH(U$8,'CCG-Prov(Amb)'!$F$2:$F$335,0)+$A23-1,0),\"\")","v":{"$error":"#N/A"}},null,{"$f":"IF($A23<=X$7,VLOOKUP(OFFSET('CCG-Prov(Amb)'!$G$1,MATCH(X$8,'CCG-Prov(Amb)'!$F$2:$F$335,0)+$A23-1,0),'CCG List'!$A$3:$B$213,2,0),\"\")","v":{"$error":"#N/A"}},{"$f":"IF($A23<=X$7,OFFSET('CCG-Prov(Amb)'!$H$1,MATCH(X$8,'CCG-Prov(Amb)'!$F$2:$F$335,0)+$A23-1,0),\"\")","v":{"$error":"#N/A"}},null,{"$f":"IF($A23<=AA$7,VLOOKUP(OFFSET('CCG-Prov(Amb)'!$G$1,MATCH(AA$8,'CCG-Prov(Amb)'!$F$2:$F$335,0)+$A23-1,0),'CCG List'!$A$3:$B$213,2,0),\"\")","v":{"$error":"#N/A"}},{"$f":"IF($A23<=AA$7,OFFSET('CCG-Prov(Amb)'!$H$1,MATCH(AA$8,'CCG-Prov(Amb)'!$F$2:$F$335,0)+$A23-1,0),\"\")","v":{"$error":"#N/A"}},null,{"$f":"IF($A23<=AD$7,VLOOKUP(OFFSET('CCG-Prov(Amb)'!$G$1,MATCH(AD$8,'CCG-Prov(Amb)'!$F$2:$F$335,0)+$A23-1,0),'CCG List'!$A$3:$B$213,2,0),\"\")","v":{"$error":"#N/A"}},{"$f":"IF($A23<=AD$7,OFFSET('CCG-Prov(Amb)'!$H$1,MATCH(AD$8,'CCG-Prov(Amb)'!$F$2:$F$335,0)+$A23-1,0),\"\")","v":{"$error":"#N/A"}},null,{"$f":"IF($A23<=AG$7,VLOOKUP(OFFSET('CCG-Prov(Amb)'!$G$1,MATCH(AG$8,'CCG-Prov(Amb)'!$F$2:$F$335,0)+$A23-1,0),'CCG List'!$A$3:$B$213,2,0),\"\")","v":{"$error":"#N/A"}},{"$f":"IF($A23<=AG$7,OFFSET('CCG-Prov(Amb)'!$H$1,MATCH(AG$8,'CCG-Prov(Amb)'!$F$2:$F$335,0)+$A23-1,0),\"\")","v":{"$error":"#N/A"}}]
[15,{"$f":"VLOOKUP(D24,provnames!$A$334:$B$346,2,0)","v":""},{"$f":"IF(A24<=$A$31,OFFSET('CCG-Prov(Amb)'!$C$1,MATCH(Ambulance!$C$4,'CCG-Prov(Amb)'!$A$2:$A$335,0)+$A24-1,0),\"\")","v":""},{"$f":"IF(A24<=$A$31,OFFSET('CCG-Prov(Amb)'!$B$1,MATCH(Ambulance!$C$4,'CCG-Prov(Amb)'!$A$2:$A$335,0)+$A24-1,0),\"\")","v":""},null,{"$f":"IF($A24<=F$7,VLOOKUP(OFFSET('CCG-Prov(Amb)'!$G$1,MATCH(F$8,'CCG-Prov(Amb)'!$F$2:$F$335,0)+$A24-1,0),'CCG List'!$A$3:$B$213,2,0),\"\")","v":""},{"$f":"IF($A24<=F$7,OFFSET('CCG-Prov(Amb)'!$H$1,MATCH(F$8,'CCG-Prov(Amb)'!$F$2:$F$335,0)+$A24-1,0),\"\")","v":""},null,{"$f":"IF($A24<=I$7,VLOOKUP(OFFSET('CCG-Prov(Amb)'!$G$1,MATCH(I$8,'CCG-Prov(Amb)'!$F$2:$F$335,0)+$A24-1,0),'CCG List'!$A$3:$B$213,2,0),\"\")","v":{"$error":"#N/A"}},{"$f":"IF($A24<=I$7,OFFSET('CCG-Prov(Amb)'!$H$1,MATCH(I$8,'CCG-Prov(Amb)'!$F$2:$F$335,0)+$A24-1,0),\"\")","v":{"$error":"#N/A"}},null,{"$f":"IF($A24<=L$7,VLOOKUP(OFFSET('CCG-Prov(Amb)'!$G$1,MATCH(L$8,'CCG-Prov(Amb)'!$F$2:$F$335,0)+$A24-1,0),'CCG List'!$A$3:$B$213,2,0),\"\")","v":{"$error":"#N/A"}},{"$f":"IF($A24<=L$7,OFFSET('CCG-Prov(Amb)'!$H$1,MATCH(L$8,'CCG-Prov(Amb)'!$F$2:$F$335,0)+$A24-1,0),\"\")","v":{"$error":"#N/A"}},null,{"$f":"IF($A24<=O$7,VLOOKUP(OFFSET('CCG-Prov(Amb)'!$G$1,MATCH(O$8,'CCG-Prov(Amb)'!$F$2:$F$335,0)+$A24-1,0),'CCG List'!$A$3:$B$213,2,0),\"\")","v":{"$error":"#N/A"}},{"$f":"IF($A24<=O$7,OFFSET('CCG-Prov(Amb)'!$H$1,MATCH(O$8,'CCG-Prov(Amb)'!$F$2:$F$335,0)+$A24-1,0),\"\")","v":{"$error":"#N/A"}},null,{"$f":"IF($A24<=R$7,VLOOKUP(OFFSET('CCG-Prov(Amb)'!$G$1,MATCH(R$8,'CCG-Prov(Amb)'!$F$2:$F$335,0)+$A24-1,0),'CCG List'!$A$3:$B$213,2,0),\"\")","v":{"$error":"#N/A"}},{"$f":"IF($A24<=R$7,OFFSET('CCG-Prov(Amb)'!$H$1,MATCH(R$8,'CCG-Prov(Amb)'!$F$2:$F$335,0)+$A24-1,0),\"\")","v":{"$error":"#N/A"}},null,{"$f":"IF($A24<=U$7,VLOOKUP(OFFSET('CCG-Prov(Amb)'!$G$1,MATCH(U$8,'CCG-Prov(Amb)'!$F$2:$F$335,0)+$A24-1,0),'CCG List'!$A$3:$B$213,2,0),\"\")","v":{"$error":"#N/A"}},{"$f":"IF($A24<=U$7,OFFSET('CCG-Prov(Amb)'!$H$1,MATCH(U$8,'CCG-Prov(Amb)'!$F$2:$F$335,0)+$A24-1,0),\"\")","v":{"$error":"#N/A"}},null,{"$f":"IF($A24<=X$7,VLOOKUP(OFFSET('CCG-Prov(Amb)'!$G$1,MATCH(X$8,'CCG-Prov(Amb)'!$F$2:$F$335,0)+$A24-1,0),'CCG List'!$A$3:$B$213,2,0),\"\")","v":{"$error":"#N/A"}},{"$f":"IF($A24<=X$7,OFFSET('CCG-Prov(Amb)'!$H$1,MATCH(X$8,'CCG-Prov(Amb)'!$F$2:$F$335,0)+$A24-1,0),\"\")","v":{"$error":"#N/A"}},null,{"$f":"IF($A24<=AA$7,VLOOKUP(OFFSET('CCG-Prov(Amb)'!$G$1,MATCH(AA$8,'CCG-Prov(Amb)'!$F$2:$F$335,0)+$A24-1,0),'CCG List'!$A$3:$B$213,2,0),\"\")","v":{"$error":"#N/A"}},{"$f":"IF($A24<=AA$7,OFFSET('CCG-Prov(Amb)'!$H$1,MATCH(AA$8,'CCG-Prov(Amb)'!$F$2:$F$335,0)+$A24-1,0),\"\")","v":{"$error":"#N/A"}},null,{"$f":"IF($A24<=AD$7,VLOOKUP(OFFSET('CCG-Prov(Amb)'!$G$1,MATCH(AD$8,'CCG-Prov(Amb)'!$F$2:$F$335,0)+$A24-1,0),'CCG List'!$A$3:$B$213,2,0),\"\")","v":{"$error":"#N/A"}},{"$f":"IF($A24<=AD$7,OFFSET('CCG-Prov(Amb)'!$H$1,MATCH(AD$8,'CCG-Prov(Amb)'!$F$2:$F$335,0)+$A24-1,0),\"\")","v":{"$error":"#N/A"}},null,{"$f":"IF($A24<=AG$7,VLOOKUP(OFFSET('CCG-Prov(Amb)'!$G$1,MATCH(AG$8,'CCG-Prov(Amb)'!$F$2:$F$335,0)+$A24-1,0),'CCG List'!$A$3:$B$213,2,0),\"\")","v":{"$error":"#N/A"}},{"$f":"IF($A24<=AG$7,OFFSET('CCG-Prov(Amb)'!$H$1,MATCH(AG$8,'CCG-Prov(Amb)'!$F$2:$F$335,0)+$A24-1,0),\"\")","v":{"$error":"#N/A"}}]
[16,{"$f":"VLOOKUP(D25,provnames!$A$334:$B$346,2,0)","v":""},{"$f":"IF(A25<=$A$31,OFFSET('CCG-Prov(Amb)'!$C$1,MATCH(Ambulance!$C$4,'CCG-Prov(Amb)'!$A$2:$A$335,0)+$A25-1,0),\"\")","v":""},{"$f":"IF(A25<=$A$31,OFFSET('CCG-Prov(Amb)'!$B$1,MATCH(Ambulance!$C$4,'CCG-Prov(Amb)'!$A$2:$A$335,0)+$A25-1,0),\"\")","v":""},null,{"$f":"IF($A25<=F$7,VLOOKUP(OFFSET('CCG-Prov(Amb)'!$G$1,MATCH(F$8,'CCG-Prov(Amb)'!$F$2:$F$335,0)+$A25-1,0),'CCG List'!$A$3:$B$213,2,0),\"\")","v":""},{"$f":"IF($A25<=F$7,OFFSET('CCG-Prov(Amb)'!$H$1,MATCH(F$8,'CCG-Prov(Amb)'!$F$2:$F$335,0)+$A25-1,0),\"\")","v":""},null,{"$f":"IF($A25<=I$7,VLOOKUP(OFFSET('CCG-Prov(Amb)'!$G$1,MATCH(I$8,'CCG-Prov(Amb)'!$F$2:$F$335,0)+$A25-1,0),'CCG List'!$A$3:$B$213,2,0),\"\")","v":{"$error":"#N/A"}},{"$f":"IF($A25<=I$7,OFFSET('CCG-Prov(Amb)'!$H$1,MATCH(I$8,'CCG-Prov(Amb)'!$F$2:$F$335,0)+$A25-1,0),\"\")","v":{"$error":"#N/A"}},null,{"$f":"IF($A25<=L$7,VLOOKUP(OFFSET('CCG-Prov(Amb)'!$G$1,MATCH(L$8,'CCG-Prov(Amb)'!$F$2:$F$335,0)+$A25-1,0),'CCG List'!$A$3:$B$213,2,0),\"\")","v":{"$error":"#N/A"}},{"$f":"IF($A25<=L$7,OFFSET('CCG-Prov(Amb)'!$H$1,MATCH(L$8,'CCG-Prov(Amb)'!$F$2:$F$335,0)+$A25-1,0),\"\")","v":{"$error":"#N/A"}},null,{"$f":"IF($A25<=O$7,VLOOKUP(OFFSET('CCG-Prov(Amb)'!$G$1,MATCH(O$8,'CCG-Prov(Amb)'!$F$2:$F$335,0)+$A25-1,0),'CCG List'!$A$3:$B$213,2,0),\"\")","v":{"$error":"#N/A"}},{"$f":"IF($A25<=O$7,OFFSET('CCG-Prov(Amb)'!$H$1,MATCH(O$8,'CCG-Prov(Amb)'!$F$2:$F$335,0)+$A25-1,0),\"\")","v":{"$error":"#N/A"}},null,{"$f":"IF($A25<=R$7,VLOOKUP(OFFSET('CCG-Prov(Amb)'!$G$1,MATCH(R$8,'CCG-Prov(Amb)'!$F$2:$F$335,0)+$A25-1,0),'CCG List'!$A$3:$B$213,2,0),\"\")","v":{"$error":"#N/A"}},{"$f":"IF($A25<=R$7,OFFSET('CCG-Prov(Amb)'!$H$1,MATCH(R$8,'CCG-Prov(Amb)'!$F$2:$F$335,0)+$A25-1,0),\"\")","v":{"$error":"#N/A"}},null,{"$f":"IF($A25<=U$7,VLOOKUP(OFFSET('CCG-Prov(Amb)'!$G$1,MATCH(U$8,'CCG-Prov(Amb)'!$F$2:$F$335,0)+$A25-1,0),'CCG List'!$A$3:$B$213,2,0),\"\")","v":{"$error":"#N/A"}},{"$f":"IF($A25<=U$7,OFFSET('CCG-Prov(Amb)'!$H$1,MATCH(U$8,'CCG-Prov(Amb)'!$F$2:$F$335,0)+$A25-1,0),\"\")","v":{"$error":"#N/A"}},null,{"$f":"IF($A25<=X$7,VLOOKUP(OFFSET('CCG-Prov(Amb)'!$G$1,MATCH(X$8,'CCG-Prov(Amb)'!$F$2:$F$335,0)+$A25-1,0),'CCG List'!$A$3:$B$213,2,0),\"\")","v":{"$error":"#N/A"}},{"$f":"IF($A25<=X$7,OFFSET('CCG-Prov(Amb)'!$H$1,MATCH(X$8,'CCG-Prov(Amb)'!$F$2:$F$335,0)+$A25-1,0),\"\")","v":{"$error":"#N/A"}},null,{"$f":"IF($A25<=AA$7,VLOOKUP(OFFSET('CCG-Prov(Amb)'!$G$1,MATCH(AA$8,'CCG-Prov(Amb)'!$F$2:$F$335,0)+$A25-1,0),'CCG List'!$A$3:$B$213,2,0),\"\")","v":{"$error":"#N/A"}},{"$f":"IF($A25<=AA$7,OFFSET('CCG-Prov(Amb)'!$H$1,MATCH(AA$8,'CCG-Prov(Amb)'!$F$2:$F$335,0)+$A25-1,0),\"\")","v":{"$error":"#N/A"}},null,{"$f":"IF($A25<=AD$7,VLOOKUP(OFFSET('CCG-Prov(Amb)'!$G$1,MATCH(AD$8,'CCG-Prov(Amb)'!$F$2:$F$335,0)+$A25-1,0),'CCG List'!$A$3:$B$213,2,0),\"\")","v":{"$error":"#N/A"}},{"$f":"IF($A25<=AD$7,OFFSET('CCG-Prov(Amb)'!$H$1,MATCH(AD$8,'CCG-Prov(Amb)'!$F$2:$F$335,0)+$A25-1,0),\"\")","v":{"$error":"#N/A"}},null,{"$f":"IF($A25<=AG$7,VLOOKUP(OFFSET('CCG-Prov(Amb)'!$G$1,MATCH(AG$8,'CCG-Prov(Amb)'!$F$2:$F$335,0)+$A25-1,0),'CCG List'!$A$3:$B$213,2,0),\"\")","v":{"$error":"#N/A"}},{"$f":"IF($A25<=AG$7,OFFSET('CCG-Prov(Amb)'!$H$1,MATCH(AG$8,'CCG-Prov(Amb)'!$F$2:$F$335,0)+$A25-1,0),\"\")","v":{"$error":"#N/A"}}]
[17,{"$f":"VLOOKUP(D26,provnames!$A$334:$B$346,2,0)","v":""},{"$f":"IF(A26<=$A$31,OFFSET('CCG-Prov(Amb)'!$C$1,MATCH(Ambulance!$C$4,'CCG-Prov(Amb)'!$A$2:$A$335,0)+$A26-1,0),\"\")","v":""},{"$f":"IF(A26<=$A$31,OFFSET('CCG-Prov(Amb)'!$B$1,MATCH(Ambulance!$C$4,'CCG-Prov(Amb)'!$A$2:$A$335,0)+$A26-1,0),\"\")","v":""},null,{"$f":"IF($A26<=F$7,VLOOKUP(OFFSET('CCG-Prov(Amb)'!$G$1,MATCH(F$8,'CCG-Prov(Amb)'!$F$2:$F$335,0)+$A26-1,0),'CCG List'!$A$3:$B$213,2,0),\"\")","v":""},{"$f":"IF($A26<=F$7,OFFSET('CCG-Prov(Amb)'!$H$1,MATCH(F$8,'CCG-Prov(Amb)'!$F$2:$F$335,0)+$A26-1,0),\"\")","v":""},null,{"$f":"IF($A26<=I$7,VLOOKUP(OFFSET('CCG-Prov(Amb)'!$G$1,MATCH(I$8,'CCG-Prov(Amb)'!$F$2:$F$335,0)+$A26-1,0),'CCG List'!$A$3:$B$213,2,0),\"\")","v":{"$error":"#N/A"}},{"$f":"IF($A26<=I$7,OFFSET('CCG-Prov(Amb)'!$H$1,MATCH(I$8,'CCG-Prov(Amb)'!$F$2:$F$335,0)+$A26-1,0),\"\")","v":{"$error":"#N/A"}},null,{"$f":"IF($A26<=L$7,VLOOKUP(OFFSET('CCG-Prov(Amb)'!$G$1,MATCH(L$8,'CCG-Prov(Amb)'!$F$2:$F$335,0)+$A26-1,0),'CCG List'!$A$3:$B$213,2,0),\"\")","v":{"$error":"#N/A"}},{"$f":"IF($A26<=L$7,OFFSET('CCG-Prov(Amb)'!$H$1,MATCH(L$8,'CCG-Prov(Amb)'!$F$2:$F$335,0)+$A26-1,0),\"\")","v":{"$error":"#N/A"}},null,{"$f":"IF($A26<=O$7,VLOOKUP(OFFSET('CCG-Prov(Amb)'!$G$1,MATCH(O$8,'CCG-Prov(Amb)'!$F$2:$F$335,0)+$A26-1,0),'CCG List'!$A$3:$B$213,2,0),\"\")","v":{"$error":"#N/A"}},{"$f":"IF($A26<=O$7,OFFSET('CCG-Prov(Amb)'!$H$1,MATCH(O$8,'CCG-Prov(Amb)'!$F$2:$F$335,0)+$A26-1,0),\"\")","v":{"$error":"#N/A"}},null,{"$f":"IF($A26<=R$7,VLOOKUP(OFFSET('CCG-Prov(Amb)'!$G$1,MATCH(R$8,'CCG-Prov(Amb)'!$F$2:$F$335,0)+$A26-1,0),'CCG List'!$A$3:$B$213,2,0),\"\")","v":{"$error":"#N/A"}},{"$f":"IF($A26<=R$7,OFFSET('CCG-Prov(Amb)'!$H$1,MATCH(R$8,'CCG-Prov(Amb)'!$F$2:$F$335,0)+$A26-1,0),\"\")","v":{"$error":"#N/A"}},null,{"$f":"IF($A26<=U$7,VLOOKUP(OFFSET('CCG-Prov(Amb)'!$G$1,MATCH(U$8,'CCG-Prov(Amb)'!$F$2:$F$335,0)+$A26-1,0),'CCG List'!$A$3:$B$213,2,0),\"\")","v":{"$error":"#N/A"}},{"$f":"IF($A26<=U$7,OFFSET('CCG-Prov(Amb)'!$H$1,MATCH(U$8,'CCG-Prov(Amb)'!$F$2:$F$335,0)+$A26-1,0),\"\")","v":{"$error":"#N/A"}},null,{"$f":"IF($A26<=X$7,VLOOKUP(OFFSET('CCG-Prov(Amb)'!$G$1,MATCH(X$8,'CCG-Prov(Amb)'!$F$2:$F$335,0)+$A26-1,0),'CCG List'!$A$3:$B$213,2,0),\"\")","v":{"$error":"#N/A"}},{"$f":"IF($A26<=X$7,OFFSET('CCG-Prov(Amb)'!$H$1,MATCH(X$8,'CCG-Prov(Amb)'!$F$2:$F$335,0)+$A26-1,0),\"\")","v":{"$error":"#N/A"}},null,{"$f":"IF($A26<=AA$7,VLOOKUP(OFFSET('CCG-Prov(Amb)'!$G$1,MATCH(AA$8,'CCG-Prov(Amb)'!$F$2:$F$335,0)+$A26-1,0),'CCG List'!$A$3:$B$213,2,0),\"\")","v":{"$error":"#N/A"}},{"$f":"IF($A26<=AA$7,OFFSET('CCG-Prov(Amb)'!$H$1,MATCH(AA$8,'CCG-Prov(Amb)'!$F$2:$F$335,0)+$A26-1,0),\"\")","v":{"$error":"#N/A"}},null,{"$f":"IF($A26<=AD$7,VLOOKUP(OFFSET('CCG-Prov(Amb)'!$G$1,MATCH(AD$8,'CCG-Prov(Amb)'!$F$2:$F$335,0)+$A26-1,0),'CCG List'!$A$3:$B$213,2,0),\"\")","v":{"$error":"#N/A"}},{"$f":"IF($A26<=AD$7,OFFSET('CCG-Prov(Amb)'!$H$1,MATCH(AD$8,'CCG-Prov(Amb)'!$F$2:$F$335,0)+$A26-1,0),\"\")","v":{"$error":"#N/A"}},null,{"$f":"IF($A26<=AG$7,VLOOKUP(OFFSET('CCG-Prov(Amb)'!$G$1,MATCH(AG$8,'CCG-Prov(Amb)'!$F$2:$F$335,0)+$A26-1,0),'CCG List'!$A$3:$B$213,2,0),\"\")","v":{"$error":"#N/A"}},{"$f":"IF($A26<=AG$7,OFFSET('CCG-Prov(Amb)'!$H$1,MATCH(AG$8,'CCG-Prov(Amb)'!$F$2:$F$335,0)+$A26-1,0),\"\")","v":{"$error":"#N/A"}}]
[18,{"$f":"VLOOKUP(D27,provnames!$A$334:$B$346,2,0)","v":""},{"$f":"IF(A27<=$A$31,OFFSET('CCG-Prov(Amb)'!$C$1,MATCH(Ambulance!$C$4,'CCG-Prov(Amb)'!$A$2:$A$335,0)+$A27-1,0),\"\")","v":""},{"$f":"IF(A27<=$A$31,OFFSET('CCG-Prov(Amb)'!$B$1,MATCH(Ambulance!$C$4,'CCG-Prov(Amb)'!$A$2:$A$335,0)+$A27-1,0),\"\")","v":""},null,{"$f":"IF($A27<=F$7,VLOOKUP(OFFSET('CCG-Prov(Amb)'!$G$1,MATCH(F$8,'CCG-Prov(Amb)'!$F$2:$F$335,0)+$A27-1,0),'CCG List'!$A$3:$B$213,2,0),\"\")","v":""},{"$f":"IF($A27<=F$7,OFFSET('CCG-Prov(Amb)'!$H$1,MATCH(F$8,'CCG-Prov(Amb)'!$F$2:$F$335,0)+$A27-1,0),\"\")","v":""},null,{"$f":"IF($A27<=I$7,VLOOKUP(OFFSET('CCG-Prov(Amb)'!$G$1,MATCH(I$8,'CCG-Prov(Amb)'!$F$2:$F$335,0)+$A27-1,0),'CCG List'!$A$3:$B$213,2,0),\"\")","v":{"$error":"#N/A"}},{"$f":"IF($A27<=I$7,OFFSET('CCG-Prov(Amb)'!$H$1,MATCH(I$8,'CCG-Prov(Amb)'!$F$2:$F$335,0)+$A27-1,0),\"\")","v":{"$error":"#N/A"}},null,{"$f":"IF($A27<=L$7,VLOOKUP(OFFSET('CCG-Prov(Amb)'!$G$1,MATCH(L$8,'CCG-Prov(Amb)'!$F$2:$F$335,0)+$A27-1,0),'CCG List'!$A$3:$B$213,2,0),\"\")","v":{"$error":"#N/A"}},{"$f":"IF($A27<=L$7,OFFSET('CCG-Prov(Amb)'!$H$1,MATCH(L$8,'CCG-Prov(Amb)'!$F$2:$F$335,0)+$A27-1,0),\"\")","v":{"$error":"#N/A"}},null,{"$f":"IF($A27<=O$7,VLOOKUP(OFFSET('CCG-Prov(Amb)'!$G$1,MATCH(O$8,'CCG-Prov(Amb)'!$F$2:$F$335,0)+$A27-1,0),'CCG List'!$A$3:$B$213,2,0),\"\")","v":{"$error":"#N/A"}},{"$f":"IF($A27<=O$7,OFFSET('CCG-Prov(Amb)'!$H$1,MATCH(O$8,'CCG-Prov(Amb)'!$F$2:$F$335,0)+$A27-1,0),\"\")","v":{"$error":"#N/A"}},null,{"$f":"IF($A27<=R$7,VLOOKUP(OFFSET('CCG-Prov(Amb)'!$G$1,MATCH(R$8,'CCG-Prov(Amb)'!$F$2:$F$335,0)+$A27-1,0),'CCG List'!$A$3:$B$213,2,0),\"\")","v":{"$error":"#N/A"}},{"$f":"IF($A27<=R$7,OFFSET('CCG-Prov(Amb)'!$H$1,MATCH(R$8,'CCG-Prov(Amb)'!$F$2:$F$335,0)+$A27-1,0),\"\")","v":{"$error":"#N/A"}},null,{"$f":"IF($A27<=U$7,VLOOKUP(OFFSET('CCG-Prov(Amb)'!$G$1,MATCH(U$8,'CCG-Prov(Amb)'!$F$2:$F$335,0)+$A27-1,0),'CCG List'!$A$3:$B$213,2,0),\"\")","v":{"$error":"#N/A"}},{"$f":"IF($A27<=U$7,OFFSET('CCG-Prov(Amb)'!$H$1,MATCH(U$8,'CCG-Prov(Amb)'!$F$2:$F$335,0)+$A27-1,0),\"\")","v":{"$error":"#N/A"}},null,{"$f":"IF($A27<=X$7,VLOOKUP(OFFSET('CCG-Prov(Amb)'!$G$1,MATCH(X$8,'CCG-Prov(Amb)'!$F$2:$F$335,0)+$A27-1,0),'CCG List'!$A$3:$B$213,2,0),\"\")","v":{"$error":"#N/A"}},{"$f":"IF($A27<=X$7,OFFSET('CCG-Prov(Amb)'!$H$1,MATCH(X$8,'CCG-Prov(Amb)'!$F$2:$F$335,0)+$A27-1,0),\"\")","v":{"$error":"#N/A"}},null,{"$f":"IF($A27<=AA$7,VLOOKUP(OFFSET('CCG-Prov(Amb)'!$G$1,MATCH(AA$8,'CCG-Prov(Amb)'!$F$2:$F$335,0)+$A27-1,0),'CCG List'!$A$3:$B$213,2,0),\"\")","v":{"$error":"#N/A"}},{"$f":"IF($A27<=AA$7,OFFSET('CCG-Prov(Amb)'!$H$1,MATCH(AA$8,'CCG-Prov(Amb)'!$F$2:$F$335,0)+$A27-1,0),\"\")","v":{"$error":"#N/A"}},null,{"$f":"IF($A27<=AD$7,VLOOKUP(OFFSET('CCG-Prov(Amb)'!$G$1,MATCH(AD$8,'CCG-Prov(Amb)'!$F$2:$F$335,0)+$A27-1,0),'CCG List'!$A$3:$B$213,2,0),\"\")","v":{"$error":"#N/A"}},{"$f":"IF($A27<=AD$7,OFFSET('CCG-Prov(Amb)'!$H$1,MATCH(AD$8,'CCG-Prov(Amb)'!$F$2:$F$335,0)+$A27-1,0),\"\")","v":{"$error":"#N/A"}},null,{"$f":"IF($A27<=AG$7,VLOOKUP(OFFSET('CCG-Prov(Amb)'!$G$1,MATCH(AG$8,'CCG-Prov(Amb)'!$F$2:$F$335,0)+$A27-1,0),'CCG List'!$A$3:$B$213,2,0),\"\")","v":{"$error":"#N/A"}},{"$f":"IF($A27<=AG$7,OFFSET('CCG-Prov(Amb)'!$H$1,MATCH(AG$8,'CCG-Prov(Amb)'!$F$2:$F$335,0)+$A27-1,0),\"\")","v":{"$error":"#N/A"}}]
[19,{"$f":"VLOOKUP(D28,provnames!$A$334:$B$346,2,0)","v":""},{"$f":"IF(A28<=$A$31,OFFSET('CCG-Prov(Amb)'!$C$1,MATCH(Ambulance!$C$4,'CCG-Prov(Amb)'!$A$2:$A$335,0)+$A28-1,0),\"\")","v":""},{"$f":"IF(A28<=$A$31,OFFSET('CCG-Prov(Amb)'!$B$1,MATCH(Ambulance!$C$4,'CCG-Prov(Amb)'!$A$2:$A$335,0)+$A28-1,0),\"\")","v":""},null,{"$f":"IF($A28<=F$7,VLOOKUP(OFFSET('CCG-Prov(Amb)'!$G$1,MATCH(F$8,'CCG-Prov(Amb)'!$F$2:$F$335,0)+$A28-1,0),'CCG List'!$A$3:$B$213,2,0),\"\")","v":""},{"$f":"IF($A28<=F$7,OFFSET('CCG-Prov(Amb)'!$H$1,MATCH(F$8,'CCG-Prov(Amb)'!$F$2:$F$335,0)+$A28-1,0),\"\")","v":""},null,{"$f":"IF($A28<=I$7,VLOOKUP(OFFSET('CCG-Prov(Amb)'!$G$1,MATCH(I$8,'CCG-Prov(Amb)'!$F$2:$F$335,0)+$A28-1,0),'CCG List'!$A$3:$B$213,2,0),\"\")","v":{"$error":"#N/A"}},{"$f":"IF($A28<=I$7,OFFSET('CCG-Prov(Amb)'!$H$1,MATCH(I$8,'CCG-Prov(Amb)'!$F$2:$F$335,0)+$A28-1,0),\"\")","v":{"$error":"#N/A"}},null,{"$f":"IF($A28<=L$7,VLOOKUP(OFFSET('CCG-Prov(Amb)'!$G$1,MATCH(L$8,'CCG-Prov(Amb)'!$F$2:$F$335,0)+$A28-1,0),'CCG List'!$A$3:$B$213,2,0),\"\")","v":{"$error":"#N/A"}},{"$f":"IF($A28<=L$7,OFFSET('CCG-Prov(Amb)'!$H$1,MATCH(L$8,'CCG-Prov(Amb)'!$F$2:$F$335,0)+$A28-1,0),\"\")","v":{"$error":"#N/A"}},null,{"$f":"IF($A28<=O$7,VLOOKUP(OFFSET('CCG-Prov(Amb)'!$G$1,MATCH(O$8,'CCG-Prov(Amb)'!$F$2:$F$335,0)+$A28-1,0),'CCG List'!$A$3:$B$213,2,0),\"\")","v":{"$error":"#N/A"}},{"$f":"IF($A28<=O$7,OFFSET('CCG-Prov(Amb)'!$H$1,MATCH(O$8,'CCG-Prov(Amb)'!$F$2:$F$335,0)+$A28-1,0),\"\")","v":{"$error":"#N/A"}},null,{"$f":"IF($A28<=R$7,VLOOKUP(OFFSET('CCG-Prov(Amb)'!$G$1,MATCH(R$8,'CCG-Prov(Amb)'!$F$2:$F$335,0)+$A28-1,0),'CCG List'!$A$3:$B$213,2,0),\"\")","v":{"$error":"#N/A"}},{"$f":"IF($A28<=R$7,OFFSET('CCG-Prov(Amb)'!$H$1,MATCH(R$8,'CCG-Prov(Amb)'!$F$2:$F$335,0)+$A28-1,0),\"\")","v":{"$error":"#N/A"}},null,{"$f":"IF($A28<=U$7,VLOOKUP(OFFSET('CCG-Prov(Amb)'!$G$1,MATCH(U$8,'CCG-Prov(Amb)'!$F$2:$F$335,0)+$A28-1,0),'CCG List'!$A$3:$B$213,2,0),\"\")","v":{"$error":"#N/A"}},{"$f":"IF($A28<=U$7,OFFSET('CCG-Prov(Amb)'!$H$1,MATCH(U$8,'CCG-Prov(Amb)'!$F$2:$F$335,0)+$A28-1,0),\"\")","v":{"$error":"#N/A"}},null,{"$f":"IF($A28<=X$7,VLOOKUP(OFFSET('CCG-Prov(Amb)'!$G$1,MATCH(X$8,'CCG-Prov(Amb)'!$F$2:$F$335,0)+$A28-1,0),'CCG List'!$A$3:$B$213,2,0),\"\")","v":{"$error":"#N/A"}},{"$f":"IF($A28<=X$7,OFFSET('CCG-Prov(Amb)'!$H$1,MATCH(X$8,'CCG-Prov(Amb)'!$F$2:$F$335,0)+$A28-1,0),\"\")","v":{"$error":"#N/A"}},null,{"$f":"IF($A28<=AA$7,VLOOKUP(OFFSET('CCG-Prov(Amb)'!$G$1,MATCH(AA$8,'CCG-Prov(Amb)'!$F$2:$F$335,0)+$A28-1,0),'CCG List'!$A$3:$B$213,2,0),\"\")","v":{"$error":"#N/A"}},{"$f":"IF($A28<=AA$7,OFFSET('CCG-Prov(Amb)'!$H$1,MATCH(AA$8,'CCG-Prov(Amb)'!$F$2:$F$335,0)+$A28-1,0),\"\")","v":{"$error":"#N/A"}},null,{"$f":"IF($A28<=AD$7,VLOOKUP(OFFSET('CCG-Prov(Amb)'!$G$1,MATCH(AD$8,'CCG-Prov(Amb)'!$F$2:$F$335,0)+$A28-1,0),'CCG List'!$A$3:$B$213,2,0),\"\")","v":{"$error":"#N/A"}},{"$f":"IF($A28<=AD$7,OFFSET('CCG-Prov(Amb)'!$H$1,MATCH(AD$8,'CCG-Prov(Amb)'!$F$2:$F$335,0)+$A28-1,0),\"\")","v":{"$error":"#N/A"}},null,{"$f":"IF($A28<=AG$7,VLOOKUP(OFFSET('CCG-Prov(Amb)'!$G$1,MATCH(AG$8,'CCG-Prov(Amb)'!$F$2:$F$335,0)+$A28-1,0),'CCG List'!$A$3:$B$213,2,0),\"\")","v":{"$error":"#N/A"}},{"$f":"IF($A28<=AG$7,OFFSET('CCG-Prov(Amb)'!$H$1,MATCH(AG$8,'CCG-Prov(Amb)'!$F$2:$F$335,0)+$A28-1,0),\"\")","v":{"$error":"#N/A"}}]
[20,{"$f":"VLOOKUP(D29,provnames!$A$334:$B$346,2,0)","v":""},{"$f":"IF(A29<=$A$31,OFFSET('CCG-Prov(Amb)'!$C$1,MATCH(Ambulance!$C$4,'CCG-Prov(Amb)'!$A$2:$A$335,0)+$A29-1,0),\"\")","v":""},{"$f":"IF(A29<=$A$31,OFFSET('CCG-Prov(Amb)'!$B$1,MATCH(Ambulance!$C$4,'CCG-Prov(Amb)'!$A$2:$A$335,0)+$A29-1,0),\"\")","v":""},null,{"$f":"IF($A29<=F$7,VLOOKUP(OFFSET('CCG-Prov(Amb)'!$G$1,MATCH(F$8,'CCG-Prov(Amb)'!$F$2:$F$335,0)+$A29-1,0),'CCG List'!$A$3:$B$213,2,0),\"\")","v":""},{"$f":"IF($A29<=F$7,OFFSET('CCG-Prov(Amb)'!$H$1,MATCH(F$8,'CCG-Prov(Amb)'!$F$2:$F$335,0)+$A29-1,0),\"\")","v":""},null,{"$f":"IF($A29<=I$7,VLOOKUP(OFFSET('CCG-Prov(Amb)'!$G$1,MATCH(I$8,'CCG-Prov(Amb)'!$F$2:$F$335,0)+$A29-1,0),'CCG List'!$A$3:$B$213,2,0),\"\")","v":{"$error":"#N/A"}},{"$f":"IF($A29<=I$7,OFFSET('CCG-Prov(Amb)'!$H$1,MATCH(I$8,'CCG-Prov(Amb)'!$F$2:$F$335,0)+$A29-1,0),\"\")","v":{"$error":"#N/A"}},null,{"$f":"IF($A29<=L$7,VLOOKUP(OFFSET('CCG-Prov(Amb)'!$G$1,MATCH(L$8,'CCG-Prov(Amb)'!$F$2:$F$335,0)+$A29-1,0),'CCG List'!$A$3:$B$213,2,0),\"\")","v":{"$error":"#N/A"}},{"$f":"IF($A29<=L$7,OFFSET('CCG-Prov(Amb)'!$H$1,MATCH(L$8,'CCG-Prov(Amb)'!$F$2:$F$335,0)+$A29-1,0),\"\")","v":{"$error":"#N/A"}},null,{"$f":"IF($A29<=O$7,VLOOKUP(OFFSET('CCG-Prov(Amb)'!$G$1,MATCH(O$8,'CCG-Prov(Amb)'!$F$2:$F$335,0)+$A29-1,0),'CCG List'!$A$3:$B$213,2,0),\"\")","v":{"$error":"#N/A"}},{"$f":"IF($A29<=O$7,OFFSET('CCG-Prov(Amb)'!$H$1,MATCH(O$8,'CCG-Prov(Amb)'!$F$2:$F$335,0)+$A29-1,0),\"\")","v":{"$error":"#N/A"}},null,{"$f":"IF($A29<=R$7,VLOOKUP(OFFSET('CCG-Prov(Amb)'!$G$1,MATCH(R$8,'CCG-Prov(Amb)'!$F$2:$F$335,0)+$A29-1,0),'CCG List'!$A$3:$B$213,2,0),\"\")","v":{"$error":"#N/A"}},{"$f":"IF($A29<=R$7,OFFSET('CCG-Prov(Amb)'!$H$1,MATCH(R$8,'CCG-Prov(Amb)'!$F$2:$F$335,0)+$A29-1,0),\"\")","v":{"$error":"#N/A"}},null,{"$f":"IF($A29<=U$7,VLOOKUP(OFFSET('CCG-Prov(Amb)'!$G$1,MATCH(U$8,'CCG-Prov(Amb)'!$F$2:$F$335,0)+$A29-1,0),'CCG List'!$A$3:$B$213,2,0),\"\")","v":{"$error":"#N/A"}},{"$f":"IF($A29<=U$7,OFFSET('CCG-Prov(Amb)'!$H$1,MATCH(U$8,'CCG-Prov(Amb)'!$F$2:$F$335,0)+$A29-1,0),\"\")","v":{"$error":"#N/A"}},null,{"$f":"IF($A29<=X$7,VLOOKUP(OFFSET('CCG-Prov(Amb)'!$G$1,MATCH(X$8,'CCG-Prov(Amb)'!$F$2:$F$335,0)+$A29-1,0),'CCG List'!$A$3:$B$213,2,0),\"\")","v":{"$error":"#N/A"}},{"$f":"IF($A29<=X$7,OFFSET('CCG-Prov(Amb)'!$H$1,MATCH(X$8,'CCG-Prov(Amb)'!$F$2:$F$335,0)+$A29-1,0),\"\")","v":{"$error":"#N/A"}},null,{"$f":"IF($A29<=AA$7,VLOOKUP(OFFSET('CCG-Prov(Amb)'!$G$1,MATCH(AA$8,'CCG-Prov(Amb)'!$F$2:$F$335,0)+$A29-1,0),'CCG List'!$A$3:$B$213,2,0),\"\")","v":{"$error":"#N/A"}},{"$f":"IF($A29<=AA$7,OFFSET('CCG-Prov(Amb)'!$H$1,MATCH(AA$8,'CCG-Prov(Amb)'!$F$2:$F$335,0)+$A29-1,0),\"\")","v":{"$error":"#N/A"}},null,{"$f":"IF($A29<=AD$7,VLOOKUP(OFFSET('CCG-Prov(Amb)'!$G$1,MATCH(AD$8,'CCG-Prov(Amb)'!$F$2:$F$335,0)+$A29-1,0),'CCG List'!$A$3:$B$213,2,0),\"\")","v":{"$error":"#N/A"}},{"$f":"IF($A29<=AD$7,OFFSET('CCG-Prov(Amb)'!$H$1,MATCH(AD$8,'CCG-Prov(Amb)'!$F$2:$F$335,0)+$A29-1,0),\"\")","v":{"$error":"#N/A"}},null,{"$f":"IF($A29<=AG$7,VLOOKUP(OFFSET('CCG-Prov(Amb)'!$G$1,MATCH(AG$8,'CCG-Prov(Amb)'!$F$2:$F$335,0)+$A29-1,0),'CCG List'!$A$3:$B$213,2,0),\"\")","v":{"$error":"#N/A"}},{"$f":"IF($A29<=AG$7,OFFSET('CCG-Prov(Amb)'!$H$1,MATCH(AG$8,'CCG-Prov(Amb)'!$F$2:$F$335,0)+$A29-1,0),\"\")","v":{"$error":"#N/A"}}]
[null,"Others",{"$f":"C31-SUM(C10:C29)","v":0},null,null,"Other",{"$f":"G31-SUM(G10:G29)","v":0},null,"Other",{"$f":"J31-SUM(J10:J29)","v":{"$error":"#N/A"}},null,"Other",{"$f":"M31-SUM(M10:M29)","v":{"$error":"#N/A"}},null,"Other",{"$f":"P31-SUM(P10:P29)","v":{"$error":"#N/A"}},null,"Other",{"$f":"S31-SUM(S10:S29)","v":{"$error":"#N/A"}},null,"Other",{"$f":"V31-SUM(V10:V29)","v":{"$error":"#N/A"}},null,"Other",{"$f":"Y31-SUM(Y10:Y29)","v":{"$error":"#N/A"}},null,"Other",{"$f":"AB31-SUM(AB10:AB29)","v":{"$error":"#N/A"}},null,"Other",{"$f":"AE31-SUM(AE10:AE29)","v":{"$error":"#N/A"}},null,"Other",{"$f":"AH31-SUM(AH10:AH29)","v":{"$error":"#N/A"}}]
[{"$f":"MIN(VLOOKUP(C4,'CCG List'!$A$3:$U$214,21,0),20)","v":1},"Total",{"$f":"SUMIF('CCG-Prov(Amb)'!$A$2:$A$335,C4,'CCG-Prov(Amb)'!$C$2:$C$335)","v":141052},null,null,"Total",{"$f":"SUMIF('CCG-Prov(Amb)'!$F$2:$F$335,F8,'CCG-Prov(Amb)'!$H$2:$H$335)","v":141052},null,"Total",{"$f":"SUMIF('CCG-Prov(Amb)'!$F$2:$F$335,I8,'CCG-Prov(Amb)'!$H$2:$H$335)","v":0},null,"Total",{"$f":"SUMIF('CCG-Prov(Amb)'!$F$2:$F$335,L8,'CCG-Prov(Amb)'!$H$2:$H$335)","v":0},null,"Total",{"$f":"SUMIF('CCG-Prov(Amb)'!$F$2:$F$335,O8,'CCG-Prov(Amb)'!$H$2:$H$335)","v":0},null,"Total",{"$f":"SUMIF('CCG-Prov(Amb)'!$F$2:$F$335,R8,'CCG-Prov(Amb)'!$H$2:$H$335)","v":0},null,"Total",{"$f":"SUMIF('CCG-Prov(Amb)'!$F$2:$F$335,U8,'CCG-Prov(Amb)'!$H$2:$H$335)","v":0},null,"Total",{"$f":"SUMIF('CCG-Prov(Amb)'!$F$2:$F$335,X8,'CCG-Prov(Amb)'!$H$2:$H$335)","v":0},null,"Total",{"$f":"SUMIF('CCG-Prov(Amb)'!$F$2:$F$335,AA8,'CCG-Prov(Amb)'!$H$2:$H$335)","v":0},null,"Total",{"$f":"SUMIF('CCG-Prov(Amb)'!$F$2:$F$335,AD8,'CCG-Prov(Amb)'!$H$2:$H$335)","v":0},null,"Total",{"$f":"SUMIF('CCG-Prov(Amb)'!$F$2:$F$335,AG8,'CCG-Prov(Amb)'!$H$2:$H$335)","v":0}]
[]
[]
[]
[]
[]
[null,0]
[null,1000]
[null,2000]
[null,5000]
[null,"The first table shows the ambulance trust area in which a CCG's registered population live. The other tables then show which other CCGs the residents in those ambulance trusts' areas are registered with."]
[]
[]
[]
[null,null,null,null,null,null,null,null,null,null,null,{"$f":"IFERROR(RANK(F45,#REF!),\"\")","v":""},{"$f":"IFERROR(RANK(G45,#REF!),\"\")","v":""},null,{"$f":"IFERROR(RANK(I45,#REF!),\"\")","v":""},{"$f":"IFERROR(RANK(J45,#REF!),\"\")","v":""}]

{"sheet":"CCG-Prov(Acute)","index":3,"n_rows":28899,"n_cols":8,"rows_kept":4500,"cut":true,"hidden":true,"merged":[],"bounds":{"rows_first":2000,"rows_last":500,"rows_between":2000,"halvings":0}}
["CCG_Code","Prov_Code","First_Episodes",null,null,"Prov_Code","CCG_Code","First_Episodes"]
["00C","RXP",20366,null,null,"5A3","12A",125]
["00C","RTR",2343,null,null,"5A3","11H",2]
["00C","RTD",656,null,null,"5A4","08F",632]
["00C","NT4",545,null,null,"5A4","07L",3]
["00C","RVW",248,null,null,"5A4","10M",1]
["00C","5J9",137,null,null,"5A5","08J",616]
["00C","RLN",112,null,null,"5A5","08P",5]
["00C","RR8",60,null,null,"5A5","99H",2]
["00C","RR7",26,null,null,"5A5","08N",1]
["00C","NVC",22,null,null,"5A5","08T",1]
["00C","NT3",13,null,null,"5A5","08X",1]
["00C","RTF",11,null,null,"5A5","99J",1]
["00C","RCB",8,null,null,"5AT","08G",227]
["00C","RCC",7,null,null,"5AT","07W",5]
["00C","RCD",7,null,null,"5AT","07Y",1]
["00C","RP4",7,null,null,"5AT","10L",1]
["00C","RQ3",7,null,null,"5AT","99P",1]
["00C","RTX",7,null,null,"5C4","08V",1528]
["00C","RW3",7,null,null,"5C4","07T",27]
["00C","RWD",7,null,null,"5C4","08M",27]
["00C","RNL",6,null,null,"5C4","08F",15]
["00C","RRV",6,null,null,"5C4","08N",10]
["00C","RGN",5,null,null,"5C4","07N",6]
["00C","RM2",5,null,null,"5C4","08D",5]
["00C","RXL",5,null,null,"5C4","08W",5]
["00C","RBS",4,null,null,"5C4","07L",4]
["00C","RKB",4,null,null,"5C4","07Q",4]
["00C","RHQ",3,null,null,"5C4","08H",4]
["00C","RJ1",3,null,null,"5C4","07H",3]
["00C","RK5",3,null,null,"5C4","09A",3]
["00C","RM3",3,null,null,"5C4","04C",2]
["00C","RNZ",3,null,null,"5C4","99E",2]
["00C","RRK",3,null,null,"5C4","05A",1]
["00C","RX1",3,null,null,"5C4","05Y",1]
["00C","RAL",2,null,null,"5C4","06K",1]
["00C","RAX",2,null,null,"5C4","06Q",1]
["00C","RBT",2,null,null,"5C4","06T",1]
["00C","RCF",2,null,null,"5C4","07G",1]
["00C","RD1",2,null,null,"5C4","07J",1]
["00C","RE9",2,null,null,"5C4","07R",1]
["00C","REM",2,null,null,"5C4","07X",1]
["00C","RGT",2,null,null,"5C4","08A",1]
["00C","RJL",2,null,null,"5C4","08C",1]
["00C","RKE",2,null,null,"5C4","08J",1]
["00C","RP5",2,null,null,"5C4","08K",1]
["00C","RP6",2,null,null,"5C4","09F",1]
["00C","RQM",2,null,null,"5C4","09G",1]
["00C","RR1",2,null,null,"5C4","09H",1]
["00C","RTG",2,null,null,"5C4","09J",1]
["00C","RTH",2,null,null,"5C4","09P",1]
["00C","RV8",2,null,null,"5C4","99G",1]
["00C","RXN",2,null,null,"5C4","99P",1]
["00C","5NV",1,null,null,"5C5","07L",2]
["00C","NN4",1,null,null,"5C5","08M",2]
["00C","RA3",1,null,null,"5C5","08A",1]
["00C","RAE",1,null,null,"5CN","05F",2300]
["00C","RAP",1,null,null,"5CN","11M",267]
["00C","RBN",1,null,null,"5CN","05X",105]
["00C","RBV",1,null,null,"5CN","05N",104]
["00C","RC3",1,null,null,"5CN","05T",35]
["00C","RCX",1,null,null,"5CN","12A",8]
["00C","RD7",1,null,null,"5CN","05Q",3]
["00C","RD8",1,null,null,"5CN","08Y",2]
["00C","RDU",1,null,null,"5CN","12F",2]
["00C","RGM",1,null,null,"5CN","99N",2]
["00C","RGP",1,null,null,"5CN","00T",1]
["00C","RHM",1,null,null,"5CN","00X",1]
["00C","RHU",1,null,null,"5CN","01W",1]
["00C","RJ2",1,null,null,"5CN","02F",1]
["00C","RJC",1,null,null,"5CN","05L",1]
["00C","RJR",1,null,null,"5CN","06A",1]
["00C","RJZ",1,null,null,"5CN","06D",1]
["00C","RLU",1,null,null,"5CN","06V",1]
["00C","RM1",1,null,null,"5CN","10Q",1]
["00C","RNA",1,null,null,"5CN","11D",1]
["00C","RNJ",1,null,null,"5CN","11H",1]
["00C","RNQ",1,null,null,"5CN","11N",1]
["00C","RPY",1,null,null,"5CN","12D",1]
["00C","RQX",1,null,null,"5CN","99F",1]
["00C","RRF",1,null,null,"5CQ","04F",623]
["00C","RVJ",1,null,null,"5CQ","06F",27]
["00C","RVV",1,null,null,"5CQ","10Y",4]
["00C","RVY",1,null,null,"5CQ","04G",3]
["00C","RW6",1,null,null,"5CQ","11J",3]
["00C","RWA",1,null,null,"5CQ","06K",2]
["00C","RWH",1,null,null,"5CQ","06T",2]
["00C","RWJ",1,null,null,"5CQ","10H",2]
["00C","RWP",1,null,null,"5CQ","99A",2]
["00C","RWW",1,null,null,"5CQ","00P",1]
["00C","RWY",1,null,null,"5CQ","00R",1]
["00C","RX4",1,null,null,"5CQ","00W",1]
["00C","RXF",1,null,null,"5CQ","01V",1]
["00C","RXH",1,null,null,"5CQ","02F",1]
["00C","RXK",1,null,null,"5CQ","02N",1]
["00C","RXR",1,null,null,"5CQ","05F",1]
["00C","RYJ",1,null,null,"5CQ","06L",1]
["00C","RYQ",1,null,null,"5CQ","06P",1]
["00D","RXP",38565,null,null,"5CQ","08A",1]
["00D","RVW",14329,null,null,"5CQ","09D",1]
["00D","RLN",13596,null,null,"5CQ","10N",1]
["00D","RTR",4503,null,null,"5CQ","11H",1]
["00D","RTD",2708,null,null,"5CQ","11M",1]
["00D","5J9",904,null,null,"5CQ","99G",1]
["00D","NT4",257,null,null,"5CQ","99P",1]
["00D","NT3",182,null,null,"5F1","99P",796]
["00D","RR7",114,null,null,"5F1","11N",65]
["00D","RTF",104,null,null,"5F1","99Q",16]
["00D","RE9",63,null,null,"5F1","99A",1]
["00D","RR8",58,null,null,"5F1","99N",1]
["00D","RNL",28,null,null,"5FE","10R",683]
["00D","NVC",27,null,null,"5FE","10K",306]
["00D","NN4",25,null,null,"5FE","10V",276]
["00D","5KL",18,null,null,"5FE","11A",13]
["00D","RTX",17,null,null,"5FE","10J",3]
["00D","RH8",16,null,null,"5FL","11E",716]
["00D","RJ1",16,null,null,"5FL","11X",2]
["00D","RXL",15,null,null,"5FL","05T",1]
["00D","RCB",14,null,null,"5FL","11H",1]
["00D","RHQ",13,null,null,"5H8","03L",812]
["00D","RCC",12,null,null,"5H8","02X",27]
["00D","RCD",11,null,null,"5H8","03N",27]
["00D","RM2",9,null,null,"5H8","02P",11]
["00D","RXF",9,null,null,"5H8","04J",2]
["00D","RJZ",8,null,null,"5J2","02E",664]
["00D","RKB",8,null,null,"5J2","01X",11]
["00D","RQ3",8,null,null,"5J2","99A",3]
["00D","RRV",8,null,null,"5J2","01F",2]
["00D","RV8",8,null,null,"5J2","01D",1]
["00D","RX4",8,null,null,"5J2","01G",1]
["00D","RXN",8,null,null,"5J2","02H",1]
["00D","RAE",6,null,null,"5J2","10J",1]
["00D","RP4",6,null,null,"5J2","99Q",1]
["00D","RP6",6,null,null,"5J9","00D",904]
["00D","RRF",6,null,null,"5J9","00C",137]
["00D","RW3",6,null,null,"5J9","00J",41]
["00D","RWD",6,null,null,"5J9","03D",9]
["00D","RBT",5,null,null,"5J9","00K",3]
["00D","RK9",5,null,null,"5J9","00M",1]
["00D","RQ8",5,null,null,"5J9","02Q",1]
["00D","RTG",5,null,null,"5J9","06F",1]
["00D","RAN",4,null,null,"5JE","02P",796]
["00D","RAS",4,null,null,"5JE","03A",13]
["00D","RJF",4,null,null,"5JE","03L",10]
["00D","RJL",4,null,null,"5JE","03R",9]
["00D","RNJ",4,null,null,"5JE","03N",8]
["00D","RQ6",4,null,null,"5JE","03Y",3]
["00D","RW6",4,null,null,"5JE","00Y",1]
["00D","RWA",4,null,null,"5JE","01D",1]
["00D","RX1",4,null,null,"5JE","04K",1]
["00D","RAL",3,null,null,"5JE","06K",1]
["00D","REM",3,null,null,"5K3","12D",872]
["00D","RGM",3,null,null,"5K3","99N",10]
["00D","RGN",3,null,null,"5K3","11M",3]
["00D","RGP",3,null,null,"5K3","06F",1]
["00D","RGR",3,null,null,"5K3","10M",1]
["00D","RJE",3,null,null,"5K7","07R",272]
["00D","RKE",3,null,null,"5K7","08H",193]
["00D","RN3",3,null,null,"5K7","07M",9]
["00D","RNA",3,null,null,"5K7","07T",2]
["00D","RNZ",3,null,null,"5K7","08D",2]
["00D","RP5",3,null,null,"5K7","10E",2]
["00D","RT3",3,null,null,"5K7","04C",1]
["00D","RTH",3,null,null,"5KG","00N",3]
["00D","RTP",3,null,null,"5KG","00P",1]
["00D","RVV",3,null,null,"5KL","00P",238]
["00D","RVY",3,null,null,"5KL","00D",18]
["00D","RWE",3,null,null,"5KL","00N",8]
["00D","RXC",3,null,null,"5L1","10X",1628]
["00D","RXR",3,null,null,"5L1","11A",190]
["00D","RA7",2,null,null,"5L1","10J",6]
["00D","RA9",2,null,null,"5L1","10K",4]
["00D","RBS",2,null,null,"5L1","10L",1]
["00D","RBV",2,null,null,"5L1","10V",1]
["00D","RC1",2,null,null,"5L3","09W",660]
["00D","RC9",2,null,null,"5L3","10D",64]
["00D","RCX",2,null,null,"5L3","09J",2]
["00D","RDE",2,null,null,"5L3","99J",2]
["00D","RDU",2,null,null,"5LG","08X",240]
["00D","RFR",2,null,null,"5LG","08P",207]
["00D","RFS",2,null,null,"5LG","08J",21]
["00D","RHU",2,null,null,"5LG","08R",15]
["00D","RHW",2,null,null,"5LG","99H",13]
["00D","RK5",2,null,null,"5LG","08T",11]
["00D","RM1",2,null,null,"5LG","99M",7]
["00D","RM3",2,null,null,"5LG","07Y",6]
["00D","RNS",2,null,null,"5LG","09Y",6]
["00D","RQQ",2,null,null,"5LG","09N",3]
["00D","RRK",2,null,null,"5LG","11M",3]
["00D","RTE",2,null,null,"5LG","09H",2]
["00D","RVL",2,null,null,"5LG","09X",2]
["00D","RWP",2,null,null,"5LG","10J",2]
["00D","RXK",2,null,null,"5LG","10L",2]
["00D","RYJ",2,null,null,"5LG","02X",1]
["00D","RYR",2,null,null,"5LG","06L",1]
["00D","5QT",1,null,null,"5LG","07Q",1]
["00D","RA2",1,null,null,"5LG","07T",1]
["00D","RBA",1,null,null,"5LG","07V",1]
["00D","RBZ",1,null,null,"5LG","08H",1]
["00D","RCU",1,null,null,"5LG","08K",1]
["00D","RD1",1,null,null,"5LG","09G",1]
["00D","RDD",1,null,null,"5LG","09L",1]
["00D","RDZ",1,null,null,"5LG","10V",1]
["00D","REF",1,null,null,"5LG","11A",1]
["00D","RET",1,null,null,"5LG","11X",1]
["00D","RF4",1,null,null,"5M1","13P",1662]
["00D","RFF",1,null,null,"5M1","04X",1078]
["00D","RGT",1,null,null,"5M1","05L",381]
["00D","RJ6",1,null,null,"5M1","05P",168]
["00D","RJ7",1,null,null,"5M1","05J",118]
["00D","RJC",1,null,null,"5M1","05Q",95]
["00D","RJD",1,null,null,"5M1","05Y",68]
["00D","RJN",1,null,null,"5M1","06A",53]
["00D","RJR",1,null,null,"5M1","05C",42]
["00D","RLQ",1,null,null,"5M1","05H",38]
["00D","RM4",1,null,null,"5M1","05T",36]
["00D","RMC",1,null,null,"5M1","05R",24]
["00D","RN7",1,null,null,"5M1","05A",23]
["00D","RNQ",1,null,null,"5M1","04Y",19]
["00D","RPA",1,null,null,"5M1","06D",19]
["00D","RQM",1,null,null,"5M1","05N",11]
["00D","RQX",1,null,null,"5M1","05X",11]
["00D","RTK",1,null,null,"5M1","05D",10]
["00D","RVR",1,null,null,"5M1","05V",10]
["00D","RWF",1,null,null,"5M1","05F",6]
["00D","RWH",1,null,null,"5M1","04R",4]
["00D","RWJ",1,null,null,"5M1","03W",3]
["00D","RWW",1,null,null,"5M1","04N",3]
["00D","RWY",1,null,null,"5M1","05G",3]
["00D","RYQ",1,null,null,"5M1","10Q",3]
["00F","RR7",33707,null,null,"5M1","99A",2]
["00F","RTD",14302,null,null,"5M1","01D",1]
["00F","RLN",1493,null,null,"5M1","03N",1]
["00F","RXP",1095,null,null,"5M1","03T",1]
["00F","RTF",884,null,null,"5M1","04G",1]
["00F","NT3",148,null,null,"5M1","04V",1]
["00F","RE9",148,null,null,"5M1","06H",1]
["00F","RTR",70,null,null,"5M1","06L",1]
["00F","NVC",65,null,null,"5M1","06V",1]
["00F","NN4",46,null,null,"5M1","07X",1]
["00F","RVW",27,null,null,"5M1","08Q",1]
["00F","RNL",16,null,null,"5M1","09A",1]
["00F","RR8",12,null,null,"5M1","09D",1]
["00F","RFR",11,null,null,"5M1","10Y",1]
["00F","RCB",9,null,null,"5M1","11H",1]
["00F","RX4",9,null,null,"5M1","11J",1]
["00F","RJ1",8,null,null,"5M2","05N",1716]
["00F","RP4",8,null,null,"5M2","05X",71]
["00F","RRV",8,null,null,"5M2","05Q",22]
["00F","RCC",7,null,null,"5M2","02F",13]
["00F","RHQ",7,null,null,"5M2","05T",12]
["00F","RQ6",7,null,null,"5M2","05F",11]
["00F","RTH",7,null,null,"5M2","06A",2]
["00F","RTX",7,null,null,"5M2","08X",1]
["00F","RXF",7,null,null,"5M2","09G",1]
["00F","RW6",6,null,null,"5M6","08P",403]
["00F","RAL",5,null,null,"5M6","07Y",2]
["00F","RAN",5,null,null,"5M6","08J",1]
["00F","RCD",5,null,null,"5M6","09G",1]
["00F","REF",5,null,null,"5M7","08R",54]
["00F","RM3",5,null,null,"5M7","08T",33]
["00F","RW3",5,null,null,"5M8","11T",524]
["00F","RXL",5,null,null,"5MK","05N",160]
["00F","RQX",4,null,null,"5MK","05X",107]
["00F","RWA",4,null,null,"5MV","06A",607]
["00F","RXN",4,null,null,"5MV","05Q",71]
["00F","RAE",3,null,null,"5MV","05Y",39]
["00F","RGM",3,null,null,"5MV","05C",20]
["00F","RGQ",3,null,null,"5MV","05V",14]
["00F","RGT",3,null,null,"5MV","05N",6]
["00F","RHU",3,null,null,"5MV","04Y",3]
["00F","RP5",3,null,null,"5MV","05L",3]
["00F","RWD",3,null,null,"5MV","05X",3]
["00F","RWY",3,null,null,"5MV","05A",1]
["00F","RYJ",3,null,null,"5MV","06D",1]
["00F","RBT",2,null,null,"5MV","10L",1]
["00F","RFS",2,null,null,"5MX","05L",186]
["00F","RGN",2,null,null,"5MX","04X",26]
["00F","RJL",2,null,null,"5MX","13P",16]
["00F","RKB",2,null,null,"5MX","11M",1]
["00F","RL1",2,null,null,"5N5","02X",835]
["00F","RM2",2,null,null,"5N5","02Q",9]
["00F","RN5",2,null,null,"5N5","03L",4]
["00F","RNH",2,null,null,"5N5","02P",1]
["00F","RNJ",2,null,null,"5N5","03R",1]
["00F","RRK",2,null,null,"5N5","04D",1]
["00F","RTK",2,null,null,"5N5","07W",1]
["00F","RVV",2,null,null,"5N6","04R",2383]
["00F","RWE",2,null,null,"5N6","04J",2377]
["00F","RWJ",2,null,null,"5N6","03X",2321]
["00F","RWP",2,null,null,"5N6","03Y",487]
["00F","RWW",2,null,null,"5N6","04M",341]
["00F","RX1",2,null,null,"5N6","04L",115]
["00F","NT4",1,null,null,"5N6","05G",114]
["00F","RA9",1,null,null,"5N6","04K",54]
["00F","RBA",1,null,null,"5N6","01C",43]
["00F","RBN",1,null,null,"5N6","03N",21]
["00F","RCU",1,null,null,"5N6","05D",21]
["00F","RCX",1,null,null,"5N6","04E",19]
["00F","RDU",1,null,null,"5N6","04N",16]
["00F","REM",1,null,null,"5N6","04V",15]
["00F","RF4",1,null,null,"5N6","02Q",14]
["00F","RGC",1,null,null,"5N6","04H",3]
["00F","RGP",1,null,null,"5N6","05W",3]
["00F","RGR",1,null,null,"5N6","03W",2]
["00F","RH8",1,null,null,"5N6","04C",2]
["00F","RHM",1,null,null,"5N6","05R",2]
["00F","RHW",1,null,null,"5N6","08V",2]
["00F","RJ2",1,null,null,"5N6","00X",1]
["00F","RJ6",1,null,null,"5N6","00Y",1]
["00F","RJ7",1,null,null,"5N6","01D",1]
["00F","RJC",1,null,null,"5N6","01Y",1]
["00F","RJE",1,null,null,"5N6","04G",1]
["00F","RJF",1,null,null,"5N6","05A",1]
["00F","RJN",1,null,null,"5N6","06K",1]
["00F","RJR",1,null,null,"5N6","11X",1]
["00F","RLT",1,null,null,"5N8","04E",741]
["00F","RM4",1,null,null,"5N8","04K",320]
["00F","RMP",1,null,null,"5N8","04H",240]
["00F","RN7",1,null,null,"5N8","04L",202]
["00F","RNA",1,null,null,"5N8","04N",171]
["00F","RNS",1,null,null,"5N8","04M",110]
["00F","RQ3",1,null,null,"5N8","03Y",62]
["00F","RQ8",1,null,null,"5N8","04R",16]
["00F","RQM",1,null,null,"5N8","02Q",3]
["00F","RRJ",1,null,null,"5N8","03X",3]
["00F","RT3",1,null,null,"5N8","04J",2]
["00F","RTE",1,null,null,"5N8","03T",1]
["00F","RTG",1,null,null,"5N8","04D",1]
["00F","RV8",1,null,null,"5N8","04V",1]
["00F","RVL",1,null,null,"5N9","03T",1216]
["00F","RVY",1,null,null,"5N9","04D",10]
["00F","RWF",1,null,null,"5N9","03H",5]
["00F","RWG",1,null,null,"5N9","03C",3]
["00F","RWH",1,null,null,"5N9","03L",3]
["00F","RXK",1,null,null,"5N9","04E",3]
["00F","RM1",0,null,null,"5N9","02P",2]
["00G","RTD",30708,null,null,"5N9","04L",2]
["00G","RTF",876,null,null,"5N9","04Q",2]
["00G","NVC",551,null,null,"5N9","04V",2]
["00G","RR7",211,null,null,"5N9","01F",1]
["00G","RX4",199,null,null,"5N9","03G",1]
["00G","RLN",127,null,null,"5N9","03K",1]
["00G","RXP",56,null,null,"5N9","03Q",1]
["00G","RR8",46,null,null,"5N9","03W",1]
["00G","NN4",40,null,null,"5N9","04C",1]
["00G","RTR",39,null,null,"5N9","04G",1]
["00G","RE9",35,null,null,"5N9","04H",1]
["00G","RVW",23,null,null,"5N9","04K",1]
["00G","RNL",19,null,null,"5N9","04M",1]
["00G","RTX",16,null,null,"5N9","04R",1]
["00G","RCB",15,null,null,"5N9","08C",1]
["00G","RAE",12,null,null,"5N9","08D",1]
["00G","RM2",12,null,null,"5N9","08Y",1]
["00G","NT3",10,null,null,"5N9","09N",1]
["00G","RRV",9,null,null,"5N9","11X",1]
["00G","RWA",9,null,null,"5NE","01H",4083]
["00G","RCF",8,null,null,"5NE","00L",5]
["00G","RW3",8,null,null,"5NE","00J",2]
["00G","RXR",8,null,null,"5NE","00T",2]
["00G","RCC",7,null,null,"5NE","01V",2]
["00G","RHQ",7,null,null,"5NE","06K",2]
["00G","RJ7",7,null,null,"5NE","00M",1]
["00G","RTG",6,null,null,"5NE","01C",1]
["00G","RTK",6,null,null,"5NE","01K",1]
["00G","RWE",6,null,null,"5NE","01M",1]
["00G","RBL",5,null,null,"5NE","01T",1]
["00G","RM1",5,null,null,"5NE","02A",1]
["00G","RQ6",5,null,null,"5NE","02V",1]
["00G","RWD",5,null,null,"5NE","03C",1]
["00G","RXF",5,null,null,"5NE","04E",1]
["00G","RXN",5,null,null,"5NE","04V",1]
["00G","RFF",4,null,null,"5NE","06H",1]
["00G","RJ1",4,null,null,"5NE","06T",1]
["00G","RJZ",4,null,null,"5NE","09G",1]
["00G","RV8",4,null,null,"5NE","10M",1]
["00G","RW6",4,null,null,"5NE","10R",1]
["00G","RX1",4,null,null,"5NG","01E",220]
["00G","RXL",4,null,null,"5NG","00X",27]
["00G","RAN",3,null,null,"5NG","02M",3]
["00G","RAS",3,null,null,"5NG","01K",2]
["00G","RCD",3,null,null,"5NG","02H",2]
["00G","REM",3,null,null,"5NG","00W",1]
["00G","RGC",3,null,null,"5NG","01H",1]
["00G","RGR",3,null,null,"5NL","99A",969]
["00G","RGT",3,null,null,"5NL","01J",38]
["00G","RJ2",3,null,null,"5NL","01T",2]
["00G","RJC",3,null,null,"5NL","09N",1]
["00G","RJE",3,null,null,"5NL","10Y",1]
["00G","RM3",3,null,null,"5NL","12F",1]
["00G","RP5",3,null,null,"5NN","02F",820]
["00G","RQM",3,null,null,"5NN","02D",2]
["00G","RR1",3,null,null,"5NN","06Q",1]
["00G","RTE",3,null,null,"5NV","03Q",1036]
["00G","RVJ",3,null,null,"5NV","03D",747]
["00G","RYJ",3,null,null,"5NV","03M",361]
["00G","NTA",2,null,null,"5NV","03E",320]
["00G","RA9",2,null,null,"5NV","02Y",12]
["00G","RAL",2,null,null,"5NV","02N",11]
["00G","RAP",2,null,null,"5NV","02V",2]
["00G","RBV",2,null,null,"5NV","00C",1]
["00G","RC3",2,null,null,"5NV","00K",1]
["00G","RD3",2,null,null,"5NV","03G",1]
["00G","RFS",2,null,null,"5NV","03R",1]
["00G","RFW",2,null,null,"5NV","04J",1]
["00G","RGQ",2,null,null,"5NV","04L",1]
["00G","RH8",2,null,null,"5NV","10Q",1]
["00G","RHM",2,null,null,"5NV","11N",1]
["00G","RJ6",2,null,null,"5NW","02Y",346]
["00G","RJL",2,null,null,"5NW","03F",4]
["00G","RJR",2,null,null,"5NW","02T",1]
["00G","RK5",2,null,null,"5NW","02X",1]
["00G","RK9",2,null,null,"5NW","03Q",1]
["00G","RLT",2,null,null,"5NW","04H",1]
["00G","RNH",2,null,null,"5P5","09Y",905]
["00G","RNJ",2,null,null,"5P5","09L",331]
["00G","RP4",2,null,null,"5P5","09N",313]
["00G","RQ8",2,null,null,"5P5","99H",205]
["00G","RTH",2,null,null,"5P5","10C",20]
["00G","RTP",2,null,null,"5P5","99M",16]
["00G","RWJ",2,null,null,"5P5","11C",15]
["00G","RXC",2,null,null,"5P5","08J",7]
["00G","RXK",2,null,null,"5P5","10G",6]
["00G","RXQ",2,null,null,"5P5","10V",5]
["00G","NT4",1,null,null,"5P5","09G",4]
["00G","RAX",1,null,null,"5P5","07V",2]
["00G","RBS",1,null,null,"5P5","08T",2]
["00G","RC1",1,null,null,"5P5","07N",1]
["00G","RC9",1,null,null,"5P5","07Q",1]
["00G","RCX",1,null,null,"5P5","07Y",1]
["00G","RD7",1,null,null,"5P5","08K",1]
["00G","RDU",1,null,null,"5P5","08X",1]
["00G","REF",1,null,null,"5P5","09P",1]
["00G","RFR",1,null,null,"5P5","09X",1]
["00G","RGD",1,null,null,"5P5","11N",1]
["00G","RGM",1,null,null,"5P5","99F",1]
["00G","RGN",1,null,null,"5P6","09G",1484]
["00G","RHW",1,null,null,"5P6","09X",226]
["00G","RJN",1,null,null,"5P6","10V",29]
["00G","RKB",1,null,null,"5P6","09H",14]
["00G","RKE",1,null,null,"5P6","09N",2]
["00G","RL1",1,null,null,"5P6","05N",1]
["00G","RMC",1,null,null,"5P6","08R",1]
["00G","RMP",1,null,null,"5P6","08X",1]
["00G","RN7",1,null,null,"5P6","09D",1]
["00G","RNS",1,null,null,"5P6","10R",1]
["00G","RNZ",1,null,null,"5P6","99H",1]
["00G","RPC",1,null,null,"5P7","99K",814]
["00G","RQ3",1,null,null,"5P7","09F",264]
["00G","RQX",1,null,null,"5P7","09D",30]
["00G","RRK",1,null,null,"5P7","09P",7]
["00G","RVL",1,null,null,"5P7","09X",3]
["00G","RVR",1,null,null,"5P8","09P",506]
["00G","RVV",1,null,null,"5P8","09F",21]
["00G","RWF",1,null,null,"5P8","99K",4]
["00G","RWG",1,null,null,"5P8","06D",2]
["00G","RWH",1,null,null,"5P8","07X",2]
["00G","RWP",1,null,null,"5P8","99J",2]
["00G","RWY",1,null,null,"5P8","99G",1]
["00G","RXH",1,null,null,"5PA","04V",8573]
["00G","RXW",1,null,null,"5PA","03W",4857]
["00H","RTD",34180,null,null,"5PA","04C",414]
["00H","RTF",442,null,null,"5PA","04N",175]
["00H","RR7",334,null,null,"5PA","04Q",95]
["00H","RX4",328,null,null,"5PA","05H",13]
["00H","NVC",162,null,null,"5PA","04G",7]
["00H","RLN",69,null,null,"5PA","99D",7]
["00H","RXP",48,null,null,"5PA","03V",2]
["00H","NN4",44,null,null,"5PA","04R",2]
["00H","RE9",32,null,null,"5PA","05A",2]
["00H","RTR",18,null,null,"5PA","01H",1]
["00H","RVW",18,null,null,"5PA","03G",1]
["00H","RR8",16,null,null,"5PA","03T",1]
["00H","NT3",9,null,null,"5PA","04E",1]
["00H","RNL",8,null,null,"5PA","04X",1]
["00H","RAE",6,null,null,"5PA","05L",1]
["00H","RCB",6,null,null,"5PA","05Q",1]
["00H","RXR",6,null,null,"5PA","06N",1]
["00H","RR1",5,null,null,"5PA","06P",1]
["00H","RRV",5,null,null,"5PA","08J",1]
["00H","RKB",4,null,null,"5PA","10Y",1]
["00H","RNH",4,null,null,"5PA","13P",1]
["00H","RQ6",4,null,null,"5PA","99M",1]
["00H","RWA",4,null,null,"5PC","04C",389]
["00H","RXL",4,null,null,"5PC","03W",4]
["00H","RAL",3,null,null,"5PC","04V",1]
["00H","RC9",3,null,null,"5PH","05G",1295]
["00H","RCD",3,null,null,"5PH","05W",191]
["00H","RQ3",3,null,null,"5PH","05V",13]
["00H","RTX",3,null,null,"5PH","04J",10]
["00H","RWD",3,null,null,"5PH","01R",9]
["00H","RXK",3,null,null,"5PH","05D",3]
["00H","RA9",2,null,null,"5PH","05N",3]
["00H","RC3",2,null,null,"5PH","05Q",1]
["00H","RHM",2,null,null,"5PH","10V",1]
["00H","RHQ",2,null,null,"5PJ","05W",2999]
["00H","RJL",2,null,null,"5PJ","05G",1585]
["00H","RJZ",2,null,null,"5PJ","01R",208]
["00H","RM2",2,null,null,"5PJ","05V",140]
["00H","RW3",2,null,null,"5PJ","01C",39]
["00H","RW6",2,null,null,"5PJ","05N",31]
["00H","RWE",2,null,null,"5PJ","02D",28]
["00H","RXN",2,null,null,"5PJ","05X",26]
["00H","RYJ",2,null,null,"5PJ","04Y",20]
["00H","NTA",1,null,null,"5PJ","05D",17]
["00H","RA7",1,null,null,"5PJ","05Y",10]
["00H","RAS",1,null,null,"5PJ","02E",7]
["00H","RAX",1,null,null,"5PJ","04J",4]
["00H","RCC",1,null,null,"5PJ","05C",4]
["00H","REM",1,null,null,"5PJ","05Q",3]
["00H","RFR",1,null,null,"5PJ","01W",2]
["00H","RFS",1,null,null,"5PJ","06A",2]
["00H","RGM",1,null,null,"5PJ","00Q",1]
["00H","RGN",1,null,null,"5PJ","01X",1]
["00H","RGR",1,null,null,"5PJ","02Y",1]
["00H","RH8",1,null,null,"5PJ","04R",1]
["00H","RHU",1,null,null,"5PJ","04V",1]
["00H","RJ1",1,null,null,"5PJ","05R",1]
["00H","RJ7",1,null,null,"5PJ","08E",1]
["00H","RJD",1,null,null,"5PJ","10Q",1]
["00H","RJE",1,null,null,"5PJ","13P",1]
["00H","RJR",1,null,null,"5PJ","99E",1]
["00H","RK9",1,null,null,"5PK","05Q",8829]
["00H","RKE",1,null,null,"5PK","13P",404]
["00H","RM1",1,null,null,"5PK","05Y",319]
["00H","RN1",1,null,null,"5PK","04Y",295]
["00H","RNJ",1,null,null,"5PK","05H",115]
["00H","RNZ",1,null,null,"5PK","05D",28]
["00H","RP4",1,null,null,"5PK","04R",13]
["00H","RQ8",1,null,null,"5PK","05V",8]
["00H","RQM",1,null,null,"5PK","03M",5]
["00H","RQX",1,null,null,"5PK","05P",5]
["00H","RRK",1,null,null,"5PK","05G",3]
["00H","RTG",1,null,null,"5PK","04V",2]
["00H","RV8",1,null,null,"5PK","05L",2]
["00H","RVJ",1,null,null,"5PK","01E",1]
["00H","RVR",1,null,null,"5PK","02H",1]
["00H","RWG",1,null,null,"5PK","03C",1]
["00H","RWJ",1,null,null,"5PK","03W",1]
["00H","RX1",1,null,null,"5PK","04J",1]
["00H","RYQ",1,null,null,"5PK","05W",1]
["00J","RXP",42740,null,null,"5PK","06A",1]
["00J","RLN",9428,null,null,"5PK","10H",1]
["00J","RTD",6176,null,null,"5PL","05T",3600]
["00J","RR7",1200,null,null,"5PL","05J",706]
["00J","NT3",696,null,null,"5PL","06D",384]
["00J","RTR",419,null,null,"5PL","05R",75]
["00J","RTF",269,null,null,"5PL","11M",55]
["00J","NN4",227,null,null,"5PL","05F",53]
["00J","RVW",103,null,null,"5PL","05N",45]
["00J","RE9",81,null,null,"5PL","04X",17]
["00J","5J9",41,null,null,"5PL","05P",6]
["00J","NVC",36,null,null,"5PL","13P",5]
["00J","RR8",26,null,null,"5PL","05C",2]
["00J","RNL",19,null,null,"5PL","11X",2]
["00J","RRV",19,null,null,"5PL","01N",1]
["00J","RCB",15,null,null,"5PL","01W",1]
["00J","RHQ",15,null,null,"5PL","03Q",1]
["00J","RJ1",14,null,null,"5PL","05A",1]
["00J","RCC",11,null,null,"5PL","05H",1]
["00J","RTG",10,null,null,"5PL","05L",1]
["00J","RX4",10,null,null,"5PL","06A",1]
["00J","RQM",9,null,null,"5PM","05R",583]
["00J","RHW",8,null,null,"5PM","05H",201]
["00J","RM1",8,null,null,"5PM","05A",29]
["00J","RP4",8,null,null,"5PM","04G",21]
["00J","RTX",8,null,null,"5PM","03W",6]
["00J","RX1",8,null,null,"5PM","05P",4]
["00J","RXL",8,null,null,"5PM","04V",2]
["00J","RM2",7,null,null,"5PM","05J",2]
["00J","RTE",7,null,null,"5PM","03V",1]
["00J","RW3",7,null,null,"5PM","04C",1]
["00J","RCF",6,null,null,"5PM","10Q",1]
["00J","RTH",6,null,null,"5PQ","06V",817]
["00J","RW6",6,null,null,"5PQ","06W",502]
["00J","RYQ",6,null,null,"5PQ","06Y",484]
["00J","NT4",5,null,null,"5PQ","07J",195]
["00J","RAX",5,null,null,"5PQ","06M",49]
["00J","RCD",5,null,null,"5PQ","06L",20]
["00J","RD1",5,null,null,"5PQ","07K",6]
["00J","REF",5,null,null,"5PQ","03X",1]
["00J","RFW",5,null,null,"5PQ","04G",1]
["00J","RGN",5,null,null,"5PQ","06A",1]
["00J","RGT",5,null,null,"5PQ","08Y",1]
["00J","RM3",5,null,null,"5PQ","11E",1]
["00J","RNJ",5,null,null,"5PT","07K",246]
["00J","RP5",5,null,null,"5PT","06L",33]
["00J","RWE",5,null,null,"5PT","06H",14]
["00J","RXC",5,null,null,"5PV","07H",1256]
["00J","RXW",5,null,null,"5PV","06K",10]
["00J","RA7",4,null,null,"5PV","07G",2]
["00J","RAL",4,null,null,"5PX","06Q",730]
["00J","RJL",4,null,null,"5PX","06T",2]
["00J","RQ8",4,null,null,"5PY","99E",533]
["00J","RVV",4,null,null,"5PY","07G",365]
["00J","RWA",4,null,null,"5PY","06Q",6]
["00J","RWF",4,null,null,"5PY","99F",3]
["00J","RWG",4,null,null,"5PY","07K",1]
["00J","RXR",4,null,null,"5PY","08H",1]
["00J","5QT",3,null,null,"5QA","10D",428]
["00J","NTA",3,null,null,"5QA","09E",12]
["00J","RAE",3,null,null,"5QA","10A",5]
["00J","RBD",3,null,null,"5QA","08Q",1]
["00J","RD8",3,null,null,"5QA","99P",1]
["00J","REM",3,null,null,"5QC","11A",8736]
["00J","RGQ",3,null,null,"5QC","10V",481]
["00J","RGR",3,null,null,"5QC","10K",327]
["00J","RJ7",3,null,null,"5QC","10J",258]
["00J","RJE",3,null,null,"5QC","11J",78]
["00J","RK9",3,null,null,"5QC","10X",63]
["00J","RR1",3,null,null,"5QC","99N",20]
["00J","RRF",3,null,null,"5QC","09N",7]
["00J","RVL",3,null,null,"5QC","09G",4]
["00J","RWD",3,null,null,"5QC","10L",4]
["00J","RXF",3,null,null,"5QC","06N",3]
["00J","RYJ",3,null,null,"5QC","10Q",3]
["00J","5NE",2,null,null,"5QC","99M",3]
["00J","RA2",2,null,null,"5QC","06D",2]
["00J","RA9",2,null,null,"5QC","06F",2]
["00J","RBB",2,null,null,"5QC","07W",2]
["00J","RBF",2,null,null,"5QC","08X",2]
["00J","RBN",2,null,null,"5QC","10H",2]
["00J","RBS",2,null,null,"5QC","10R",2]
["00J","RBT",2,null,null,"5QC","10W",2]
["00J","RCX",2,null,null,"5QC","11N",2]
["00J","RDU",2,null,null,"5QC","99P",2]
["00J","RGC",2,null,null,"5QC","00J",1]
["00J","RH8",2,null,null,"5QC","02M",1]
["00J","RHU",2,null,null,"5QC","02T",1]
["00J","RJ6",2,null,null,"5QC","02Y",1]
["00J","RJZ",2,null,null,"5QC","03M",1]
["00J","RKE",2,null,null,"5QC","03R",1]
["00J","RMC",2,null,null,"5QC","04G",1]
["00J","RN5",2,null,null,"5QC","05A",1]
["00J","RNZ",2,null,null,"5QC","05F",1]
["00J","RQ6",2,null,null,"5QC","05G",1]
["00J","RQW",2,null,null,"5QC","05L",1]
["00J","RTP",2,null,null,"5QC","05W",1]
["00J","RVJ",2,null,null,"5QC","06P",1]
["00J","RVY",2,null,null,"5QC","07Q",1]
["00J","RXQ",2,null,null,"5QC","07V",1]
["00J","RYR",2,null,null,"5QC","08A",1]
["00J","5QC",1,null,null,"5QC","08J",1]
["00J","RAS",1,null,null,"5QC","08K",1]
["00J","RBL",1,null,null,"5QC","08P",1]
["00J","RBV",1,null,null,"5QC","08T",1]
["00J","RBZ",1,null,null,"5QC","08Y",1]
["00J","RC3",1,null,null,"5QC","09A",1]
["00J","RC9",1,null,null,"5QC","09D",1]
["00J","RDD",1,null,null,"5QC","09H",1]
["00J","RET",1,null,null,"5QC","09J",1]
["00J","RFR",1,null,null,"5QC","09W",1]
["00J","RFS",1,null,null,"5QC","10G",1]
["00J","RGM",1,null,null,"5QC","10M",1]
["00J","RHM",1,null,null,"5QC","11C",1]
["00J","RJF",1,null,null,"5QC","11D",1]
["00J","RJR",1,null,null,"5QC","11E",1]
["00J","RK5",1,null,null,"5QC","99J",1]
["00J","RKB",1,null,null,"5QC","99K",1]
["00J","RL4",1,null,null,"5QC","99Q",1]
["00J","RLQ",1,null,null,"5QD","10Y",764]
["00J","RN1",1,null,null,"5QD","10H",507]
["00J","RN3",1,null,null,"5QD","06F",26]
["00J","RNH",1,null,null,"5QD","10Q",24]
["00J","RPC",1,null,null,"5QD","06N",11]
["00J","RQX",1,null,null,"5QD","04F",5]
["00J","RRK",1,null,null,"5QD","11H",3]
["00J","RTK",1,null,null,"5QD","04V",2]
["00J","RV8",1,null,null,"5QD","06P",1]
["00J","RVR",1,null,null,"5QD","06V",1]
["00J","RWW",1,null,null,"5QD","08M",1]
["00J","RWY",1,null,null,"5QE","10Q",1930]
["00J","RXK",1,null,null,"5QE","04G",88]
["00K","RVW",55576,null,null,"5QE","10Y",2]
["00K","RTR",13944,null,null,"5QE","04D",1]
["00K","RLN",1905,null,null,"5QE","04F",1]
["00K","RTD",1464,null,null,"5QE","05F",1]
["00K","NVC",897,null,null,"5QE","06F",1]
["00K","RXP",492,null,null,"5QE","06H",1]
["00K","NT4",216,null,null,"5QE","06Y",1]
["00K","RR8",66,null,null,"5QE","10H",1]
["00K","RCC",28,null,null,"5QE","99N",1]
["00K","RNL",25,null,null,"5QF","10M",454]
["00K","RTF",23,null,null,"5QF","11D",407]
["00K","RR7",19,null,null,"5QF","10N",294]
["00K","RCD",14,null,null,"5QF","10W",248]
["00K","RE9",14,null,null,"5QF","10G",45]
["00K","RP4",14,null,null,"5QF","10Q",7]
["00K","RXL",14,null,null,"5QF","10C",3]
["00K","RCB",13,null,null,"5QF","10J",2]
["00K","RHQ",13,null,null,"5QF","00Y",1]
["00K","RW3",13,null,null,"5QF","09X",1]
["00K","RRV",12,null,null,"5QF","11C",1]
["00K","RWA",12,null,null,"5QF","11X",1]
["00K","RGT",11,null,null,"5QG","11C",284]
["00K","RP5",10,null,null,"5QG","10T",165]
["00K","RWD",10,null,null,"5QG","10G",21]
["00K","RJL",9,null,null,"5QG","10H",9]
["00K","RTX",9,null,null,"5QG","11D",3]
["00K","RX1",9,null,null,"5QG","06P",2]
["00K","RCU",7,null,null,"5QG","09Y",2]
["00K","RM1",7,null,null,"5QG","08T",1]
["00K","RQ6",7,null,null,"5QG","10N",1]
["00K","RRF",7,null,null,"5QG","10Q",1]
["00K","5QR",6,null,null,"5QH","11M",6339]
["00K","RJ1",6,null,null,"5QH","05T",25]
["00K","RTH",6,null,null,"5QH","10Q",13]
["00K","RYJ",6,null,null,"5QH","05F",6]
["00K","RBL",5,null,null,"5QH","05R",6]
["00K","RK9",5,null,null,"5QH","12A",6]
["00K","RTE",5,null,null,"5QH","06H",4]
["00K","RW6",5,null,null,"5QH","01E",3]
["00K","RWG",5,null,null,"5QH","03C",3]
["00K","RYR",5,null,null,"5QH","03D",3]
["00K","RJR",4,null,null,"5QH","08G",3]
["00K","RM2",4,null,null,"5QH","08J",3]
["00K","RNJ",4,null,null,"5QH","08L",3]
["00K","RNQ",4,null,null,"5QH","09N",3]
["00K","RQM",4,null,null,"5QH","11H",3]
["00K","RTG",4,null,null,"5QH","11X",3]
["00K","RXN",4,null,null,"5QH","12D",3]
["00K","5J9",3,null,null,"5QH","99N",3]
["00K","RAE",3,null,null,"5QH","04R",2]
["00K","RAL",3,null,null,"5QH","04X",2]
["00K","RAS",3,null,null,"5QH","07M",2]
["00K","RBD",3,null,null,"5QH","11N",2]
["00K","RDZ",3,null,null,"5QH","99P",2]
["00K","RF4",3,null,null,"5QH","99Q",2]
["00K","RFR",3,null,null,"5QH","01H",1]
["00K","RFW",3,null,null,"5QH","01W",1]
["00K","RGQ",3,null,null,"5QH","02A",1]
["00K","RHM",3,null,null,"5QH","02X",1]
["00K","RHU",3,null,null,"5QH","05A",1]
["00K","RJD",3,null,null,"5QH","05P",1]
["00K","RJF",3,null,null,"5QH","05V",1]
["00K","RKB",3,null,null,"5QH","07K",1]
["00K","RN5",3,null,null,"5QH","07Q",1]
["00K","RNH",3,null,null,"5QH","10C",1]
["00K","RQX",3,null,null,"5QH","10J",1]
["00K","RV8",3,null,null,"5QH","11E",1]
["00K","RVJ",3,null,null,"5QH","11J",1]
["00K","RVL",3,null,null,"5QH","11T",1]
["00K","RWF",3,null,null,"5QH","99C",1]
["00K","RWW",3,null,null,"5QH","99H",1]
["00K","RWY",3,null,null,"5QK","99N",1679]
["00K","RXF",3,null,null,"5QK","11E",215]
["00K","RXK",3,null,null,"5QK","11X",65]
["00K","RYQ",3,null,null,"5QK","12A",26]
["00K","NT3",2,null,null,"5QK","09Y",1]
["00K","RAX",2,null,null,"5QK","11H",1]
["00K","RBS",2,null,null,"5QK","12D",1]
["00K","RCF",2,null,null,"5QL","11X",4865]
["00K","RCX",2,null,null,"5QL","99P",44]
["00K","RD8",2,null,null,"5QL","11J",11]
["00K","REF",2,null,null,"5QL","99N",6]
["00K","RFF",2,null,null,"5QL","11C",5]
["00K","RGN",2,null,null,"5QL","13P",4]
["00K","RJ7",2,null,null,"5QL","09Y",2]
["00K","RJN",2,null,null,"5QL","10M",2]
["00K","RJZ",2,null,null,"5QL","12D",2]
["00K","RK5",2,null,null,"5QL","04K",1]
["00K","RL1",2,null,null,"5QL","08L",1]
["00K","RN3",2,null,null,"5QL","10N",1]
["00K","RN7",2,null,null,"5QL","11N",1]
["00K","RNA",2,null,null,"5QL","11T",1]
["00K","RNS",2,null,null,"5QL","99F",1]
["00K","RNZ",2,null,null,"5QL","99H",1]
["00K","RP6",2,null,null,"5QL","99Q",1]
["00K","RPA",2,null,null,"5QM","11J",7070]
["00K","RRK",2,null,null,"5QM","99N",50]
["00K","RVR",2,null,null,"5QM","11A",49]
["00K","RWE",2,null,null,"5QM","11X",44]
["00K","RXR",2,null,null,"5QM","99P",6]
["00K","5NV",1,null,null,"5QM","10L",2]
["00K","NTP",1,null,null,"5QM","10X",2]
["00K","RA2",1,null,null,"5QM","05A",1]
["00K","RA4",1,null,null,"5QM","05J",1]
["00K","RA9",1,null,null,"5QM","07R",1]
["00K","RAP",1,null,null,"5QM","08Q",1]
["00K","RBA",1,null,null,"5QM","10M",1]
["00K","RBN",1,null,null,"5QM","11H",1]
["00K","RBT",1,null,null,"5QM","11T",1]
["00K","RBZ",1,null,null,"5QN","11J",437]
["00K","RC1",1,null,null,"5QN","05A",1]
["00K","RD3",1,null,null,"5QN","11A",1]
["00K","REM",1,null,null,"5QP","11N",4013]
["00K","RFS",1,null,null,"5QP","99P",32]
["00K","RGM",1,null,null,"5QP","09G",4]
["00K","RGR",1,null,null,"5QP","06H",3]
["00K","RJ2",1,null,null,"5QP","11X",3]
["00K","RJC",1,null,null,"5QP","99F",3]
["00K","RJE",1,null,null,"5QP","01V",2]
["00K","RKE",1,null,null,"5QP","03T",2]
["00K","RLQ",1,null,null,"5QP","05N",2]
["00K","RN1",1,null,null,"5QP","05R",2]
["00K","RQ3",1,null,null,"5QP","05X",2]
["00K","RQ8",1,null,null,"5QP","06N",2]
["00K","RR1",1,null,null,"5QP","09Y",2]
["00K","RTP",1,null,null,"5QP","11A",2]
["00K","RVV",1,null,null,"5QP","11D",2]
["00K","RVY",1,null,null,"5QP","11H",2]
["00K","RWH",1,null,null,"5QP","11T",2]
["00K","RX4",1,null,null,"5QP","99Q",2]
["00K","RXC",1,null,null,"5QP","03E",1]
["00K","RXH",1,null,null,"5QP","03N",1]
["00K","RXW",1,null,null,"5QP","03W",1]
["00L","RTF",60609,null,null,"5QP","04L",1]
["00L","RTD",26648,null,null,"5QP","04V",1]
["00L","NVC",1085,null,null,"5QP","05D",1]
["00L","RR7",381,null,null,"5QP","05Q",1]
["00L","RNL",310,null,null,"5QP","05T",1]
["00L","RLN",174,null,null,"5QP","05V",1]
["00L","RXP",103,null,null,"5QP","06W",1]
["00L","RTR",82,null,null,"5QP","07N",1]
["00L","RX4",43,null,null,"5QP","08D",1]
["00L","RE9",35,null,null,"5QP","08F",1]
["00L","RR8",20,null,null,"5QP","08X",1]
["00L","RVW",19,null,null,"5QP","09X",1]
["00L","RTX",14,null,null,"5QP","10L",1]
["00L","RCD",13,null,null,"5QP","10V",1]
["00L","RJ7",13,null,null,"5QP","11E",1]
["00L","NT3",12,null,null,"5QP","11M",1]
["00L","RJ1",12,null,null,"5QP","12D",1]
["00L","RCB",11,null,null,"5QP","12F",1]
["00L","RCC",11,null,null,"5QP","13P",1]
["00L","RGT",11,null,null,"5QP","99E",1]
["00L","RQ3",11,null,null,"5QP","99N",1]
["00L","RTG",10,null,null,"5QQ","99P",5497]
["00L","NN4",8,null,null,"5QQ","99Q",2212]
["00L","RTE",8,null,null,"5QQ","11N",235]
["00L","RW3",7,null,null,"5QQ","11J",23]
["00L","RWA",7,null,null,"5QQ","11X",5]
["00L","RXL",7,null,null,"5QQ","11E",2]
["00L","RCF",6,null,null,"5QQ","99F",2]
["00L","RJZ",6,null,null,"5QQ","00M",1]
["00L","RP4",6,null,null,"5QQ","00N",1]
["00L","RP5",6,null,null,"5QQ","06H",1]
["00L","RRV",6,null,null,"5QQ","06K",1]
["00L","RVL",6,null,null,"5QQ","06M",1]
["00L","RWD",6,null,null,"5QQ","06V",1]
["00L","5NE",5,null,null,"5QQ","06W",1]
["00L","RCX",5,null,null,"5QQ","08Y",1]
["00L","RK9",5,null,null,"5QQ","09L",1]
["00L","RTH",5,null,null,"5QQ","10Q",1]
["00L","RW6",5,null,null,"5QQ","10X",1]
["00L","RX1",5,null,null,"5QQ","11C",1]
["00L","RAL",4,null,null,"5QQ","11M",1]
["00L","RGM",4,null,null,"5QQ","13P",1]
["00L","RHW",4,null,null,"5QQ","99E",1]
["00L","RJE",4,null,null,"5QQ","99N",1]
["00L","RNZ",4,null,null,"5QR","00M",1440]
["00L","RTK",4,null,null,"5QR","03D",51]
["00L","RXN",4,null,null,"5QR","00K",6]
["00L","RYJ",4,null,null,"5QT","10L",19732]
["00L","RYQ",4,null,null,"5QT","11A",21]
["00L","RDE",3,null,null,"5QT","09G",14]
["00L","RDU",3,null,null,"5QT","10K",14]
["00L","REF",3,null,null,"5QT","11J",12]
["00L","RFF",3,null,null,"5QT","04V",11]
["00L","RFR",3,null,null,"5QT","10R",11]
["00L","RGN",3,null,null,"5QT","06Q",10]
["00L","RHQ",3,null,null,"5QT","10Q",9]
["00L","RJC",3,null,null,"5QT","99N",9]
["00L","RJL",3,null,null,"5QT","06K",8]
["00L","RKE",3,null,null,"5QT","06N",8]
["00L","RM2",3,null,null,"5QT","09Y",8]
["00L","RMC",3,null,null,"5QT","10V",8]
["00L","RQ6",3,null,null,"5QT","10X",8]
["00L","RQQ",3,null,null,"5QT","04G",7]
["00L","RR1",3,null,null,"5QT","08K",7]
["00L","RRK",3,null,null,"5QT","11C",7]
["00L","RT3",3,null,null,"5QT","11H",7]
["00L","RV8",3,null,null,"5QT","06F",6]
["00L","RVV",3,null,null,"5QT","06H",6]
["00L","RXK",3,null,null,"5QT","06T",6]
["00L","RA9",2,null,null,"5QT","08A",6]
["00L","RAE",2,null,null,"5QT","09F",6]
["00L","RAN",2,null,null,"5QT","09N",6]
["00L","RAS",2,null,null,"5QT","10A",6]
["00L","RBK",2,null,null,"5QT","11X",6]
["00L","RBS",2,null,null,"5QT","99H",6]
["00L","RC1",2,null,null,"5QT","99K",6]
["00L","RD8",2,null,null,"5QT","03T",5]
["00L","RJD",2,null,null,"5QT","03W",5]
["00L","RJN",2,null,null,"5QT","05A",5]
["00L","RM1",2,null,null,"5QT","05N",5]
["00L","RM3",2,null,null,"5QT","07X",5]
["00L","RMP",2,null,null,"5QT","07Y",5]
["00L","RN3",2,null,null,"5QT","08E",5]
["00L","RNJ",2,null,null,"5QT","08G",5]
["00L","RQX",2,null,null,"5QT","08J",5]
["00L","RRF",2,null,null,"5QT","08R",5]
["00L","RVR",2,null,null,"5QT","08T",5]
["00L","RWF",2,null,null,"5QT","11E",5]
["00L","RWP",2,null,null,"5QT","13P",5]
["00L","RWW",2,null,null,"5QT","99J",5]
["00L","RXH",2,null,null,"5QT","99M",5]
["00L","RXQ",2,null,null,"5QT","01C",4]
["00L","RXR",2,null,null,"5QT","03C",4]
["00L","RXW",2,null,null,"5QT","04E",4]
["00L","5QT",1,null,null,"5QT","05L",4]
["00L","NTA",1,null,null,"5QT","05R",4]
["00L","RA2",1,null,null,"5QT","07K",4]
["00L","RA3",1,null,null,"5QT","07M",4]
["00L","RA7",1,null,null,"5QT","08P",4]
["00L","RAJ",1,null,null,"5QT","08X",4]
["00L","RBA",1,null,null,"5QT","09C",4]
["00L","RBD",1,null,null,"5QT","09E",4]
["00L","RBL",1,null,null,"5QT","09L",4]
["00L","RBT",1,null,null,"5QT","10J",4]
["00L","RBV",1,null,null,"5QT","99E",4]
["00L","RBZ",1,null,null,"5QT","99P",4]
["00L","RC3",1,null,null,"5QT","00J",3]
["00L","RC9",1,null,null,"5QT","01H",3]
["00L","RD1",1,null,null,"5QT","01W",3]
["00L","RD7",1,null,null,"5QT","03N",3]
["00L","REM",1,null,null,"5QT","04C",3]
["00L","RF4",1,null,null,"5QT","04F",3]
["00L","RFS",1,null,null,"5QT","04H",3]
["00L","RFW",1,null,null,"5QT","04R",3]
["00L","RGC",1,null,null,"5QT","05C",3]
["00L","RGP",1,null,null,"5QT","05D",3]
["00L","RGR",1,null,null,"5QT","05G",3]
["00L","RH8",1,null,null,"5QT","05T",3]
["00L","RHM",1,null,null,"5QT","06A",3]
["00L","RHU",1,null,null,"5QT","06L",3]
["00L","RJ6",1,null,null,"5QT","08H",3]
["00L","RJF",1,null,null,"5QT","08Q",3]
["00L","RJR",1,null,null,"5QT","08Y",3]
["00L","RK5",1,null,null,"5QT","09D",3]
["00L","RKB",1,null,null,"5QT","09H",3]
["00L","RL1",1,null,null,"5QT","09J",3]
["00L","RLQ",1,null,null,"5QT","09X",3]
["00L","RLT",1,null,null,"5QT","10E",3]
["00L","RN5",1,null,null,"5QT","10G",3]
["00L","RNH",1,null,null,"5QT","10H",3]
["00L","RPA",1,null,null,"5QT","11M",3]
["00L","RQM",1,null,null,"5QT","12D",3]
["00L","RQW",1,null,null,"5QT","12F",3]
["00L","RTP",1,null,null,"5QT","99F",3]
["00L","RVJ",1,null,null,"5QT","00V",2]
["00L","RVY",1,null,null,"5QT","01A",2]
["00L","RWE",1,null,null,"5QT","01K",2]
["00L","RWJ",1,null,null,"5QT","01R",2]
["00L","RWY",1,null,null,"5QT","02A",2]
["00L","RYR",1,null,null,"5QT","02F",2]
["00M","RTR",69798,null,null,"5QT","02H",2]
["00M","NVC",2963,null,null,"5QT","02M",2]
["00M","5QR",1440,null,null,"5QT","02R",2]
["00M","RVW",1304,null,null,"5QT","03F",2]
["00M","RTD",984,null,null,"5QT","03L",2]
["00M","RXP",286,null,null,"5QT","03R",2]
["00M","NT4",181,null,null,"5QT","03Y",2]
["00M","RLN",142,null,null,"5QT","04X",2]
["00M","RR8",121,null,null,"5QT","05J",2]
["00M","RCC",56,null,null,"5QT","05P",2]
["00M","RTF",22,null,null,"5QT","05Q",2]
["00M","RE9",20,null,null,"5QT","05Y",2]
["00M","RNL",19,null,null,"5QT","06M",2]
["00M","RCB",17,null,null,"5QT","07H",2]
["00M","RHQ",16,null,null,"5QT","07L",2]
["00M","RWA",15,null,null,"5QT","07W",2]
["00M","RP4",14,null,null,"5QT","08C",2]
["00M","RGP",13,null,null,"5QT","08L",2]
["00M","RCD",12,null,null,"5QT","08N",2]
["00M","RJZ",12,null,null,"5QT","09A",2]
["00M","RRV",12,null,null,"5QT","09P",2]
["00M","RW6",12,null,null,"5QT","09W",2]
["00M","RCU",11,null,null,"5QT","10C",2]
["00M","RQ3",11,null,null,"5QT","11D",2]
["00M","RXF",11,null,null,"5QT","11N",2]
["00M","RJ1",10,null,null,"5QT","99A",2]
["00M","RX1",10,null,null,"5QT","99Q",2]
["00M","RP5",9,null,null,"5QT","00D",1]
["00M","RQ6",9,null,null,"5QT","00L",1]
["00M","RNA",8,null,null,"5QT","00T",1]
["00M","RTX",8,null,null,"5QT","00Y",1]
["00M","RXL",8,null,null,"5QT","01E",1]
["00M","RAE",7,null,null,"5QT","01V",1]
["00M","RGT",7,null,null,"5QT","01Y",1]
["00M","RM3",7,null,null,"5QT","02D",1]
["00M","RTH",7,null,null,"5QT","02P",1]
["00M","RW3",7,null,null,"5QT","02Y",1]
["00M","RWD",7,null,null,"5QT","03A",1]
["00M","RYJ",7,null,null,"5QT","03G",1]
["00M","RJL",6,null,null,"5QT","03H",1]
["00M","RR1",5,null,null,"5QT","03K",1]
["00M","RVL",5,null,null,"5QT","03Q",1]
["00M","RAP",4,null,null,"5QT","03V",1]
["00M","REF",4,null,null,"5QT","03X",1]
["00M","RFR",4,null,null,"5QT","04J",1]
["00M","RM2",4,null,null,"5QT","04K",1]
["00M","RMC",4,null,null,"5QT","04L",1]
["00M","RQX",4,null,null,"5QT","05H",1]
["00M","RVR",4,null,null,"5QT","05V",1]
["00M","RWE",4,null,null,"5QT","05X",1]
["00M","RWW",4,null,null,"5QT","06P",1]
["00M","RWY",4,null,null,"5QT","07G",1]
["00M","RXH",4,null,null,"5QT","07J",1]
["00M","RCX",3,null,null,"5QT","07N",1]
["00M","REM",3,null,null,"5QT","07P",1]
["00M","RFS",3,null,null,"5QT","07Q",1]
["00M","RFW",3,null,null,"5QT","07R",1]
["00M","RHU",3,null,null,"5QT","07T",1]
["00M","RJD",3,null,null,"5QT","07V",1]
["00M","RJF",3,null,null,"5QT","08F",1]
["00M","RK9",3,null,null,"5QT","08M",1]
["00M","RKB",3,null,null,"5QT","10D",1]
["00M","RR7",3,null,null,"5QT","10M",1]
["00M","RRK",3,null,null,"5QT","10W",1]
["00M","RX4",3,null,null,"5QT","10Y",1]
["00M","RYQ",3,null,null,"5QT","11T",1]
["00M","NT3",2,null,null,"5QT","99C",1]
["00M","RAS",2,null,null,"5QT","99D",1]
["00M","RBA",2,null,null,"5QT","99G",1]
["00M","RBK",2,null,null,"NN4","00J",227]
["00M","RBT",2,null,null,"NN4","00P",55]
["00M","RCF",2,null,null,"NN4","00F",46]
["00M","RD3",2,null,null,"NN4","00H",44]
["00M","RD8",2,null,null,"NN4","00G",40]
["00M","RDU",2,null,null,"NN4","00D",25]
["00M","RGC",2,null,null,"NN4","99C",17]
["00M","RJ7",2,null,null,"NN4","00N",16]
["00M","RJC",2,null,null,"NN4","00L",8]
["00M","RLQ",2,null,null,"NN4","01H",3]
["00M","RNH",2,null,null,"NN4","00C",1]
["00M","RNJ",2,null,null,"NN4","00M",1]
["00M","RNS",2,null,null,"NN4","01C",1]
["00M","RPA",2,null,null,"NN4","03Q",1]
["00M","RPY",2,null,null,"NT2","99P",238]
["00M","RQQ",2,null,null,"NT2","11N",67]
["00M","RRF",2,null,null,"NT2","99Q",2]
["00M","RT3",2,null,null,"NT3","99A",1872]
["00M","RWG",2,null,null,"NT3","03F",1714]
["00M","RXQ",2,null,null,"NT3","02Y",1303]
["00M","RYR",2,null,null,"NT3","12F",1265]
["00M","5J9",1,null,null,"NT3","03R",1094]
["00M","5NE",1,null,null,"NT3","05T",1093]
["00M","5QQ",1,null,null,"NT3","00P",976]
["00M","NN4",1,null,null,"NT3","99G",912]
["00M","RA2",1,null,null,"NT3","13P",893]
["00M","RA9",1,null,null,"NT3","04C",783]
["00M","RAL",1,null,null,"NT3","03G",750]
["00M","RAX",1,null,null,"NT3","99F",747]
["00M","RBD",1,null,null,"NT3","08F",739]
["00M","RBF",1,null,null,"NT3","05P",713]
["00M","RBN",1,null,null,"NT3","00J",696]
["00M","RBV",1,null,null,"NT3","06N",659]
["00M","RBZ",1,null,null,"NT3","08N",654]
["00M","RC1",1,null,null,"NT3","11H",615]
["00M","RC3",1,null,null,"NT3","03C",610]
["00M","RC9",1,null,null,"NT3","99E",609]
["00M","RD1",1,null,null,"NT3","09W",601]
["00M","RD7",1,null,null,"NT3","02T",596]
["00M","RDD",1,null,null,"NT3","01F",580]
["00M","RDE",1,null,null,"NT3","99J",569]
["00M","RDZ",1,null,null,"NT3","02E",549]
["00M","RF4",1,null,null,"NT3","99H",526]
["00M","RGD",1,null,null,"NT3","02V",487]
["00M","RGM",1,null,null,"NT3","03W",482]
["00M","RGN",1,null,null,"NT3","00R",433]
["00M","RGQ",1,null,null,"NT3","03J",433]
["00M","RGR",1,null,null,"NT3","06Y",414]
["00M","RH8",1,null,null,"NT3","09H",412]
["00M","RHW",1,null,null,"NT3","10V",382]
["00M","RJE",1,null,null,"NT3","09X",367]
["00M","RJR",1,null,null,"NT3","02M",365]
["00M","RK5",1,null,null,"NT3","09P",357]
["00M","RKE",1,null,null,"NT3","05Y",355]
["00M","RM1",1,null,null,"NT3","10A",340]
["00M","RM4",1,null,null,"NT3","06V",324]
["00M","RN5",1,null,null,"NT3","06W",323]
["00M","RN7",1,null,null,"NT3","01J",313]
["00M","RNQ",1,null,null,"NT3","10N",313]
["00M","RNZ",1,null,null,"NT3","11A",258]
["00M","RQ8",1,null,null,"NT3","99K",255]
["00M","RQM",1,null,null,"NT3","01R",250]
["00M","RTE",1,null,null,"NT3","09L",246]
["00M","RTG",1,null,null,"NT3","99M",242]
["00M","RTP",1,null,null,"NT3","06H",240]
["00M","RV8",1,null,null,"NT3","07L",240]
["00M","RVV",1,null,null,"NT3","02F",239]
["00M","RVY",1,null,null,"NT3","08W",238]
["00M","RWH",1,null,null,"NT3","11D",222]
["00M","RWP",1,null,null,"NT3","03A",214]
["00M","RXC",1,null,null,"NT3","00W",204]
["00M","RXK",1,null,null,"NT3","04V",196]
["00M","RXN",1,null,null,"NT3","09C",195]
["00M","RXR",1,null,null,"NT3","12A",195]
["00N","RE9",28553,null,null,"NT3","05G",185]
["00N","RLN",10042,null,null,"NT3","00D",182]
["00N","RTD",4430,null,null,"NT3","01C",181]
["00N","RXP",1079,null,null,"NT3","11T",177]
["00N","RR7",876,null,null,"NT3","06K",175]
["00N","NVC",183,null,null,"NT3","09E",175]
["00N","RTF",139,null,null,"NT3","10X",172]
["00N","NT3",92,null,null,"NT3","10W",157]
["00N","RTR",58,null,null,"NT3","06P",156]
["00N","RR8",20,null,null,"NT3","08E",153]
["00N","NN4",16,null,null,"NT3","10K",153]
["00N","RNL",15,null,null,"NT3","02A",152]
["00N","RTX",10,null,null,"NT3","00F",148]
["00N","RHQ",9,null,null,"NT3","04J",143]
["00N","5KL",8,null,null,"NT3","10R",143]
["00N","RFR",8,null,null,"NT3","02D",126]
["00N","RVW",8,null,null,"NT3","10D",125]
["00N","RYJ",7,null,null,"NT3","02R",119]
["00N","RWD",6,null,null,"NT3","01N",110]
["00N","RX4",6,null,null,"NT3","07H",107]
["00N","RJ1",5,null,null,"NT3","06F",105]
["00N","RCC",4,null,null,"NT3","01X",102]
["00N","RH8",4,null,null,"NT3","08M",101]
["00N","RHM",4,null,null,"NT3","01T",99]
["00N","RRV",4,null,null,"NT3","06M",99]
["00N","RXL",4,null,null,"NT3","00N",92]
["00N","5KG",3,null,null,"NT3","07G",92]
["00N","RCB",3,null,null,"NT3","07M",91]
["00N","RHU",3,null,null,"NT3","01G",83]
["00N","RHW",3,null,null,"NT3","05J",82]
["00N","RP4",3,null,null,"NT3","04Y",76]
["00N","RT3",3,null,null,"NT3","01Y",70]
["00N","RW6",3,null,null,"NT3","03K",70]
["00N","RAX",2,null,null,"NT3","10M",70]
["00N","RCF",2,null,null,"NT3","01W",68]
["00N","RDZ",2,null,null,"NT3","10H",68]
["00N","RJZ",2,null,null,"NT3","01M",67]
["00N","RKB",2,null,null,"NT3","02H",67]
["00N","RM2",2,null,null,"NT3","05F",63]
["00N","RM3",2,null,null,"NT3","06D",62]
["00N","RNZ",2,null,null,"NT3","05H",60]
["00N","RR1",2,null,null,"NT3","05Q",60]
["00N","RTG",2,null,null,"NT3","10Q",60]
["00N","RVV",2,null,null,"NT3","05W",57]
["00N","RWA",2,null,null,"NT3","06Q",57]
["00N","RWE",2,null,null,"NT3","03Q",50]
["00N","RWW",2,null,null,"NT3","05L",50]
["00N","RWY",2,null,null,"NT3","01V",43]
["00N","RXN",2,null,null,"NT3","09G",43]
["00N","RYQ",2,null,null,"NT3","11M",37]
["00N","5QQ",1,null,null,"NT3","09F",32]
["00N","NT4",1,null,null,"NT3","11C",32]
["00N","NTA",1,null,null,"NT3","10J",31]
["00N","RAE",1,null,null,"NT3","02P",30]
["00N","RAN",1,null,null,"NT3","05N",29]
["00N","RAS",1,null,null,"NT3","07X",29]
["00N","RBA",1,null,null,"NT3","11X",28]
["00N","RBS",1,null,null,"NT3","11E",27]
["00N","RCD",1,null,null,"NT3","10C",26]
["00N","REF",1,null,null,"NT3","11J",26]
["00N","RGP",1,null,null,"NT3","03H",25]
["00N","RGR",1,null,null,"NT3","07J",25]
["00N","RGT",1,null,null,"NT3","09J",25]
["00N","RJC",1,null,null,"NT3","10G",25]
["00N","RJE",1,null,null,"NT3","05R",24]
["00N","RJF",1,null,null,"NT3","00V",23]
["00N","RJL",1,null,null,"NT3","09N",23]
["00N","RK9",1,null,null,"NT3","01H",22]
["00N","RKE",1,null,null,"NT3","07P",22]
["00N","RN5",1,null,null,"NT3","07K",21]
["00N","RNA",1,null,null,"NT3","01A",19]
["00N","RNH",1,null,null,"NT3","06L",16]
["00N","RNJ",1,null,null,"NT3","00Y",15]
["00N","RNS",1,null,null,"NT3","08G",15]
["00N","RP5",1,null,null,"NT3","01K",14]
["00N","RQ6",1,null,null,"NT3","04X",14]
["00N","RRF",1,null,null,"NT3","00C",13]
["00N","RV8",1,null,null,"NT3","05D",13]
["00N","RVJ",1,null,null,"NT3","00L",12]
["00N","RVR",1,null,null,"NT3","99C",11]
["00N","RWJ",1,null,null,"NT3","00G",10]
["00N","RX1",1,null,null,"NT3","00T",10]
["00N","RXC",1,null,null,"NT3","01E",10]
["00N","RXF",1,null,null,"NT3","02N",10]
["00N","RXR",1,null,null,"NT3","10L",10]
["00N","RYR",1,null,null,"NT3","00H",9]
["00P","RLN",65065,null,null,"NT3","00X",9]
["00P","RTD",4704,null,null,"NT3","05A",9]
["00P","RR7",3650,null,null,"NT3","09D",9]
["00P","RXP",2586,null,null,"NT3","03E",8]
["00P","NT3",976,null,null,"NT3","03M",8]
["00P","RE9",705,null,null,"NT3","03T",8]
["00P","5KL",238,null,null,"NT3","08D",8]
["00P","RTR",203,null,null,"NT3","99N",8]
["00P","NVC",118,null,null,"NT3","04G",7]
["00P","RTF",103,null,null,"NT3","10T",7]
["00P","RVW",61,null,null,"NT3","02G",6]
["00P","NN4",55,null,null,"NT3","05V",6]
["00P","RNL",21,null,null,"NT3","01D",5]
["00P","RR8",21,null,null,"NT3","04D",5]
["00P","RCB",15,null,null,"NT3","11N",4]
["00P","RCD",11,null,null,"NT3","03N",3]
["00P","RHQ",11,null,null,"NT3","03V",3]
["00P","RQ6",10,null,null,"NT3","05C",3]
["00P","RP4",9,null,null,"NT3","06T",3]
["00P","RTH",9,null,null,"NT3","07Q",3]
["00P","RWA",9,null,null,"NT3","08V",3]
["00P","RXF",9,null,null,"NT3","10E",3]
["00P","RCC",8,null,null,"NT3","12D",3]
["00P","RM3",8,null,null,"NT3","99Q",3]
["00P","RTX",8,null,null,"NT3","00K",2]
["00P","RXL",8,null,null,"NT3","00M",2]
["00P","RWD",7,null,null,"NT3","00Q",2]
["00P","REM",6,null,null,"NT3","04R",2]
["00P","RJ7",6,null,null,"NT3","08Q",2]
["00P","RRV",6,null,null,"NT3","09A",2]
["00P","RTE",6,null,null,"NT3","99P",2]
["00P","RX4",6,null,null,"NT3","02Q",1]
["00P","RAE",5,null,null,"NT3","02W",1]
["00P","RD8",5,null,null,"NT3","02X",1]
["00P","RJF",5,null,null,"NT3","03D",1]
["00P","RK9",5,null,null,"NT3","04F",1]
["00P","RKB",5,null,null,"NT3","04L",1]
["00P","RM2",5,null,null,"NT3","07V",1]
["00P","RR1",5,null,null,"NT3","07W",1]
["00P","RW3",5,null,null,"NT3","07Y",1]
["00P","RAL",4,null,null,"NT3","08L",1]
["00P","RBS",4,null,null,"NT3","08P",1]
["00P","RF4",4,null,null,"NT3","08R",1]
["00P","RJE",4,null,null,"NT3","08T",1]
["00P","RP6",4,null,null,"NT3","09Y",1]
["00P","RQ3",4,null,null,"NT3","10Y",1]
["00P","RQM",4,null,null,"NT4","00T",2248]
["00P","RWH",4,null,null,"NT4","00Q",1747]
["00P","RX1",4,null,null,"NT4","00Y",1392]
["00P","RXR",4,null,null,"NT4","04G",1206]
["00P","RYR",4,null,null,"NT4","01D",1205]
["00P","RCF",3,null,null,"NT4","99N",1153]
["00P","RJ1",3,null,null,"NT4","07V",1024]
["00P","RJL",3,null,null,"NT4","12D",1015]
["00P","RNS",3,null,null,"NT4","01A",971]
["00P","RP5",3,null,null,"NT4","04F",932]
["00P","RV8",3,null,null,"NT4","05T",894]
["00P","RVY",3,null,null,"NT4","05A",891]
["00P","RWG",3,null,null,"NT4","09G",880]
["00P","RXH",3,null,null,"NT4","11J",846]
["00P","RYQ",3,null,null,"NT4","09Y",696]
["00P","NTP",2,null,null,"NT4","99J",647]
["00P","RCU",2,null,null,"NT4","10H",646]
["00P","RD3",2,null,null,"NT4","08E",603]
["00P","RDU",2,null,null,"NT4","09J",563]
["00P","RHU",2,null,null,"NT4","00C",545]
["00P","RJ6",2,null,null,"NT4","03A",500]
["00P","RM4",2,null,null,"NT4","05J",478]
["00P","RQW",2,null,null,"NT4","07Q",468]
["00P","RTP",2,null,null,"NT4","06N",467]
["00P","RVV",2,null,null,"NT4","08A",439]
["00P","RW6",2,null,null,"NT4","11A",404]
["00P","RWE",2,null,null,"NT4","11E",400]
["00P","RWP",2,null,null,"NT4","06F",381]
["00P","RXK",2,null,null,"NT4","10Y",370]
["00P","RYJ",2,null,null,"NT4","02H",365]
["00P","5CQ",1,null,null,"NT4","01K",358]
["00P","5KG",1,null,null,"NT4","03N",356]
["00P","RA2",1,null,null,"NT4","10J",356]
["00P","RA3",1,null,null,"NT4","13P",335]
["00P","RAS",1,null,null,"NT4","04D",329]
["00P","RAX",1,null,null,"NT4","00V",325]
["00P","RBK",1,null,null,"NT4","06D",317]
["00P","RBL",1,null,null,"NT4","09F",292]
["00P","RBT",1,null,null,"NT4","08V",291]
["00P","RBV",1,null,null,"NT4","04X",281]
["00P","RD1",1,null,null,"NT4","07P",275]
["00P","RDD",1,null,null,"NT4","09W",273]
["00P","RDZ",1,null,null,"NT4","05R",264]
["00P","REF",1,null,null,"NT4","00D",257]
["00P","RFF",1,null,null,"NT4","04J",249]
["00P","RFR",1,null,null,"NT4","08G",238]
["00P","RGC",1,null,null,"NT4","06V",232]
["00P","RGN",1,null,null,"NT4","01Y",229]
["00P","RGR",1,null,null,"NT4","09E",228]
["00P","RGT",1,null,null,"NT4","06K",222]
["00P","RH8",1,null,null,"NT4","00K",216]
["00P","RJ2",1,null,null,"NT4","07N",216]
["00P","RJC",1,null,null,"NT4","07M",215]
["00P","RJD",1,null,null,"NT4","04L",212]
["00P","RJR",1,null,null,"NT4","09N",210]
["00P","RK5",1,null,null,"NT4","04E",197]
["00P","RL4",1,null,null,"NT4","08L",183]
["00P","RM1",1,null,null,"NT4","00M",181]
["00P","RMP",1,null,null,"NT4","01W",181]
["00P","RN3",1,null,null,"NT4","10Q",180]
["00P","RN5",1,null,null,"NT4","04H",178]
["00P","RNJ",1,null,null,"NT4","02A",177]
["00P","RNQ",1,null,null,"NT4","11X",175]
["00P","RNZ",1,null,null,"NT4","01H",174]
["00P","RQQ",1,null,null,"NT4","03E",172]
["00P","RQX",1,null,null,"NT4","06Y",161]
["00P","RRK",1,null,null,"NT4","07X",160]
["00P","RT3",1,null,null,"NT4","08D",159]
["00P","RTG",1,null,null,"NT4","08M",152]
["00P","RTK",1,null,null,"NT4","10M",142]
["00P","RV9",1,null,null,"NT4","02T",141]
["00P","RVN",1,null,null,"NT4","04K",141]
["00P","RWW",1,null,null,"NT4","05L",132]
["00P","RXC",1,null,null,"NT4","01N",127]
["00P","RXN",1,null,null,"NT4","07J",126]
["00P","RHW",0,null,null,"NT4","10D",126]
["00Q","RXR",34762,null,null,"NT4","03D",115]
["00Q","RXN",1820,null,null,"NT4","06W",115]
["00Q","NT4",1747,null,null,"NT4","05H",111]
["00Q","RW3",688,null,null,"NT4","09C",103]
["00Q","NVC",617,null,null,"NT4","10A",92]
["00Q","RXL",196,null,null,"NT4","05P",90]
["00Q","RRF",149,null,null,"NT4","07K",88]
["00Q","RM3",147,null,null,"NT4","01M",86]
["00Q","RW6",120,null,null,"NT4","07T",86]
["00Q","RMC",73,null,null,"NT4","02V",76]
["00Q","RBS",66,null,null,"NT4","03Y",75]
["00Q","RM2",65,null,null,"NT4","01G",74]
["00Q","RBV",62,null,null,"NT4","10G",73]
["00Q","RTX",43,null,null,"NT4","11C",72]
["00Q","RR8",42,null,null,"NT4","04N",67]
["00Q","NTF",30,null,null,"NT4","04R",65]
["00Q","RET",25,null,null,"NT4","11D",65]
["00Q","RQ6",24,null,null,"NT4","08W",64]
["00Q","RHQ",22,null,null,"NT4","08K",63]
["00Q","RTD",16,null,null,"NT4","09D",63]
["00Q","RAE",11,null,null,"NT4","02P",62]
["00Q","RCF",10,null,null,"NT4","00W",58]
["00Q","RRV",10,null,null,"NT4","00X",55]
["00Q","RWE",10,null,null,"NT4","10V",55]
["00Q","RJ7",9,null,null,"NT4","03J",53]
["00Q","RWJ",9,null,null,"NT4","05C",50]
["00Q","RJ1",8,null,null,"NT4","07W",50]
["00Q","RP4",8,null,null,"NT4","08R",50]
["00Q","RWW",8,null,null,"NT4","11M",49]
["00Q","RBT",7,null,null,"NT4","08Q",48]
["00Q","REM",7,null,null,"NT4","02M",44]
["00Q","RXK",7,null,null,"NT4","09X",42]
["00Q","RHM",6,null,null,"NT4","01C",41]
["00Q","RNJ",6,null,null,"NT4","03T",41]
["00Q","RNL",6,null,null,"NT4","06L",41]
["00Q","RRJ",6,null,null,"NT4","99M",40]
["00Q","RVY",6,null,null,"NT4","99K",39]
["00Q","RKB",5,null,null,"NT4","08T",38]
["00Q","RBN",4,null,null,"NT4","06H",37]
["00Q","RBQ",4,null,null,"NT4","04M",36]
["00Q","REP",4,null,null,"NT4","05N",36]
["00Q","RJC",4,null,null,"NT4","01E",34]
["00Q","RJR",4,null,null,"NT4","03L",34]
["00Q","RM4",4,null,null,"NT4","04V",31]
["00Q","RP5",4,null,null,"NT4","08H",29]
["00Q","RTF",4,null,null,"NT4","08N",29]
["00Q","RVL",4,null,null,"NT4","04Q",28]
["00Q","RAL",3,null,null,"NT4","09L",28]
["00Q","RJE",3,null,null,"NT4","10X",28]
["00Q","RL1",3,null,null,"NT4","07Y",27]
["00Q","RL4",3,null,null,"NT4","10C",27]
["00Q","RNH",3,null,null,"NT4","03Q",24]
["00Q","RQ3",3,null,null,"NT4","03R",24]
["00Q","RWA",3,null,null,"NT4","07L",23]
["00Q","RXF",3,null,null,"NT4","09P",23]
["00Q","NT3",2,null,null,"NT4","05F",22]
["00Q","RAS",2,null,null,"NT4","10K",22]
["00Q","RBZ",2,null,null,"NT4","08F",21]
["00Q","RCC",2,null,null,"NT4","06P",20]
["00Q","RCD",2,null,null,"NT4","07H",20]
["00Q","RD7",2,null,null,"NT4","02Q",19]
["00Q","RFF",2,null,null,"NT4","10E",19]
["00Q","RGM",2,null,null,"NT4","10W",19]
["00Q","RGP",2,null,null,"NT4","03W",17]
["00Q","RHU",2,null,null,"NT4","08P",16]
["00Q","RJD",2,null,null,"NT4","10N",16]
["00Q","RJZ",2,null,null,"NT4","02N",15]
["00Q","RLQ",2,null,null,"NT4","03C",15]
["00Q","RN5",2,null,null,"NT4","12A",14]
["00Q","RNQ",2,null,null,"NT4","07G",13]
["00Q","RR1",2,null,null,"NT4","10T",13]
["00Q","RRK",2,null,null,"NT4","02E",11]
["00Q","RTE",2,null,null,"NT4","03X",10]
["00Q","RTG",2,null,null,"NT4","07R",10]
["00Q","RV8",2,null,null,"NT4","08Y",9]
["00Q","RVW",2,null,null,"NT4","09A",9]
["00Q","5PJ",1,null,null,"NT4","99D",8]
["00Q","NTC",1,null,null,"NT4","01X",7]
["00Q","RA9",1,null,null,"NT4","02R",7]
["00Q","RAP",1,null,null,"NT4","08C",7]
["00Q","RBL",1,null,null,"NT4","08X",7]
["00Q","RC3",1,null,null,"NT4","02G",6]
["00Q","RD3",1,null,null,"NT4","99A",6]
["00Q","RDD",1,null,null,"NT4","00J",5]
["00Q","RDE",1,null,null,"NT4","02F",5]
["00Q","RDZ",1,null,null,"NT4","05Q",5]
["00Q","REF",1,null,null,"NT4","02D",4]
["00Q","REN",1,null,null,"NT4","04C",4]
["00Q","RF4",1,null,null,"NT4","05Y",4]
["00Q","RFS",1,null,null,"NT4","06A",4]
["00Q","RGC",1,null,null,"NT4","03G",3]
["00Q","RGQ",1,null,null,"NT4","05D",3]
["00Q","RGT",1,null,null,"NT4","08J",3]
["00Q","RJ6",1,null,null,"NT4","10R",3]
["00Q","RJN",1,null,null,"NT4","11H",3]
["00Q","RK5",1,null,null,"NT4","99H",3]
["00Q","RLT",1,null,null,"NT4","01R",2]
["00Q","RM1",1,null,null,"NT4","02Y",2]
["00Q","RNA",1,null,null,"NT4","04Y",2]
["00Q","RNS",1,null,null,"NT4","05G",2]
["00Q","RNZ",1,null,null,"NT4","05X",2]
["00Q","RP6",1,null,null,"NT4","09H",2]
["00Q","RPC",1,null,null,"NT4","10L",2]
["00Q","RQM",1,null,null,"NT4","11N",2]
["00Q","RTH",1,null,null,"NT4","99E",2]
["00Q","RTR",1,null,null,"NT4","99P",2]
["00Q","RVR",1,null,null,"NT4","00F",1]
["00Q","RVV",1,null,null,"NT4","00G",1]
["00Q","RWH",1,null,null,"NT4","00N",1]
["00Q","RWP",1,null,null,"NT4","00R",1]
["00Q","RXC",1,null,null,"NT4","01J",1]
["00Q","RXP",1,null,null,"NT4","01V",1]
["00Q","RYJ",1,null,null,"NT4","02W",1]
["00Q","RYQ",1,null,null,"NT4","02X",1]
["00Q","RYR",1,null,null,"NT4","03K",1]
["00R","RXL",41712,null,null,"NT4","03M",1]
["00R","RXN",2098,null,null,"NT4","06M",1]
["00R","NVC",1605,null,null,"NT4","06Q",1]
["00R","RW3",446,null,null,"NT4","06T",1]
["00R","NT3",433,null,null,"NT4","99C",1]
["00R","RRF",200,null,null,"NT4","99G",1]
["00R","RBS",121,null,null,"NT4","99Q",1]
["00R","RTX",121,null,null,"NT7","01D",27]
["00R","RM3",79,null,null,"NT7","01M",22]
["00R","RM2",78,null,null,"NT7","00Y",16]
["00R","RXR",61,null,null,"NT7","01N",16]
["00R","RBV",51,null,null,"NT7","00V",14]
["00R","RW6",38,null,null,"NT7","01G",12]
["00R","RQ6",34,null,null,"NT7","01Y",12]
["00R","RHQ",28,null,null,"NT7","00T",11]
["00R","RMC",27,null,null,"NT7","02A",10]
["00R","RR8",25,null,null,"NT7","02H",9]
["00R","REM",22,null,null,"NT7","01W",6]
["00R","RVY",22,null,null,"NT7","00W",5]
["00R","RRV",19,null,null,"NT7","02T",1]
["00R","RAE",11,null,null,"NT7","04G",1]
["00R","RET",11,null,null,"NTA","04K",9248]
["00R","RRJ",11,null,null,"NTA","05D",4685]
["00R","RBN",10,null,null,"NTA","04N",4445]
["00R","RWJ",10,null,null,"NTA","04L",3552]
["00R","RTD",9,null,null,"NTA","04M",3199]
["00R","RWW",9,null,null,"NTA","05Q",2452]
["00R","RW4",8,null,null,"NTA","03X",2416]
["00R","RCC",7,null,null,"NTA","04R",2391]
["00R","RMP",7,null,null,"NTA","04V",1238]
["00R","RXK",7,null,null,"NTA","04H",625]
["00R","RBQ",6,null,null,"NTA","02R",526]
["00R","RCF",6,null,null,"NTA","03C",372]
["00R","RFF",6,null,null,"NTA","04E",299]
["00R","RL1",6,null,null,"NTA","04Q",290]
["00R","RP4",6,null,null,"NTA","03W",211]
["00R","RRK",6,null,null,"NTA","04Y",207]
["00R","RWY",6,null,null,"NTA","05G",161]
["00R","RH8",5,null,null,"NTA","04D",106]
["00R","RJE",5,null,null,"NTA","03T",94]
["00R","RNL",5,null,null,"NTA","05W",94]
["00R","RTR",5,null,null,"NTA","02W",85]
["00R","RVJ",5,null,null,"NTA","05H",62]
["00R","RWE",5,null,null,"NTA","03H",58]
["00R","RXP",5,null,null,"NTA","04J",52]
["00R","RAS",4,null,null,"NTA","03Y",51]
["00R","REF",4,null,null,"NTA","02V",40]
["00R","RFR",4,null,null,"NTA","02Q",27]
["00R","RJ1",4,null,null,"NTA","05V",27]
["00R","RJ7",4,null,null,"NTA","99D",25]
["00R","RJR",4,null,null,"NTA","05Y",14]
["00R","RKB",4,null,null,"NTA","13P",13]
["00R","RQ3",4,null,null,"NTA","04G",12]
["00R","RTF",4,null,null,"NTA","03N",11]
["00R","RXF",4,null,null,"NTA","04C",10]
["00R","RXW",4,null,null,"NTA","09W",9]
["00R","RYJ",4,null,null,"NTA","02T",7]
["00R","RCB",3,null,null,"NTA","06H",7]
["00R","RD8",3,null,null,"NTA","01Y",5]
["00R","REP",3,null,null,"NTA","03K",5]
["00R","RJD",3,null,null,"NTA","03L",4]
["00R","RJN",3,null,null,"NTA","06A",4]
["00R","RLN",3,null,null,"NTA","00J",3]
["00R","RN3",3,null,null,"NTA","00W",3]
["00R","RNS",3,null,null,"NTA","03G",3]
["00R","RQM",3,null,null,"NTA","03J",3]
["00R","RVL",3,null,null,"NTA","03Q",3]
["00R","RVV",3,null,null,"NTA","05X",3]
["00R","RWD",3,null,null,"NTA","06N",3]
["00R","RWP",3,null,null,"NTA","06V",3]
["00R","RA3",2,null,null,"NTA","08A",3]
["00R","RBL",2,null,null,"NTA","08Y",3]
["00R","RBT",2,null,null,"NTA","10Q",3]
["00R","RD3",2,null,null,"NTA","11X",3]
["00R","RDU",2,null,null,"NTA","00G",2]
["00R","RF4",2,null,null,"NTA","00Y",2]
["00R","RGM",2,null,null,"NTA","01N",2]
["00R","RGP",2,null,null,"NTA","02N",2]
["00R","RGT",2,null,null,"NTA","02X",2]
["00R","RJZ",2,null,null,"NTA","03M",2]
["00R","RK5",2,null,null,"NTA","03R",2]
["00R","RL4",2,null,null,"NTA","05A",2]
["00R","RLQ",2,null,null,"NTA","05L",2]
["00R","RN5",2,null,null,"NTA","06K",2]
["00R","RPA",2,null,null,"NTA","06P",2]
["00R","RQQ",2,null,null,"NTA","07K",2]
["00R","RR1",2,null,null,"NTA","07V",2]
["00R","RTE",2,null,null,"NTA","08M",2]
["00R","RV8",2,null,null,"NTA","08R",2]
["00R","RVW",2,null,null,"NTA","99N",2]
["00R","RWA",2,null,null,"NTA","00H",1]
["00R","RX1",2,null,null,"NTA","00L",1]
["00R","RXC",2,null,null,"NTA","00N",1]
["00R","RYQ",2,null,null,"NTA","00R",1]
["00R","RYR",2,null,null,"NTA","00V",1]
["00R","5CQ",1,null,null,"NTA","01C",1]
["00R","NT4",1,null,null,"NTA","01E",1]
["00R","NTA",1,null,null,"NTA","01M",1]
["00R","NTF",1,null,null,"NTA","02E",1]
["00R","RA9",1,null,null,"NTA","02F",1]
["00R","RAJ",1,null,null,"NTA","02Y",1]
["00R","RAL",1,null,null,"NTA","03A",1]
["00R","RC3",1,null,null,"NTA","03F",1]
["00R","RC9",1,null,null,"NTA","05P",1]
["00R","RCD",1,null,null,"NTA","05R",1]
["00R","RCU",1,null,null,"NTA","06D",1]
["00R","RD7",1,null,null,"NTA","06F",1]
["00R","RDZ",1,null,null,"NTA","06T",1]
["00R","RFS",1,null,null,"NTA","07X",1]
["00R","RGN",1,null,null,"NTA","08H",1]
["00R","RGQ",1,null,null,"NTA","08N",1]
["00R","RHM",1,null,null,"NTA","08V",1]
["00R","RHU",1,null,null,"NTA","08W",1]
["00R","RJC",1,null,null,"NTA","09D",1]
["00R","RJL",1,null,null,"NTA","09H",1]
["00R","RK9",1,null,null,"NTA","10L",1]
["00R","RKE",1,null,null,"NTA","10M",1]
["00R","RM1",1,null,null,"NTA","10W",1]
["00R","RM4",1,null,null,"NTA","10Y",1]
["00R","RN1",1,null,null,"NTA","11J",1]
["00R","RN7",1,null,null,"NTA","11M",1]
["00R","RNA",1,null,null,"NTA","11N",1]
["00R","RNJ",1,null,null,"NTA","99A",1]
["00R","RNQ",1,null,null,"NTA","99J",1]
["00R","RP5",1,null,null,"NTA","99P",1]
["00R","RT3",1,null,null,"NTC","11X",6235]
["00R","RTG",1,null,null,"NTC","99N",4321]
["00R","RTH",1,null,null,"NTC","12A",2480]
["00R","RTP",1,null,null,"NTC","11H",2229]
["00R","RVR",1,null,null,"NTC","11E",1585]
["00R","RWG",1,null,null,"NTC","12D",1370]
["00R","RXH",1,null,null,"NTC","11T",1361]
["00T","RMC",45223,null,null,"NTC","99P",1210]
["00T","RM3",2830,null,null,"NTC","11M",818]
["00T","NT4",2248,null,null,"NTC","11J",491]
["00T","RW3",2223,null,null,"NTC","11N",379]
["00T","RRF",1136,null,null,"NTC","99Q",77]
["00T","RW6",920,null,null,"NTC","10Q",17]
["00T","RXN",669,null,null,"NTC","06N",6]
["00T","RM2",660,null,null,"NTC","05T",3]
["00T","RBV",615,null,null,"NTC","05X",3]
["00T","RXR",507,null,null,"NTC","05P",2]
["00T","NVC",377,null,null,"NTC","08A",2]
["00T","RR8",64,null,null,"NTC","00Q",1]
["00T","RBS",59,null,null,"NTC","00Y",1]
["00T","RWJ",54,null,null,"NTC","01N",1]
["00T","RXL",47,null,null,"NTC","02R",1]
["00T","RQ6",43,null,null,"NTC","03C",1]
["00T","RM4",42,null,null,"NTC","04C",1]
["00T","RTX",41,null,null,"NTC","05F",1]
["00T","RHQ",38,null,null,"NTC","05L",1]
["00T","RVY",33,null,null,"NTC","05Y",1]
["00T","RWW",33,null,null,"NTC","06H",1]
["00T","RBN",31,null,null,"NTC","06Q",1]
["00T","RAN",15,null,null,"NTC","07V",1]
["00T","REM",15,null,null,"NTC","09H",1]
["00T","RNS",14,null,null,"NTC","09L",1]
["00T","RWE",14,null,null,"NTC","09N",1]
["00T","RRV",13,null,null,"NTC","09W",1]
["00T","RH8",12,null,null,"NTC","09Y",1]
["00T","NT7",11,null,null,"NTC","10M",1]
["00T","RL1",11,null,null,"NTC","10R",1]
["00T","RRJ",11,null,null,"NTC","10W",1]
["00T","NT3",10,null,null,"NTC","10X",1]
["00T","RET",10,null,null,"NTC","10Y",1]
["00T","RJN",9,null,null,"NTC","11A",1]
["00T","RMP",9,null,null,"NTC","13P",1]
["00T","NVG",8,null,null,"NTD","02F",1252]
["00T","RBT",8,null,null,"NTD","02E",860]
["00T","REF",8,null,null,"NTD","12F",782]
["00T","RRK",8,null,null,"NTD","01F",672]
["00T","RAE",7,null,null,"NTD","02D",568]
["00T","RCF",7,null,null,"NTD","99A",538]
["00T","REP",7,null,null,"NTD","01R",428]
["00T","RJR",7,null,null,"NTD","01C",358]
["00T","RNL",7,null,null,"NTD","01X",271]
["00T","RP4",7,null,null,"NTD","01J",264]
["00T","RTD",7,null,null,"NTD","01T",140]
["00T","RTH",7,null,null,"NTD","01V",102]
["00T","RA9",6,null,null,"NTD","02H",12]
["00T","RQ3",6,null,null,"NTD","05G",7]
["00T","RTF",6,null,null,"NTD","01N",4]
["00T","RXK",6,null,null,"NTD","01W",3]
["00T","RCB",5,null,null,"NTD","02G",3]
["00T","RJ7",5,null,null,"NTD","00T",2]
["00T","RJE",5,null,null,"NTD","01H",2]
["00T","RNJ",5,null,null,"NTD","05W",2]
["00T","RR1",5,null,null,"NTD","01K",1]
["00T","RTE",5,null,null,"NTD","01Y",1]
["00T","RWA",5,null,null,"NTD","02M",1]
["00T","RWY",5,null,null,"NTD","03A",1]
["00T","RX1",5,null,null,"NTD","04J",1]
["00T","RAL",4,null,null,"NTD","05D",1]
["00T","RBL",4,null,null,"NTE","03N",1562]
["00T","RGP",4,null,null,"NTE","04J",633]
["00T","RGT",4,null,null,"NTE","03L",106]
["00T","RJL",4,null,null,"NTE","02P",82]
["00T","RK9",4,null,null,"NTE","02Q",59]
["00T","RKB",4,null,null,"NTE","03R",55]
["00T","RVL",4,null,null,"NTE","03Y",39]
["00T","RWD",4,null,null,"NTE","02X",15]
["00T","RWP",4,null,null,"NTE","03A",13]
["00T","RXF",4,null,null,"NTE","03J",10]
["00T","RBA",3,null,null,"NTE","03T",10]
["00T","RC9",3,null,null,"NTE","04L",6]
["00T","RGC",3,null,null,"NTE","03K",5]
["00T","RNH",3,null,null,"NTE","03G",4]
["00T","RTG",3,null,null,"NTE","02T",3]
["00T","RVV",3,null,null,"NTE","04D",3]
["00T","RXQ",3,null,null,"NTE","04K",3]
["00T","RXV",3,null,null,"NTE","00Y",2]
["00T","RYJ",3,null,null,"NTE","02R",2]
["00T","5NE",2,null,null,"NTE","04R",2]
["00T","NTD",2,null,null,"NTE","01C",1]
["00T","RBQ",2,null,null,"NTE","01D",1]
["00T","RBZ",2,null,null,"NTE","02A",1]
["00T","RCC",2,null,null,"NTE","03C",1]
["00T","RD7",2,null,null,"NTE","03E",1]
["00T","RDZ",2,null,null,"NTE","03H",1]
["00T","RF4",2,null,null,"NTE","04H",1]
["00T","RHU",2,null,null,"NTE","99D",1]
["00T","RJC",2,null,null,"NTE","99P",1]
["00T","RK5",2,null,null,"NTF","01A",649]
["00T","RM1",2,null,null,"NTF","02N",61]
["00T","RN5",2,null,null,"NTF","00Q",30]
["00T","RP5",2,null,null,"NTF","01H",6]
["00T","RPC",2,null,null,"NTF","01E",4]
["00T","RTR",2,null,null,"NTF","02R",2]
["00T","RV8",2,null,null,"NTF","00R",1]
["00T","RVW",2,null,null,"NTF","00X",1]
["00T","RWH",2,null,null,"NTF","02A",1]
["00T","RXC",2,null,null,"NTF","02E",1]
["00T","RXH",2,null,null,"NTF","02H",1]
["00T","RYQ",2,null,null,"NTF","02M",1]
["00T","5CN",1,null,null,"NTF","02T",1]
["00T","5QT",1,null,null,"NTP","10X",6131]
["00T","RA2",1,null,null,"NTP","99J",6107]
["00T","RA4",1,null,null,"NTP","10R",3164]
["00T","RAP",1,null,null,"NTP","08F",3149]
["00T","RAS",1,null,null,"NTP","09W",2917]
["00T","RAX",1,null,null,"NTP","11A",2818]
["00T","RBK",1,null,null,"NTP","09D",2597]
["00T","RCD",1,null,null,"NTP","10V",2044]
["00T","RCU",1,null,null,"NTP","08N",1823]
["00T","RD1",1,null,null,"NTP","09X",1791]
["00T","RD3",1,null,null,"NTP","07L",1549]
["00T","RD8",1,null,null,"NTP","10K",1411]
["00T","RDD",1,null,null,"NTP","10D",1177]
["00T","RFS",1,null,null,"NTP","99K",945]
["00T","RFW",1,null,null,"NTP","03C",625]
["00T","RGR",1,null,null,"NTP","04J",513]
["00T","RHM",1,null,null,"NTP","02R",487]
["00T","RHW",1,null,null,"NTP","04D",378]
["00T","RJ1",1,null,null,"NTP","08W",350]
["00T","RJD",1,null,null,"NTP","10L",291]
["00T","RJF",1,null,null,"NTP","09J",266]
["00T","RJZ",1,null,null,"NTP","09G",259]
["00T","RLT",1,null,null,"NTP","03Y",256]
["00T","RLU",1,null,null,"NTP","03T",193]
["00T","RN1",1,null,null,"NTP","99E",167]
["00T","RNZ",1,null,null,"NTP","03N",166]
["00T","RQM",1,null,null,"NTP","04E",161]
["00T","RQQ",1,null,null,"NTP","02Q",136]
["00T","RTP",1,null,null,"NTP","02W",118]
["00T","RVR",1,null,null,"NTP","02P",97]
["00T","RWG",1,null,null,"NTP","04H",90]
["00T","RXP",1,null,null,"NTP","02X",87]
["00T","RXW",1,null,null,"NTP","03L",81]
["00V","RW6",37916,null,null,"NTP","08M",68]
["00V","RW3",2875,null,null,"NTP","09H",68]
["00V","RM3",2564,null,null,"NTP","02V",67]
["00V","RMC",1108,null,null,"NTP","04Q",67]
["00V","RM2",704,null,null,"NTP","04R",61]
["00V","RBV",651,null,null,"NTP","09E",60]
["00V","NT4",325,null,null,"NTP","07H",57]
["00V","RXR",295,null,null,"NTP","09F",56]
["00V","RRF",236,null,null,"NTP","09C",49]
["00V","NVC",157,null,null,"NTP","07G",48]
["00V","RXN",71,null,null,"NTP","99D",45]
["00V","RMP",55,null,null,"NTP","04M",44]
["00V","RWJ",51,null,null,"NTP","04L",43]
["00V","RM4",46,null,null,"NTP","03X",32]
["00V","RHQ",41,null,null,"NTP","04N",26]
["00V","RR8",32,null,null,"NTP","99N",24]
["00V","RBS",30,null,null,"NTP","09L",22]
["00V","RXL",27,null,null,"NTP","10A",22]
["00V","RQ6",26,null,null,"NTP","04K",17]
["00V","NT3",23,null,null,"NTP","11J",17]
["00V","REF",18,null,null,"NTP","03G",16]
["00V","RTX",17,null,null,"NTP","10E",15]
["00V","NT7",14,null,null,"NTP","10J",15]
["00V","REM",14,null,null,"NTP","09P",14]
["00V","RJE",14,null,null,"NTP","07V",12]
["00V","RAE",12,null,null,"NTP","07Q",10]
["00V","RGM",11,null,null,"NTP","03J",9]
["00V","RRJ",11,null,null,"NTP","06Q",8]
["00V","RWW",11,null,null,"NTP","03K",6]
["00V","RVY",10,null,null,"NTP","03R",6]
["00V","RQ3",9,null,null,"NTP","99F",6]
["00V","RNL",8,null,null,"NTP","99H",6]
["00V","RJN",7,null,null,"NTP","04V",5]
["00V","RL1",7,null,null,"NTP","06N",5]
["00V","RRV",7,null,null,"NTP","07X",5]
["00V","RV8",7,null,null,"NTP","08A",5]
["00V","RBN",6,null,null,"NTP","09N",5]
["00V","RBT",6,null,null,"NTP","06T",4]
["00V","RJR",6,null,null,"NTP","07N",4]
["00V","RCD",5,null,null,"NTP","08D",4]
["00V","RCF",5,null,null,"NTP","08R",4]
["00V","REP",5,null,null,"NTP","99P",4]
["00V","RRK",5,null,null,"NTP","03E",3]
["00V","RYJ",5,null,null,"NTP","06K",3]
["00V","RCU",4,null,null,"NTP","08C",3]
["00V","RET",4,null,null,"NTP","08P",3]
["00V","RGP",4,null,null,"NTP","08X",3]
["00V","RJZ",4,null,null,"NTP","08Y",3]
["00V","RK9",4,null,null,"NTP","10Q",3]
["00V","RR1",4,null,null,"NTP","11H",3]
["00V","RTR",4,null,null,"NTP","99M",3]
["00V","RWD",4,null,null,"NTP","00P",2]
["00V","RWY",4,null,null,"NTP","02N",2]
["00V","RX1",4,null,null,"NTP","03A",2]
["00V","RXK",4,null,null,"NTP","03M",2]
["00V","RAL",3,null,null,"NTP","04G",2]
["00V","RC9",3,null,null,"NTP","06P",2]
["00V","RFR",3,null,null,"NTP","07J",2]
["00V","RJ1",3,null,null,"NTP","07R",2]
["00V","RL4",3,null,null,"NTP","07T",2]
["00V","RP4",3,null,null,"NTP","08G",2]
["00V","RP5",3,null,null,"NTP","08H",2]
["00V","RTD",3,null,null,"NTP","08L",2]
["00V","RTH",3,null,null,"NTP","08V",2]
["00V","RWA",3,null,null,"NTP","09Y",2]
["00V","RWE",3,null,null,"NTP","11M",2]
["00V","RXF",3,null,null,"NTP","11N",2]
["00V","RXP",3,null,null,"NTP","99G",2]
["00V","5QT",2,null,null,"NTP","99Q",2]
["00V","RCB",2,null,null,"NTP","00K",1]
["00V","RCC",2,null,null,"NTP","01E",1]
["00V","RD7",2,null,null,"NTP","01H",1]
["00V","RDZ",2,null,null,"NTP","01M",1]
["00V","RFF",2,null,null,"NTP","02D",1]
["00V","RFS",2,null,null,"NTP","02F",1]
["00V","RGC",2,null,null,"NTP","02T",1]
["00V","RGR",2,null,null,"NTP","02Y",1]
["00V","RHM",2,null,null,"NTP","03F",1]
["00V","RHW",2,null,null,"NTP","03H",1]
["00V","RJD",2,null,null,"NTP","04X",1]
["00V","RNH",2,null,null,"NTP","05A",1]
["00V","RNJ",2,null,null,"NTP","05H",1]
["00V","RP6",2,null,null,"NTP","05J",1]
["00V","RTE",2,null,null,"NTP","05N",1]
["00V","RTF",2,null,null,"NTP","05P",1]
["00V","RTK",2,null,null,"NTP","05Q",1]
["00V","RVV",2,null,null,"NTP","06M",1]
["00V","RWG",2,null,null,"NTP","07M",1]
["00V","RWH",2,null,null,"NTP","08E",1]
["00V","RWP",2,null,null,"NTP","08K",1]
["00V","RXW",2,null,null,"NTP","08Q",1]
["00V","NTA",1,null,null,"NTP","08T",1]
["00V","NVG",1,null,null,"NTP","10G",1]
["00V","RA2",1,null,null,"NTP","10M",1]
["00V","RA7",1,null,null,"NTP","11X",1]
["00V","RA9",1,null,null,"NTP","99C",1]
["00V","RAS",1,null,null,"NTY","10A",1151]
["00V","RBF",1,null,null,"NTY","09E",1009]
["00V","RBK",1,null,null,"NTY","10E",855]
["00V","RBL",1,null,null,"NTY","09C",655]
["00V","RCX",1,null,null,"NTY","11M",164]
["00V","RD1",1,null,null,"NTY","10D",53]
["00V","RD3",1,null,null,"NTY","99J",30]
["00V","RDE",1,null,null,"NTY","08J",7]
["00V","RGN",1,null,null,"NTY","09W",6]
["00V","RGT",1,null,null,"NTY","99N",6]
["00V","RH8",1,null,null,"NTY","12D",2]
["00V","RJ7",1,null,null,"NTY","13P",2]
["00V","RJC",1,null,null,"NTY","05T",1]
["00V","RKE",1,null,null,"NTY","06H",1]
["00V","RLN",1,null,null,"NTY","08N",1]
["00V","RLQ",1,null,null,"NTY","09P",1]
["00V","RN1",1,null,null,"NTY","10Q",1]
["00V","RN5",1,null,null,"NTY","11T",1]
["00V","RNQ",1,null,null,"NTY","12A",1]
["00V","RNS",1,null,null,"NV3","11E",266]
["00V","RPA",1,null,null,"NV3","99N",165]
["00V","RQ8",1,null,null,"NV3","11X",134]
["00V","RQW",1,null,null,"NV3","12A",10]
["00V","RQX",1,null,null,"NV3","11T",4]
["00V","RR7",1,null,null,"NV3","08A",2]
["00V","RT3",1,null,null,"NV3","11H",2]
["00V","RTP",1,null,null,"NV3","11M",2]
["00V","RVL",1,null,null,"NV3","00W",1]
["00V","RVN",1,null,null,"NVC","11N",6914]
["00V","RVR",1,null,null,"NVC","06K",4576]
["00V","RVW",1,null,null,"NVC","02R",4104]
["00V","RXC",1,null,null,"NVC","01E",3361]
["00V","RYQ",1,null,null,"NVC","00X",3217]
["00V","RYR",1,null,null,"NVC","00M",2963]
["00W","RW3",30968,null,null,"NVC","01A",2910]
["00W","RM2",3407,null,null,"NVC","04G",2675]
["00W","RM3",1062,null,null,"NVC","06Q",2362]
["00W","RW6",623,null,null,"NVC","06T",2123]
["00W","RM4",602,null,null,"NVC","03Q",2049]
["00W","RBV",593,null,null,"NVC","99Q",1927]
["00W","RWJ",472,null,null,"NVC","06H",1864]
["00W","NT3",204,null,null,"NVC","02N",1858]
["00W","RMP",148,null,null,"NVC","11M",1852]
["00W","RTD",67,null,null,"NVC","10Q",1851]
["00W","NT4",58,null,null,"NVC","03T",1739]
["00W","RRF",49,null,null,"NVC","00R",1605]
["00W","RR8",39,null,null,"NVC","09L",1564]
["00W","RHQ",37,null,null,"NVC","04F",1346]
["00W","RXK",27,null,null,"NVC","05C",1323]
["00W","RXR",27,null,null,"NVC","01H",1299]
["00W","RAE",23,null,null,"NVC","99D",1286]
["00W","RWW",22,null,null,"NVC","07H",1280]
["00W","RMC",20,null,null,"NVC","99N",1267]
["00W","RQ6",18,null,null,"NVC","01V",1260]
["00W","NVC",17,null,null,"NVC","99H",1207]
["00W","RJE",16,null,null,"NVC","05V",1094]
["00W","RXN",16,null,null,"NVC","00L",1085]
["00W","RBT",15,null,null,"NVC","02G",1051]
["00W","RJN",13,null,null,"NVC","99C",1036]
["00W","RTX",13,null,null,"NVC","04K",921]
["00W","RGT",12,null,null,"NVC","01G",911]
["00W","RNJ",12,null,null,"NVC","00K",897]
["00W","RXL",12,null,null,"NVC","04L",749]
["00W","REM",11,null,null,"NVC","03C",747]
["00W","RVY",11,null,null,"NVC","02M",701]
["00W","RX1",11,null,null,"NVC","02H",623]
["00W","RBS",10,null,null,"NVC","00Q",617]
["00W","RQX",10,null,null,"NVC","00G",551]
["00W","RRV",10,null,null,"NVC","04D",518]
["00W","RCB",9,null,null,"NVC","10Y",484]
["00W","RJD",9,null,null,"NVC","02W",457]
["00W","RL1",9,null,null,"NVC","99E",440]
["00W","RVL",9,null,null,"NVC","11A",415]
["00W","RWE",9,null,null,"NVC","11D",405]
["00W","RJ1",8,null,null,"NVC","04N",398]
["00W","RKB",8,null,null,"NVC","06F",390]
["00W","RYJ",8,null,null,"NVC","11C",381]
["00W","RJR",7,null,null,"NVC","00T",377]
["00W","RM1",7,null,null,"NVC","10T",359]
["00W","RQ3",7,null,null,"NVC","08J",348]
["00W","RRJ",7,null,null,"NVC","00Y",334]
["00W","RTR",7,null,null,"NVC","10N",324]
["00W","RBK",6,null,null,"NVC","01T",310]
["00W","RC9",6,null,null,"NVC","03V",310]
["00W","REF",6,null,null,"NVC","02X",295]
["00W","RFR",6,null,null,"NVC","04Q",274]
["00W","NT7",5,null,null,"NVC","10H",268]
["00W","RAL",5,null,null,"NVC","04Y",260]
["00W","REN",5,null,null,"NVC","10G",247]
["00W","RJZ",5,null,null,"NVC","03M",239]
["00W","RNL",5,null,null,"NVC","05R",226]
["00W","RQM",5,null,null,"NVC","07V",223]
["00W","RRK",5,null,null,"NVC","10W",219]
["00W","RTH",5,null,null,"NVC","03W",184]
["00W","RWA",5,null,null,"NVC","00N",183]
["00W","RWY",5,null,null,"NVC","01K",177]
["00W","RAS",4,null,null,"NVC","05L",167]
["00W","RAX",4,null,null,"NVC","00H",162]
["00W","RFF",4,null,null,"NVC","08T",161]
["00W","RFS",4,null,null,"NVC","00V",157]
["00W","RGQ",4,null,null,"NVC","04M",155]
["00W","RNA",4,null,null,"NVC","10M",144]
["00W","RR1",4,null,null,"NVC","11J",144]
["00W","RTG",4,null,null,"NVC","02V",139]
["00W","RV8",4,null,null,"NVC","99P",136]
["00W","NTA",3,null,null,"NVC","99A",122]
["00W","RBN",3,null,null,"NVC","00P",118]
["00W","RBQ",3,null,null,"NVC","02A",115]
["00W","RBZ",3,null,null,"NVC","04H",115]
["00W","RC3",3,null,null,"NVC","02Y",103]
["00W","RCD",3,null,null,"NVC","03D",99]
["00W","RD3",3,null,null,"NVC","02T",97]
["00W","REP",3,null,null,"NVC","06L",94]
["00W","RGC",3,null,null,"NVC","06P",93]
["00W","RH8",3,null,null,"NVC","05X",85]
["00W","RHU",3,null,null,"NVC","07K",84]
["00W","RJ6",3,null,null,"NVC","03X",76]
["00W","RJ7",3,null,null,"NVC","05T",72]
["00W","RJC",3,null,null,"NVC","05W",66]
["00W","RL4",3,null,null,"NVC","00F",65]
["00W","RNH",3,null,null,"NVC","03R",62]
["00W","RNS",3,null,null,"NVC","05G",61]
["00W","RWD",3,null,null,"NVC","04E",59]
["00W","RWG",3,null,null,"NVC","09X",57]
["00W","RWH",3,null,null,"NVC","03J",55]
["00W","RXH",3,null,null,"NVC","06D",54]
["00W","RXQ",3,null,null,"NVC","05F",52]
["00W","RXW",3,null,null,"NVC","09N",52]
["00W","RYQ",3,null,null,"NVC","01Y",50]
["00W","RA2",2,null,null,"NVC","09H",49]
["00W","RA7",2,null,null,"NVC","05J",48]
["00W","RBL",2,null,null,"NVC","10X",48]
["00W","RC1",2,null,null,"NVC","03E",46]
["00W","RCX",2,null,null,"NVC","01D",43]
["00W","RD8",2,null,null,"NVC","03A",42]
["00W","RET",2,null,null,"NVC","03G",40]
["00W","RF4",2,null,null,"NVC","99J",39]
["00W","RGR",2,null,null,"NVC","01J",38]
["00W","RHM",2,null,null,"NVC","08F",38]
["00W","RHW",2,null,null,"NVC","00J",36]
["00W","RK5",2,null,null,"NVC","07J",35]
["00W","RLQ",2,null,null,"NVC","01M",31]
["00W","RN5",2,null,null,"NVC","09Y",30]
["00W","RNQ",2,null,null,"NVC","99F",30]
["00W","RP4",2,null,null,"NVC","05Q",29]
["00W","RP6",2,null,null,"NVC","07Q",29]
["00W","RT3",2,null,null,"NVC","00D",27]
["00W","RTK",2,null,null,"NVC","02Q",26]
["00W","RTP",2,null,null,"NVC","06N",25]
["00W","RVR",2,null,null,"NVC","13P",24]
["00W","RVV",2,null,null,"NVC","04R",23]
["00W","RVW",2,null,null,"NVC","00C",22]
["00W","RWF",2,null,null,"NVC","12D",19]
["00W","RWP",2,null,null,"NVC","01X",18]
["00W","RXP",2,null,null,"NVC","08R",18]
["00W","5CQ",1,null,null,"NVC","00W",17]
["00W","5NG",1,null,null,"NVC","04V",17]
["00W","NV3",1,null,null,"NVC","06A",15]
["00W","RA4",1,null,null,"NVC","07G",13]
["00W","RA9",1,null,null,"NVC","01N",12]
["00W","RAJ",1,null,null,"NVC","01W",12]
["00W","RBA",1,null,null,"NVC","03K",12]
["00W","RBB",1,null,null,"NVC","03L",12]
["00W","RCC",1,null,null,"NVC","04C",11]
["00W","RCF",1,null,null,"NVC","09D",11]
["00W","RCU",1,null,null,"NVC","09G",11]
["00W","RD1",1,null,null,"NVC","04X",8]
["00W","RD7",1,null,null,"NVC","11X",8]
["00W","RDD",1,null,null,"NVC","01C",7]
["00W","RDZ",1,null,null,"NVC","02F",7]
["00W","RFW",1,null,null,"NVC","05N",7]
["00W","RGN",1,null,null,"NVC","08P",7]
["00W","RKE",1,null,null,"NVC","11E",7]
["00W","RLN",1,null,null,"NVC","02E",6]
["00W","RLT",1,null,null,"NVC","02P",6]
["00W","RNZ",1,null,null,"NVC","03N",6]
["00W","RP5",1,null,null,"NVC","04J",6]
["00W","RPA",1,null,null,"NVC","05D",6]
["00W","RPC",1,null,null,"NVC","99G",6]
["00W","RPY",1,null,null,"NVC","08X",5]
["00W","RQ8",1,null,null,"NVC","09J",5]
["00W","RTE",1,null,null,"NVC","10J",5]
["00W","RTF",1,null,null,"NVC","10K",5]
["00W","RVN",1,null,null,"NVC","03F",4]
["00W","RXC",1,null,null,"NVC","08K",4]
["00W","RXF",1,null,null,"NVC","09F",4]
["00W","RY4",1,null,null,"NVC","09W",4]
["00W","RYR",1,null,null,"NVC","12A",4]
["00X","RXN",37223,null,null,"NVC","05Y",3]
["00X","NVC",3217,null,null,"NVC","06W",3]
["00X","RRF",1411,null,null,"NVC","07L",3]
["00X","RXL",749,null,null,"NVC","07R",3]
["00X","RW3",671,null,null,"NVC","07W",3]
["00X","RXR",294,null,null,"NVC","09A",3]
["00X","RM3",186,null,null,"NVC","10L",3]
["00X","RBS",184,null,null,"NVC","11H",3]
["00X","RMC",178,null,null,"NVC","01F",2]
["00X","RVY",130,null,null,"NVC","01R",2]
["00X","RM2",119,null,null,"NVC","05H",2]
["00X","RBV",97,null,null,"NVC","06V",2]
["00X","RQ6",77,null,null,"NVC","07P",2]
["00X","NT4",55,null,null,"NVC","08N",2]
["00X","REM",41,null,null,"NVC","08Q",2]
["00X","RTX",41,null,null,"NVC","08W",2]
["00X","REP",33,null,null,"NVC","09P",2]
["00X","RET",33,null,null,"NVC","10C",2]
["00X","RHQ",31,null,null,"NVC","99K",2]
["00X","RW6",31,null,null,"NVC","02D",1]
["00X","RR8",30,null,null,"NVC","06M",1]
["00X","RKE",29,null,null,"NVC","06Y",1]
["00X","RBN",28,null,null,"NVC","07T",1]
["00X","5NG",27,null,null,"NVC","07X",1]
["00X","RWW",19,null,null,"NVC","08A",1]
["00X","RTD",14,null,null,"NVC","08C",1]
["00X","RRJ",12,null,null,"NVC","08G",1]
["00X","RRV",11,null,null,"NVC","08M",1]
["00X","RWY",11,null,null,"NVC","10A",1]
["00X","NT3",9,null,null,"NVC","11T",1]
["00X","RJR",8,null,null,"NVC","99M",1]
["00X","RMP",8,null,null,"NVG","01X",1236]
["00X","RBT",7,null,null,"NVG","02H",629]
["00X","RL1",7,null,null,"NVG","01J",286]
["00X","RP4",6,null,null,"NVG","02G",259]
["00X","RWJ",6,null,null,"NVG","99A",59]
["00X","RWE",5,null,null,"NVG","03R",1]
["00X","RTR",3,null,null,"NWF","99H",4]
["00X","RJE",2,null,null,"NWF","09L",2]
["00X","RBA",1,null,null,"NWF","11J",1]
["00X","RF4",1,null,null,"NXM","09X",100]
["00X","RVJ",1,null,null,"NXM","04G",1]
["00Y","RWJ",153,null,null,"NXM","10V",1]
["00Y","RAE",34,null,null,"RA2","10V",2701]
["00Y","RBN",9,null,null,"RA2","09D",42]
["00Y","RJ1",8,null,null,"RA2","08R",27]
["00Y","RWA",4,null,null,"RA2","08C",11]
["00Y","RJD",3,null,null,"RA2","06K",9]
["00Y","RQQ",2,null,null,"RA2","11X",6]
["00Y","5JE",1,null,null,"RA2","10A",5]
["00Y","RGM",1,null,null,"RA2","02Y",3]
["01A","RW6",6128,null,null,"RA2","01G",2]
["01A","RM3",520,null,null,"RA2","03G",2]
["01A","RRV",20,null,null,"RA2","00T",1]
["01A","RBN",14,null,null,"RA2","02E",1]
["01A","RCB",6,null,null,"RA2","05P",1]
["01A","RBQ",4,null,null,"RA3","11X",5345]
["01A","RBK",3,null,null,"RA3","05A",14]
["01A","RBA",2,null,null,"RA3","06F",5]
["01A","RF4",2,null,null,"RA3","04X",3]
["01A","RRK",2,null,null,"RA3","02Y",2]
["01A","RFW",1,null,null,"RA3","08T",2]
["01A","RWG",1,null,null,"RA3","00Y",1]
["01C","RWW",114,null,null,"RA3","03K",1]
["01C","RHQ",61,null,null,"RA3","04N",1]
["01C","RRV",13,null,null,"RA3","09H",1]
["01C","RTE",7,null,null,"RA3","99G",1]
["01C","RJ1",4,null,null,"RA4","09G",6]
["01C","RM1",3,null,null,"RA4","99M",4]
["01C","RXR",3,null,null,"RA4","06K",3]
["01C","RXQ",2,null,null,"RA4","07V",2]
["01C","RA3",1,null,null,"RA4","08X",2]
["01C","RLT",1,null,null,"RA4","02F",1]
["01D","NT4",1205,null,null,"RA4","05F",1]
["01D","RMC",75,null,null,"RA4","07L",1]
["01D","RQ6",29,null,null,"RA4","08L",1]
["01D","RCF",7,null,null,"RA7","11T",13355]
["01D","RYQ",4,null,null,"RA7","06N",6]
["01D","RDU",3,null,null,"RA7","13P",6]
["01D","RAL",2,null,null,"RA7","01H",3]
["01D","RJ1",2,null,null,"RA7","06Q",3]
["01D","5M1",1,null,null,"RA7","04C",2]
["01D","RR1",1,null,null,"RA7","01E",1]
["01E","RXN",43478,null,null,"RA7","02R",1]
["01E","REM",36,null,null,"RA7","07K",1]
["01E","RRV",13,null,null,"RA7","08L",1]
["01E","RJN",8,null,null,"RA7","09X",1]
["01E","5QH",3,null,null,"RA9","03N",19]
["01E","RH8",3,null,null,"RA9","06N",14]
["01E","RC1",2,null,null,"RA9","03C",7]
["01E","RN3",2,null,null,"RA9","10M",7]
["01E","RXQ",2,null,null,"RA9","09W",6]
["01E","RD8",1,null,null,"RA9","09P",5]
["01E","RTH",1,null,null,"RA9","10H",4]
["01F","REN",177,null,null,"RA9","06H",3]
["01F","RVY",24,null,null,"RA9","08P",3]
["01F","RXN",6,null,null,"RA9","02V",2]
["01F","RGP",3,null,null,"RA9","05J",2]
["01F","RXP",2,null,null,"RA9","10E",2]
["01F","RGC",1,null,null,"RA9","02G",1]
["01F","RJL",1,null,null,"RA9","03M",1]
["01F","RVV",1,null,null,"RA9","10D",1]
["01G","RW3",5429,null,null,"RAE","03A",1150]
["01G","REM",24,null,null,"RAE","13P",17]
["01G","RJN",12,null,null,"RAE","01G",12]
["01G","RTD",6,null,null,"RAE","00M",7]
["01G","RJD",4,null,null,"RAE","00P",5]
["01G","RD3",3,null,null,"RAE","10Q",5]
["01G","RCX",2,null,null,"RAE","07M",3]
["01G","RJZ",2,null,null,"RAE","09G",3]
["01G","RCU",1,null,null,"RAE","07K",2]
["01G","RN3",1,null,null,"RAE","00N",1]
["01H","RNL",67607,null,null,"RAE","05X",1]
["01H","RR8",92,null,null,"RAE","10Y",1]
["01H","RET",43,null,null,"RAJ","99F",31242]
["01H","RBT",14,null,null,"RAJ","08H",9]
["01H","RGT",10,null,null,"RAJ","07X",6]
["01H","RPY",7,null,null,"RAJ","01A",2]
["01H","RJD",5,null,null,"RAJ","11J",2]
["01H","RXQ",5,null,null,"RAJ","01K",1]
["01H","RWP",4,null,null,"RAJ","05H",1]
["01H","RC1",3,null,null,"RAJ","08J",1]
["01H","RPC",2,null,null,"RAJ","99Q",1]
["01H","5NG",1,null,null,"RAL","08D",7342]
["01H","RLT",1,null,null,"RAL","07V",231]
["01H","RTK",1,null,null,"RAL","08X",156]
["01J","RWW",197,null,null,"RAL","99G",69]
["01J","RVL",6,null,null,"RAL","04C",35]
["01J","RJZ",4,null,null,"RAL","09N",34]
["01J","RWJ",2,null,null,"RAL","13P",19]
["01J","RC3",1,null,null,"RAL","09C",15]
["01J","RM4",1,null,null,"RAL","10N",12]
["01K","NT4",358,null,null,"RAL","04V",6]
["01K","RQ6",96,null,null,"RAL","00X",5]
["01K","RTG",9,null,null,"RAL","04M",4]
["01K","REP",6,null,null,"RAL","00Q",3]
["01K","RTF",5,null,null,"RAL","05C",3]
["01K","RWE",4,null,null,"RAL","03G",2]
["01K","5QT",2,null,null,"RAN","07M",983]
["01K","RR1",2,null,null,"RAN","06Q",153]
["01K","RA2",1,null,null,"RAN","07Y",131]
["01K","RD1",1,null,null,"RAN","09J",107]
["01K","RVL",1,null,null,"RAN","08X",77]
["01M","RXR",39,null,null,"RAN","11C",40]
["01M","RNJ",8,null,null,"RAN","10X",23]
["01M","RFF",6,null,null,"RAN","04V",18]
["01M","RCX",3,null,null,"RAN","03N",6]
["01M","RET",3,null,null,"RAN","10M",6]
["01M","RHU",2,null,null,"RAN","12D",3]
["01M","RD1",1,null,null,"RAN","12F",2]
["01M","RHM",1,null,null,"RAN","03A",1]
["01M","RVW",1,null,null,"RAP","07T",292]
["01N","RM3",818,null,null,"RAP","08V",31]
["01N","REM",13,null,null,"RAP","99F",7]
["01N","NVC",12,null,null,"RAP","99E",6]
["01N","RP5",6,null,null,"RAP","10H",3]
["01N","RH8",4,null,null,"RAP","09J",2]
["01N","RET",3,null,null,"RAP","01H",1]
["01N","RNQ",2,null,null,"RAP","09C",1]
["01N","RWF",2,null,null,"RAP","10G",1]
["01N","RGM",1,null,null,"RAS","07W",3214]
["01N","RTP",1,null,null,"RAS","06K",35]
["01R","NT3",250,null,null,"RAS","08M",19]
["01R","RJD",11,null,null,"RAS","10X",10]
["01R","RRJ",9,null,null,"RAS","09D",9]
["01R","RAX",4,null,null,"RAS","09P",7]
["01R","RT3",4,null,null,"RAS","10V",6]
["01R","NVC",2,null,null,"RAS","13P",5]
["01R","RJC",2,null,null,"RAS","06A",4]
["01R","RC1",1,null,null,"RAS","10N",3]
["01R","RNS",1,null,null,"RAS","03C",2]
["01R","RVN",1,null,null,"RAS","04V",2]
["01T","NT3",99,null,null,"RAS","01K",1]
["01T","RM2",34,null,null,"RAS","02E",1]
["01T","RH8",4,null,null,"RAX","08P",10017]
["01T","5NL",2,null,null,"RAX","11J",21]
["01T","RF4",2,null,null,"RAX","08G",15]
["01T","RC9",1,null,null,"RAX","08W",9]
["01T","REF",1,null,null,"RAX","04K",8]
["01T","RWY",1,null,null,"RAX","07X",5]
["01V","RW3",59,null,null,"RAX","03C",3]
["01V","RW4",38,null,null,"RAX","06L",3]
["01V","RK9",8,null,null,"RAX","03J",2]
["01V","RNS",3,null,null,"RAX","11E",2]
["01V","RJL",2,null,null,"RAX","04C",1]
["01V","RV8",2,null,null,"RAX","05L",1]
["01V","RA3",1,null,null,"RAX","10M",1]
["01V","RJ7",1,null,null,"RBA","11E",19]
["01V","RWG",1,null,null,"RBA","09X",6]
["01W","RBS",45,null,null,"RBA","99F",4]
["01W","RWW",21,null,null,"RBA","05X",3]
["01W","RCU",13,null,null,"RBA","09J",3]
["01W","RXK",8,null,null,"RBA","02X",2]
["01W","RC3",4,null,null,"RBA","08E",2]
["01W","RJF",3,null,null,"RBA","00X",1]
["01W","RWH",3,null,null,"RBA","02V",1]
["01W","RXF",2,null,null,"RBA","07X",1]
["01W","5PL",1,null,null,"RBA","08P",1]
["01W","RP6",1,null,null,"RBB","12A",154]
["01W","RTR",1,null,null,"RBB","11J",40]
["01X","RM2",114,null,null,"RBB","06D",4]
["01X","RL1",11,null,null,"RBB","03G",2]
["01X","REF",6,null,null,"RBB","08D",2]
["01X","RTD",3,null,null,"RBB","02X",1]
["01X","RDZ",2,null,null,"RBB","03D",1]
["01X","RDU",1,null,null,"RBB","08V",1]
["01X","RNA",1,null,null,"RBB","99H",1]
["01X","RWG",1,null,null,"RBD","06K",15]
["01Y","RR8",33,null,null,"RBD","07Q",7]
["01Y","RTX",19,null,null,"RBD","10J",7]
["01Y","RYJ",7,null,null,"RBD","03X",4]
["01Y","RNJ",5,null,null,"RBD","06Y",4]
["01Y","RXF",4,null,null,"RBD","04M",3]
["01Y","RGN",3,null,null,"RBD","08J",3]
["01Y","RQX",2,null,null,"RBD","04Y",2]
["01Y","RBQ",1,null,null,"RBD","09J",2]
["01Y","RJ6",1,null,null,"RBD","00X",1]
["01Y","RTP",1,null,null,"RBD","05D",1]
["02A","RM3",2254,null,null,"RBD","08R",1]
["02A","RXN",17,null,null,"RBF","99N",66]
["02A","RQX",6,null,null,"RBF","11H",16]
["02A","RV8",5,null,null,"RBF","10L",11]
["02A","RN5",3,null,null,"RBF","08P",5]
["02A","RTD",3,null,null,"RBF","01R",4]
["02A","RP5",2,null,null,"RBF","01F",2]
["02A","RCU",1,null,null,"RBF","07Q",2]
["02A","RF4",1,null,null,"RBF","09A",2]
["02A","RNZ",1,null,null,"RBF","03A",1]
["02D","RJE",522,null,null,"RBF","08M",1]
["02D","RBQ",15,null,null,"RBK","04X",35]
["02D","RXW",9,null,null,"RBK","05H",26]
["02D","RJZ",3,null,null,"RBK","06N",4]
["02D","RAE",2,null,null,"RBK","04E",2]
["02D","RA2",1,null,null,"RBK","00V",1]
["02D","RP6",1,null,null,"RBK","06V",1]
["02D","RTF",1,null,null,"RBK","07P",1]
["02E","5J2",664,null,null,"RBK","08T",1]
["02E","RVY",47,null,null,"RBK","12F",1]
["02E","NVG",10,null,null,"RBL","01H",24]
["02E","RTG",4,null,null,"RBL","01M",4]
["02E","RNA",3,null,null,"RBL","02N",3]
["02E","RYR",3,null,null,"RBL","11H",3]
["02E","RQ3",2,null,null,"RBL","10A",2]
["02E","RD3",1,null,null,"RBL","03J",1]
["02E","RGM",1,null,null,"RBL","05A",1]
["02E","RXP",1,null,null,"RBL","08T",1]
["02F","RM2",96,null,null,"RBN","02E",1122]
["02F","RHQ",44,null,null,"RBN","12F",267]
["02F","NVC",7,null,null,"RBN","01H",6]
["02F","RKB",7,null,null,"RBN","01K",5]
["02F","RJD",4,null,null,"RBN","11N",3]
["02F","RNZ",3,null,null,"RBN","10G",2]
["02F","RVV",3,null,null,"RBN","00K",1]
["02F","RP5",2,null,null,"RBN","05X",1]
["02F","RWD",2,null,null,"RBN","06M",1]
["02F","RFF",1,null,null,"RBN","09J",1]
["02G","RVY",19652,null,null,"RBQ","02F",307]
["02G","NVG",259,null,null,"RBQ","01R",10]
["02G","RXL",44,null,null,"RBQ","05G",4]
["02G","RRV",6,null,null,"RBQ","03F",1]
["02G","RGT",2,null,null,"RBS","12F",1327]
["02G","RRK",2,null,null,"RBS","02D",315]
["02G","RHU",1,null,null,"RBS","05G",52]
["02G","RNA",1,null,null,"RBS","01N",21]
["02G","RWE",1,null,null,"RBS","06N",5]
["02H","RQ6",411,null,null,"RBS","06Y",3]
["02H","RXL",79,null,null,"RBS","00L",2]
["02H","NTD",12,null,null,"RBS","10N",2]
["02H","RNL",8,null,null,"RBS","03M",1]
["02H","RV8",4,null,null,"RBS","08W",1]
["02H","RTG",3,null,null,"RBT","02F",1113]
["02H","RCC",2,null,null,"RBT","01W",33]
["02H","RA4",1,null,null,"RBT","00T",8]
["02H","RGQ",1,null,null,"RBT","01T",7]
["02H","RVW",1,null,null,"RBT","04X",4]
["02H","RXF",1,null,null,"RBT","08X",4]
["02M","RR8",41,null,null,"RBT","10Y",3]
["02M","RN5",5,null,null,"RBT","04H",2]
["02M","RP4",4,null,null,"RBT","07G",2]
["02M","RYQ",3,null,null,"RBT","02W",1]
["02M","RAN",2,null,null,"RBT","03K",1]
["02M","RNS",2,null,null,"RBT","07R",1]
["02M","RCD",1,null,null,"RBT","10A",1]
["02M","RNH",1,null,null,"RBV","01Y",855]
["02M","RYR",1,null,null,"RBV","01X",60]
["02N","RR8",1957,null,null,"RBV","05G",46]
["02N","RTD",17,null,null,"RBV","03D",7]
["02N","RW6",7,null,null,"RBV","01J",2]
["02N","RJ7",4,null,null,"RBV","00L",1]
["02N","REF",3,null,null,"RBV","04M",1]
["02N","RGM",2,null,null,"RBZ","99P",32322]
["02N","RTP",2,null,null,"RBZ","99N",11]
["02N","RFW",1,null,null,"RBZ","05Q",7]
["02N","RTK",1,null,null,"RBZ","07R",5]
["02P","RFR",5070,null,null,"RBZ","02X",4]
["02P","RW3",17,null,null,"RBZ","02R",3]
["02P","RTX",7,null,null,"RBZ","01Y",2]
["02P","RQ3",5,null,null,"RBZ","05H",2]
["02P","RGP",3,null,null,"RBZ","09J",2]
["02P","RVR",3,null,null,"RBZ","11C",2]
["02P","RNS",2,null,null,"RBZ","02V",1]
["02P","RE9",1,null,null,"RBZ","06V",1]
["02P","RN3",1,null,null,"RBZ","09F",1]
["02P","RQ6",1,null,null,"RC1","06F",36201]
["02Q","RFR",308,null,null,"RC1","07K",5]
["02Q","RXF",7,null,null,"RC1","08K",3]
["02Q","RTE",4,null,null,"RC1","03T",2]
["02Q","RM1",3,null,null,"RC1","07R",2]
["02Q","RAN",2,null,null,"RC1","09E",2]
["02Q","5J9",1,null,null,"RC1","00Y",1]
["02Q","RMC",1,null,null,"RC1","03Q",1]
["02Q","RWF",1,null,null,"RC1","05X",1]
["02R","RXF",525,null,null,"RC1","08L",1]
["02R","RCC",34,null,null,"RC1","10G",1]
["02R","RJZ",9,null,null,"RC3","08E",197]
["02R","RD8",5,null,null,"RC3","04C",14]
["02R","RBK",4,null,null,"RC3","08R",12]
["02R","RHM",3,null,null,"RC3","09G",7]
["02R","RNH",3,null,null,"RC3","10X",6]
["02R","RGC",2,null,null,"RC3","10R",4]
["02R","RN3",2,null,null,"RC3","02H",3]
["02R","RD3",1,null,null,"RC3","00G",2]
["02R","RWG",1,null,null,"RC3","00L",1]
["02T","RR8",1690,null,null,"RC3","01G",1]
["02T","RXL",21,null,null,"RC3","05T",1]
["02T","RTD",13,null,null,"RC3","10A",1]
["02T","RNJ",5,null,null,"RC9","06L",46]
["02T","RP6",3,null,null,"RC9","11J",11]
["02T","RBA",2,null,null,"RC9","99N",9]
["02T","RNZ",2,null,null,"RC9","07L",5]
["02T","RVV",2,null,null,"RC9","08R",5]
["02T","RAL",1,null,null,"RC9","09A",4]
["02T","RQQ",1,null,null,"RC9","11X",3]
["02T","RYQ",1,null,null,"RC9","01D",2]
["02V","NVC",139,null,null,"RC9","05R",2]
["02V","RQ3",8,null,null,"RC9","01K",1]
["02V","RVL",6,null,null,"RC9","03Y",1]
["02V","RNL",4,null,null,"RC9","10L",1]
["02V","RWW",3,null,null,"RCB","02N",33]
["02V","RBV",2,null,null,"RCB","00J",15]
["02V","RVV",2,null,null,"RCB","00C",8]
["02V","RA7",1,null,null,"RCB","00H",6]
["02V","RKE",1,null,null,"RCB","11J",5]
["02W","NVC",457,null,null,"RCB","09L",4]
["02W","RHQ",36,null,null,"RCB","01N",3]
["02W","RRV",5,null,null,"RCB","99Q",3]
["02W","RAL",2,null,null,"RCB","10A",2]
["02W","RQM",2,null,null,"RCB","99H",2]
["02W","REP",1,null,null,"RCB","05Q",1]
["02W","RJE",1,null,null,"RCB","07X",1]
["02X","RP5",59439,null,null,"RCC","03M",19517]
["02X","RWD",45,null,null,"RCC","03L",18]
["02X","RRV",17,null,null,"RCC","00J",11]
["02X","RNJ",8,null,null,"RCC","00F",7]
["02X","RKB",6,null,null,"RCC","04V",7]
["02X","RAL",3,null,null,"RCC","09G",4]
["02X","RXC",3,null,null,"RCC","06A",3]
["02X","REM",2,null,null,"RCC","02H",2]
["02X","RN1",2,null,null,"RCC","05J",2]
["02X","5NW",1,null,null,"RCC","09N",2]
["02X","RL4",1,null,null,"RCC","07P",1]
["02X","RVL",1,null,null,"RCC","09D",1]
["02Y","RXF",458,null,null,"RCC","11X",1]
["02Y","RX1",38,null,null,"RCD","02V",6569]
["02Y","RCF",10,null,null,"RCD","00M",12]
["02Y","RTF",9,null,null,"RCD","02P",9]
["02Y","RWH",4,null,null,"RCD","11A",4]
["02Y","RKB",3,null,null,"RCD","05R",3]
["02Y","RRF",3,null,null,"RCD","99P",3]
["02Y","RJN",2,null,null,"RCD","06F",2]
["02Y","RNJ",2,null,null,"RCD","10K",2]
["02Y","5QT",1,null,null,"RCD","05D",1]
["02Y","RM1",1,null,null,"RCD","08K",1]
["02Y","RWF",1,null,null,"RCD","09J",1]
["03A","RCU",84,null,null,"RCF","01A",4027]
["03A","RM3",25,null,null,"RCF","03E",24]
["03A","RXN",13,null,null,"RCF","04K",9]
["03A","RYJ",5,null,null,"RCF","00X",3]
["03A","RJF",4,null,null,"RCF","07V",3]
["03A","RGP",3,null,null,"RCF","03X",2]
["03A","RP6",3,null,null,"RCF","06V",2]
["03A","RDD",2,null,null,"RCF","00W",1]
["03A","RR1",2,null,null,"RCF","06D",1]
["03A","RFW",1,null,null,"RCF","99H",1]
["03A","RJR",1,null,null,"RCU","02Q",435]
["03A","RWP",1,null,null,"RCU","02R",26]
["03C","NTA",372,null,null,"RCU","03W",13]
["03C","RGT",27,null,null,"RCU","01N",8]
["03C","RJZ",13,null,null,"RCU","04M",4]
["03C","RYJ",12,null,null,"RCU","05D",3]
["03C","RXN",8,null,null,"RCU","05G",2]
["03C","RJR",6,null,null,"RCU","99A",2]
["03C","RHM",4,null,null,"RCU","07V",1]
["03C","RCX",3,null,null,"RCU","99E",1]
["03C","RK9",3,null,null,"RCX","03T",319]
["03C","RFW",2,null,null,"RCX","06N",9]
["03C","RGC",1,null,null,"RCX","08D",5]
["03C","RQW",1,null,null,"RCX","07R",4]
["03D","RLN",70,null,null,"RCX","04M",3]
["03D","RXF",13,null,null,"RCX","08K",3]
["03D","RM2",5,null,null,"RCX","99P",3]
["03D","RH8",3,null,null,"RCX","05C",2]
["03D","RBA",2,null,null,"RCX","09W",2]
["03D","RWF",2,null,null,"RCX","01K",1]
["03D","RBZ",1,null,null,"RCX","02N",1]
["03D","RVR",1,null,null,"RCX","08J",1]
["03E","RR8",1896,null,null,"RCX","13P",1]
["03E","RCF",24,null,null,"RD1","11A",16]
["03E","RQ6",7,null,null,"RD1","99H",5]
["03E","RXR",6,null,null,"RD1","07V",4]
["03E","RL1",4,null,null,"RD1","05P",3]
["03E","RFS",2,null,null,"RD1","02A",2]
["03E","RTE",2,null,null,"RD1","06K",2]
["03E","RVV",2,null,null,"RD1","07M",2]
["03E","RD1",1,null,null,"RD1","99K",2]
["03E","RJ2",1,null,null,"RD1","00W",1]
["03F","RR8",283,null,null,"RD1","04H",1]
["03F","RWE",13,null,null,"RD1","09H",1]
["03F","RFF",8,null,null,"RD1","10R",1]
["03F","RJE",5,null,null,"RD3","06F",17]
["03F","REF",4,null,null,"RD3","08P",13]
["03F","RQW",3,null,null,"RD3","04V",7]
["03F","RJ6",2,null,null,"RD3","08Q",6]
["03F","RM4",2,null,null,"RD3","06Q",5]
["03F","RAJ",1,null,null,"RD3","06P",4]
["03F","RBL",1,null,null,"RD3","99K",4]
["03F","RK9",1,null,null,"RD3","07H",3]
["03F","RWG",1,null,null,"RD3","99D",3]
["03G","RM3",18,null,null,"RD3","07N",2]
["03G","RXR",9,null,null,"RD3","02F",1]
["03G","RTF",6,null,null,"RD3","03H",1]
["03G","RKB",4,null,null,"RD3","05W",1]
["03G","RTK",3,null,null,"RD7","11D",605]
["03G","RL4",2,null,null,"RD7","08E",14]
["03G","RBN",1,null,null,"RD7","04C",9]
["03G","RGM",1,null,null,"RD7","04K",8]
["03G","RET",0,null,null,"RD7","01H",5]
["03H","NTA",58,null,null,"RD7","12A",5]
["03H","REF",6,null,null,"RD7","08R",4]
["03H","RQM",5,null,null,"RD7","03Y",3]
["03H","RRK",3,null,null,"RD7","00V",2]
["03H","RXN",3,null,null,"RD7","02X",2]
["03H","RNL",2,null,null,"RD7","09L",2]
["03H","RDZ",1,null,null,"RD7","03R",1]
["03H","RN1",1,null,null,"RD7","05Y",1]
["03H","RXR",1,null,null,"RD8","06K",14]
["03J","NT3",433,null,null,"RD8","05A",9]
["03J","RW6",12,null,null,"RD8","07V",6]
["03J","RBS",4,null,null,"RD8","08H",4]
["03J","RRV",4,null,null,"RD8","11X",4]
["03J","RBV",2,null,null,"RD8","06A",3]
["03J","RJD",2,null,null,"RD8","12D",3]
["03J","RKE",1,null,null,"RD8","05N",2]
["03J","RX1",1,null,null,"RD8","10X",2]
["03K","RHQ",523,null,null,"RD8","01D",1]
["03K","RWE",10,null,null,"RD8","06V",1]
["03K","RWY",7,null,null,"RD8","08T",1]
["03K","RCD",3,null,null,"RDD","99G",436]
["03K","RDD",3,null,null,"RDD","06T",309]
["03K","RGR",2,null,null,"RDD","07Q",8]
["03K","RPY",2,null,null,"RDD","06Y",6]
["03K","RBN",1,null,null,"RDD","06M",3]
["03K","RNH",1,null,null,"RDD","06W",2]
["03K","RQQ",1,null,null,"RDD","10K",2]
["03L","RX1",80,null,null,"RDD","01X",1]
["03L","RM3",22,null,null,"RDD","03J",1]
["03L","RP4",9,null,null,"RDD","06A",1]
["03L","RCD",4,null,null,"RDD","99K",1]
["03L","5N9",3,null,null,"RDE","07K",595]
["03L","RBA",2,null,null,"RDE","08D",8]
["03L","RM1",2,null,null,"RDE","99P",7]
["03L","RBD",1,null,null,"RDE","08Q",4]
["03L","RMC",1,null,null,"RDE","08K",3]
["03L","RWP",1,null,null,"RDE","04V",2]
["03M","RRV",15,null,null,"RDE","99D",2]
["03M","RXP",7,null,null,"RDE","01E",1]
["03M","RWE",4,null,null,"RDE","04M",1]
["03M","RXN",3,null,null,"RDE","09P",1]
["03M","RQ8",2,null,null,"RDR","09L",42]
["03M","RBD",1,null,null,"RDR","11C",1]
["03M","RGM",1,null,null,"RDU","10J",1057]
["03M","RRF",1,null,null,"RDU","07W",21]
["03M","RYQ",1,null,null,"RDU","10T",16]
["03N","RWA",44,null,null,"RDU","10Y",8]
["03N","RWJ",23,null,null,"RDU","99J",6]
["03N","RA9",19,null,null,"RDU","99E",5]
["03N","RNJ",14,null,null,"RDU","05Y",4]
["03N","RYJ",11,null,null,"RDU","04K",3]
["03N","NVC",6,null,null,"RDU","00M",2]
["03N","RCF",6,null,null,"RDU","01G",2]
["03N","RWW",5,null,null,"RDU","08V",2]
["03N","RGR",4,null,null,"RDU","00X",1]
["03N","RJN",3,null,null,"RDU","05H",1]
["03N","RNA",2,null,null,"RDY","02E",1]
["03N","RA4",1,null,null,"RDZ","11A",11514]
["03Q","RR8",2857,null,null,"RDZ","10K",15]
["03Q","RCD",420,null,null,"RDZ","05A",11]
["03Q","RTX",18,null,null,"RDZ","12D",9]
["03Q","RNJ",8,null,null,"RDZ","08R",6]
["03Q","RAL",6,null,null,"RDZ","04R",5]
["03Q","NTA",3,null,null,"RDZ","05P",4]
["03Q","RGR",3,null,null,"RDZ","07V",4]
["03Q","RA9",2,null,null,"RDZ","07G",3]
["03Q","RAN",2,null,null,"RDZ","07J",3]
["03Q","RNQ",2,null,null,"RDZ","05H",2]
["03Q","RBF",1,null,null,"RDZ","99F",2]
["03Q","RJ6",1,null,null,"RDZ","01C",1]
["03R","RFR",409,null,null,"RDZ","05C",1]
["03R","RJL",189,null,null,"RDZ","08Y",1]
["03R","RXL",16,null,null,"RE9","03Q",3]
["03R","RK5",8,null,null,"RE9","02P",1]
["03R","RVV",7,null,null,"RE9","04G",1]
["03R","RNA",4,null,null,"RE9","11D",1]
["03R","RF4",3,null,null,"RE9","99K",1]
["03R","RGM",2,null,null,"REF","06Q",24]
["03R","RLT",2,null,null,"REF","09N",22]
["03R","RC1",1,null,null,"REF","12D",16]
["03R","RQM",1,null,null,"REF","07H",12]
["03R","RWP",1,null,null,"REF","04J",11]
["03T","NT4",41,null,null,"REF","04Q",9]
["03T","RFS",17,null,null,"REF","09W",9]
["03T","RGP",9,null,null,"REF","01F",7]
["03T","RBF",6,null,null,"REF","01E",6]
["03T","RAS",5,null,null,"REF","06V",6]
["03T","RBK",3,null,null,"REF","99C",5]
["03T","RM3",3,null,null,"REF","03X",4]
["03T","RET",2,null,null,"REF","02M",3]
["03T","RYW",2,null,null,"REF","10E",3]
["03T","RJN",1,null,null,"REF","07K",1]
["03T","RYV",1,null,null,"REM","02H",238]
["03V","RTH",80,null,null,"REM","00R",22]
["03V","RBF",4,null,null,"REM","03N",8]
["03V","RRJ",3,null,null,"REM","05W",6]
["03V","RA2",1,null,null,"REM","99K",4]
["03V","RD3",1,null,null,"REM","00G",3]
["03V","RWH",1,null,null,"REM","04G",2]
["03W","RWE",48910,null,null,"REM","07P",2]
["03W","RRK",39,null,null,"REM","03V",1]
["03W","RCU",13,null,null,"REM","08G",1]
["03W","RAN",11,null,null,"REM","09A",1]
["03W","RQ6",7,null,null,"REN","01X",172]
["03W","RA7",6,null,null,"REN","00W",5]
["03W","RA4",4,null,null,"REP","12F",377]
["03W","RJR",3,null,null,"REP","00V",5]
["03W","RLU",3,null,null,"REP","01W",4]
["03W","RQX",2,null,null,"REP","05V",1]
["03W","5N9",1,null,null,"REP","11J",1]
["03W","RJD",1,null,null,"RET","02D",79]
["03W","RWY",1,null,null,"RET","00R",11]
["03X","RL1",6,null,null,"RET","03Q",3]
["03X","RJD",3,null,null,"RET","02X",1]
["03X","RC1",2,null,null,"RET","05D",1]
["03X","RAS",1,null,null,"RET","05Y",0]
["03X","RJC",1,null,null,"RF4","06T",171]
["03X","RYJ",1,null,null,"RF4","07V",16]
["03Y","RWD",27,null,null,"RF4","11C",10]
["03Y","RW3",7,null,null,"RF4","08C",8]
["03Y","RA3",3,null,null,"RF4","09G",6]
["03Y","RGR",2,null,null,"RF4","09D",4]
["03Y","RBL",1,null,null,"RF4","10W",3]
["03Y","RPA",1,null,null,"RF4","03F",2]
["03Y","RV8",1,null,null,"RF4","05Y",2]
["04C","RWD",46,null,null,"RF4","01W",1]
["04C","RV8",34,null,null,"RF4","02X",1]
["04C","RQM",11,null,null,"RF4","11A",1]
["04C","RD8",10,null,null,"RF4","11M",1]
["04C","RTE",8,null,null,"RFF","03T",6]
["04C","RL4",6,null,null,"RFF","00Q",2]
["04C","RBD",5,null,null,"RFF","04D",2]
["04C","RHU",4,null,null,"RFF","02F",1]
["04C","RXC",4,null,null,"RFF","05H",1]
["04C","RA7",2,null,null,"RFF","09N",1]
["04C","5N9",1,null,null,"RFR","03L",54227]
["04C","RE9",1,null,null,"RFR","03K",28]
["04D","RCU",107,null,null,"RFR","03T",13]
["04D","RJ1",19,null,null,"RFR","00N",8]
["04D","RXF",11,null,null,"RFR","03E",4]
["04D","RGP",8,null,null,"RFR","05N",3]
["04D","RHW",5,null,null,"RFR","03D",2]
["04D","RAE",4,null,null,"RFR","06M",2]
["04D","RNA",3,null,null,"RFR","07L",1]
["04D","RD8",2,null,null,"RFR","99H",1]
["04D","RM3",2,null,null,"RFS","02Q",66]
["04D","RBL",1,null,null,"RFS","04G",9]
["04D","RBT",1,null,null,"RFS","06F",8]
["04E","RK5",35359,null,null,"RFS","11N",4]
["04E","RFR",19,null,null,"RFS","06V",3]
["04E","RRV",11,null,null,"RFS","13P",3]
["04E","RWJ",4,null,null,"RFS","08F",2]
["04E","RAS",3,null,null,"RFS","08N",2]
["04E","RBF",2,null,null,"RFS","01E",1]
["04E","RJ7",2,null,null,"RFS","02N",1]
["04E","RCD",1,null,null,"RFS","08E",1]
["04E","RHU",1,null,null,"RFS","09P",1]
["04E","RQ6",1,null,null,"RFW","08P",6529]
["04F","RT3",308,null,null,"RFW","06K",15]
["04F","RJ1",75,null,null,"RFW","07R",9]
["04F","RQM",18,null,null,"RFW","10R",7]
["04F","RR8",9,null,null,"RFW","10G",5]
["04F","RN5",6,null,null,"RFW","00K",3]
["04F","RM2",4,null,null,"RFW","04F",2]
["04F","RXR",4,null,null,"RFW","06V",2]
["04F","RL1",3,null,null,"RFW","00T",1]
["04F","RAX",2,null,null,"RFW","03D",1]
["04F","RXL",2,null,null,"RFW","12D",1]
["04F","RLT",1,null,null,"RGC","08H",87]
["04F","RWJ",1,null,null,"RGC","08A",35]
["04G","RKB",1776,null,null,"RGC","08G",21]
["04G","RC9",92,null,null,"RGC","07Y",11]
["04G","RRJ",28,null,null,"RGC","11A",6]
["04G","RWG",26,null,null,"RGC","04R",5]
["04G","RLT",14,null,null,"RGC","00W",3]
["04G","RBD",11,null,null,"RGC","09Y",3]
["04G","RQX",9,null,null,"RGC","01H",2]
["04G","RWW",7,null,null,"RGC","99C",2]
["04G","RLQ",6,null,null,"RGC","00P",1]
["04G","RBA",4,null,null,"RGC","05R",1]
["04G","RQW",3,null,null,"RGC","99H",1]
["04G","RM2",2,null,null,"RGD","03K",3]
["04G","RVN",1,null,null,"RGM","99D",502]
["04H","RK5",18237,null,null,"RGM","06T",345]
["04H","RR8",9,null,null,"RGM","99F",32]
["04H","RTX",5,null,null,"RGM","99J",25]
["04H","RJD",3,null,null,"RGM","04K",15]
["04H","RWW",3,null,null,"RGM","07M",12]
["04H","RQQ",2,null,null,"RGM","10K",9]
["04H","RBK",1,null,null,"RGM","08E",7]
["04H","RGD",1,null,null,"RGM","08W",6]
["04H","RNH",1,null,null,"RGM","01R",4]
["04H","RTE",1,null,null,"RGM","07P",4]
["04J","NTP",513,null,null,"RGM","09F",3]
["04J","RWE",24,null,null,"RGM","08P",2]
["04J","RJL",13,null,null,"RGM","00C",1]
["04J","RAL",7,null,null,"RGM","02E",1]
["04J","NVC",6,null,null,"RGM","08J",1]
["04J","RXF",5,null,null,"RGN","04V",12]
["04J","RD1",3,null,null,"RGN","06M",6]
["04J","RJZ",3,null,null,"RGN","10E",6]
["04J","RBD",2,null,null,"RGN","07W",5]
["04J","RAS",1,null,null,"RGN","01W",3]
["04J","RT3",1,null,null,"RGN","09F",3]
["04J","RVL",1,null,null,"RGN","10J",3]
["04K","RQ3",59,null,null,"RGN","03R",2]
["04K","RP4",28,null,null,"RGN","10H",2]
["04K","RGM",15,null,null,"RGN","01A",1]
["04K","RM2",9,null,null,"RGN","06D",1]
["04K","RWJ",8,null,null,"RGN","08M",1]
["04K","RQ6",6,null,null,"RGP","06M",44240]
["04K","RVV",5,null,null,"RGP","06T",17]
["04K","RRF",4,null,null,"RGP","10Q",9]
["04K","RXF",3,null,null,"RGP","05A",5]
["04K","RD1",2,null,null,"RGP","08X",5]
["04K","RVR",2,null,null,"RGP","03G",4]
["04K","RD3",1,null,null,"RGP","01F",3]
["04L","RX1",24947,null,null,"RGP","08H",3]
["04L","5N6",115,null,null,"RGP","10E",3]
["04L","RTX",5,null,null,"RGP","08R",2]
["04L","RXF",4,null,null,"RGP","11C",2]
["04L","RGC",2,null,null,"RGP","02F",1]
["04L","RAE",1,null,null,"RGP","11E",1]
["04L","RCB",1,null,null,"RGP","99N",1]
["04L","RRF",1,null,null,"RGQ","99P",12]
["04L","RWA",1,null,null,"RGQ","08K",9]
["04M","NT4",36,null,null,"RGQ","99J",6]
["04M","RJL",4,null,null,"RGQ","07N",4]
["04M","RBD",3,null,null,"RGQ","11N",4]
["04M","RTE",2,null,null,"RGQ","08L",3]
["04M","RWG",2,null,null,"RGQ","09E",3]
["04M","RH8",1,null,null,"RGQ","03N",2]
["04M","RN3",1,null,null,"RGQ","08T",2]
["04M","RWH",1,null,null,"RGQ","01R",1]
["04N","RGT",12,null,null,"RGQ","08P",1]
["04N","RKB",5,null,null,"RGQ","12D",1]
["04N","RNJ",4,null,null,"RGR","07H",40]
["04N","RD3",3,null,null,"RGR","08X",10]
["04N","RWP",3,null,null,"RGR","05A",5]
["04N","RQW",2,null,null,"RGR","08K",4]
["04N","RXL",2,null,null,"RGR","00G",3]
["04N","RC9",1,null,null,"RGR","10V",3]
["04N","RLU",1,null,null,"RGR","99N",3]
["04N","RYV",1,null,null,"RGR","09C",2]
["04Q","RCU",24,null,null,"RGR","00P",1]
["04Q","REF",9,null,null,"RGR","02N",1]
["04Q","RTR",5,null,null,"RGR","08M",1]
["04Q","RBS",4,null,null,"RGR","10N",1]
["04Q","RXP",3,null,null,"RGT","04G",359]
["04Q","RBA",2,null,null,"RGT","06W",245]
["04Q","RWG",2,null,null,"RGT","08C",27]
["04Q","RJC",1,null,null,"RGT","11C",19]
["04Q","RP7",1,null,null,"RGT","03Q",16]
["04R","RHQ",398,null,null,"RGT","09W",13]
["04R","RRK",100,null,null,"RGT","00W",12]
["04R","REF",23,null,null,"RGT","99Q",10]
["04R","RYJ",16,null,null,"RGT","10V",8]
["04R","RJL",11,null,null,"RGT","01G",6]
["04R","RNZ",7,null,null,"RGT","02H",4]
["04R","RXF",7,null,null,"RGT","04X",4]
["04R","RDZ",5,null,null,"RGT","03M",3]
["04R","RWF",5,null,null,"RGT","03F",2]
["04R","RTK",4,null,null,"RGT","02M",1]
["04R","RA3",3,null,null,"RH8","99P",86363]
["04R","RC3",2,null,null,"RH8","09G",18]
["04R","RVW",2,null,null,"RH8","10X",13]
["04R","RPA",1,null,null,"RH8","10V",10]
["04V","RQ3",84,null,null,"RH8","06F",7]
["04V","RXK",33,null,null,"RH8","04J",6]
["04V","RFS",12,null,null,"RH8","02X",5]
["04V","RCX",11,null,null,"RH8","07P",5]
["04V","RXC",9,null,null,"RH8","07N",4]
["04V","RDU",6,null,null,"RH8","03D",3]
["04V","RW3",6,null,null,"RH8","08A",3]
["04V","RHU",4,null,null,"RH8","04H",2]
["04V","RWF",4,null,null,"RH8","07J",2]
["04V","RA7",2,null,null,"RH8","00P",1]
["04V","RDE",2,null,null,"RH8","02N",1]
["04V","5NE",1,null,null,"RHA","04H",1]
["04V","RVJ",1,null,null,"RHM","11D",34]
["04V","RY3",1,null,null,"RHM","11N",27]
["04X","RJE",17,null,null,"RHM","07V",11]
["04X","NT3",14,null,null,"RHM","11E",10]
["04X","RP6",8,null,null,"RHM","08Y",7]
["04X","RTF",5,null,null,"RHM","08A",5]
["04X","RQ6",4,null,null,"RHM","07K",4]
["04X","RCB",3,null,null,"RHM","02A",3]
["04X","RNL",3,null,null,"RHM","03M",3]
["04X","RJR",2,null,null,"RHM","11T",3]
["04X","RCX",1,null,null,"RHM","06L",2]
["04X","RTQ",1,null,null,"RHM","00J",1]
["04Y","RR1",388,null,null,"RHM","02N",1]
["04Y","RTG",115,null,null,"RHM","04H",1]
["04Y","RLT",7,null,null,"RHQ","02Q",2830]
["04Y","RRF",5,null,null,"RHQ","03T",297]
["04Y","NT4",2,null,null,"RHQ","00Y",61]
["04Y","RTE",2,null,null,"RHQ","02F",44]
["04Y","RXQ",2,null,null,"RHQ","01N",39]
["04Y","RN3",1,null,null,"RHQ","10Q",25]
["04Y","RNQ",1,null,null,"RHQ","04X",23]
["05A","RWE",335,null,null,"RHQ","00D",13]
["05A","RT3",26,null,null,"RHQ","08P",7]
["05A","RTG",19,null,null,"RHQ","08N",6]
["05A","RH8",11,null,null,"RHQ","07M",4]
["05A","RLU",10,null,null,"RHQ","07W",4]
["05A","RC3",8,null,null,"RHQ","11J",3]
["05A","RAX",5,null,null,"RHQ","08M",1]
["05A","RJF",5,null,null,"RHQ","10C",1]
["05A","RWF",5,null,null,"RHU","11A",2602]
["05A","RGC",3,null,null,"RHU","11M",14]
["05A","RBA",2,null,null,"RHU","08L",9]
["05A","5C4",1,null,null,"RHU","06F",6]
["05A","RM3",1,null,null,"RHU","08Q",5]
["05C","RNA",62241,null,null,"RHU","99E",5]
["05C","RJE",31,null,null,"RHU","99F",4]
["05C","RTE",13,null,null,"RHU","02Y",3]
["05C","RTX",6,null,null,"RHU","10G",3]
["05C","RJZ",4,null,null,"RHU","03M",2]
["05C","5QT",3,null,null,"RHU","07H",2]
["05C","RCB",2,null,null,"RHU","01V",1]
["05C","RJL",2,null,null,"RHU","03J",1]
["05C","RAP",1,null,null,"RHU","09L",1]
["05C","RPA",1,null,null,"RHW","99N",40]
["05C","RWG",1,null,null,"RHW","04G",21]
["05D","RL4",26,null,null,"RHW","00J",8]
["05D","RRV",14,null,null,"RHW","06T",8]
["05D","RM3",5,null,null,"RHW","05N",6]
["05D","RA4",3,null,null,"RHW","02R",4]
["05D","RPY",3,null,null,"RHW","08N",4]
["05D","RTR",2,null,null,"RHW","11T",3]
["05D","RVW",2,null,null,"RHW","00D",2]
["05D","RET",1,null,null,"RHW","99C",2]
["05D","RK9",1,null,null,"RHW","00M",1]
["05D","RVL",1,null,null,"RHW","03R",1]
["05F","5PL",53,null,null,"RJ1","07Q",4329]
["05F","RAL",11,null,null,"RJ1","07T",495]
["05F","RJE",7,null,null,"RJ1","09Y",396]
["05F","RBZ",6,null,null,"RJ1","10E",339]
["05F","RBF",4,null,null,"RJ1","99M",220]
["05F","RTG",4,null,null,"RJ1","99G",159]
["05F","RCD",2,null,null,"RJ1","11N",39]
["05F","RWH",2,null,null,"RJ1","99A",28]
["05F","RA4",1,null,null,"RJ1","10N",22]
["05F","RTK",1,null,null,"RJ1","03T",13]
["05G","RJE",38267,null,null,"RJ1","03Q",11]
["05G","RBS",52,null,null,"RJ1","00W",8]
["05G","RT3",9,null,null,"RJ1","02N",6]
["05G","RNL",7,null,null,"RJ1","00N",5]
["05G","RJZ",5,null,null,"RJ1","02D",4]
["05G","RBD",4,null,null,"RJ1","05Y",4]
["05G","RD1",3,null,null,"RJ1","00H",1]
["05G","RCU",2,null,null,"RJ2","07G",23]
["05G","RYW",2,null,null,"RJ2","08R",16]
["05G","RGP",1,null,null,"RJ2","11J",9]
["05G","RKE",1,null,null,"RJ2","99H",7]
["05H","RKB",7186,null,null,"RJ2","99E",4]
["05H","5PK",115,null,null,"RJ2","07K",3]
["05H","RNS",15,null,null,"RJ2","10W",2]
["05H","REF",10,null,null,"RJ2","00K",1]
["05H","RK5",4,null,null,"RJ2","04G",1]
["05H","RQ6",3,null,null,"RJ2","10L",1]
["05H","RD7",2,null,null,"RJ6","07V",45489]
["05H","RAJ",1,null,null,"RJ6","07T",15]
["05H","RCX",1,null,null,"RJ6","08W",13]
["05H","RWW",1,null,null,"RJ6","07P",9]
["05J","RR1",683,null,null,"RJ6","99M",7]
["05J","RTH",22,null,null,"RJ6","06K",4]
["05J","RBZ",5,null,null,"RJ6","04X",3]
["05J","RP4",5,null,null,"RJ6","11A",3]
["05J","RK9",3,null,null,"RJ6","04H",2]
["05J","RYJ",3,null,null,"RJ6","11D",2]
["05J","RXR",2,null,null,"RJ6","02V",1]
["05J","RN1",1,null,null,"RJ6","12D",1]
["05J","RTP",1,null,null,"RJ7","08J",3028]
["05L","RBK",1744,null,null,"RJ7","07W",133]
["05L","NVC",167,null,null,"RJ7","10V",77]
["05L","RTE",17,null,null,"RJ7","08V",41]
["05L","RC3",11,null,null,"RJ7","07L",27]
["05L","RVL",9,null,null,"RJ7","06P",22]
["05L","RVV",6,null,null,"RJ7","05L",11]
["05L","RW6",6,null,null,"RJ7","10L",11]
["05L","RA7",3,null,null,"RJ7","06V",5]
["05L","NTA",2,null,null,"RJ7","00J",3]
["05L","RD3",2,null,null,"RJ7","03D",3]
["05L","RKE",2,null,null,"RJ7","05Q",3]
["05L","RM3",1,null,null,"RJ7","01E",1]
["05L","RYR",1,null,null,"RJ7","03E",1]
["05N","RLQ",912,null,null,"RJ7","04Q",1]
["05N","RWE",45,null,null,"RJC","04X",15]
["05N","RBV",22,null,null,"RJC","05Y",8]
["05N","REF",9,null,null,"RJC","08G",5]
["05N","RJF",6,null,null,"RJC","10R",4]
["05N","RAS",5,null,null,"RJC","01C",3]
["05N","5PH",3,null,null,"RJC","08N",3]
["05N","REN",3,null,null,"RJC","99J",3]
["05N","RD7",2,null,null,"RJC","08D",2]
["05N","RTR",2,null,null,"RJC","00R",1]
["05N","NTP",1,null,null,"RJC","02E",1]
["05N","RXH",1,null,null,"RJC","07K",1]
["05P","RJC",743,null,null,"RJC","08W",1]
["05P","RXL",14,null,null,"RJD","06A",145]
["05P","RGP",7,null,null,"RJD","05A",7]
["05P","RBA",5,null,null,"RJD","06K",5]
["05P","RJZ",4,null,null,"RJD","01D",3]
["05P","RHU",3,null,null,"RJD","04H",3]
["05P","RNJ",2,null,null,"RJD","07T",2]
["05P","RYQ",2,null,null,"RJD","10X",2]
["05P","RCU",1,null,null,"RJD","02H",1]
["05P","RVL",1,null,null,"RJD","06W",1]
["05P","RXF",1,null,null,"RJD","08N",1]
["05Q","RJE",94,null,null,"RJE","05W",59898]
["05Q","5M2",22,null,null,"RJE","04J",120]
["05Q","RLQ",6,null,null,"RJE","06D",18]
["05Q","RGP",5,null,null,"RJE","11M",14]
["05Q","RCX",3,null,null,"RJE","01T",7]
["05Q","RM3",3,null,null,"RJE","08G",7]
["05Q","RVV",2,null,null,"RJE","99F",5]
["05Q","RBL",1,null,null,"RJE","08Q",4]
["05Q","RET",1,null,null,"RJE","00D",3]
["05Q","RTK",1,null,null,"RJE","08J",3]
["05Q","RXR",1,null,null,"RJE","11H",3]
["05R","RWE",147,null,null,"RJE","03M",2]
["05R","RNJ",14,null,null,"RJE","10J",2]
["05R","RYW",12,null,null,"RJE","00H",1]
["05R","RHW",8,null,null,"RJE","07N",1]
["05R","RQM",7,null,null,"RJE","09F",1]
["05R","RN3",5,null,null,"RJF","05H",80]
["05R","RTP",3,null,null,"RJF","99P",5]
["05R","5QP",2,null,null,"RJF","11M",4]
["05R","RVY",2,null,null,"RJF","10Q",3]
["05R","RBL",1,null,null,"RJF","04N",2]
["05R","RGQ",1,null,null,"RJF","99C",2]
["05T","RWP",41228,null,null,"RJF","02F",1]
["05T","RHQ",50,null,null,"RJF","09D",1]
["05T","RX1",26,null,null,"RJF","11D",1]
["05T","RT3",11,null,null,"RJL","03G",58]
["05T","RV8",8,null,null,"RJL","04J",13]
["05T","RAN",5,null,null,"RJL","04E",7]
["05T","RXH",4,null,null,"RJL","06W",4]
["05T","RC9",3,null,null,"RJL","02G",3]
["05T","RDE",2,null,null,"RJL","09J",3]
["05T","RXF",2,null,null,"RJL","06Q",2]
["05T","RBS",1,null,null,"RJL","10C",2]
["05T","RQW",1,null,null,"RJL","01R",1]
["05V","RJD",24090,null,null,"RJL","04Y",1]
["05V","RNA",43,null,null,"RJL","08P",1]
["05V","RWP",8,null,null,"RJL","99G",1]
["05V","RCB",5,null,null,"RJN","02D",160]
["05V","RW6",4,null,null,"RJN","01M",6]
["05V","RPY",3,null,null,"RJN","03A",4]
["05V","RMP",2,null,null,"RJN","00K",2]
["05V","RA7",1,null,null,"RJN","06T",2]
["05V","RFF",1,null,null,"RJN","13P",2]
["05V","RQW",1,null,null,"RJN","04C",1]
["05V","RXH",1,null,null,"RJN","05Q",1]
["05W","RX1",54,null,null,"RJN","09J",1]
["05W","REF",17,null,null,"RJN","99F",1]
["05W","RAE",8,null,null,"RJR","01T",27]
["05W","RGT",5,null,null,"RJR","00V",6]
["05W","RGQ",4,null,null,"RJR","06F",5]
["05W","RXC",4,null,null,"RJR","01Y",4]
["05W","RA7",2,null,null,"RJR","99N",3]
["05W","RPY",2,null,null,"RJR","05L",2]
["05W","RTK",2,null,null,"RJR","06H",2]
["05W","RK5",1,null,null,"RJR","00J",1]
["05W","RN5",1,null,null,"RJR","03E",1]
["05X","5MK",107,null,null,"RJR","08G",1]
["05X","RWP",13,null,null,"RJR","11A",1]
["05X","RLU",8,null,null,"RJZ","07Q",3827]
["05X","RRV",5,null,null,"RJZ","99K",206]
["05X","RK9",4,null,null,"RJZ","09L",171]
["05X","RVV",3,null,null,"RJZ","11J",104]
["05X","REP",2,null,null,"RJZ","99F",53]
["05X","RNS",2,null,null,"RJZ","99G",41]
["05X","RBD",1,null,null,"RJZ","11H",23]
["05X","RDE",1,null,null,"RJZ","99Q",18]
["05X","RPA",1,null,null,"RJZ","03T",13]
["05Y","RRK",1274,null,null,"RJZ","02R",9]
["05Y","RTG",18,null,null,"RJZ","02V",5]
["05Y","RAL",8,null,null,"RJZ","05P",4]
["05Y","RC9",6,null,null,"RJZ","02T",3]
["05Y","RD3",4,null,null,"RJZ","00N",2]
["05Y","RBN",3,null,null,"RJZ","99C",2]
["05Y","REM",2,null,null,"RK5","03Y",5027]
["05Y","RVY",2,null,null,"RK5","03L",14]
["05Y","RBB",1,null,null,"RK5","05A",6]
["05Y","RJZ",1,null,null,"RK5","06N",4]
["05Y","RXH",1,null,null,"RK5","11X",3]
["06A","5M1",53,null,null,"RK5","04X",2]
["06A","RGT",19,null,null,"RK5","06V",2]
["06A","RXL",9,null,null,"RK5","99H",2]
["06A","RAE",4,null,null,"RK5","05V",1]
["06A","RGC",4,null,null,"RK5","06L",1]
["06A","RJ1",3,null,null,"RK5","12A",1]
["06A","RVJ",3,null,null,"RK9","99Q",1385]
["06A","RJ6",2,null,null,"RK9","09Y",11]
["06A","RC1",1,null,null,"RK9","09N",7]
["06A","RDE",1,null,null,"RK9","99M",7]
["06A","RWD",1,null,null,"RK9","06Y",5]
["06D","5PL",384,null,null,"RK9","01N",4]
["06D","RLQ",17,null,null,"RK9","08Y",4]
["06D","RD7",4,null,null,"RK9","03C",3]
["06D","RX1",3,null,null,"RK9","07N",3]
["06D","RWF",2,null,null,"RK9","02Y",2]
["06D","RCB",1,null,null,"RK9","04L",2]
["06D","RQM",1,null,null,"RK9","00R",1]
["06F","RGT",3887,null,null,"RK9","05D",1]
["06F","RNS",304,null,null,"RK9","12F",1]
["06F","RV8",125,null,null,"RKB","05H",7186]
["06F","RAS",21,null,null,"RKB","99P",28]
["06F","RDZ",15,null,null,"RKB","06K",21]
["06F","RVR",9,null,null,"RKB","01R",10]
["06F","RHU",6,null,null,"RKB","01E",8]
["06F","RA2",5,null,null,"RKB","10J",8]
["06F","RJD",4,null,null,"RKB","08K",6]
["06F","RXW",4,null,null,"RKB","01H",5]
["06F","RBK",2,null,null,"RKB","03G",4]
["06F","NXM",1,null,null,"RKB","99K",4]
["06F","RBL",1,null,null,"RKB","00M",3]
["06H","RCX",10260,null,null,"RKB","99G",3]
["06H","RNQ",396,null,null,"RKB","01M",2]
["06H","RNS",62,null,null,"RKB","12A",2]
["06H","RP1",41,null,null,"RKB","01Y",1]
["06H","RQX",19,null,null,"RKE","07X",584]
["06H","RYQ",14,null,null,"RKE","06F",36]
["06H","RQ3",13,null,null,"RKE","09J",21]
["06H","RXK",11,null,null,"RKE","06L",9]
["06H","RK5",9,null,null,"RKE","08J",7]
["06H","RXL",7,null,null,"RKE","04Q",4]
["06H","RM3",5,null,null,"RKE","10N",3]
["06H","RA4",4,null,null,"RKE","00C",2]
["06H","RNA",3,null,null,"RKE","02X",2]
["06H","RXN",2,null,null,"RKE","11X",2]
["06K","RAP",875,null,null,"RKE","03G",1]
["06K","RGC",108,null,null,"RKE","09G",1]
["06K","RTH",42,null,null,"RKE","99C",1]
["06K","RGP",33,null,null,"RL1","01R",397]
["06K","RWE",14,null,null,"RL1","02H",26]
["06K","RA2",9,null,null,"RL1","11M",10]
["06K","RR1",9,null,null,"RL1","00Y",8]
["06K","RVR",6,null,null,"RL1","04R",5]
["06K","RWR",4,null,null,"RL1","03Q",2]
["06K","RBB",3,null,null,"RL1","06N",2]
["06K","RBS",2,null,null,"RL1","04H",1]
["06K","RVY",2,null,null,"RL1","06V",1]
["06K","RWW",1,null,null,"RL1","10Y",1]
["06L","RAL",55,null,null,"RL4","06D",299]
["06L","RYJ",27,null,null,"RL4","05D",26]
["06L","RYR",10,null,null,"RL4","08L",6]
["06L","RQM",8,null,null,"RL4","07Y",5]
["06L","RTR",6,null,null,"RL4","07T",4]
["06L","RJC",4,null,null,"RL4","07H",3]
["06L","RBT",3,null,null,"RL4","01F",2]
["06L","RJL",3,null,null,"RL4","03G",2]
["06L","RQ3",2,null,null,"RL4","99E",2]
["06L","RE9",1,null,null,"RL4","03X",1]
["06L","RVW",1,null,null,"RL4","09J",1]
["06M","RJ1",33,null,null,"RLN","00J",9428]
["06M","RYJ",29,null,null,"RLN","00L",174]
["06M","RXQ",8,null,null,"RLN","03N",3]
["06M","RKB",5,null,null,"RLN","06Q",2]
["06M","RP5",4,null,null,"RLN","12F",2]
["06M","5QT",2,null,null,"RLN","03M",1]
["06M","RBD",2,null,null,"RLN","04G",1]
["06M","NT4",1,null,null,"RLN","09D",1]
["06M","RBK",1,null,null,"RLN","12A",1]
["06M","RNZ",1,null,null,"RLQ","05C",8]
["06M","RXC",1,null,null,"RLQ","04R",6]
["06N","RV8",1455,null,null,"RLQ","03N",4]
["06N","RC3",43,null,null,"RLQ","05H",3]
["06N","RBF",26,null,null,"RLQ","12F",3]
["06N","RR8",15,null,null,"RLQ","06F",2]
["06N","RR1",13,null,null,"RLQ","08Q",2]
["06N","RN3",9,null,null,"RLQ","00L",1]
["06N","RYQ",6,null,null,"RLQ","04V",1]
["06N","RQ3",5,null,null,"RLQ","07M",1]
["06N","5QC",3,null,null,"RLQ","09E",1]
["06N","RQ6",3,null,null,"RLQ","10Y",1]
["06N","RN7",2,null,null,"RLT","05C",4]
["06N","RLN",1,null,null,"RLT","99A",3]
["06P","RWH",948,null,null,"RLT","02Y",2]
["06P","RD8",98,null,null,"RLT","08L",2]
["06P","RJ7",22,null,null,"RLT","00L",1]
["06P","RQW",7,null,null,"RLT","05W",1]
["06P","RCX",6,null,null,"RLT","06L",1]
["06P","RTE",4,null,null,"RLU","04X",1800]
["06P","RHW",3,null,null,"RLU","05H",20]
["06P","RK9",2,null,null,"RLU","04G",3]
["06P","RCD",1,null,null,"RLU","08L",1]
["06P","RHM",1,null,null,"RLU","09D",1]
["06Q","NVC",2362,null,null,"RM1","06K",35]
["06Q","RYJ",73,null,null,"RM1","11J",12]
["06Q","RJZ",40,null,null,"RM1","08N",10]
["06Q","RCX",8,null,null,"RM1","11H",7]
["06Q","RRK",8,null,null,"RM1","03G",6]
["06Q","RNS",5,null,null,"RM1","07W",5]
["06Q","RA9",3,null,null,"RM1","07M",4]
["06Q","RTP",3,null,null,"RM1","11X",4]
["06Q","RAX",2,null,null,"RM1","02Q",3]
["06Q","RWA",2,null,null,"RM1","00L",2]
["06Q","RFS",1,null,null,"RM1","08D",2]
["06T","RQ8",2129,null,null,"RM1","00C",1]
["06T","RF4",171,null,null,"RM1","02G",1]
["06T","RAJ",69,null,null,"RM1","04M",1]
["06T","REF",12,null,null,"RM2","02A",20132]
["06T","5QT",6,null,null,"RM2","01A",278]
["06T","RPA",5,null,null,"RM2","12F",55]
["06T","RLQ",4,null,null,"RM2","05V",19]
["06T","RBA",3,null,null,"RM2","03J",11]
["06T","RFR",2,null,null,"RM2","04X",7]
["06T","RXW",2,null,null,"RM2","05A",5]
["06T","REM",1,null,null,"RM2","09G",5]
["06T","RN1",1,null,null,"RM2","02N",4]
["06V","RGP",1543,null,null,"RM2","08N",3]
["06V","RYQ",9,null,null,"RM2","07N",2]
["06V","RAN",7,null,null,"RM2","08E",2]
["06V","RQQ",4,null,null,"RM2","04E",1]
["06V","RQM",3,null,null,"RM2","06W",1]
["06V","RLT",2,null,null,"RM2","11C",1]
["06V","RBA",1,null,null,"RM3","01A",520]
["06V","RD8",1,null,null,"RM3","00Q",147]
["06V","RNZ",1,null,null,"RM3","03A",25]
["06V","RTX",1,null,null,"RM3","02N",11]
["06W","RCX",74,null,null,"RM3","02P",5]
["06W","RKB",7,null,null,"RM3","99F",4]
["06W","RXK",6,null,null,"RM3","05R",3]
["06W","RN5",4,null,null,"RM3","99N",3]
["06W","RAS",3,null,null,"RM3","05H",2]
["06W","RA4",2,null,null,"RM3","99J",2]
["06W","RDZ",2,null,null,"RM3","04H",1]
["06W","RE9",1,null,null,"RM3","08P",0]
["06W","RP5",1,null,null,"RM4","00V",46]
["06W","RXN",1,null,null,"RM4","02F",4]
["06Y","RC9",24,null,null,"RM4","06N",2]
["06Y","RJ1",16,null,null,"RM4","99M",2]
["06Y","RAL",5,null,null,"RM4","08D",1]
["06Y","RTK",5,null,null,"RMC","02H",6289]
["06Y","RJL",3,null,null,"RMC","01X",22]
["06Y","RJC",2,null,null,"RMC","02T",5]
["06Y","RN1",2,null,null,"RMC","11X",5]
["06Y","RDZ",1,null,null,"RMC","05G",3]
["06Y","RNL",1,null,null,"RMC","11A",3]
["07G","RQ8",1060,null,null,"RMC","06N",2]
["07G","RJ1",148,null,null,"RMC","09F",2]
["07G","RV8",25,null,null,"RMC","05D",1]
["07G","RGQ",7,null,null,"RMC","09W",1]
["07G","RC1",3,null,null,"RMP","01Y",36376]
["07G","RAS",2,null,null,"RMP","04J",31]
["07G","RLQ",2,null,null,"RMP","99A",10]
["07G","RCD",1,null,null,"RMP","02F",2]
["07G","RTK",1,null,null,"RMP","02X",1]
["07H","RNJ",1033,null,null,"RMP","06P",1]
["07H","NT3",107,null,null,"RMP","10A",1]
["07H","NTP",57,null,null,"RMP","10Y",1]
["07H","RQQ",12,null,null,"RN1","10M",33]
["07H","RYR",7,null,null,"RN1","08Y",5]
["07H","RA4",4,null,null,"RN1","06F",3]
["07H","RA9",3,null,null,"RN1","02Y",2]
["07H","RJC",3,null,null,"RN1","07K",2]
["07H","RTE",2,null,null,"RN1","00V",1]
["07H","RXK",2,null,null,"RN1","01R",1]
["07H","RVJ",1,null,null,"RN1","05T",1]
["07J","RRV",94,null,null,"RN1","09H",1]
["07J","RWD",28,null,null,"RN1","12F",1]
["07J","RYQ",8,null,null,"RN3","04G",9]
["07J","RXK",7,null,null,"RN3","05T",8]
["07J","RCB",3,null,null,"RN3","07Y",4]
["07J","RJE",3,null,null,"RN3","99J",4]
["07J","RHU",2,null,null,"RN3","00L",2]
["07J","RA2",1,null,null,"RN3","06V",2]
["07J","RA9",1,null,null,"RN3","08D",2]
["07J","RNA",1,null,null,"RN3","03A",1]
["07J","RXF",1,null,null,"RN3","04N",1]
["07K","NVC",84,null,null,"RN3","08G",1]
["07K","NT3",21,null,null,"RN3","10C",1]
["07K","RVL",10,null,null,"RN5","09G",64]
["07K","RHQ",5,null,null,"RN5","11N",18]
["07K","RKB",4,null,null,"RN5","06T",9]
["07K","RWF",3,null,null,"RN5","12A",6]
["07K","RAJ",2,null,null,"RN5","07H",5]
["07K","RWP",2,null,null,"RN5","02Q",3]
["07K","RAP",1,null,null,"RN5","07X",3]
["07K","RJN",1,null,null,"RN5","00J",2]
["07K","RVR",1,null,null,"RN5","07W",2]
["07L","RNJ",1924,null,null,"RN5","10E",2]
["07L","RYQ",37,null,null,"RN5","03J",1]
["07L","RDE",19,null,null,"RN5","05P",1]
["07L","RC9",5,null,null,"RN7","09W",1163]
["07L","RAX",4,null,null,"RN7","09E",45]
["07L","RXC",3,null,null,"RN7","06K",8]
["07L","RA2",1,null,null,"RN7","11N",4]
["07L","RCC",1,null,null,"RN7","04D",3]
["07L","RTE",1,null,null,"RN7","03Y",2]
["07L","RYR",1,null,null,"RN7","06L",2]
["07M","RWG",173,null,null,"RN7","99P",2]
["07M","RXH",13,null,null,"RN7","05A",1]
["07M","RQW",11,null,null,"RN7","05Y",1]
["07M","RA2",6,null,null,"RN7","99C",1]
["07M","RYR",6,null,null,"RNA","13P",325]
["07M","RHQ",4,null,null,"RNA","04R",10]
["07M","RBL",2,null,null,"RNA","04G",4]
["07M","RPA",2,null,null,"RNA","04D",3]
["07M","RJF",1,null,null,"RNA","02F",2]
["07M","RQQ",1,null,null,"RNA","04H",2]
["07N","RRV",207,null,null,"RNA","00C",1]
["07N","RYJ",75,null,null,"RNA","01N",1]
["07N","RQW",7,null,null,"RNA","08C",1]
["07N","RAJ",4,null,null,"RNA","11C",1]
["07N","RM1",4,null,null,"RNA","99Q",1]
["07N","RBZ",2,null,null,"RNH","07M",25]
["07N","RDE",2,null,null,"RNH","08Y",24]
["07N","RK5",1,null,null,"RNH","09E",8]
["07N","RXL",1,null,null,"RNH","04G",5]
["07P","RP6",1016,null,null,"RNH","04R",4]
["07P","RQX",27,null,null,"RNH","08G",3]
["07P","RGC",24,null,null,"RNH","10J",3]
["07P","RTH",8,null,null,"RNH","06M",2]
["07P","RYR",4,null,null,"RNH","01D",1]
["07P","RNS",3,null,null,"RNH","02H",1]
["07P","RWA",3,null,null,"RNH","04H",1]
["07P","RN3",2,null,null,"RNH","10W",1]
["07P","RCD",1,null,null,"RNJ","07G",548]
["07P","RMP",1,null,null,"RNJ","09A",209]
["07Q","RJ2",2625,null,null,"RNJ","11J",77]
["07Q","RP6",216,null,null,"RNJ","99P",69]
["07Q","RXH",38,null,null,"RNJ","10T",37]
["07Q","NTP",10,null,null,"RNJ","09C",26]
["07Q","RH8",7,null,null,"RNJ","05A",17]
["07Q","5C4",4,null,null,"RNJ","04L",11]
["07Q","RLQ",4,null,null,"RNJ","11E",9]
["07Q","RTF",3,null,null,"RNJ","03M",6]
["07Q","RC1",2,null,null,"RNJ","02T",5]
["07Q","5LG",1,null,null,"RNJ","05D",4]
["07Q","RN1",1,null,null,"RNJ","05G",3]
["07Q","RVW",1,null,null,"RNJ","02E",2]
["07R","RQX",104,null,null,"RNJ","04Y",1]
["07R","RF4",22,null,null,"RNL","10Q",27]
["07R","RAX",9,null,null,"RNL","02M",11]
["07R","RD8",6,null,null,"RNL","06N",8]
["07R","RXK",6,null,null,"RNL","11M",7]
["07R","RN5",4,null,null,"RNL","03M",5]
["07R","RTP",4,null,null,"RNL","07J",5]
["07R","RBF",2,null,null,"RNL","08K",4]
["07R","RJC",2,null,null,"RNL","02P",3]
["07R","RBB",1,null,null,"RNL","09F",3]
["07T","RQX",25179,null,null,"RNL","05L",2]
["07T","RP6",1630,null,null,"RNL","05Y",2]
["07T","RJ2",28,null,null,"RNL","04E",1]
["07T","RWH",16,null,null,"RNL","07G",1]
["07T","RAJ",7,null,null,"RNL","10Y",1]
["07T","RKB",6,null,null,"RNN","12D",2]
["07T","RA7",4,null,null,"RNQ","05R",10]
["07T","RR1",3,null,null,"RNQ","09E",4]
["07T","RBN",2,null,null,"RNQ","03R",3]
["07T","RBA",1,null,null,"RNQ","99A",3]
["07T","RD8",1,null,null,"RNQ","01N",2]
["07V","RJ6",45489,null,null,"RNQ","09D",2]
["07V","RAL",231,null,null,"RNQ","00V",1]
["07V","RAX",69,null,null,"RNQ","02G",1]
["07V","RXQ",15,null,null,"RNQ","05Y",1]
["07V","RPA",11,null,null,"RNQ","07T",1]
["07V","RGM",6,null,null,"RNQ","10H",1]
["07V","RVJ",4,null,null,"RNS","10Q",52]
["07V","RNS",3,null,null,"RNS","05H",15]
["07V","RWY",3,null,null,"RNS","03T",9]
["07V","RLU",2,null,null,"RNS","04Q",5]
["07V","RBS",1,null,null,"RNS","08V",4]
["07V","RM3",1,null,null,"RNS","00P",3]
["07W","RJZ",161,null,null,"RNS","09D",3]
["07W","NT4",50,null,null,"RNS","00D",2]
["07W","RKB",16,null,null,"RNS","05T",2]
["07W","RHU",9,null,null,"RNS","11E",2]
["07W","RQ6",7,null,null,"RNS","00V",1]
["07W","RA9",4,null,null,"RNS","04D",1]
["07W","RW6",4,null,null,"RNS","07Q",1]
["07W","RCB",2,null,null,"RNS","10R",1]
["07W","RXR",2,null,null,"RNZ","11X",334]
["07W","RLN",1,null,null,"RNZ","10M",22]
["07X","RAL",5109,null,null,"RNZ","07V",8]
["07X","RAN",316,null,null,"RNZ","04G",6]
["07X","NT3",29,null,null,"RNZ","07N",4]
["07X","RTP",11,null,null,"RNZ","11C",4]
["07X","RH8",6,null,null,"RNZ","08R",3]
["07X","RQQ",5,null,null,"RNZ","05N",2]
["07X","RM1",4,null,null,"RNZ","08M",2]
["07X","RRK",3,null,null,"RNZ","01W",1]
["07X","RLQ",2,null,null,"RNZ","04D",1]
["07X","RBT",1,null,null,"RNZ","13P",1]
["07X","RXL",1,null,null,"RP1","06K",1]
["07Y","RP6",468,null,null,"RP4","06K",596]
["07Y","RKE",19,null,null,"RP4","08E",262]
["07Y","RJ6",15,null,null,"RP4","07G",239]
["07Y","5LG",6,null,null,"RP4","09L",97]
["07Y","RRK",5,null,null,"RP4","08Q",69]
["07Y","REM",4,null,null,"RP4","99K",62]
["07Y","RTE",4,null,null,"RP4","10Q",55]
["07Y","RW6",3,null,null,"RP4","10D",27]
["07Y","NXM",1,null,null,"RP4","00M",14]
["07Y","RFF",1,null,null,"RP4","04D",11]
["07Y","RXL",1,null,null,"RP4","00F",8]
["08A","RNJ",368,null,null,"RP4","00C",7]
["08A","RVV",49,null,null,"RP4","04X",6]
["08A","RC3",14,null,null,"RP4","01Y",4]
["08A","NTP",5,null,null,"RP4","00G",2]
["08A","RDZ",4,null,null,"RP4","02T",1]
["08A","RXN",4,null,null,"RP5","03L",4167]
["08A","RWG",3,null,null,"RP5","03F",20]
["08A","RD1",2,null,null,"RP5","03D",9]
["08A","NVC",1,null,null,"RP5","00Y",5]
["08A","RLU",1,null,null,"RP5","99J",4]
["08A","RXF",1,null,null,"RP5","01D",3]
["08C","RAX",61,null,null,"RP5","02G",2]
["08C","RVR",26,null,null,"RP5","05G",2]
["08C","RDU",7,null,null,"RP5","12F",2]
["08C","RDZ",4,null,null,"RP5","06A",1]
["08C","RDE",3,null,null,"RP5","07Q",1]
["08C","RVY",2,null,null,"RP6","07W",2185]
["08C","RGR",1,null,null,"RP6","07L",560]
["08C","RPC",1,null,null,"RP6","08Q",273]
["08C","RW6",1,null,null,"RP6","07Q",216]
["08D","RJ1",478,null,null,"RP6","09N",62]
["08D","RGT",16,null,null,"RP6","09X",27]
["08D","RDE",8,null,null,"RP6","11M",20]
["08D","RPA",6,null,null,"RP6","05H",12]
["08D","RTK",5,null,null,"RP6","10C",11]
["08D","RL1",3,null,null,"RP6","05L",6]
["08D","RWJ",3,null,null,"RP6","03F",4]
["08D","RTR",2,null,null,"RP6","05F",3]
["08D","RCU",1,null,null,"RP6","02Q",2]
["08D","RJL",1,null,null,"RP6","00Q",1]
["08E","RAL",1589,null,null,"RP7","04Q",1]
["08E","RT3",624,null,null,"RPA","07Q",43]
["08E","RD7",14,null,null,"RPA","11N",9]
["08E","RXH",6,null,null,"RPA","06T",5]
["08E","RVV",5,null,null,"RPA","09L",4]
["08E","RD1",3,null,null,"RPA","11D",3]
["08E","RQ8",3,null,null,"RPA","01K",2]
["08E","RXC",2,null,null,"RPA","10W",2]
["08E","RLQ",1,null,null,"RPA","03J",1]
["08E","RQ6",1,null,null,"RPA","04Q",1]
["08F","5A4",632,null,null,"RPA","08R",1]
["08F","RAL",225,null,null,"RPA","11X",1]
["08F","RGT",39,null,null,"RPC","10D",592]
["08F","RGP",11,null,null,"RPC","10E",157]
["08F","RD3",5,null,null,"RPC","04G",7]
["08F","RDZ",4,null,null,"RPC","07X",6]
["08F","RXH",3,null,null,"RPC","09A",4]
["08F","RWD",2,null,null,"RPC","08F",3]
["08F","RD1",1,null,null,"RPC","07J",2]
["08F","RXY",1,null,null,"RPC","03F",1]
["08G","RC3",633,null,null,"RPC","04X",1]
["08G","RJ7",53,null,null,"RPC","10J",1]
["08G","RXK",20,null,null,"RPG","07Q",1]
["08G","RA9",7,null,null,"RPY","08Q",182]
["08G","RX1",5,null,null,"RPY","08A",89]
["08G","RQ6",4,null,null,"RPY","10E",68]
["08G","RNS",3,null,null,"RPY","06H",37]
["08G","RA3",2,null,null,"RPY","08M",28]
["08G","RBD",1,null,null,"RPY","11D",15]
["08G","RK5",1,null,null,"RPY","99G",9]
["08G","RNL",1,null,null,"RPY","05F",5]
["08H","RP6",1126,null,null,"RPY","01A",2]
["08H","RAP",180,null,null,"RPY","00C",1]
["08H","RGM",11,null,null,"RPY","05L",1]
["08H","RJ6",7,null,null,"RQ3","05A",566]
["08H","RTX",6,null,null,"RQ3","05X",235]
["08H","5QT",3,null,null,"RQ3","99N",19]
["08H","RWA",3,null,null,"RQ3","00Y",11]
["08H","RL4",2,null,null,"RQ3","00V",9]
["08H","RBT",1,null,null,"RQ3","01H",6]
["08H","RJC",1,null,null,"RQ3","02Q",5]
["08H","RM2",1,null,null,"RQ3","00P",4]
["08J","RRV",176,null,null,"RQ3","08Q",3]
["08J","RDU",22,null,null,"RQ3","01Y",2]
["08J","RHM",15,null,null,"RQ3","02G",2]
["08J","RVL",6,null,null,"RQ3","06Q",1]
["08J","RAP",4,null,null,"RQ3","08K",1]
["08J","RWH",3,null,null,"RQ6","02H",411]
["08J","5C4",1,null,null,"RQ6","05G",33]
["08J","RBS",1,null,null,"RQ6","00Y",23]
["08J","RK9",1,null,null,"RQ6","02X",12]
["08J","RRF",1,null,null,"RQ6","03Q",10]
["08K","RPY",244,null,null,"RQ6","03E",7]
["08K","RC3",28,null,null,"RQ6","05V",6]
["08K","RAS",17,null,null,"RQ6","07T",5]
["08K","RGQ",9,null,null,"RQ6","09X",4]
["08K","RW3",9,null,null,"RQ6","04F",3]
["08K","RXR",5,null,null,"RQ6","10H",3]
["08K","RNL",4,null,null,"RQ6","04Y",2]
["08K","RRK",3,null,null,"RQ6","03H",1]
["08K","RWA",2,null,null,"RQ6","09G",1]
["08K","RBD",1,null,null,"RQ6","99F",1]
["08K","RR1",1,null,null,"RQ8","07L",490]
["08L","RNJ",234,null,null,"RQ8","06M",33]
["08L","RPA",25,null,null,"RQ8","07N",10]
["08L","RHU",9,null,null,"RQ8","09J",7]
["08L","RDU",7,null,null,"RQ8","99N",6]
["08L","RXP",6,null,null,"RQ8","09L",4]
["08L","RQ3",4,null,null,"RQ8","04V",3]
["08L","RQ6",3,null,null,"RQ8","04D",2]
["08L","NTP",2,null,null,"RQ8","05V",2]
["08L","5QL",1,null,null,"RQ8","00M",1]
["08L","RC1",1,null,null,"RQ8","02X",1]
["08L","RTX",1,null,null,"RQ8","11C",1]
["08M","RAN",130,null,null,"RQM","09Y",210]
["08M","RDD",60,null,null,"RQM","08T",102]
["08M","RGT",14,null,null,"RQM","08N",51]
["08M","RX1",11,null,null,"RQM","09W",40]
["08M","RTP",5,null,null,"RQM","99G",22]
["08M","RQQ",3,null,null,"RQM","99F",12]
["08M","RA7",2,null,null,"RQM","09C",10]
["08M","RTF",2,null,null,"RQM","03C",6]
["08M","RXP",2,null,null,"RQM","10X",5]
["08M","RP5",1,null,null,"RQM","06V",3]
["08N","RNH",490,null,null,"RQM","05W",2]
["08N","RJZ",126,null,null,"RQM","00T",1]
["08N","RGM",17,null,null,"RQM","04V",1]
["08N","RXC",8,null,null,"RQQ","07H",12]
["08N","RW6",6,null,null,"RQQ","07X",5]
["08N","RA2",4,null,null,"RQQ","05D",4]
["08N","RTE",3,null,null,"RQQ","00D",2]
["08N","NVC",2,null,null,"RQQ","02X",2]
["08N","RBB",1,null,null,"RQQ","99Q",2]
["08N","RN5",1,null,null,"RQQ","03K",1]
["08N","RQQ",1,null,null,"RQQ","03R",1]
["08P","RRV",316,null,null,"RQQ","09J",1]
["08P","RNJ",71,null,null,"RQQ","10X",1]
["08P","RTD",9,null,null,"RQW","06T",24]
["08P","RN3",6,null,null,"RQW","07P",7]
["08P","5A5",5,null,null,"RQW","06L",6]
["08P","RTG",3,null,null,"RQW","03N",3]
["08P","RCB",2,null,null,"RQW","07Q",3]
["08P","RA3",1,null,null,"RQW","05N",2]
["08P","RBL",1,null,null,"RQW","07V",2]
["08P","RRJ",1,null,null,"RQW","99Q",2]
["08Q","RP6",273,null,null,"RQW","04K",1]
["08Q","RJ6",111,null,null,"RQW","09C",1]
["08Q","RWF",19,null,null,"RQX","08H",1233]
["08Q","RXC",13,null,null,"RQX","07X",304]
["08Q","RD8",6,null,null,"RQX","07N",23]
["08Q","RD7",4,null,null,"RQX","04C",8]
["08Q","RR8",4,null,null,"RQX","05L",7]
["08Q","RTF",3,null,null,"RQX","05A",5]
["08Q","RK9",2,null,null,"RQX","09J",4]
["08Q","RBQ",1,null,null,"RQX","99A",3]
["08Q","RRF",1,null,null,"RQX","06V",2]
["08Q","RYW",1,null,null,"RQX","00H",1]
["08R","RYJ",252,null,null,"RQX","02Q",1]
["08R","RTP",20,null,null,"RQX","05F",1]
["08R","RNS",6,null,null,"RR1","05L",3084]
["08R","RC9",5,null,null,"RR1","05R",695]
["08R","RGN",3,null,null,"RR1","04K",26]
["08R","RCB",2,null,null,"RR1","10Q",16]
["08R","RXF",2,null,null,"RR1","06T",8]
["08R","RJR",1,null,null,"RR1","00H",5]
["08R","RNA",1,null,null,"RR1","02F",5]
["08T","RJ7",3916,null,null,"RR1","01G",4]
["08T","RP6",232,null,null,"RR1","03G",4]
["08T","RPC",24,null,null,"RR1","01J",3]
["08T","RXL",5,null,null,"RR1","99C",3]
["08T","RWE",4,null,null,"RR1","01C",2]
["08T","RC9",2,null,null,"RR1","10A",2]
["08T","RGT",2,null,null,"RR1","99E",2]
["08T","RBB",1,null,null,"RR1","08T",1]
["08T","RDD",1,null,null,"RR7","00F",33707]
["08T","RXW",1,null,null,"RR7","03R",2]
["08V","RAN",79,null,null,"RR7","02F",1]
["08V","RPA",12,null,null,"RR7","05H",1]
["08V","RXC",8,null,null,"RR7","07Y",1]
["08V","RM1",7,null,null,"RR7","09G",1]
["08V","RWG",5,null,null,"RR8","03J",2689]
["08V","RGR",3,null,null,"RR8","03H",175]
["08V","RD1",2,null,null,"RR8","02H",56]
["08V","RXL",2,null,null,"RR8","01Y",33]
["08V","NXM",1,null,null,"RR8","01C",31]
["08V","RVJ",1,null,null,"RR8","05L",16]
["08W","RQX",1259,null,null,"RR8","04Q",14]
["08W","NT4",64,null,null,"RR8","04F",9]
["08W","RPY",29,null,null,"RR8","07P",9]
["08W","RAX",9,null,null,"RR8","07X",7]
["08W","RYR",5,null,null,"RR8","06Q",5]
["08W","REF",3,null,null,"RR8","08E",5]
["08W","RCB",2,null,null,"RR8","06V",3]
["08W","RFS",2,null,null,"RR8","10K",3]
["08W","RBA",1,null,null,"RR8","09H",2]
["08W","RQQ",1,null,null,"RRF","01X",2048]
["08W","RXP",1,null,null,"RRF","02M",291]
["08X","RNJ",144,null,null,"RRF","00W",49]
["08X","RA2",33,null,null,"RRF","02T",22]
["08X","RX1",13,null,null,"RRF","99P",5]
["08X","RRK",8,null,null,"RRF","06H",3]
["08X","RM1",7,null,null,"RRF","02R",2]
["08X","RCB",5,null,null,"RRF","09G",2]
["08X","RQ6",5,null,null,"RRF","00C",1]
["08X","RNS",3,null,null,"RRF","08D",1]
["08X","RWD",3,null,null,"RRF","08G",1]
["08X","5A5",1,null,null,"RRF","99C",1]
["08X","RC1",1,null,null,"RRJ","05P",453]
["08Y","RAL",530,null,null,"RRJ","05N",53]
["08Y","RVL",22,null,null,"RRJ","07J",16]
["08Y","RVR",19,null,null,"RRJ","02P",15]
["08Y","RHM",7,null,null,"RRJ","02F",11]
["08Y","RCX",5,null,null,"RRJ","04J",9]
["08Y","RWE",4,null,null,"RRJ","01D",6]
["08Y","RXR",3,null,null,"RRJ","02W",3]
["08Y","RBZ",2,null,null,"RRJ","06V",3]
["08Y","RBS",1,null,null,"RRJ","07Y",1]
["08Y","RFR",1,null,null,"RRJ","10A",1]
["09A","RYJ",12323,null,null,"RRK","06D",543]
["09A","RNJ",209,null,null,"RRK","05V",194]
["09A","RWG",19,null,null,"RRK","12F",21]
["09A","RR8",8,null,null,"RRK","11E",12]
["09A","RXK",7,null,null,"RRK","11A",10]
["09A","RWA",4,null,null,"RRK","12A",7]
["09A","RBA",3,null,null,"RRK","00V",5]
["09A","RGM",2,null,null,"RRK","08M",4]
["09A","RA9",1,null,null,"RRK","03H",3]
["09A","RP5",1,null,null,"RRK","10D",3]
["09A","RXF",1,null,null,"RRK","02N",2]
["09C","RWF",269,null,null,"RRK","07T",2]
["09C","RN7",25,null,null,"RRK","03Y",1]
["09C","RCX",4,null,null,"RRK","99C",1]
["09C","RA4",2,null,null,"RRV","06K",1718]
["09C","RBB",2,null,null,"RRV","08W",1213]
["09C","RRK",2,null,null,"RRV","06Q",439]
["09C","RGP",1,null,null,"RRV","07L",225]
["09C","RJL",1,null,null,"RRV","99M",211]
["09D","RPY",143,null,null,"RRV","10Y",110]
["09D","RT3",82,null,null,"RRV","10G",92]
["09D","RTH",21,null,null,"RRV","11H",49]
["09D","RM1",8,null,null,"RRV","06V",31]
["09D","RJ2",7,null,null,"RRV","05T",27]
["09D","RVJ",5,null,null,"RRV","03V",18]
["09D","RGP",4,null,null,"RRV","06A",15]
["09D","RNS",3,null,null,"RRV","03E",12]
["09D","RM3",2,null,null,"RRV","05J",8]
["09D","RQ8",2,null,null,"RRV","04N",7]
["09D","RCC",1,null,null,"RRV","03D",4]
["09D","RL4",1,null,null,"RT1","06H",8]
["09E","RPC",236,null,null,"RT3","08Y",501]
["09E","RT3",81,null,null,"RT3","06F",362]
["09E","RGT",13,null,null,"RT3","99M",160]
["09E","RAJ",8,null,null,"RT3","09L",113]
["09E","RXQ",6,null,null,"RT3","10A",89]
["09E","RKB",3,null,null,"RT3","09F",57]
["09E","RTD",3,null,null,"RT3","08V",48]
["09E","RX1",2,null,null,"RT3","10K",19]
["09E","RFF",1,null,null,"RT3","06V",11]
["09E","RR7",1,null,null,"RT3","05V",7]
["09F","RWF",90,null,null,"RT3","02Y",3]
["09F","RP4",64,null,null,"RT3","03H",3]
["09F","RHU",14,null,null,"RT3","00P",1]
["09F","RA4",7,null,null,"RT3","02H",1]
["09F","RBB",4,null,null,"RTD","00F",14302]
["09F","REM",3,null,null,"RTD","00M",984]
["09F","RCC",2,null,null,"RTD","02Y",26]
["09F","RD8",1,null,null,"RTD","01N",13]
["09F","RJC",1,null,null,"RTD","03T",11]
["09G","RXH",3853,null,null,"RTD","08P",9]
["09G","RPC",637,null,null,"RTD","06Y",8]
["09G","RN5",64,null,null,"RTD","03H",6]
["09G","RH8",18,null,null,"RTD","08H",5]
["09G","RTE",17,null,null,"RTD","09F",5]
["09G","RM1",8,null,null,"RTD","02D",3]
["09G","RA4",6,null,null,"RTD","05Y",3]
["09G","NWF",4,null,null,"RTD","06W",2]
["09G","RCU",3,null,null,"RTD","01T",1]
["09G","RJD",2,null,null,"RTD","10W",1]
["09G","RVN",2,null,null,"RTE","06D",173]
["09G","5M2",1,null,null,"RTE","99P",86]
["09H","RTP",16105,null,null,"RTE","10X",14]
["09H","RDR",673,null,null,"RTE","05C",13]
["09H","RDU",14,null,null,"RTE","01W",7]
["09H","RTH",5,null,null,"RTE","00P",6]
["09H","RX1",4,null,null,"RTE","07R",6]
["09H","RK9",2,null,null,"RTE","06W",5]
["09H","RQ6",2,null,null,"RTE","07W",5]
["09H","RBK",1,null,null,"RTE","99D",4]
["09H","RD1",1,null,null,"RTE","02X",3]
["09J","RYQ",2965,null,null,"RTE","00R",2]
["09J","RJ7",56,null,null,"RTE","09H",2]
["09J","RQM",41,null,null,"RTE","10V",2]
["09J","RGT",7,null,null,"RTE","07N",1]
["09J","RQW",6,null,null,"RTF","99C",37253]
["09J","RBA",3,null,null,"RTF","03T",10]
["09J","RTD",3,null,null,"RTF","04D",8]
["09J","RX1",2,null,null,"RTF","05N",5]
["09J","RDE",1,null,null,"RTF","05A",4]
["09J","RLU",1,null,null,"RTF","01A",3]
["09J","RWW",1,null,null,"RTF","09D",3]
["09L","RA2",811,null,null,"RTF","11J",3]
["09L","RAL",42,null,null,"RTF","05L",2]
["09L","RVV",11,null,null,"RTF","09L",2]
["09L","5QT",4,null,null,"RTF","01F",1]
["09L","RGP",3,null,null,"RTF","06T",1]
["09L","RFW",2,null,null,"RTF","07X",1]
["09L","RBF",1,null,null,"RTG","05D",3898]
["09L","RHU",1,null,null,"RTG","04L",235]
["09L","RVW",1,null,null,"RTG","03L",44]
["09L","RWW",1,null,null,"RTG","04X",20]
["09N","RT3",155,null,null,"RTG","01A",9]
["09N","RH8",17,null,null,"RTG","02Y",6]
["09N","RX1",9,null,null,"RTG","08L",6]
["09N","RYQ",7,null,null,"RTG","07M",5]
["09N","RGN",5,null,null,"RTG","01E",4]
["09N","RC1",3,null,null,"RTG","99C",4]
["09N","RN3",2,null,null,"RTG","08W",3]
["09N","RWP",2,null,null,"RTG","00C",2]
["09N","RGC",1,null,null,"RTG","11A",2]
["09N","RMC",1,null,null,"RTG","00P",1]
["09P","RJ1",367,null,null,"RTG","09N",1]
["09P","NT4",23,null,null,"RTH","10W",631]
["09P","RP6",20,null,null,"RTH","10N",579]
["09P","RFR",6,null,null,"RTH","10X",40]
["09P","RQX",5,null,null,"RTH","99M",32]
["09P","RC9",2,null,null,"RTH","05N",21]
["09P","RP5",2,null,null,"RTH","07V",20]
["09P","RDR",1,null,null,"RTH","99A",13]
["09P","RP1",1,null,null,"RTH","08Q",11]
["09P","RWJ",1,null,null,"RTH","07Y",10]
["09W","RT3",81,null,null,"RTH","03L",7]
["09W","RYJ",71,null,null,"RTH","04N",7]
["09W","REF",9,null,null,"RTH","08T",5]
["09W","RA9",6,null,null,"RTH","09P",4]
["09W","RAS",5,null,null,"RTH","02D",3]
["09W","RD7",3,null,null,"RTH","00Q",1]
["09W","RQW",3,null,null,"RTH","01E",1]
["09W","NTC",1,null,null,"RTK","09L",31]
["09W","RLU",1,null,null,"RTK","08K",12]
["09W","RP5",1,null,null,"RTK","06N",9]
["09W","RWA",1,null,null,"RTK","10W",8]
["09X","5P6",226,null,null,"RTK","06P",5]
["09X","RAX",16,null,null,"RTK","01G",3]
["09X","RNZ",9,null,null,"RTK","05R",3]
["09X","RN7",5,null,null,"RTK","01W",2]
["09X","RKB",4,null,null,"RTK","04K",2]
["09X","RM2",3,null,null,"RTK","00P",1]
["09X","RTR",2,null,null,"RTK","05F",1]
["09X","RA3",1,null,null,"RTK","10D",1]
["09X","RKE",1,null,null,"RTP","09N",52]
["09X","RRF",1,null,null,"RTP","99P",23]
["09Y","RAX",467,null,null,"RTP","08G",11]
["09Y","RNJ",65,null,null,"RTP","08V",8]
["09Y","REF",20,null,null,"RTP","10K",7]
["09Y","RKE",9,null,null,"RTP","05L",5]
["09Y","RBA",7,null,null,"RTP","10D",5]
["09Y","RF4",4,null,null,"RTP","04D",3]
["09Y","RXP",4,null,null,"RTP","12A",3]
["09Y","RVJ",3,null,null,"RTP","05T",2]
["09Y","RNQ",2,null,null,"RTP","01J",1]
["09Y","RXN",2,null,null,"RTP","01Y",1]
["09Y","RP5",1,null,null,"RTP","04M",1]
["10A","NTY",1151,null,null,"RTP","06V",1]
["10A","RP6",47,null,null,"RTR","00D",4503]
["10A","RAL",29,null,null,"RTR","00P",203]
["10A","RHU",7,null,null,"RTR","03A",14]
["10A","RX1",4,null,null,"RTR","02Q",6]
["10A","REM",3,null,null,"RTR","09G",6]
["10A","RGQ",2,null,null,"RTR","10X",5]
["10A","RM3",2,null,null,"RTR","06W",4]
["10A","RAJ",1,null,null,"RTR","04N",3]
["10A","RD7",1,null,null,"RTR","09D",3]
["10A","RWJ",1,null,null,"RTR","05D",2]
["10C","RP4",35,null,null,"RTR","10L",2]
["10C","RAN",20,null,null,"RTR","01W",1]
["10C","RTP",6,null,null,"RTR","07L",1]
["10C","RTE",5,null,null,"RTR","08L",1]
["10C","RWE",2,null,null,"RTX","01H",42588]
["10C","RJD",1,null,null,"RTX","02H",37]
["10C","RM2",1,null,null,"RTX","01Y",19]
["10C","RXR",1,null,null,"RTX","05N",12]
["10D","5QA",428,null,null,"RTX","03G",11]
["10D","RF4",10,null,null,"RTX","00F",7]
["10D","RBB",4,null,null,"RTX","08H",6]
["10D","RQX",3,null,null,"RTX","05F",5]
["10D","RD3",2,null,null,"RTX","99C",5]
["10D","RA9",1,null,null,"RTX","08K",4]
["10D","RNZ",1,null,null,"RTX","08Q",3]
["10D","RQW",1,null,null,"RTX","09G",3]
["10E","RAN",60,null,null,"RTX","10K",2]
["10E","RQM",34,null,null,"RTX","05D",1]
["10E","NXM",6,null,null,"RTX","09X",1]
["10E","NT3",3,null,null,"RV8","08Y",374]
["10E","REF",3,null,null,"RV8","07X",206]
["10E","RNL",2,null,null,"RV8","06Q",71]
["10E","RAE",1,null,null,"RV8","09J",64]
["10E","RNZ",1,null,null,"RV8","09P",41]
["10G","RTK",502,null,null,"RV8","11X",26]
["10G","RPY",52,null,null,"RV8","04K",17]
["10G","RYR",13,null,null,"RV8","03W",11]
["10G","RK9",7,null,null,"RV8","10M",10]
["10G","RX1",4,null,null,"RV8","12D",7]
["10G","RXH",3,null,null,"RV8","00W",4]
["10G","RNS",2,null,null,"RV8","11T",4]
["10G","RAP",1,null,null,"RV8","00Q",2]
["10G","RGP",1,null,null,"RV8","02Q",2]
["10G","RVW",1,null,null,"RV8","03Y",1]
["10H","RTH",3067,null,null,"RV9","03Q",3]
["10H","RP4",136,null,null,"RVJ","05T",71]
["10H","RD8",23,null,null,"RVJ","01A",5]
["10H","RKB",15,null,null,"RVJ","09D",5]
["10H","RK9",7,null,null,"RVJ","00K",3]
["10H","RX1",7,null,null,"RVJ","03H",3]
["10H","RBB",4,null,null,"RVJ","10W",3]
["10H","RL4",3,null,null,"RVJ","05H",2]
["10H","RVJ",3,null,null,"RVJ","07Q",2]
["10H","RF4",2,null,null,"RVJ","08N",2]
["10H","RBN",1,null,null,"RVJ","00X",1]
["10H","RRF",1,null,null,"RVJ","04J",1]
["10J","RA2",668,null,null,"RVJ","08E",1]
["10J","RYR",35,null,null,"RVL","07X",30314]
["10J","RXH",24,null,null,"RVL","08H",227]
["10J","RA9",8,null,null,"RVL","07L",25]
["10J","RTE",6,null,null,"RVL","13P",17]
["10J","RTG",4,null,null,"RVL","07G",10]
["10J","RXC",3,null,null,"RVL","11M",7]
["10J","RJE",2,null,null,"RVL","09L",6]
["10J","RCB",1,null,null,"RVL","09F",5]
["10J","RLQ",1,null,null,"RVL","06M",4]
["10J","RXL",1,null,null,"RVL","03K",3]
["10K","RGT",25,null,null,"RVL","02R",2]
["10K","RT3",19,null,null,"RVL","03M",2]
["10K","RTP",7,null,null,"RVL","01H",1]
["10K","RAE",5,null,null,"RVL","04H",1]
["10K","RAS",3,null,null,"RVN","05L",4]
["10K","RX1",3,null,null,"RVN","02M",1]
["10K","RD8",2,null,null,"RVN","06H",1]
["10K","RDE",1,null,null,"RVR","99H",23857]
["10K","RGQ",1,null,null,"RVR","08X",913]
["10L","NTP",291,null,null,"RVR","07N",25]
["10L","RAN",20,null,null,"RVR","99P",17]
["10L","RNJ",11,null,null,"RVR","13P",10]
["10L","5QC",4,null,null,"RVR","07T",6]
["10L","RBA",4,null,null,"RVR","09C",6]
["10L","RF4",2,null,null,"RVR","03A",3]
["10L","RJF",2,null,null,"RVR","06A",3]
["10L","RAX",1,null,null,"RVR","03N",2]
["10L","RGN",1,null,null,"RVR","05P",2]
["10L","RTF",1,null,null,"RVR","00N",1]
["10M","RN1",33,null,null,"RVR","05N",1]
["10M","RVJ",15,null,null,"RVR","02E",0]
["10M","RHU",7,null,null,"RVV","08Q",26]
["10M","RK9",5,null,null,"RVV","08X",20]
["10M","RBZ",2,null,null,"RVV","07M",11]
["10M","5K3",1,null,null,"RVV","05W",9]
["10M","NTP",1,null,null,"RVV","08Y",8]
["10M","RJE",1,null,null,"RVV","99A",7]
["10M","RVN",1,null,null,"RVV","10G",6]
["10N","RRV",63,null,null,"RVV","08R",5]
["10N","RJ7",10,null,null,"RVV","02F",3]
["10N","RN3",6,null,null,"RVV","05N",3]
["10N","RJC",3,null,null,"RVV","01X",2]
["10N","RBS",2,null,null,"RVV","03E",2]
["10N","5CQ",1,null,null,"RVV","00K",1]
["10N","RC3",1,null,null,"RVV","01V",1]
["10N","RTG",1,null,null,"RVW","00F",27]
["10Q","RBF",6375,null,null,"RVW","03R",11]
["10Q","RD8",57,null,null,"RVW","04J",4]
["10Q","RAS",33,null,null,"RVW","07Y",3]
["10Q","RDZ",25,null,null,"RVW","01X",2]
["10Q","RA9",15,null,null,"RVW","01E",1]
["10Q","RWF",14,null,null,"RVW","03J",1]
["10Q","RW3",11,null,null,"RVW","07R",1]
["10Q","RA4",8,null,null,"RVW","09P",1]
["10Q","RP5",6,null,null,"RVW","99D",1]
["10Q","RJ2",4,null,null,"RVY","02F",24]
["10Q","5QC",3,null,null,"RVY","01K",15]
["10Q","RXR",3,null,null,"RVY","03J",5]
["10Q","5CN",1,null,null,"RVY","03A",3]
["10Q","RVW",1,null,null,"RVY","02X",2]
["10R","RAL",27,null,null,"RVY","08C",2]
["10R","RJ7",16,null,null,"RVY","10R",2]
["10R","RWE",9,null,null,"RVY","04E",1]
["10R","RJ6",7,null,null,"RVY","05V",1]
["10R","RNQ",4,null,null,"RVY","99E",1]
["10R","RR8",3,null,null,"RW1","11C",1]
["10R","RBB",2,null,null,"RW3","01W",5722]
["10R","5NE",1,null,null,"RW3","05G",141]
["10R","RA3",1,null,null,"RW3","02G",101]
["10R","RN3",1,null,null,"RW3","03Q",27]
["10T","RP4",130,null,null,"RW3","06H",14]
["10T","RJ1",49,null,null,"RW3","07P",11]
["10T","RAN",24,null,null,"RW3","06A",9]
["10T","RYR",7,null,null,"RW3","00C",7]
["10T","RKB",3,null,null,"RW3","00P",5]
["10T","RVL",3,null,null,"RW3","08G",5]
["10T","RGP",2,null,null,"RW3","12A",4]
["10T","RVJ",2,null,null,"RW3","05J",3]
["10T","RJE",1,null,null,"RW3","10H",3]
["10V","NT3",382,null,null,"RW3","07K",1]
["10V","RPY",59,null,null,"RW3","99F",1]
["10V","RHW",17,null,null,"RW6","01M",30381]
["10V","REF",10,null,null,"RW6","02H",408]
["10V","RR1",4,null,null,"RW6","02Y",14]
["10V","RHQ",3,null,null,"RW6","05W",10]
["10V","RA4",2,null,null,"RW6","05A",8]
["10V","RWH",2,null,null,"RW6","06H",6]
["10V","RA3",1,null,null,"RW6","03M",5]
["10V","RL4",1,null,null,"RW6","07L",4]
["10V","RQW",1,null,null,"RW6","09G",4]
["10W","RRV",43,null,null,"RW6","10Y",3]
["10W","RP4",10,null,null,"RW6","09E",2]
["10W","RTP",7,null,null,"RW6","11T",2]
["10W","RXH",5,null,null,"RW6","07Q",1]
["10W","RA4",3,null,null,"RW6","09L",1]
["10W","RXK",3,null,null,"RWA","03H",2223]
["10W","RQ6",2,null,null,"RWA","04V",16]
["10W","NTC",1,null,null,"RWA","00K",12]
["10W","RFS",1,null,null,"RWA","01A",7]
["10W","RQX",1,null,null,"RWA","99Q",6]
["10X","RTH",40,null,null,"RWA","05A",4]
["10X","RN5",30,null,null,"RWA","10Q",4]
["10X","RHW",14,null,null,"RWA","07W",3]
["10X","RGT",9,null,null,"RWA","01C",2]
["10X","RXK",7,null,null,"RWA","06F",2]
["10X","RWD",4,null,null,"RWA","03V",1]
["10X","RR1",3,null,null,"RWA","05P",1]
["10X","RJR",2,null,null,"RWA","08X",1]
["10X","RWP",2,null,null,"RWA","12F",1]
["10X","RK5",1,null,null,"RWD","03L",59]
["10Y","RXQ",23636,null,null,"RWD","03Q",15]
["10Y","RBF",239,null,null,"RWD","02R",12]
["10Y","RC1",19,null,null,"RWD","10H",9]
["10Y","RA2",12,null,null,"RWD","05L",8]
["10Y","RJC",6,null,null,"RWD","05W",6]
["10Y","RTG",4,null,null,"RWD","11A",5]
["10Y","RGQ",3,null,null,"RWD","01M",4]
["10Y","RCB",2,null,null,"RWD","99Q",4]
["10Y","RJF",2,null,null,"RWD","01C",3]
["10Y","RA3",1,null,null,"RWD","01N",2]
["10Y","RAJ",1,null,null,"RWD","02F",2]
["10Y","RRJ",1,null,null,"RWD","99E",2]
["10Y","RXF",1,null,null,"RWD","06A",1]
["11A","NT4",404,null,null,"RWD","11E",1]
["11A","RBB",29,null,null,"RWE","04F",51]
["11A","RN3",25,null,null,"RWE","05N",45]
["11A","RD7",12,null,null,"RWE","11H",14]
["11A","RAS",9,null,null,"RWE","08L",12]
["11A","RR8",7,null,null,"RWE","07X",10]
["11A","RDD",4,null,null,"RWE","01C",7]
["11A","RLQ",4,null,null,"RWE","03E",7]
["11A","RN7",3,null,null,"RWE","01W",5]
["11A","RCF",2,null,null,"RWE","09Y",5]
["11A","RFR",1,null,null,"RWE","99C",4]
["11A","RJL",1,null,null,"RWE","99E",4]
["11C","RA2",92,null,null,"RWE","00F",2]
["11C","RTE",19,null,null,"RWE","99G",2]
["11C","RPY",13,null,null,"RWE","02E",1]
["11C","RL1",4,null,null,"RWF","09C",269]
["11C","RX1",4,null,null,"RWF","09E",183]
["11C","RJC",2,null,null,"RWF","09Y",13]
["11C","RA4",1,null,null,"RWF","07R",7]
["11C","RDR",1,null,null,"RWF","07L",6]
["11C","RN1",1,null,null,"RWF","11C",5]
["11C","RWP",1,null,null,"RWF","06F",4]
["11D","RJ1",53,null,null,"RWF","06L",3]
["11D","RAN",13,null,null,"RWF","03A",2]
["11D","RGT",7,null,null,"RWF","05P",2]
["11D","RXW",5,null,null,"RWF","01R",1]
["11D","RBT",3,null,null,"RWF","03V",1]
["11D","RTD",2,null,null,"RWF","11T",1]
["11D","RVL",2,null,null,"RWG","08G",1638]
["11D","RHQ",1,null,null,"RWG","99H",10]
["11D","RR8",1,null,null,"RWG","08N",7]
["11E","RBB",1191,null,null,"RWG","11H",5]
["11E","RYJ",19,null,null,"RWG","03R",3]
["11E","RP6",12,null,null,"RWG","07K",3]
["11E","NVC",7,null,null,"RWG","01H",2]
["11E","5QT",5,null,null,"RWG","05D",2]
["11E","RHU",4,null,null,"RWG","00F",1]
["11E","RGQ",2,null,null,"RWG","03J",1]
["11E","RTF",2,null,null,"RWG","05W",1]
["11E","RBL",1,null,null,"RWG","99Q",1]
["11E","RGP",1,null,null,"RWH","08E",383]
["11H","NT3",615,null,null,"RWH","07Y",13]
["11H","RTE",96,null,null,"RWH","11J",12]
["11H","RGT",18,null,null,"RWH","03Q",7]
["11H","RWE",14,null,null,"RWH","10R",6]
["11H","RT3",12,null,null,"RWH","04R",5]
["11H","RNH",7,null,null,"RWH","03F",3]
["11H","RR1",7,null,null,"RWH","06V",3]
["11H","RF4",4,null,null,"RWH","02A",2]
["11H","RDE",3,null,null,"RWH","06D",2]
["11H","RJ6",3,null,null,"RWH","09N",2]
["11H","RVY",2,null,null,"RWH","03D",1]
["11H","RXF",2,null,null,"RWH","03V",1]
["11H","RMP",1,null,null,"RWJ","02A",249]
["11H","RYV",1,null,null,"RWJ","00T",54]
["11J","RH8",563,null,null,"RWJ","99A",18]
["11J","RJZ",104,null,null,"RWJ","03Q",7]
["11J","RD1",41,null,null,"RWJ","03Y",4]
["11J","RVR",19,null,null,"RWJ","09F",3]
["11J","RC3",16,null,null,"RWJ","01J",2]
["11J","RF4",9,null,null,"RWJ","02X",1]
["11J","RKE",9,null,null,"RWJ","03E",1]
["11J","RC1",6,null,null,"RWJ","07H",1]
["11J","RAP",3,null,null,"RWJ","10T",1]
["11J","RGR",3,null,null,"RWJ","99J",1]
["11J","NTA",1,null,null,"RWP","10Q",21]
["11J","RDR",1,null,null,"RWP","05X",13]
["11M","RA7",1401,null,null,"RWP","09G",6]
["11M","RRV",74,null,null,"RWP","08K",4]
["11M","RH8",53,null,null,"RWP","00R",3]
["11M","RAL",21,null,null,"RWP","07R",3]
["11M","RBD",19,null,null,"RWP","10K",3]
["11M","RD7",11,null,null,"RWP","06M",2]
["11M","RM1",11,null,null,"RWP","07H",2]
["11M","RTF",6,null,null,"RWP","01J",1]
["11M","RWD",5,null,null,"RWP","03A",1]
["11M","RVR",4,null,null,"RWP","08A",1]
["11M","RN1",3,null,null,"RWP","99A",1]
["11M","RTR",3,null,null,"RWP","99M",1]
["11M","5QQ",1,null,null,"RWW","02G",33]
["11M","RNQ",1,null,null,"RWW","01M",15]
["11N","RA7",369,null,null,"RWW","05G",6]
["11N","RAL",26,null,null,"RWW","06Q",3]
["11N","RA4",18,null,null,"RWW","99P",3]
["11N","RBD",10,null,null,"RWW","05R",2]
["11N","RPA",9,null,null,"RWW","08M",2]
["11N","RXL",7,null,null,"RWW","00J",1]
["11N","RN1",6,null,null,"RWW","03W",1]
["11N","RN7",4,null,null,"RWW","08C",1]
["11N","RGC",3,null,null,"RWW","11E",1]
["11N","RM3",3,null,null,"RWY","03A",42816]
["11N","RGP",2,null,null,"RWY","01M",9]
["11N","RQX",2,null,null,"RWY","03F",6]
["11N","RMP",1,null,null,"RWY","05V",3]
["11T","RTE",38,null,null,"RWY","04K",2]
["11T","RAL",18,null,null,"RWY","05N",2]
["11T","RD3",5,null,null,"RWY","01T",1]
["11T","RLQ",5,null,null,"RWY","03D",1]
["11T","RGT",3,null,null,"RWY","07J",1]
["11T","5QP",2,null,null,"RWY","11C",1]
["11T","RD7",2,null,null,"RWY","99D",1]
["11T","RW6",2,null,null,"RX1","04Q",2216]
["11T","RFS",1,null,null,"RX1","05Q",88]
["11X","RA4",27724,null,null,"RX1","05Y",21]
["11X","RA3",5345,null,null,"RX1","10L",19]
["11X","RHM",87,null,null,"RX1","06V",14]
["11X","RJZ",30,null,null,"RX1","06M",11]
["11X","RVN",15,null,null,"RX1","08W",8]
["11X","RX1",8,null,null,"RX1","00T",5]
["11X","RTK",7,null,null,"RX1","07Q",5]
["11X","RXK",5,null,null,"RX1","07V",4]
["11X","RJ6",4,null,null,"RX1","08N",4]
["11X","RCB",3,null,null,"RX1","06D",3]
["11X","RKE",2,null,null,"RX1","09E",2]
["11X","RXC",2,null,null,"RX1","99C",2]
["11X","REP",1,null,null,"RX2","09P",19]
["11X","RJ2",1,null,null,"RX2","03J",2]
["12A","RVJ",32637,null,null,"RX4","01H",1]
["12A","5A3",125,null,null,"RXC","99J",950]
["12A","RJ1",11,null,null,"RXC","06F",14]
["12A","RN5",6,null,null,"RXC","04F",10]
["12A","RHW",5,null,null,"RXC","10E",9]
["12A","RM1",3,null,null,"RXC","10K",6]
["12A","RTF",3,null,null,"RXC","13P",6]
["12A","RXP",2,null,null,"RXC","05D",4]
["12A","RHQ",1,null,null,"RXC","02Q",3]
["12A","RMC",1,null,null,"RXC","05G",3]
["12D","RN3",34807,null,null,"RXC","01X",2]
["12D","NT4",1015,null,null,"RXC","02T",2]
["12D","NVC",19,null,null,"RXC","99D",2]
["12D","RGT",10,null,null,"RXC","01F",1]
["12D","RX1",5,null,null,"RXC","05H",1]
["12D","5QH",3,null,null,"RXF","03J",30423]
["12D","RTX",3,null,null,"RXF","03H",36]
["12D","RVR",2,null,null,"RXF","06H",6]
["12D","5QP",1,null,null,"RXF","13P",5]
["12D","RPC",1,null,null,"RXF","00K",3]
["12D","RVL",1,null,null,"RXF","05D",3]
["12F","REM",1003,null,null,"RXF","04H",2]
["12F","RBV",16,null,null,"RXF","11T",2]
["12F","RW4",12,null,null,"RXF","00N",1]
["12F","RGT",5,null,null,"RXF","07K",1]
["12F","RA9",4,null,null,"RXF","08L",1]
["12F","RM4",3,null,null,"RXH","99K",14339]
["12F","RF4",2,null,null,"RXH","10A",20]
["12F","RHM",2,null,null,"RXH","09C",19]
["12F","RA7",1,null,null,"RXH","07T",11]
["12F","RCF",1,null,null,"RXH","10E",10]
["12F","RXM",1,null,null,"RXH","99Q",7]
["13P","RRK",29491,null,null,"RXH","06F",6]
["13P","RJD",229,null,null,"RXH","07X",5]
["13P","RJ1",23,null,null,"RXH","00Y",3]
["13P","RAE",17,null,null,"RXH","05C",3]
["13P","RW6",13,null,null,"RXH","03L",2]
["13P","RK9",11,null,null,"RXH","04H",2]
["13P","RBZ",8,null,null,"RXH","99C",2]
["13P","RD7",6,null,null,"RXH","02T",1]
["13P","RKE",5,null,null,"RXH","07G",1]
["13P","RXP",4,null,null,"RXK","05X",91]
["13P","RBB",3,null,null,"RXK","05W",73]
["13P","5QP",1,null,null,"RXK","07P",10]
["13P","RCF",1,null,null,"RXK","01H",9]
["99A","RBN",6322,null,null,"RXK","10D",8]
["99A","NTD",538,null,null,"RXK","03A",7]
["99A","RJ1",28,null,null,"RXK","07R",6]
["99A","RRV",11,null,null,"RXK","04F",4]
["99A","RT3",9,null,null,"RXK","99J",4]
["99A","RX1",7,null,null,"RXK","08H",3]
["99A","RD7",6,null,null,"RXK","11D",3]
["99A","RXH",4,null,null,"RXK","10K",2]
["99A","RNQ",3,null,null,"RXK","02P",1]
["99A","RAX",2,null,null,"RXK","06Y",1]
["99A","RTK",2,null,null,"RXL","00R",41712]
["99A","RYR",2,null,null,"RXL","00Q",196]
["99C","RR7",236,null,null,"RXL","03A",17]
["99C","RCC",10,null,null,"RXL","04R",13]
["99C","RTX",5,null,null,"RXL","05C",9]
["99C","RWA",4,null,null,"RXL","05A",8]
["99C","RCB",2,null,null,"RXL","02V",5]
["99C","RX1",2,null,null,"RXL","04Y",4]
["99C","RBA",1,null,null,"RXL","03V",3]
["99C","RJC",1,null,null,"RXL","04F",2]
["99C","RQM",1,null,null,"RXL","06F",2]
["99D","RWE",377,null,null,"RXL","11X",2]
["99D","RGP",13,null,null,"RXL","08C",1]
["99D","RAL",9,null,null,"RXL","08Y",1]
["99D","RPY",5,null,null,"RXL","12D",1]
["99D","RHU",4,null,null,"RXM","04J",1]
["99D","RTP",3,null,null,"RXN","00V",71]
["99D","RTF",2,null,null,"RXN","03R",11]
["99D","RXL",2,null,null,"RXN","00D",8]
["99D","RKE",1,null,null,"RXN","00L",4]
["99D","RPA",1,null,null,"RXN","10Q",4]
["99E","NVC",440,null,null,"RXN","08N",3]
["99E","RAL",167,null,null,"RXN","00N",2]
["99E","RM1",17,null,null,"RXN","08P",2]
["99E","NWF",5,null,null,"RXN","05Y",1]
["99E","5QT",4,null,null,"RXN","07T",1]
["99E","RXC",3,null,null,"RXN","12D",1]
["99E","RYR",3,null,null,"RXN","99K",1]
["99E","RLQ",2,null,null,"RXP","01H",50]
["99E","RLN",1,null,null,"RXP","08L",6]
["99E","RNS",1,null,null,"RXP","02Y",5]
["99F","RP4",249,null,null,"RXP","08P",4]
["99F","RAN",155,null,null,"RXP","09Y",4]
["99F","NVC",30,null,null,"RXP","02R",3]
["99F","RM1",6,null,null,"RXP","02W",2]
["99F","RTP",5,null,null,"RXP","06L",2]
["99F","RVR",4,null,null,"RXP","08R",2]
["99F","RA4",2,null,null,"RXP","00Y",1]
["99F","RBS",1,null,null,"RXP","07V",1]
["99F","RJC",1,null,null,"RXP","09E",1]
["99F","RTR",1,null,null,"RXQ","06F",2895]
["99F","RXF",1,null,null,"RXQ","06P",61]
["99G","RP6",55,null,null,"RXQ","07H",17]
["99G","RQ6",8,null,null,"RXQ","08W",12]
["99G","RDZ",6,null,null,"RXQ","05A",9]
["99G","RA7",3,null,null,"RXQ","07R",7]
["99G","RHM",3,null,null,"RXQ","10A",7]
["99G","RTE",2,null,null,"RXQ","08J",5]
["99G","RAP",1,null,null,"RXQ","11E",4]
["99G","RJN",1,null,null,"RXQ","05H",3]
["99G","RTR",1,null,null,"RXQ","01J",2]
["99H","RJ7",2611,null,null,"RXQ","03K",2]
["99H","RYR",72,null,null,"RXQ","02R",1]
["99H","RHM",14,null,null,"RXQ","12F",1]
["99H","RH8",8,null,null,"RXR","02M",82]
["99H","RTD",5,null,null,"RXR","01V",10]
["99H","RGM",4,null,null,"RXR","03J",8]
["99H","RQX",3,null,null,"RXR","05W",5]
["99H","RC1",2,null,null,"RXR","03L",4]
["99H","RW3",2,null,null,"RXR","05V",3]
["99H","RAJ",1,null,null,"RXR","09Y",3]
["99H","RL4",1,null,null,"RXR","04Q",2]
["99J","NXM",1296,null,null,"RXR","10X",2]
["99J","RRV",324,null,null,"RXR","00M",1]
["99J","RJ6",43,null,null,"RXR","06F",1]
["99J","RTH",25,null,null,"RXR","07Q",1]
["99J","RTD",11,null,null,"RXT","05P",18]
["99J","RVL",9,null,null,"RXT","05C",2]
["99J","5QT",5,null,null,"RXW","05L",40]
["99J","RTG",4,null,null,"RXW","04K",8]
["99J","RGN",3,null,null,"RXW","11A",7]
["99J","RL4",2,null,null,"RXW","11D",5]
["99J","RW6",2,null,null,"RXW","01Y",4]
["99J","RJN",1,null,null,"RXW","01A",3]
["99K","RTP",148,null,null,"RXW","02M",2]
["99K","RYJ",44,null,null,"RXW","03J",2]
["99K","RN7",9,null,null,"RXW","08H",2]
["99K","RTK",7,null,null,"RXW","11C",2]
["99K","RXQ",5,null,null,"RXW","03T",1]
["99K","RJR",2,null,null,"RXW","99M",1]
["99K","RAE",1,null,null,"RXY","10E",11]
["99K","REP",1,null,null,"RXY","06K",1]
["99K","RQX",1,null,null,"RY4","06H",55]
["99K","RWD",1,null,null,"RYJ","08C",20448]
["99M","RPY",168,null,null,"RYJ","10H",623]
["99M","5P5",16,null,null,"RYJ","08N",181]
["99M","RH8",11,null,null,"RYJ","10Q",146]
["99M","RDZ",6,null,null,"RYJ","07H",74]
["99M","RJE",3,null,null,"RYJ","10V",46]
["99M","RQ3",3,null,null,"RYJ","99M",40]
["99M","RNQ",2,null,null,"RYJ","06A",19]
["99M","5PA",1,null,null,"RYJ","10L",17]
["99M","RNL",1,null,null,"RYJ","04D",11]
["99N","RVJ",1511,null,null,"RYJ","05Y",7]
["99N","RA7",1355,null,null,"RYJ","12F",7]
["99N","RBB",1325,null,null,"RYJ","00K",6]
["99N","NVC",1267,null,null,"RYJ","00X",6]
["99N","NT4",1153,null,null,"RYJ","01R",6]
["99N","RTH",893,null,null,"RYJ","02N",6]
["99N","RVN",647,null,null,"RYJ","02W",6]
["99N","RN1",512,null,null,"RYJ","03V",6]
["99N","RTE",402,null,null,"RYJ","04M",6]
["99N","RDZ",322,null,null,"RYJ","04Q",6]
["99N","RHU",193,null,null,"RYJ","00V",5]
["99N","NV3",165,null,null,"RYJ","01A",5]
["99N","RA4",121,null,null,"RYJ","01J",5]
["99N","RRV",121,null,null,"RYJ","01W",5]
["99N","RN5",107,null,null,"RYJ","02A",5]
["99N","RT3",100,null,null,"RYJ","02D",5]
["99N","RJ1",95,null,null,"RYJ","02M",5]
["99N","RD3",92,null,null,"RYJ","03A",5]
["99N","RBD",78,null,null,"RYJ","04N",5]
["99N","RBF",66,null,null,"RYJ","05H",5]
["99N","RAN",57,null,null,"RYJ","05Q",5]
["99N","RH8",54,null,null,"RYJ","12A",5]
["99N","RBA",52,null,null,"RYJ","00L",4]
["99N","RYJ",52,null,null,"RYJ","00R",4]
["99N","5QM",50,null,null,"RYJ","00Y",4]
["99N","RP4",48,null,null,"RYJ","02F",4]
["99N","REF",43,null,null,"RYJ","02G",4]
["99N","RNJ",41,null,null,"RYJ","02V",4]
["99N","RHW",40,null,null,"RYJ","03E",4]
["99N","RP6",38,null,null,"RYJ","03M",4]
["99N","RAL",35,null,null,"RYJ","05C",4]
["99N","RPY",35,null,null,"RYJ","05X",4]
["99N","RDU",32,null,null,"RYJ","99C",4]
["99N","RV8",32,null,null,"RYJ","00F",3]
["99N","RJ7",31,null,null,"RYJ","00G",3]
["99N","RYR",30,null,null,"RYJ","00J",3]
["99N","RGM",29,null,null,"RYJ","00T",3]
["99N","RJZ",26,null,null,"RYJ","01D",3]
["99N","RQM",25,null,null,"RYJ","01V",3]
["99N","RRK",25,null,null,"RYJ","02E",3]
["99N","NTP",24,null,null,"RYJ","03D",3]
["99N","5QC",20,null,null,"RYJ","03G",3]
["99N","RA2",20,null,null,"RYJ","03H",3]
["99N","RK9",19,null,null,"RYJ","03J",3]
["99N","RQ3",19,null,null,"RYJ","03L",3]
["99N","RR1",19,null,null,"RYJ","05J",3]
["99N","RA9",18,null,null,"RYJ","00D",2]
["99N","RAS",15,null,null,"RYJ","00H",2]
["99N","RGT",15,null,null,"RYJ","00P",2]
["99N","RTK",14,null,null,"RYJ","01F",2]
["99N","RA3",13,null,null,"RYJ","01T",2]
["99N","RKB",12,null,null,"RYJ","02T",2]
["99N","RBZ",11,null,null,"RYJ","03Y",2]
["99N","RLQ",11,null,null,"RYJ","05D",2]
["99N","RM1",11,null,null,"RYJ","05V",2]
["99N","RTX",11,null,null,"RYJ","00C",1]
["99N","RWD",11,null,null,"RYJ","00Q",1]
["99N","5K3",10,null,null,"RYJ","01K",1]
["99N","RD7",10,null,null,"RYJ","01X",1]
["99N","RTD",10,null,null,"RYJ","02P",1]
["99N","5QT",9,null,null,"RYJ","03K",1]
["99N","RC9",9,null,null,"RYJ","03X",1]
["99N","RL4",9,null,null,"RYJ","04H",1]
["99N","RWP",9,null,null,"RYJ","04L",1]
["99N","RXH",9,null,null,"RYK","05Y",17]
["99N","RXK",9,null,null,"RYK","05L",1]
["99N","RYQ",9,null,null,"RYK","06K",1]
["99N","NT3",8,null,null,"RYK","13P",1]
["99N","RJC",8,null,null,"RYQ","07Q",51975]
["99N","RPC",8,null,null,"RYQ","08A",32891]
["99N","RWF",8,null,null,"RYQ","07N",31995]
["99N","RXQ",8,null,null,"RYQ","99J",4081]
["99N","RXW",8,null,null,"RYQ","09J",2965]
["99N","RGQ",7,null,null,"RYQ","07V",2210]
["99N","RQ6",7,null,null,"RYQ","08L",2167]
["99N","RTR",7,null,null,"RYQ","08Q",232]
["99N","5QL",6,null,null,"RYQ","09W",178]
["99N","NTY",6,null,null,"RYQ","08K",151]
["99N","RCC",6,null,null,"RYQ","08M",81]
["99N","RDE",6,null,null,"RYQ","09L",81]
["99N","RNL",6,null,null,"RYQ","08V",62]
["99N","RQ8",6,null,null,"RYQ","09P",49]
["99N","RVL",6,null,null,"RYQ","08F",46]
["99N","RVV",6,null,null,"RYQ","10D",46]
["99N","RW3",6,null,null,"RYQ","09E",44]
["99N","RWH",6,null,null,"RYQ","10A",44]
["99N","RJD",5,null,null,"RYQ","09C",41]
["99N","RJE",5,null,null,"RYQ","07G",38]
["99N","RNA",5,null,null,"RYQ","07L",37]
["99N","RNH",5,null,null,"RYQ","08W",34]
["99N","RQX",5,null,null,"RYQ","10E",32]
["99N","RWA",5,null,null,"RYQ","08T",30]
["99N","RWE",5,null,null,"RYQ","07W",28]
["99N","RXC",5,null,null,"RYQ","08R",28]
["99N","RXL",5,null,null,"RYQ","06Q",27]
["99N","RC3",4,null,null,"RYQ","06T",26]
["99N","RCB",4,null,null,"RYQ","07P",26]
["99N","RD8",4,null,null,"RYQ","07T",26]
["99N","RDY",4,null,null,"RYQ","08X",26]
["99N","RF4",4,null,null,"RYQ","09F",26]
["99N","RFW",4,null,null,"RYQ","09G",26]
["99N","RNS",4,null,null,"RYQ","08N",25]
["99N","RPA",4,null,null,"RYQ","07M",24]
["99N","RR8",4,null,null,"RYQ","08D",24]
["99N","RTF",4,null,null,"RYQ","09A",22]
["99N","RTG",4,null,null,"RYQ","99H",22]
["99N","5QH",3,null,null,"RYQ","09D",19]
["99N","RBT",3,null,null,"RYQ","11J",19]
["99N","RCD",3,null,null,"RYQ","08H",18]
["99N","RCU",3,null,null,"RYQ","11M",18]
["99N","RDD",3,null,null,"RYQ","05A",17]
["99N","RGC",3,null,null,"RYQ","04G",16]
["99N","RGN",3,null,null,"RYQ","09Y",16]
["99N","RGR",3,null,null,"RYQ","07X",15]
["99N","RHQ",3,null,null,"RYQ","08G",15]
["99N","RJ6",3,null,null,"RYQ","08J",15]
["99N","RJL",3,null,null,"RYQ","09X",15]
["99N","RJR",3,null,null,"RYQ","99P",15]
["99N","RM3",3,null,null,"RYQ","06H",14]
["99N","RNQ",3,null,null,"RYQ","08C",14]
["99N","RW6",3,null,null,"RYQ","08P",14]
["99N","RWW",3,null,null,"RYQ","99K",14]
["99N","RXP",3,null,null,"RYQ","06K",13]
["99N","5CN",2,null,null,"RYQ","10Q",13]
["99N","NTA",2,null,null,"RYQ","99F",13]
["99N","NXM",2,null,null,"RYQ","07R",12]
["99N","RAP",2,null,null,"RYQ","11A",12]
["99N","RAX",2,null,null,"RYQ","99G",12]
["99N","RBL",2,null,null,"RYQ","06W",11]
["99N","RBN",2,null,null,"RYQ","07Y",11]
["99N","RCX",2,null,null,"RYQ","05L",10]
["99N","RJ2",2,null,null,"RYQ","07H",10]
["99N","RJF",2,null,null,"RYQ","10H",10]
["99N","RL1",2,null,null,"RYQ","10K",10]
["99N","RQQ",2,null,null,"RYQ","11N",10]
["99N","RRF",2,null,null,"RYQ","99E",10]
["99N","RRJ",2,null,null,"RYQ","99M",10]
["99N","RTP",2,null,null,"RYQ","03N",9]
["99N","RVR",2,null,null,"RYQ","04C",9]
["99N","RWG",2,null,null,"RYQ","04V",9]
["99N","RWJ",2,null,null,"RYQ","06V",9]
["99N","RX1",2,null,null,"RYQ","10J",9]
["99N","RXN",2,null,null,"RYQ","99N",9]
["99N","5F1",1,null,null,"RYQ","07J",8]
["99N","5QE",1,null,null,"RYQ","10R",8]
["99N","5QP",1,null,null,"RYQ","11X",8]
["99N","5QQ",1,null,null,"RYQ","03C",7]
["99N","RBK",1,null,null,"RYQ","04J",7]
["99N","RBV",1,null,null,"RYQ","04K",7]
["99N","RC1",1,null,null,"RYQ","06L",7]
["99N","RE9",1,null,null,"RYQ","09H",7]
["99N","REM",1,null,null,"RYQ","09N",7]
["99N","RFR",1,null,null,"RYQ","10W",7]
["99N","RGP",1,null,null,"RYQ","10X",7]
["99N","RK5",1,null,null,"RYQ","11H",7]
["99N","RKE",1,null,null,"RYQ","00J",6]
["99N","RLN",1,null,null,"RYQ","06N",6]
["99N","RLT",1,null,null,"RYQ","07K",6]
["99N","RMP",1,null,null,"RYQ","08E",6]
["99N","RQW",1,null,null,"RYQ","08Y",6]
["99N","RW1",1,null,null,"RYQ","01H",5]
["99N","RWY",1,null,null,"RYQ","03L",5]
["99P","RH8",86363,null,null,"RYQ","03T",5]
["99P","RK9",64634,null,null,"RYQ","05T",5]
["99P","RBZ",32322,null,null,"RYQ","06F",5]
["99P","5QQ",5497,null,null,"RYQ","10L",5]
["99P","RBA",2338,null,null,"RYQ","12F",5]
["99P","RA9",1751,null,null,"RYQ","00L",4]
["99P","NTC",1210,null,null,"RYQ","01D",4]
["99P","5F1",796,null,null,"RYQ","04F",4]
["99P","RA7",731,null,null,"RYQ","04R",4]
["99P","RVJ",522,null,null,"RYQ","04X",4]
["99P","NT2",238,null,null,"RYQ","05F",4]
["99P","REF",229,null,null,"RYQ","05G",4]
["99P","RRV",186,null,null,"RYQ","05N",4]
["99P","NVC",136,null,null,"RYQ","06P",4]
["99P","RT3",129,null,null,"RYQ","10G",4]
["99P","RJZ",99,null,null,"RYQ","10V",4]
["99P","RBD",92,null,null,"RYQ","10Y",4]
["99P","RJ1",88,null,null,"RYQ","13P",4]
["99P","RTE",86,null,null,"RYQ","99A",4]
["99P","RA4",85,null,null,"RYQ","00K",3]
["99P","RTH",80,null,null,"RYQ","00M",3]
["99P","RHM",75,null,null,"RYQ","00P",3]
["99P","RNJ",69,null,null,"RYQ","00W",3]
["99P","RYJ",65,null,null,"RYQ","01C",3]
["99P","RP4",63,null,null,"RYQ","01G",3]
["99P","RA3",61,null,null,"RYQ","02F",3]
["99P","RNZ",54,null,null,"RYQ","02M",3]
["99P","RJ7",53,null,null,"RYQ","03A",3]
["99P","RAN",45,null,null,"RYQ","03K",3]
["99P","5QL",44,null,null,"RYQ","03Q",3]
["99P","RRJ",44,null,null,"RYQ","03R",3]
["99P","RAL",43,null,null,"RYQ","03W",3]
["99P","RD1",43,null,null,"RYQ","04N",3]
["99P","RD3",42,null,null,"RYQ","05R",3]
["99P","RQ3",42,null,null,"RYQ","06A",3]
["99P","RPY",39,null,null,"RYQ","06Y",3]
["99P","5QP",32,null,null,"RYQ","10C",3]
["99P","RP6",32,null,null,"RYQ","12A",3]
["99P","RGM",30,null,null,"RYQ","99Q",3]
["99P","RN1",29,null,null,"RYQ","00N",2]
["99P","RQM",29,null,null,"RYQ","00R",2]
["99P","RV8",29,null,null,"RYQ","00T",2]
["99P","RDU",28,null,null,"RYQ","01E",2]
["99P","RKB",28,null,null,"RYQ","01K",2]
["99P","RDZ",26,null,null,"RYQ","01N",2]
["99P","RGT",26,null,null,"RYQ","01Y",2]
["99P","RHW",26,null,null,"RYQ","02D",2]
["99P","RQ6",26,null,null,"RYQ","02H",2]
["99P","RRK",25,null,null,"RYQ","02Q",2]
["99P","RVV",25,null,null,"RYQ","02R",2]
["99P","RTP",23,null,null,"RYQ","02X",2]
["99P","RWP",23,null,null,"RYQ","03D",2]
["99P","RHU",22,null,null,"RYQ","03F",2]
["99P","RNS",21,null,null,"RYQ","03J",2]
["99P","RN5",20,null,null,"RYQ","04D",2]
["99P","RR1",18,null,null,"RYQ","04H",2]
["99P","RN3",17,null,null,"RYQ","04Q",2]
["99P","RVR",17,null,null,"RYQ","05P",2]
["99P","RXK",17,null,null,"RYQ","06M",2]
["99P","RBF",16,null,null,"RYQ","10M",2]
["99P","RC3",16,null,null,"RYQ","11D",2]
["99P","RR8",16,null,null,"RYQ","11E",2]
["99P","RAS",15,null,null,"RYQ","11T",2]
["99P","RVL",15,null,null,"RYQ","99C",2]
["99P","RWA",15,null,null,"RYQ","99D",2]
["99P","RXQ",15,null,null,"RYQ","00C",1]
["99P","RYQ",15,null,null,"RYQ","00D",1]
["99P","RBB",14,null,null,"RYQ","00H",1]
["99P","RJC",14,null,null,"RYQ","00Q",1]
["99P","RQ8",14,null,null,"RYQ","00V",1]
["99P","RAX",13,null,null,"RYQ","00X",1]
["99P","RJ2",13,null,null,"RYQ","01A",1]
["99P","RLQ",13,null,null,"RYQ","01M",1]
["99P","RTD",13,null,null,"RYQ","01T",1]
["99P","RTK",13,null,null,"RYQ","01W",1]
["99P","RD8",12,null,null,"RYQ","02T",1]
["99P","RFR",12,null,null,"RYQ","02V",1]
["99P","RGQ",12,null,null,"RYQ","02Y",1]
["99P","RJD",12,null,null,"RYQ","03G",1]
["99P","RTX",12,null,null,"RYQ","03H",1]
["99P","RTG",11,null,null,"RYQ","03M",1]
["99P","RXC",11,null,null,"RYQ","04L",1]
["99P","RXH",11,null,null,"RYQ","04M",1]
["99P","RXP",11,null,null,"RYQ","05H",1]
["99P","RM2",10,null,null,"RYQ","05J",1]
["99P","RX1",10,null,null,"RYQ","05Q",1]
["99P","RAP",9,null,null,"RYQ","05W",1]
["99P","RWD",9,null,null,"RYQ","05Y",1]
["99P","RWF",9,null,null,"RYQ","06D",1]
["99P","RYR",9,null,null,"RYQ","10T",1]
["99P","RA2",8,null,null,"RYQ","11C",1]
["99P","RFW",8,null,null,"RYQ","12D",1]
["99P","RGC",8,null,null,"RYR","09G",88899]
["99P","RJ6",8,null,null,"RYR","10V",1959]
["99P","RJN",8,null,null,"RYR","09X",1734]
["99P","RKE",8,null,null,"RYR","09D",1461]
["99P","RM1",8,null,null,"RYR","10R",205]
["99P","RVN",8,null,null,"RYR","09N",147]
["99P","RW3",8,null,null,"RYR","09H",110]
["99P","RXW",8,null,null,"RYR","10K",103]
["99P","RD7",7,null,null,"RYR","99H",72]
["99P","RDE",7,null,null,"RYR","11A",69]
["99P","RL4",7,null,null,"RYR","09F",66]
["99P","RNA",7,null,null,"RYR","99K",65]
["99P","RP5",7,null,null,"RYR","09L",58]
["99P","RWH",7,null,null,"RYR","99J",50]
["99P","RXL",7,null,null,"RYR","10L",42]
["99P","RXR",7,null,null,"RYR","09Y",41]
["99P","5QM",6,null,null,"RYR","07V",35]
["99P","RBT",6,null,null,"RYR","10J",35]
["99P","RGN",6,null,null,"RYR","11J",34]
["99P","RGR",6,null,null,"RYR","99M",34]
["99P","RHQ",6,null,null,"RYR","09P",33]
["99P","RJE",6,null,null,"RYR","10X",32]
["99P","RM3",6,null,null,"RYR","99N",30]
["99P","RNH",6,null,null,"RYR","08T",27]
["99P","RPA",6,null,null,"RYR","10A",27]
["99P","RPC",6,null,null,"RYR","08R",26]
["99P","RQX",6,null,null,"RYR","09W",26]
["99P","RTR",6,null,null,"RYR","09C",25]
["99P","RWV",6,null,null,"RYR","08G",22]
["99P","RXN",6,null,null,"RYR","09J",22]
["99P","RBK",5,null,null,"RYR","08X",21]
["99P","RBN",5,null,null,"RYR","06N",20]
["99P","RC1",5,null,null,"RYR","02A",18]
["99P","RC9",5,null,null,"RYR","07W",18]
["99P","RJF",5,null,null,"RYR","07Q",17]
["99P","RJL",5,null,null,"RYR","07Y",17]
["99P","RRF",5,null,null,"RYR","08P",17]
["99P","RTF",5,null,null,"RYR","07R",16]
["99P","RWE",5,null,null,"RYR","08L",16]
["99P","5QT",4,null,null,"RYR","08Y",16]
["99P","NTP",4,null,null,"RYR","10E",16]
["99P","RBL",4,null,null,"RYR","08J",15]
["99P","RBS",4,null,null,"RYR","10H",15]
["99P","RCF",4,null,null,"RYR","08K",14]
["99P","REM",4,null,null,"RYR","09E",14]
["99P","RF4",4,null,null,"RYR","10Q",14]
["99P","RFS",4,null,null,"RYR","11D",14]
["99P","RGP",4,null,null,"RYR","06K",13]
["99P","RJR",4,null,null,"RYR","10G",13]
["99P","RMC",4,null,null,"RYR","11M",13]
["99P","RQW",4,null,null,"RYR","08Q",12]
["99P","RW6",4,null,null,"RYR","07N",11]
["99P","RWJ",4,null,null,"RYR","10M",11]
["99P","RWY",4,null,null,"RYR","04G",10]
["99P","RCD",3,null,null,"RYR","06L",10]
["99P","RCU",3,null,null,"RYR","10Y",10]
["99P","RCX",3,null,null,"RYR","06Q",9]
["99P","RNL",3,null,null,"RYR","08V",9]
["99P","RNQ",3,null,null,"RYR","11N",9]
["99P","RVY",3,null,null,"RYR","99F",9]
["99P","RWG",3,null,null,"RYR","99P",9]
["99P","RWW",3,null,null,"RYR","01H",8]
["99P","TAL",3,null,null,"RYR","06F",8]
["99P","5QC",2,null,null,"RYR","08C",8]
["99P","5QH",2,null,null,"RYR","08H",8]
["99P","NT3",2,null,null,"RYR","10C",8]
["99P","NT4",2,null,null,"RYR","03W",7]
["99P","RAE",2,null,null,"RYR","04R",7]
["99P","RAJ",2,null,null,"RYR","06H",7]
["99P","RDD",2,null,null,"RYR","07G",7]
["99P","RK5",2,null,null,"RYR","07H",7]
["99P","RL1",2,null,null,"RYR","08N",7]
["99P","RLT",2,null,null,"RYR","10T",7]
["99P","RN7",2,null,null,"RYR","11C",7]
["99P","RVW",2,null,null,"RYR","13P",7]
["99P","RXF",2,null,null,"RYR","04F",6]
["99P","5AT",1,null,null,"RYR","05C",6]
["99P","5C4",1,null,null,"RYR","05R",6]
["99P","5CQ",1,null,null,"RYR","06T",6]
["99P","5QA",1,null,null,"RYR","07M",6]
["99P","NTA",1,null,null,"RYR","07T",6]
["99P","NTE",1,null,null,"RYR","08F",6]
["99P","NXM",1,null,null,"RYR","09A",6]
["99P","RBV",1,null,null,"RYR","10W",6]
["99P","RCB",1,null,null,"RYR","11X",6]
["99P","RCC",1,null,null,"RYR","00K",5]
["99P","RFF",1,null,null,"RYR","04V",5]
["99P","RLN",1,null,null,"RYR","05N",5]
["99P","RM4",1,null,null,"RYR","06Y",5]
["99P","RMP",1,null,null,"RYR","07X",5]
["99P","RQQ",1,null,null,"RYR","08A",5]
["99P","RYV",1,null,null,"RYR","08E",5]
["99Q","RA9",52430,null,null,"RYR","08W",5]
["99Q","RH8",5243,null,null,"RYR","10D",5]
["99Q","5QQ",2212,null,null,"RYR","11H",5]
["99Q","NVC",1927,null,null,"RYR","99Q",5]
["99Q","RK9",1385,null,null,"RYR","00P",4]
["99Q","TAL",951,null,null,"RYR","02X",4]
["99Q","RA7",259,null,null,"RYR","03T",4]
["99Q","RVJ",154,null,null,"RYR","04X",4]
["99Q","RBA",105,null,null,"RYR","06A",4]
["99Q","NTC",77,null,null,"RYR","06M",4]
["99Q","RRV",58,null,null,"RYR","07K",4]
["99Q","REF",50,null,null,"RYR","07P",4]
["99Q","RWV",37,null,null,"RYR","08D",4]
["99Q","RBZ",32,null,null,"RYR","08M",4]
["99Q","RT3",28,null,null,"RYR","01T",3]
["99Q","RNZ",25,null,null,"RYR","02E",3]
["99Q","RA3",24,null,null,"RYR","03G",3]
["99Q","RD1",23,null,null,"RYR","04D",3]
["99Q","RHM",23,null,null,"RYR","04N",3]
["99Q","RJ1",23,null,null,"RYR","05G",3]
["99Q","RTH",21,null,null,"RYR","05Y",3]
["99Q","RJ7",19,null,null,"RYR","06P",3]
["99Q","RTE",19,null,null,"RYR","06W",3]
["99Q","RJZ",18,null,null,"RYR","10N",3]
["99Q","RYJ",18,null,null,"RYR","11T",3]
["99Q","5F1",16,null,null,"RYR","12F",3]
["99Q","RPY",16,null,null,"RYR","99E",3]
["99Q","RP4",15,null,null,"RYR","99G",3]
["99Q","RQ3",15,null,null,"RYR","00D",2]
["99Q","RRJ",15,null,null,"RYR","00J",2]
["99Q","RHU",14,null,null,"RYR","00M",2]
["99Q","RNJ",14,null,null,"RYR","00R",2]
["99Q","RRK",14,null,null,"RYR","01Y",2]
["99Q","RAN",13,null,null,"RYR","02D",2]
["99Q","RQ6",13,null,null,"RYR","02F",2]
["99Q","RXQ",13,null,null,"RYR","02Q",2]
["99Q","RR1",11,null,null,"RYR","02R",2]
["99Q","RAL",10,null,null,"RYR","03C",2]
["99Q","RGT",10,null,null,"RYR","03L",2]
["99Q","RA2",9,null,null,"RYR","04Y",2]
["99Q","RBB",9,null,null,"RYR","05T",2]
["99Q","RD3",9,null,null,"RYR","11E",2]
["99Q","RDZ",9,null,null,"RYR","12A",2]
["99Q","RAS",8,null,null,"RYR","99A",2]
["99Q","RBD",8,null,null,"RYR","00L",1]
["99Q","RGM",8,null,null,"RYR","00N",1]
["99Q","RHQ",8,null,null,"RYR","00Q",1]
["99Q","RJ2",8,null,null,"RYR","00V",1]
["99Q","RL4",8,null,null,"RYR","00W",1]
["99Q","RQM",8,null,null,"RYR","00X",1]
["99Q","RTP",8,null,null,"RYR","01C",1]
["99Q","RD7",7,null,null,"RYR","01D",1]
["99Q","RDU",7,null,null,"RYR","01F",1]
["99Q","RJC",7,null,null,"RYR","01J",1]
["99Q","RKE",7,null,null,"RYR","01M",1]
["99Q","RP6",7,null,null,"RYR","01N",1]
["99Q","RV8",7,null,null,"RYR","02G",1]
["99Q","RXH",7,null,null,"RYR","02M",1]
["99Q","RXK",7,null,null,"RYR","02V",1]
["99Q","RA4",6,null,null,"RYR","02Y",1]
["99Q","RAE",6,null,null,"RYR","03A",1]
["99Q","RR8",6,null,null,"RYR","03K",1]
["99Q","RVR",6,null,null,"RYR","03N",1]
["99Q","RWA",6,null,null,"RYR","03X",1]
["99Q","RWP",6,null,null,"RYR","04H",1]
["99Q","RXC",6,null,null,"RYR","04J",1]
["99Q","RAX",5,null,null,"RYR","04K",1]
["99Q","RKB",5,null,null,"RYR","04L",1]
["99Q","RM2",5,null,null,"RYR","04Q",1]
["99Q","RNS",5,null,null,"RYR","05A",1]
["99Q","RTF",5,null,null,"RYR","05D",1]
["99Q","RVL",5,null,null,"RYR","05F",1]
["99Q","RWE",5,null,null,"RYR","05H",1]
["99Q","RYR",5,null,null,"RYR","05J",1]
["99Q","RBF",4,null,null,"RYR","05L",1]
["99Q","RGC",4,null,null,"RYR","05Q",1]
["99Q","RN1",4,null,null,"RYR","05W",1]
["99Q","RTD",4,null,null,"RYR","05X",1]
["99Q","RTG",4,null,null,"RYR","06D",1]
["99Q","RWD",4,null,null,"RYR","07J",1]
["99Q","RX1",4,null,null,"RYR","07L",1]
["99Q","RXF",4,null,null,"RYR","12D",1]
["99Q","RXW",4,null,null,"RYR","99D",1]
["99Q","NT3",3,null,null,"RYV","06H",3662]
["99Q","RCB",3,null,null,"RYV","06F",16]
["99Q","RDE",3,null,null,"RYV","07H",14]
["99Q","RJF",3,null,null,"RYV","07J",11]
["99Q","RJR",3,null,null,"RYV","99D",10]
["99Q","RM3",3,null,null,"RYV","04G",9]
["99Q","RN5",3,null,null,"RYV","04D",4]
["99Q","RNL",3,null,null,"RYV","04H",3]
["99Q","RTR",3,null,null,"RYV","06K",3]
["99Q","RVV",3,null,null,"RYV","06N",2]
["99Q","RWW",3,null,null,"RYV","06P",2]
["99Q","RXR",3,null,null,"RYV","11M",2]
["99Q","RYQ",3,null,null,"RYV","02G",1]
["99Q","5QH",2,null,null,"RYV","02H",1]
["99Q","5QP",2,null,null,"RYV","02X",1]
["99Q","5QT",2,null,null,"RYV","03C",1]
["99Q","NT2",2,null,null,"RYV","03T",1]
["99Q","NTP",2,null,null,"RYV","04N",1]
["99Q","RC1",2,null,null,"RYV","04Q",1]
["99Q","RC3",2,null,null,"RYV","04R",1]
["99Q","RCD",2,null,null,"RYV","04V",1]
["99Q","RDD",2,null,null,"RYV","06M",1]
["99Q","RDY",2,null,null,"RYV","06T",1]
["99Q","RHW",2,null,null,"RYV","06Y",1]
["99Q","RJ6",2,null,null,"RYV","07K",1]
["99Q","RJD",2,null,null,"RYV","07Q",1]
["99Q","RJL",2,null,null,"RYV","08J",1]
["99Q","RK5",2,null,null,"RYV","08M",1]
["99Q","RLQ",2,null,null,"RYV","08P",1]
["99Q","RM1",2,null,null,"RYV","09D",1]
["99Q","RN3",2,null,null,"RYV","10X",1]
["99Q","RNH",2,null,null,"RYV","11H",1]
["99Q","RQ8",2,null,null,"RYV","11X",1]
["99Q","RQQ",2,null,null,"RYV","13P",1]
["99Q","RQW",2,null,null,"RYV","99E",1]
["99Q","RQX",2,null,null,"RYV","99P",1]
["99Q","RRF",2,null,null,"RYW","13P",791]
["99Q","RVN",2,null,null,"RYW","04X",406]
["99Q","RVY",2,null,null,"RYW","05L",300]
["99Q","RW6",2,null,null,"RYW","05J",71]
["99Q","RWH",2,null,null,"RYW","05P",70]
["99Q","RXL",2,null,null,"RYW","05Q",48]
["99Q","RXN",2,null,null,"RYW","05Y",27]
["99Q","5J2",1,null,null,"RYW","05C",25]
["99Q","5QC",1,null,null,"RYW","06A",20]
["99Q","5QL",1,null,null,"RYW","05T",17]
["99Q","NT4",1,null,null,"RYW","05R",12]
["99Q","RAJ",1,null,null,"RYW","06D",11]
["99Q","RAP",1,null,null,"RYW","05H",8]
["99Q","RBL",1,null,null,"RYW","04Y",7]
["99Q","RBN",1,null,null,"RYW","05A",7]
["99Q","RBT",1,null,null,"RYW","05F",5]
["99Q","RC9",1,null,null,"RYW","05V",5]
["99Q","RCF",1,null,null,"RYW","04R",3]
["99Q","RCU",1,null,null,"RYW","03T",2]
["99Q","RF4",1,null,null,"RYW","04N",2]
["99Q","RFF",1,null,null,"RYW","05G",2]
["99Q","RFS",1,null,null,"RYW","05N",2]
["99Q","RFW",1,null,null,"RYW","05X",2]
["99Q","RGN",1,null,null,"RYW","03W",1]
["99Q","RGQ",1,null,null,"RYW","04G",1]
["99Q","RGR",1,null,null,"RYW","05W",1]
["99Q","RJE",1,null,null,"RYW","08Q",1]
["99Q","RJN",1,null,null,"RYW","09G",1]
["99Q","RMP",1,null,null,"RYW","11H",1]
["99Q","RNA",1,null,null,"RYW","11M",1]
["99Q","RPA",1,null,null,"TAH","03N",169]
["99Q","RTK",1,null,null,"TAH","04J",1]
["99Q","RW3",1,null,null,"TAH","06A",1]
["99Q","RWG",1,null,null,"TAL","99Q",951]
["99Q","RWJ",1,null,null,"TAL","99P",3]
["99Q","RXT",1,null,null,"TAL","04C",2]

{"sheet":"CCG List","index":4,"n_rows":289,"n_cols":43,"rows_kept":289,"cut":false,"hidden":true,"merged":[]}
[]
["CCG Code","CCG Name",null,"ProvCount","Prov1","Prov2","Prov3","Prov4","Prov5","Prov6","Prov7","Prov8","Prov9","Prov10",null,null,"Provcode","Provname","CCGcount",null,null,"ProvCount","Prov1","Prov2","Prov3","Prov4","Prov5",null,null,null,"CCGcount",null,null,"ProvCount","Prov1","Prov2","Prov3","Prov4","Prov5",null,null,null,"CCGcount"]
["02N","Airedale, Wharfedale & Craven",{"$f":"SUM(IF(('CCG-Prov(Acute)'!$A$2:$A$29012=A3),1,0))","v":118},{"$f":"SUM(IF(('CCG-Prov(Acute)'!$A$2:$A$29012=A3)*('CCG-Prov(Acute)'!$C$2:$C$29012>=Acute!$B$7),1,0))","v":4},{"$f":"IF(VALUE(MID(E$2,5,2))<=$D3,OFFSET('CCG-Prov(Acute)'!$B$1,MATCH($A3,'CCG-Prov(Acute)'!$A$2:$A$29012,0)+VALUE(RIGHT(E$2,1))-1,0),\"\")","v":"RCF"},{"$f":"IF(VALUE(MID(F$2,5,2))<=$D3,OFFSET('CCG-Prov(Acute)'!$B$1,MATCH($A3,'CCG-Prov(Acute)'!$A$2:$A$29012,0)+VALUE(RIGHT(F$2,1))-1,0),\"\")","v":"RAE"},{"$f":"IF(VALUE(MID(G$2,5,2))<=$D3,OFFSET('CCG-Prov(Acute)'!$B$1,MATCH($A3,'CCG-Prov(Acute)'!$A$2:$A$29012,0)+VALUE(RIGHT(G$2,1))-1,0),\"\")","v":"RR8"},{"$f":"IF(VALUE(MID(H$2,5,2))<=$D3,OFFSET('CCG-Prov(Acute)'!$B$1,MATCH($A3,'CCG-Prov(Acute)'!$A$2:$A$29012,0)+VALUE(RIGHT(H$2,1))-1,0),\"\")","v":"NVC"},{"$f":"IF(VALUE(MID(I$2,5,2))<=$D3,OFFSET('CCG-Prov(Acute)'!$B$1,MATCH($A3,'CCG-Prov(Acute)'!$A$2:$A$29012,0)+VALUE(RIGHT(I$2,1))-1,0),\"\")","v":""},{"$f":"IF(VALUE(MID(J$2,5,2))<=$D3,OFFSET('CCG-Prov(Acute)'!$B$1,MATCH($A3,'CCG-Prov(Acute)'!$A$2:$A$29012,0)+VALUE(RIGHT(J$2,1))-1,0),\"\")","v":""},{"$f":"IF(VALUE(MID(K$2,5,2))<=$D3,OFFSET('CCG-Prov(Acute)'!$B$1,MATCH($A3,'CCG-Prov(Acute)'!$A$2:$A$29012,0)+VALUE(RIGHT(K$2,1))-1,0),\"\")","v":""},{"$f":"IF(VALUE(MID(L$2,5,2))<=$D3,OFFSET('CCG-Prov(Acute)'!$B$1,MATCH($A3,'CCG-Prov(Acute)'!$A$2:$A$29012,0)+VALUE(RIGHT(L$2,1))-1,0),\"\")","v":""},{"$f":"IF(VALUE(MID(M$2,5,2))<=$D3,OFFSET('CCG-Prov(Acute)'!$B$1,MATCH($A3,'CCG-Prov(Acute)'!$A$2:$A$29012,0)+VALUE(RIGHT(M$2,1))-1,0),\"\")","v":""},{"$f":"IF(VALUE(MID(N$2,5,2))<=$D3,OFFSET('CCG-Prov(Acute)'!$B$1,MATCH($A3,'CCG-Prov(Acute)'!$A$2:$A$29012,0)+VALUE(RIGHT(N$2,1))-1,0),\"\")","v":""},null,null,"5A3",{"$f":"VLOOKUP(Q3,provnames!$A$2:$B$331,2,0)","v":"South Gloucestershire PCT"},{"$f":"SUM(IF(('CCG-Prov(Acute)'!$B$2:$B$28899=Q3),1,0))","v":2},null,{"$f":"SUM(IF(('CCG-Prov(Amb)'!$A$2:$A$335=A3),1,0))","v":2},{"$f":"SUM(IF(('CCG-Prov(Amb)'!$A$2:$A$335=A3)*('CCG-Prov(Amb)'!$C$2:$C$335>=Ambulance!$B$7),1,0))","v":1},{"$f":"IF(VALUE(MID(W$2,5,2))<=$V3,OFFSET('CCG-Prov(Amb)'!$B$1,MATCH($A3,'CCG-Prov(Amb)'!$A$2:$A$335,0)+VALUE(RIGHT(W$2,1))-1,0),\"\")","v":"RX8"},{"$f":"IF(VALUE(MID(X$2,5,2))<=$V3,OFFSET('CCG-Prov(Amb)'!$B$1,MATCH($A3,'CCG-Prov(Amb)'!$A$2:$A$335,0)+VALUE(RIGHT(X$2,1))-1,0),\"\")","v":""},{"$f":"IF(VALUE(MID(Y$2,5,2))<=$V3,OFFSET('CCG-Prov(Amb)'!$B$1,MATCH($A3,'CCG-Prov(Amb)'!$A$2:$A$335,0)+VALUE(RIGHT(Y$2,1))-1,0),\"\")","v":""},{"$f":"IF(VALUE(MID(Z$2,5,2))<=$V3,OFFSET('CCG-Prov(Amb)'!$B$1,MATCH($A3,'CCG-Prov(Amb)'!$A$2:$A$335,0)+VALUE(RIGHT(Z$2,1))-1,0),\"\")","v":""},{"$f":"IF(VALUE(MID(AA$2,5,2))<=$V3,OFFSET('CCG-Prov(Amb)'!$B$1,MATCH($A3,'CCG-Prov(Amb)'!$A$2:$A$335,0)+VALUE(RIGHT(AA$2,1))-1,0),\"\")","v":""},null,"5QT","Isle of Wight (Ambulance)",{"$f":"SUM(IF(('CCG-Prov(Amb)'!$B$2:$B$335=AC3),1,0))","v":1},null,{"$f":"SUM(IF(('CCG-Prov(Births)'!$A$2:$A$6150=A3),1,0))","v":13},{"$f":"SUM(IF(('CCG-Prov(Births)'!$A$2:$A$6150=A3)*('CCG-Prov(Births)'!$C$2:$C$6150>=Maternity!$B$7),1,0))","v":1},{"$f":"IF(VALUE(MID(AI$2,5,2))<=$V3,OFFSET('CCG-Prov(Births)'!$B$1,MATCH($A3,'CCG-Prov(Births)'!$A$2:$A$6150,0)+VALUE(RIGHT(AI$2,1))-1,0),\"\")","v":"RCF"},{"$f":"IF(VALUE(MID(AJ$2,5,2))<=$V3,OFFSET('CCG-Prov(Births)'!$B$1,MATCH($A3,'CCG-Prov(Births)'!$A$2:$A$6150,0)+VALUE(RIGHT(AJ$2,1))-1,0),\"\")","v":""},{"$f":"IF(VALUE(MID(AK$2,5,2))<=$V3,OFFSET('CCG-Prov(Births)'!$B$1,MATCH($A3,'CCG-Prov(Births)'!$A$2:$A$6150,0)+VALUE(RIGHT(AK$2,1))-1,0),\"\")","v":""},{"$f":"IF(VALUE(MID(AL$2,5,2))<=$V3,OFFSET('CCG-Prov(Births)'!$B$1,MATCH($A3,'CCG-Prov(Births)'!$A$2:$A$6150,0)+VALUE(RIGHT(AL$2,1))-1,0),\"\")","v":""},{"$f":"IF(VALUE(MID(AM$2,5,2))<=$V3,OFFSET('CCG-Prov(Births)'!$B$1,MATCH($A3,'CCG-Prov(Births)'!$A$2:$A$6150,0)+VALUE(RIGHT(AM$2,1))-1,0),\"\")","v":""},null,"5CN",{"$f":"VLOOKUP(AO3,provnames!$A$2:$B$331,2,0)","v":"Herefordshire PCT"},{"$f":"SUM(IF(('CCG-Prov(Births)'!$B$2:$B$6150=AO3),1,0))","v":1}]
["09C","Ashford",{"$f":"SUM(IF(('CCG-Prov(Acute)'!$A$2:$A$29012=A4),1,0))","v":110},{"$f":"SUM(IF(('CCG-Prov(Acute)'!$A$2:$A$29012=A4)*('CCG-Prov(Acute)'!$C$2:$C$29012>=Acute!$B$7),1,0))","v":3},{"$f":"IF(VALUE(MID(E$2,5,2))<=$D4,OFFSET('CCG-Prov(Acute)'!$B$1,MATCH($A4,'CCG-Prov(Acute)'!$A$2:$A$29012,0)+VALUE(RIGHT(E$2,1))-1,0),\"\")","v":"RVV"},{"$f":"IF(VALUE(MID(F$2,5,2))<=$D4,OFFSET('CCG-Prov(Acute)'!$B$1,MATCH($A4,'CCG-Prov(Acute)'!$A$2:$A$29012,0)+VALUE(RIGHT(F$2,1))-1,0),\"\")","v":"NTY"},{"$f":"IF(VALUE(MID(G$2,5,2))<=$D4,OFFSET('CCG-Prov(Acute)'!$B$1,MATCH($A4,'CCG-Prov(Acute)'!$A$2:$A$29012,0)+VALUE(RIGHT(G$2,1))-1,0),\"\")","v":"NWF"},{"$f":"IF(VALUE(MID(H$2,5,2))<=$D4,OFFSET('CCG-Prov(Acute)'!$B$1,MATCH($A4,'CCG-Prov(Acute)'!$A$2:$A$29012,0)+VALUE(RIGHT(H$2,1))-1,0),\"\")","v":""},{"$f":"IF(VALUE(MID(I$2,5,2))<=$D4,OFFSET('CCG-Prov(Acute)'!$B$1,MATCH($A4,'CCG-Prov(Acute)'!$A$2:$A$29012,0)+VALUE(RIGHT(I$2,1))-1,0),\"\")","v":""},{"$f":"IF(VALUE(MID(J$2,5,2))<=$D4,OFFSET('CCG-Prov(Acute)'!$B$1,MATCH($A4,'CCG-Prov(Acute)'!$A$2:$A$29012,0)+VALUE(RIGHT(J$2,1))-1,0),\"\")","v":""},{"$f":"IF(VALUE(MID(K$2,5,2))<=$D4,OFFSET('CCG-Prov(Acute)'!$B$1,MATCH($A4,'CCG-Prov(Acute)'!$A$2:$A$29012,0)+VALUE(RIGHT(K$2,1))-1,0),\"\")","v":""},{"$f":"IF(VALUE(MID(L$2,5,2))<=$D4,OFFSET('CCG-Prov(Acute)'!$B$1,MATCH($A4,'CCG-Prov(Acute)'!$A$2:$A$29012,0)+VALUE(RIGHT(L$2,1))-1,0),\"\")","v":""},{"$f":"IF(VALUE(MID(M$2,5,2))<=$D4,OFFSET('CCG-Prov(Acute)'!$B$1,MATCH($A4,'CCG-Prov(Acute)'!$A$2:$A$29012,0)+VALUE(RIGHT(M$2,1))-1,0),\"\")","v":""},{"$f":"IF(VALUE(MID(N$2,5,2))<=$D4,OFFSET('CCG-Prov(Acute)'!$B$1,MATCH($A4,'CCG-Prov(Acute)'!$A$2:$A$29012,0)+VALUE(RIGHT(N$2,1))-1,0),\"\")","v":""},null,null,"5A4",{"$f":"VLOOKUP(Q4,provnames!$A$2:$B$331,2,0)","v":"Havering PCT"},{"$f":"SUM(IF(('CCG-Prov(Acute)'!$B$2:$B$28899=Q4),1,0))","v":3},null,{"$f":"SUM(IF(('CCG-Prov(Amb)'!$A$2:$A$335=A4),1,0))","v":1},{"$f":"SUM(IF(('CCG-Prov(Amb)'!$A$2:$A$335=A4)*('CCG-Prov(Amb)'!$C$2:$C$335>=Ambulance!$B$7),1,0))","v":1},{"$f":"IF(VALUE(MID(W$2,5,2))<=$V4,OFFSET('CCG-Prov(Amb)'!$B$1,MATCH($A4,'CCG-Prov(Amb)'!$A$2:$A$335,0)+VALUE(RIGHT(W$2,1))-1,0),\"\")","v":"RYD"},{"$f":"IF(VALUE(MID(X$2,5,2))<=$V4,OFFSET('CCG-Prov(Amb)'!$B$1,MATCH($A4,'CCG-Prov(Amb)'!$A$2:$A$335,0)+VALUE(RIGHT(X$2,1))-1,0),\"\")","v":""},{"$f":"IF(VALUE(MID(Y$2,5,2))<=$V4,OFFSET('CCG-Prov(Amb)'!$B$1,MATCH($A4,'CCG-Prov(Amb)'!$A$2:$A$335,0)+VALUE(RIGHT(Y$2,1))-1,0),\"\")","v":""},{"$f":"IF(VALUE(MID(Z$2,5,2))<=$V4,OFFSET('CCG-Prov(Amb)'!$B$1,MATCH($A4,'CCG-Prov(Amb)'!$A$2:$A$335,0)+VALUE(RIGHT(Z$2,1))-1,0),\"\")","v":""},{"$f":"IF(VALUE(MID(AA$2,5,2))<=$V4,OFFSET('CCG-Prov(Amb)'!$B$1,MATCH($A4,'CCG-Prov(Amb)'!$A$2:$A$335,0)+VALUE(RIGHT(AA$2,1))-1,0),\"\")","v":""},null,"RRY","London (Ambulance)",{"$f":"SUM(IF(('CCG-Prov(Amb)'!$B$2:$B$335=AC4),1,0))","v":43},null,{"$f":"SUM(IF(('CCG-Prov(Births)'!$A$2:$A$6150=A4),1,0))","v":14},{"$f":"SUM(IF(('CCG-Prov(Births)'!$A$2:$A$6150=A4)*('CCG-Prov(Births)'!$C$2:$C$6150>=Maternity!$B$7),1,0))","v":1},{"$f":"IF(VALUE(MID(AI$2,5,2))<=$V4,OFFSET('CCG-Prov(Births)'!$B$1,MATCH($A4,'CCG-Prov(Births)'!$A$2:$A$6150,0)+VALUE(RIGHT(AI$2,1))-1,0),\"\")","v":"RVV"},{"$f":"IF(VALUE(MID(AJ$2,5,2))<=$V4,OFFSET('CCG-Prov(Births)'!$B$1,MATCH($A4,'CCG-Prov(Births)'!$A$2:$A$6150,0)+VALUE(RIGHT(AJ$2,1))-1,0),\"\")","v":""},{"$f":"IF(VALUE(MID(AK$2,5,2))<=$V4,OFFSET('CCG-Prov(Births)'!$B$1,MATCH($A4,'CCG-Prov(Births)'!$A$2:$A$6150,0)+VALUE(RIGHT(AK$2,1))-1,0),\"\")","v":""},{"$f":"IF(VALUE(MID(AL$2,5,2))<=$V4,OFFSET('CCG-Prov(Births)'!$B$1,MATCH($A4,'CCG-Prov(Births)'!$A$2:$A$6150,0)+VALUE(RIGHT(AL$2,1))-1,0),\"\")","v":""},{"$f":"IF(VALUE(MID(AM$2,5,2))<=$V4,OFFSET('CCG-Prov(Births)'!$B$1,MATCH($A4,'CCG-Prov(Births)'!$A$2:$A$6150,0)+VALUE(RIGHT(AM$2,1))-1,0),\"\")","v":""},null,"5M2",{"$f":"VLOOKUP(AO4,provnames!$A$2:$B$331,2,0)","v":"Shropshire County PCT"},{"$f":"SUM(IF(('CCG-Prov(Births)'!$B$2:$B$6150=AO4),1,0))","v":0}]
["10Y","Aylesbury Vale",{"$f":"SUM(IF(('CCG-Prov(Acute)'!$A$2:$A$29012=A5),1,0))","v":151},{"$f":"SUM(IF(('CCG-Prov(Acute)'!$A$2:$A$29012=A5)*('CCG-Prov(Acute)'!$C$2:$C$29012>=Acute!$B$7),1,0))","v":5},{"$f":"IF(VALUE(MID(E$2,5,2))<=$D5,OFFSET('CCG-Prov(Acute)'!$B$1,MATCH($A5,'CCG-Prov(Acute)'!$A$2:$A$29012,0)+VALUE(RIGHT(E$2,1))-1,0),\"\")","v":"RXQ"},{"$f":"IF(VALUE(MID(F$2,5,2))<=$D5,OFFSET('CCG-Prov(Acute)'!$B$1,MATCH($A5,'CCG-Prov(Acute)'!$A$2:$A$29012,0)+VALUE(RIGHT(F$2,1))-1,0),\"\")","v":"RTH"},{"$f":"IF(VALUE(MID(G$2,5,2))<=$D5,OFFSET('CCG-Prov(Acute)'!$B$1,MATCH($A5,'CCG-Prov(Acute)'!$A$2:$A$29012,0)+VALUE(RIGHT(G$2,1))-1,0),\"\")","v":"RD8"},{"$f":"IF(VALUE(MID(H$2,5,2))<=$D5,OFFSET('CCG-Prov(Acute)'!$B$1,MATCH($A5,'CCG-Prov(Acute)'!$A$2:$A$29012,0)+VALUE(RIGHT(H$2,1))-1,0),\"\")","v":"5QD"},{"$f":"IF(VALUE(MID(I$2,5,2))<=$D5,OFFSET('CCG-Prov(Acute)'!$B$1,MATCH($A5,'CCG-Prov(Acute)'!$A$2:$A$29012,0)+VALUE(RIGHT(I$2,1))-1,0),\"\")","v":"RC9"},{"$f":"IF(VALUE(MID(J$2,5,2))<=$D5,OFFSET('CCG-Prov(Acute)'!$B$1,MATCH($A5,'CCG-Prov(Acute)'!$A$2:$A$29012,0)+VALUE(RIGHT(J$2,1))-1,0),\"\")","v":""},{"$f":"IF(VALUE(MID(K$2,5,2))<=$D5,OFFSET('CCG-Prov(Acute)'!$B$1,MATCH($A5,'CCG-Prov(Acute)'!$A$2:$A$29012,0)+VALUE(RIGHT(K$2,1))-1,0),\"\")","v":""},{"$f":"IF(VALUE(MID(L$2,5,2))<=$D5,OFFSET('CCG-Prov(Acute)'!$B$1,MATCH($A5,'CCG-Prov(Acute)'!$A$2:$A$29012,0)+VALUE(RIGHT(L$2,1))-1,0),\"\")","v":""},{"$f":"IF(VALUE(MID(M$2,5,2))<=$D5,OFFSET('CCG-Prov(Acute)'!$B$1,MATCH($A5,'CCG-Prov(Acute)'!$A$2:$A$29012,0)+VALUE(RIGHT(M$2,1))-1,0),\"\")","v":""},{"$f":"IF(VALUE(MID(N$2,5,2))<=$D5,OFFSET('CCG-Prov(Acute)'!$B$1,MATCH($A5,'CCG-Prov(Acute)'!$A$2:$A$29012,0)+VALUE(RIGHT(N$2,1))-1,0),\"\")","v":""},null,null,"5A5",{"$f":"VLOOKUP(Q5,provnames!$A$2:$B$331,2,0)","v":"Kingston PCT"},{"$f":"SUM(IF(('CCG-Prov(Acute)'!$B$2:$B$28899=Q5),1,0))","v":7},null,{"$f":"SUM(IF(('CCG-Prov(Amb)'!$A$2:$A$335=A5),1,0))","v":3},{"$f":"SUM(IF(('CCG-Prov(Amb)'!$A$2:$A$335=A5)*('CCG-Prov(Amb)'!$C$2:$C$335>=Ambulance!$B$7),1,0))","v":2},{"$f":"IF(VALUE(MID(W$2,5,2))<=$V5,OFFSET('CCG-Prov(Amb)'!$B$1,MATCH($A5,'CCG-Prov(Amb)'!$A$2:$A$335,0)+VALUE(RIGHT(W$2,1))-1,0),\"\")","v":"RYE"},{"$f":"IF(VALUE(MID(X$2,5,2))<=$V5,OFFSET('CCG-Prov(Amb)'!$B$1,MATCH($A5,'CCG-Prov(Amb)'!$A$2:$A$335,0)+VALUE(RIGHT(X$2,1))-1,0),\"\")","v":"RYC"},{"$f":"IF(VALUE(MID(Y$2,5,2))<=$V5,OFFSET('CCG-Prov(Amb)'!$B$1,MATCH($A5,'CCG-Prov(Amb)'!$A$2:$A$335,0)+VALUE(RIGHT(Y$2,1))-1,0),\"\")","v":""},{"$f":"IF(VALUE(MID(Z$2,5,2))<=$V5,OFFSET('CCG-Prov(Amb)'!$B$1,MATCH($A5,'CCG-Prov(Amb)'!$A$2:$A$335,0)+VALUE(RIGHT(Z$2,1))-1,0),\"\")","v":""},{"$f":"IF(VALUE(MID(AA$2,5,2))<=$V5,OFFSET('CCG-Prov(Amb)'!$B$1,MATCH($A5,'CCG-Prov(Amb)'!$A$2:$A$335,0)+VALUE(RIGHT(AA$2,1))-1,0),\"\")","v":""},null,"RX5","Great Western (Ambulance)",{"$f":"SUM(IF(('CCG-Prov(Amb)'!$B$2:$B$335=AC5),1,0))","v":15},null,{"$f":"SUM(IF(('CCG-Prov(Births)'!$A$2:$A$6150=A5),1,0))","v":25},{"$f":"SUM(IF(('CCG-Prov(Births)'!$A$2:$A$6150=A5)*('CCG-Prov(Births)'!$C$2:$C$6150>=Maternity!$B$7),1,0))","v":2},{"$f":"IF(VALUE(MID(AI$2,5,2))<=$V5,OFFSET('CCG-Prov(Births)'!$B$1,MATCH($A5,'CCG-Prov(Births)'!$A$2:$A$6150,0)+VALUE(RIGHT(AI$2,1))-1,0),\"\")","v":"RXQ"},{"$f":"IF(VALUE(MID(AJ$2,5,2))<=$V5,OFFSET('CCG-Prov(Births)'!$B$1,MATCH($A5,'CCG-Prov(Births)'!$A$2:$A$6150,0)+VALUE(RIGHT(AJ$2,1))-1,0),\"\")","v":"RTH"},{"$f":"IF(VALUE(MID(AK$2,5,2))<=$V5,OFFSET('CCG-Prov(Births)'!$B$1,MATCH($A5,'CCG-Prov(Births)'!$A$2:$A$6150,0)+VALUE(RIGHT(AK$2,1))-1,0),\"\")","v":""},{"$f":"IF(VALUE(MID(AL$2,5,2))<=$V5,OFFSET('CCG-Prov(Births)'!$B$1,MATCH($A5,'CCG-Prov(Births)'!$A$2:$A$6150,0)+VALUE(RIGHT(AL$2,1))-1,0),\"\")","v":""},{"$f":"IF(VALUE(MID(AM$2,5,2))<=$V5,OFFSET('CCG-Prov(Births)'!$B$1,MATCH($A5,'CCG-Prov(Births)'!$A$2:$A$6150,0)+VALUE(RIGHT(AM$2,1))-1,0),\"\")","v":""},null,"5NV",{"$f":"VLOOKUP(AO5,provnames!$A$2:$B$331,2,0)","v":"North Yorkshire & York PCT"},{"$f":"SUM(IF(('CCG-Prov(Births)'!$B$2:$B$6150=AO5),1,0))","v":4}]
["07L","Barking & Dagenham",{"$f":"SUM(IF(('CCG-Prov(Acute)'!$A$2:$A$29012=A6),1,0))","v":120},{"$f":"SUM(IF(('CCG-Prov(Acute)'!$A$2:$A$29012=A6)*('CCG-Prov(Acute)'!$C$2:$C$29012>=Acute!$B$7),1,0))","v":6},{"$f":"IF(VALUE(MID(E$2,5,2))<=$D6,OFFSET('CCG-Prov(Acute)'!$B$1,MATCH($A6,'CCG-Prov(Acute)'!$A$2:$A$29012,0)+VALUE(RIGHT(E$2,1))-1,0),\"\")","v":"RF4"},{"$f":"IF(VALUE(MID(F$2,5,2))<=$D6,OFFSET('CCG-Prov(Acute)'!$B$1,MATCH($A6,'CCG-Prov(Acute)'!$A$2:$A$29012,0)+VALUE(RIGHT(F$2,1))-1,0),\"\")","v":"RNJ"},{"$f":"IF(VALUE(MID(G$2,5,2))<=$D6,OFFSET('CCG-Prov(Acute)'!$B$1,MATCH($A6,'CCG-Prov(Acute)'!$A$2:$A$29012,0)+VALUE(RIGHT(G$2,1))-1,0),\"\")","v":"NTP"},{"$f":"IF(VALUE(MID(H$2,5,2))<=$D6,OFFSET('CCG-Prov(Acute)'!$B$1,MATCH($A6,'CCG-Prov(Acute)'!$A$2:$A$29012,0)+VALUE(RIGHT(H$2,1))-1,0),\"\")","v":"RNH"},{"$f":"IF(VALUE(MID(I$2,5,2))<=$D6,OFFSET('CCG-Prov(Acute)'!$B$1,MATCH($A6,'CCG-Prov(Acute)'!$A$2:$A$29012,0)+VALUE(RIGHT(I$2,1))-1,0),\"\")","v":"RGC"},{"$f":"IF(VALUE(MID(J$2,5,2))<=$D6,OFFSET('CCG-Prov(Acute)'!$B$1,MATCH($A6,'CCG-Prov(Acute)'!$A$2:$A$29012,0)+VALUE(RIGHT(J$2,1))-1,0),\"\")","v":"RP6"},{"$f":"IF(VALUE(MID(K$2,5,2))<=$D6,OFFSET('CCG-Prov(Acute)'!$B$1,MATCH($A6,'CCG-Prov(Acute)'!$A$2:$A$29012,0)+VALUE(RIGHT(K$2,1))-1,0),\"\")","v":""},{"$f":"IF(VALUE(MID(L$2,5,2))<=$D6,OFFSET('CCG-Prov(Acute)'!$B$1,MATCH($A6,'CCG-Prov(Acute)'!$A$2:$A$29012,0)+VALUE(RIGHT(L$2,1))-1,0),\"\")","v":""},{"$f":"IF(VALUE(MID(M$2,5,2))<=$D6,OFFSET('CCG-Prov(Acute)'!$B$1,MATCH($A6,'CCG-Prov(Acute)'!$A$2:$A$29012,0)+VALUE(RIGHT(M$2,1))-1,0),\"\")","v":""},{"$f":"IF(VALUE(MID(N$2,5,2))<=$D6,OFFSET('CCG-Prov(Acute)'!$B$1,MATCH($A6,'CCG-Prov(Acute)'!$A$2:$A$29012,0)+VALUE(RIGHT(N$2,1))-1,0),\"\")","v":""},null,null,"5AT",{"$f":"VLOOKUP(Q6,provnames!$A$2:$B$331,2,0)","v":"Hillingdon PCT"},{"$f":"SUM(IF(('CCG-Prov(Acute)'!$B$2:$B$28899=Q6),1,0))","v":5},null,{"$f":"SUM(IF(('CCG-Prov(Amb)'!$A$2:$A$335=A6),1,0))","v":2},{"$f":"SUM(IF(('CCG-Prov(Amb)'!$A$2:$A$335=A6)*('CCG-Prov(Amb)'!$C$2:$C$335>=Ambulance!$B$7),1,0))","v":1},{"$f":"IF(VALUE(MID(W$2,5,2))<=$V6,OFFSET('CCG-Prov(Amb)'!$B$1,MATCH($A6,'CCG-Prov(Amb)'!$A$2:$A$335,0)+VALUE(RIGHT(W$2,1))-1,0),\"\")","v":"RRY"},{"$f":"IF(VALUE(MID(X$2,5,2))<=$V6,OFFSET('CCG-Prov(Amb)'!$B$1,MATCH($A6,'CCG-Prov(Amb)'!$A$2:$A$335,0)+VALUE(RIGHT(X$2,1))-1,0),\"\")","v":""},{"$f":"IF(VALUE(MID(Y$2,5,2))<=$V6,OFFSET('CCG-Prov(Amb)'!$B$1,MATCH($A6,'CCG-Prov(Amb)'!$A$2:$A$335,0)+VALUE(RIGHT(Y$2,1))-1,0),\"\")","v":""},{"$f":"IF(VALUE(MID(Z$2,5,2))<=$V6,OFFSET('CCG-Prov(Amb)'!$B$1,MATCH($A6,'CCG-Prov(Amb)'!$A$2:$A$335,0)+VALUE(RIGHT(Z$2,1))-1,0),\"\")","v":""},{"$f":"IF(VALUE(MID(AA$2,5,2))<=$V6,OFFSET('CCG-Prov(Amb)'!$B$1,MATCH($A6,'CCG-Prov(Amb)'!$A$2:$A$335,0)+VALUE(RIGHT(AA$2,1))-1,0),\"\")","v":""},null,"RX6","North East (Ambulance)",{"$f":"SUM(IF(('CCG-Prov(Amb)'!$B$2:$B$335=AC6),1,0))","v":14},null,{"$f":"SUM(IF(('CCG-Prov(Births)'!$A$2:$A$6150=A6),1,0))","v":36},{"$f":"SUM(IF(('CCG-Prov(Births)'!$A$2:$A$6150=A6)*('CCG-Prov(Births)'!$C$2:$C$6150>=Maternity!$B$7),1,0))","v":2},{"$f":"IF(VALUE(MID(AI$2,5,2))<=$V6,OFFSET('CCG-Prov(Births)'!$B$1,MATCH($A6,'CCG-Prov(Births)'!$A$2:$A$6150,0)+VALUE(RIGHT(AI$2,1))-1,0),\"\")","v":"RF4"},{"$f":"IF(VALUE(MID(AJ$2,5,2))<=$V6,OFFSET('CCG-Prov(Births)'!$B$1,MATCH($A6,'CCG-Prov(Births)'!$A$2:$A$6150,0)+VALUE(RIGHT(AJ$2,1))-1,0),\"\")","v":""},{"$f":"IF(VALUE(MID(AK$2,5,2))<=$V6,OFFSET('CCG-Prov(Births)'!$B$1,MATCH($A6,'CCG-Prov(Births)'!$A$2:$A$6150,0)+VALUE(RIGHT(AK$2,1))-1,0),\"\")","v":""},{"$f":"IF(VALUE(MID(AL$2,5,2))<=$V6,OFFSET('CCG-Prov(Births)'!$B$1,MATCH($A6,'CCG-Prov(Births)'!$A$2:$A$6150,0)+VALUE(RIGHT(AL$2,1))-1,0),\"\")","v":""},{"$f":"IF(VALUE(MID(AM$2,5,2))<=$V6,OFFSET('CCG-Prov(Births)'!$B$1,MATCH($A6,'CCG-Prov(Births)'!$A$2:$A$6150,0)+VALUE(RIGHT(AM$2,1))-1,0),\"\")","v":""},null,"5PK",{"$f":"VLOOKUP(AO6,provnames!$A$2:$B$331,2,0)","v":"South Staffordshire PCT"},{"$f":"SUM(IF(('CCG-Prov(Births)'!$B$2:$B$6150=AO6),1,0))","v":3}]
["07M","Barnet",{"$f":"SUM(IF(('CCG-Prov(Acute)'!$A$2:$A$29012=A7),1,0))","v":141},{"$f":"SUM(IF(('CCG-Prov(Acute)'!$A$2:$A$29012=A7)*('CCG-Prov(Acute)'!$C$2:$C$29012>=Acute!$B$7),1,0))","v":9},{"$f":"IF(VALUE(MID(E$2,5,2))<=$D7,OFFSET('CCG-Prov(Acute)'!$B$1,MATCH($A7,'CCG-Prov(Acute)'!$A$2:$A$29012,0)+VALUE(RIGHT(E$2,1))-1,0),\"\")","v":"RVL"},{"$f":"IF(VALUE(MID(F$2,5,2))<=$D7,OFFSET('CCG-Prov(Acute)'!$B$1,MATCH($A7,'CCG-Prov(Acute)'!$A$2:$A$29012,0)+VALUE(RIGHT(F$2,1))-1,0),\"\")","v":"RAL"},{"$f":"IF(VALUE(MID(G$2,5,2))<=$D7,OFFSET('CCG-Prov(Acute)'!$B$1,MATCH($A7,'CCG-Prov(Acute)'!$A$2:$A$29012,0)+VALUE(RIGHT(G$2,1))-1,0),\"\")","v":"RRV"},{"$f":"IF(VALUE(MID(H$2,5,2))<=$D7,OFFSET('CCG-Prov(Acute)'!$B$1,MATCH($A7,'CCG-Prov(Acute)'!$A$2:$A$29012,0)+VALUE(RIGHT(H$2,1))-1,0),\"\")","v":"RV8"},{"$f":"IF(VALUE(MID(I$2,5,2))<=$D7,OFFSET('CCG-Prov(Acute)'!$B$1,MATCH($A7,'CCG-Prov(Acute)'!$A$2:$A$29012,0)+VALUE(RIGHT(I$2,1))-1,0),\"\")","v":"RKE"},{"$f":"IF(VALUE(MID(J$2,5,2))<=$D7,OFFSET('CCG-Prov(Acute)'!$B$1,MATCH($A7,'CCG-Prov(Acute)'!$A$2:$A$29012,0)+VALUE(RIGHT(J$2,1))-1,0),\"\")","v":"RAN"},{"$f":"IF(VALUE(MID(K$2,5,2))<=$D7,OFFSET('CCG-Prov(Acute)'!$B$1,MATCH($A7,'CCG-Prov(Acute)'!$A$2:$A$29012,0)+VALUE(RIGHT(K$2,1))-1,0),\"\")","v":"RYJ"},{"$f":"IF(VALUE(MID(L$2,5,2))<=$D7,OFFSET('CCG-Prov(Acute)'!$B$1,MATCH($A7,'CCG-Prov(Acute)'!$A$2:$A$29012,0)+VALUE(RIGHT(L$2,1))-1,0),\"\")","v":"RP6"},{"$f":"IF(VALUE(MID(M$2,5,2))<=$D7,OFFSET('CCG-Prov(Acute)'!$B$1,MATCH($A7,'CCG-Prov(Acute)'!$A$2:$A$29012,0)+VALUE(RIGHT(M$2,1))-1,0),\"\")","v":"RP4"},{"$f":"IF(VALUE(MID(N$2,5,2))<=$D7,OFFSET('CCG-Prov(Acute)'!$B$1,MATCH($A7,'CCG-Prov(Acute)'!$A$2:$A$29012,0)+VALUE(RIGHT(N$2,1))-1,0),\"\")","v":""},null,null,"5C4",{"$f":"VLOOKUP(Q7,provnames!$A$2:$B$331,2,0)","v":"Tower Hamlets PCT"},{"$f":"SUM(IF(('CCG-Prov(Acute)'!$B$2:$B$28899=Q7),1,0))","v":35},null,{"$f":"SUM(IF(('CCG-Prov(Amb)'!$A$2:$A$335=A7),1,0))","v":2},{"$f":"SUM(IF(('CCG-Prov(Amb)'!$A$2:$A$335=A7)*('CCG-Prov(Amb)'!$C$2:$C$335>=Ambulance!$B$7),1,0))","v":1},{"$f":"IF(VALUE(MID(W$2,5,2))<=$V7,OFFSET('CCG-Prov(Amb)'!$B$1,MATCH($A7,'CCG-Prov(Amb)'!$A$2:$A$335,0)+VALUE(RIGHT(W$2,1))-1,0),\"\")","v":"RRY"},{"$f":"IF(VALUE(MID(X$2,5,2))<=$V7,OFFSET('CCG-Prov(Amb)'!$B$1,MATCH($A7,'CCG-Prov(Amb)'!$A$2:$A$335,0)+VALUE(RIGHT(X$2,1))-1,0),\"\")","v":""},{"$f":"IF(VALUE(MID(Y$2,5,2))<=$V7,OFFSET('CCG-Prov(Amb)'!$B$1,MATCH($A7,'CCG-Prov(Amb)'!$A$2:$A$335,0)+VALUE(RIGHT(Y$2,1))-1,0),\"\")","v":""},{"$f":"IF(VALUE(MID(Z$2,5,2))<=$V7,OFFSET('CCG-Prov(Amb)'!$B$1,MATCH($A7,'CCG-Prov(Amb)'!$A$2:$A$335,0)+VALUE(RIGHT(Z$2,1))-1,0),\"\")","v":""},{"$f":"IF(VALUE(MID(AA$2,5,2))<=$V7,OFFSET('CCG-Prov(Amb)'!$B$1,MATCH($A7,'CCG-Prov(Amb)'!$A$2:$A$335,0)+VALUE(RIGHT(AA$2,1))-1,0),\"\")","v":""},null,"RX7","North West (Ambulance)",{"$f":"SUM(IF(('CCG-Prov(Amb)'!$B$2:$B$335=AC7),1,0))","v":41},null,{"$f":"SUM(IF(('CCG-Prov(Births)'!$A$2:$A$6150=A7),1,0))","v":45},{"$f":"SUM(IF(('CCG-Prov(Births)'!$A$2:$A$6150=A7)*('CCG-Prov(Births)'!$C$2:$C$6150>=Maternity!$B$7),1,0))","v":7},{"$f":"IF(VALUE(MID(AI$2,5,2))<=$V7,OFFSET('CCG-Prov(Births)'!$B$1,MATCH($A7,'CCG-Prov(Births)'!$A$2:$A$6150,0)+VALUE(RIGHT(AI$2,1))-1,0),\"\")","v":"RVL"},{"$f":"IF(VALUE(MID(AJ$2,5,2))<=$V7,OFFSET('CCG-Prov(Births)'!$B$1,MATCH($A7,'CCG-Prov(Births)'!$A$2:$A$6150,0)+VALUE(RIGHT(AJ$2,1))-1,0),\"\")","v":""},{"$f":"IF(VALUE(MID(AK$2,5,2))<=$V7,OFFSET('CCG-Prov(Births)'!$B$1,MATCH($A7,'CCG-Prov(Births)'!$A$2:$A$6150,0)+VALUE(RIGHT(AK$2,1))-1,0),\"\")","v":""},{"$f":"IF(VALUE(MID(AL$2,5,2))<=$V7,OFFSET('CCG-Prov(Births)'!$B$1,MATCH($A7,'CCG-Prov(Births)'!$A$2:$A$6150,0)+VALUE(RIGHT(AL$2,1))-1,0),\"\")","v":""},{"$f":"IF(VALUE(MID(AM$2,5,2))<=$V7,OFFSET('CCG-Prov(Births)'!$B$1,MATCH($A7,'CCG-Prov(Births)'!$A$2:$A$6150,0)+VALUE(RIGHT(AM$2,1))-1,0),\"\")","v":""},null,"5PT",{"$f":"VLOOKUP(AO7,provnames!$A$2:$B$331,2,0)","v":"Suffolk PCT"},{"$f":"SUM(IF(('CCG-Prov(Births)'!$B$2:$B$6150=AO7),1,0))","v":0}]
["02P","Barnsley",{"$f":"SUM(IF(('CCG-Prov(Acute)'!$A$2:$A$29012=A8),1,0))","v":132},{"$f":"SUM(IF(('CCG-Prov(Acute)'!$A$2:$A$29012=A8)*('CCG-Prov(Acute)'!$C$2:$C$29012>=Acute!$B$7),1,0))","v":6},{"$f":"IF(VALUE(MID(E$2,5,2))<=$D8,OFFSET('CCG-Prov(Acute)'!$B$1,MATCH($A8,'CCG-Prov(Acute)'!$A$2:$A$29012,0)+VALUE(RIGHT(E$2,1))-1,0),\"\")","v":"RFF"},{"$f":"IF(VALUE(MID(F$2,5,2))<=$D8,OFFSET('CCG-Prov(Acute)'!$B$1,MATCH($A8,'CCG-Prov(Acute)'!$A$2:$A$29012,0)+VALUE(RIGHT(F$2,1))-1,0),\"\")","v":"RHQ"},{"$f":"IF(VALUE(MID(G$2,5,2))<=$D8,OFFSET('CCG-Prov(Acute)'!$B$1,MATCH($A8,'CCG-Prov(Acute)'!$A$2:$A$29012,0)+VALUE(RIGHT(G$2,1))-1,0),\"\")","v":"RFR"},{"$f":"IF(VALUE(MID(H$2,5,2))<=$D8,OFFSET('CCG-Prov(Acute)'!$B$1,MATCH($A8,'CCG-Prov(Acute)'!$A$2:$A$29012,0)+VALUE(RIGHT(H$2,1))-1,0),\"\")","v":"RP5"},{"$f":"IF(VALUE(MID(I$2,5,2))<=$D8,OFFSET('CCG-Prov(Acute)'!$B$1,MATCH($A8,'CCG-Prov(Acute)'!$A$2:$A$29012,0)+VALUE(RIGHT(I$2,1))-1,0),\"\")","v":"RCU"},{"$f":"IF(VALUE(MID(J$2,5,2))<=$D8,OFFSET('CCG-Prov(Acute)'!$B$1,MATCH($A8,'CCG-Prov(Acute)'!$A$2:$A$29012,0)+VALUE(RIGHT(J$2,1))-1,0),\"\")","v":"5JE"},{"$f":"IF(VALUE(MID(K$2,5,2))<=$D8,OFFSET('CCG-Prov(Acute)'!$B$1,MATCH($A8,'CCG-Prov(Acute)'!$A$2:$A$29012,0)+VALUE(RIGHT(K$2,1))-1,0),\"\")","v":""},{"$f":"IF(VALUE(MID(L$2,5,2))<=$D8,OFFSET('CCG-Prov(Acute)'!$B$1,MATCH($A8,'CCG-Prov(Acute)'!$A$2:$A$29012,0)+VALUE(RIGHT(L$2,1))-1,0),\"\")","v":""},{"$f":"IF(VALUE(MID(M$2,5,2))<=$D8,OFFSET('CCG-Prov(Acute)'!$B$1,MATCH($A8,'CCG-Prov(Acute)'!$A$2:$A$29012,0)+VALUE(RIGHT(M$2,1))-1,0),\"\")","v":""},{"$f":"IF(VALUE(MID(N$2,5,2))<=$D8,OFFSET('CCG-Prov(Acute)'!$B$1,MATCH($A8,'CCG-Prov(Acute)'!$A$2:$A$29012,0)+VALUE(RIGHT(N$2,1))-1,0),\"\")","v":""},null,null,"5C5",{"$f":"VLOOKUP(Q8,provnames!$A$2:$B$331,2,0)","v":"Newham PCT"},{"$f":"SUM(IF(('CCG-Prov(Acute)'!$B$2:$B$28899=Q8),1,0))","v":3},null,{"$f":"SUM(IF(('CCG-Prov(Amb)'!$A$2:$A$335=A8),1,0))","v":1},{"$f":"SUM(IF(('CCG-Prov(Amb)'!$A$2:$A$335=A8)*('CCG-Prov(Amb)'!$C$2:$C$335>=Ambulance!$B$7),1,0))","v":1},{"$f":"IF(VALUE(MID(W$2,5,2))<=$V8,OFFSET('CCG-Prov(Amb)'!$B$1,MATCH($A8,'CCG-Prov(Amb)'!$A$2:$A$335,0)+VALUE(RIGHT(W$2,1))-1,0),\"\")","v":"RX8"},{"$f":"IF(VALUE(MID(X$2,5,2))<=$V8,OFFSET('CCG-Prov(Amb)'!$B$1,MATCH($A8,'CCG-Prov(Amb)'!$A$2:$A$335,0)+VALUE(RIGHT(X$2,1))-1,0),\"\")","v":""},{"$f":"IF(VALUE(MID(Y$2,5,2))<=$V8,OFFSET('CCG-Prov(Amb)'!$B$1,MATCH($A8,'CCG-Prov(Amb)'!$A$2:$A$335,0)+VALUE(RIGHT(Y$2,1))-1,0),\"\")","v":""},{"$f":"IF(VALUE(MID(Z$2,5,2))<=$V8,OFFSET('CCG-Prov(Amb)'!$B$1,MATCH($A8,'CCG-Prov(Amb)'!$A$2:$A$335,0)+VALUE(RIGHT(Z$2,1))-1,0),\"\")","v":""},{"$f":"IF(VALUE(MID(AA$2,5,2))<=$V8,OFFSET('CCG-Prov(Amb)'!$B$1,MATCH($A8,'CCG-Prov(Amb)'!$A$2:$A$335,0)+VALUE(RIGHT(AA$2,1))-1,0),\"\")","v":""},null,"RX8","Yorkshire (Ambulance)",{"$f":"SUM(IF(('CCG-Prov(Amb)'!$B$2:$B$335=AC8),1,0))","v":31},null,{"$f":"SUM(IF(('CCG-Prov(Births)'!$A$2:$A$6150=A8),1,0))","v":20},{"$f":"SUM(IF(('CCG-Prov(Births)'!$A$2:$A$6150=A8)*('CCG-Prov(Births)'!$C$2:$C$6150>=Maternity!$B$7),1,0))","v":4},{"$f":"IF(VALUE(MID(AI$2,5,2))<=$V8,OFFSET('CCG-Prov(Births)'!$B$1,MATCH($A8,'CCG-Prov(Births)'!$A$2:$A$6150,0)+VALUE(RIGHT(AI$2,1))-1,0),\"\")","v":"RFF"},{"$f":"IF(VALUE(MID(AJ$2,5,2))<=$V8,OFFSET('CCG-Prov(Births)'!$B$1,MATCH($A8,'CCG-Prov(Births)'!$A$2:$A$6150,0)+VALUE(RIGHT(AJ$2,1))-1,0),\"\")","v":""},{"$f":"IF(VALUE(MID(AK$2,5,2))<=$V8,OFFSET('CCG-Prov(Births)'!$B$1,MATCH($A8,'CCG-Prov(Births)'!$A$2:$A$6150,0)+VALUE(RIGHT(AK$2,1))-1,0),\"\")","v":""},{"$f":"IF(VALUE(MID(AL$2,5,2))<=$V8,OFFSET('CCG-Prov(Births)'!$B$1,MATCH($A8,'CCG-Prov(Births)'!$A$2:$A$6150,0)+VALUE(RIGHT(AL$2,1))-1,0),\"\")","v":""},{"$f":"IF(VALUE(MID(AM$2,5,2))<=$V8,OFFSET('CCG-Prov(Births)'!$B$1,MATCH($A8,'CCG-Prov(Births)'!$A$2:$A$6150,0)+VALUE(RIGHT(AM$2,1))-1,0),\"\")","v":""},null,"5QH",{"$f":"VLOOKUP(AO8,provnames!$A$2:$B$331,2,0)","v":"Gloucestershire PCT"},{"$f":"SUM(IF(('CCG-Prov(Births)'!$B$2:$B$6150=AO8),1,0))","v":8}]
["99E","Basildon & Brentwood",{"$f":"SUM(IF(('CCG-Prov(Acute)'!$A$2:$A$29012=A9),1,0))","v":140},{"$f":"SUM(IF(('CCG-Prov(Acute)'!$A$2:$A$29012=A9)*('CCG-Prov(Acute)'!$C$2:$C$29012>=Acute!$B$7),1,0))","v":7},{"$f":"IF(VALUE(MID(E$2,5,2))<=$D9,OFFSET('CCG-Prov(Acute)'!$B$1,MATCH($A9,'CCG-Prov(Acute)'!$A$2:$A$29012,0)+VALUE(RIGHT(E$2,1))-1,0),\"\")","v":"RDD"},{"$f":"IF(VALUE(MID(F$2,5,2))<=$D9,OFFSET('CCG-Prov(Acute)'!$B$1,MATCH($A9,'CCG-Prov(Acute)'!$A$2:$A$29012,0)+VALUE(RIGHT(F$2,1))-1,0),\"\")","v":"RF4"},{"$f":"IF(VALUE(MID(G$2,5,2))<=$D9,OFFSET('CCG-Prov(Acute)'!$B$1,MATCH($A9,'CCG-Prov(Acute)'!$A$2:$A$29012,0)+VALUE(RIGHT(G$2,1))-1,0),\"\")","v":"RQ8"},{"$f":"IF(VALUE(MID(H$2,5,2))<=$D9,OFFSET('CCG-Prov(Acute)'!$B$1,MATCH($A9,'CCG-Prov(Acute)'!$A$2:$A$29012,0)+VALUE(RIGHT(H$2,1))-1,0),\"\")","v":"RAJ"},{"$f":"IF(VALUE(MID(I$2,5,2))<=$D9,OFFSET('CCG-Prov(Acute)'!$B$1,MATCH($A9,'CCG-Prov(Acute)'!$A$2:$A$29012,0)+VALUE(RIGHT(I$2,1))-1,0),\"\")","v":"RNJ"},{"$f":"IF(VALUE(MID(J$2,5,2))<=$D9,OFFSET('CCG-Prov(Acute)'!$B$1,MATCH($A9,'CCG-Prov(Acute)'!$A$2:$A$29012,0)+VALUE(RIGHT(J$2,1))-1,0),\"\")","v":"NT3"},{"$f":"IF(VALUE(MID(K$2,5,2))<=$D9,OFFSET('CCG-Prov(Acute)'!$B$1,MATCH($A9,'CCG-Prov(Acute)'!$A$2:$A$29012,0)+VALUE(RIGHT(K$2,1))-1,0),\"\")","v":"5PY"},{"$f":"IF(VALUE(MID(L$2,5,2))<=$D9,OFFSET('CCG-Prov(Acute)'!$B$1,MATCH($A9,'CCG-Prov(Acute)'!$A$2:$A$29012,0)+VALUE(RIGHT(L$2,1))-1,0),\"\")","v":""},{"$f":"IF(VALUE(MID(M$2,5,2))<=$D9,OFFSET('CCG-Prov(Acute)'!$B$1,MATCH($A9,'CCG-Prov(Acute)'!$A$2:$A$29012,0)+VALUE(RIGHT(M$2,1))-1,0),\"\")","v":""},{"$f":"IF(VALUE(MID(N$2,5,2))<=$D9,OFFSET('CCG-Prov(Acute)'!$B$1,MATCH($A9,'CCG-Prov(Acute)'!$A$2:$A$29012,0)+VALUE(RIGHT(N$2,1))-1,0),\"\")","v":""},null,null,"5CN",{"$f":"VLOOKUP(Q9,provnames!$A$2:$B$331,2,0)","v":"Herefordshire PCT"},{"$f":"SUM(IF(('CCG-Prov(Acute)'!$B$2:$B$28899=Q9),1,0))","v":24},null,{"$f":"SUM(IF(('CCG-Prov(Amb)'!$A$2:$A$335=A9),1,0))","v":2},{"$f":"SUM(IF(('CCG-Prov(Amb)'!$A$2:$A$335=A9)*('CCG-Prov(Amb)'!$C$2:$C$335>=Ambulance!$B$7),1,0))","v":1},{"$f":"IF(VALUE(MID(W$2,5,2))<=$V9,OFFSET('CCG-Prov(Amb)'!$B$1,MATCH($A9,'CCG-Prov(Amb)'!$A$2:$A$335,0)+VALUE(RIGHT(W$2,1))-1,0),\"\")","v":"RYC"},{"$f":"IF(VALUE(MID(X$2,5,2))<=$V9,OFFSET('CCG-Prov(Amb)'!$B$1,MATCH($A9,'CCG-Prov(Amb)'!$A$2:$A$335,0)+VALUE(RIGHT(X$2,1))-1,0),\"\")","v":""},{"$f":"IF(VALUE(MID(Y$2,5,2))<=$V9,OFFSET('CCG-Prov(Amb)'!$B$1,MATCH($A9,'CCG-Prov(Amb)'!$A$2:$A$335,0)+VALUE(RIGHT(Y$2,1))-1,0),\"\")","v":""},{"$f":"IF(VALUE(MID(Z$2,5,2))<=$V9,OFFSET('CCG-Prov(Amb)'!$B$1,MATCH($A9,'CCG-Prov(Amb)'!$A$2:$A$335,0)+VALUE(RIGHT(Z$2,1))-1,0),\"\")","v":""},{"$f":"IF(VALUE(MID(AA$2,5,2))<=$V9,OFFSET('CCG-Prov(Amb)'!$B$1,MATCH($A9,'CCG-Prov(Amb)'!$A$2:$A$335,0)+VALUE(RIGHT(AA$2,1))-1,0),\"\")","v":""},null,"RX9","East Midlands (Ambulance)",{"$f":"SUM(IF(('CCG-Prov(Amb)'!$B$2:$B$335=AC9),1,0))","v":42},null,{"$f":"SUM(IF(('CCG-Prov(Births)'!$A$2:$A$6150=A9),1,0))","v":29},{"$f":"SUM(IF(('CCG-Prov(Births)'!$A$2:$A$6150=A9)*('CCG-Prov(Births)'!$C$2:$C$6150>=Maternity!$B$7),1,0))","v":4},{"$f":"IF(VALUE(MID(AI$2,5,2))<=$V9,OFFSET('CCG-Prov(Births)'!$B$1,MATCH($A9,'CCG-Prov(Births)'!$A$2:$A$6150,0)+VALUE(RIGHT(AI$2,1))-1,0),\"\")","v":"RDD"},{"$f":"IF(VALUE(MID(AJ$2,5,2))<=$V9,OFFSET('CCG-Prov(Births)'!$B$1,MATCH($A9,'CCG-Prov(Births)'!$A$2:$A$6150,0)+VALUE(RIGHT(AJ$2,1))-1,0),\"\")","v":""},{"$f":"IF(VALUE(MID(AK$2,5,2))<=$V9,OFFSET('CCG-Prov(Births)'!$B$1,MATCH($A9,'CCG-Prov(Births)'!$A$2:$A$6150,0)+VALUE(RIGHT(AK$2,1))-1,0),\"\")","v":""},{"$f":"IF(VALUE(MID(AL$2,5,2))<=$V9,OFFSET('CCG-Prov(Births)'!$B$1,MATCH($A9,'CCG-Prov(Births)'!$A$2:$A$6150,0)+VALUE(RIGHT(AL$2,1))-1,0),\"\")","v":""},{"$f":"IF(VALUE(MID(AM$2,5,2))<=$V9,OFFSET('CCG-Prov(Births)'!$B$1,MATCH($A9,'CCG-Prov(Births)'!$A$2:$A$6150,0)+VALUE(RIGHT(AM$2,1))-1,0),\"\")","v":""},null,"5QK",{"$f":"VLOOKUP(AO9,provnames!$A$2:$B$331,2,0)","v":"Wiltshire PCT"},{"$f":"SUM(IF(('CCG-Prov(Births)'!$B$2:$B$6150=AO9),1,0))","v":14}]
["02Q","Bassetlaw",{"$f":"SUM(IF(('CCG-Prov(Acute)'!$A$2:$A$29012=A10),1,0))","v":109},{"$f":"SUM(IF(('CCG-Prov(Acute)'!$A$2:$A$29012=A10)*('CCG-Prov(Acute)'!$C$2:$C$29012>=Acute!$B$7),1,0))","v":2},{"$f":"IF(VALUE(MID(E$2,5,2))<=$D10,OFFSET('CCG-Prov(Acute)'!$B$1,MATCH($A10,'CCG-Prov(Acute)'!$A$2:$A$29012,0)+VALUE(RIGHT(E$2,1))-1,0),\"\")","v":"RP5"},{"$f":"IF(VALUE(MID(F$2,5,2))<=$D10,OFFSET('CCG-Prov(Acute)'!$B$1,MATCH($A10,'CCG-Prov(Acute)'!$A$2:$A$29012,0)+VALUE(RIGHT(F$2,1))-1,0),\"\")","v":"RHQ"},{"$f":"IF(VALUE(MID(G$2,5,2))<=$D10,OFFSET('CCG-Prov(Acute)'!$B$1,MATCH($A10,'CCG-Prov(Acute)'!$A$2:$A$29012,0)+VALUE(RIGHT(G$2,1))-1,0),\"\")","v":""},{"$f":"IF(VALUE(MID(H$2,5,2))<=$D10,OFFSET('CCG-Prov(Acute)'!$B$1,MATCH($A10,'CCG-Prov(Acute)'!$A$2:$A$29012,0)+VALUE(RIGHT(H$2,1))-1,0),\"\")","v":""},{"$f":"IF(VALUE(MID(I$2,5,2))<=$D10,OFFSET('CCG-Prov(Acute)'!$B$1,MATCH($A10,'CCG-Prov(Acute)'!$A$2:$A$29012,0)+VALUE(RIGHT(I$2,1))-1,0),\"\")","v":""},{"$f":"IF(VALUE(MID(J$2,5,2))<=$D10,OFFSET('CCG-Prov(Acute)'!$B$1,MATCH($A10,'CCG-Prov(Acute)'!$A$2:$A$29012,0)+VALUE(RIGHT(J$2,1))-1,0),\"\")","v":""},{"$f":"IF(VALUE(MID(K$2,5,2))<=$D10,OFFSET('CCG-Prov(Acute)'!$B$1,MATCH($A10,'CCG-Prov(Acute)'!$A$2:$A$29012,0)+VALUE(RIGHT(K$2,1))-1,0),\"\")","v":""},{"$f":"IF(VALUE(MID(L$2,5,2))<=$D10,OFFSET('CCG-Prov(Acute)'!$B$1,MATCH($A10,'CCG-Prov(Acute)'!$A$2:$A$29012,0)+VALUE(RIGHT(L$2,1))-1,0),\"\")","v":""},{"$f":"IF(VALUE(MID(M$2,5,2))<=$D10,OFFSET('CCG-Prov(Acute)'!$B$1,MATCH($A10,'CCG-Prov(Acute)'!$A$2:$A$29012,0)+VALUE(RIGHT(M$2,1))-1,0),\"\")","v":""},{"$f":"IF(VALUE(MID(N$2,5,2))<=$D10,OFFSET('CCG-Prov(Acute)'!$B$1,MATCH($A10,'CCG-Prov(Acute)'!$A$2:$A$29012,0)+VALUE(RIGHT(N$2,1))-1,0),\"\")","v":""},null,null,"5CQ",{"$f":"VLOOKUP(Q10,provnames!$A$2:$B$331,2,0)","v":"Milton Keynes PCT"},{"$f":"SUM(IF(('CCG-Prov(Acute)'!$B$2:$B$28899=Q10),1,0))","v":25},null,{"$f":"SUM(IF(('CCG-Prov(Amb)'!$A$2:$A$335=A10),1,0))","v":2},{"$f":"SUM(IF(('CCG-Prov(Amb)'!$A$2:$A$335=A10)*('CCG-Prov(Amb)'!$C$2:$C$335>=Ambulance!$B$7),1,0))","v":2},{"$f":"IF(VALUE(MID(W$2,5,2))<=$V10,OFFSET('CCG-Prov(Amb)'!$B$1,MATCH($A10,'CCG-Prov(Amb)'!$A$2:$A$335,0)+VALUE(RIGHT(W$2,1))-1,0),\"\")","v":"RX9"},{"$f":"IF(VALUE(MID(X$2,5,2))<=$V10,OFFSET('CCG-Prov(Amb)'!$B$1,MATCH($A10,'CCG-Prov(Amb)'!$A$2:$A$335,0)+VALUE(RIGHT(X$2,1))-1,0),\"\")","v":"RX8"},{"$f":"IF(VALUE(MID(Y$2,5,2))<=$V10,OFFSET('CCG-Prov(Amb)'!$B$1,MATCH($A10,'CCG-Prov(Amb)'!$A$2:$A$335,0)+VALUE(RIGHT(Y$2,1))-1,0),\"\")","v":""},{"$f":"IF(VALUE(MID(Z$2,5,2))<=$V10,OFFSET('CCG-Prov(Amb)'!$B$1,MATCH($A10,'CCG-Prov(Amb)'!$A$2:$A$335,0)+VALUE(RIGHT(Z$2,1))-1,0),\"\")","v":""},{"$f":"IF(VALUE(MID(AA$2,5,2))<=$V10,OFFSET('CCG-Prov(Amb)'!$B$1,MATCH($A10,'CCG-Prov(Amb)'!$A$2:$A$335,0)+VALUE(RIGHT(AA$2,1))-1,0),\"\")","v":""},null,"RYA","West Midlands (Ambulance)",{"$f":"SUM(IF(('CCG-Prov(Amb)'!$B$2:$B$335=AC10),1,0))","v":32},null,{"$f":"SUM(IF(('CCG-Prov(Births)'!$A$2:$A$6150=A10),1,0))","v":16},{"$f":"SUM(IF(('CCG-Prov(Births)'!$A$2:$A$6150=A10)*('CCG-Prov(Births)'!$C$2:$C$6150>=Maternity!$B$7),1,0))","v":1},{"$f":"IF(VALUE(MID(AI$2,5,2))<=$V10,OFFSET('CCG-Prov(Births)'!$B$1,MATCH($A10,'CCG-Prov(Births)'!$A$2:$A$6150,0)+VALUE(RIGHT(AI$2,1))-1,0),\"\")","v":"RP5"},{"$f":"IF(VALUE(MID(AJ$2,5,2))<=$V10,OFFSET('CCG-Prov(Births)'!$B$1,MATCH($A10,'CCG-Prov(Births)'!$A$2:$A$6150,0)+VALUE(RIGHT(AJ$2,1))-1,0),\"\")","v":"RHQ"},{"$f":"IF(VALUE(MID(AK$2,5,2))<=$V10,OFFSET('CCG-Prov(Births)'!$B$1,MATCH($A10,'CCG-Prov(Births)'!$A$2:$A$6150,0)+VALUE(RIGHT(AK$2,1))-1,0),\"\")","v":""},{"$f":"IF(VALUE(MID(AL$2,5,2))<=$V10,OFFSET('CCG-Prov(Births)'!$B$1,MATCH($A10,'CCG-Prov(Births)'!$A$2:$A$6150,0)+VALUE(RIGHT(AL$2,1))-1,0),\"\")","v":""},{"$f":"IF(VALUE(MID(AM$2,5,2))<=$V10,OFFSET('CCG-Prov(Births)'!$B$1,MATCH($A10,'CCG-Prov(Births)'!$A$2:$A$6150,0)+VALUE(RIGHT(AM$2,1))-1,0),\"\")","v":""},null,"5QT",{"$f":"VLOOKUP(AO10,provnames!$A$2:$B$331,2,0)","v":"Isle of Wight NHS PCT"},{"$f":"SUM(IF(('CCG-Prov(Births)'!$B$2:$B$6150=AO10),1,0))","v":15}]
["11E","Bath & North East Somerset",{"$f":"SUM(IF(('CCG-Prov(Acute)'!$A$2:$A$29012=A11),1,0))","v":138},{"$f":"SUM(IF(('CCG-Prov(Acute)'!$A$2:$A$29012=A11)*('CCG-Prov(Acute)'!$C$2:$C$29012>=Acute!$B$7),1,0))","v":6},{"$f":"IF(VALUE(MID(E$2,5,2))<=$D11,OFFSET('CCG-Prov(Acute)'!$B$1,MATCH($A11,'CCG-Prov(Acute)'!$A$2:$A$29012,0)+VALUE(RIGHT(E$2,1))-1,0),\"\")","v":"RD1"},{"$f":"IF(VALUE(MID(F$2,5,2))<=$D11,OFFSET('CCG-Prov(Acute)'!$B$1,MATCH($A11,'CCG-Prov(Acute)'!$A$2:$A$29012,0)+VALUE(RIGHT(F$2,1))-1,0),\"\")","v":"RA7"},{"$f":"IF(VALUE(MID(G$2,5,2))<=$D11,OFFSET('CCG-Prov(Acute)'!$B$1,MATCH($A11,'CCG-Prov(Acute)'!$A$2:$A$29012,0)+VALUE(RIGHT(G$2,1))-1,0),\"\")","v":"RVJ"},{"$f":"IF(VALUE(MID(H$2,5,2))<=$D11,OFFSET('CCG-Prov(Acute)'!$B$1,MATCH($A11,'CCG-Prov(Acute)'!$A$2:$A$29012,0)+VALUE(RIGHT(H$2,1))-1,0),\"\")","v":"NTC"},{"$f":"IF(VALUE(MID(I$2,5,2))<=$D11,OFFSET('CCG-Prov(Acute)'!$B$1,MATCH($A11,'CCG-Prov(Acute)'!$A$2:$A$29012,0)+VALUE(RIGHT(I$2,1))-1,0),\"\")","v":"RBB"},{"$f":"IF(VALUE(MID(J$2,5,2))<=$D11,OFFSET('CCG-Prov(Acute)'!$B$1,MATCH($A11,'CCG-Prov(Acute)'!$A$2:$A$29012,0)+VALUE(RIGHT(J$2,1))-1,0),\"\")","v":"5FL"},{"$f":"IF(VALUE(MID(K$2,5,2))<=$D11,OFFSET('CCG-Prov(Acute)'!$B$1,MATCH($A11,'CCG-Prov(Acute)'!$A$2:$A$29012,0)+VALUE(RIGHT(K$2,1))-1,0),\"\")","v":""},{"$f":"IF(VALUE(MID(L$2,5,2))<=$D11,OFFSET('CCG-Prov(Acute)'!$B$1,MATCH($A11,'CCG-Prov(Acute)'!$A$2:$A$29012,0)+VALUE(RIGHT(L$2,1))-1,0),\"\")","v":""},{"$f":"IF(VALUE(MID(M$2,5,2))<=$D11,OFFSET('CCG-Prov(Acute)'!$B$1,MATCH($A11,'CCG-Prov(Acute)'!$A$2:$A$29012,0)+VALUE(RIGHT(M$2,1))-1,0),\"\")","v":""},{"$f":"IF(VALUE(MID(N$2,5,2))<=$D11,OFFSET('CCG-Prov(Acute)'!$B$1,MATCH($A11,'CCG-Prov(Acute)'!$A$2:$A$29012,0)+VALUE(RIGHT(N$2,1))-1,0),\"\")","v":""},null,null,"5F1",{"$f":"VLOOKUP(Q11,provnames!$A$2:$B$331,2,0)","v":"Plymouth Teaching PCT"},{"$f":"SUM(IF(('CCG-Prov(Acute)'!$B$2:$B$28899=Q11),1,0))","v":5},null,{"$f":"SUM(IF(('CCG-Prov(Amb)'!$A$2:$A$335=A11),1,0))","v":2},{"$f":"SUM(IF(('CCG-Prov(Amb)'!$A$2:$A$335=A11)*('CCG-Prov(Amb)'!$C$2:$C$335>=Ambulance!$B$7),1,0))","v":2},{"$f":"IF(VALUE(MID(W$2,5,2))<=$V11,OFFSET('CCG-Prov(Amb)'!$B$1,MATCH($A11,'CCG-Prov(Amb)'!$A$2:$A$335,0)+VALUE(RIGHT(W$2,1))-1,0),\"\")","v":"RX5"},{"$f":"IF(VALUE(MID(X$2,5,2))<=$V11,OFFSET('CCG-Prov(Amb)'!$B$1,MATCH($A11,'CCG-Prov(Amb)'!$A$2:$A$335,0)+VALUE(RIGHT(X$2,1))-1,0),\"\")","v":"RYF"},{"$f":"IF(VALUE(MID(Y$2,5,2))<=$V11,OFFSET('CCG-Prov(Amb)'!$B$1,MATCH($A11,'CCG-Prov(Amb)'!$A$2:$A$335,0)+VALUE(RIGHT(Y$2,1))-1,0),\"\")","v":""},{"$f":"IF(VALUE(MID(Z$2,5,2))<=$V11,OFFSET('CCG-Prov(Amb)'!$B$1,MATCH($A11,'CCG-Prov(Amb)'!$A$2:$A$335,0)+VALUE(RIGHT(Z$2,1))-1,0),\"\")","v":""},{"$f":"IF(VALUE(MID(AA$2,5,2))<=$V11,OFFSET('CCG-Prov(Amb)'!$B$1,MATCH($A11,'CCG-Prov(Amb)'!$A$2:$A$335,0)+VALUE(RIGHT(AA$2,1))-1,0),\"\")","v":""},null,"RYC","East of England (Ambulance)",{"$f":"SUM(IF(('CCG-Prov(Amb)'!$B$2:$B$335=AC11),1,0))","v":37},null,{"$f":"SUM(IF(('CCG-Prov(Births)'!$A$2:$A$6150=A11),1,0))","v":16},{"$f":"SUM(IF(('CCG-Prov(Births)'!$A$2:$A$6150=A11)*('CCG-Prov(Births)'!$C$2:$C$6150>=Maternity!$B$7),1,0))","v":2},{"$f":"IF(VALUE(MID(AI$2,5,2))<=$V11,OFFSET('CCG-Prov(Births)'!$B$1,MATCH($A11,'CCG-Prov(Births)'!$A$2:$A$6150,0)+VALUE(RIGHT(AI$2,1))-1,0),\"\")","v":"5QK"},{"$f":"IF(VALUE(MID(AJ$2,5,2))<=$V11,OFFSET('CCG-Prov(Births)'!$B$1,MATCH($A11,'CCG-Prov(Births)'!$A$2:$A$6150,0)+VALUE(RIGHT(AJ$2,1))-1,0),\"\")","v":"RA7"},{"$f":"IF(VALUE(MID(AK$2,5,2))<=$V11,OFFSET('CCG-Prov(Births)'!$B$1,MATCH($A11,'CCG-Prov(Births)'!$A$2:$A$6150,0)+VALUE(RIGHT(AK$2,1))-1,0),\"\")","v":""},{"$f":"IF(VALUE(MID(AL$2,5,2))<=$V11,OFFSET('CCG-Prov(Births)'!$B$1,MATCH($A11,'CCG-Prov(Births)'!$A$2:$A$6150,0)+VALUE(RIGHT(AL$2,1))-1,0),\"\")","v":""},{"$f":"IF(VALUE(MID(AM$2,5,2))<=$V11,OFFSET('CCG-Prov(Births)'!$B$1,MATCH($A11,'CCG-Prov(Births)'!$A$2:$A$6150,0)+VALUE(RIGHT(AM$2,1))-1,0),\"\")","v":""},null,"RA2",{"$f":"VLOOKUP(AO11,provnames!$A$2:$B$331,2,0)","v":"Royal Surrey County Hospital NHS FT"},{"$f":"SUM(IF(('CCG-Prov(Births)'!$B$2:$B$6150=AO11),1,0))","v":33}]
["06F","Bedfordshire",{"$f":"SUM(IF(('CCG-Prov(Acute)'!$A$2:$A$29012=A12),1,0))","v":171},{"$f":"SUM(IF(('CCG-Prov(Acute)'!$A$2:$A$29012=A12)*('CCG-Prov(Acute)'!$C$2:$C$29012>=Acute!$B$7),1,0))","v":10},{"$f":"IF(VALUE(MID(E$2,5,2))<=$D12,OFFSET('CCG-Prov(Acute)'!$B$1,MATCH($A12,'CCG-Prov(Acute)'!$A$2:$A$29012,0)+VALUE(RIGHT(E$2,1))-1,0),\"\")","v":"RC1"},{"$f":"IF(VALUE(MID(F$2,5,2))<=$D12,OFFSET('CCG-Prov(Acute)'!$B$1,MATCH($A12,'CCG-Prov(Acute)'!$A$2:$A$29012,0)+VALUE(RIGHT(F$2,1))-1,0),\"\")","v":"RC9"},{"$f":"IF(VALUE(MID(G$2,5,2))<=$D12,OFFSET('CCG-Prov(Acute)'!$B$1,MATCH($A12,'CCG-Prov(Acute)'!$A$2:$A$29012,0)+VALUE(RIGHT(G$2,1))-1,0),\"\")","v":"RWH"},{"$f":"IF(VALUE(MID(H$2,5,2))<=$D12,OFFSET('CCG-Prov(Acute)'!$B$1,MATCH($A12,'CCG-Prov(Acute)'!$A$2:$A$29012,0)+VALUE(RIGHT(H$2,1))-1,0),\"\")","v":"RGT"},{"$f":"IF(VALUE(MID(I$2,5,2))<=$D12,OFFSET('CCG-Prov(Acute)'!$B$1,MATCH($A12,'CCG-Prov(Acute)'!$A$2:$A$29012,0)+VALUE(RIGHT(I$2,1))-1,0),\"\")","v":"RD8"},{"$f":"IF(VALUE(MID(J$2,5,2))<=$D12,OFFSET('CCG-Prov(Acute)'!$B$1,MATCH($A12,'CCG-Prov(Acute)'!$A$2:$A$29012,0)+VALUE(RIGHT(J$2,1))-1,0),\"\")","v":"RXQ"},{"$f":"IF(VALUE(MID(K$2,5,2))<=$D12,OFFSET('CCG-Prov(Acute)'!$B$1,MATCH($A12,'CCG-Prov(Acute)'!$A$2:$A$29012,0)+VALUE(RIGHT(K$2,1))-1,0),\"\")","v":"RGM"},{"$f":"IF(VALUE(MID(L$2,5,2))<=$D12,OFFSET('CCG-Prov(Acute)'!$B$1,MATCH($A12,'CCG-Prov(Acute)'!$A$2:$A$29012,0)+VALUE(RIGHT(L$2,1))-1,0),\"\")","v":"RTH"},{"$f":"IF(VALUE(MID(M$2,5,2))<=$D12,OFFSET('CCG-Prov(Acute)'!$B$1,MATCH($A12,'CCG-Prov(Acute)'!$A$2:$A$29012,0)+VALUE(RIGHT(M$2,1))-1,0),\"\")","v":"RRV"},{"$f":"IF(VALUE(MID(N$2,5,2))<=$D12,OFFSET('CCG-Prov(Acute)'!$B$1,MATCH($A12,'CCG-Prov(Acute)'!$A$2:$A$29012,0)+VALUE(RIGHT(N$2,1))-1,0),\"\")","v":"RYR"},null,null,"5FE",{"$f":"VLOOKUP(Q12,provnames!$A$2:$B$331,2,0)","v":"Portsmouth City Teaching PCT"},{"$f":"SUM(IF(('CCG-Prov(Acute)'!$B$2:$B$28899=Q12),1,0))","v":5},null,{"$f":"SUM(IF(('CCG-Prov(Amb)'!$A$2:$A$335=A12),1,0))","v":3},{"$f":"SUM(IF(('CCG-Prov(Amb)'!$A$2:$A$335=A12)*('CCG-Prov(Amb)'!$C$2:$C$335>=Ambulance!$B$7),1,0))","v":2},{"$f":"IF(VALUE(MID(W$2,5,2))<=$V12,OFFSET('CCG-Prov(Amb)'!$B$1,MATCH($A12,'CCG-Prov(Amb)'!$A$2:$A$335,0)+VALUE(RIGHT(W$2,1))-1,0),\"\")","v":"RYC"},{"$f":"IF(VALUE(MID(X$2,5,2))<=$V12,OFFSET('CCG-Prov(Amb)'!$B$1,MATCH($A12,'CCG-Prov(Amb)'!$A$2:$A$335,0)+VALUE(RIGHT(X$2,1))-1,0),\"\")","v":"RYE"},{"$f":"IF(VALUE(MID(Y$2,5,2))<=$V12,OFFSET('CCG-Prov(Amb)'!$B$1,MATCH($A12,'CCG-Prov(Amb)'!$A$2:$A$335,0)+VALUE(RIGHT(Y$2,1))-1,0),\"\")","v":""},{"$f":"IF(VALUE(MID(Z$2,5,2))<=$V12,OFFSET('CCG-Prov(Amb)'!$B$1,MATCH($A12,'CCG-Prov(Amb)'!$A$2:$A$335,0)+VALUE(RIGHT(Z$2,1))-1,0),\"\")","v":""},{"$f":"IF(VALUE(MID(AA$2,5,2))<=$V12,OFFSET('CCG-Prov(Amb)'!$B$1,MATCH($A12,'CCG-Prov(Amb)'!$A$2:$A$335,0)+VALUE(RIGHT(AA$2,1))-1,0),\"\")","v":""},null,"RYD","South East Coast (Ambulance)",{"$f":"SUM(IF(('CCG-Prov(Amb)'!$B$2:$B$335=AC12),1,0))","v":37},null,{"$f":"SUM(IF(('CCG-Prov(Births)'!$A$2:$A$6150=A12),1,0))","v":54},{"$f":"SUM(IF(('CCG-Prov(Births)'!$A$2:$A$6150=A12)*('CCG-Prov(Births)'!$C$2:$C$6150>=Maternity!$B$7),1,0))","v":6},{"$f":"IF(VALUE(MID(AI$2,5,2))<=$V12,OFFSET('CCG-Prov(Births)'!$B$1,MATCH($A12,'CCG-Prov(Births)'!$A$2:$A$6150,0)+VALUE(RIGHT(AI$2,1))-1,0),\"\")","v":"RC1"},{"$f":"IF(VALUE(MID(AJ$2,5,2))<=$V12,OFFSET('CCG-Prov(Births)'!$B$1,MATCH($A12,'CCG-Prov(Births)'!$A$2:$A$6150,0)+VALUE(RIGHT(AJ$2,1))-1,0),\"\")","v":"RC9"},{"$f":"IF(VALUE(MID(AK$2,5,2))<=$V12,OFFSET('CCG-Prov(Births)'!$B$1,MATCH($A12,'CCG-Prov(Births)'!$A$2:$A$6150,0)+VALUE(RIGHT(AK$2,1))-1,0),\"\")","v":""},{"$f":"IF(VALUE(MID(AL$2,5,2))<=$V12,OFFSET('CCG-Prov(Births)'!$B$1,MATCH($A12,'CCG-Prov(Births)'!$A$2:$A$6150,0)+VALUE(RIGHT(AL$2,1))-1,0),\"\")","v":""},{"$f":"IF(VALUE(MID(AM$2,5,2))<=$V12,OFFSET('CCG-Prov(Births)'!$B$1,MATCH($A12,'CCG-Prov(Births)'!$A$2:$A$6150,0)+VALUE(RIGHT(AM$2,1))-1,0),\"\")","v":""},null,"RA3",{"$f":"VLOOKUP(AO12,provnames!$A$2:$B$331,2,0)","v":"Weston Area Health NHS Trust"},{"$f":"SUM(IF(('CCG-Prov(Births)'!$B$2:$B$6150=AO12),1,0))","v":9}]
["07N","Bexley",{"$f":"SUM(IF(('CCG-Prov(Acute)'!$A$2:$A$29012=A13),1,0))","v":122},{"$f":"SUM(IF(('CCG-Prov(Acute)'!$A$2:$A$29012=A13)*('CCG-Prov(Acute)'!$C$2:$C$29012>=Acute!$B$7),1,0))","v":5},{"$f":"IF(VALUE(MID(E$2,5,2))<=$D13,OFFSET('CCG-Prov(Acute)'!$B$1,MATCH($A13,'CCG-Prov(Acute)'!$A$2:$A$29012,0)+VALUE(RIGHT(E$2,1))-1,0),\"\")","v":"RYQ"},{"$f":"IF(VALUE(MID(F$2,5,2))<=$D13,OFFSET('CCG-Prov(Acute)'!$B$1,MATCH($A13,'CCG-Prov(Acute)'!$A$2:$A$29012,0)+VALUE(RIGHT(F$2,1))-1,0),\"\")","v":"RN7"},{"$f":"IF(VALUE(MID(G$2,5,2))<=$D13,OFFSET('CCG-Prov(Acute)'!$B$1,MATCH($A13,'CCG-Prov(Acute)'!$A$2:$A$29012,0)+VALUE(RIGHT(G$2,1))-1,0),\"\")","v":"RJ1"},{"$f":"IF(VALUE(MID(H$2,5,2))<=$D13,OFFSET('CCG-Prov(Acute)'!$B$1,MATCH($A13,'CCG-Prov(Acute)'!$A$2:$A$29012,0)+VALUE(RIGHT(H$2,1))-1,0),\"\")","v":"RJZ"},{"$f":"IF(VALUE(MID(I$2,5,2))<=$D13,OFFSET('CCG-Prov(Acute)'!$B$1,MATCH($A13,'CCG-Prov(Acute)'!$A$2:$A$29012,0)+VALUE(RIGHT(I$2,1))-1,0),\"\")","v":"RJ2"},{"$f":"IF(VALUE(MID(J$2,5,2))<=$D13,OFFSET('CCG-Prov(Acute)'!$B$1,MATCH($A13,'CCG-Prov(Acute)'!$A$2:$A$29012,0)+VALUE(RIGHT(J$2,1))-1,0),\"\")","v":""},{"$f":"IF(VALUE(MID(K$2,5,2))<=$D13,OFFSET('CCG-Prov(Acute)'!$B$1,MATCH($A13,'CCG-Prov(Acute)'!$A$2:$A$29012,0)+VALUE(RIGHT(K$2,1))-1,0),\"\")","v":""},{"$f":"IF(VALUE(MID(L$2,5,2))<=$D13,OFFSET('CCG-Prov(Acute)'!$B$1,MATCH($A13,'CCG-Prov(Acute)'!$A$2:$A$29012,0)+VALUE(RIGHT(L$2,1))-1,0),\"\")","v":""},{"$f":"IF(VALUE(MID(M$2,5,2))<=$D13,OFFSET('CCG-Prov(Acute)'!$B$1,MATCH($A13,'CCG-Prov(Acute)'!$A$2:$A$29012,0)+VALUE(RIGHT(M$2,1))-1,0),\"\")","v":""},{"$f":"IF(VALUE(MID(N$2,5,2))<=$D13,OFFSET('CCG-Prov(Acute)'!$B$1,MATCH($A13,'CCG-Prov(Acute)'!$A$2:$A$29012,0)+VALUE(RIGHT(N$2,1))-1,0),\"\")","v":""},null,null,"5FL",{"$f":"VLOOKUP(Q13,provnames!$A$2:$B$331,2,0)","v":"Bath & North East Somerset PCT"},{"$f":"SUM(IF(('CCG-Prov(Acute)'!$B$2:$B$28899=Q13),1,0))","v":4},null,{"$f":"SUM(IF(('CCG-Prov(Amb)'!$A$2:$A$335=A13),1,0))","v":2},{"$f":"SUM(IF(('CCG-Prov(Amb)'!$A$2:$A$335=A13)*('CCG-Prov(Amb)'!$C$2:$C$335>=Ambulance!$B$7),1,0))","v":2},{"$f":"IF(VALUE(MID(W$2,5,2))<=$V13,OFFSET('CCG-Prov(Amb)'!$B$1,MATCH($A13,'CCG-Prov(Amb)'!$A$2:$A$335,0)+VALUE(RIGHT(W$2,1))-1,0),\"\")","v":"RRY"},{"$f":"IF(VALUE(MID(X$2,5,2))<=$V13,OFFSET('CCG-Prov(Amb)'!$B$1,MATCH($A13,'CCG-Prov(Amb)'!$A$2:$A$335,0)+VALUE(RIGHT(X$2,1))-1,0),\"\")","v":"RYD"},{"$f":"IF(VALUE(MID(Y$2,5,2))<=$V13,OFFSET('CCG-Prov(Amb)'!$B$1,MATCH($A13,'CCG-Prov(Amb)'!$A$2:$A$335,0)+VALUE(RIGHT(Y$2,1))-1,0),\"\")","v":""},{"$f":"IF(VALUE(MID(Z$2,5,2))<=$V13,OFFSET('CCG-Prov(Amb)'!$B$1,MATCH($A13,'CCG-Prov(Amb)'!$A$2:$A$335,0)+VALUE(RIGHT(Z$2,1))-1,0),\"\")","v":""},{"$f":"IF(VALUE(MID(AA$2,5,2))<=$V13,OFFSET('CCG-Prov(Amb)'!$B$1,MATCH($A13,'CCG-Prov(Amb)'!$A$2:$A$335,0)+VALUE(RIGHT(AA$2,1))-1,0),\"\")","v":""},null,"RYE","South Central (Ambulance)",{"$f":"SUM(IF(('CCG-Prov(Amb)'!$B$2:$B$335=AC13),1,0))","v":32},null,{"$f":"SUM(IF(('CCG-Prov(Births)'!$A$2:$A$6150=A13),1,0))","v":34},{"$f":"SUM(IF(('CCG-Prov(Births)'!$A$2:$A$6150=A13)*('CCG-Prov(Births)'!$C$2:$C$6150>=Maternity!$B$7),1,0))","v":2},{"$f":"IF(VALUE(MID(AI$2,5,2))<=$V13,OFFSET('CCG-Prov(Births)'!$B$1,MATCH($A13,'CCG-Prov(Births)'!$A$2:$A$6150,0)+VALUE(RIGHT(AI$2,1))-1,0),\"\")","v":"RYQ"},{"$f":"IF(VALUE(MID(AJ$2,5,2))<=$V13,OFFSET('CCG-Prov(Births)'!$B$1,MATCH($A13,'CCG-Prov(Births)'!$A$2:$A$6150,0)+VALUE(RIGHT(AJ$2,1))-1,0),\"\")","v":"RN7"},{"$f":"IF(VALUE(MID(AK$2,5,2))<=$V13,OFFSET('CCG-Prov(Births)'!$B$1,MATCH($A13,'CCG-Prov(Births)'!$A$2:$A$6150,0)+VALUE(RIGHT(AK$2,1))-1,0),\"\")","v":""},{"$f":"IF(VALUE(MID(AL$2,5,2))<=$V13,OFFSET('CCG-Prov(Births)'!$B$1,MATCH($A13,'CCG-Prov(Births)'!$A$2:$A$6150,0)+VALUE(RIGHT(AL$2,1))-1,0),\"\")","v":""},{"$f":"IF(VALUE(MID(AM$2,5,2))<=$V13,OFFSET('CCG-Prov(Births)'!$B$1,MATCH($A13,'CCG-Prov(Births)'!$A$2:$A$6150,0)+VALUE(RIGHT(AM$2,1))-1,0),\"\")","v":""},null,"RA4",{"$f":"VLOOKUP(AO13,provnames!$A$2:$B$331,2,0)","v":"Yeovil District Hospital NHS FT"},{"$f":"SUM(IF(('CCG-Prov(Births)'!$B$2:$B$6150=AO13),1,0))","v":14}]
["13P","Birmingham CrossCity",{"$f":"SUM(IF(('CCG-Prov(Acute)'!$A$2:$A$29012=A14),1,0))","v":176},{"$f":"SUM(IF(('CCG-Prov(Acute)'!$A$2:$A$29012=A14)*('CCG-Prov(Acute)'!$C$2:$C$29012>=Acute!$B$7),1,0))","v":9},{"$f":"IF(VALUE(MID(E$2,5,2))<=$D14,OFFSET('CCG-Prov(Acute)'!$B$1,MATCH($A14,'CCG-Prov(Acute)'!$A$2:$A$29012,0)+VALUE(RIGHT(E$2,1))-1,0),\"\")","v":"RR1"},{"$f":"IF(VALUE(MID(F$2,5,2))<=$D14,OFFSET('CCG-Prov(Acute)'!$B$1,MATCH($A14,'CCG-Prov(Acute)'!$A$2:$A$29012,0)+VALUE(RIGHT(F$2,1))-1,0),\"\")","v":"RRK"},{"$f":"IF(VALUE(MID(G$2,5,2))<=$D14,OFFSET('CCG-Prov(Acute)'!$B$1,MATCH($A14,'CCG-Prov(Acute)'!$A$2:$A$29012,0)+VALUE(RIGHT(G$2,1))-1,0),\"\")","v":"RXK"},{"$f":"IF(VALUE(MID(H$2,5,2))<=$D14,OFFSET('CCG-Prov(Acute)'!$B$1,MATCH($A14,'CCG-Prov(Acute)'!$A$2:$A$29012,0)+VALUE(RIGHT(H$2,1))-1,0),\"\")","v":"RQ3"},{"$f":"IF(VALUE(MID(I$2,5,2))<=$D14,OFFSET('CCG-Prov(Acute)'!$B$1,MATCH($A14,'CCG-Prov(Acute)'!$A$2:$A$29012,0)+VALUE(RIGHT(I$2,1))-1,0),\"\")","v":"RRJ"},{"$f":"IF(VALUE(MID(J$2,5,2))<=$D14,OFFSET('CCG-Prov(Acute)'!$B$1,MATCH($A14,'CCG-Prov(Acute)'!$A$2:$A$29012,0)+VALUE(RIGHT(J$2,1))-1,0),\"\")","v":"RLU"},{"$f":"IF(VALUE(MID(K$2,5,2))<=$D14,OFFSET('CCG-Prov(Acute)'!$B$1,MATCH($A14,'CCG-Prov(Acute)'!$A$2:$A$29012,0)+VALUE(RIGHT(K$2,1))-1,0),\"\")","v":"5M1"},{"$f":"IF(VALUE(MID(L$2,5,2))<=$D14,OFFSET('CCG-Prov(Acute)'!$B$1,MATCH($A14,'CCG-Prov(Acute)'!$A$2:$A$29012,0)+VALUE(RIGHT(L$2,1))-1,0),\"\")","v":"NT3"},{"$f":"IF(VALUE(MID(M$2,5,2))<=$D14,OFFSET('CCG-Prov(Acute)'!$B$1,MATCH($A14,'CCG-Prov(Acute)'!$A$2:$A$29012,0)+VALUE(RIGHT(M$2,1))-1,0),\"\")","v":"RYW"},{"$f":"IF(VALUE(MID(N$2,5,2))<=$D14,OFFSET('CCG-Prov(Acute)'!$B$1,MATCH($A14,'CCG-Prov(Acute)'!$A$2:$A$29012,0)+VALUE(RIGHT(N$2,1))-1,0),\"\")","v":""},null,null,"5H8",{"$f":"VLOOKUP(Q14,provnames!$A$2:$B$331,2,0)","v":"Rotherham PCT"},{"$f":"SUM(IF(('CCG-Prov(Acute)'!$B$2:$B$28899=Q14),1,0))","v":5},null,{"$f":"SUM(IF(('CCG-Prov(Amb)'!$A$2:$A$335=A14),1,0))","v":1},{"$f":"SUM(IF(('CCG-Prov(Amb)'!$A$2:$A$335=A14)*('CCG-Prov(Amb)'!$C$2:$C$335>=Ambulance!$B$7),1,0))","v":1},{"$f":"IF(VALUE(MID(W$2,5,2))<=$V14,OFFSET('CCG-Prov(Amb)'!$B$1,MATCH($A14,'CCG-Prov(Amb)'!$A$2:$A$335,0)+VALUE(RIGHT(W$2,1))-1,0),\"\")","v":"RYA"},{"$f":"IF(VALUE(MID(X$2,5,2))<=$V14,OFFSET('CCG-Prov(Amb)'!$B$1,MATCH($A14,'CCG-Prov(Amb)'!$A$2:$A$335,0)+VALUE(RIGHT(X$2,1))-1,0),\"\")","v":""},{"$f":"IF(VALUE(MID(Y$2,5,2))<=$V14,OFFSET('CCG-Prov(Amb)'!$B$1,MATCH($A14,'CCG-Prov(Amb)'!$A$2:$A$335,0)+VALUE(RIGHT(Y$2,1))-1,0),\"\")","v":""},{"$f":"IF(VALUE(MID(Z$2,5,2))<=$V14,OFFSET('CCG-Prov(Amb)'!$B$1,MATCH($A14,'CCG-Prov(Amb)'!$A$2:$A$335,0)+VALUE(RIGHT(Z$2,1))-1,0),\"\")","v":""},{"$f":"IF(VALUE(MID(AA$2,5,2))<=$V14,OFFSET('CCG-Prov(Amb)'!$B$1,MATCH($A14,'CCG-Prov(Amb)'!$A$2:$A$335,0)+VALUE(RIGHT(AA$2,1))-1,0),\"\")","v":""},null,"RYF","South Western (Ambulance)",{"$f":"SUM(IF(('CCG-Prov(Amb)'!$B$2:$B$335=AC14),1,0))","v":9},null,{"$f":"SUM(IF(('CCG-Prov(Births)'!$A$2:$A$6150=A14),1,0))","v":48},{"$f":"SUM(IF(('CCG-Prov(Births)'!$A$2:$A$6150=A14)*('CCG-Prov(Births)'!$C$2:$C$6150>=Maternity!$B$7),1,0))","v":3},{"$f":"IF(VALUE(MID(AI$2,5,2))<=$V14,OFFSET('CCG-Prov(Births)'!$B$1,MATCH($A14,'CCG-Prov(Births)'!$A$2:$A$6150,0)+VALUE(RIGHT(AI$2,1))-1,0),\"\")","v":"RR1"},{"$f":"IF(VALUE(MID(AJ$2,5,2))<=$V14,OFFSET('CCG-Prov(Births)'!$B$1,MATCH($A14,'CCG-Prov(Births)'!$A$2:$A$6150,0)+VALUE(RIGHT(AJ$2,1))-1,0),\"\")","v":""},{"$f":"IF(VALUE(MID(AK$2,5,2))<=$V14,OFFSET('CCG-Prov(Births)'!$B$1,MATCH($A14,'CCG-Prov(Births)'!$A$2:$A$6150,0)+VALUE(RIGHT(AK$2,1))-1,0),\"\")","v":""},{"$f":"IF(VALUE(MID(AL$2,5,2))<=$V14,OFFSET('CCG-Prov(Births)'!$B$1,MATCH($A14,'CCG-Prov(Births)'!$A$2:$A$6150,0)+VALUE(RIGHT(AL$2,1))-1,0),\"\")","v":""},{"$f":"IF(VALUE(MID(AM$2,5,2))<=$V14,OFFSET('CCG-Prov(Births)'!$B$1,MATCH($A14,'CCG-Prov(Births)'!$A$2:$A$6150,0)+VALUE(RIGHT(AM$2,1))-1,0),\"\")","v":""},null,"RA7",{"$f":"VLOOKUP(AO14,provnames!$A$2:$B$331,2,0)","v":"University Hospitals Bristol NHS FT"},{"$f":"SUM(IF(('CCG-Prov(Births)'!$B$2:$B$6150=AO14),1,0))","v":21}]
["04X","Birmingham South & Central",{"$f":"SUM(IF(('CCG-Prov(Acute)'!$A$2:$A$29012=A15),1,0))","v":148},{"$f":"SUM(IF(('CCG-Prov(Acute)'!$A$2:$A$29012=A15)*('CCG-Prov(Acute)'!$C$2:$C$29012>=Acute!$B$7),1,0))","v":8},{"$f":"IF(VALUE(MID(E$2,5,2))<=$D15,OFFSET('CCG-Prov(Acute)'!$B$1,MATCH($A15,'CCG-Prov(Acute)'!$A$2:$A$29012,0)+VALUE(RIGHT(E$2,1))-1,0),\"\")","v":"RRK"},{"$f":"IF(VALUE(MID(F$2,5,2))<=$D15,OFFSET('CCG-Prov(Acute)'!$B$1,MATCH($A15,'CCG-Prov(Acute)'!$A$2:$A$29012,0)+VALUE(RIGHT(F$2,1))-1,0),\"\")","v":"RR1"},{"$f":"IF(VALUE(MID(G$2,5,2))<=$D15,OFFSET('CCG-Prov(Acute)'!$B$1,MATCH($A15,'CCG-Prov(Acute)'!$A$2:$A$29012,0)+VALUE(RIGHT(G$2,1))-1,0),\"\")","v":"RXK"},{"$f":"IF(VALUE(MID(H$2,5,2))<=$D15,OFFSET('CCG-Prov(Acute)'!$B$1,MATCH($A15,'CCG-Prov(Acute)'!$A$2:$A$29012,0)+VALUE(RIGHT(H$2,1))-1,0),\"\")","v":"RQ3"},{"$f":"IF(VALUE(MID(I$2,5,2))<=$D15,OFFSET('CCG-Prov(Acute)'!$B$1,MATCH($A15,'CCG-Prov(Acute)'!$A$2:$A$29012,0)+VALUE(RIGHT(I$2,1))-1,0),\"\")","v":"RRJ"},{"$f":"IF(VALUE(MID(J$2,5,2))<=$D15,OFFSET('CCG-Prov(Acute)'!$B$1,MATCH($A15,'CCG-Prov(Acute)'!$A$2:$A$29012,0)+VALUE(RIGHT(J$2,1))-1,0),\"\")","v":"RLU"},{"$f":"IF(VALUE(MID(K$2,5,2))<=$D15,OFFSET('CCG-Prov(Acute)'!$B$1,MATCH($A15,'CCG-Prov(Acute)'!$A$2:$A$29012,0)+VALUE(RIGHT(K$2,1))-1,0),\"\")","v":"5M1"},{"$f":"IF(VALUE(MID(L$2,5,2))<=$D15,OFFSET('CCG-Prov(Acute)'!$B$1,MATCH($A15,'CCG-Prov(Acute)'!$A$2:$A$29012,0)+VALUE(RIGHT(L$2,1))-1,0),\"\")","v":"RWP"},{"$f":"IF(VALUE(MID(M$2,5,2))<=$D15,OFFSET('CCG-Prov(Acute)'!$B$1,MATCH($A15,'CCG-Prov(Acute)'!$A$2:$A$29012,0)+VALUE(RIGHT(M$2,1))-1,0),\"\")","v":""},{"$f":"IF(VALUE(MID(N$2,5,2))<=$D15,OFFSET('CCG-Prov(Acute)'!$B$1,MATCH($A15,'CCG-Prov(Acute)'!$A$2:$A$29012,0)+VALUE(RIGHT(N$2,1))-1,0),\"\")","v":""},null,null,"5J2",{"$f":"VLOOKUP(Q15,provnames!$A$2:$B$331,2,0)","v":"Warrington PCT"},{"$f":"SUM(IF(('CCG-Prov(Acute)'!$B$2:$B$28899=Q15),1,0))","v":9},null,{"$f":"SUM(IF(('CCG-Prov(Amb)'!$A$2:$A$335=A15),1,0))","v":1},{"$f":"SUM(IF(('CCG-Prov(Amb)'!$A$2:$A$335=A15)*('CCG-Prov(Amb)'!$C$2:$C$335>=Ambulance!$B$7),1,0))","v":1},{"$f":"IF(VALUE(MID(W$2,5,2))<=$V15,OFFSET('CCG-Prov(Amb)'!$B$1,MATCH($A15,'CCG-Prov(Amb)'!$A$2:$A$335,0)+VALUE(RIGHT(W$2,1))-1,0),\"\")","v":"RYA"},{"$f":"IF(VALUE(MID(X$2,5,2))<=$V15,OFFSET('CCG-Prov(Amb)'!$B$1,MATCH($A15,'CCG-Prov(Amb)'!$A$2:$A$335,0)+VALUE(RIGHT(X$2,1))-1,0),\"\")","v":""},{"$f":"IF(VALUE(MID(Y$2,5,2))<=$V15,OFFSET('CCG-Prov(Amb)'!$B$1,MATCH($A15,'CCG-Prov(Amb)'!$A$2:$A$335,0)+VALUE(RIGHT(Y$2,1))-1,0),\"\")","v":""},{"$f":"IF(VALUE(MID(Z$2,5,2))<=$V15,OFFSET('CCG-Prov(Amb)'!$B$1,MATCH($A15,'CCG-Prov(Amb)'!$A$2:$A$335,0)+VALUE(RIGHT(Z$2,1))-1,0),\"\")","v":""},{"$f":"IF(VALUE(MID(AA$2,5,2))<=$V15,OFFSET('CCG-Prov(Amb)'!$B$1,MATCH($A15,'CCG-Prov(Amb)'!$A$2:$A$335,0)+VALUE(RIGHT(AA$2,1))-1,0),\"\")","v":""},null,null,null,null,null,{"$f":"SUM(IF(('CCG-Prov(Births)'!$A$2:$A$6150=A15),1,0))","v":34},{"$f":"SUM(IF(('CCG-Prov(Births)'!$A$2:$A$6150=A15)*('CCG-Prov(Births)'!$C$2:$C$6150>=Maternity!$B$7),1,0))","v":4},{"$f":"IF(VALUE(MID(AI$2,5,2))<=$V15,OFFSET('CCG-Prov(Births)'!$B$1,MATCH($A15,'CCG-Prov(Births)'!$A$2:$A$6150,0)+VALUE(RIGHT(AI$2,1))-1,0),\"\")","v":"RLU"},{"$f":"IF(VALUE(MID(AJ$2,5,2))<=$V15,OFFSET('CCG-Prov(Births)'!$B$1,MATCH($A15,'CCG-Prov(Births)'!$A$2:$A$6150,0)+VALUE(RIGHT(AJ$2,1))-1,0),\"\")","v":""},{"$f":"IF(VALUE(MID(AK$2,5,2))<=$V15,OFFSET('CCG-Prov(Births)'!$B$1,MATCH($A15,'CCG-Prov(Births)'!$A$2:$A$6150,0)+VALUE(RIGHT(AK$2,1))-1,0),\"\")","v":""},{"$f":"IF(VALUE(MID(AL$2,5,2))<=$V15,OFFSET('CCG-Prov(Births)'!$B$1,MATCH($A15,'CCG-Prov(Births)'!$A$2:$A$6150,0)+VALUE(RIGHT(AL$2,1))-1,0),\"\")","v":""},{"$f":"IF(VALUE(MID(AM$2,5,2))<=$V15,OFFSET('CCG-Prov(Births)'!$B$1,MATCH($A15,'CCG-Prov(Births)'!$A$2:$A$6150,0)+VALUE(RIGHT(AM$2,1))-1,0),\"\")","v":""},null,"RA9",{"$f":"VLOOKUP(AO15,provnames!$A$2:$B$331,2,0)","v":"South Devon Healthcare NHS FT"},{"$f":"SUM(IF(('CCG-Prov(Births)'!$B$2:$B$6150=AO15),1,0))","v":31}]
["00Q","Blackburn with Darwen",{"$f":"SUM(IF(('CCG-Prov(Acute)'!$A$2:$A$29012=A16),1,0))","v":115},{"$f":"SUM(IF(('CCG-Prov(Acute)'!$A$2:$A$29012=A16)*('CCG-Prov(Acute)'!$C$2:$C$29012>=Acute!$B$7),1,0))","v":5},{"$f":"IF(VALUE(MID(E$2,5,2))<=$D16,OFFSET('CCG-Prov(Acute)'!$B$1,MATCH($A16,'CCG-Prov(Acute)'!$A$2:$A$29012,0)+VALUE(RIGHT(E$2,1))-1,0),\"\")","v":"RXR"},{"$f":"IF(VALUE(MID(F$2,5,2))<=$D16,OFFSET('CCG-Prov(Acute)'!$B$1,MATCH($A16,'CCG-Prov(Acute)'!$A$2:$A$29012,0)+VALUE(RIGHT(F$2,1))-1,0),\"\")","v":"RXN"},{"$f":"IF(VALUE(MID(G$2,5,2))<=$D16,OFFSET('CCG-Prov(Acute)'!$B$1,MATCH($A16,'CCG-Prov(Acute)'!$A$2:$A$29012,0)+VALUE(RIGHT(G$2,1))-1,0),\"\")","v":"NT4"},{"$f":"IF(VALUE(MID(H$2,5,2))<=$D16,OFFSET('CCG-Prov(Acute)'!$B$1,MATCH($A16,'CCG-Prov(Acute)'!$A$2:$A$29012,0)+VALUE(RIGHT(H$2,1))-1,0),\"\")","v":"RW3"},{"$f":"IF(VALUE(MID(I$2,5,2))<=$D16,OFFSET('CCG-Prov(Acute)'!$B$1,MATCH($A16,'CCG-Prov(Acute)'!$A$2:$A$29012,0)+VALUE(RIGHT(I$2,1))-1,0),\"\")","v":"NVC"},{"$f":"IF(VALUE(MID(J$2,5,2))<=$D16,OFFSET('CCG-Prov(Acute)'!$B$1,MATCH($A16,'CCG-Prov(Acute)'!$A$2:$A$29012,0)+VALUE(RIGHT(J$2,1))-1,0),\"\")","v":""},{"$f":"IF(VALUE(MID(K$2,5,2))<=$D16,OFFSET('CCG-Prov(Acute)'!$B$1,MATCH($A16,'CCG-Prov(Acute)'!$A$2:$A$29012,0)+VALUE(RIGHT(K$2,1))-1,0),\"\")","v":""},{"$f":"IF(VALUE(MID(L$2,5,2))<=$D16,OFFSET('CCG-Prov(Acute)'!$B$1,MATCH($A16,'CCG-Prov(Acute)'!$A$2:$A$29012,0)+VALUE(RIGHT(L$2,1))-1,0),\"\")","v":""},{"$f":"IF(VALUE(MID(M$2,5,2))<=$D16,OFFSET('CCG-Prov(Acute)'!$B$1,MATCH($A16,'CCG-Prov(Acute)'!$A$2:$A$29012,0)+VALUE(RIGHT(M$2,1))-1,0),\"\")","v":""},{"$f":"IF(VALUE(MID(N$2,5,2))<=$D16,OFFSET('CCG-Prov(Acute)'!$B$1,MATCH($A16,'CCG-Prov(Acute)'!$A$2:$A$29012,0)+VALUE(RIGHT(N$2,1))-1,0),\"\")","v":""},null,null,"5J9",{"$f":"VLOOKUP(Q16,provnames!$A$2:$B$331,2,0)","v":"Darlington PCT"},{"$f":"SUM(IF(('CCG-Prov(Acute)'!$B$2:$B$28899=Q16),1,0))","v":8},null,{"$f":"SUM(IF(('CCG-Prov(Amb)'!$A$2:$A$335=A16),1,0))","v":1},{"$f":"SUM(IF(('CCG-Prov(Amb)'!$A$2:$A$335=A16)*('CCG-Prov(Amb)'!$C$2:$C$335>=Ambulance!$B$7),1,0))","v":1},{"$f":"IF(VALUE(MID(W$2,5,2))<=$V16,OFFSET('CCG-Prov(Amb)'!$B$1,MATCH($A16,'CCG-Prov(Amb)'!$A$2:$A$335,0)+VALUE(RIGHT(W$2,1))-1,0),\"\")","v":"RX7"},{"$f":"IF(VALUE(MID(X$2,5,2))<=$V16,OFFSET('CCG-Prov(Amb)'!$B$1,MATCH($A16,'CCG-Prov(Amb)'!$A$2:$A$335,0)+VALUE(RIGHT(X$2,1))-1,0),\"\")","v":""},{"$f":"IF(VALUE(MID(Y$2,5,2))<=$V16,OFFSET('CCG-Prov(Amb)'!$B$1,MATCH($A16,'CCG-Prov(Amb)'!$A$2:$A$335,0)+VALUE(RIGHT(Y$2,1))-1,0),\"\")","v":""},{"$f":"IF(VALUE(MID(Z$2,5,2))<=$V16,OFFSET('CCG-Prov(Amb)'!$B$1,MATCH($A16,'CCG-Prov(Amb)'!$A$2:$A$335,0)+VALUE(RIGHT(Z$2,1))-1,0),\"\")","v":""},{"$f":"IF(VALUE(MID(AA$2,5,2))<=$V16,OFFSET('CCG-Prov(Amb)'!$B$1,MATCH($A16,'CCG-Prov(Amb)'!$A$2:$A$335,0)+VALUE(RIGHT(AA$2,1))-1,0),\"\")","v":""},null,null,null,null,null,{"$f":"SUM(IF(('CCG-Prov(Births)'!$A$2:$A$6150=A16),1,0))","v":23},{"$f":"SUM(IF(('CCG-Prov(Births)'!$A$2:$A$6150=A16)*('CCG-Prov(Births)'!$C$2:$C$6150>=Maternity!$B$7),1,0))","v":1},{"$f":"IF(VALUE(MID(AI$2,5,2))<=$V16,OFFSET('CCG-Prov(Births)'!$B$1,MATCH($A16,'CCG-Prov(Births)'!$A$2:$A$6150,0)+VALUE(RIGHT(AI$2,1))-1,0),\"\")","v":"RXR"},{"$f":"IF(VALUE(MID(AJ$2,5,2))<=$V16,OFFSET('CCG-Prov(Births)'!$B$1,MATCH($A16,'CCG-Prov(Births)'!$A$2:$A$6150,0)+VALUE(RIGHT(AJ$2,1))-1,0),\"\")","v":""},{"$f":"IF(VALUE(MID(AK$2,5,2))<=$V16,OFFSET('CCG-Prov(Births)'!$B$1,MATCH($A16,'CCG-Prov(Births)'!$A$2:$A$6150,0)+VALUE(RIGHT(AK$2,1))-1,0),\"\")","v":""},{"$f":"IF(VALUE(MID(AL$2,5,2))<=$V16,OFFSET('CCG-Prov(Births)'!$B$1,MATCH($A16,'CCG-Prov(Births)'!$A$2:$A$6150,0)+VALUE(RIGHT(AL$2,1))-1,0),\"\")","v":""},{"$f":"IF(VALUE(MID(AM$2,5,2))<=$V16,OFFSET('CCG-Prov(Births)'!$B$1,MATCH($A16,'CCG-Prov(Births)'!$A$2:$A$6150,0)+VALUE(RIGHT(AM$2,1))-1,0),\"\")","v":""},null,"RAE",{"$f":"VLOOKUP(AO16,provnames!$A$2:$B$331,2,0)","v":"Bradford Teaching Hospitals NHS FT"},{"$f":"SUM(IF(('CCG-Prov(Births)'!$B$2:$B$6150=AO16),1,0))","v":42}]
["00R","Blackpool",{"$f":"SUM(IF(('CCG-Prov(Acute)'!$A$2:$A$29012=A17),1,0))","v":132},{"$f":"SUM(IF(('CCG-Prov(Acute)'!$A$2:$A$29012=A17)*('CCG-Prov(Acute)'!$C$2:$C$29012>=Acute!$B$7),1,0))","v":3},{"$f":"IF(VALUE(MID(E$2,5,2))<=$D17,OFFSET('CCG-Prov(Acute)'!$B$1,MATCH($A17,'CCG-Prov(Acute)'!$A$2:$A$29012,0)+VALUE(RIGHT(E$2,1))-1,0),\"\")","v":"RXL"},{"$f":"IF(VALUE(MID(F$2,5,2))<=$D17,OFFSET('CCG-Prov(Acute)'!$B$1,MATCH($A17,'CCG-Prov(Acute)'!$A$2:$A$29012,0)+VALUE(RIGHT(F$2,1))-1,0),\"\")","v":"RXN"},{"$f":"IF(VALUE(MID(G$2,5,2))<=$D17,OFFSET('CCG-Prov(Acute)'!$B$1,MATCH($A17,'CCG-Prov(Acute)'!$A$2:$A$29012,0)+VALUE(RIGHT(G$2,1))-1,0),\"\")","v":"NVC"},{"$f":"IF(VALUE(MID(H$2,5,2))<=$D17,OFFSET('CCG-Prov(Acute)'!$B$1,MATCH($A17,'CCG-Prov(Acute)'!$A$2:$A$29012,0)+VALUE(RIGHT(H$2,1))-1,0),\"\")","v":""},{"$f":"IF(VALUE(MID(I$2,5,2))<=$D17,OFFSET('CCG-Prov(Acute)'!$B$1,MATCH($A17,'CCG-Prov(Acute)'!$A$2:$A$29012,0)+VALUE(RIGHT(I$2,1))-1,0),\"\")","v":""},{"$f":"IF(VALUE(MID(J$2,5,2))<=$D17,OFFSET('CCG-Prov(Acute)'!$B$1,MATCH($A17,'CCG-Prov(Acute)'!$A$2:$A$29012,0)+VALUE(RIGHT(J$2,1))-1,0),\"\")","v":""},{"$f":"IF(VALUE(MID(K$2,5,2))<=$D17,OFFSET('CCG-Prov(Acute)'!$B$1,MATCH($A17,'CCG-Prov(Acute)'!$A$2:$A$29012,0)+VALUE(RIGHT(K$2,1))-1,0),\"\")","v":""},{"$f":"IF(VALUE(MID(L$2,5,2))<=$D17,OFFSET('CCG-Prov(Acute)'!$B$1,MATCH($A17,'CCG-Prov(Acute)'!$A$2:$A$29012,0)+VALUE(RIGHT(L$2,1))-1,0),\"\")","v":""},{"$f":"IF(VALUE(MID(M$2,5,2))<=$D17,OFFSET('CCG-Prov(Acute)'!$B$1,MATCH($A17,'CCG-Prov(Acute)'!$A$2:$A$29012,0)+VALUE(RIGHT(M$2,1))-1,0),\"\")","v":""},{"$f":"IF(VALUE(MID(N$2,5,2))<=$D17,OFFSET('CCG-Prov(Acute)'!$B$1,MATCH($A17,'CCG-Prov(Acute)'!$A$2:$A$29012,0)+VALUE(RIGHT(N$2,1))-1,0),\"\")","v":""},null,null,"5JE",{"$f":"VLOOKUP(Q17,provnames!$A$2:$B$331,2,0)","v":"Barnsley PCT"},{"$f":"SUM(IF(('CCG-Prov(Acute)'!$B$2:$B$28899=Q17),1,0))","v":10},null,{"$f":"SUM(IF(('CCG-Prov(Amb)'!$A$2:$A$335=A17),1,0))","v":1},{"$f":"SUM(IF(('CCG-Prov(Amb)'!$A$2:$A$335=A17)*('CCG-Prov(Amb)'!$C$2:$C$335>=Ambulance!$B$7),1,0))","v":1},{"$f":"IF(VALUE(MID(W$2,5,2))<=$V17,OFFSET('CCG-Prov(Amb)'!$B$1,MATCH($A17,'CCG-Prov(Amb)'!$A$2:$A$335,0)+VALUE(RIGHT(W$2,1))-1,0),\"\")","v":"RX7"},{"$f":"IF(VALUE(MID(X$2,5,2))<=$V17,OFFSET('CCG-Prov(Amb)'!$B$1,MATCH($A17,'CCG-Prov(Amb)'!$A$2:$A$335,0)+VALUE(RIGHT(X$2,1))-1,0),\"\")","v":""},{"$f":"IF(VALUE(MID(Y$2,5,2))<=$V17,OFFSET('CCG-Prov(Amb)'!$B$1,MATCH($A17,'CCG-Prov(Amb)'!$A$2:$A$335,0)+VALUE(RIGHT(Y$2,1))-1,0),\"\")","v":""},{"$f":"IF(VALUE(MID(Z$2,5,2))<=$V17,OFFSET('CCG-Prov(Amb)'!$B$1,MATCH($A17,'CCG-Prov(Amb)'!$A$2:$A$335,0)+VALUE(RIGHT(Z$2,1))-1,0),\"\")","v":""},{"$f":"IF(VALUE(MID(AA$2,5,2))<=$V17,OFFSET('CCG-Prov(Amb)'!$B$1,MATCH($A17,'CCG-Prov(Amb)'!$A$2:$A$335,0)+VALUE(RIGHT(AA$2,1))-1,0),\"\")","v":""},null,null,null,null,null,{"$f":"SUM(IF(('CCG-Prov(Births)'!$A$2:$A$6150=A17),1,0))","v":16},{"$f":"SUM(IF(('CCG-Prov(Births)'!$A$2:$A$6150=A17)*('CCG-Prov(Births)'!$C$2:$C$6150>=Maternity!$B$7),1,0))","v":1},{"$f":"IF(VALUE(MID(AI$2,5,2))<=$V17,OFFSET('CCG-Prov(Births)'!$B$1,MATCH($A17,'CCG-Prov(Births)'!$A$2:$A$6150,0)+VALUE(RIGHT(AI$2,1))-1,0),\"\")","v":"RXL"},{"$f":"IF(VALUE(MID(AJ$2,5,2))<=$V17,OFFSET('CCG-Prov(Births)'!$B$1,MATCH($A17,'CCG-Prov(Births)'!$A$2:$A$6150,0)+VALUE(RIGHT(AJ$2,1))-1,0),\"\")","v":""},{"$f":"IF(VALUE(MID(AK$2,5,2))<=$V17,OFFSET('CCG-Prov(Births)'!$B$1,MATCH($A17,'CCG-Prov(Births)'!$A$2:$A$6150,0)+VALUE(RIGHT(AK$2,1))-1,0),\"\")","v":""},{"$f":"IF(VALUE(MID(AL$2,5,2))<=$V17,OFFSET('CCG-Prov(Births)'!$B$1,MATCH($A17,'CCG-Prov(Births)'!$A$2:$A$6150,0)+VALUE(RIGHT(AL$2,1))-1,0),\"\")","v":""},{"$f":"IF(VALUE(MID(AM$2,5,2))<=$V17,OFFSET('CCG-Prov(Births)'!$B$1,MATCH($A17,'CCG-Prov(Births)'!$A$2:$A$6150,0)+VALUE(RIGHT(AM$2,1))-1,0),\"\")","v":""},null,"RAJ",{"$f":"VLOOKUP(AO17,provnames!$A$2:$B$331,2,0)","v":"Southend Univ Hospital NHS FT"},{"$f":"SUM(IF(('CCG-Prov(Births)'!$B$2:$B$6150=AO17),1,0))","v":24}]
["00T","Bolton",{"$f":"SUM(IF(('CCG-Prov(Acute)'!$A$2:$A$29012=A18),1,0))","v":136},{"$f":"SUM(IF(('CCG-Prov(Acute)'!$A$2:$A$29012=A18)*('CCG-Prov(Acute)'!$C$2:$C$29012>=Acute!$B$7),1,0))","v":10},{"$f":"IF(VALUE(MID(E$2,5,2))<=$D18,OFFSET('CCG-Prov(Acute)'!$B$1,MATCH($A18,'CCG-Prov(Acute)'!$A$2:$A$29012,0)+VALUE(RIGHT(E$2,1))-1,0),\"\")","v":"RMC"},{"$f":"IF(VALUE(MID(F$2,5,2))<=$D18,OFFSET('CCG-Prov(Acute)'!$B$1,MATCH($A18,'CCG-Prov(Acute)'!$A$2:$A$29012,0)+VALUE(RIGHT(F$2,1))-1,0),\"\")","v":"RM3"},{"$f":"IF(VALUE(MID(G$2,5,2))<=$D18,OFFSET('CCG-Prov(Acute)'!$B$1,MATCH($A18,'CCG-Prov(Acute)'!$A$2:$A$29012,0)+VALUE(RIGHT(G$2,1))-1,0),\"\")","v":"NT4"},{"$f":"IF(VALUE(MID(H$2,5,2))<=$D18,OFFSET('CCG-Prov(Acute)'!$B$1,MATCH($A18,'CCG-Prov(Acute)'!$A$2:$A$29012,0)+VALUE(RIGHT(H$2,1))-1,0),\"\")","v":"RW3"},{"$f":"IF(VALUE(MID(I$2,5,2))<=$D18,OFFSET('CCG-Prov(Acute)'!$B$1,MATCH($A18,'CCG-Prov(Acute)'!$A$2:$A$29012,0)+VALUE(RIGHT(I$2,1))-1,0),\"\")","v":"RRF"},{"$f":"IF(VALUE(MID(J$2,5,2))<=$D18,OFFSET('CCG-Prov(Acute)'!$B$1,MATCH($A18,'CCG-Prov(Acute)'!$A$2:$A$29012,0)+VALUE(RIGHT(J$2,1))-1,0),\"\")","v":"RW6"},{"$f":"IF(VALUE(MID(K$2,5,2))<=$D18,OFFSET('CCG-Prov(Acute)'!$B$1,MATCH($A18,'CCG-Prov(Acute)'!$A$2:$A$29012,0)+VALUE(RIGHT(K$2,1))-1,0),\"\")","v":"RXN"},{"$f":"IF(VALUE(MID(L$2,5,2))<=$D18,OFFSET('CCG-Prov(Acute)'!$B$1,MATCH($A18,'CCG-Prov(Acute)'!$A$2:$A$29012,0)+VALUE(RIGHT(L$2,1))-1,0),\"\")","v":"RM2"},{"$f":"IF(VALUE(MID(M$2,5,2))<=$D18,OFFSET('CCG-Prov(Acute)'!$B$1,MATCH($A18,'CCG-Prov(Acute)'!$A$2:$A$29012,0)+VALUE(RIGHT(M$2,1))-1,0),\"\")","v":"RBV"},{"$f":"IF(VALUE(MID(N$2,5,2))<=$D18,OFFSET('CCG-Prov(Acute)'!$B$1,MATCH($A18,'CCG-Prov(Acute)'!$A$2:$A$29012,0)+VALUE(RIGHT(N$2,1))-1,0),\"\")","v":"RXH"},null,null,"5K3",{"$f":"VLOOKUP(Q18,provnames!$A$2:$B$331,2,0)","v":"Swindon PCT"},{"$f":"SUM(IF(('CCG-Prov(Acute)'!$B$2:$B$28899=Q18),1,0))","v":5},null,{"$f":"SUM(IF(('CCG-Prov(Amb)'!$A$2:$A$335=A18),1,0))","v":1},{"$f":"SUM(IF(('CCG-Prov(Amb)'!$A$2:$A$335=A18)*('CCG-Prov(Amb)'!$C$2:$C$335>=Ambulance!$B$7),1,0))","v":1},{"$f":"IF(VALUE(MID(W$2,5,2))<=$V18,OFFSET('CCG-Prov(Amb)'!$B$1,MATCH($A18,'CCG-Prov(Amb)'!$A$2:$A$335,0)+VALUE(RIGHT(W$2,1))-1,0),\"\")","v":"RX7"},{"$f":"IF(VALUE(MID(X$2,5,2))<=$V18,OFFSET('CCG-Prov(Amb)'!$B$1,MATCH($A18,'CCG-Prov(Amb)'!$A$2:$A$335,0)+VALUE(RIGHT(X$2,1))-1,0),\"\")","v":""},{"$f":"IF(VALUE(MID(Y$2,5,2))<=$V18,OFFSET('CCG-Prov(Amb)'!$B$1,MATCH($A18,'CCG-Prov(Amb)'!$A$2:$A$335,0)+VALUE(RIGHT(Y$2,1))-1,0),\"\")","v":""},{"$f":"IF(VALUE(MID(Z$2,5,2))<=$V18,OFFSET('CCG-Prov(Amb)'!$B$1,MATCH($A18,'CCG-Prov(Amb)'!$A$2:$A$335,0)+VALUE(RIGHT(Z$2,1))-1,0),\"\")","v":""},{"$f":"IF(VALUE(MID(AA$2,5,2))<=$V18,OFFSET('CCG-Prov(Amb)'!$B$1,MATCH($A18,'CCG-Prov(Amb)'!$A$2:$A$335,0)+VALUE(RIGHT(AA$2,1))-1,0),\"\")","v":""},null,null,null,null,null,{"$f":"SUM(IF(('CCG-Prov(Births)'!$A$2:$A$6150=A18),1,0))","v":28},{"$f":"SUM(IF(('CCG-Prov(Births)'!$A$2:$A$6150=A18)*('CCG-Prov(Births)'!$C$2:$C$6150>=Maternity!$B$7),1,0))","v":1},{"$f":"IF(VALUE(MID(AI$2,5,2))<=$V18,OFFSET('CCG-Prov(Births)'!$B$1,MATCH($A18,'CCG-Prov(Births)'!$A$2:$A$6150,0)+VALUE(RIGHT(AI$2,1))-1,0),\"\")","v":"RMC"},{"$f":"IF(VALUE(MID(AJ$2,5,2))<=$V18,OFFSET('CCG-Prov(Births)'!$B$1,MATCH($A18,'CCG-Prov(Births)'!$A$2:$A$6150,0)+VALUE(RIGHT(AJ$2,1))-1,0),\"\")","v":""},{"$f":"IF(VALUE(MID(AK$2,5,2))<=$V18,OFFSET('CCG-Prov(Births)'!$B$1,MATCH($A18,'CCG-Prov(Births)'!$A$2:$A$6150,0)+VALUE(RIGHT(AK$2,1))-1,0),\"\")","v":""},{"$f":"IF(VALUE(MID(AL$2,5,2))<=$V18,OFFSET('CCG-Prov(Births)'!$B$1,MATCH($A18,'CCG-Prov(Births)'!$A$2:$A$6150,0)+VALUE(RIGHT(AL$2,1))-1,0),\"\")","v":""},{"$f":"IF(VALUE(MID(AM$2,5,2))<=$V18,OFFSET('CCG-Prov(Births)'!$B$1,MATCH($A18,'CCG-Prov(Births)'!$A$2:$A$6150,0)+VALUE(RIGHT(AM$2,1))-1,0),\"\")","v":""},null,"RAL",{"$f":"VLOOKUP(AO18,provnames!$A$2:$B$331,2,0)","v":"Royal Free Hampstead NHS Trust"},{"$f":"SUM(IF(('CCG-Prov(Births)'!$B$2:$B$6150=AO18),1,0))","v":55}]
["10G","Bracknell & Ascot",{"$f":"SUM(IF(('CCG-Prov(Acute)'!$A$2:$A$29012=A19),1,0))","v":131},{"$f":"SUM(IF(('CCG-Prov(Acute)'!$A$2:$A$29012=A19)*('CCG-Prov(Acute)'!$C$2:$C$29012>=Acute!$B$7),1,0))","v":4},{"$f":"IF(VALUE(MID(E$2,5,2))<=$D19,OFFSET('CCG-Prov(Acute)'!$B$1,MATCH($A19,'CCG-Prov(Acute)'!$A$2:$A$29012,0)+VALUE(RIGHT(E$2,1))-1,0),\"\")","v":"RD7"},{"$f":"IF(VALUE(MID(F$2,5,2))<=$D19,OFFSET('CCG-Prov(Acute)'!$B$1,MATCH($A19,'CCG-Prov(Acute)'!$A$2:$A$29012,0)+VALUE(RIGHT(F$2,1))-1,0),\"\")","v":"RDU"},{"$f":"IF(VALUE(MID(G$2,5,2))<=$D19,OFFSET('CCG-Prov(Acute)'!$B$1,MATCH($A19,'CCG-Prov(Acute)'!$A$2:$A$29012,0)+VALUE(RIGHT(G$2,1))-1,0),\"\")","v":"RHW"},{"$f":"IF(VALUE(MID(H$2,5,2))<=$D19,OFFSET('CCG-Prov(Acute)'!$B$1,MATCH($A19,'CCG-Prov(Acute)'!$A$2:$A$29012,0)+VALUE(RIGHT(H$2,1))-1,0),\"\")","v":"RTK"},{"$f":"IF(VALUE(MID(I$2,5,2))<=$D19,OFFSET('CCG-Prov(Acute)'!$B$1,MATCH($A19,'CCG-Prov(Acute)'!$A$2:$A$29012,0)+VALUE(RIGHT(I$2,1))-1,0),\"\")","v":""},{"$f":"IF(VALUE(MID(J$2,5,2))<=$D19,OFFSET('CCG-Prov(Acute)'!$B$1,MATCH($A19,'CCG-Prov(Acute)'!$A$2:$A$29012,0)+VALUE(RIGHT(J$2,1))-1,0),\"\")","v":""},{"$f":"IF(VALUE(MID(K$2,5,2))<=$D19,OFFSET('CCG-Prov(Acute)'!$B$1,MATCH($A19,'CCG-Prov(Acute)'!$A$2:$A$29012,0)+VALUE(RIGHT(K$2,1))-1,0),\"\")","v":""},{"$f":"IF(VALUE(MID(L$2,5,2))<=$D19,OFFSET('CCG-Prov(Acute)'!$B$1,MATCH($A19,'CCG-Prov(Acute)'!$A$2:$A$29012,0)+VALUE(RIGHT(L$2,1))-1,0),\"\")","v":""},{"$f":"IF(VALUE(MID(M$2,5,2))<=$D19,OFFSET('CCG-Prov(Acute)'!$B$1,MATCH($A19,'CCG-Prov(Acute)'!$A$2:$A$29012,0)+VALUE(RIGHT(M$2,1))-1,0),\"\")","v":""},{"$f":"IF(VALUE(MID(N$2,5,2))<=$D19,OFFSET('CCG-Prov(Acute)'!$B$1,MATCH($A19,'CCG-Prov(Acute)'!$A$2:$A$29012,0)+VALUE(RIGHT(N$2,1))-1,0),\"\")","v":""},null,null,"5K7",{"$f":"VLOOKUP(Q19,provnames!$A$2:$B$331,2,0)","v":"Camden PCT"},{"$f":"SUM(IF(('CCG-Prov(Acute)'!$B$2:$B$28899=Q19),1,0))","v":7},null,{"$f":"SUM(IF(('CCG-Prov(Amb)'!$A$2:$A$335=A19),1,0))","v":2},{"$f":"SUM(IF(('CCG-Prov(Amb)'!$A$2:$A$335=A19)*('CCG-Prov(Amb)'!$C$2:$C$335>=Ambulance!$B$7),1,0))","v":2},{"$f":"IF(VALUE(MID(W$2,5,2))<=$V19,OFFSET('CCG-Prov(Amb)'!$B$1,MATCH($A19,'CCG-Prov(Amb)'!$A$2:$A$335,0)+VALUE(RIGHT(W$2,1))-1,0),\"\")","v":"RYE"},{"$f":"IF(VALUE(MID(X$2,5,2))<=$V19,OFFSET('CCG-Prov(Amb)'!$B$1,MATCH($A19,'CCG-Prov(Amb)'!$A$2:$A$335,0)+VALUE(RIGHT(X$2,1))-1,0),\"\")","v":"RYD"},{"$f":"IF(VALUE(MID(Y$2,5,2))<=$V19,OFFSET('CCG-Prov(Amb)'!$B$1,MATCH($A19,'CCG-Prov(Amb)'!$A$2:$A$335,0)+VALUE(RIGHT(Y$2,1))-1,0),\"\")","v":""},{"$f":"IF(VALUE(MID(Z$2,5,2))<=$V19,OFFSET('CCG-Prov(Amb)'!$B$1,MATCH($A19,'CCG-Prov(Amb)'!$A$2:$A$335,0)+VALUE(RIGHT(Z$2,1))-1,0),\"\")","v":""},{"$f":"IF(VALUE(MID(AA$2,5,2))<=$V19,OFFSET('CCG-Prov(Amb)'!$B$1,MATCH($A19,'CCG-Prov(Amb)'!$A$2:$A$335,0)+VALUE(RIGHT(AA$2,1))-1,0),\"\")","v":""},null,null,null,null,null,{"$f":"SUM(IF(('CCG-Prov(Births)'!$A$2:$A$6150=A19),1,0))","v":29},{"$f":"SUM(IF(('CCG-Prov(Births)'!$A$2:$A$6150=A19)*('CCG-Prov(Births)'!$C$2:$C$6150>=Maternity!$B$7),1,0))","v":4},{"$f":"IF(VALUE(MID(AI$2,5,2))<=$V19,OFFSET('CCG-Prov(Births)'!$B$1,MATCH($A19,'CCG-Prov(Births)'!$A$2:$A$6150,0)+VALUE(RIGHT(AI$2,1))-1,0),\"\")","v":"RDU"},{"$f":"IF(VALUE(MID(AJ$2,5,2))<=$V19,OFFSET('CCG-Prov(Births)'!$B$1,MATCH($A19,'CCG-Prov(Births)'!$A$2:$A$6150,0)+VALUE(RIGHT(AJ$2,1))-1,0),\"\")","v":"RD7"},{"$f":"IF(VALUE(MID(AK$2,5,2))<=$V19,OFFSET('CCG-Prov(Births)'!$B$1,MATCH($A19,'CCG-Prov(Births)'!$A$2:$A$6150,0)+VALUE(RIGHT(AK$2,1))-1,0),\"\")","v":""},{"$f":"IF(VALUE(MID(AL$2,5,2))<=$V19,OFFSET('CCG-Prov(Births)'!$B$1,MATCH($A19,'CCG-Prov(Births)'!$A$2:$A$6150,0)+VALUE(RIGHT(AL$2,1))-1,0),\"\")","v":""},{"$f":"IF(VALUE(MID(AM$2,5,2))<=$V19,OFFSET('CCG-Prov(Births)'!$B$1,MATCH($A19,'CCG-Prov(Births)'!$A$2:$A$6150,0)+VALUE(RIGHT(AM$2,1))-1,0),\"\")","v":""},null,"RAP",{"$f":"VLOOKUP(AO19,provnames!$A$2:$B$331,2,0)","v":"North Middlesex Univ Hospital NHS Trust"},{"$f":"SUM(IF(('CCG-Prov(Births)'!$B$2:$B$6150=AO19),1,0))","v":43}]
["02W","Bradford City",{"$f":"SUM(IF(('CCG-Prov(Acute)'!$A$2:$A$29012=A20),1,0))","v":96},{"$f":"SUM(IF(('CCG-Prov(Acute)'!$A$2:$A$29012=A20)*('CCG-Prov(Acute)'!$C$2:$C$29012>=Acute!$B$7),1,0))","v":2},{"$f":"IF(VALUE(MID(E$2,5,2))<=$D20,OFFSET('CCG-Prov(Acute)'!$B$1,MATCH($A20,'CCG-Prov(Acute)'!$A$2:$A$29012,0)+VALUE(RIGHT(E$2,1))-1,0),\"\")","v":"RAE"},{"$f":"IF(VALUE(MID(F$2,5,2))<=$D20,OFFSET('CCG-Prov(Acute)'!$B$1,MATCH($A20,'CCG-Prov(Acute)'!$A$2:$A$29012,0)+VALUE(RIGHT(F$2,1))-1,0),\"\")","v":"RR8"},{"$f":"IF(VALUE(MID(G$2,5,2))<=$D20,OFFSET('CCG-Prov(Acute)'!$B$1,MATCH($A20,'CCG-Prov(Acute)'!$A$2:$A$29012,0)+VALUE(RIGHT(G$2,1))-1,0),\"\")","v":""},{"$f":"IF(VALUE(MID(H$2,5,2))<=$D20,OFFSET('CCG-Prov(Acute)'!$B$1,MATCH($A20,'CCG-Prov(Acute)'!$A$2:$A$29012,0)+VALUE(RIGHT(H$2,1))-1,0),\"\")","v":""},{"$f":"IF(VALUE(MID(I$2,5,2))<=$D20,OFFSET('CCG-Prov(Acute)'!$B$1,MATCH($A20,'CCG-Prov(Acute)'!$A$2:$A$29012,0)+VALUE(RIGHT(I$2,1))-1,0),\"\")","v":""},{"$f":"IF(VALUE(MID(J$2,5,2))<=$D20,OFFSET('CCG-Prov(Acute)'!$B$1,MATCH($A20,'CCG-Prov(Acute)'!$A$2:$A$29012,0)+VALUE(RIGHT(J$2,1))-1,0),\"\")","v":""},{"$f":"IF(VALUE(MID(K$2,5,2))<=$D20,OFFSET('CCG-Prov(Acute)'!$B$1,MATCH($A20,'CCG-Prov(Acute)'!$A$2:$A$29012,0)+VALUE(RIGHT(K$2,1))-1,0),\"\")","v":""},{"$f":"IF(VALUE(MID(L$2,5,2))<=$D20,OFFSET('CCG-Prov(Acute)'!$B$1,MATCH($A20,'CCG-Prov(Acute)'!$A$2:$A$29012,0)+VALUE(RIGHT(L$2,1))-1,0),\"\")","v":""},{"$f":"IF(VALUE(MID(M$2,5,2))<=$D20,OFFSET('CCG-Prov(Acute)'!$B$1,MATCH($A20,'CCG-Prov(Acute)'!$A$2:$A$29012,0)+VALUE(RIGHT(M$2,1))-1,0),\"\")","v":""},{"$f":"IF(VALUE(MID(N$2,5,2))<=$D20,OFFSET('CCG-Prov(Acute)'!$B$1,MATCH($A20,'CCG-Prov(Acute)'!$A$2:$A$29012,0)+VALUE(RIGHT(N$2,1))-1,0),\"\")","v":""},null,null,"5KG",{"$f":"VLOOKUP(Q20,provnames!$A$2:$B$331,2,0)","v":"South Tyneside PCT"},{"$f":"SUM(IF(('CCG-Prov(Acute)'!$B$2:$B$28899=Q20),1,0))","v":2},null,{"$f":"SUM(IF(('CCG-Prov(Amb)'!$A$2:$A$335=A20),1,0))","v":1},{"$f":"SUM(IF(('CCG-Prov(Amb)'!$A$2:$A$335=A20)*('CCG-Prov(Amb)'!$C$2:$C$335>=Ambulance!$B$7),1,0))","v":1},{"$f":"IF(VALUE(MID(W$2,5,2))<=$V20,OFFSET('CCG-Prov(Amb)'!$B$1,MATCH($A20,'CCG-Prov(Amb)'!$A$2:$A$335,0)+VALUE(RIGHT(W$2,1))-1,0),\"\")","v":"RX8"},{"$f":"IF(VALUE(MID(X$2,5,2))<=$V20,OFFSET('CCG-Prov(Amb)'!$B$1,MATCH($A20,'CCG-Prov(Amb)'!$A$2:$A$335,0)+VALUE(RIGHT(X$2,1))-1,0),\"\")","v":""},{"$f":"IF(VALUE(MID(Y$2,5,2))<=$V20,OFFSET('CCG-Prov(Amb)'!$B$1,MATCH($A20,'CCG-Prov(Amb)'!$A$2:$A$335,0)+VALUE(RIGHT(Y$2,1))-1,0),\"\")","v":""},{"$f":"IF(VALUE(MID(Z$2,5,2))<=$V20,OFFSET('CCG-Prov(Amb)'!$B$1,MATCH($A20,'CCG-Prov(Amb)'!$A$2:$A$335,0)+VALUE(RIGHT(Z$2,1))-1,0),\"\")","v":""},{"$f":"IF(VALUE(MID(AA$2,5,2))<=$V20,OFFSET('CCG-Prov(Amb)'!$B$1,MATCH($A20,'CCG-Prov(Amb)'!$A$2:$A$335,0)+VALUE(RIGHT(AA$2,1))-1,0),\"\")","v":""},null,null,null,null,null,{"$f":"SUM(IF(('CCG-Prov(Births)'!$A$2:$A$6150=A20),1,0))","v":25},{"$f":"SUM(IF(('CCG-Prov(Births)'!$A$2:$A$6150=A20)*('CCG-Prov(Births)'!$C$2:$C$6150>=Maternity!$B$7),1,0))","v":1},{"$f":"IF(VALUE(MID(AI$2,5,2))<=$V20,OFFSET('CCG-Prov(Births)'!$B$1,MATCH($A20,'CCG-Prov(Births)'!$A$2:$A$6150,0)+VALUE(RIGHT(AI$2,1))-1,0),\"\")","v":"RAE"},{"$f":"IF(VALUE(MID(AJ$2,5,2))<=$V20,OFFSET('CCG-Prov(Births)'!$B$1,MATCH($A20,'CCG-Prov(Births)'!$A$2:$A$6150,0)+VALUE(RIGHT(AJ$2,1))-1,0),\"\")","v":""},{"$f":"IF(VALUE(MID(AK$2,5,2))<=$V20,OFFSET('CCG-Prov(Births)'!$B$1,MATCH($A20,'CCG-Prov(Births)'!$A$2:$A$6150,0)+VALUE(RIGHT(AK$2,1))-1,0),\"\")","v":""},{"$f":"IF(VALUE(MID(AL$2,5,2))<=$V20,OFFSET('CCG-Prov(Births)'!$B$1,MATCH($A20,'CCG-Prov(Births)'!$A$2:$A$6150,0)+VALUE(RIGHT(AL$2,1))-1,0),\"\")","v":""},{"$f":"IF(VALUE(MID(AM$2,5,2))<=$V20,OFFSET('CCG-Prov(Births)'!$B$1,MATCH($A20,'CCG-Prov(Births)'!$A$2:$A$6150,0)+VALUE(RIGHT(AM$2,1))-1,0),\"\")","v":""},null,"RAS",{"$f":"VLOOKUP(AO20,provnames!$A$2:$B$331,2,0)","v":"The Hillingdon Hospitals NHS FT"},{"$f":"SUM(IF(('CCG-Prov(Births)'!$B$2:$B$6150=AO20),1,0))","v":46}]
["02R","Bradford Districts",{"$f":"SUM(IF(('CCG-Prov(Acute)'!$A$2:$A$29012=A21),1,0))","v":145},{"$f":"SUM(IF(('CCG-Prov(Acute)'!$A$2:$A$29012=A21)*('CCG-Prov(Acute)'!$C$2:$C$29012>=Acute!$B$7),1,0))","v":7},{"$f":"IF(VALUE(MID(E$2,5,2))<=$D21,OFFSET('CCG-Prov(Acute)'!$B$1,MATCH($A21,'CCG-Prov(Acute)'!$A$2:$A$29012,0)+VALUE(RIGHT(E$2,1))-1,0),\"\")","v":"RAE"},{"$f":"IF(VALUE(MID(F$2,5,2))<=$D21,OFFSET('CCG-Prov(Acute)'!$B$1,MATCH($A21,'CCG-Prov(Acute)'!$A$2:$A$29012,0)+VALUE(RIGHT(F$2,1))-1,0),\"\")","v":"RCF"},{"$f":"IF(VALUE(MID(G$2,5,2))<=$D21,OFFSET('CCG-Prov(Acute)'!$B$1,MATCH($A21,'CCG-Prov(Acute)'!$A$2:$A$29012,0)+VALUE(RIGHT(G$2,1))-1,0),\"\")","v":"NVC"},{"$f":"IF(VALUE(MID(H$2,5,2))<=$D21,OFFSET('CCG-Prov(Acute)'!$B$1,MATCH($A21,'CCG-Prov(Acute)'!$A$2:$A$29012,0)+VALUE(RIGHT(H$2,1))-1,0),\"\")","v":"RR8"},{"$f":"IF(VALUE(MID(I$2,5,2))<=$D21,OFFSET('CCG-Prov(Acute)'!$B$1,MATCH($A21,'CCG-Prov(Acute)'!$A$2:$A$29012,0)+VALUE(RIGHT(I$2,1))-1,0),\"\")","v":"RWY"},{"$f":"IF(VALUE(MID(J$2,5,2))<=$D21,OFFSET('CCG-Prov(Acute)'!$B$1,MATCH($A21,'CCG-Prov(Acute)'!$A$2:$A$29012,0)+VALUE(RIGHT(J$2,1))-1,0),\"\")","v":"NTA"},{"$f":"IF(VALUE(MID(K$2,5,2))<=$D21,OFFSET('CCG-Prov(Acute)'!$B$1,MATCH($A21,'CCG-Prov(Acute)'!$A$2:$A$29012,0)+VALUE(RIGHT(K$2,1))-1,0),\"\")","v":"RXF"},{"$f":"IF(VALUE(MID(L$2,5,2))<=$D21,OFFSET('CCG-Prov(Acute)'!$B$1,MATCH($A21,'CCG-Prov(Acute)'!$A$2:$A$29012,0)+VALUE(RIGHT(L$2,1))-1,0),\"\")","v":""},{"$f":"IF(VALUE(MID(M$2,5,2))<=$D21,OFFSET('CCG-Prov(Acute)'!$B$1,MATCH($A21,'CCG-Prov(Acute)'!$A$2:$A$29012,0)+VALUE(RIGHT(M$2,1))-1,0),\"\")","v":""},{"$f":"IF(VALUE(MID(N$2,5,2))<=$D21,OFFSET('CCG-Prov(Acute)'!$B$1,MATCH($A21,'CCG-Prov(Acute)'!$A$2:$A$29012,0)+VALUE(RIGHT(N$2,1))-1,0),\"\")","v":""},null,null,"5KL",{"$f":"VLOOKUP(Q21,provnames!$A$2:$B$331,2,0)","v":"Sunderland Teaching PCT"},{"$f":"SUM(IF(('CCG-Prov(Acute)'!$B$2:$B$28899=Q21),1,0))","v":3},null,{"$f":"SUM(IF(('CCG-Prov(Amb)'!$A$2:$A$335=A21),1,0))","v":1},{"$f":"SUM(IF(('CCG-Prov(Amb)'!$A$2:$A$335=A21)*('CCG-Prov(Amb)'!$C$2:$C$335>=Ambulance!$B$7),1,0))","v":1},{"$f":"IF(VALUE(MID(W$2,5,2))<=$V21,OFFSET('CCG-Prov(Amb)'!$B$1,MATCH($A21,'CCG-Prov(Amb)'!$A$2:$A$335,0)+VALUE(RIGHT(W$2,1))-1,0),\"\")","v":"RX8"},{"$f":"IF(VALUE(MID(X$2,5,2))<=$V21,OFFSET('CCG-Prov(Amb)'!$B$1,MATCH($A21,'CCG-Prov(Amb)'!$A$2:$A$335,0)+VALUE(RIGHT(X$2,1))-1,0),\"\")","v":""},{"$f":"IF(VALUE(MID(Y$2,5,2))<=$V21,OFFSET('CCG-Prov(Amb)'!$B$1,MATCH($A21,'CCG-Prov(Amb)'!$A$2:$A$335,0)+VALUE(RIGHT(Y$2,1))-1,0),\"\")","v":""},{"$f":"IF(VALUE(MID(Z$2,5,2))<=$V21,OFFSET('CCG-Prov(Amb)'!$B$1,MATCH($A21,'CCG-Prov(Amb)'!$A$2:$A$335,0)+VALUE(RIGHT(Z$2,1))-1,0),\"\")","v":""},{"$f":"IF(VALUE(MID(AA$2,5,2))<=$V21,OFFSET('CCG-Prov(Amb)'!$B$1,MATCH($A21,'CCG-Prov(Amb)'!$A$2:$A$335,0)+VALUE(RIGHT(AA$2,1))-1,0),\"\")","v":""},null,null,null,null,null,{"$f":"SUM(IF(('CCG-Prov(Births)'!$A$2:$A$6150=A21),1,0))","v":38},{"$f":"SUM(IF(('CCG-Prov(Births)'!$A$2:$A$6150=A21)*('CCG-Prov(Births)'!$C$2:$C$6150>=Maternity!$B$7),1,0))","v":4},{"$f":"IF(VALUE(MID(AI$2,5,2))<=$V21,OFFSET('CCG-Prov(Births)'!$B$1,MATCH($A21,'CCG-Prov(Births)'!$A$2:$A$6150,0)+VALUE(RIGHT(AI$2,1))-1,0),\"\")","v":"RAE"},{"$f":"IF(VALUE(MID(AJ$2,5,2))<=$V21,OFFSET('CCG-Prov(Births)'!$B$1,MATCH($A21,'CCG-Prov(Births)'!$A$2:$A$6150,0)+VALUE(RIGHT(AJ$2,1))-1,0),\"\")","v":""},{"$f":"IF(VALUE(MID(AK$2,5,2))<=$V21,OFFSET('CCG-Prov(Births)'!$B$1,MATCH($A21,'CCG-Prov(Births)'!$A$2:$A$6150,0)+VALUE(RIGHT(AK$2,1))-1,0),\"\")","v":""},{"$f":"IF(VALUE(MID(AL$2,5,2))<=$V21,OFFSET('CCG-Prov(Births)'!$B$1,MATCH($A21,'CCG-Prov(Births)'!$A$2:$A$6150,0)+VALUE(RIGHT(AL$2,1))-1,0),\"\")","v":""},{"$f":"IF(VALUE(MID(AM$2,5,2))<=$V21,OFFSET('CCG-Prov(Births)'!$B$1,MATCH($A21,'CCG-Prov(Births)'!$A$2:$A$6150,0)+VALUE(RIGHT(AM$2,1))-1,0),\"\")","v":""},null,"RAX",{"$f":"VLOOKUP(AO21,provnames!$A$2:$B$331,2,0)","v":"Kingston Hospital NHS Trust"},{"$f":"SUM(IF(('CCG-Prov(Births)'!$B$2:$B$6150=AO21),1,0))","v":67}]
["07P","Brent",{"$f":"SUM(IF(('CCG-Prov(Acute)'!$A$2:$A$29012=A22),1,0))","v":135},{"$f":"SUM(IF(('CCG-Prov(Acute)'!$A$2:$A$29012=A22)*('CCG-Prov(Acute)'!$C$2:$C$29012>=Acute!$B$7),1,0))","v":7},{"$f":"IF(VALUE(MID(E$2,5,2))<=$D22,OFFSET('CCG-Prov(Acute)'!$B$1,MATCH($A22,'CCG-Prov(Acute)'!$A$2:$A$29012,0)+VALUE(RIGHT(E$2,1))-1,0),\"\")","v":"RV8"},{"$f":"IF(VALUE(MID(F$2,5,2))<=$D22,OFFSET('CCG-Prov(Acute)'!$B$1,MATCH($A22,'CCG-Prov(Acute)'!$A$2:$A$29012,0)+VALUE(RIGHT(F$2,1))-1,0),\"\")","v":"RYJ"},{"$f":"IF(VALUE(MID(G$2,5,2))<=$D22,OFFSET('CCG-Prov(Acute)'!$B$1,MATCH($A22,'CCG-Prov(Acute)'!$A$2:$A$29012,0)+VALUE(RIGHT(G$2,1))-1,0),\"\")","v":"RAL"},{"$f":"IF(VALUE(MID(H$2,5,2))<=$D22,OFFSET('CCG-Prov(Acute)'!$B$1,MATCH($A22,'CCG-Prov(Acute)'!$A$2:$A$29012,0)+VALUE(RIGHT(H$2,1))-1,0),\"\")","v":"RRV"},{"$f":"IF(VALUE(MID(I$2,5,2))<=$D22,OFFSET('CCG-Prov(Acute)'!$B$1,MATCH($A22,'CCG-Prov(Acute)'!$A$2:$A$29012,0)+VALUE(RIGHT(I$2,1))-1,0),\"\")","v":"RP6"},{"$f":"IF(VALUE(MID(J$2,5,2))<=$D22,OFFSET('CCG-Prov(Acute)'!$B$1,MATCH($A22,'CCG-Prov(Acute)'!$A$2:$A$29012,0)+VALUE(RIGHT(J$2,1))-1,0),\"\")","v":"RVL"},{"$f":"IF(VALUE(MID(K$2,5,2))<=$D22,OFFSET('CCG-Prov(Acute)'!$B$1,MATCH($A22,'CCG-Prov(Acute)'!$A$2:$A$29012,0)+VALUE(RIGHT(K$2,1))-1,0),\"\")","v":"RQM"},{"$f":"IF(VALUE(MID(L$2,5,2))<=$D22,OFFSET('CCG-Prov(Acute)'!$B$1,MATCH($A22,'CCG-Prov(Acute)'!$A$2:$A$29012,0)+VALUE(RIGHT(L$2,1))-1,0),\"\")","v":""},{"$f":"IF(VALUE(MID(M$2,5,2))<=$D22,OFFSET('CCG-Prov(Acute)'!$B$1,MATCH($A22,'CCG-Prov(Acute)'!$A$2:$A$29012,0)+VALUE(RIGHT(M$2,1))-1,0),\"\")","v":""},{"$f":"IF(VALUE(MID(N$2,5,2))<=$D22,OFFSET('CCG-Prov(Acute)'!$B$1,MATCH($A22,'CCG-Prov(Acute)'!$A$2:$A$29012,0)+VALUE(RIGHT(N$2,1))-1,0),\"\")","v":""},null,null,"5L1",{"$f":"VLOOKUP(Q22,provnames!$A$2:$B$331,2,0)","v":"Southampton City PCT"},{"$f":"SUM(IF(('CCG-Prov(Acute)'!$B$2:$B$28899=Q22),1,0))","v":6},null,{"$f":"SUM(IF(('CCG-Prov(Amb)'!$A$2:$A$335=A22),1,0))","v":1},{"$f":"SUM(IF(('CCG-Prov(Amb)'!$A$2:$A$335=A22)*('CCG-Prov(Amb)'!$C$2:$C$335>=Ambulance!$B$7),1,0))","v":1},{"$f":"IF(VALUE(MID(W$2,5,2))<=$V22,OFFSET('CCG-Prov(Amb)'!$B$1,MATCH($A22,'CCG-Prov(Amb)'!$A$2:$A$335,0)+VALUE(RIGHT(W$2,1))-1,0),\"\")","v":"RRY"},{"$f":"IF(VALUE(MID(X$2,5,2))<=$V22,OFFSET('CCG-Prov(Amb)'!$B$1,MATCH($A22,'CCG-Prov(Amb)'!$A$2:$A$335,0)+VALUE(RIGHT(X$2,1))-1,0),\"\")","v":""},{"$f":"IF(VALUE(MID(Y$2,5,2))<=$V22,OFFSET('CCG-Prov(Amb)'!$B$1,MATCH($A22,'CCG-Prov(Amb)'!$A$2:$A$335,0)+VALUE(RIGHT(Y$2,1))-1,0),\"\")","v":""},{"$f":"IF(VALUE(MID(Z$2,5,2))<=$V22,OFFSET('CCG-Prov(Amb)'!$B$1,MATCH($A22,'CCG-Prov(Amb)'!$A$2:$A$335,0)+VALUE(RIGHT(Z$2,1))-1,0),\"\")","v":""},{"$f":"IF(VALUE(MID(AA$2,5,2))<=$V22,OFFSET('CCG-Prov(Amb)'!$B$1,MATCH($A22,'CCG-Prov(Amb)'!$A$2:$A$335,0)+VALUE(RIGHT(AA$2,1))-1,0),\"\")","v":""},null,null,null,null,null,{"$f":"SUM(IF(('CCG-Prov(Births)'!$A$2:$A$6150=A22),1,0))","v":48},{"$f":"SUM(IF(('CCG-Prov(Births)'!$A$2:$A$6150=A22)*('CCG-Prov(Births)'!$C$2:$C$6150>=Maternity!$B$7),1,0))","v":5},{"$f":"IF(VALUE(MID(AI$2,5,2))<=$V22,OFFSET('CCG-Prov(Births)'!$B$1,MATCH($A22,'CCG-Prov(Births)'!$A$2:$A$6150,0)+VALUE(RIGHT(AI$2,1))-1,0),\"\")","v":"RV8"},{"$f":"IF(VALUE(MID(AJ$2,5,2))<=$V22,OFFSET('CCG-Prov(Births)'!$B$1,MATCH($A22,'CCG-Prov(Births)'!$A$2:$A$6150,0)+VALUE(RIGHT(AJ$2,1))-1,0),\"\")","v":""},{"$f":"IF(VALUE(MID(AK$2,5,2))<=$V22,OFFSET('CCG-Prov(Births)'!$B$1,MATCH($A22,'CCG-Prov(Births)'!$A$2:$A$6150,0)+VALUE(RIGHT(AK$2,1))-1,0),\"\")","v":""},{"$f":"IF(VALUE(MID(AL$2,5,2))<=$V22,OFFSET('CCG-Prov(Births)'!$B$1,MATCH($A22,'CCG-Prov(Births)'!$A$2:$A$6150,0)+VALUE(RIGHT(AL$2,1))-1,0),\"\")","v":""},{"$f":"IF(VALUE(MID(AM$2,5,2))<=$V22,OFFSET('CCG-Prov(Births)'!$B$1,MATCH($A22,'CCG-Prov(Births)'!$A$2:$A$6150,0)+VALUE(RIGHT(AM$2,1))-1,0),\"\")","v":""},null,"RBA",{"$f":"VLOOKUP(AO22,provnames!$A$2:$B$331,2,0)","v":"Taunton & Somerset NHS FT"},{"$f":"SUM(IF(('CCG-Prov(Births)'!$B$2:$B$6150=AO22),1,0))","v":34}]
["09D","Brighton & Hove",{"$f":"SUM(IF(('CCG-Prov(Acute)'!$A$2:$A$29012=A23),1,0))","v":158},{"$f":"SUM(IF(('CCG-Prov(Acute)'!$A$2:$A$29012=A23)*('CCG-Prov(Acute)'!$C$2:$C$29012>=Acute!$B$7),1,0))","v":3},{"$f":"IF(VALUE(MID(E$2,5,2))<=$D23,OFFSET('CCG-Prov(Acute)'!$B$1,MATCH($A23,'CCG-Prov(Acute)'!$A$2:$A$29012,0)+VALUE(RIGHT(E$2,1))-1,0),\"\")","v":"RXH"},{"$f":"IF(VALUE(MID(F$2,5,2))<=$D23,OFFSET('CCG-Prov(Acute)'!$B$1,MATCH($A23,'CCG-Prov(Acute)'!$A$2:$A$29012,0)+VALUE(RIGHT(F$2,1))-1,0),\"\")","v":"NTP"},{"$f":"IF(VALUE(MID(G$2,5,2))<=$D23,OFFSET('CCG-Prov(Acute)'!$B$1,MATCH($A23,'CCG-Prov(Acute)'!$A$2:$A$29012,0)+VALUE(RIGHT(G$2,1))-1,0),\"\")","v":"RYR"},{"$f":"IF(VALUE(MID(H$2,5,2))<=$D23,OFFSET('CCG-Prov(Acute)'!$B$1,MATCH($A23,'CCG-Prov(Acute)'!$A$2:$A$29012,0)+VALUE(RIGHT(H$2,1))-1,0),\"\")","v":""},{"$f":"IF(VALUE(MID(I$2,5,2))<=$D23,OFFSET('CCG-Prov(Acute)'!$B$1,MATCH($A23,'CCG-Prov(Acute)'!$A$2:$A$29012,0)+VALUE(RIGHT(I$2,1))-1,0),\"\")","v":""},{"$f":"IF(VALUE(MID(J$2,5,2))<=$D23,OFFSET('CCG-Prov(Acute)'!$B$1,MATCH($A23,'CCG-Prov(Acute)'!$A$2:$A$29012,0)+VALUE(RIGHT(J$2,1))-1,0),\"\")","v":""},{"$f":"IF(VALUE(MID(K$2,5,2))<=$D23,OFFSET('CCG-Prov(Acute)'!$B$1,MATCH($A23,'CCG-Prov(Acute)'!$A$2:$A$29012,0)+VALUE(RIGHT(K$2,1))-1,0),\"\")","v":""},{"$f":"IF(VALUE(MID(L$2,5,2))<=$D23,OFFSET('CCG-Prov(Acute)'!$B$1,MATCH($A23,'CCG-Prov(Acute)'!$A$2:$A$29012,0)+VALUE(RIGHT(L$2,1))-1,0),\"\")","v":""},{"$f":"IF(VALUE(MID(M$2,5,2))<=$D23,OFFSET('CCG-Prov(Acute)'!$B$1,MATCH($A23,'CCG-Prov(Acute)'!$A$2:$A$29012,0)+VALUE(RIGHT(M$2,1))-1,0),\"\")","v":""},{"$f":"IF(VALUE(MID(N$2,5,2))<=$D23,OFFSET('CCG-Prov(Acute)'!$B$1,MATCH($A23,'CCG-Prov(Acute)'!$A$2:$A$29012,0)+VALUE(RIGHT(N$2,1))-1,0),\"\")","v":""},null,null,"5L3",{"$f":"VLOOKUP(Q23,provnames!$A$2:$B$331,2,0)","v":"Medway PCT"},{"$f":"SUM(IF(('CCG-Prov(Acute)'!$B$2:$B$28899=Q23),1,0))","v":4},null,{"$f":"SUM(IF(('CCG-Prov(Amb)'!$A$2:$A$335=A23),1,0))","v":1},{"$f":"SUM(IF(('CCG-Prov(Amb)'!$A$2:$A$335=A23)*('CCG-Prov(Amb)'!$C$2:$C$335>=Ambulance!$B$7),1,0))","v":1},{"$f":"IF(VALUE(MID(W$2,5,2))<=$V23,OFFSET('CCG-Prov(Amb)'!$B$1,MATCH($A23,'CCG-Prov(Amb)'!$A$2:$A$335,0)+VALUE(RIGHT(W$2,1))-1,0),\"\")","v":"RYD"},{"$f":"IF(VALUE(MID(X$2,5,2))<=$V23,OFFSET('CCG-Prov(Amb)'!$B$1,MATCH($A23,'CCG-Prov(Amb)'!$A$2:$A$335,0)+VALUE(RIGHT(X$2,1))-1,0),\"\")","v":""},{"$f":"IF(VALUE(MID(Y$2,5,2))<=$V23,OFFSET('CCG-Prov(Amb)'!$B$1,MATCH($A23,'CCG-Prov(Amb)'!$A$2:$A$335,0)+VALUE(RIGHT(Y$2,1))-1,0),\"\")","v":""},{"$f":"IF(VALUE(MID(Z$2,5,2))<=$V23,OFFSET('CCG-Prov(Amb)'!$B$1,MATCH($A23,'CCG-Prov(Amb)'!$A$2:$A$335,0)+VALUE(RIGHT(Z$2,1))-1,0),\"\")","v":""},{"$f":"IF(VALUE(MID(AA$2,5,2))<=$V23,OFFSET('CCG-Prov(Amb)'!$B$1,MATCH($A23,'CCG-Prov(Amb)'!$A$2:$A$335,0)+VALUE(RIGHT(AA$2,1))-1,0),\"\")","v":""},null,null,null,null,null,{"$f":"SUM(IF(('CCG-Prov(Births)'!$A$2:$A$6150=A23),1,0))","v":36},{"$f":"SUM(IF(('CCG-Prov(Births)'!$A$2:$A$6150=A23)*('CCG-Prov(Births)'!$C$2:$C$6150>=Maternity!$B$7),1,0))","v":2},{"$f":"IF(VALUE(MID(AI$2,5,2))<=$V23,OFFSET('CCG-Prov(Births)'!$B$1,MATCH($A23,'CCG-Prov(Births)'!$A$2:$A$6150,0)+VALUE(RIGHT(AI$2,1))-1,0),\"\")","v":"RXH"},{"$f":"IF(VALUE(MID(AJ$2,5,2))<=$V23,OFFSET('CCG-Prov(Births)'!$B$1,MATCH($A23,'CCG-Prov(Births)'!$A$2:$A$6150,0)+VALUE(RIGHT(AJ$2,1))-1,0),\"\")","v":""},{"$f":"IF(VALUE(MID(AK$2,5,2))<=$V23,OFFSET('CCG-Prov(Births)'!$B$1,MATCH($A23,'CCG-Prov(Births)'!$A$2:$A$6150,0)+VALUE(RIGHT(AK$2,1))-1,0),\"\")","v":""},{"$f":"IF(VALUE(MID(AL$2,5,2))<=$V23,OFFSET('CCG-Prov(Births)'!$B$1,MATCH($A23,'CCG-Prov(Births)'!$A$2:$A$6150,0)+VALUE(RIGHT(AL$2,1))-1,0),\"\")","v":""},{"$f":"IF(VALUE(MID(AM$2,5,2))<=$V23,OFFSET('CCG-Prov(Births)'!$B$1,MATCH($A23,'CCG-Prov(Births)'!$A$2:$A$6150,0)+VALUE(RIGHT(AM$2,1))-1,0),\"\")","v":""},null,"RBD",{"$f":"VLOOKUP(AO23,provnames!$A$2:$B$331,2,0)","v":"Dorset County Hospital NHS FT"},{"$f":"SUM(IF(('CCG-Prov(Births)'!$B$2:$B$6150=AO23),1,0))","v":37}]
["11H","Bristol",{"$f":"SUM(IF(('CCG-Prov(Acute)'!$A$2:$A$29012=A24),1,0))","v":170},{"$f":"SUM(IF(('CCG-Prov(Acute)'!$A$2:$A$29012=A24)*('CCG-Prov(Acute)'!$C$2:$C$29012>=Acute!$B$7),1,0))","v":5},{"$f":"IF(VALUE(MID(E$2,5,2))<=$D24,OFFSET('CCG-Prov(Acute)'!$B$1,MATCH($A24,'CCG-Prov(Acute)'!$A$2:$A$29012,0)+VALUE(RIGHT(E$2,1))-1,0),\"\")","v":"RA7"},{"$f":"IF(VALUE(MID(F$2,5,2))<=$D24,OFFSET('CCG-Prov(Acute)'!$B$1,MATCH($A24,'CCG-Prov(Acute)'!$A$2:$A$29012,0)+VALUE(RIGHT(F$2,1))-1,0),\"\")","v":"RVJ"},{"$f":"IF(VALUE(MID(G$2,5,2))<=$D24,OFFSET('CCG-Prov(Acute)'!$B$1,MATCH($A24,'CCG-Prov(Acute)'!$A$2:$A$29012,0)+VALUE(RIGHT(G$2,1))-1,0),\"\")","v":"NTC"},{"$f":"IF(VALUE(MID(H$2,5,2))<=$D24,OFFSET('CCG-Prov(Acute)'!$B$1,MATCH($A24,'CCG-Prov(Acute)'!$A$2:$A$29012,0)+VALUE(RIGHT(H$2,1))-1,0),\"\")","v":"RVN"},{"$f":"IF(VALUE(MID(I$2,5,2))<=$D24,OFFSET('CCG-Prov(Acute)'!$B$1,MATCH($A24,'CCG-Prov(Acute)'!$A$2:$A$29012,0)+VALUE(RIGHT(I$2,1))-1,0),\"\")","v":"NT3"},{"$f":"IF(VALUE(MID(J$2,5,2))<=$D24,OFFSET('CCG-Prov(Acute)'!$B$1,MATCH($A24,'CCG-Prov(Acute)'!$A$2:$A$29012,0)+VALUE(RIGHT(J$2,1))-1,0),\"\")","v":""},{"$f":"IF(VALUE(MID(K$2,5,2))<=$D24,OFFSET('CCG-Prov(Acute)'!$B$1,MATCH($A24,'CCG-Prov(Acute)'!$A$2:$A$29012,0)+VALUE(RIGHT(K$2,1))-1,0),\"\")","v":""},{"$f":"IF(VALUE(MID(L$2,5,2))<=$D24,OFFSET('CCG-Prov(Acute)'!$B$1,MATCH($A24,'CCG-Prov(Acute)'!$A$2:$A$29012,0)+VALUE(RIGHT(L$2,1))-1,0),\"\")","v":""},{"$f":"IF(VALUE(MID(M$2,5,2))<=$D24,OFFSET('CCG-Prov(Acute)'!$B$1,MATCH($A24,'CCG-Prov(Acute)'!$A$2:$A$29012,0)+VALUE(RIGHT(M$2,1))-1,0),\"\")","v":""},{"$f":"IF(VALUE(MID(N$2,5,2))<=$D24,OFFSET('CCG-Prov(Acute)'!$B$1,MATCH($A24,'CCG-Prov(Acute)'!$A$2:$A$29012,0)+VALUE(RIGHT(N$2,1))-1,0),\"\")","v":""},null,null,"5LG",{"$f":"VLOOKUP(Q24,provnames!$A$2:$B$331,2,0)","v":"Wandsworth PCT"},{"$f":"SUM(IF(('CCG-Prov(Acute)'!$B$2:$B$28899=Q24),1,0))","v":27},null,{"$f":"SUM(IF(('CCG-Prov(Amb)'!$A$2:$A$335=A24),1,0))","v":1},{"$f":"SUM(IF(('CCG-Prov(Amb)'!$A$2:$A$335=A24)*('CCG-Prov(Amb)'!$C$2:$C$335>=Ambulance!$B$7),1,0))","v":1},{"$f":"IF(VALUE(MID(W$2,5,2))<=$V24,OFFSET('CCG-Prov(Amb)'!$B$1,MATCH($A24,'CCG-Prov(Amb)'!$A$2:$A$335,0)+VALUE(RIGHT(W$2,1))-1,0),\"\")","v":"RX5"},{"$f":"IF(VALUE(MID(X$2,5,2))<=$V24,OFFSET('CCG-Prov(Amb)'!$B$1,MATCH($A24,'CCG-Prov(Amb)'!$A$2:$A$335,0)+VALUE(RIGHT(X$2,1))-1,0),\"\")","v":""},{"$f":"IF(VALUE(MID(Y$2,5,2))<=$V24,OFFSET('CCG-Prov(Amb)'!$B$1,MATCH($A24,'CCG-Prov(Amb)'!$A$2:$A$335,0)+VALUE(RIGHT(Y$2,1))-1,0),\"\")","v":""},{"$f":"IF(VALUE(MID(Z$2,5,2))<=$V24,OFFSET('CCG-Prov(Amb)'!$B$1,MATCH($A24,'CCG-Prov(Amb)'!$A$2:$A$335,0)+VALUE(RIGHT(Z$2,1))-1,0),\"\")","v":""},{"$f":"IF(VALUE(MID(AA$2,5,2))<=$V24,OFFSET('CCG-Prov(Amb)'!$B$1,MATCH($A24,'CCG-Prov(Amb)'!$A$2:$A$335,0)+VALUE(RIGHT(AA$2,1))-1,0),\"\")","v":""},null,null,null,null,null,{"$f":"SUM(IF(('CCG-Prov(Births)'!$A$2:$A$6150=A24),1,0))","v":36},{"$f":"SUM(IF(('CCG-Prov(Births)'!$A$2:$A$6150=A24)*('CCG-Prov(Births)'!$C$2:$C$6150>=Maternity!$B$7),1,0))","v":2},{"$f":"IF(VALUE(MID(AI$2,5,2))<=$V24,OFFSET('CCG-Prov(Births)'!$B$1,MATCH($A24,'CCG-Prov(Births)'!$A$2:$A$6150,0)+VALUE(RIGHT(AI$2,1))-1,0),\"\")","v":"RA7"},{"$f":"IF(VALUE(MID(AJ$2,5,2))<=$V24,OFFSET('CCG-Prov(Births)'!$B$1,MATCH($A24,'CCG-Prov(Births)'!$A$2:$A$6150,0)+VALUE(RIGHT(AJ$2,1))-1,0),\"\")","v":""},{"$f":"IF(VALUE(MID(AK$2,5,2))<=$V24,OFFSET('CCG-Prov(Births)'!$B$1,MATCH($A24,'CCG-Prov(Births)'!$A$2:$A$6150,0)+VALUE(RIGHT(AK$2,1))-1,0),\"\")","v":""},{"$f":"IF(VALUE(MID(AL$2,5,2))<=$V24,OFFSET('CCG-Prov(Births)'!$B$1,MATCH($A24,'CCG-Prov(Births)'!$A$2:$A$6150,0)+VALUE(RIGHT(AL$2,1))-1,0),\"\")","v":""},{"$f":"IF(VALUE(MID(AM$2,5,2))<=$V24,OFFSET('CCG-Prov(Births)'!$B$1,MATCH($A24,'CCG-Prov(Births)'!$A$2:$A$6150,0)+VALUE(RIGHT(AM$2,1))-1,0),\"\")","v":""},null,"RBK",{"$f":"VLOOKUP(AO24,provnames!$A$2:$B$331,2,0)","v":"Walsall Healthcare NHS Trust"},{"$f":"SUM(IF(('CCG-Prov(Births)'!$B$2:$B$6150=AO24),1,0))","v":32}]
["07Q","Bromley",{"$f":"SUM(IF(('CCG-Prov(Acute)'!$A$2:$A$29012=A25),1,0))","v":149},{"$f":"SUM(IF(('CCG-Prov(Acute)'!$A$2:$A$29012=A25)*('CCG-Prov(Acute)'!$C$2:$C$29012>=Acute!$B$7),1,0))","v":5},{"$f":"IF(VALUE(MID(E$2,5,2))<=$D25,OFFSET('CCG-Prov(Acute)'!$B$1,MATCH($A25,'CCG-Prov(Acute)'!$A$2:$A$29012,0)+VALUE(RIGHT(E$2,1))-1,0),\"\")","v":"RYQ"},{"$f":"IF(VALUE(MID(F$2,5,2))<=$D25,OFFSET('CCG-Prov(Acute)'!$B$1,MATCH($A25,'CCG-Prov(Acute)'!$A$2:$A$29012,0)+VALUE(RIGHT(F$2,1))-1,0),\"\")","v":"RJ1"},{"$f":"IF(VALUE(MID(G$2,5,2))<=$D25,OFFSET('CCG-Prov(Acute)'!$B$1,MATCH($A25,'CCG-Prov(Acute)'!$A$2:$A$29012,0)+VALUE(RIGHT(G$2,1))-1,0),\"\")","v":"RJZ"},{"$f":"IF(VALUE(MID(H$2,5,2))<=$D25,OFFSET('CCG-Prov(Acute)'!$B$1,MATCH($A25,'CCG-Prov(Acute)'!$A$2:$A$29012,0)+VALUE(RIGHT(H$2,1))-1,0),\"\")","v":"RJ2"},{"$f":"IF(VALUE(MID(I$2,5,2))<=$D25,OFFSET('CCG-Prov(Acute)'!$B$1,MATCH($A25,'CCG-Prov(Acute)'!$A$2:$A$29012,0)+VALUE(RIGHT(I$2,1))-1,0),\"\")","v":"RJ6"},{"$f":"IF(VALUE(MID(J$2,5,2))<=$D25,OFFSET('CCG-Prov(Acute)'!$B$1,MATCH($A25,'CCG-Prov(Acute)'!$A$2:$A$29012,0)+VALUE(RIGHT(J$2,1))-1,0),\"\")","v":""},{"$f":"IF(VALUE(MID(K$2,5,2))<=$D25,OFFSET('CCG-Prov(Acute)'!$B$1,MATCH($A25,'CCG-Prov(Acute)'!$A$2:$A$29012,0)+VALUE(RIGHT(K$2,1))-1,0),\"\")","v":""},{"$f":"IF(VALUE(MID(L$2,5,2))<=$D25,OFFSET('CCG-Prov(Acute)'!$B$1,MATCH($A25,'CCG-Prov(Acute)'!$A$2:$A$29012,0)+VALUE(RIGHT(L$2,1))-1,0),\"\")","v":""},{"$f":"IF(VALUE(MID(M$2,5,2))<=$D25,OFFSET('CCG-Prov(Acute)'!$B$1,MATCH($A25,'CCG-Prov(Acute)'!$A$2:$A$29012,0)+VALUE(RIGHT(M$2,1))-1,0),\"\")","v":""},{"$f":"IF(VALUE(MID(N$2,5,2))<=$D25,OFFSET('CCG-Prov(Acute)'!$B$1,MATCH($A25,'CCG-Prov(Acute)'!$A$2:$A$29012,0)+VALUE(RIGHT(N$2,1))-1,0),\"\")","v":""},null,null,"5M1",{"$f":"VLOOKUP(Q25,provnames!$A$2:$B$331,2,0)","v":"South Birmingham PCT"},{"$f":"SUM(IF(('CCG-Prov(Acute)'!$B$2:$B$28899=Q25),1,0))","v":41},null,{"$f":"SUM(IF(('CCG-Prov(Amb)'!$A$2:$A$335=A25),1,0))","v":2},{"$f":"SUM(IF(('CCG-Prov(Amb)'!$A$2:$A$335=A25)*('CCG-Prov(Amb)'!$C$2:$C$335>=Ambulance!$B$7),1,0))","v":2},{"$f":"IF(VALUE(MID(W$2,5,2))<=$V25,OFFSET('CCG-Prov(Amb)'!$B$1,MATCH($A25,'CCG-Prov(Amb)'!$A$2:$A$335,0)+VALUE(RIGHT(W$2,1))-1,0),\"\")","v":"RRY"},{"$f":"IF(VALUE(MID(X$2,5,2))<=$V25,OFFSET('CCG-Prov(Amb)'!$B$1,MATCH($A25,'CCG-Prov(Amb)'!$A$2:$A$335,0)+VALUE(RIGHT(X$2,1))-1,0),\"\")","v":"RYD"},{"$f":"IF(VALUE(MID(Y$2,5,2))<=$V25,OFFSET('CCG-Prov(Amb)'!$B$1,MATCH($A25,'CCG-Prov(Amb)'!$A$2:$A$335,0)+VALUE(RIGHT(Y$2,1))-1,0),\"\")","v":""},{"$f":"IF(VALUE(MID(Z$2,5,2))<=$V25,OFFSET('CCG-Prov(Amb)'!$B$1,MATCH($A25,'CCG-Prov(Amb)'!$A$2:$A$335,0)+VALUE(RIGHT(Z$2,1))-1,0),\"\")","v":""},{"$f":"IF(VALUE(MID(AA$2,5,2))<=$V25,OFFSET('CCG-Prov(Amb)'!$B$1,MATCH($A25,'CCG-Prov(Amb)'!$A$2:$A$335,0)+VALUE(RIGHT(AA$2,1))-1,0),\"\")","v":""},null,null,null,null,null,{"$f":"SUM(IF(('CCG-Prov(Births)'!$A$2:$A$6150=A25),1,0))","v":32},{"$f":"SUM(IF(('CCG-Prov(Births)'!$A$2:$A$6150=A25)*('CCG-Prov(Births)'!$C$2:$C$6150>=Maternity!$B$7),1,0))","v":4},{"$f":"IF(VALUE(MID(AI$2,5,2))<=$V25,OFFSET('CCG-Prov(Births)'!$B$1,MATCH($A25,'CCG-Prov(Births)'!$A$2:$A$6150,0)+VALUE(RIGHT(AI$2,1))-1,0),\"\")","v":"RYQ"},{"$f":"IF(VALUE(MID(AJ$2,5,2))<=$V25,OFFSET('CCG-Prov(Births)'!$B$1,MATCH($A25,'CCG-Prov(Births)'!$A$2:$A$6150,0)+VALUE(RIGHT(AJ$2,1))-1,0),\"\")","v":"RJZ"},{"$f":"IF(VALUE(MID(AK$2,5,2))<=$V25,OFFSET('CCG-Prov(Births)'!$B$1,MATCH($A25,'CCG-Prov(Births)'!$A$2:$A$6150,0)+VALUE(RIGHT(AK$2,1))-1,0),\"\")","v":""},{"$f":"IF(VALUE(MID(AL$2,5,2))<=$V25,OFFSET('CCG-Prov(Births)'!$B$1,MATCH($A25,'CCG-Prov(Births)'!$A$2:$A$6150,0)+VALUE(RIGHT(AL$2,1))-1,0),\"\")","v":""},{"$f":"IF(VALUE(MID(AM$2,5,2))<=$V25,OFFSET('CCG-Prov(Births)'!$B$1,MATCH($A25,'CCG-Prov(Births)'!$A$2:$A$6150,0)+VALUE(RIGHT(AM$2,1))-1,0),\"\")","v":""},null,"RBL",{"$f":"VLOOKUP(AO25,provnames!$A$2:$B$331,2,0)","v":"Wirral Univ Teaching Hospital NHS FT"},{"$f":"SUM(IF(('CCG-Prov(Births)'!$B$2:$B$6150=AO25),1,0))","v":33}]
["00V","Bury",{"$f":"SUM(IF(('CCG-Prov(Acute)'!$A$2:$A$29012=A26),1,0))","v":130},{"$f":"SUM(IF(('CCG-Prov(Acute)'!$A$2:$A$29012=A26)*('CCG-Prov(Acute)'!$C$2:$C$29012>=Acute!$B$7),1,0))","v":6},{"$f":"IF(VALUE(MID(E$2,5,2))<=$D26,OFFSET('CCG-Prov(Acute)'!$B$1,MATCH($A26,'CCG-Prov(Acute)'!$A$2:$A$29012,0)+VALUE(RIGHT(E$2,1))-1,0),\"\")","v":"RW6"},{"$f":"IF(VALUE(MID(F$2,5,2))<=$D26,OFFSET('CCG-Prov(Acute)'!$B$1,MATCH($A26,'CCG-Prov(Acute)'!$A$2:$A$29012,0)+VALUE(RIGHT(F$2,1))-1,0),\"\")","v":"RW3"},{"$f":"IF(VALUE(MID(G$2,5,2))<=$D26,OFFSET('CCG-Prov(Acute)'!$B$1,MATCH($A26,'CCG-Prov(Acute)'!$A$2:$A$29012,0)+VALUE(RIGHT(G$2,1))-1,0),\"\")","v":"RM3"},{"$f":"IF(VALUE(MID(H$2,5,2))<=$D26,OFFSET('CCG-Prov(Acute)'!$B$1,MATCH($A26,'CCG-Prov(Acute)'!$A$2:$A$29012,0)+VALUE(RIGHT(H$2,1))-1,0),\"\")","v":"RMC"},{"$f":"IF(VALUE(MID(I$2,5,2))<=$D26,OFFSET('CCG-Prov(Acute)'!$B$1,MATCH($A26,'CCG-Prov(Acute)'!$A$2:$A$29012,0)+VALUE(RIGHT(I$2,1))-1,0),\"\")","v":"RM2"},{"$f":"IF(VALUE(MID(J$2,5,2))<=$D26,OFFSET('CCG-Prov(Acute)'!$B$1,MATCH($A26,'CCG-Prov(Acute)'!$A$2:$A$29012,0)+VALUE(RIGHT(J$2,1))-1,0),\"\")","v":"RBV"},{"$f":"IF(VALUE(MID(K$2,5,2))<=$D26,OFFSET('CCG-Prov(Acute)'!$B$1,MATCH($A26,'CCG-Prov(Acute)'!$A$2:$A$29012,0)+VALUE(RIGHT(K$2,1))-1,0),\"\")","v":""},{"$f":"IF(VALUE(MID(L$2,5,2))<=$D26,OFFSET('CCG-Prov(Acute)'!$B$1,MATCH($A26,'CCG-Prov(Acute)'!$A$2:$A$29012,0)+VALUE(RIGHT(L$2,1))-1,0),\"\")","v":""},{"$f":"IF(VALUE(MID(M$2,5,2))<=$D26,OFFSET('CCG-Prov(Acute)'!$B$1,MATCH($A26,'CCG-Prov(Acute)'!$A$2:$A$29012,0)+VALUE(RIGHT(M$2,1))-1,0),\"\")","v":""},{"$f":"IF(VALUE(MID(N$2,5,2))<=$D26,OFFSET('CCG-Prov(Acute)'!$B$1,MATCH($A26,'CCG-Prov(Acute)'!$A$2:$A$29012,0)+VALUE(RIGHT(N$2,1))-1,0),\"\")","v":""},null,null,"5M2",{"$f":"VLOOKUP(Q26,provnames!$A$2:$B$331,2,0)","v":"Shropshire County PCT"},{"$f":"SUM(IF(('CCG-Prov(Acute)'!$B$2:$B$28899=Q26),1,0))","v":9},null,{"$f":"SUM(IF(('CCG-Prov(Amb)'!$A$2:$A$335=A26),1,0))","v":1},{"$f":"SUM(IF(('CCG-Prov(Amb)'!$A$2:$A$335=A26)*('CCG-Prov(Amb)'!$C$2:$C$335>=Ambulance!$B$7),1,0))","v":1},{"$f":"IF(VALUE(MID(W$2,5,2))<=$V26,OFFSET('CCG-Prov(Amb)'!$B$1,MATCH($A26,'CCG-Prov(Amb)'!$A$2:$A$335,0)+VALUE(RIGHT(W$2,1))-1,0),\"\")","v":"RX7"},{"$f":"IF(VALUE(MID(X$2,5,2))<=$V26,OFFSET('CCG-Prov(Amb)'!$B$1,MATCH($A26,'CCG-Prov(Amb)'!$A$2:$A$335,0)+VALUE(RIGHT(X$2,1))-1,0),\"\")","v":""},{"$f":"IF(VALUE(MID(Y$2,5,2))<=$V26,OFFSET('CCG-Prov(Amb)'!$B$1,MATCH($A26,'CCG-Prov(Amb)'!$A$2:$A$335,0)+VALUE(RIGHT(Y$2,1))-1,0),\"\")","v":""},{"$f":"IF(VALUE(MID(Z$2,5,2))<=$V26,OFFSET('CCG-Prov(Amb)'!$B$1,MATCH($A26,'CCG-Prov(Amb)'!$A$2:$A$335,0)+VALUE(RIGHT(Z$2,1))-1,0),\"\")","v":""},{"$f":"IF(VALUE(MID(AA$2,5,2))<=$V26,OFFSET('CCG-Prov(Amb)'!$B$1,MATCH($A26,'CCG-Prov(Amb)'!$A$2:$A$335,0)+VALUE(RIGHT(AA$2,1))-1,0),\"\")","v":""},null,null,null,null,null,{"$f":"SUM(IF(('CCG-Prov(Births)'!$A$2:$A$6150=A26),1,0))","v":24},{"$f":"SUM(IF(('CCG-Prov(Births)'!$A$2:$A$6150=A26)*('CCG-Prov(Births)'!$C$2:$C$6150>=Maternity!$B$7),1,0))","v":4},{"$f":"IF(VALUE(MID(AI$2,5,2))<=$V26,OFFSET('CCG-Prov(Births)'!$B$1,MATCH($A26,'CCG-Prov(Births)'!$A$2:$A$6150,0)+VALUE(RIGHT(AI$2,1))-1,0),\"\")","v":"RW6"},{"$f":"IF(VALUE(MID(AJ$2,5,2))<=$V26,OFFSET('CCG-Prov(Births)'!$B$1,MATCH($A26,'CCG-Prov(Births)'!$A$2:$A$6150,0)+VALUE(RIGHT(AJ$2,1))-1,0),\"\")","v":""},{"$f":"IF(VALUE(MID(AK$2,5,2))<=$V26,OFFSET('CCG-Prov(Births)'!$B$1,MATCH($A26,'CCG-Prov(Births)'!$A$2:$A$6150,0)+VALUE(RIGHT(AK$2,1))-1,0),\"\")","v":""},{"$f":"IF(VALUE(MID(AL$2,5,2))<=$V26,OFFSET('CCG-Prov(Births)'!$B$1,MATCH($A26,'CCG-Prov(Births)'!$A$2:$A$6150,0)+VALUE(RIGHT(AL$2,1))-1,0),\"\")","v":""},{"$f":"IF(VALUE(MID(AM$2,5,2))<=$V26,OFFSET('CCG-Prov(Births)'!$B$1,MATCH($A26,'CCG-Prov(Births)'!$A$2:$A$6150,0)+VALUE(RIGHT(AM$2,1))-1,0),\"\")","v":""},null,"RBN",{"$f":"VLOOKUP(AO26,provnames!$A$2:$B$331,2,0)","v":"St Helens & Knowsley Hospitals NHS Trust"},{"$f":"SUM(IF(('CCG-Prov(Births)'!$B$2:$B$6150=AO26),1,0))","v":20}]
["02T","Calderdale",{"$f":"SUM(IF(('CCG-Prov(Acute)'!$A$2:$A$29012=A27),1,0))","v":137},{"$f":"SUM(IF(('CCG-Prov(Acute)'!$A$2:$A$29012=A27)*('CCG-Prov(Acute)'!$C$2:$C$29012>=Acute!$B$7),1,0))","v":5},{"$f":"IF(VALUE(MID(E$2,5,2))<=$D27,OFFSET('CCG-Prov(Acute)'!$B$1,MATCH($A27,'CCG-Prov(Acute)'!$A$2:$A$29012,0)+VALUE(RIGHT(E$2,1))-1,0),\"\")","v":"RWY"},{"$f":"IF(VALUE(MID(F$2,5,2))<=$D27,OFFSET('CCG-Prov(Acute)'!$B$1,MATCH($A27,'CCG-Prov(Acute)'!$A$2:$A$29012,0)+VALUE(RIGHT(F$2,1))-1,0),\"\")","v":"RAE"},{"$f":"IF(VALUE(MID(G$2,5,2))<=$D27,OFFSET('CCG-Prov(Acute)'!$B$1,MATCH($A27,'CCG-Prov(Acute)'!$A$2:$A$29012,0)+VALUE(RIGHT(G$2,1))-1,0),\"\")","v":"RR8"},{"$f":"IF(VALUE(MID(H$2,5,2))<=$D27,OFFSET('CCG-Prov(Acute)'!$B$1,MATCH($A27,'CCG-Prov(Acute)'!$A$2:$A$29012,0)+VALUE(RIGHT(H$2,1))-1,0),\"\")","v":"NT3"},{"$f":"IF(VALUE(MID(I$2,5,2))<=$D27,OFFSET('CCG-Prov(Acute)'!$B$1,MATCH($A27,'CCG-Prov(Acute)'!$A$2:$A$29012,0)+VALUE(RIGHT(I$2,1))-1,0),\"\")","v":"RW6"},{"$f":"IF(VALUE(MID(J$2,5,2))<=$D27,OFFSET('CCG-Prov(Acute)'!$B$1,MATCH($A27,'CCG-Prov(Acute)'!$A$2:$A$29012,0)+VALUE(RIGHT(J$2,1))-1,0),\"\")","v":""},{"$f":"IF(VALUE(MID(K$2,5,2))<=$D27,OFFSET('CCG-Prov(Acute)'!$B$1,MATCH($A27,'CCG-Prov(Acute)'!$A$2:$A$29012,0)+VALUE(RIGHT(K$2,1))-1,0),\"\")","v":""},{"$f":"IF(VALUE(MID(L$2,5,2))<=$D27,OFFSET('CCG-Prov(Acute)'!$B$1,MATCH($A27,'CCG-Prov(Acute)'!$A$2:$A$29012,0)+VALUE(RIGHT(L$2,1))-1,0),\"\")","v":""},{"$f":"IF(VALUE(MID(M$2,5,2))<=$D27,OFFSET('CCG-Prov(Acute)'!$B$1,MATCH($A27,'CCG-Prov(Acute)'!$A$2:$A$29012,0)+VALUE(RIGHT(M$2,1))-1,0),\"\")","v":""},{"$f":"IF(VALUE(MID(N$2,5,2))<=$D27,OFFSET('CCG-Prov(Acute)'!$B$1,MATCH($A27,'CCG-Prov(Acute)'!$A$2:$A$29012,0)+VALUE(RIGHT(N$2,1))-1,0),\"\")","v":""},null,null,"5M6",{"$f":"VLOOKUP(Q27,provnames!$A$2:$B$331,2,0)","v":"Richmond & Twickenham PCT"},{"$f":"SUM(IF(('CCG-Prov(Acute)'!$B$2:$B$28899=Q27),1,0))","v":4},null,{"$f":"SUM(IF(('CCG-Prov(Amb)'!$A$2:$A$335=A27),1,0))","v":2},{"$f":"SUM(IF(('CCG-Prov(Amb)'!$A$2:$A$335=A27)*('CCG-Prov(Amb)'!$C$2:$C$335>=Ambulance!$B$7),1,0))","v":1},{"$f":"IF(VALUE(MID(W$2,5,2))<=$V27,OFFSET('CCG-Prov(Amb)'!$B$1,MATCH($A27,'CCG-Prov(Amb)'!$A$2:$A$335,0)+VALUE(RIGHT(W$2,1))-1,0),\"\")","v":"RX8"},{"$f":"IF(VALUE(MID(X$2,5,2))<=$V27,OFFSET('CCG-Prov(Amb)'!$B$1,MATCH($A27,'CCG-Prov(Amb)'!$A$2:$A$335,0)+VALUE(RIGHT(X$2,1))-1,0),\"\")","v":""},{"$f":"IF(VALUE(MID(Y$2,5,2))<=$V27,OFFSET('CCG-Prov(Amb)'!$B$1,MATCH($A27,'CCG-Prov(Amb)'!$A$2:$A$335,0)+VALUE(RIGHT(Y$2,1))-1,0),\"\")","v":""},{"$f":"IF(VALUE(MID(Z$2,5,2))<=$V27,OFFSET('CCG-Prov(Amb)'!$B$1,MATCH($A27,'CCG-Prov(Amb)'!$A$2:$A$335,0)+VALUE(RIGHT(Z$2,1))-1,0),\"\")","v":""},{"$f":"IF(VALUE(MID(AA$2,5,2))<=$V27,OFFSET('CCG-Prov(Amb)'!$B$1,MATCH($A27,'CCG-Prov(Amb)'!$A$2:$A$335,0)+VALUE(RIGHT(AA$2,1))-1,0),\"\")","v":""},null,null,null,null,null,{"$f":"SUM(IF(('CCG-Prov(Births)'!$A$2:$A$6150=A27),1,0))","v":23},{"$f":"SUM(IF(('CCG-Prov(Births)'!$A$2:$A$6150=A27)*('CCG-Prov(Births)'!$C$2:$C$6150>=Maternity!$B$7),1,0))","v":1},{"$f":"IF(VALUE(MID(AI$2,5,2))<=$V27,OFFSET('CCG-Prov(Births)'!$B$1,MATCH($A27,'CCG-Prov(Births)'!$A$2:$A$6150,0)+VALUE(RIGHT(AI$2,1))-1,0),\"\")","v":"RWY"},{"$f":"IF(VALUE(MID(AJ$2,5,2))<=$V27,OFFSET('CCG-Prov(Births)'!$B$1,MATCH($A27,'CCG-Prov(Births)'!$A$2:$A$6150,0)+VALUE(RIGHT(AJ$2,1))-1,0),\"\")","v":""},{"$f":"IF(VALUE(MID(AK$2,5,2))<=$V27,OFFSET('CCG-Prov(Births)'!$B$1,MATCH($A27,'CCG-Prov(Births)'!$A$2:$A$6150,0)+VALUE(RIGHT(AK$2,1))-1,0),\"\")","v":""},{"$f":"IF(VALUE(MID(AL$2,5,2))<=$V27,OFFSET('CCG-Prov(Births)'!$B$1,MATCH($A27,'CCG-Prov(Births)'!$A$2:$A$6150,0)+VALUE(RIGHT(AL$2,1))-1,0),\"\")","v":""},{"$f":"IF(VALUE(MID(AM$2,5,2))<=$V27,OFFSET('CCG-Prov(Births)'!$B$1,MATCH($A27,'CCG-Prov(Births)'!$A$2:$A$6150,0)+VALUE(RIGHT(AM$2,1))-1,0),\"\")","v":""},null,"RBT",{"$f":"VLOOKUP(AO27,provnames!$A$2:$B$331,2,0)","v":"Mid Cheshire Hospitals NHS FT"},{"$f":"SUM(IF(('CCG-Prov(Births)'!$B$2:$B$6150=AO27),1,0))","v":26}]
["06H","Cambridgeshire & Peterborough",{"$f":"SUM(IF(('CCG-Prov(Acute)'!$A$2:$A$29012=A28),1,0))","v":179},{"$f":"SUM(IF(('CCG-Prov(Acute)'!$A$2:$A$29012=A28)*('CCG-Prov(Acute)'!$C$2:$C$29012>=Acute!$B$7),1,0))","v":10},{"$f":"IF(VALUE(MID(E$2,5,2))<=$D28,OFFSET('CCG-Prov(Acute)'!$B$1,MATCH($A28,'CCG-Prov(Acute)'!$A$2:$A$29012,0)+VALUE(RIGHT(E$2,1))-1,0),\"\")","v":"RGT"},{"$f":"IF(VALUE(MID(F$2,5,2))<=$D28,OFFSET('CCG-Prov(Acute)'!$B$1,MATCH($A28,'CCG-Prov(Acute)'!$A$2:$A$29012,0)+VALUE(RIGHT(F$2,1))-1,0),\"\")","v":"RGN"},{"$f":"IF(VALUE(MID(G$2,5,2))<=$D28,OFFSET('CCG-Prov(Acute)'!$B$1,MATCH($A28,'CCG-Prov(Acute)'!$A$2:$A$29012,0)+VALUE(RIGHT(G$2,1))-1,0),\"\")","v":"RQQ"},{"$f":"IF(VALUE(MID(H$2,5,2))<=$D28,OFFSET('CCG-Prov(Acute)'!$B$1,MATCH($A28,'CCG-Prov(Acute)'!$A$2:$A$29012,0)+VALUE(RIGHT(H$2,1))-1,0),\"\")","v":"RCX"},{"$f":"IF(VALUE(MID(I$2,5,2))<=$D28,OFFSET('CCG-Prov(Acute)'!$B$1,MATCH($A28,'CCG-Prov(Acute)'!$A$2:$A$29012,0)+VALUE(RIGHT(I$2,1))-1,0),\"\")","v":"RGM"},{"$f":"IF(VALUE(MID(J$2,5,2))<=$D28,OFFSET('CCG-Prov(Acute)'!$B$1,MATCH($A28,'CCG-Prov(Acute)'!$A$2:$A$29012,0)+VALUE(RIGHT(J$2,1))-1,0),\"\")","v":"RYV"},{"$f":"IF(VALUE(MID(K$2,5,2))<=$D28,OFFSET('CCG-Prov(Acute)'!$B$1,MATCH($A28,'CCG-Prov(Acute)'!$A$2:$A$29012,0)+VALUE(RIGHT(K$2,1))-1,0),\"\")","v":"NVC"},{"$f":"IF(VALUE(MID(L$2,5,2))<=$D28,OFFSET('CCG-Prov(Acute)'!$B$1,MATCH($A28,'CCG-Prov(Acute)'!$A$2:$A$29012,0)+VALUE(RIGHT(L$2,1))-1,0),\"\")","v":"RGR"},{"$f":"IF(VALUE(MID(M$2,5,2))<=$D28,OFFSET('CCG-Prov(Acute)'!$B$1,MATCH($A28,'CCG-Prov(Acute)'!$A$2:$A$29012,0)+VALUE(RIGHT(M$2,1))-1,0),\"\")","v":"RWE"},{"$f":"IF(VALUE(MID(N$2,5,2))<=$D28,OFFSET('CCG-Prov(Acute)'!$B$1,MATCH($A28,'CCG-Prov(Acute)'!$A$2:$A$29012,0)+VALUE(RIGHT(N$2,1))-1,0),\"\")","v":"RA7"},null,null,"5M7",{"$f":"VLOOKUP(Q28,provnames!$A$2:$B$331,2,0)","v":"Sutton & Merton PCT"},{"$f":"SUM(IF(('CCG-Prov(Acute)'!$B$2:$B$28899=Q28),1,0))","v":2},null,{"$f":"SUM(IF(('CCG-Prov(Amb)'!$A$2:$A$335=A28),1,0))","v":2},{"$f":"SUM(IF(('CCG-Prov(Amb)'!$A$2:$A$335=A28)*('CCG-Prov(Amb)'!$C$2:$C$335>=Ambulance!$B$7),1,0))","v":2},{"$f":"IF(VALUE(MID(W$2,5,2))<=$V28,OFFSET('CCG-Prov(Amb)'!$B$1,MATCH($A28,'CCG-Prov(Amb)'!$A$2:$A$335,0)+VALUE(RIGHT(W$2,1))-1,0),\"\")","v":"RYC"},{"$f":"IF(VALUE(MID(X$2,5,2))<=$V28,OFFSET('CCG-Prov(Amb)'!$B$1,MATCH($A28,'CCG-Prov(Amb)'!$A$2:$A$335,0)+VALUE(RIGHT(X$2,1))-1,0),\"\")","v":"RX9"},{"$f":"IF(VALUE(MID(Y$2,5,2))<=$V28,OFFSET('CCG-Prov(Amb)'!$B$1,MATCH($A28,'CCG-Prov(Amb)'!$A$2:$A$335,0)+VALUE(RIGHT(Y$2,1))-1,0),\"\")","v":""},{"$f":"IF(VALUE(MID(Z$2,5,2))<=$V28,OFFSET('CCG-Prov(Amb)'!$B$1,MATCH($A28,'CCG-Prov(Amb)'!$A$2:$A$335,0)+VALUE(RIGHT(Z$2,1))-1,0),\"\")","v":""},{"$f":"IF(VALUE(MID(AA$2,5,2))<=$V28,OFFSET('CCG-Prov(Amb)'!$B$1,MATCH($A28,'CCG-Prov(Amb)'!$A$2:$A$335,0)+VALUE(RIGHT(AA$2,1))-1,0),\"\")","v":""},null,null,null,null,null,{"$f":"SUM(IF(('CCG-Prov(Births)'!$A$2:$A$6150=A28),1,0))","v":63},{"$f":"SUM(IF(('CCG-Prov(Births)'!$A$2:$A$6150=A28)*('CCG-Prov(Births)'!$C$2:$C$6150>=Maternity!$B$7),1,0))","v":5},{"$f":"IF(VALUE(MID(AI$2,5,2))<=$V28,OFFSET('CCG-Prov(Births)'!$B$1,MATCH($A28,'CCG-Prov(Births)'!$A$2:$A$6150,0)+VALUE(RIGHT(AI$2,1))-1,0),\"\")","v":"RGT"},{"$f":"IF(VALUE(MID(AJ$2,5,2))<=$V28,OFFSET('CCG-Prov(Births)'!$B$1,MATCH($A28,'CCG-Prov(Births)'!$A$2:$A$6150,0)+VALUE(RIGHT(AJ$2,1))-1,0),\"\")","v":"RGN"},{"$f":"IF(VALUE(MID(AK$2,5,2))<=$V28,OFFSET('CCG-Prov(Births)'!$B$1,MATCH($A28,'CCG-Prov(Births)'!$A$2:$A$6150,0)+VALUE(RIGHT(AK$2,1))-1,0),\"\")","v":""},{"$f":"IF(VALUE(MID(AL$2,5,2))<=$V28,OFFSET('CCG-Prov(Births)'!$B$1,MATCH($A28,'CCG-Prov(Births)'!$A$2:$A$6150,0)+VALUE(RIGHT(AL$2,1))-1,0),\"\")","v":""},{"$f":"IF(VALUE(MID(AM$2,5,2))<=$V28,OFFSET('CCG-Prov(Births)'!$B$1,MATCH($A28,'CCG-Prov(Births)'!$A$2:$A$6150,0)+VALUE(RIGHT(AM$2,1))-1,0),\"\")","v":""},null,"RBZ",{"$f":"VLOOKUP(AO28,provnames!$A$2:$B$331,2,0)","v":"Northern Devon Healthcare NHS Trust"},{"$f":"SUM(IF(('CCG-Prov(Births)'!$B$2:$B$6150=AO28),1,0))","v":43}]
["07R","Camden",{"$f":"SUM(IF(('CCG-Prov(Acute)'!$A$2:$A$29012=A29),1,0))","v":149},{"$f":"SUM(IF(('CCG-Prov(Acute)'!$A$2:$A$29012=A29)*('CCG-Prov(Acute)'!$C$2:$C$29012>=Acute!$B$7),1,0))","v":5},{"$f":"IF(VALUE(MID(E$2,5,2))<=$D29,OFFSET('CCG-Prov(Acute)'!$B$1,MATCH($A29,'CCG-Prov(Acute)'!$A$2:$A$29012,0)+VALUE(RIGHT(E$2,1))-1,0),\"\")","v":"RAL"},{"$f":"IF(VALUE(MID(F$2,5,2))<=$D29,OFFSET('CCG-Prov(Acute)'!$B$1,MATCH($A29,'CCG-Prov(Acute)'!$A$2:$A$29012,0)+VALUE(RIGHT(F$2,1))-1,0),\"\")","v":"RRV"},{"$f":"IF(VALUE(MID(G$2,5,2))<=$D29,OFFSET('CCG-Prov(Acute)'!$B$1,MATCH($A29,'CCG-Prov(Acute)'!$A$2:$A$29012,0)+VALUE(RIGHT(G$2,1))-1,0),\"\")","v":"RYJ"},{"$f":"IF(VALUE(MID(H$2,5,2))<=$D29,OFFSET('CCG-Prov(Acute)'!$B$1,MATCH($A29,'CCG-Prov(Acute)'!$A$2:$A$29012,0)+VALUE(RIGHT(H$2,1))-1,0),\"\")","v":"RKE"},{"$f":"IF(VALUE(MID(I$2,5,2))<=$D29,OFFSET('CCG-Prov(Acute)'!$B$1,MATCH($A29,'CCG-Prov(Acute)'!$A$2:$A$29012,0)+VALUE(RIGHT(I$2,1))-1,0),\"\")","v":"RJ1"},{"$f":"IF(VALUE(MID(J$2,5,2))<=$D29,OFFSET('CCG-Prov(Acute)'!$B$1,MATCH($A29,'CCG-Prov(Acute)'!$A$2:$A$29012,0)+VALUE(RIGHT(J$2,1))-1,0),\"\")","v":""},{"$f":"IF(VALUE(MID(K$2,5,2))<=$D29,OFFSET('CCG-Prov(Acute)'!$B$1,MATCH($A29,'CCG-Prov(Acute)'!$A$2:$A$29012,0)+VALUE(RIGHT(K$2,1))-1,0),\"\")","v":""},{"$f":"IF(VALUE(MID(L$2,5,2))<=$D29,OFFSET('CCG-Prov(Acute)'!$B$1,MATCH($A29,'CCG-Prov(Acute)'!$A$2:$A$29012,0)+VALUE(RIGHT(L$2,1))-1,0),\"\")","v":""},{"$f":"IF(VALUE(MID(M$2,5,2))<=$D29,OFFSET('CCG-Prov(Acute)'!$B$1,MATCH($A29,'CCG-Prov(Acute)'!$A$2:$A$29012,0)+VALUE(RIGHT(M$2,1))-1,0),\"\")","v":""},{"$f":"IF(VALUE(MID(N$2,5,2))<=$D29,OFFSET('CCG-Prov(Acute)'!$B$1,MATCH($A29,'CCG-Prov(Acute)'!$A$2:$A$29012,0)+VALUE(RIGHT(N$2,1))-1,0),\"\")","v":""},null,null,"5M8",{"$f":"VLOOKUP(Q29,provnames!$A$2:$B$331,2,0)","v":"North Somerset PCT"},{"$f":"SUM(IF(('CCG-Prov(Acute)'!$B$2:$B$28899=Q29),1,0))","v":1},null,{"$f":"SUM(IF(('CCG-Prov(Amb)'!$A$2:$A$335=A29),1,0))","v":1},{"$f":"SUM(IF(('CCG-Prov(Amb)'!$A$2:$A$335=A29)*('CCG-Prov(Amb)'!$C$2:$C$335>=Ambulance!$B$7),1,0))","v":1},{"$f":"IF(VALUE(MID(W$2,5,2))<=$V29,OFFSET('CCG-Prov(Amb)'!$B$1,MATCH($A29,'CCG-Prov(Amb)'!$A$2:$A$335,0)+VALUE(RIGHT(W$2,1))-1,0),\"\")","v":"RRY"},{"$f":"IF(VALUE(MID(X$2,5,2))<=$V29,OFFSET('CCG-Prov(Amb)'!$B$1,MATCH($A29,'CCG-Prov(Amb)'!$A$2:$A$335,0)+VALUE(RIGHT(X$2,1))-1,0),\"\")","v":""},{"$f":"IF(VALUE(MID(Y$2,5,2))<=$V29,OFFSET('CCG-Prov(Amb)'!$B$1,MATCH($A29,'CCG-Prov(Amb)'!$A$2:$A$335,0)+VALUE(RIGHT(Y$2,1))-1,0),\"\")","v":""},{"$f":"IF(VALUE(MID(Z$2,5,2))<=$V29,OFFSET('CCG-Prov(Amb)'!$B$1,MATCH($A29,'CCG-Prov(Amb)'!$A$2:$A$335,0)+VALUE(RIGHT(Z$2,1))-1,0),\"\")","v":""},{"$f":"IF(VALUE(MID(AA$2,5,2))<=$V29,OFFSET('CCG-Prov(Amb)'!$B$1,MATCH($A29,'CCG-Prov(Amb)'!$A$2:$A$335,0)+VALUE(RIGHT(AA$2,1))-1,0),\"\")","v":""},null,null,null,null,null,{"$f":"SUM(IF(('CCG-Prov(Births)'!$A$2:$A$6150=A29),1,0))","v":40},{"$f":"SUM(IF(('CCG-Prov(Births)'!$A$2:$A$6150=A29)*('CCG-Prov(Births)'!$C$2:$C$6150>=Maternity!$B$7),1,0))","v":4},{"$f":"IF(VALUE(MID(AI$2,5,2))<=$V29,OFFSET('CCG-Prov(Births)'!$B$1,MATCH($A29,'CCG-Prov(Births)'!$A$2:$A$6150,0)+VALUE(RIGHT(AI$2,1))-1,0),\"\")","v":"RRV"},{"$f":"IF(VALUE(MID(AJ$2,5,2))<=$V29,OFFSET('CCG-Prov(Births)'!$B$1,MATCH($A29,'CCG-Prov(Births)'!$A$2:$A$6150,0)+VALUE(RIGHT(AJ$2,1))-1,0),\"\")","v":""},{"$f":"IF(VALUE(MID(AK$2,5,2))<=$V29,OFFSET('CCG-Prov(Births)'!$B$1,MATCH($A29,'CCG-Prov(Births)'!$A$2:$A$6150,0)+VALUE(RIGHT(AK$2,1))-1,0),\"\")","v":""},{"$f":"IF(VALUE(MID(AL$2,5,2))<=$V29,OFFSET('CCG-Prov(Births)'!$B$1,MATCH($A29,'CCG-Prov(Births)'!$A$2:$A$6150,0)+VALUE(RIGHT(AL$2,1))-1,0),\"\")","v":""},{"$f":"IF(VALUE(MID(AM$2,5,2))<=$V29,OFFSET('CCG-Prov(Births)'!$B$1,MATCH($A29,'CCG-Prov(Births)'!$A$2:$A$6150,0)+VALUE(RIGHT(AM$2,1))-1,0),\"\")","v":""},null,"RC1",{"$f":"VLOOKUP(AO29,provnames!$A$2:$B$331,2,0)","v":"Bedford Hospital NHS Trust"},{"$f":"SUM(IF(('CCG-Prov(Births)'!$B$2:$B$6150=AO29),1,0))","v":21}]
["04Y","Cannock Chase",{"$f":"SUM(IF(('CCG-Prov(Acute)'!$A$2:$A$29012=A30),1,0))","v":113},{"$f":"SUM(IF(('CCG-Prov(Acute)'!$A$2:$A$29012=A30)*('CCG-Prov(Acute)'!$C$2:$C$29012>=Acute!$B$7),1,0))","v":5},{"$f":"IF(VALUE(MID(E$2,5,2))<=$D30,OFFSET('CCG-Prov(Acute)'!$B$1,MATCH($A30,'CCG-Prov(Acute)'!$A$2:$A$29012,0)+VALUE(RIGHT(E$2,1))-1,0),\"\")","v":"RJD"},{"$f":"IF(VALUE(MID(F$2,5,2))<=$D30,OFFSET('CCG-Prov(Acute)'!$B$1,MATCH($A30,'CCG-Prov(Acute)'!$A$2:$A$29012,0)+VALUE(RIGHT(F$2,1))-1,0),\"\")","v":"RBK"},{"$f":"IF(VALUE(MID(G$2,5,2))<=$D30,OFFSET('CCG-Prov(Acute)'!$B$1,MATCH($A30,'CCG-Prov(Acute)'!$A$2:$A$29012,0)+VALUE(RIGHT(G$2,1))-1,0),\"\")","v":"RL4"},{"$f":"IF(VALUE(MID(H$2,5,2))<=$D30,OFFSET('CCG-Prov(Acute)'!$B$1,MATCH($A30,'CCG-Prov(Acute)'!$A$2:$A$29012,0)+VALUE(RIGHT(H$2,1))-1,0),\"\")","v":"RJE"},{"$f":"IF(VALUE(MID(I$2,5,2))<=$D30,OFFSET('CCG-Prov(Acute)'!$B$1,MATCH($A30,'CCG-Prov(Acute)'!$A$2:$A$29012,0)+VALUE(RIGHT(I$2,1))-1,0),\"\")","v":"RJF"},{"$f":"IF(VALUE(MID(J$2,5,2))<=$D30,OFFSET('CCG-Prov(Acute)'!$B$1,MATCH($A30,'CCG-Prov(Acute)'!$A$2:$A$29012,0)+VALUE(RIGHT(J$2,1))-1,0),\"\")","v":""},{"$f":"IF(VALUE(MID(K$2,5,2))<=$D30,OFFSET('CCG-Prov(Acute)'!$B$1,MATCH($A30,'CCG-Prov(Acute)'!$A$2:$A$29012,0)+VALUE(RIGHT(K$2,1))-1,0),\"\")","v":""},{"$f":"IF(VALUE(MID(L$2,5,2))<=$D30,OFFSET('CCG-Prov(Acute)'!$B$1,MATCH($A30,'CCG-Prov(Acute)'!$A$2:$A$29012,0)+VALUE(RIGHT(L$2,1))-1,0),\"\")","v":""},{"$f":"IF(VALUE(MID(M$2,5,2))<=$D30,OFFSET('CCG-Prov(Acute)'!$B$1,MATCH($A30,'CCG-Prov(Acute)'!$A$2:$A$29012,0)+VALUE(RIGHT(M$2,1))-1,0),\"\")","v":""},{"$f":"IF(VALUE(MID(N$2,5,2))<=$D30,OFFSET('CCG-Prov(Acute)'!$B$1,MATCH($A30,'CCG-Prov(Acute)'!$A$2:$A$29012,0)+VALUE(RIGHT(N$2,1))-1,0),\"\")","v":""},null,null,"5MK",{"$f":"VLOOKUP(Q30,provnames!$A$2:$B$331,2,0)","v":"Telford & Wrekin PCT"},{"$f":"SUM(IF(('CCG-Prov(Acute)'!$B$2:$B$28899=Q30),1,0))","v":2},null,{"$f":"SUM(IF(('CCG-Prov(Amb)'!$A$2:$A$335=A30),1,0))","v":1},{"$f":"SUM(IF(('CCG-Prov(Amb)'!$A$2:$A$335=A30)*('CCG-Prov(Amb)'!$C$2:$C$335>=Ambulance!$B$7),1,0))","v":1},{"$f":"IF(VALUE(MID(W$2,5,2))<=$V30,OFFSET('CCG-Prov(Amb)'!$B$1,MATCH($A30,'CCG-Prov(Amb)'!$A$2:$A$335,0)+VALUE(RIGHT(W$2,1))-1,0),\"\")","v":"RYA"},{"$f":"IF(VALUE(MID(X$2,5,2))<=$V30,OFFSET('CCG-Prov(Amb)'!$B$1,MATCH($A30,'CCG-Prov(Amb)'!$A$2:$A$335,0)+VALUE(RIGHT(X$2,1))-1,0),\"\")","v":""},{"$f":"IF(VALUE(MID(Y$2,5,2))<=$V30,OFFSET('CCG-Prov(Amb)'!$B$1,MATCH($A30,'CCG-Prov(Amb)'!$A$2:$A$335,0)+VALUE(RIGHT(Y$2,1))-1,0),\"\")","v":""},{"$f":"IF(VALUE(MID(Z$2,5,2))<=$V30,OFFSET('CCG-Prov(Amb)'!$B$1,MATCH($A30,'CCG-Prov(Amb)'!$A$2:$A$335,0)+VALUE(RIGHT(Z$2,1))-1,0),\"\")","v":""},{"$f":"IF(VALUE(MID(AA$2,5,2))<=$V30,OFFSET('CCG-Prov(Amb)'!$B$1,MATCH($A30,'CCG-Prov(Amb)'!$A$2:$A$335,0)+VALUE(RIGHT(AA$2,1))-1,0),\"\")","v":""},null,null,null,null,null,{"$f":"SUM(IF(('CCG-Prov(Births)'!$A$2:$A$6150=A30),1,0))","v":16},{"$f":"SUM(IF(('CCG-Prov(Births)'!$A$2:$A$6150=A30)*('CCG-Prov(Births)'!$C$2:$C$6150>=Maternity!$B$7),1,0))","v":4},{"$f":"IF(VALUE(MID(AI$2,5,2))<=$V30,OFFSET('CCG-Prov(Births)'!$B$1,MATCH($A30,'CCG-Prov(Births)'!$A$2:$A$6150,0)+VALUE(RIGHT(AI$2,1))-1,0),\"\")","v":"RJD"},{"$f":"IF(VALUE(MID(AJ$2,5,2))<=$V30,OFFSET('CCG-Prov(Births)'!$B$1,MATCH($A30,'CCG-Prov(Births)'!$A$2:$A$6150,0)+VALUE(RIGHT(AJ$2,1))-1,0),\"\")","v":""},{"$f":"IF(VALUE(MID(AK$2,5,2))<=$V30,OFFSET('CCG-Prov(Births)'!$B$1,MATCH($A30,'CCG-Prov(Births)'!$A$2:$A$6150,0)+VALUE(RIGHT(AK$2,1))-1,0),\"\")","v":""},{"$f":"IF(VALUE(MID(AL$2,5,2))<=$V30,OFFSET('CCG-Prov(Births)'!$B$1,MATCH($A30,'CCG-Prov(Births)'!$A$2:$A$6150,0)+VALUE(RIGHT(AL$2,1))-1,0),\"\")","v":""},{"$f":"IF(VALUE(MID(AM$2,5,2))<=$V30,OFFSET('CCG-Prov(Births)'!$B$1,MATCH($A30,'CCG-Prov(Births)'!$A$2:$A$6150,0)+VALUE(RIGHT(AM$2,1))-1,0),\"\")","v":""},null,"RC3",{"$f":"VLOOKUP(AO30,provnames!$A$2:$B$331,2,0)","v":"Ealing Hospital NHS Trust"},{"$f":"SUM(IF(('CCG-Prov(Births)'!$B$2:$B$6150=AO30),1,0))","v":43}]
["09E","Canterbury & Coastal",{"$f":"SUM(IF(('CCG-Prov(Acute)'!$A$2:$A$29012=A31),1,0))","v":132},{"$f":"SUM(IF(('CCG-Prov(Acute)'!$A$2:$A$29012=A31)*('CCG-Prov(Acute)'!$C$2:$C$29012>=Acute!$B$7),1,0))","v":3},{"$f":"IF(VALUE(MID(E$2,5,2))<=$D31,OFFSET('CCG-Prov(Acute)'!$B$1,MATCH($A31,'CCG-Prov(Acute)'!$A$2:$A$29012,0)+VALUE(RIGHT(E$2,1))-1,0),\"\")","v":"RVV"},{"$f":"IF(VALUE(MID(F$2,5,2))<=$D31,OFFSET('CCG-Prov(Acute)'!$B$1,MATCH($A31,'CCG-Prov(Acute)'!$A$2:$A$29012,0)+VALUE(RIGHT(F$2,1))-1,0),\"\")","v":"NTY"},{"$f":"IF(VALUE(MID(G$2,5,2))<=$D31,OFFSET('CCG-Prov(Acute)'!$B$1,MATCH($A31,'CCG-Prov(Acute)'!$A$2:$A$29012,0)+VALUE(RIGHT(G$2,1))-1,0),\"\")","v":"RJ1"},{"$f":"IF(VALUE(MID(H$2,5,2))<=$D31,OFFSET('CCG-Prov(Acute)'!$B$1,MATCH($A31,'CCG-Prov(Acute)'!$A$2:$A$29012,0)+VALUE(RIGHT(H$2,1))-1,0),\"\")","v":""},{"$f":"IF(VALUE(MID(I$2,5,2))<=$D31,OFFSET('CCG-Prov(Acute)'!$B$1,MATCH($A31,'CCG-Prov(Acute)'!$A$2:$A$29012,0)+VALUE(RIGHT(I$2,1))-1,0),\"\")","v":""},{"$f":"IF(VALUE(MID(J$2,5,2))<=$D31,OFFSET('CCG-Prov(Acute)'!$B$1,MATCH($A31,'CCG-Prov(Acute)'!$A$2:$A$29012,0)+VALUE(RIGHT(J$2,1))-1,0),\"\")","v":""},{"$f":"IF(VALUE(MID(K$2,5,2))<=$D31,OFFSET('CCG-Prov(Acute)'!$B$1,MATCH($A31,'CCG-Prov(Acute)'!$A$2:$A$29012,0)+VALUE(RIGHT(K$2,1))-1,0),\"\")","v":""},{"$f":"IF(VALUE(MID(L$2,5,2))<=$D31,OFFSET('CCG-Prov(Acute)'!$B$1,MATCH($A31,'CCG-Prov(Acute)'!$A$2:$A$29012,0)+VALUE(RIGHT(L$2,1))-1,0),\"\")","v":""},{"$f":"IF(VALUE(MID(M$2,5,2))<=$D31,OFFSET('CCG-Prov(Acute)'!$B$1,MATCH($A31,'CCG-Prov(Acute)'!$A$2:$A$29012,0)+VALUE(RIGHT(M$2,1))-1,0),\"\")","v":""},{"$f":"IF(VALUE(MID(N$2,5,2))<=$D31,OFFSET('CCG-Prov(Acute)'!$B$1,MATCH($A31,'CCG-Prov(Acute)'!$A$2:$A$29012,0)+VALUE(RIGHT(N$2,1))-1,0),\"\")","v":""},null,null,"5MV",{"$f":"VLOOKUP(Q31,provnames!$A$2:$B$331,2,0)","v":"Wolverhampton City PCT"},{"$f":"SUM(IF(('CCG-Prov(Acute)'!$B$2:$B$28899=Q31),1,0))","v":12},null,{"$f":"SUM(IF(('CCG-Prov(Amb)'!$A$2:$A$335=A31),1,0))","v":1},{"$f":"SUM(IF(('CCG-Prov(Amb)'!$A$2:$A$335=A31)*('CCG-Prov(Amb)'!$C$2:$C$335>=Ambulance!$B$7),1,0))","v":1},{"$f":"IF(VALUE(MID(W$2,5,2))<=$V31,OFFSET('CCG-Prov(Amb)'!$B$1,MATCH($A31,'CCG-Prov(Amb)'!$A$2:$A$335,0)+VALUE(RIGHT(W$2,1))-1,0),\"\")","v":"RYD"},{"$f":"IF(VALUE(MID(X$2,5,2))<=$V31,OFFSET('CCG-Prov(Amb)'!$B$1,MATCH($A31,'CCG-Prov(Amb)'!$A$2:$A$335,0)+VALUE(RIGHT(X$2,1))-1,0),\"\")","v":""},{"$f":"IF(VALUE(MID(Y$2,5,2))<=$V31,OFFSET('CCG-Prov(Amb)'!$B$1,MATCH($A31,'CCG-Prov(Amb)'!$A$2:$A$335,0)+VALUE(RIGHT(Y$2,1))-1,0),\"\")","v":""},{"$f":"IF(VALUE(MID(Z$2,5,2))<=$V31,OFFSET('CCG-Prov(Amb)'!$B$1,MATCH($A31,'CCG-Prov(Amb)'!$A$2:$A$335,0)+VALUE(RIGHT(Z$2,1))-1,0),\"\")","v":""},{"$f":"IF(VALUE(MID(AA$2,5,2))<=$V31,OFFSET('CCG-Prov(Amb)'!$B$1,MATCH($A31,'CCG-Prov(Amb)'!$A$2:$A$335,0)+VALUE(RIGHT(AA$2,1))-1,0),\"\")","v":""},null,null,null,null,null,{"$f":"SUM(IF(('CCG-Prov(Births)'!$A$2:$A$6150=A31),1,0))","v":15},{"$f":"SUM(IF(('CCG-Prov(Births)'!$A$2:$A$6150=A31)*('CCG-Prov(Births)'!$C$2:$C$6150>=Maternity!$B$7),1,0))","v":1},{"$f":"IF(VALUE(MID(AI$2,5,2))<=$V31,OFFSET('CCG-Prov(Births)'!$B$1,MATCH($A31,'CCG-Prov(Births)'!$A$2:$A$6150,0)+VALUE(RIGHT(AI$2,1))-1,0),\"\")","v":"RVV"},{"$f":"IF(VALUE(MID(AJ$2,5,2))<=$V31,OFFSET('CCG-Prov(Births)'!$B$1,MATCH($A31,'CCG-Prov(Births)'!$A$2:$A$6150,0)+VALUE(RIGHT(AJ$2,1))-1,0),\"\")","v":""},{"$f":"IF(VALUE(MID(AK$2,5,2))<=$V31,OFFSET('CCG-Prov(Births)'!$B$1,MATCH($A31,'CCG-Prov(Births)'!$A$2:$A$6150,0)+VALUE(RIGHT(AK$2,1))-1,0),\"\")","v":""},{"$f":"IF(VALUE(MID(AL$2,5,2))<=$V31,OFFSET('CCG-Prov(Births)'!$B$1,MATCH($A31,'CCG-Prov(Births)'!$A$2:$A$6150,0)+VALUE(RIGHT(AL$2,1))-1,0),\"\")","v":""},{"$f":"IF(VALUE(MID(AM$2,5,2))<=$V31,OFFSET('CCG-Prov(Births)'!$B$1,MATCH($A31,'CCG-Prov(Births)'!$A$2:$A$6150,0)+VALUE(RIGHT(AM$2,1))-1,0),\"\")","v":""},null,"RC9",{"$f":"VLOOKUP(AO31,provnames!$A$2:$B$331,2,0)","v":"Luton & Dunstable Hospital NHS FT"},{"$f":"SUM(IF(('CCG-Prov(Births)'!$B$2:$B$6150=AO31),1,0))","v":62}]
["99F","Castle Point & Rochford",{"$f":"SUM(IF(('CCG-Prov(Acute)'!$A$2:$A$29012=A32),1,0))","v":129},{"$f":"SUM(IF(('CCG-Prov(Acute)'!$A$2:$A$29012=A32)*('CCG-Prov(Acute)'!$C$2:$C$29012>=Acute!$B$7),1,0))","v":4},{"$f":"IF(VALUE(MID(E$2,5,2))<=$D32,OFFSET('CCG-Prov(Acute)'!$B$1,MATCH($A32,'CCG-Prov(Acute)'!$A$2:$A$29012,0)+VALUE(RIGHT(E$2,1))-1,0),\"\")","v":"RAJ"},{"$f":"IF(VALUE(MID(F$2,5,2))<=$D32,OFFSET('CCG-Prov(Acute)'!$B$1,MATCH($A32,'CCG-Prov(Acute)'!$A$2:$A$29012,0)+VALUE(RIGHT(F$2,1))-1,0),\"\")","v":"RDD"},{"$f":"IF(VALUE(MID(G$2,5,2))<=$D32,OFFSET('CCG-Prov(Acute)'!$B$1,MATCH($A32,'CCG-Prov(Acute)'!$A$2:$A$29012,0)+VALUE(RIGHT(G$2,1))-1,0),\"\")","v":"RQ8"},{"$f":"IF(VALUE(MID(H$2,5,2))<=$D32,OFFSET('CCG-Prov(Acute)'!$B$1,MATCH($A32,'CCG-Prov(Acute)'!$A$2:$A$29012,0)+VALUE(RIGHT(H$2,1))-1,0),\"\")","v":"NT3"},{"$f":"IF(VALUE(MID(I$2,5,2))<=$D32,OFFSET('CCG-Prov(Acute)'!$B$1,MATCH($A32,'CCG-Prov(Acute)'!$A$2:$A$29012,0)+VALUE(RIGHT(I$2,1))-1,0),\"\")","v":""},{"$f":"IF(VALUE(MID(J$2,5,2))<=$D32,OFFSET('CCG-Prov(Acute)'!$B$1,MATCH($A32,'CCG-Prov(Acute)'!$A$2:$A$29012,0)+VALUE(RIGHT(J$2,1))-1,0),\"\")","v":""},{"$f":"IF(VALUE(MID(K$2,5,2))<=$D32,OFFSET('CCG-Prov(Acute)'!$B$1,MATCH($A32,'CCG-Prov(Acute)'!$A$2:$A$29012,0)+VALUE(RIGHT(K$2,1))-1,0),\"\")","v":""},{"$f":"IF(VALUE(MID(L$2,5,2))<=$D32,OFFSET('CCG-Prov(Acute)'!$B$1,MATCH($A32,'CCG-Prov(Acute)'!$A$2:$A$29012,0)+VALUE(RIGHT(L$2,1))-1,0),\"\")","v":""},{"$f":"IF(VALUE(MID(M$2,5,2))<=$D32,OFFSET('CCG-Prov(Acute)'!$B$1,MATCH($A32,'CCG-Prov(Acute)'!$A$2:$A$29012,0)+VALUE(RIGHT(M$2,1))-1,0),\"\")","v":""},{"$f":"IF(VALUE(MID(N$2,5,2))<=$D32,OFFSET('CCG-Prov(Acute)'!$B$1,MATCH($A32,'CCG-Prov(Acute)'!$A$2:$A$29012,0)+VALUE(RIGHT(N$2,1))-1,0),\"\")","v":""},null,null,"5MX",{"$f":"VLOOKUP(Q32,provnames!$A$2:$B$331,2,0)","v":"Heart of Birmingham Teaching PCT"},{"$f":"SUM(IF(('CCG-Prov(Acute)'!$B$2:$B$28899=Q32),1,0))","v":4},null,{"$f":"SUM(IF(('CCG-Prov(Amb)'!$A$2:$A$335=A32),1,0))","v":1},{"$f":"SUM(IF(('CCG-Prov(Amb)'!$A$2:$A$335=A32)*('CCG-Prov(Amb)'!$C$2:$C$335>=Ambulance!$B$7),1,0))","v":1},{"$f":"IF(VALUE(MID(W$2,5,2))<=$V32,OFFSET('CCG-Prov(Amb)'!$B$1,MATCH($A32,'CCG-Prov(Amb)'!$A$2:$A$335,0)+VALUE(RIGHT(W$2,1))-1,0),\"\")","v":"RYC"},{"$f":"IF(VALUE(MID(X$2,5,2))<=$V32,OFFSET('CCG-Prov(Amb)'!$B$1,MATCH($A32,'CCG-Prov(Amb)'!$A$2:$A$335,0)+VALUE(RIGHT(X$2,1))-1,0),\"\")","v":""},{"$f":"IF(VALUE(MID(Y$2,5,2))<=$V32,OFFSET('CCG-Prov(Amb)'!$B$1,MATCH($A32,'CCG-Prov(Amb)'!$A$2:$A$335,0)+VALUE(RIGHT(Y$2,1))-1,0),\"\")","v":""},{"$f":"IF(VALUE(MID(Z$2,5,2))<=$V32,OFFSET('CCG-Prov(Amb)'!$B$1,MATCH($A32,'CCG-Prov(Amb)'!$A$2:$A$335,0)+VALUE(RIGHT(Z$2,1))-1,0),\"\")","v":""},{"$f":"IF(VALUE(MID(AA$2,5,2))<=$V32,OFFSET('CCG-Prov(Amb)'!$B$1,MATCH($A32,'CCG-Prov(Amb)'!$A$2:$A$335,0)+VALUE(RIGHT(AA$2,1))-1,0),\"\")","v":""},null,null,null,null,null,{"$f":"SUM(IF(('CCG-Prov(Births)'!$A$2:$A$6150=A32),1,0))","v":18},{"$f":"SUM(IF(('CCG-Prov(Births)'!$A$2:$A$6150=A32)*('CCG-Prov(Births)'!$C$2:$C$6150>=Maternity!$B$7),1,0))","v":2},{"$f":"IF(VALUE(MID(AI$2,5,2))<=$V32,OFFSET('CCG-Prov(Births)'!$B$1,MATCH($A32,'CCG-Prov(Births)'!$A$2:$A$6150,0)+VALUE(RIGHT(AI$2,1))-1,0),\"\")","v":"RAJ"},{"$f":"IF(VALUE(MID(AJ$2,5,2))<=$V32,OFFSET('CCG-Prov(Births)'!$B$1,MATCH($A32,'CCG-Prov(Births)'!$A$2:$A$6150,0)+VALUE(RIGHT(AJ$2,1))-1,0),\"\")","v":""},{"$f":"IF(VALUE(MID(AK$2,5,2))<=$V32,OFFSET('CCG-Prov(Births)'!$B$1,MATCH($A32,'CCG-Prov(Births)'!$A$2:$A$6150,0)+VALUE(RIGHT(AK$2,1))-1,0),\"\")","v":""},{"$f":"IF(VALUE(MID(AL$2,5,2))<=$V32,OFFSET('CCG-Prov(Births)'!$B$1,MATCH($A32,'CCG-Prov(Births)'!$A$2:$A$6150,0)+VALUE(RIGHT(AL$2,1))-1,0),\"\")","v":""},{"$f":"IF(VALUE(MID(AM$2,5,2))<=$V32,OFFSET('CCG-Prov(Births)'!$B$1,MATCH($A32,'CCG-Prov(Births)'!$A$2:$A$6150,0)+VALUE(RIGHT(AM$2,1))-1,0),\"\")","v":""},null,"RCB",{"$f":"VLOOKUP(AO32,provnames!$A$2:$B$331,2,0)","v":"York Teaching Hospital NHS FT"},{"$f":"SUM(IF(('CCG-Prov(Births)'!$B$2:$B$6150=AO32),1,0))","v":40}]
["09A","Central London (Westminster)",{"$f":"SUM(IF(('CCG-Prov(Acute)'!$A$2:$A$29012=A33),1,0))","v":137},{"$f":"SUM(IF(('CCG-Prov(Acute)'!$A$2:$A$29012=A33)*('CCG-Prov(Acute)'!$C$2:$C$29012>=Acute!$B$7),1,0))","v":5},{"$f":"IF(VALUE(MID(E$2,5,2))<=$D33,OFFSET('CCG-Prov(Acute)'!$B$1,MATCH($A33,'CCG-Prov(Acute)'!$A$2:$A$29012,0)+VALUE(RIGHT(E$2,1))-1,0),\"\")","v":"RYJ"},{"$f":"IF(VALUE(MID(F$2,5,2))<=$D33,OFFSET('CCG-Prov(Acute)'!$B$1,MATCH($A33,'CCG-Prov(Acute)'!$A$2:$A$29012,0)+VALUE(RIGHT(F$2,1))-1,0),\"\")","v":"RQM"},{"$f":"IF(VALUE(MID(G$2,5,2))<=$D33,OFFSET('CCG-Prov(Acute)'!$B$1,MATCH($A33,'CCG-Prov(Acute)'!$A$2:$A$29012,0)+VALUE(RIGHT(G$2,1))-1,0),\"\")","v":"RRV"},{"$f":"IF(VALUE(MID(H$2,5,2))<=$D33,OFFSET('CCG-Prov(Acute)'!$B$1,MATCH($A33,'CCG-Prov(Acute)'!$A$2:$A$29012,0)+VALUE(RIGHT(H$2,1))-1,0),\"\")","v":"RJ1"},{"$f":"IF(VALUE(MID(I$2,5,2))<=$D33,OFFSET('CCG-Prov(Acute)'!$B$1,MATCH($A33,'CCG-Prov(Acute)'!$A$2:$A$29012,0)+VALUE(RIGHT(I$2,1))-1,0),\"\")","v":"RAL"},{"$f":"IF(VALUE(MID(J$2,5,2))<=$D33,OFFSET('CCG-Prov(Acute)'!$B$1,MATCH($A33,'CCG-Prov(Acute)'!$A$2:$A$29012,0)+VALUE(RIGHT(J$2,1))-1,0),\"\")","v":""},{"$f":"IF(VALUE(MID(K$2,5,2))<=$D33,OFFSET('CCG-Prov(Acute)'!$B$1,MATCH($A33,'CCG-Prov(Acute)'!$A$2:$A$29012,0)+VALUE(RIGHT(K$2,1))-1,0),\"\")","v":""},{"$f":"IF(VALUE(MID(L$2,5,2))<=$D33,OFFSET('CCG-Prov(Acute)'!$B$1,MATCH($A33,'CCG-Prov(Acute)'!$A$2:$A$29012,0)+VALUE(RIGHT(L$2,1))-1,0),\"\")","v":""},{"$f":"IF(VALUE(MID(M$2,5,2))<=$D33,OFFSET('CCG-Prov(Acute)'!$B$1,MATCH($A33,'CCG-Prov(Acute)'!$A$2:$A$29012,0)+VALUE(RIGHT(M$2,1))-1,0),\"\")","v":""},{"$f":"IF(VALUE(MID(N$2,5,2))<=$D33,OFFSET('CCG-Prov(Acute)'!$B$1,MATCH($A33,'CCG-Prov(Acute)'!$A$2:$A$29012,0)+VALUE(RIGHT(N$2,1))-1,0),\"\")","v":""},null,null,"5N5",{"$f":"VLOOKUP(Q33,provnames!$A$2:$B$331,2,0)","v":"Doncaster PCT"},{"$f":"SUM(IF(('CCG-Prov(Acute)'!$B$2:$B$28899=Q33),1,0))","v":7},null,{"$f":"SUM(IF(('CCG-Prov(Amb)'!$A$2:$A$335=A33),1,0))","v":1},{"$f":"SUM(IF(('CCG-Prov(Amb)'!$A$2:$A$335=A33)*('CCG-Prov(Amb)'!$C$2:$C$335>=Ambulance!$B$7),1,0))","v":1},{"$f":"IF(VALUE(MID(W$2,5,2))<=$V33,OFFSET('CCG-Prov(Amb)'!$B$1,MATCH($A33,'CCG-Prov(Amb)'!$A$2:$A$335,0)+VALUE(RIGHT(W$2,1))-1,0),\"\")","v":"RRY"},{"$f":"IF(VALUE(MID(X$2,5,2))<=$V33,OFFSET('CCG-Prov(Amb)'!$B$1,MATCH($A33,'CCG-Prov(Amb)'!$A$2:$A$335,0)+VALUE(RIGHT(X$2,1))-1,0),\"\")","v":""},{"$f":"IF(VALUE(MID(Y$2,5,2))<=$V33,OFFSET('CCG-Prov(Amb)'!$B$1,MATCH($A33,'CCG-Prov(Amb)'!$A$2:$A$335,0)+VALUE(RIGHT(Y$2,1))-1,0),\"\")","v":""},{"$f":"IF(VALUE(MID(Z$2,5,2))<=$V33,OFFSET('CCG-Prov(Amb)'!$B$1,MATCH($A33,'CCG-Prov(Amb)'!$A$2:$A$335,0)+VALUE(RIGHT(Z$2,1))-1,0),\"\")","v":""},{"$f":"IF(VALUE(MID(AA$2,5,2))<=$V33,OFFSET('CCG-Prov(Amb)'!$B$1,MATCH($A33,'CCG-Prov(Amb)'!$A$2:$A$335,0)+VALUE(RIGHT(AA$2,1))-1,0),\"\")","v":""},null,null,null,null,null,{"$f":"SUM(IF(('CCG-Prov(Births)'!$A$2:$A$6150=A33),1,0))","v":32},{"$f":"SUM(IF(('CCG-Prov(Births)'!$A$2:$A$6150=A33)*('CCG-Prov(Births)'!$C$2:$C$6150>=Maternity!$B$7),1,0))","v":4},{"$f":"IF(VALUE(MID(AI$2,5,2))<=$V33,OFFSET('CCG-Prov(Births)'!$B$1,MATCH($A33,'CCG-Prov(Births)'!$A$2:$A$6150,0)+VALUE(RIGHT(AI$2,1))-1,0),\"\")","v":"RYJ"},{"$f":"IF(VALUE(MID(AJ$2,5,2))<=$V33,OFFSET('CCG-Prov(Births)'!$B$1,MATCH($A33,'CCG-Prov(Births)'!$A$2:$A$6150,0)+VALUE(RIGHT(AJ$2,1))-1,0),\"\")","v":""},{"$f":"IF(VALUE(MID(AK$2,5,2))<=$V33,OFFSET('CCG-Prov(Births)'!$B$1,MATCH($A33,'CCG-Prov(Births)'!$A$2:$A$6150,0)+VALUE(RIGHT(AK$2,1))-1,0),\"\")","v":""},{"$f":"IF(VALUE(MID(AL$2,5,2))<=$V33,OFFSET('CCG-Prov(Births)'!$B$1,MATCH($A33,'CCG-Prov(Births)'!$A$2:$A$6150,0)+VALUE(RIGHT(AL$2,1))-1,0),\"\")","v":""},{"$f":"IF(VALUE(MID(AM$2,5,2))<=$V33,OFFSET('CCG-Prov(Births)'!$B$1,MATCH($A33,'CCG-Prov(Births)'!$A$2:$A$6150,0)+VALUE(RIGHT(AM$2,1))-1,0),\"\")","v":""},null,"RCC",{"$f":"VLOOKUP(AO33,provnames!$A$2:$B$331,2,0)","v":"Scarborough & NE Yorkshire Health Care NHS Trust"},{"$f":"SUM(IF(('CCG-Prov(Births)'!$B$2:$B$6150=AO33),1,0))","v":35}]
["00W","Central Manchester",{"$f":"SUM(IF(('CCG-Prov(Acute)'!$A$2:$A$29012=A34),1,0))","v":154},{"$f":"SUM(IF(('CCG-Prov(Acute)'!$A$2:$A$29012=A34)*('CCG-Prov(Acute)'!$C$2:$C$29012>=Acute!$B$7),1,0))","v":6},{"$f":"IF(VALUE(MID(E$2,5,2))<=$D34,OFFSET('CCG-Prov(Acute)'!$B$1,MATCH($A34,'CCG-Prov(Acute)'!$A$2:$A$29012,0)+VALUE(RIGHT(E$2,1))-1,0),\"\")","v":"RW3"},{"$f":"IF(VALUE(MID(F$2,5,2))<=$D34,OFFSET('CCG-Prov(Acute)'!$B$1,MATCH($A34,'CCG-Prov(Acute)'!$A$2:$A$29012,0)+VALUE(RIGHT(F$2,1))-1,0),\"\")","v":"RM2"},{"$f":"IF(VALUE(MID(G$2,5,2))<=$D34,OFFSET('CCG-Prov(Acute)'!$B$1,MATCH($A34,'CCG-Prov(Acute)'!$A$2:$A$29012,0)+VALUE(RIGHT(G$2,1))-1,0),\"\")","v":"RM3"},{"$f":"IF(VALUE(MID(H$2,5,2))<=$D34,OFFSET('CCG-Prov(Acute)'!$B$1,MATCH($A34,'CCG-Prov(Acute)'!$A$2:$A$29012,0)+VALUE(RIGHT(H$2,1))-1,0),\"\")","v":"RW6"},{"$f":"IF(VALUE(MID(I$2,5,2))<=$D34,OFFSET('CCG-Prov(Acute)'!$B$1,MATCH($A34,'CCG-Prov(Acute)'!$A$2:$A$29012,0)+VALUE(RIGHT(I$2,1))-1,0),\"\")","v":"RM4"},{"$f":"IF(VALUE(MID(J$2,5,2))<=$D34,OFFSET('CCG-Prov(Acute)'!$B$1,MATCH($A34,'CCG-Prov(Acute)'!$A$2:$A$29012,0)+VALUE(RIGHT(J$2,1))-1,0),\"\")","v":"RBV"},{"$f":"IF(VALUE(MID(K$2,5,2))<=$D34,OFFSET('CCG-Prov(Acute)'!$B$1,MATCH($A34,'CCG-Prov(Acute)'!$A$2:$A$29012,0)+VALUE(RIGHT(K$2,1))-1,0),\"\")","v":""},{"$f":"IF(VALUE(MID(L$2,5,2))<=$D34,OFFSET('CCG-Prov(Acute)'!$B$1,MATCH($A34,'CCG-Prov(Acute)'!$A$2:$A$29012,0)+VALUE(RIGHT(L$2,1))-1,0),\"\")","v":""},{"$f":"IF(VALUE(MID(M$2,5,2))<=$D34,OFFSET('CCG-Prov(Acute)'!$B$1,MATCH($A34,'CCG-Prov(Acute)'!$A$2:$A$29012,0)+VALUE(RIGHT(M$2,1))-1,0),\"\")","v":""},{"$f":"IF(VALUE(MID(N$2,5,2))<=$D34,OFFSET('CCG-Prov(Acute)'!$B$1,MATCH($A34,'CCG-Prov(Acute)'!$A$2:$A$29012,0)+VALUE(RIGHT(N$2,1))-1,0),\"\")","v":""},null,null,"5N6",{"$f":"VLOOKUP(Q34,provnames!$A$2:$B$331,2,0)","v":"Derbyshire County PCT"},{"$f":"SUM(IF(('CCG-Prov(Acute)'!$B$2:$B$28899=Q34),1,0))","v":29},null,{"$f":"SUM(IF(('CCG-Prov(Amb)'!$A$2:$A$335=A34),1,0))","v":1},{"$f":"SUM(IF(('CCG-Prov(Amb)'!$A$2:$A$335=A34)*('CCG-Prov(Amb)'!$C$2:$C$335>=Ambulance!$B$7),1,0))","v":1},{"$f":"IF(VALUE(MID(W$2,5,2))<=$V34,OFFSET('CCG-Prov(Amb)'!$B$1,MATCH($A34,'CCG-Prov(Amb)'!$A$2:$A$335,0)+VALUE(RIGHT(W$2,1))-1,0),\"\")","v":"RX7"},{"$f":"IF(VALUE(MID(X$2,5,2))<=$V34,OFFSET('CCG-Prov(Amb)'!$B$1,MATCH($A34,'CCG-Prov(Amb)'!$A$2:$A$335,0)+VALUE(RIGHT(X$2,1))-1,0),\"\")","v":""},{"$f":"IF(VALUE(MID(Y$2,5,2))<=$V34,OFFSET('CCG-Prov(Amb)'!$B$1,MATCH($A34,'CCG-Prov(Amb)'!$A$2:$A$335,0)+VALUE(RIGHT(Y$2,1))-1,0),\"\")","v":""},{"$f":"IF(VALUE(MID(Z$2,5,2))<=$V34,OFFSET('CCG-Prov(Amb)'!$B$1,MATCH($A34,'CCG-Prov(Amb)'!$A$2:$A$335,0)+VALUE(RIGHT(Z$2,1))-1,0),\"\")","v":""},{"$f":"IF(VALUE(MID(AA$2,5,2))<=$V34,OFFSET('CCG-Prov(Amb)'!$B$1,MATCH($A34,'CCG-Prov(Amb)'!$A$2:$A$335,0)+VALUE(RIGHT(AA$2,1))-1,0),\"\")","v":""},null,null,null,null,null,{"$f":"SUM(IF(('CCG-Prov(Births)'!$A$2:$A$6150=A34),1,0))","v":25},{"$f":"SUM(IF(('CCG-Prov(Births)'!$A$2:$A$6150=A34)*('CCG-Prov(Births)'!$C$2:$C$6150>=Maternity!$B$7),1,0))","v":3},{"$f":"IF(VALUE(MID(AI$2,5,2))<=$V34,OFFSET('CCG-Prov(Births)'!$B$1,MATCH($A34,'CCG-Prov(Births)'!$A$2:$A$6150,0)+VALUE(RIGHT(AI$2,1))-1,0),\"\")","v":"RW3"},{"$f":"IF(VALUE(MID(AJ$2,5,2))<=$V34,OFFSET('CCG-Prov(Births)'!$B$1,MATCH($A34,'CCG-Prov(Births)'!$A$2:$A$6150,0)+VALUE(RIGHT(AJ$2,1))-1,0),\"\")","v":""},{"$f":"IF(VALUE(MID(AK$2,5,2))<=$V34,OFFSET('CCG-Prov(Births)'!$B$1,MATCH($A34,'CCG-Prov(Births)'!$A$2:$A$6150,0)+VALUE(RIGHT(AK$2,1))-1,0),\"\")","v":""},{"$f":"IF(VALUE(MID(AL$2,5,2))<=$V34,OFFSET('CCG-Prov(Births)'!$B$1,MATCH($A34,'CCG-Prov(Births)'!$A$2:$A$6150,0)+VALUE(RIGHT(AL$2,1))-1,0),\"\")","v":""},{"$f":"IF(VALUE(MID(AM$2,5,2))<=$V34,OFFSET('CCG-Prov(Births)'!$B$1,MATCH($A34,'CCG-Prov(Births)'!$A$2:$A$6150,0)+VALUE(RIGHT(AM$2,1))-1,0),\"\")","v":""},null,"RCD",{"$f":"VLOOKUP(AO34,provnames!$A$2:$B$331,2,0)","v":"Harrogate & District NHS FT"},{"$f":"SUM(IF(('CCG-Prov(Births)'!$B$2:$B$6150=AO34),1,0))","v":25}]
["10H","Chiltern",{"$f":"SUM(IF(('CCG-Prov(Acute)'!$A$2:$A$29012=A35),1,0))","v":155},{"$f":"SUM(IF(('CCG-Prov(Acute)'!$A$2:$A$29012=A35)*('CCG-Prov(Acute)'!$C$2:$C$29012>=Acute!$B$7),1,0))","v":8},{"$f":"IF(VALUE(MID(E$2,5,2))<=$D35,OFFSET('CCG-Prov(Acute)'!$B$1,MATCH($A35,'CCG-Prov(Acute)'!$A$2:$A$29012,0)+VALUE(RIGHT(E$2,1))-1,0),\"\")","v":"RXQ"},{"$f":"IF(VALUE(MID(F$2,5,2))<=$D35,OFFSET('CCG-Prov(Acute)'!$B$1,MATCH($A35,'CCG-Prov(Acute)'!$A$2:$A$29012,0)+VALUE(RIGHT(F$2,1))-1,0),\"\")","v":"RD7"},{"$f":"IF(VALUE(MID(G$2,5,2))<=$D35,OFFSET('CCG-Prov(Acute)'!$B$1,MATCH($A35,'CCG-Prov(Acute)'!$A$2:$A$29012,0)+VALUE(RIGHT(G$2,1))-1,0),\"\")","v":"RTH"},{"$f":"IF(VALUE(MID(H$2,5,2))<=$D35,OFFSET('CCG-Prov(Acute)'!$B$1,MATCH($A35,'CCG-Prov(Acute)'!$A$2:$A$29012,0)+VALUE(RIGHT(H$2,1))-1,0),\"\")","v":"RHW"},{"$f":"IF(VALUE(MID(I$2,5,2))<=$D35,OFFSET('CCG-Prov(Acute)'!$B$1,MATCH($A35,'CCG-Prov(Acute)'!$A$2:$A$29012,0)+VALUE(RIGHT(I$2,1))-1,0),\"\")","v":"RAS"},{"$f":"IF(VALUE(MID(J$2,5,2))<=$D35,OFFSET('CCG-Prov(Acute)'!$B$1,MATCH($A35,'CCG-Prov(Acute)'!$A$2:$A$29012,0)+VALUE(RIGHT(J$2,1))-1,0),\"\")","v":"NT4"},{"$f":"IF(VALUE(MID(K$2,5,2))<=$D35,OFFSET('CCG-Prov(Acute)'!$B$1,MATCH($A35,'CCG-Prov(Acute)'!$A$2:$A$29012,0)+VALUE(RIGHT(K$2,1))-1,0),\"\")","v":"RYJ"},{"$f":"IF(VALUE(MID(L$2,5,2))<=$D35,OFFSET('CCG-Prov(Acute)'!$B$1,MATCH($A35,'CCG-Prov(Acute)'!$A$2:$A$29012,0)+VALUE(RIGHT(L$2,1))-1,0),\"\")","v":"5QD"},{"$f":"IF(VALUE(MID(M$2,5,2))<=$D35,OFFSET('CCG-Prov(Acute)'!$B$1,MATCH($A35,'CCG-Prov(Acute)'!$A$2:$A$29012,0)+VALUE(RIGHT(M$2,1))-1,0),\"\")","v":""},{"$f":"IF(VALUE(MID(N$2,5,2))<=$D35,OFFSET('CCG-Prov(Acute)'!$B$1,MATCH($A35,'CCG-Prov(Acute)'!$A$2:$A$29012,0)+VALUE(RIGHT(N$2,1))-1,0),\"\")","v":""},null,null,"5N8",{"$f":"VLOOKUP(Q35,provnames!$A$2:$B$331,2,0)","v":"Nottinghamshire County Teaching PCT"},{"$f":"SUM(IF(('CCG-Prov(Acute)'!$B$2:$B$28899=Q35),1,0))","v":14},null,{"$f":"SUM(IF(('CCG-Prov(Amb)'!$A$2:$A$335=A35),1,0))","v":3},{"$f":"SUM(IF(('CCG-Prov(Amb)'!$A$2:$A$335=A35)*('CCG-Prov(Amb)'!$C$2:$C$335>=Ambulance!$B$7),1,0))","v":1},{"$f":"IF(VALUE(MID(W$2,5,2))<=$V35,OFFSET('CCG-Prov(Amb)'!$B$1,MATCH($A35,'CCG-Prov(Amb)'!$A$2:$A$335,0)+VALUE(RIGHT(W$2,1))-1,0),\"\")","v":"RYE"},{"$f":"IF(VALUE(MID(X$2,5,2))<=$V35,OFFSET('CCG-Prov(Amb)'!$B$1,MATCH($A35,'CCG-Prov(Amb)'!$A$2:$A$335,0)+VALUE(RIGHT(X$2,1))-1,0),\"\")","v":""},{"$f":"IF(VALUE(MID(Y$2,5,2))<=$V35,OFFSET('CCG-Prov(Amb)'!$B$1,MATCH($A35,'CCG-Prov(Amb)'!$A$2:$A$335,0)+VALUE(RIGHT(Y$2,1))-1,0),\"\")","v":""},{"$f":"IF(VALUE(MID(Z$2,5,2))<=$V35,OFFSET('CCG-Prov(Amb)'!$B$1,MATCH($A35,'CCG-Prov(Amb)'!$A$2:$A$335,0)+VALUE(RIGHT(Z$2,1))-1,0),\"\")","v":""},{"$f":"IF(VALUE(MID(AA$2,5,2))<=$V35,OFFSET('CCG-Prov(Amb)'!$B$1,MATCH($A35,'CCG-Prov(Amb)'!$A$2:$A$335,0)+VALUE(RIGHT(AA$2,1))-1,0),\"\")","v":""},null,null,null,null,null,{"$f":"SUM(IF(('CCG-Prov(Births)'!$A$2:$A$6150=A35),1,0))","v":48},{"$f":"SUM(IF(('CCG-Prov(Births)'!$A$2:$A$6150=A35)*('CCG-Prov(Births)'!$C$2:$C$6150>=Maternity!$B$7),1,0))","v":4},{"$f":"IF(VALUE(MID(AI$2,5,2))<=$V35,OFFSET('CCG-Prov(Births)'!$B$1,MATCH($A35,'CCG-Prov(Births)'!$A$2:$A$6150,0)+VALUE(RIGHT(AI$2,1))-1,0),\"\")","v":"RXQ"},{"$f":"IF(VALUE(MID(AJ$2,5,2))<=$V35,OFFSET('CCG-Prov(Births)'!$B$1,MATCH($A35,'CCG-Prov(Births)'!$A$2:$A$6150,0)+VALUE(RIGHT(AJ$2,1))-1,0),\"\")","v":""},{"$f":"IF(VALUE(MID(AK$2,5,2))<=$V35,OFFSET('CCG-Prov(Births)'!$B$1,MATCH($A35,'CCG-Prov(Births)'!$A$2:$A$6150,0)+VALUE(RIGHT(AK$2,1))-1,0),\"\")","v":""},{"$f":"IF(VALUE(MID(AL$2,5,2))<=$V35,OFFSET('CCG-Prov(Births)'!$B$1,MATCH($A35,'CCG-Prov(Births)'!$A$2:$A$6150,0)+VALUE(RIGHT(AL$2,1))-1,0),\"\")","v":""},{"$f":"IF(VALUE(MID(AM$2,5,2))<=$V35,OFFSET('CCG-Prov(Births)'!$B$1,MATCH($A35,'CCG-Prov(Births)'!$A$2:$A$6150,0)+VALUE(RIGHT(AM$2,1))-1,0),\"\")","v":""},null,"RCF",{"$f":"VLOOKUP(AO35,provnames!$A$2:$B$331,2,0)","v":"Airedale NHS FT"},{"$f":"SUM(IF(('CCG-Prov(Births)'!$B$2:$B$6150=AO35),1,0))","v":35}]
["00X","Chorley & South Ribble",{"$f":"SUM(IF(('CCG-Prov(Acute)'!$A$2:$A$29012=A36),1,0))","v":119},{"$f":"SUM(IF(('CCG-Prov(Acute)'!$A$2:$A$29012=A36)*('CCG-Prov(Acute)'!$C$2:$C$29012>=Acute!$B$7),1,0))","v":5},{"$f":"IF(VALUE(MID(E$2,5,2))<=$D36,OFFSET('CCG-Prov(Acute)'!$B$1,MATCH($A36,'CCG-Prov(Acute)'!$A$2:$A$29012,0)+VALUE(RIGHT(E$2,1))-1,0),\"\")","v":"RXN"},{"$f":"IF(VALUE(MID(F$2,5,2))<=$D36,OFFSET('CCG-Prov(Acute)'!$B$1,MATCH($A36,'CCG-Prov(Acute)'!$A$2:$A$29012,0)+VALUE(RIGHT(F$2,1))-1,0),\"\")","v":"NVC"},{"$f":"IF(VALUE(MID(G$2,5,2))<=$D36,OFFSET('CCG-Prov(Acute)'!$B$1,MATCH($A36,'CCG-Prov(Acute)'!$A$2:$A$29012,0)+VALUE(RIGHT(G$2,1))-1,0),\"\")","v":"RRF"},{"$f":"IF(VALUE(MID(H$2,5,2))<=$D36,OFFSET('CCG-Prov(Acute)'!$B$1,MATCH($A36,'CCG-Prov(Acute)'!$A$2:$A$29012,0)+VALUE(RIGHT(H$2,1))-1,0),\"\")","v":"RXL"},{"$f":"IF(VALUE(MID(I$2,5,2))<=$D36,OFFSET('CCG-Prov(Acute)'!$B$1,MATCH($A36,'CCG-Prov(Acute)'!$A$2:$A$29012,0)+VALUE(RIGHT(I$2,1))-1,0),\"\")","v":"RW3"},{"$f":"IF(VALUE(MID(J$2,5,2))<=$D36,OFFSET('CCG-Prov(Acute)'!$B$1,MATCH($A36,'CCG-Prov(Acute)'!$A$2:$A$29012,0)+VALUE(RIGHT(J$2,1))-1,0),\"\")","v":""},{"$f":"IF(VALUE(MID(K$2,5,2))<=$D36,OFFSET('CCG-Prov(Acute)'!$B$1,MATCH($A36,'CCG-Prov(Acute)'!$A$2:$A$29012,0)+VALUE(RIGHT(K$2,1))-1,0),\"\")","v":""},{"$f":"IF(VALUE(MID(L$2,5,2))<=$D36,OFFSET('CCG-Prov(Acute)'!$B$1,MATCH($A36,'CCG-Prov(Acute)'!$A$2:$A$29012,0)+VALUE(RIGHT(L$2,1))-1,0),\"\")","v":""},{"$f":"IF(VALUE(MID(M$2,5,2))<=$D36,OFFSET('CCG-Prov(Acute)'!$B$1,MATCH($A36,'CCG-Prov(Acute)'!$A$2:$A$29012,0)+VALUE(RIGHT(M$2,1))-1,0),\"\")","v":""},{"$f":"IF(VALUE(MID(N$2,5,2))<=$D36,OFFSET('CCG-Prov(Acute)'!$B$1,MATCH($A36,'CCG-Prov(Acute)'!$A$2:$A$29012,0)+VALUE(RIGHT(N$2,1))-1,0),\"\")","v":""},null,null,"5N9",{"$f":"VLOOKUP(Q36,provnames!$A$2:$B$331,2,0)","v":"Lincolnshire Teaching PCT"},{"$f":"SUM(IF(('CCG-Prov(Acute)'!$B$2:$B$28899=Q36),1,0))","v":26},null,{"$f":"SUM(IF(('CCG-Prov(Amb)'!$A$2:$A$335=A36),1,0))","v":1},{"$f":"SUM(IF(('CCG-Prov(Amb)'!$A$2:$A$335=A36)*('CCG-Prov(Amb)'!$C$2:$C$335>=Ambulance!$B$7),1,0))","v":1},{"$f":"IF(VALUE(MID(W$2,5,2))<=$V36,OFFSET('CCG-Prov(Amb)'!$B$1,MATCH($A36,'CCG-Prov(Amb)'!$A$2:$A$335,0)+VALUE(RIGHT(W$2,1))-1,0),\"\")","v":"RX7"},{"$f":"IF(VALUE(MID(X$2,5,2))<=$V36,OFFSET('CCG-Prov(Amb)'!$B$1,MATCH($A36,'CCG-Prov(Amb)'!$A$2:$A$335,0)+VALUE(RIGHT(X$2,1))-1,0),\"\")","v":""},{"$f":"IF(VALUE(MID(Y$2,5,2))<=$V36,OFFSET('CCG-Prov(Amb)'!$B$1,MATCH($A36,'CCG-Prov(Amb)'!$A$2:$A$335,0)+VALUE(RIGHT(Y$2,1))-1,0),\"\")","v":""},{"$f":"IF(VALUE(MID(Z$2,5,2))<=$V36,OFFSET('CCG-Prov(Amb)'!$B$1,MATCH($A36,'CCG-Prov(Amb)'!$A$2:$A$335,0)+VALUE(RIGHT(Z$2,1))-1,0),\"\")","v":""},{"$f":"IF(VALUE(MID(AA$2,5,2))<=$V36,OFFSET('CCG-Prov(Amb)'!$B$1,MATCH($A36,'CCG-Prov(Amb)'!$A$2:$A$335,0)+VALUE(RIGHT(AA$2,1))-1,0),\"\")","v":""},null,null,null,null,null,{"$f":"SUM(IF(('CCG-Prov(Births)'!$A$2:$A$6150=A36),1,0))","v":15},{"$f":"SUM(IF(('CCG-Prov(Births)'!$A$2:$A$6150=A36)*('CCG-Prov(Births)'!$C$2:$C$6150>=Maternity!$B$7),1,0))","v":2},{"$f":"IF(VALUE(MID(AI$2,5,2))<=$V36,OFFSET('CCG-Prov(Births)'!$B$1,MATCH($A36,'CCG-Prov(Births)'!$A$2:$A$6150,0)+VALUE(RIGHT(AI$2,1))-1,0),\"\")","v":"RXN"},{"$f":"IF(VALUE(MID(AJ$2,5,2))<=$V36,OFFSET('CCG-Prov(Births)'!$B$1,MATCH($A36,'CCG-Prov(Births)'!$A$2:$A$6150,0)+VALUE(RIGHT(AJ$2,1))-1,0),\"\")","v":""},{"$f":"IF(VALUE(MID(AK$2,5,2))<=$V36,OFFSET('CCG-Prov(Births)'!$B$1,MATCH($A36,'CCG-Prov(Births)'!$A$2:$A$6150,0)+VALUE(RIGHT(AK$2,1))-1,0),\"\")","v":""},{"$f":"IF(VALUE(MID(AL$2,5,2))<=$V36,OFFSET('CCG-Prov(Births)'!$B$1,MATCH($A36,'CCG-Prov(Births)'!$A$2:$A$6150,0)+VALUE(RIGHT(AL$2,1))-1,0),\"\")","v":""},{"$f":"IF(VALUE(MID(AM$2,5,2))<=$V36,OFFSET('CCG-Prov(Births)'!$B$1,MATCH($A36,'CCG-Prov(Births)'!$A$2:$A$6150,0)+VALUE(RIGHT(AM$2,1))-1,0),\"\")","v":""},null,"RCX",{"$f":"VLOOKUP(AO36,provnames!$A$2:$B$331,2,0)","v":"The Queen Elizabeth Hospital, King's Lynn. NHS FT"},{"$f":"SUM(IF(('CCG-Prov(Births)'!$B$2:$B$6150=AO36),1,0))","v":41}]
["07T","City & Hackney",{"$f":"SUM(IF(('CCG-Prov(Acute)'!$A$2:$A$29012=A37),1,0))","v":143},{"$f":"SUM(IF(('CCG-Prov(Acute)'!$A$2:$A$29012=A37)*('CCG-Prov(Acute)'!$C$2:$C$29012>=Acute!$B$7),1,0))","v":6},{"$f":"IF(VALUE(MID(E$2,5,2))<=$D37,OFFSET('CCG-Prov(Acute)'!$B$1,MATCH($A37,'CCG-Prov(Acute)'!$A$2:$A$29012,0)+VALUE(RIGHT(E$2,1))-1,0),\"\")","v":"RQX"},{"$f":"IF(VALUE(MID(F$2,5,2))<=$D37,OFFSET('CCG-Prov(Acute)'!$B$1,MATCH($A37,'CCG-Prov(Acute)'!$A$2:$A$29012,0)+VALUE(RIGHT(F$2,1))-1,0),\"\")","v":"RNJ"},{"$f":"IF(VALUE(MID(G$2,5,2))<=$D37,OFFSET('CCG-Prov(Acute)'!$B$1,MATCH($A37,'CCG-Prov(Acute)'!$A$2:$A$29012,0)+VALUE(RIGHT(G$2,1))-1,0),\"\")","v":"RRV"},{"$f":"IF(VALUE(MID(H$2,5,2))<=$D37,OFFSET('CCG-Prov(Acute)'!$B$1,MATCH($A37,'CCG-Prov(Acute)'!$A$2:$A$29012,0)+VALUE(RIGHT(H$2,1))-1,0),\"\")","v":"RP6"},{"$f":"IF(VALUE(MID(I$2,5,2))<=$D37,OFFSET('CCG-Prov(Acute)'!$B$1,MATCH($A37,'CCG-Prov(Acute)'!$A$2:$A$29012,0)+VALUE(RIGHT(I$2,1))-1,0),\"\")","v":"RKE"},{"$f":"IF(VALUE(MID(J$2,5,2))<=$D37,OFFSET('CCG-Prov(Acute)'!$B$1,MATCH($A37,'CCG-Prov(Acute)'!$A$2:$A$29012,0)+VALUE(RIGHT(J$2,1))-1,0),\"\")","v":"RAL"},{"$f":"IF(VALUE(MID(K$2,5,2))<=$D37,OFFSET('CCG-Prov(Acute)'!$B$1,MATCH($A37,'CCG-Prov(Acute)'!$A$2:$A$29012,0)+VALUE(RIGHT(K$2,1))-1,0),\"\")","v":""},{"$f":"IF(VALUE(MID(L$2,5,2))<=$D37,OFFSET('CCG-Prov(Acute)'!$B$1,MATCH($A37,'CCG-Prov(Acute)'!$A$2:$A$29012,0)+VALUE(RIGHT(L$2,1))-1,0),\"\")","v":""},{"$f":"IF(VALUE(MID(M$2,5,2))<=$D37,OFFSET('CCG-Prov(Acute)'!$B$1,MATCH($A37,'CCG-Prov(Acute)'!$A$2:$A$29012,0)+VALUE(RIGHT(M$2,1))-1,0),\"\")","v":""},{"$f":"IF(VALUE(MID(N$2,5,2))<=$D37,OFFSET('CCG-Prov(Acute)'!$B$1,MATCH($A37,'CCG-Prov(Acute)'!$A$2:$A$29012,0)+VALUE(RIGHT(N$2,1))-1,0),\"\")","v":""},null,null,"5NE",{"$f":"VLOOKUP(Q37,provnames!$A$2:$B$331,2,0)","v":"Cumbria Teaching PCT"},{"$f":"SUM(IF(('CCG-Prov(Acute)'!$B$2:$B$28899=Q37),1,0))","v":21},null,{"$f":"SUM(IF(('CCG-Prov(Amb)'!$A$2:$A$335=A37),1,0))","v":1},{"$f":"SUM(IF(('CCG-Prov(Amb)'!$A$2:$A$335=A37)*('CCG-Prov(Amb)'!$C$2:$C$335>=Ambulance!$B$7),1,0))","v":1},{"$f":"IF(VALUE(MID(W$2,5,2))<=$V37,OFFSET('CCG-Prov(Amb)'!$B$1,MATCH($A37,'CCG-Prov(Amb)'!$A$2:$A$335,0)+VALUE(RIGHT(W$2,1))-1,0),\"\")","v":"RRY"},{"$f":"IF(VALUE(MID(X$2,5,2))<=$V37,OFFSET('CCG-Prov(Amb)'!$B$1,MATCH($A37,'CCG-Prov(Amb)'!$A$2:$A$335,0)+VALUE(RIGHT(X$2,1))-1,0),\"\")","v":""},{"$f":"IF(VALUE(MID(Y$2,5,2))<=$V37,OFFSET('CCG-Prov(Amb)'!$B$1,MATCH($A37,'CCG-Prov(Amb)'!$A$2:$A$335,0)+VALUE(RIGHT(Y$2,1))-1,0),\"\")","v":""},{"$f":"IF(VALUE(MID(Z$2,5,2))<=$V37,OFFSET('CCG-Prov(Amb)'!$B$1,MATCH($A37,'CCG-Prov(Amb)'!$A$2:$A$335,0)+VALUE(RIGHT(Z$2,1))-1,0),\"\")","v":""},{"$f":"IF(VALUE(MID(AA$2,5,2))<=$V37,OFFSET('CCG-Prov(Amb)'!$B$1,MATCH($A37,'CCG-Prov(Amb)'!$A$2:$A$335,0)+VALUE(RIGHT(AA$2,1))-1,0),\"\")","v":""},null,null,null,null,null,{"$f":"SUM(IF(('CCG-Prov(Births)'!$A$2:$A$6150=A37),1,0))","v":37},{"$f":"SUM(IF(('CCG-Prov(Births)'!$A$2:$A$6150=A37)*('CCG-Prov(Births)'!$C$2:$C$6150>=Maternity!$B$7),1,0))","v":3},{"$f":"IF(VALUE(MID(AI$2,5,2))<=$V37,OFFSET('CCG-Prov(Births)'!$B$1,MATCH($A37,'CCG-Prov(Births)'!$A$2:$A$6150,0)+VALUE(RIGHT(AI$2,1))-1,0),\"\")","v":"RQX"},{"$f":"IF(VALUE(MID(AJ$2,5,2))<=$V37,OFFSET('CCG-Prov(Births)'!$B$1,MATCH($A37,'CCG-Prov(Births)'!$A$2:$A$6150,0)+VALUE(RIGHT(AJ$2,1))-1,0),\"\")","v":""},{"$f":"IF(VALUE(MID(AK$2,5,2))<=$V37,OFFSET('CCG-Prov(Births)'!$B$1,MATCH($A37,'CCG-Prov(Births)'!$A$2:$A$6150,0)+VALUE(RIGHT(AK$2,1))-1,0),\"\")","v":""},{"$f":"IF(VALUE(MID(AL$2,5,2))<=$V37,OFFSET('CCG-Prov(Births)'!$B$1,MATCH($A37,'CCG-Prov(Births)'!$A$2:$A$6150,0)+VALUE(RIGHT(AL$2,1))-1,0),\"\")","v":""},{"$f":"IF(VALUE(MID(AM$2,5,2))<=$V37,OFFSET('CCG-Prov(Births)'!$B$1,MATCH($A37,'CCG-Prov(Births)'!$A$2:$A$6150,0)+VALUE(RIGHT(AM$2,1))-1,0),\"\")","v":""},null,"RD3",{"$f":"VLOOKUP(AO37,provnames!$A$2:$B$331,2,0)","v":"Poole Hospital NHS FT"},{"$f":"SUM(IF(('CCG-Prov(Births)'!$B$2:$B$6150=AO37),1,0))","v":48}]
["09G","Coastal West Sussex",{"$f":"SUM(IF(('CCG-Prov(Acute)'!$A$2:$A$29012=A38),1,0))","v":162},{"$f":"SUM(IF(('CCG-Prov(Acute)'!$A$2:$A$29012=A38)*('CCG-Prov(Acute)'!$C$2:$C$29012>=Acute!$B$7),1,0))","v":10},{"$f":"IF(VALUE(MID(E$2,5,2))<=$D38,OFFSET('CCG-Prov(Acute)'!$B$1,MATCH($A38,'CCG-Prov(Acute)'!$A$2:$A$29012,0)+VALUE(RIGHT(E$2,1))-1,0),\"\")","v":"RYR"},{"$f":"IF(VALUE(MID(F$2,5,2))<=$D38,OFFSET('CCG-Prov(Acute)'!$B$1,MATCH($A38,'CCG-Prov(Acute)'!$A$2:$A$29012,0)+VALUE(RIGHT(F$2,1))-1,0),\"\")","v":"RXH"},{"$f":"IF(VALUE(MID(G$2,5,2))<=$D38,OFFSET('CCG-Prov(Acute)'!$B$1,MATCH($A38,'CCG-Prov(Acute)'!$A$2:$A$29012,0)+VALUE(RIGHT(G$2,1))-1,0),\"\")","v":"RHU"},{"$f":"IF(VALUE(MID(H$2,5,2))<=$D38,OFFSET('CCG-Prov(Acute)'!$B$1,MATCH($A38,'CCG-Prov(Acute)'!$A$2:$A$29012,0)+VALUE(RIGHT(H$2,1))-1,0),\"\")","v":"5P6"},{"$f":"IF(VALUE(MID(I$2,5,2))<=$D38,OFFSET('CCG-Prov(Acute)'!$B$1,MATCH($A38,'CCG-Prov(Acute)'!$A$2:$A$29012,0)+VALUE(RIGHT(I$2,1))-1,0),\"\")","v":"RDR"},{"$f":"IF(VALUE(MID(J$2,5,2))<=$D38,OFFSET('CCG-Prov(Acute)'!$B$1,MATCH($A38,'CCG-Prov(Acute)'!$A$2:$A$29012,0)+VALUE(RIGHT(J$2,1))-1,0),\"\")","v":"RA2"},{"$f":"IF(VALUE(MID(K$2,5,2))<=$D38,OFFSET('CCG-Prov(Acute)'!$B$1,MATCH($A38,'CCG-Prov(Acute)'!$A$2:$A$29012,0)+VALUE(RIGHT(K$2,1))-1,0),\"\")","v":"RHM"},{"$f":"IF(VALUE(MID(L$2,5,2))<=$D38,OFFSET('CCG-Prov(Acute)'!$B$1,MATCH($A38,'CCG-Prov(Acute)'!$A$2:$A$29012,0)+VALUE(RIGHT(L$2,1))-1,0),\"\")","v":"NT4"},{"$f":"IF(VALUE(MID(M$2,5,2))<=$D38,OFFSET('CCG-Prov(Acute)'!$B$1,MATCH($A38,'CCG-Prov(Acute)'!$A$2:$A$29012,0)+VALUE(RIGHT(M$2,1))-1,0),\"\")","v":"RPC"},{"$f":"IF(VALUE(MID(N$2,5,2))<=$D38,OFFSET('CCG-Prov(Acute)'!$B$1,MATCH($A38,'CCG-Prov(Acute)'!$A$2:$A$29012,0)+VALUE(RIGHT(N$2,1))-1,0),\"\")","v":"RGP"},null,null,"5NG",{"$f":"VLOOKUP(Q38,provnames!$A$2:$B$331,2,0)","v":"Central Lancashire PCT"},{"$f":"SUM(IF(('CCG-Prov(Acute)'!$B$2:$B$28899=Q38),1,0))","v":7},null,{"$f":"SUM(IF(('CCG-Prov(Amb)'!$A$2:$A$335=A38),1,0))","v":2},{"$f":"SUM(IF(('CCG-Prov(Amb)'!$A$2:$A$335=A38)*('CCG-Prov(Amb)'!$C$2:$C$335>=Ambulance!$B$7),1,0))","v":2},{"$f":"IF(VALUE(MID(W$2,5,2))<=$V38,OFFSET('CCG-Prov(Amb)'!$B$1,MATCH($A38,'CCG-Prov(Amb)'!$A$2:$A$335,0)+VALUE(RIGHT(W$2,1))-1,0),\"\")","v":"RYD"},{"$f":"IF(VALUE(MID(X$2,5,2))<=$V38,OFFSET('CCG-Prov(Amb)'!$B$1,MATCH($A38,'CCG-Prov(Amb)'!$A$2:$A$335,0)+VALUE(RIGHT(X$2,1))-1,0),\"\")","v":"RYE"},{"$f":"IF(VALUE(MID(Y$2,5,2))<=$V38,OFFSET('CCG-Prov(Amb)'!$B$1,MATCH($A38,'CCG-Prov(Amb)'!$A$2:$A$335,0)+VALUE(RIGHT(Y$2,1))-1,0),\"\")","v":""},{"$f":"IF(VALUE(MID(Z$2,5,2))<=$V38,OFFSET('CCG-Prov(Amb)'!$B$1,MATCH($A38,'CCG-Prov(Amb)'!$A$2:$A$335,0)+VALUE(RIGHT(Z$2,1))-1,0),\"\")","v":""},{"$f":"IF(VALUE(MID(AA$2,5,2))<=$V38,OFFSET('CCG-Prov(Amb)'!$B$1,MATCH($A38,'CCG-Prov(Amb)'!$A$2:$A$335,0)+VALUE(RIGHT(AA$2,1))-1,0),\"\")","v":""},null,null,null,null,null,{"$f":"SUM(IF(('CCG-Prov(Births)'!$A$2:$A$6150=A38),1,0))","v":41},{"$f":"SUM(IF(('CCG-Prov(Births)'!$A$2:$A$6150=A38)*('CCG-Prov(Births)'!$C$2:$C$6150>=Maternity!$B$7),1,0))","v":2},{"$f":"IF(VALUE(MID(AI$2,5,2))<=$V38,OFFSET('CCG-Prov(Births)'!$B$1,MATCH($A38,'CCG-Prov(Births)'!$A$2:$A$6150,0)+VALUE(RIGHT(AI$2,1))-1,0),\"\")","v":"RYR"},{"$f":"IF(VALUE(MID(AJ$2,5,2))<=$V38,OFFSET('CCG-Prov(Births)'!$B$1,MATCH($A38,'CCG-Prov(Births)'!$A$2:$A$6150,0)+VALUE(RIGHT(AJ$2,1))-1,0),\"\")","v":"RXH"},{"$f":"IF(VALUE(MID(AK$2,5,2))<=$V38,OFFSET('CCG-Prov(Births)'!$B$1,MATCH($A38,'CCG-Prov(Births)'!$A$2:$A$6150,0)+VALUE(RIGHT(AK$2,1))-1,0),\"\")","v":""},{"$f":"IF(VALUE(MID(AL$2,5,2))<=$V38,OFFSET('CCG-Prov(Births)'!$B$1,MATCH($A38,'CCG-Prov(Births)'!$A$2:$A$6150,0)+VALUE(RIGHT(AL$2,1))-1,0),\"\")","v":""},{"$f":"IF(VALUE(MID(AM$2,5,2))<=$V38,OFFSET('CCG-Prov(Births)'!$B$1,MATCH($A38,'CCG-Prov(Births)'!$A$2:$A$6150,0)+VALUE(RIGHT(AM$2,1))-1,0),\"\")","v":""},null,"RD7",{"$f":"VLOOKUP(AO38,provnames!$A$2:$B$331,2,0)","v":"Heatherwood & Wexham Park Hospitals NHS FT"},{"$f":"SUM(IF(('CCG-Prov(Births)'!$B$2:$B$6150=AO38),1,0))","v":36}]
["03V","Corby",{"$f":"SUM(IF(('CCG-Prov(Acute)'!$A$2:$A$29012=A39),1,0))","v":79},{"$f":"SUM(IF(('CCG-Prov(Acute)'!$A$2:$A$29012=A39)*('CCG-Prov(Acute)'!$C$2:$C$29012>=Acute!$B$7),1,0))","v":1},{"$f":"IF(VALUE(MID(E$2,5,2))<=$D39,OFFSET('CCG-Prov(Acute)'!$B$1,MATCH($A39,'CCG-Prov(Acute)'!$A$2:$A$29012,0)+VALUE(RIGHT(E$2,1))-1,0),\"\")","v":"RNQ"},{"$f":"IF(VALUE(MID(F$2,5,2))<=$D39,OFFSET('CCG-Prov(Acute)'!$B$1,MATCH($A39,'CCG-Prov(Acute)'!$A$2:$A$29012,0)+VALUE(RIGHT(F$2,1))-1,0),\"\")","v":""},{"$f":"IF(VALUE(MID(G$2,5,2))<=$D39,OFFSET('CCG-Prov(Acute)'!$B$1,MATCH($A39,'CCG-Prov(Acute)'!$A$2:$A$29012,0)+VALUE(RIGHT(G$2,1))-1,0),\"\")","v":""},{"$f":"IF(VALUE(MID(H$2,5,2))<=$D39,OFFSET('CCG-Prov(Acute)'!$B$1,MATCH($A39,'CCG-Prov(Acute)'!$A$2:$A$29012,0)+VALUE(RIGHT(H$2,1))-1,0),\"\")","v":""},{"$f":"IF(VALUE(MID(I$2,5,2))<=$D39,OFFSET('CCG-Prov(Acute)'!$B$1,MATCH($A39,'CCG-Prov(Acute)'!$A$2:$A$29012,0)+VALUE(RIGHT(I$2,1))-1,0),\"\")","v":""},{"$f":"IF(VALUE(MID(J$2,5,2))<=$D39,OFFSET('CCG-Prov(Acute)'!$B$1,MATCH($A39,'CCG-Prov(Acute)'!$A$2:$A$29012,0)+VALUE(RIGHT(J$2,1))-1,0),\"\")","v":""},{"$f":"IF(VALUE(MID(K$2,5,2))<=$D39,OFFSET('CCG-Prov(Acute)'!$B$1,MATCH($A39,'CCG-Prov(Acute)'!$A$2:$A$29012,0)+VALUE(RIGHT(K$2,1))-1,0),\"\")","v":""},{"$f":"IF(VALUE(MID(L$2,5,2))<=$D39,OFFSET('CCG-Prov(Acute)'!$B$1,MATCH($A39,'CCG-Prov(Acute)'!$A$2:$A$29012,0)+VALUE(RIGHT(L$2,1))-1,0),\"\")","v":""},{"$f":"IF(VALUE(MID(M$2,5,2))<=$D39,OFFSET('CCG-Prov(Acute)'!$B$1,MATCH($A39,'CCG-Prov(Acute)'!$A$2:$A$29012,0)+VALUE(RIGHT(M$2,1))-1,0),\"\")","v":""},{"$f":"IF(VALUE(MID(N$2,5,2))<=$D39,OFFSET('CCG-Prov(Acute)'!$B$1,MATCH($A39,'CCG-Prov(Acute)'!$A$2:$A$29012,0)+VALUE(RIGHT(N$2,1))-1,0),\"\")","v":""},null,null,"5NL",{"$f":"VLOOKUP(Q39,provnames!$A$2:$B$331,2,0)","v":"Liverpool PCT"},{"$f":"SUM(IF(('CCG-Prov(Acute)'!$B$2:$B$28899=Q39),1,0))","v":6},null,{"$f":"SUM(IF(('CCG-Prov(Amb)'!$A$2:$A$335=A39),1,0))","v":2},{"$f":"SUM(IF(('CCG-Prov(Amb)'!$A$2:$A$335=A39)*('CCG-Prov(Amb)'!$C$2:$C$335>=Ambulance!$B$7),1,0))","v":2},{"$f":"IF(VALUE(MID(W$2,5,2))<=$V39,OFFSET('CCG-Prov(Amb)'!$B$1,MATCH($A39,'CCG-Prov(Amb)'!$A$2:$A$335,0)+VALUE(RIGHT(W$2,1))-1,0),\"\")","v":"RX9"},{"$f":"IF(VALUE(MID(X$2,5,2))<=$V39,OFFSET('CCG-Prov(Amb)'!$B$1,MATCH($A39,'CCG-Prov(Amb)'!$A$2:$A$335,0)+VALUE(RIGHT(X$2,1))-1,0),\"\")","v":"RYC"},{"$f":"IF(VALUE(MID(Y$2,5,2))<=$V39,OFFSET('CCG-Prov(Amb)'!$B$1,MATCH($A39,'CCG-Prov(Amb)'!$A$2:$A$335,0)+VALUE(RIGHT(Y$2,1))-1,0),\"\")","v":""},{"$f":"IF(VALUE(MID(Z$2,5,2))<=$V39,OFFSET('CCG-Prov(Amb)'!$B$1,MATCH($A39,'CCG-Prov(Amb)'!$A$2:$A$335,0)+VALUE(RIGHT(Z$2,1))-1,0),\"\")","v":""},{"$f":"IF(VALUE(MID(AA$2,5,2))<=$V39,OFFSET('CCG-Prov(Amb)'!$B$1,MATCH($A39,'CCG-Prov(Amb)'!$A$2:$A$335,0)+VALUE(RIGHT(AA$2,1))-1,0),\"\")","v":""},null,null,null,null,null,{"$f":"SUM(IF(('CCG-Prov(Births)'!$A$2:$A$6150=A39),1,0))","v":11},{"$f":"SUM(IF(('CCG-Prov(Births)'!$A$2:$A$6150=A39)*('CCG-Prov(Births)'!$C$2:$C$6150>=Maternity!$B$7),1,0))","v":1},{"$f":"IF(VALUE(MID(AI$2,5,2))<=$V39,OFFSET('CCG-Prov(Births)'!$B$1,MATCH($A39,'CCG-Prov(Births)'!$A$2:$A$6150,0)+VALUE(RIGHT(AI$2,1))-1,0),\"\")","v":"RNQ"},{"$f":"IF(VALUE(MID(AJ$2,5,2))<=$V39,OFFSET('CCG-Prov(Births)'!$B$1,MATCH($A39,'CCG-Prov(Births)'!$A$2:$A$6150,0)+VALUE(RIGHT(AJ$2,1))-1,0),\"\")","v":"RNS"},{"$f":"IF(VALUE(MID(AK$2,5,2))<=$V39,OFFSET('CCG-Prov(Births)'!$B$1,MATCH($A39,'CCG-Prov(Births)'!$A$2:$A$6150,0)+VALUE(RIGHT(AK$2,1))-1,0),\"\")","v":""},{"$f":"IF(VALUE(MID(AL$2,5,2))<=$V39,OFFSET('CCG-Prov(Births)'!$B$1,MATCH($A39,'CCG-Prov(Births)'!$A$2:$A$6150,0)+VALUE(RIGHT(AL$2,1))-1,0),\"\")","v":""},{"$f":"IF(VALUE(MID(AM$2,5,2))<=$V39,OFFSET('CCG-Prov(Births)'!$B$1,MATCH($A39,'CCG-Prov(Births)'!$A$2:$A$6150,0)+VALUE(RIGHT(AM$2,1))-1,0),\"\")","v":""},null,"RD8",{"$f":"VLOOKUP(AO39,provnames!$A$2:$B$331,2,0)","v":"Milton Keynes Hospital NHS FT"},{"$f":"SUM(IF(('CCG-Prov(Births)'!$B$2:$B$6150=AO39),1,0))","v":34}]
["05A","Coventry & Rugby",{"$f":"SUM(IF(('CCG-Prov(Acute)'!$A$2:$A$29012=A40),1,0))","v":174},{"$f":"SUM(IF(('CCG-Prov(Acute)'!$A$2:$A$29012=A40)*('CCG-Prov(Acute)'!$C$2:$C$29012>=Acute!$B$7),1,0))","v":6},{"$f":"IF(VALUE(MID(E$2,5,2))<=$D40,OFFSET('CCG-Prov(Acute)'!$B$1,MATCH($A40,'CCG-Prov(Acute)'!$A$2:$A$29012,0)+VALUE(RIGHT(E$2,1))-1,0),\"\")","v":"RKB"},{"$f":"IF(VALUE(MID(F$2,5,2))<=$D40,OFFSET('CCG-Prov(Acute)'!$B$1,MATCH($A40,'CCG-Prov(Acute)'!$A$2:$A$29012,0)+VALUE(RIGHT(F$2,1))-1,0),\"\")","v":"RLT"},{"$f":"IF(VALUE(MID(G$2,5,2))<=$D40,OFFSET('CCG-Prov(Acute)'!$B$1,MATCH($A40,'CCG-Prov(Acute)'!$A$2:$A$29012,0)+VALUE(RIGHT(G$2,1))-1,0),\"\")","v":"RJC"},{"$f":"IF(VALUE(MID(H$2,5,2))<=$D40,OFFSET('CCG-Prov(Acute)'!$B$1,MATCH($A40,'CCG-Prov(Acute)'!$A$2:$A$29012,0)+VALUE(RIGHT(H$2,1))-1,0),\"\")","v":"NT4"},{"$f":"IF(VALUE(MID(I$2,5,2))<=$D40,OFFSET('CCG-Prov(Acute)'!$B$1,MATCH($A40,'CCG-Prov(Acute)'!$A$2:$A$29012,0)+VALUE(RIGHT(I$2,1))-1,0),\"\")","v":"RRK"},{"$f":"IF(VALUE(MID(J$2,5,2))<=$D40,OFFSET('CCG-Prov(Acute)'!$B$1,MATCH($A40,'CCG-Prov(Acute)'!$A$2:$A$29012,0)+VALUE(RIGHT(J$2,1))-1,0),\"\")","v":"RQ3"},{"$f":"IF(VALUE(MID(K$2,5,2))<=$D40,OFFSET('CCG-Prov(Acute)'!$B$1,MATCH($A40,'CCG-Prov(Acute)'!$A$2:$A$29012,0)+VALUE(RIGHT(K$2,1))-1,0),\"\")","v":""},{"$f":"IF(VALUE(MID(L$2,5,2))<=$D40,OFFSET('CCG-Prov(Acute)'!$B$1,MATCH($A40,'CCG-Prov(Acute)'!$A$2:$A$29012,0)+VALUE(RIGHT(L$2,1))-1,0),\"\")","v":""},{"$f":"IF(VALUE(MID(M$2,5,2))<=$D40,OFFSET('CCG-Prov(Acute)'!$B$1,MATCH($A40,'CCG-Prov(Acute)'!$A$2:$A$29012,0)+VALUE(RIGHT(M$2,1))-1,0),\"\")","v":""},{"$f":"IF(VALUE(MID(N$2,5,2))<=$D40,OFFSET('CCG-Prov(Acute)'!$B$1,MATCH($A40,'CCG-Prov(Acute)'!$A$2:$A$29012,0)+VALUE(RIGHT(N$2,1))-1,0),\"\")","v":""},null,null,"5NN",{"$f":"VLOOKUP(Q40,provnames!$A$2:$B$331,2,0)","v":"Western Cheshire PCT"},{"$f":"SUM(IF(('CCG-Prov(Acute)'!$B$2:$B$28899=Q40),1,0))","v":3},null,{"$f":"SUM(IF(('CCG-Prov(Amb)'!$A$2:$A$335=A40),1,0))","v":2},{"$f":"SUM(IF(('CCG-Prov(Amb)'!$A$2:$A$335=A40)*('CCG-Prov(Amb)'!$C$2:$C$335>=Ambulance!$B$7),1,0))","v":2},{"$f":"IF(VALUE(MID(W$2,5,2))<=$V40,OFFSET('CCG-Prov(Amb)'!$B$1,MATCH($A40,'CCG-Prov(Amb)'!$A$2:$A$335,0)+VALUE(RIGHT(W$2,1))-1,0),\"\")","v":"RYA"},{"$f":"IF(VALUE(MID(X$2,5,2))<=$V40,OFFSET('CCG-Prov(Amb)'!$B$1,MATCH($A40,'CCG-Prov(Amb)'!$A$2:$A$335,0)+VALUE(RIGHT(X$2,1))-1,0),\"\")","v":"RX9"},{"$f":"IF(VALUE(MID(Y$2,5,2))<=$V40,OFFSET('CCG-Prov(Amb)'!$B$1,MATCH($A40,'CCG-Prov(Amb)'!$A$2:$A$335,0)+VALUE(RIGHT(Y$2,1))-1,0),\"\")","v":""},{"$f":"IF(VALUE(MID(Z$2,5,2))<=$V40,OFFSET('CCG-Prov(Amb)'!$B$1,MATCH($A40,'CCG-Prov(Amb)'!$A$2:$A$335,0)+VALUE(RIGHT(Z$2,1))-1,0),\"\")","v":""},{"$f":"IF(VALUE(MID(AA$2,5,2))<=$V40,OFFSET('CCG-Prov(Amb)'!$B$1,MATCH($A40,'CCG-Prov(Amb)'!$A$2:$A$335,0)+VALUE(RIGHT(AA$2,1))-1,0),\"\")","v":""},null,null,null,null,null,{"$f":"SUM(IF(('CCG-Prov(Births)'!$A$2:$A$6150=A40),1,0))","v":46},{"$f":"SUM(IF(('CCG-Prov(Births)'!$A$2:$A$6150=A40)*('CCG-Prov(Births)'!$C$2:$C$6150>=Maternity!$B$7),1,0))","v":3},{"$f":"IF(VALUE(MID(AI$2,5,2))<=$V40,OFFSET('CCG-Prov(Births)'!$B$1,MATCH($A40,'CCG-Prov(Births)'!$A$2:$A$6150,0)+VALUE(RIGHT(AI$2,1))-1,0),\"\")","v":"RKB"},{"$f":"IF(VALUE(MID(AJ$2,5,2))<=$V40,OFFSET('CCG-Prov(Births)'!$B$1,MATCH($A40,'CCG-Prov(Births)'!$A$2:$A$6150,0)+VALUE(RIGHT(AJ$2,1))-1,0),\"\")","v":"RJC"},{"$f":"IF(VALUE(MID(AK$2,5,2))<=$V40,OFFSET('CCG-Prov(Births)'!$B$1,MATCH($A40,'CCG-Prov(Births)'!$A$2:$A$6150,0)+VALUE(RIGHT(AK$2,1))-1,0),\"\")","v":""},{"$f":"IF(VALUE(MID(AL$2,5,2))<=$V40,OFFSET('CCG-Prov(Births)'!$B$1,MATCH($A40,'CCG-Prov(Births)'!$A$2:$A$6150,0)+VALUE(RIGHT(AL$2,1))-1,0),\"\")","v":""},{"$f":"IF(VALUE(MID(AM$2,5,2))<=$V40,OFFSET('CCG-Prov(Births)'!$B$1,MATCH($A40,'CCG-Prov(Births)'!$A$2:$A$6150,0)+VALUE(RIGHT(AM$2,1))-1,0),\"\")","v":""},null,"RDD",{"$f":"VLOOKUP(AO40,provnames!$A$2:$B$331,2,0)","v":"Basildon & Thurrock Univ Hospitals NHS FT"},{"$f":"SUM(IF(('CCG-Prov(Births)'!$B$2:$B$6150=AO40),1,0))","v":40}]
["09H","Crawley",{"$f":"SUM(IF(('CCG-Prov(Acute)'!$A$2:$A$29012=A41),1,0))","v":113},{"$f":"SUM(IF(('CCG-Prov(Acute)'!$A$2:$A$29012=A41)*('CCG-Prov(Acute)'!$C$2:$C$29012>=Acute!$B$7),1,0))","v":5},{"$f":"IF(VALUE(MID(E$2,5,2))<=$D41,OFFSET('CCG-Prov(Acute)'!$B$1,MATCH($A41,'CCG-Prov(Acute)'!$A$2:$A$29012,0)+VALUE(RIGHT(E$2,1))-1,0),\"\")","v":"RTP"},{"$f":"IF(VALUE(MID(F$2,5,2))<=$D41,OFFSET('CCG-Prov(Acute)'!$B$1,MATCH($A41,'CCG-Prov(Acute)'!$A$2:$A$29012,0)+VALUE(RIGHT(F$2,1))-1,0),\"\")","v":"RPC"},{"$f":"IF(VALUE(MID(G$2,5,2))<=$D41,OFFSET('CCG-Prov(Acute)'!$B$1,MATCH($A41,'CCG-Prov(Acute)'!$A$2:$A$29012,0)+VALUE(RIGHT(G$2,1))-1,0),\"\")","v":"RXH"},{"$f":"IF(VALUE(MID(H$2,5,2))<=$D41,OFFSET('CCG-Prov(Acute)'!$B$1,MATCH($A41,'CCG-Prov(Acute)'!$A$2:$A$29012,0)+VALUE(RIGHT(H$2,1))-1,0),\"\")","v":"RDR"},{"$f":"IF(VALUE(MID(I$2,5,2))<=$D41,OFFSET('CCG-Prov(Acute)'!$B$1,MATCH($A41,'CCG-Prov(Acute)'!$A$2:$A$29012,0)+VALUE(RIGHT(I$2,1))-1,0),\"\")","v":"RA2"},{"$f":"IF(VALUE(MID(J$2,5,2))<=$D41,OFFSET('CCG-Prov(Acute)'!$B$1,MATCH($A41,'CCG-Prov(Acute)'!$A$2:$A$29012,0)+VALUE(RIGHT(J$2,1))-1,0),\"\")","v":""},{"$f":"IF(VALUE(MID(K$2,5,2))<=$D41,OFFSET('CCG-Prov(Acute)'!$B$1,MATCH($A41,'CCG-Prov(Acute)'!$A$2:$A$29012,0)+VALUE(RIGHT(K$2,1))-1,0),\"\")","v":""},{"$f":"IF(VALUE(MID(L$2,5,2))<=$D41,OFFSET('CCG-Prov(Acute)'!$B$1,MATCH($A41,'CCG-Prov(Acute)'!$A$2:$A$29012,0)+VALUE(RIGHT(L$2,1))-1,0),\"\")","v":""},{"$f":"IF(VALUE(MID(M$2,5,2))<=$D41,OFFSET('CCG-Prov(Acute)'!$B$1,MATCH($A41,'CCG-Prov(Acute)'!$A$2:$A$29012,0)+VALUE(RIGHT(M$2,1))-1,0),\"\")","v":""},{"$f":"IF(VALUE(MID(N$2,5,2))<=$D41,OFFSET('CCG-Prov(Acute)'!$B$1,MATCH($A41,'CCG-Prov(Acute)'!$A$2:$A$29012,0)+VALUE(RIGHT(N$2,1))-1,0),\"\")","v":""},null,null,"5NV",{"$f":"VLOOKUP(Q41,provnames!$A$2:$B$331,2,0)","v":"North Yorkshire & York PCT"},{"$f":"SUM(IF(('CCG-Prov(Acute)'!$B$2:$B$28899=Q41),1,0))","v":15},null,{"$f":"SUM(IF(('CCG-Prov(Amb)'!$A$2:$A$335=A41),1,0))","v":1},{"$f":"SUM(IF(('CCG-Prov(Amb)'!$A$2:$A$335=A41)*('CCG-Prov(Amb)'!$C$2:$C$335>=Ambulance!$B$7),1,0))","v":1},{"$f":"IF(VALUE(MID(W$2,5,2))<=$V41,OFFSET('CCG-Prov(Amb)'!$B$1,MATCH($A41,'CCG-Prov(Amb)'!$A$2:$A$335,0)+VALUE(RIGHT(W$2,1))-1,0),\"\")","v":"RYD"},{"$f":"IF(VALUE(MID(X$2,5,2))<=$V41,OFFSET('CCG-Prov(Amb)'!$B$1,MATCH($A41,'CCG-Prov(Amb)'!$A$2:$A$335,0)+VALUE(RIGHT(X$2,1))-1,0),\"\")","v":""},{"$f":"IF(VALUE(MID(Y$2,5,2))<=$V41,OFFSET('CCG-Prov(Amb)'!$B$1,MATCH($A41,'CCG-Prov(Amb)'!$A$2:$A$335,0)+VALUE(RIGHT(Y$2,1))-1,0),\"\")","v":""},{"$f":"IF(VALUE(MID(Z$2,5,2))<=$V41,OFFSET('CCG-Prov(Amb)'!$B$1,MATCH($A41,'CCG-Prov(Amb)'!$A$2:$A$335,0)+VALUE(RIGHT(Z$2,1))-1,0),\"\")","v":""},{"$f":"IF(VALUE(MID(AA$2,5,2))<=$V41,OFFSET('CCG-Prov(Amb)'!$B$1,MATCH($A41,'CCG-Prov(Amb)'!$A$2:$A$335,0)+VALUE(RIGHT(AA$2,1))-1,0),\"\")","v":""},null,null,null,null,null,{"$f":"SUM(IF(('CCG-Prov(Births)'!$A$2:$A$6150=A41),1,0))","v":26},{"$f":"SUM(IF(('CCG-Prov(Births)'!$A$2:$A$6150=A41)*('CCG-Prov(Births)'!$C$2:$C$6150>=Maternity!$B$7),1,0))","v":2},{"$f":"IF(VALUE(MID(AI$2,5,2))<=$V41,OFFSET('CCG-Prov(Births)'!$B$1,MATCH($A41,'CCG-Prov(Births)'!$A$2:$A$6150,0)+VALUE(RIGHT(AI$2,1))-1,0),\"\")","v":"RTP"},{"$f":"IF(VALUE(MID(AJ$2,5,2))<=$V41,OFFSET('CCG-Prov(Births)'!$B$1,MATCH($A41,'CCG-Prov(Births)'!$A$2:$A$6150,0)+VALUE(RIGHT(AJ$2,1))-1,0),\"\")","v":""},{"$f":"IF(VALUE(MID(AK$2,5,2))<=$V41,OFFSET('CCG-Prov(Births)'!$B$1,MATCH($A41,'CCG-Prov(Births)'!$A$2:$A$6150,0)+VALUE(RIGHT(AK$2,1))-1,0),\"\")","v":""},{"$f":"IF(VALUE(MID(AL$2,5,2))<=$V41,OFFSET('CCG-Prov(Births)'!$B$1,MATCH($A41,'CCG-Prov(Births)'!$A$2:$A$6150,0)+VALUE(RIGHT(AL$2,1))-1,0),\"\")","v":""},{"$f":"IF(VALUE(MID(AM$2,5,2))<=$V41,OFFSET('CCG-Prov(Births)'!$B$1,MATCH($A41,'CCG-Prov(Births)'!$A$2:$A$6150,0)+VALUE(RIGHT(AM$2,1))-1,0),\"\")","v":""},null,"RDE",{"$f":"VLOOKUP(AO41,provnames!$A$2:$B$331,2,0)","v":"Colchester Hospital Univ NHS FT"},{"$f":"SUM(IF(('CCG-Prov(Births)'!$B$2:$B$6150=AO41),1,0))","v":30}]
["07V","Croydon",{"$f":"SUM(IF(('CCG-Prov(Acute)'!$A$2:$A$29012=A42),1,0))","v":143},{"$f":"SUM(IF(('CCG-Prov(Acute)'!$A$2:$A$29012=A42)*('CCG-Prov(Acute)'!$C$2:$C$29012>=Acute!$B$7),1,0))","v":10},{"$f":"IF(VALUE(MID(E$2,5,2))<=$D42,OFFSET('CCG-Prov(Acute)'!$B$1,MATCH($A42,'CCG-Prov(Acute)'!$A$2:$A$29012,0)+VALUE(RIGHT(E$2,1))-1,0),\"\")","v":"RJ6"},{"$f":"IF(VALUE(MID(F$2,5,2))<=$D42,OFFSET('CCG-Prov(Acute)'!$B$1,MATCH($A42,'CCG-Prov(Acute)'!$A$2:$A$29012,0)+VALUE(RIGHT(F$2,1))-1,0),\"\")","v":"RJ7"},{"$f":"IF(VALUE(MID(G$2,5,2))<=$D42,OFFSET('CCG-Prov(Acute)'!$B$1,MATCH($A42,'CCG-Prov(Acute)'!$A$2:$A$29012,0)+VALUE(RIGHT(G$2,1))-1,0),\"\")","v":"RJZ"},{"$f":"IF(VALUE(MID(H$2,5,2))<=$D42,OFFSET('CCG-Prov(Acute)'!$B$1,MATCH($A42,'CCG-Prov(Acute)'!$A$2:$A$29012,0)+VALUE(RIGHT(H$2,1))-1,0),\"\")","v":"RVR"},{"$f":"IF(VALUE(MID(I$2,5,2))<=$D42,OFFSET('CCG-Prov(Acute)'!$B$1,MATCH($A42,'CCG-Prov(Acute)'!$A$2:$A$29012,0)+VALUE(RIGHT(I$2,1))-1,0),\"\")","v":"RYQ"},{"$f":"IF(VALUE(MID(J$2,5,2))<=$D42,OFFSET('CCG-Prov(Acute)'!$B$1,MATCH($A42,'CCG-Prov(Acute)'!$A$2:$A$29012,0)+VALUE(RIGHT(J$2,1))-1,0),\"\")","v":"RJ1"},{"$f":"IF(VALUE(MID(K$2,5,2))<=$D42,OFFSET('CCG-Prov(Acute)'!$B$1,MATCH($A42,'CCG-Prov(Acute)'!$A$2:$A$29012,0)+VALUE(RIGHT(K$2,1))-1,0),\"\")","v":"RPY"},{"$f":"IF(VALUE(MID(L$2,5,2))<=$D42,OFFSET('CCG-Prov(Acute)'!$B$1,MATCH($A42,'CCG-Prov(Acute)'!$A$2:$A$29012,0)+VALUE(RIGHT(L$2,1))-1,0),\"\")","v":"NT4"},{"$f":"IF(VALUE(MID(M$2,5,2))<=$D42,OFFSET('CCG-Prov(Acute)'!$B$1,MATCH($A42,'CCG-Prov(Acute)'!$A$2:$A$29012,0)+VALUE(RIGHT(M$2,1))-1,0),\"\")","v":"RTP"},{"$f":"IF(VALUE(MID(N$2,5,2))<=$D42,OFFSET('CCG-Prov(Acute)'!$B$1,MATCH($A42,'CCG-Prov(Acute)'!$A$2:$A$29012,0)+VALUE(RIGHT(N$2,1))-1,0),\"\")","v":"RXP"},null,null,"5NW",{"$f":"VLOOKUP(Q42,provnames!$A$2:$B$331,2,0)","v":"East Riding of Yorkshire PCT"},{"$f":"SUM(IF(('CCG-Prov(Acute)'!$B$2:$B$28899=Q42),1,0))","v":6},null,{"$f":"SUM(IF(('CCG-Prov(Amb)'!$A$2:$A$335=A42),1,0))","v":2},{"$f":"SUM(IF(('CCG-Prov(Amb)'!$A$2:$A$335=A42)*('CCG-Prov(Amb)'!$C$2:$C$335>=Ambulance!$B$7),1,0))","v":2},{"$f":"IF(VALUE(MID(W$2,5,2))<=$V42,OFFSET('CCG-Prov(Amb)'!$B$1,MATCH($A42,'CCG-Prov(Amb)'!$A$2:$A$335,0)+VALUE(RIGHT(W$2,1))-1,0),\"\")","v":"RRY"},{"$f":"IF(VALUE(MID(X$2,5,2))<=$V42,OFFSET('CCG-Prov(Amb)'!$B$1,MATCH($A42,'CCG-Prov(Amb)'!$A$2:$A$335,0)+VALUE(RIGHT(X$2,1))-1,0),\"\")","v":"RYD"},{"$f":"IF(VALUE(MID(Y$2,5,2))<=$V42,OFFSET('CCG-Prov(Amb)'!$B$1,MATCH($A42,'CCG-Prov(Amb)'!$A$2:$A$335,0)+VALUE(RIGHT(Y$2,1))-1,0),\"\")","v":""},{"$f":"IF(VALUE(MID(Z$2,5,2))<=$V42,OFFSET('CCG-Prov(Amb)'!$B$1,MATCH($A42,'CCG-Prov(Amb)'!$A$2:$A$335,0)+VALUE(RIGHT(Z$2,1))-1,0),\"\")","v":""},{"$f":"IF(VALUE(MID(AA$2,5,2))<=$V42,OFFSET('CCG-Prov(Amb)'!$B$1,MATCH($A42,'CCG-Prov(Amb)'!$A$2:$A$335,0)+VALUE(RIGHT(AA$2,1))-1,0),\"\")","v":""},null,null,null,null,null,{"$f":"SUM(IF(('CCG-Prov(Births)'!$A$2:$A$6150=A42),1,0))","v":48},{"$f":"SUM(IF(('CCG-Prov(Births)'!$A$2:$A$6150=A42)*('CCG-Prov(Births)'!$C$2:$C$6150>=Maternity!$B$7),1,0))","v":6},{"$f":"IF(VALUE(MID(AI$2,5,2))<=$V42,OFFSET('CCG-Prov(Births)'!$B$1,MATCH($A42,'CCG-Prov(Births)'!$A$2:$A$6150,0)+VALUE(RIGHT(AI$2,1))-1,0),\"\")","v":"RJ6"},{"$f":"IF(VALUE(MID(AJ$2,5,2))<=$V42,OFFSET('CCG-Prov(Births)'!$B$1,MATCH($A42,'CCG-Prov(Births)'!$A$2:$A$6150,0)+VALUE(RIGHT(AJ$2,1))-1,0),\"\")","v":"RYQ"},{"$f":"IF(VALUE(MID(AK$2,5,2))<=$V42,OFFSET('CCG-Prov(Births)'!$B$1,MATCH($A42,'CCG-Prov(Births)'!$A$2:$A$6150,0)+VALUE(RIGHT(AK$2,1))-1,0),\"\")","v":""},{"$f":"IF(VALUE(MID(AL$2,5,2))<=$V42,OFFSET('CCG-Prov(Births)'!$B$1,MATCH($A42,'CCG-Prov(Births)'!$A$2:$A$6150,0)+VALUE(RIGHT(AL$2,1))-1,0),\"\")","v":""},{"$f":"IF(VALUE(MID(AM$2,5,2))<=$V42,OFFSET('CCG-Prov(Births)'!$B$1,MATCH($A42,'CCG-Prov(Births)'!$A$2:$A$6150,0)+VALUE(RIGHT(AM$2,1))-1,0),\"\")","v":""},null,"RDU",{"$f":"VLOOKUP(AO42,provnames!$A$2:$B$331,2,0)","v":"Frimley Park Hospital NHS FT"},{"$f":"SUM(IF(('CCG-Prov(Births)'!$B$2:$B$6150=AO42),1,0))","v":37}]
["01H","Cumbria",{"$f":"SUM(IF(('CCG-Prov(Acute)'!$A$2:$A$29012=A43),1,0))","v":172},{"$f":"SUM(IF(('CCG-Prov(Acute)'!$A$2:$A$29012=A43)*('CCG-Prov(Acute)'!$C$2:$C$29012>=Acute!$B$7),1,0))","v":10},{"$f":"IF(VALUE(MID(E$2,5,2))<=$D43,OFFSET('CCG-Prov(Acute)'!$B$1,MATCH($A43,'CCG-Prov(Acute)'!$A$2:$A$29012,0)+VALUE(RIGHT(E$2,1))-1,0),\"\")","v":"RNL"},{"$f":"IF(VALUE(MID(F$2,5,2))<=$D43,OFFSET('CCG-Prov(Acute)'!$B$1,MATCH($A43,'CCG-Prov(Acute)'!$A$2:$A$29012,0)+VALUE(RIGHT(F$2,1))-1,0),\"\")","v":"RTX"},{"$f":"IF(VALUE(MID(G$2,5,2))<=$D43,OFFSET('CCG-Prov(Acute)'!$B$1,MATCH($A43,'CCG-Prov(Acute)'!$A$2:$A$29012,0)+VALUE(RIGHT(G$2,1))-1,0),\"\")","v":"5NE"},{"$f":"IF(VALUE(MID(H$2,5,2))<=$D43,OFFSET('CCG-Prov(Acute)'!$B$1,MATCH($A43,'CCG-Prov(Acute)'!$A$2:$A$29012,0)+VALUE(RIGHT(H$2,1))-1,0),\"\")","v":"RTD"},{"$f":"IF(VALUE(MID(I$2,5,2))<=$D43,OFFSET('CCG-Prov(Acute)'!$B$1,MATCH($A43,'CCG-Prov(Acute)'!$A$2:$A$29012,0)+VALUE(RIGHT(I$2,1))-1,0),\"\")","v":"RXN"},{"$f":"IF(VALUE(MID(J$2,5,2))<=$D43,OFFSET('CCG-Prov(Acute)'!$B$1,MATCH($A43,'CCG-Prov(Acute)'!$A$2:$A$29012,0)+VALUE(RIGHT(J$2,1))-1,0),\"\")","v":"NVC"},{"$f":"IF(VALUE(MID(K$2,5,2))<=$D43,OFFSET('CCG-Prov(Acute)'!$B$1,MATCH($A43,'CCG-Prov(Acute)'!$A$2:$A$29012,0)+VALUE(RIGHT(K$2,1))-1,0),\"\")","v":"RXL"},{"$f":"IF(VALUE(MID(L$2,5,2))<=$D43,OFFSET('CCG-Prov(Acute)'!$B$1,MATCH($A43,'CCG-Prov(Acute)'!$A$2:$A$29012,0)+VALUE(RIGHT(L$2,1))-1,0),\"\")","v":"RW3"},{"$f":"IF(VALUE(MID(M$2,5,2))<=$D43,OFFSET('CCG-Prov(Acute)'!$B$1,MATCH($A43,'CCG-Prov(Acute)'!$A$2:$A$29012,0)+VALUE(RIGHT(M$2,1))-1,0),\"\")","v":"RTF"},{"$f":"IF(VALUE(MID(N$2,5,2))<=$D43,OFFSET('CCG-Prov(Acute)'!$B$1,MATCH($A43,'CCG-Prov(Acute)'!$A$2:$A$29012,0)+VALUE(RIGHT(N$2,1))-1,0),\"\")","v":"RXQ"},null,null,"5P5",{"$f":"VLOOKUP(Q43,provnames!$A$2:$B$331,2,0)","v":"Surrey PCT"},{"$f":"SUM(IF(('CCG-Prov(Acute)'!$B$2:$B$28899=Q43),1,0))","v":22},null,{"$f":"SUM(IF(('CCG-Prov(Amb)'!$A$2:$A$335=A43),1,0))","v":3},{"$f":"SUM(IF(('CCG-Prov(Amb)'!$A$2:$A$335=A43)*('CCG-Prov(Amb)'!$C$2:$C$335>=Ambulance!$B$7),1,0))","v":2},{"$f":"IF(VALUE(MID(W$2,5,2))<=$V43,OFFSET('CCG-Prov(Amb)'!$B$1,MATCH($A43,'CCG-Prov(Amb)'!$A$2:$A$335,0)+VALUE(RIGHT(W$2,1))-1,0),\"\")","v":"RX7"},{"$f":"IF(VALUE(MID(X$2,5,2))<=$V43,OFFSET('CCG-Prov(Amb)'!$B$1,MATCH($A43,'CCG-Prov(Amb)'!$A$2:$A$335,0)+VALUE(RIGHT(X$2,1))-1,0),\"\")","v":"RX8"},{"$f":"IF(VALUE(MID(Y$2,5,2))<=$V43,OFFSET('CCG-Prov(Amb)'!$B$1,MATCH($A43,'CCG-Prov(Amb)'!$A$2:$A$335,0)+VALUE(RIGHT(Y$2,1))-1,0),\"\")","v":""},{"$f":"IF(VALUE(MID(Z$2,5,2))<=$V43,OFFSET('CCG-Prov(Amb)'!$B$1,MATCH($A43,'CCG-Prov(Amb)'!$A$2:$A$335,0)+VALUE(RIGHT(Z$2,1))-1,0),\"\")","v":""},{"$f":"IF(VALUE(MID(AA$2,5,2))<=$V43,OFFSET('CCG-Prov(Amb)'!$B$1,MATCH($A43,'CCG-Prov(Amb)'!$A$2:$A$335,0)+VALUE(RIGHT(AA$2,1))-1,0),\"\")","v":""},null,null,null,null,null,{"$f":"SUM(IF(('CCG-Prov(Births)'!$A$2:$A$6150=A43),1,0))","v":30},{"$f":"SUM(IF(('CCG-Prov(Births)'!$A$2:$A$6150=A43)*('CCG-Prov(Births)'!$C$2:$C$6150>=Maternity!$B$7),1,0))","v":2},{"$f":"IF(VALUE(MID(AI$2,5,2))<=$V43,OFFSET('CCG-Prov(Births)'!$B$1,MATCH($A43,'CCG-Prov(Births)'!$A$2:$A$6150,0)+VALUE(RIGHT(AI$2,1))-1,0),\"\")","v":"RNL"},{"$f":"IF(VALUE(MID(AJ$2,5,2))<=$V43,OFFSET('CCG-Prov(Births)'!$B$1,MATCH($A43,'CCG-Prov(Births)'!$A$2:$A$6150,0)+VALUE(RIGHT(AJ$2,1))-1,0),\"\")","v":"RTX"},{"$f":"IF(VALUE(MID(AK$2,5,2))<=$V43,OFFSET('CCG-Prov(Births)'!$B$1,MATCH($A43,'CCG-Prov(Births)'!$A$2:$A$6150,0)+VALUE(RIGHT(AK$2,1))-1,0),\"\")","v":""},{"$f":"IF(VALUE(MID(AL$2,5,2))<=$V43,OFFSET('CCG-Prov(Births)'!$B$1,MATCH($A43,'CCG-Prov(Births)'!$A$2:$A$6150,0)+VALUE(RIGHT(AL$2,1))-1,0),\"\")","v":""},{"$f":"IF(VALUE(MID(AM$2,5,2))<=$V43,OFFSET('CCG-Prov(Births)'!$B$1,MATCH($A43,'CCG-Prov(Births)'!$A$2:$A$6150,0)+VALUE(RIGHT(AM$2,1))-1,0),\"\")","v":""},null,"RDZ",{"$f":"VLOOKUP(AO43,provnames!$A$2:$B$331,2,0)","v":"The Royal Bournemouth & Christchurch Hospitals NHS FT"},{"$f":"SUM(IF(('CCG-Prov(Births)'!$B$2:$B$6150=AO43),1,0))","v":5}]
["00C","Darlington",{"$f":"SUM(IF(('CCG-Prov(Acute)'!$A$2:$A$29012=A44),1,0))","v":97},{"$f":"SUM(IF(('CCG-Prov(Acute)'!$A$2:$A$29012=A44)*('CCG-Prov(Acute)'!$C$2:$C$29012>=Acute!$B$7),1,0))","v":4},{"$f":"IF(VALUE(MID(E$2,5,2))<=$D44,OFFSET('CCG-Prov(Acute)'!$B$1,MATCH($A44,'CCG-Prov(Acute)'!$A$2:$A$29012,0)+VALUE(RIGHT(E$2,1))-1,0),\"\")","v":"RXP"},{"$f":"IF(VALUE(MID(F$2,5,2))<=$D44,OFFSET('CCG-Prov(Acute)'!$B$1,MATCH($A44,'CCG-Prov(Acute)'!$A$2:$A$29012,0)+VALUE(RIGHT(F$2,1))-1,0),\"\")","v":"RTR"},{"$f":"IF(VALUE(MID(G$2,5,2))<=$D44,OFFSET('CCG-Prov(Acute)'!$B$1,MATCH($A44,'CCG-Prov(Acute)'!$A$2:$A$29012,0)+VALUE(RIGHT(G$2,1))-1,0),\"\")","v":"RTD"},{"$f":"IF(VALUE(MID(H$2,5,2))<=$D44,OFFSET('CCG-Prov(Acute)'!$B$1,MATCH($A44,'CCG-Prov(Acute)'!$A$2:$A$29012,0)+VALUE(RIGHT(H$2,1))-1,0),\"\")","v":"NT4"},{"$f":"IF(VALUE(MID(I$2,5,2))<=$D44,OFFSET('CCG-Prov(Acute)'!$B$1,MATCH($A44,'CCG-Prov(Acute)'!$A$2:$A$29012,0)+VALUE(RIGHT(I$2,1))-1,0),\"\")","v":""},{"$f":"IF(VALUE(MID(J$2,5,2))<=$D44,OFFSET('CCG-Prov(Acute)'!$B$1,MATCH($A44,'CCG-Prov(Acute)'!$A$2:$A$29012,0)+VALUE(RIGHT(J$2,1))-1,0),\"\")","v":""},{"$f":"IF(VALUE(MID(K$2,5,2))<=$D44,OFFSET('CCG-Prov(Acute)'!$B$1,MATCH($A44,'CCG-Prov(Acute)'!$A$2:$A$29012,0)+VALUE(RIGHT(K$2,1))-1,0),\"\")","v":""},{"$f":"IF(VALUE(MID(L$2,5,2))<=$D44,OFFSET('CCG-Prov(Acute)'!$B$1,MATCH($A44,'CCG-Prov(Acute)'!$A$2:$A$29012,0)+VALUE(RIGHT(L$2,1))-1,0),\"\")","v":""},{"$f":"IF(VALUE(MID(M$2,5,2))<=$D44,OFFSET('CCG-Prov(Acute)'!$B$1,MATCH($A44,'CCG-Prov(Acute)'!$A$2:$A$29012,0)+VALUE(RIGHT(M$2,1))-1,0),\"\")","v":""},{"$f":"IF(VALUE(MID(N$2,5,2))<=$D44,OFFSET('CCG-Prov(Acute)'!$B$1,MATCH($A44,'CCG-Prov(Acute)'!$A$2:$A$29012,0)+VALUE(RIGHT(N$2,1))-1,0),\"\")","v":""},null,null,"5P6",{"$f":"VLOOKUP(Q44,provnames!$A$2:$B$331,2,0)","v":"West Sussex PCT"},{"$f":"SUM(IF(('CCG-Prov(Acute)'!$B$2:$B$28899=Q44),1,0))","v":11},null,{"$f":"SUM(IF(('CCG-Prov(Amb)'!$A$2:$A$335=A44),1,0))","v":2},{"$f":"SUM(IF(('CCG-Prov(Amb)'!$A$2:$A$335=A44)*('CCG-Prov(Amb)'!$C$2:$C$335>=Ambulance!$B$7),1,0))","v":2},{"$f":"IF(VALUE(MID(W$2,5,2))<=$V44,OFFSET('CCG-Prov(Amb)'!$B$1,MATCH($A44,'CCG-Prov(Amb)'!$A$2:$A$335,0)+VALUE(RIGHT(W$2,1))-1,0),\"\")","v":"RX6"},{"$f":"IF(VALUE(MID(X$2,5,2))<=$V44,OFFSET('CCG-Prov(Amb)'!$B$1,MATCH($A44,'CCG-Prov(Amb)'!$A$2:$A$335,0)+VALUE(RIGHT(X$2,1))-1,0),\"\")","v":"RX8"},{"$f":"IF(VALUE(MID(Y$2,5,2))<=$V44,OFFSET('CCG-Prov(Amb)'!$B$1,MATCH($A44,'CCG-Prov(Amb)'!$A$2:$A$335,0)+VALUE(RIGHT(Y$2,1))-1,0),\"\")","v":""},{"$f":"IF(VALUE(MID(Z$2,5,2))<=$V44,OFFSET('CCG-Prov(Amb)'!$B$1,MATCH($A44,'CCG-Prov(Amb)'!$A$2:$A$335,0)+VALUE(RIGHT(Z$2,1))-1,0),\"\")","v":""},{"$f":"IF(VALUE(MID(AA$2,5,2))<=$V44,OFFSET('CCG-Prov(Amb)'!$B$1,MATCH($A44,'CCG-Prov(Amb)'!$A$2:$A$335,0)+VALUE(RIGHT(AA$2,1))-1,0),\"\")","v":""},null,null,null,null,null,{"$f":"SUM(IF(('CCG-Prov(Births)'!$A$2:$A$6150=A44),1,0))","v":10},{"$f":"SUM(IF(('CCG-Prov(Births)'!$A$2:$A$6150=A44)*('CCG-Prov(Births)'!$C$2:$C$6150>=Maternity!$B$7),1,0))","v":1},{"$f":"IF(VALUE(MID(AI$2,5,2))<=$V44,OFFSET('CCG-Prov(Births)'!$B$1,MATCH($A44,'CCG-Prov(Births)'!$A$2:$A$6150,0)+VALUE(RIGHT(AI$2,1))-1,0),\"\")","v":"RXP"},{"$f":"IF(VALUE(MID(AJ$2,5,2))<=$V44,OFFSET('CCG-Prov(Births)'!$B$1,MATCH($A44,'CCG-Prov(Births)'!$A$2:$A$6150,0)+VALUE(RIGHT(AJ$2,1))-1,0),\"\")","v":"RTR"},{"$f":"IF(VALUE(MID(AK$2,5,2))<=$V44,OFFSET('CCG-Prov(Births)'!$B$1,MATCH($A44,'CCG-Prov(Births)'!$A$2:$A$6150,0)+VALUE(RIGHT(AK$2,1))-1,0),\"\")","v":""},{"$f":"IF(VALUE(MID(AL$2,5,2))<=$V44,OFFSET('CCG-Prov(Births)'!$B$1,MATCH($A44,'CCG-Prov(Births)'!$A$2:$A$6150,0)+VALUE(RIGHT(AL$2,1))-1,0),\"\")","v":""},{"$f":"IF(VALUE(MID(AM$2,5,2))<=$V44,OFFSET('CCG-Prov(Births)'!$B$1,MATCH($A44,'CCG-Prov(Births)'!$A$2:$A$6150,0)+VALUE(RIGHT(AM$2,1))-1,0),\"\")","v":""},null,"RE9",{"$f":"VLOOKUP(AO44,provnames!$A$2:$B$331,2,0)","v":"South Tyneside NHS FT"},{"$f":"SUM(IF(('CCG-Prov(Births)'!$B$2:$B$6150=AO44),1,0))","v":13}]
["09J","Dartford, Gravesham & Swanley",{"$f":"SUM(IF(('CCG-Prov(Acute)'!$A$2:$A$29012=A45),1,0))","v":138},{"$f":"SUM(IF(('CCG-Prov(Acute)'!$A$2:$A$29012=A45)*('CCG-Prov(Acute)'!$C$2:$C$29012>=Acute!$B$7),1,0))","v":8},{"$f":"IF(VALUE(MID(E$2,5,2))<=$D45,OFFSET('CCG-Prov(Acute)'!$B$1,MATCH($A45,'CCG-Prov(Acute)'!$A$2:$A$29012,0)+VALUE(RIGHT(E$2,1))-1,0),\"\")","v":"RN7"},{"$f":"IF(VALUE(MID(F$2,5,2))<=$D45,OFFSET('CCG-Prov(Acute)'!$B$1,MATCH($A45,'CCG-Prov(Acute)'!$A$2:$A$29012,0)+VALUE(RIGHT(F$2,1))-1,0),\"\")","v":"RYQ"},{"$f":"IF(VALUE(MID(G$2,5,2))<=$D45,OFFSET('CCG-Prov(Acute)'!$B$1,MATCH($A45,'CCG-Prov(Acute)'!$A$2:$A$29012,0)+VALUE(RIGHT(G$2,1))-1,0),\"\")","v":"RJ1"},{"$f":"IF(VALUE(MID(H$2,5,2))<=$D45,OFFSET('CCG-Prov(Acute)'!$B$1,MATCH($A45,'CCG-Prov(Acute)'!$A$2:$A$29012,0)+VALUE(RIGHT(H$2,1))-1,0),\"\")","v":"RPA"},{"$f":"IF(VALUE(MID(I$2,5,2))<=$D45,OFFSET('CCG-Prov(Acute)'!$B$1,MATCH($A45,'CCG-Prov(Acute)'!$A$2:$A$29012,0)+VALUE(RIGHT(I$2,1))-1,0),\"\")","v":"RPC"},{"$f":"IF(VALUE(MID(J$2,5,2))<=$D45,OFFSET('CCG-Prov(Acute)'!$B$1,MATCH($A45,'CCG-Prov(Acute)'!$A$2:$A$29012,0)+VALUE(RIGHT(J$2,1))-1,0),\"\")","v":"RJZ"},{"$f":"IF(VALUE(MID(K$2,5,2))<=$D45,OFFSET('CCG-Prov(Acute)'!$B$1,MATCH($A45,'CCG-Prov(Acute)'!$A$2:$A$29012,0)+VALUE(RIGHT(K$2,1))-1,0),\"\")","v":"RWF"},{"$f":"IF(VALUE(MID(L$2,5,2))<=$D45,OFFSET('CCG-Prov(Acute)'!$B$1,MATCH($A45,'CCG-Prov(Acute)'!$A$2:$A$29012,0)+VALUE(RIGHT(L$2,1))-1,0),\"\")","v":"NT4"},{"$f":"IF(VALUE(MID(M$2,5,2))<=$D45,OFFSET('CCG-Prov(Acute)'!$B$1,MATCH($A45,'CCG-Prov(Acute)'!$A$2:$A$29012,0)+VALUE(RIGHT(M$2,1))-1,0),\"\")","v":""},{"$f":"IF(VALUE(MID(N$2,5,2))<=$D45,OFFSET('CCG-Prov(Acute)'!$B$1,MATCH($A45,'CCG-Prov(Acute)'!$A$2:$A$29012,0)+VALUE(RIGHT(N$2,1))-1,0),\"\")","v":""},null,null,"5P7",{"$f":"VLOOKUP(Q45,provnames!$A$2:$B$331,2,0)","v":"East Sussex Downs & Weald PCT"},{"$f":"SUM(IF(('CCG-Prov(Acute)'!$B$2:$B$28899=Q45),1,0))","v":5},null,{"$f":"SUM(IF(('CCG-Prov(Amb)'!$A$2:$A$335=A45),1,0))","v":2},{"$f":"SUM(IF(('CCG-Prov(Amb)'!$A$2:$A$335=A45)*('CCG-Prov(Amb)'!$C$2:$C$335>=Ambulance!$B$7),1,0))","v":2},{"$f":"IF(VALUE(MID(W$2,5,2))<=$V45,OFFSET('CCG-Prov(Amb)'!$B$1,MATCH($A45,'CCG-Prov(Amb)'!$A$2:$A$335,0)+VALUE(RIGHT(W$2,1))-1,0),\"\")","v":"RYD"},{"$f":"IF(VALUE(MID(X$2,5,2))<=$V45,OFFSET('CCG-Prov(Amb)'!$B$1,MATCH($A45,'CCG-Prov(Amb)'!$A$2:$A$335,0)+VALUE(RIGHT(X$2,1))-1,0),\"\")","v":"RRY"},{"$f":"IF(VALUE(MID(Y$2,5,2))<=$V45,OFFSET('CCG-Prov(Amb)'!$B$1,MATCH($A45,'CCG-Prov(Amb)'!$A$2:$A$335,0)+VALUE(RIGHT(Y$2,1))-1,0),\"\")","v":""},{"$f":"IF(VALUE(MID(Z$2,5,2))<=$V45,OFFSET('CCG-Prov(Amb)'!$B$1,MATCH($A45,'CCG-Prov(Amb)'!$A$2:$A$335,0)+VALUE(RIGHT(Z$2,1))-1,0),\"\")","v":""},{"$f":"IF(VALUE(MID(AA$2,5,2))<=$V45,OFFSET('CCG-Prov(Amb)'!$B$1,MATCH($A45,'CCG-Prov(Amb)'!$A$2:$A$335,0)+VALUE(RIGHT(AA$2,1))-1,0),\"\")","v":""},null,null,null,null,null,{"$f":"SUM(IF(('CCG-Prov(Births)'!$A$2:$A$6150=A45),1,0))","v":29},{"$f":"SUM(IF(('CCG-Prov(Births)'!$A$2:$A$6150=A45)*('CCG-Prov(Births)'!$C$2:$C$6150>=Maternity!$B$7),1,0))","v":2},{"$f":"IF(VALUE(MID(AI$2,5,2))<=$V45,OFFSET('CCG-Prov(Births)'!$B$1,MATCH($A45,'CCG-Prov(Births)'!$A$2:$A$6150,0)+VALUE(RIGHT(AI$2,1))-1,0),\"\")","v":"RN7"},{"$f":"IF(VALUE(MID(AJ$2,5,2))<=$V45,OFFSET('CCG-Prov(Births)'!$B$1,MATCH($A45,'CCG-Prov(Births)'!$A$2:$A$6150,0)+VALUE(RIGHT(AJ$2,1))-1,0),\"\")","v":"RYQ"},{"$f":"IF(VALUE(MID(AK$2,5,2))<=$V45,OFFSET('CCG-Prov(Births)'!$B$1,MATCH($A45,'CCG-Prov(Births)'!$A$2:$A$6150,0)+VALUE(RIGHT(AK$2,1))-1,0),\"\")","v":""},{"$f":"IF(VALUE(MID(AL$2,5,2))<=$V45,OFFSET('CCG-Prov(Births)'!$B$1,MATCH($A45,'CCG-Prov(Births)'!$A$2:$A$6150,0)+VALUE(RIGHT(AL$2,1))-1,0),\"\")","v":""},{"$f":"IF(VALUE(MID(AM$2,5,2))<=$V45,OFFSET('CCG-Prov(Births)'!$B$1,MATCH($A45,'CCG-Prov(Births)'!$A$2:$A$6150,0)+VALUE(RIGHT(AM$2,1))-1,0),\"\")","v":""},null,"REF",{"$f":"VLOOKUP(AO45,provnames!$A$2:$B$331,2,0)","v":"Royal Cornwall Hospitals NHS Trust"},{"$f":"SUM(IF(('CCG-Prov(Births)'!$B$2:$B$6150=AO45),1,0))","v":62}]
["02X","Doncaster",{"$f":"SUM(IF(('CCG-Prov(Acute)'!$A$2:$A$29012=A46),1,0))","v":152},{"$f":"SUM(IF(('CCG-Prov(Acute)'!$A$2:$A$29012=A46)*('CCG-Prov(Acute)'!$C$2:$C$29012>=Acute!$B$7),1,0))","v":5},{"$f":"IF(VALUE(MID(E$2,5,2))<=$D46,OFFSET('CCG-Prov(Acute)'!$B$1,MATCH($A46,'CCG-Prov(Acute)'!$A$2:$A$29012,0)+VALUE(RIGHT(E$2,1))-1,0),\"\")","v":"RP5"},{"$f":"IF(VALUE(MID(F$2,5,2))<=$D46,OFFSET('CCG-Prov(Acute)'!$B$1,MATCH($A46,'CCG-Prov(Acute)'!$A$2:$A$29012,0)+VALUE(RIGHT(F$2,1))-1,0),\"\")","v":"RHQ"},{"$f":"IF(VALUE(MID(G$2,5,2))<=$D46,OFFSET('CCG-Prov(Acute)'!$B$1,MATCH($A46,'CCG-Prov(Acute)'!$A$2:$A$29012,0)+VALUE(RIGHT(G$2,1))-1,0),\"\")","v":"RFR"},{"$f":"IF(VALUE(MID(H$2,5,2))<=$D46,OFFSET('CCG-Prov(Acute)'!$B$1,MATCH($A46,'CCG-Prov(Acute)'!$A$2:$A$29012,0)+VALUE(RIGHT(H$2,1))-1,0),\"\")","v":"RCU"},{"$f":"IF(VALUE(MID(I$2,5,2))<=$D46,OFFSET('CCG-Prov(Acute)'!$B$1,MATCH($A46,'CCG-Prov(Acute)'!$A$2:$A$29012,0)+VALUE(RIGHT(I$2,1))-1,0),\"\")","v":"5N5"},{"$f":"IF(VALUE(MID(J$2,5,2))<=$D46,OFFSET('CCG-Prov(Acute)'!$B$1,MATCH($A46,'CCG-Prov(Acute)'!$A$2:$A$29012,0)+VALUE(RIGHT(J$2,1))-1,0),\"\")","v":""},{"$f":"IF(VALUE(MID(K$2,5,2))<=$D46,OFFSET('CCG-Prov(Acute)'!$B$1,MATCH($A46,'CCG-Prov(Acute)'!$A$2:$A$29012,0)+VALUE(RIGHT(K$2,1))-1,0),\"\")","v":""},{"$f":"IF(VALUE(MID(L$2,5,2))<=$D46,OFFSET('CCG-Prov(Acute)'!$B$1,MATCH($A46,'CCG-Prov(Acute)'!$A$2:$A$29012,0)+VALUE(RIGHT(L$2,1))-1,0),\"\")","v":""},{"$f":"IF(VALUE(MID(M$2,5,2))<=$D46,OFFSET('CCG-Prov(Acute)'!$B$1,MATCH($A46,'CCG-Prov(Acute)'!$A$2:$A$29012,0)+VALUE(RIGHT(M$2,1))-1,0),\"\")","v":""},{"$f":"IF(VALUE(MID(N$2,5,2))<=$D46,OFFSET('CCG-Prov(Acute)'!$B$1,MATCH($A46,'CCG-Prov(Acute)'!$A$2:$A$29012,0)+VALUE(RIGHT(N$2,1))-1,0),\"\")","v":""},null,null,"5P8",{"$f":"VLOOKUP(Q46,provnames!$A$2:$B$331,2,0)","v":"Hastings & Rother PCT"},{"$f":"SUM(IF(('CCG-Prov(Acute)'!$B$2:$B$28899=Q46),1,0))","v":7},null,{"$f":"SUM(IF(('CCG-Prov(Amb)'!$A$2:$A$335=A46),1,0))","v":2},{"$f":"SUM(IF(('CCG-Prov(Amb)'!$A$2:$A$335=A46)*('CCG-Prov(Amb)'!$C$2:$C$335>=Ambulance!$B$7),1,0))","v":2},{"$f":"IF(VALUE(MID(W$2,5,2))<=$V46,OFFSET('CCG-Prov(Amb)'!$B$1,MATCH($A46,'CCG-Prov(Amb)'!$A$2:$A$335,0)+VALUE(RIGHT(W$2,1))-1,0),\"\")","v":"RX8"},{"$f":"IF(VALUE(MID(X$2,5,2))<=$V46,OFFSET('CCG-Prov(Amb)'!$B$1,MATCH($A46,'CCG-Prov(Amb)'!$A$2:$A$335,0)+VALUE(RIGHT(X$2,1))-1,0),\"\")","v":"RX9"},{"$f":"IF(VALUE(MID(Y$2,5,2))<=$V46,OFFSET('CCG-Prov(Amb)'!$B$1,MATCH($A46,'CCG-Prov(Amb)'!$A$2:$A$335,0)+VALUE(RIGHT(Y$2,1))-1,0),\"\")","v":""},{"$f":"IF(VALUE(MID(Z$2,5,2))<=$V46,OFFSET('CCG-Prov(Amb)'!$B$1,MATCH($A46,'CCG-Prov(Amb)'!$A$2:$A$335,0)+VALUE(RIGHT(Z$2,1))-1,0),\"\")","v":""},{"$f":"IF(VALUE(MID(AA$2,5,2))<=$V46,OFFSET('CCG-Prov(Amb)'!$B$1,MATCH($A46,'CCG-Prov(Amb)'!$A$2:$A$335,0)+VALUE(RIGHT(AA$2,1))-1,0),\"\")","v":""},null,null,null,null,null,{"$f":"SUM(IF(('CCG-Prov(Births)'!$A$2:$A$6150=A46),1,0))","v":33},{"$f":"SUM(IF(('CCG-Prov(Births)'!$A$2:$A$6150=A46)*('CCG-Prov(Births)'!$C$2:$C$6150>=Maternity!$B$7),1,0))","v":3},{"$f":"IF(VALUE(MID(AI$2,5,2))<=$V46,OFFSET('CCG-Prov(Births)'!$B$1,MATCH($A46,'CCG-Prov(Births)'!$A$2:$A$6150,0)+VALUE(RIGHT(AI$2,1))-1,0),\"\")","v":"RP5"},{"$f":"IF(VALUE(MID(AJ$2,5,2))<=$V46,OFFSET('CCG-Prov(Births)'!$B$1,MATCH($A46,'CCG-Prov(Births)'!$A$2:$A$6150,0)+VALUE(RIGHT(AJ$2,1))-1,0),\"\")","v":"RFR"},{"$f":"IF(VALUE(MID(AK$2,5,2))<=$V46,OFFSET('CCG-Prov(Births)'!$B$1,MATCH($A46,'CCG-Prov(Births)'!$A$2:$A$6150,0)+VALUE(RIGHT(AK$2,1))-1,0),\"\")","v":""},{"$f":"IF(VALUE(MID(AL$2,5,2))<=$V46,OFFSET('CCG-Prov(Births)'!$B$1,MATCH($A46,'CCG-Prov(Births)'!$A$2:$A$6150,0)+VALUE(RIGHT(AL$2,1))-1,0),\"\")","v":""},{"$f":"IF(VALUE(MID(AM$2,5,2))<=$V46,OFFSET('CCG-Prov(Births)'!$B$1,MATCH($A46,'CCG-Prov(Births)'!$A$2:$A$6150,0)+VALUE(RIGHT(AM$2,1))-1,0),\"\")","v":""},null,"REP",{"$f":"VLOOKUP(AO46,provnames!$A$2:$B$331,2,0)","v":"Liverpool Women's NHS FT"},{"$f":"SUM(IF(('CCG-Prov(Births)'!$B$2:$B$6150=AO46),1,0))","v":66}]
["11J","Dorset",{"$f":"SUM(IF(('CCG-Prov(Acute)'!$A$2:$A$29012=A47),1,0))","v":171},{"$f":"SUM(IF(('CCG-Prov(Acute)'!$A$2:$A$29012=A47)*('CCG-Prov(Acute)'!$C$2:$C$29012>=Acute!$B$7),1,0))","v":9},{"$f":"IF(VALUE(MID(E$2,5,2))<=$D47,OFFSET('CCG-Prov(Acute)'!$B$1,MATCH($A47,'CCG-Prov(Acute)'!$A$2:$A$29012,0)+VALUE(RIGHT(E$2,1))-1,0),\"\")","v":"RDZ"},{"$f":"IF(VALUE(MID(F$2,5,2))<=$D47,OFFSET('CCG-Prov(Acute)'!$B$1,MATCH($A47,'CCG-Prov(Acute)'!$A$2:$A$29012,0)+VALUE(RIGHT(F$2,1))-1,0),\"\")","v":"RD3"},{"$f":"IF(VALUE(MID(G$2,5,2))<=$D47,OFFSET('CCG-Prov(Acute)'!$B$1,MATCH($A47,'CCG-Prov(Acute)'!$A$2:$A$29012,0)+VALUE(RIGHT(G$2,1))-1,0),\"\")","v":"RBD"},{"$f":"IF(VALUE(MID(H$2,5,2))<=$D47,OFFSET('CCG-Prov(Acute)'!$B$1,MATCH($A47,'CCG-Prov(Acute)'!$A$2:$A$29012,0)+VALUE(RIGHT(H$2,1))-1,0),\"\")","v":"5QM"},{"$f":"IF(VALUE(MID(I$2,5,2))<=$D47,OFFSET('CCG-Prov(Acute)'!$B$1,MATCH($A47,'CCG-Prov(Acute)'!$A$2:$A$29012,0)+VALUE(RIGHT(I$2,1))-1,0),\"\")","v":"RNZ"},{"$f":"IF(VALUE(MID(J$2,5,2))<=$D47,OFFSET('CCG-Prov(Acute)'!$B$1,MATCH($A47,'CCG-Prov(Acute)'!$A$2:$A$29012,0)+VALUE(RIGHT(J$2,1))-1,0),\"\")","v":"RA4"},{"$f":"IF(VALUE(MID(K$2,5,2))<=$D47,OFFSET('CCG-Prov(Acute)'!$B$1,MATCH($A47,'CCG-Prov(Acute)'!$A$2:$A$29012,0)+VALUE(RIGHT(K$2,1))-1,0),\"\")","v":"RHM"},{"$f":"IF(VALUE(MID(L$2,5,2))<=$D47,OFFSET('CCG-Prov(Acute)'!$B$1,MATCH($A47,'CCG-Prov(Acute)'!$A$2:$A$29012,0)+VALUE(RIGHT(L$2,1))-1,0),\"\")","v":"NT4"},{"$f":"IF(VALUE(MID(M$2,5,2))<=$D47,OFFSET('CCG-Prov(Acute)'!$B$1,MATCH($A47,'CCG-Prov(Acute)'!$A$2:$A$29012,0)+VALUE(RIGHT(M$2,1))-1,0),\"\")","v":"RH8"},{"$f":"IF(VALUE(MID(N$2,5,2))<=$D47,OFFSET('CCG-Prov(Acute)'!$B$1,MATCH($A47,'CCG-Prov(Acute)'!$A$2:$A$29012,0)+VALUE(RIGHT(N$2,1))-1,0),\"\")","v":""},null,null,"5PA",{"$f":"VLOOKUP(Q47,provnames!$A$2:$B$331,2,0)","v":"Leicestershire County & Rutland PCT"},{"$f":"SUM(IF(('CCG-Prov(Acute)'!$B$2:$B$28899=Q47),1,0))","v":24},null,{"$f":"SUM(IF(('CCG-Prov(Amb)'!$A$2:$A$335=A47),1,0))","v":3},{"$f":"SUM(IF(('CCG-Prov(Amb)'!$A$2:$A$335=A47)*('CCG-Prov(Amb)'!$C$2:$C$335>=Ambulance!$B$7),1,0))","v":3},{"$f":"IF(VALUE(MID(W$2,5,2))<=$V47,OFFSET('CCG-Prov(Amb)'!$B$1,MATCH($A47,'CCG-Prov(Amb)'!$A$2:$A$335,0)+VALUE(RIGHT(W$2,1))-1,0),\"\")","v":"RYF"},{"$f":"IF(VALUE(MID(X$2,5,2))<=$V47,OFFSET('CCG-Prov(Amb)'!$B$1,MATCH($A47,'CCG-Prov(Amb)'!$A$2:$A$335,0)+VALUE(RIGHT(X$2,1))-1,0),\"\")","v":"RYE"},{"$f":"IF(VALUE(MID(Y$2,5,2))<=$V47,OFFSET('CCG-Prov(Amb)'!$B$1,MATCH($A47,'CCG-Prov(Amb)'!$A$2:$A$335,0)+VALUE(RIGHT(Y$2,1))-1,0),\"\")","v":"RX5"},{"$f":"IF(VALUE(MID(Z$2,5,2))<=$V47,OFFSET('CCG-Prov(Amb)'!$B$1,MATCH($A47,'CCG-Prov(Amb)'!$A$2:$A$335,0)+VALUE(RIGHT(Z$2,1))-1,0),\"\")","v":""},{"$f":"IF(VALUE(MID(AA$2,5,2))<=$V47,OFFSET('CCG-Prov(Amb)'!$B$1,MATCH($A47,'CCG-Prov(Amb)'!$A$2:$A$335,0)+VALUE(RIGHT(AA$2,1))-1,0),\"\")","v":""},null,null,null,null,null,{"$f":"SUM(IF(('CCG-Prov(Births)'!$A$2:$A$6150=A47),1,0))","v":47},{"$f":"SUM(IF(('CCG-Prov(Births)'!$A$2:$A$6150=A47)*('CCG-Prov(Births)'!$C$2:$C$6150>=Maternity!$B$7),1,0))","v":6},{"$f":"IF(VALUE(MID(AI$2,5,2))<=$V47,OFFSET('CCG-Prov(Births)'!$B$1,MATCH($A47,'CCG-Prov(Births)'!$A$2:$A$6150,0)+VALUE(RIGHT(AI$2,1))-1,0),\"\")","v":"RD3"},{"$f":"IF(VALUE(MID(AJ$2,5,2))<=$V47,OFFSET('CCG-Prov(Births)'!$B$1,MATCH($A47,'CCG-Prov(Births)'!$A$2:$A$6150,0)+VALUE(RIGHT(AJ$2,1))-1,0),\"\")","v":"RBD"},{"$f":"IF(VALUE(MID(AK$2,5,2))<=$V47,OFFSET('CCG-Prov(Births)'!$B$1,MATCH($A47,'CCG-Prov(Births)'!$A$2:$A$6150,0)+VALUE(RIGHT(AK$2,1))-1,0),\"\")","v":"RDZ"},{"$f":"IF(VALUE(MID(AL$2,5,2))<=$V47,OFFSET('CCG-Prov(Births)'!$B$1,MATCH($A47,'CCG-Prov(Births)'!$A$2:$A$6150,0)+VALUE(RIGHT(AL$2,1))-1,0),\"\")","v":""},{"$f":"IF(VALUE(MID(AM$2,5,2))<=$V47,OFFSET('CCG-Prov(Births)'!$B$1,MATCH($A47,'CCG-Prov(Births)'!$A$2:$A$6150,0)+VALUE(RIGHT(AM$2,1))-1,0),\"\")","v":""},null,"RF4",{"$f":"VLOOKUP(AO47,provnames!$A$2:$B$331,2,0)","v":"Barking, Havering & Redbridge Univ Hospitals NHS Trust"},{"$f":"SUM(IF(('CCG-Prov(Births)'!$B$2:$B$6150=AO47),1,0))","v":54}]
["05C","Dudley",{"$f":"SUM(IF(('CCG-Prov(Acute)'!$A$2:$A$29012=A48),1,0))","v":139},{"$f":"SUM(IF(('CCG-Prov(Acute)'!$A$2:$A$29012=A48)*('CCG-Prov(Acute)'!$C$2:$C$29012>=Acute!$B$7),1,0))","v":8},{"$f":"IF(VALUE(MID(E$2,5,2))<=$D48,OFFSET('CCG-Prov(Acute)'!$B$1,MATCH($A48,'CCG-Prov(Acute)'!$A$2:$A$29012,0)+VALUE(RIGHT(E$2,1))-1,0),\"\")","v":"RNA"},{"$f":"IF(VALUE(MID(F$2,5,2))<=$D48,OFFSET('CCG-Prov(Acute)'!$B$1,MATCH($A48,'CCG-Prov(Acute)'!$A$2:$A$29012,0)+VALUE(RIGHT(F$2,1))-1,0),\"\")","v":"RL4"},{"$f":"IF(VALUE(MID(G$2,5,2))<=$D48,OFFSET('CCG-Prov(Acute)'!$B$1,MATCH($A48,'CCG-Prov(Acute)'!$A$2:$A$29012,0)+VALUE(RIGHT(G$2,1))-1,0),\"\")","v":"RRK"},{"$f":"IF(VALUE(MID(H$2,5,2))<=$D48,OFFSET('CCG-Prov(Acute)'!$B$1,MATCH($A48,'CCG-Prov(Acute)'!$A$2:$A$29012,0)+VALUE(RIGHT(H$2,1))-1,0),\"\")","v":"RXK"},{"$f":"IF(VALUE(MID(I$2,5,2))<=$D48,OFFSET('CCG-Prov(Acute)'!$B$1,MATCH($A48,'CCG-Prov(Acute)'!$A$2:$A$29012,0)+VALUE(RIGHT(I$2,1))-1,0),\"\")","v":"NVC"},{"$f":"IF(VALUE(MID(J$2,5,2))<=$D48,OFFSET('CCG-Prov(Acute)'!$B$1,MATCH($A48,'CCG-Prov(Acute)'!$A$2:$A$29012,0)+VALUE(RIGHT(J$2,1))-1,0),\"\")","v":"RRJ"},{"$f":"IF(VALUE(MID(K$2,5,2))<=$D48,OFFSET('CCG-Prov(Acute)'!$B$1,MATCH($A48,'CCG-Prov(Acute)'!$A$2:$A$29012,0)+VALUE(RIGHT(K$2,1))-1,0),\"\")","v":"RQ3"},{"$f":"IF(VALUE(MID(L$2,5,2))<=$D48,OFFSET('CCG-Prov(Acute)'!$B$1,MATCH($A48,'CCG-Prov(Acute)'!$A$2:$A$29012,0)+VALUE(RIGHT(L$2,1))-1,0),\"\")","v":"RWP"},{"$f":"IF(VALUE(MID(M$2,5,2))<=$D48,OFFSET('CCG-Prov(Acute)'!$B$1,MATCH($A48,'CCG-Prov(Acute)'!$A$2:$A$29012,0)+VALUE(RIGHT(M$2,1))-1,0),\"\")","v":""},{"$f":"IF(VALUE(MID(N$2,5,2))<=$D48,OFFSET('CCG-Prov(Acute)'!$B$1,MATCH($A48,'CCG-Prov(Acute)'!$A$2:$A$29012,0)+VALUE(RIGHT(N$2,1))-1,0),\"\")","v":""},null,null,"5PC",{"$f":"VLOOKUP(Q48,provnames!$A$2:$B$331,2,0)","v":"Leicester City PCT"},{"$f":"SUM(IF(('CCG-Prov(Acute)'!$B$2:$B$28899=Q48),1,0))","v":3},null,{"$f":"SUM(IF(('CCG-Prov(Amb)'!$A$2:$A$335=A48),1,0))","v":1},{"$f":"SUM(IF(('CCG-Prov(Amb)'!$A$2:$A$335=A48)*('CCG-Prov(Amb)'!$C$2:$C$335>=Ambulance!$B$7),1,0))","v":1},{"$f":"IF(VALUE(MID(W$2,5,2))<=$V48,OFFSET('CCG-Prov(Amb)'!$B$1,MATCH($A48,'CCG-Prov(Amb)'!$A$2:$A$335,0)+VALUE(RIGHT(W$2,1))-1,0),\"\")","v":"RYA"},{"$f":"IF(VALUE(MID(X$2,5,2))<=$V48,OFFSET('CCG-Prov(Amb)'!$B$1,MATCH($A48,'CCG-Prov(Amb)'!$A$2:$A$335,0)+VALUE(RIGHT(X$2,1))-1,0),\"\")","v":""},{"$f":"IF(VALUE(MID(Y$2,5,2))<=$V48,OFFSET('CCG-Prov(Amb)'!$B$1,MATCH($A48,'CCG-Prov(Amb)'!$A$2:$A$335,0)+VALUE(RIGHT(Y$2,1))-1,0),\"\")","v":""},{"$f":"IF(VALUE(MID(Z$2,5,2))<=$V48,OFFSET('CCG-Prov(Amb)'!$B$1,MATCH($A48,'CCG-Prov(Amb)'!$A$2:$A$335,0)+VALUE(RIGHT(Z$2,1))-1,0),\"\")","v":""},{"$f":"IF(VALUE(MID(AA$2,5,2))<=$V48,OFFSET('CCG-Prov(Amb)'!$B$1,MATCH($A48,'CCG-Prov(Amb)'!$A$2:$A$335,0)+VALUE(RIGHT(AA$2,1))-1,0),\"\")","v":""},null,null,null,null,null,{"$f":"SUM(IF(('CCG-Prov(Births)'!$A$2:$A$6150=A48),1,0))","v":25},{"$f":"SUM(IF(('CCG-Prov(Births)'!$A$2:$A$6150=A48)*('CCG-Prov(Births)'!$C$2:$C$6150>=Maternity!$B$7),1,0))","v":3},{"$f":"IF(VALUE(MID(AI$2,5,2))<=$V48,OFFSET('CCG-Prov(Births)'!$B$1,MATCH($A48,'CCG-Prov(Births)'!$A$2:$A$6150,0)+VALUE(RIGHT(AI$2,1))-1,0),\"\")","v":"RNA"},{"$f":"IF(VALUE(MID(AJ$2,5,2))<=$V48,OFFSET('CCG-Prov(Births)'!$B$1,MATCH($A48,'CCG-Prov(Births)'!$A$2:$A$6150,0)+VALUE(RIGHT(AJ$2,1))-1,0),\"\")","v":""},{"$f":"IF(VALUE(MID(AK$2,5,2))<=$V48,OFFSET('CCG-Prov(Births)'!$B$1,MATCH($A48,'CCG-Prov(Births)'!$A$2:$A$6150,0)+VALUE(RIGHT(AK$2,1))-1,0),\"\")","v":""},{"$f":"IF(VALUE(MID(AL$2,5,2))<=$V48,OFFSET('CCG-Prov(Births)'!$B$1,MATCH($A48,'CCG-Prov(Births)'!$A$2:$A$6150,0)+VALUE(RIGHT(AL$2,1))-1,0),\"\")","v":""},{"$f":"IF(VALUE(MID(AM$2,5,2))<=$V48,OFFSET('CCG-Prov(Births)'!$B$1,MATCH($A48,'CCG-Prov(Births)'!$A$2:$A$6150,0)+VALUE(RIGHT(AM$2,1))-1,0),\"\")","v":""},null,"RFF",{"$f":"VLOOKUP(AO48,provnames!$A$2:$B$331,2,0)","v":"Barnsley Hospital NHS FT"},{"$f":"SUM(IF(('CCG-Prov(Births)'!$B$2:$B$6150=AO48),1,0))","v":39}]
["00D","Durham Dales, Easington & Sedgefield",{"$f":"SUM(IF(('CCG-Prov(Acute)'!$A$2:$A$29012=A49),1,0))","v":132},{"$f":"SUM(IF(('CCG-Prov(Acute)'!$A$2:$A$29012=A49)*('CCG-Prov(Acute)'!$C$2:$C$29012>=Acute!$B$7),1,0))","v":6},{"$f":"IF(VALUE(MID(E$2,5,2))<=$D49,OFFSET('CCG-Prov(Acute)'!$B$1,MATCH($A49,'CCG-Prov(Acute)'!$A$2:$A$29012,0)+VALUE(RIGHT(E$2,1))-1,0),\"\")","v":"RXP"},{"$f":"IF(VALUE(MID(F$2,5,2))<=$D49,OFFSET('CCG-Prov(Acute)'!$B$1,MATCH($A49,'CCG-Prov(Acute)'!$A$2:$A$29012,0)+VALUE(RIGHT(F$2,1))-1,0),\"\")","v":"RVW"},{"$f":"IF(VALUE(MID(G$2,5,2))<=$D49,OFFSET('CCG-Prov(Acute)'!$B$1,MATCH($A49,'CCG-Prov(Acute)'!$A$2:$A$29012,0)+VALUE(RIGHT(G$2,1))-1,0),\"\")","v":"RLN"},{"$f":"IF(VALUE(MID(H$2,5,2))<=$D49,OFFSET('CCG-Prov(Acute)'!$B$1,MATCH($A49,'CCG-Prov(Acute)'!$A$2:$A$29012,0)+VALUE(RIGHT(H$2,1))-1,0),\"\")","v":"RTR"},{"$f":"IF(VALUE(MID(I$2,5,2))<=$D49,OFFSET('CCG-Prov(Acute)'!$B$1,MATCH($A49,'CCG-Prov(Acute)'!$A$2:$A$29012,0)+VALUE(RIGHT(I$2,1))-1,0),\"\")","v":"RTD"},{"$f":"IF(VALUE(MID(J$2,5,2))<=$D49,OFFSET('CCG-Prov(Acute)'!$B$1,MATCH($A49,'CCG-Prov(Acute)'!$A$2:$A$29012,0)+VALUE(RIGHT(J$2,1))-1,0),\"\")","v":"5J9"},{"$f":"IF(VALUE(MID(K$2,5,2))<=$D49,OFFSET('CCG-Prov(Acute)'!$B$1,MATCH($A49,'CCG-Prov(Acute)'!$A$2:$A$29012,0)+VALUE(RIGHT(K$2,1))-1,0),\"\")","v":""},{"$f":"IF(VALUE(MID(L$2,5,2))<=$D49,OFFSET('CCG-Prov(Acute)'!$B$1,MATCH($A49,'CCG-Prov(Acute)'!$A$2:$A$29012,0)+VALUE(RIGHT(L$2,1))-1,0),\"\")","v":""},{"$f":"IF(VALUE(MID(M$2,5,2))<=$D49,OFFSET('CCG-Prov(Acute)'!$B$1,MATCH($A49,'CCG-Prov(Acute)'!$A$2:$A$29012,0)+VALUE(RIGHT(M$2,1))-1,0),\"\")","v":""},{"$f":"IF(VALUE(MID(N$2,5,2))<=$D49,OFFSET('CCG-Prov(Acute)'!$B$1,MATCH($A49,'CCG-Prov(Acute)'!$A$2:$A$29012,0)+VALUE(RIGHT(N$2,1))-1,0),\"\")","v":""},null,null,"5PH",{"$f":"VLOOKUP(Q49,provnames!$A$2:$B$331,2,0)","v":"North Staffordshire PCT"},{"$f":"SUM(IF(('CCG-Prov(Acute)'!$B$2:$B$28899=Q49),1,0))","v":9},null,{"$f":"SUM(IF(('CCG-Prov(Amb)'!$A$2:$A$335=A49),1,0))","v":2},{"$f":"SUM(IF(('CCG-Prov(Amb)'!$A$2:$A$335=A49)*('CCG-Prov(Amb)'!$C$2:$C$335>=Ambulance!$B$7),1,0))","v":1},{"$f":"IF(VALUE(MID(W$2,5,2))<=$V49,OFFSET('CCG-Prov(Amb)'!$B$1,MATCH($A49,'CCG-Prov(Amb)'!$A$2:$A$335,0)+VALUE(RIGHT(W$2,1))-1,0),\"\")","v":"RX6"},{"$f":"IF(VALUE(MID(X$2,5,2))<=$V49,OFFSET('CCG-Prov(Amb)'!$B$1,MATCH($A49,'CCG-Prov(Amb)'!$A$2:$A$335,0)+VALUE(RIGHT(X$2,1))-1,0),\"\")","v":""},{"$f":"IF(VALUE(MID(Y$2,5,2))<=$V49,OFFSET('CCG-Prov(Amb)'!$B$1,MATCH($A49,'CCG-Prov(Amb)'!$A$2:$A$335,0)+VALUE(RIGHT(Y$2,1))-1,0),\"\")","v":""},{"$f":"IF(VALUE(MID(Z$2,5,2))<=$V49,OFFSET('CCG-Prov(Amb)'!$B$1,MATCH($A49,'CCG-Prov(Amb)'!$A$2:$A$335,0)+VALUE(RIGHT(Z$2,1))-1,0),\"\")","v":""},{"$f":"IF(VALUE(MID(AA$2,5,2))<=$V49,OFFSET('CCG-Prov(Amb)'!$B$1,MATCH($A49,'CCG-Prov(Amb)'!$A$2:$A$335,0)+VALUE(RIGHT(AA$2,1))-1,0),\"\")","v":""},null,null,null,null,null,{"$f":"SUM(IF(('CCG-Prov(Births)'!$A$2:$A$6150=A49),1,0))","v":15},{"$f":"SUM(IF(('CCG-Prov(Births)'!$A$2:$A$6150=A49)*('CCG-Prov(Births)'!$C$2:$C$6150>=Maternity!$B$7),1,0))","v":3},{"$f":"IF(VALUE(MID(AI$2,5,2))<=$V49,OFFSET('CCG-Prov(Births)'!$B$1,MATCH($A49,'CCG-Prov(Births)'!$A$2:$A$6150,0)+VALUE(RIGHT(AI$2,1))-1,0),\"\")","v":"RXP"},{"$f":"IF(VALUE(MID(AJ$2,5,2))<=$V49,OFFSET('CCG-Prov(Births)'!$B$1,MATCH($A49,'CCG-Prov(Births)'!$A$2:$A$6150,0)+VALUE(RIGHT(AJ$2,1))-1,0),\"\")","v":""},{"$f":"IF(VALUE(MID(AK$2,5,2))<=$V49,OFFSET('CCG-Prov(Births)'!$B$1,MATCH($A49,'CCG-Prov(Births)'!$A$2:$A$6150,0)+VALUE(RIGHT(AK$2,1))-1,0),\"\")","v":""},{"$f":"IF(VALUE(MID(AL$2,5,2))<=$V49,OFFSET('CCG-Prov(Births)'!$B$1,MATCH($A49,'CCG-Prov(Births)'!$A$2:$A$6150,0)+VALUE(RIGHT(AL$2,1))-1,0),\"\")","v":""},{"$f":"IF(VALUE(MID(AM$2,5,2))<=$V49,OFFSET('CCG-Prov(Births)'!$B$1,MATCH($A49,'CCG-Prov(Births)'!$A$2:$A$6150,0)+VALUE(RIGHT(AM$2,1))-1,0),\"\")","v":""},null,"RFR",{"$f":"VLOOKUP(AO49,provnames!$A$2:$B$331,2,0)","v":"The Rotherham NHS FT"},{"$f":"SUM(IF(('CCG-Prov(Births)'!$B$2:$B$6150=AO49),1,0))","v":27}]
["07W","Ealing",{"$f":"SUM(IF(('CCG-Prov(Acute)'!$A$2:$A$29012=A50),1,0))","v":145},{"$f":"SUM(IF(('CCG-Prov(Acute)'!$A$2:$A$29012=A50)*('CCG-Prov(Acute)'!$C$2:$C$29012>=Acute!$B$7),1,0))","v":10},{"$f":"IF(VALUE(MID(E$2,5,2))<=$D50,OFFSET('CCG-Prov(Acute)'!$B$1,MATCH($A50,'CCG-Prov(Acute)'!$A$2:$A$29012,0)+VALUE(RIGHT(E$2,1))-1,0),\"\")","v":"RC3"},{"$f":"IF(VALUE(MID(F$2,5,2))<=$D50,OFFSET('CCG-Prov(Acute)'!$B$1,MATCH($A50,'CCG-Prov(Acute)'!$A$2:$A$29012,0)+VALUE(RIGHT(F$2,1))-1,0),\"\")","v":"RYJ"},{"$f":"IF(VALUE(MID(G$2,5,2))<=$D50,OFFSET('CCG-Prov(Acute)'!$B$1,MATCH($A50,'CCG-Prov(Acute)'!$A$2:$A$29012,0)+VALUE(RIGHT(G$2,1))-1,0),\"\")","v":"RV8"},{"$f":"IF(VALUE(MID(H$2,5,2))<=$D50,OFFSET('CCG-Prov(Acute)'!$B$1,MATCH($A50,'CCG-Prov(Acute)'!$A$2:$A$29012,0)+VALUE(RIGHT(H$2,1))-1,0),\"\")","v":"RAS"},{"$f":"IF(VALUE(MID(I$2,5,2))<=$D50,OFFSET('CCG-Prov(Acute)'!$B$1,MATCH($A50,'CCG-Prov(Acute)'!$A$2:$A$29012,0)+VALUE(RIGHT(I$2,1))-1,0),\"\")","v":"RP6"},{"$f":"IF(VALUE(MID(J$2,5,2))<=$D50,OFFSET('CCG-Prov(Acute)'!$B$1,MATCH($A50,'CCG-Prov(Acute)'!$A$2:$A$29012,0)+VALUE(RIGHT(J$2,1))-1,0),\"\")","v":"RFW"},{"$f":"IF(VALUE(MID(K$2,5,2))<=$D50,OFFSET('CCG-Prov(Acute)'!$B$1,MATCH($A50,'CCG-Prov(Acute)'!$A$2:$A$29012,0)+VALUE(RIGHT(K$2,1))-1,0),\"\")","v":"RQM"},{"$f":"IF(VALUE(MID(L$2,5,2))<=$D50,OFFSET('CCG-Prov(Acute)'!$B$1,MATCH($A50,'CCG-Prov(Acute)'!$A$2:$A$29012,0)+VALUE(RIGHT(L$2,1))-1,0),\"\")","v":"RRV"},{"$f":"IF(VALUE(MID(M$2,5,2))<=$D50,OFFSET('CCG-Prov(Acute)'!$B$1,MATCH($A50,'CCG-Prov(Acute)'!$A$2:$A$29012,0)+VALUE(RIGHT(M$2,1))-1,0),\"\")","v":"RAL"},{"$f":"IF(VALUE(MID(N$2,5,2))<=$D50,OFFSET('CCG-Prov(Acute)'!$B$1,MATCH($A50,'CCG-Prov(Acute)'!$A$2:$A$29012,0)+VALUE(RIGHT(N$2,1))-1,0),\"\")","v":"RXP"},null,null,"5PJ",{"$f":"VLOOKUP(Q50,provnames!$A$2:$B$331,2,0)","v":"Stoke on Trent PCT"},{"$f":"SUM(IF(('CCG-Prov(Acute)'!$B$2:$B$28899=Q50),1,0))","v":27},null,{"$f":"SUM(IF(('CCG-Prov(Amb)'!$A$2:$A$335=A50),1,0))","v":3},{"$f":"SUM(IF(('CCG-Prov(Amb)'!$A$2:$A$335=A50)*('CCG-Prov(Amb)'!$C$2:$C$335>=Ambulance!$B$7),1,0))","v":1},{"$f":"IF(VALUE(MID(W$2,5,2))<=$V50,OFFSET('CCG-Prov(Amb)'!$B$1,MATCH($A50,'CCG-Prov(Amb)'!$A$2:$A$335,0)+VALUE(RIGHT(W$2,1))-1,0),\"\")","v":"RRY"},{"$f":"IF(VALUE(MID(X$2,5,2))<=$V50,OFFSET('CCG-Prov(Amb)'!$B$1,MATCH($A50,'CCG-Prov(Amb)'!$A$2:$A$335,0)+VALUE(RIGHT(X$2,1))-1,0),\"\")","v":""},{"$f":"IF(VALUE(MID(Y$2,5,2))<=$V50,OFFSET('CCG-Prov(Amb)'!$B$1,MATCH($A50,'CCG-Prov(Amb)'!$A$2:$A$335,0)+VALUE(RIGHT(Y$2,1))-1,0),\"\")","v":""},{"$f":"IF(VALUE(MID(Z$2,5,2))<=$V50,OFFSET('CCG-Prov(Amb)'!$B$1,MATCH($A50,'CCG-Prov(Amb)'!$A$2:$A$335,0)+VALUE(RIGHT(Z$2,1))-1,0),\"\")","v":""},{"$f":"IF(VALUE(MID(AA$2,5,2))<=$V50,OFFSET('CCG-Prov(Amb)'!$B$1,MATCH($A50,'CCG-Prov(Amb)'!$A$2:$A$335,0)+VALUE(RIGHT(AA$2,1))-1,0),\"\")","v":""},null,null,null,null,null,{"$f":"SUM(IF(('CCG-Prov(Births)'!$A$2:$A$6150=A50),1,0))","v":41},{"$f":"SUM(IF(('CCG-Prov(Births)'!$A$2:$A$6150=A50)*('CCG-Prov(Births)'!$C$2:$C$6150>=Maternity!$B$7),1,0))","v":7},{"$f":"IF(VALUE(MID(AI$2,5,2))<=$V50,OFFSET('CCG-Prov(Births)'!$B$1,MATCH($A50,'CCG-Prov(Births)'!$A$2:$A$6150,0)+VALUE(RIGHT(AI$2,1))-1,0),\"\")","v":"RC3"},{"$f":"IF(VALUE(MID(AJ$2,5,2))<=$V50,OFFSET('CCG-Prov(Births)'!$B$1,MATCH($A50,'CCG-Prov(Births)'!$A$2:$A$6150,0)+VALUE(RIGHT(AJ$2,1))-1,0),\"\")","v":""},{"$f":"IF(VALUE(MID(AK$2,5,2))<=$V50,OFFSET('CCG-Prov(Births)'!$B$1,MATCH($A50,'CCG-Prov(Births)'!$A$2:$A$6150,0)+VALUE(RIGHT(AK$2,1))-1,0),\"\")","v":""},{"$f":"IF(VALUE(MID(AL$2,5,2))<=$V50,OFFSET('CCG-Prov(Births)'!$B$1,MATCH($A50,'CCG-Prov(Births)'!$A$2:$A$6150,0)+VALUE(RIGHT(AL$2,1))-1,0),\"\")","v":""},{"$f":"IF(VALUE(MID(AM$2,5,2))<=$V50,OFFSET('CCG-Prov(Births)'!$B$1,MATCH($A50,'CCG-Prov(Births)'!$A$2:$A$6150,0)+VALUE(RIGHT(AM$2,1))-1,0),\"\")","v":""},null,"RFS",{"$f":"VLOOKUP(AO50,provnames!$A$2:$B$331,2,0)","v":"Chesterfield Royal Hospital NHS FT"},{"$f":"SUM(IF(('CCG-Prov(Births)'!$B$2:$B$6150=AO50),1,0))","v":28}]
["06K","East & North Hertfordshire",{"$f":"SUM(IF(('CCG-Prov(Acute)'!$A$2:$A$29012=A51),1,0))","v":169},{"$f":"SUM(IF(('CCG-Prov(Acute)'!$A$2:$A$29012=A51)*('CCG-Prov(Acute)'!$C$2:$C$29012>=Acute!$B$7),1,0))","v":18},{"$f":"IF(VALUE(MID(E$2,5,2))<=$D51,OFFSET('CCG-Prov(Acute)'!$B$1,MATCH($A51,'CCG-Prov(Acute)'!$A$2:$A$29012,0)+VALUE(RIGHT(E$2,1))-1,0),\"\")","v":"RWH"},{"$f":"IF(VALUE(MID(F$2,5,2))<=$D51,OFFSET('CCG-Prov(Acute)'!$B$1,MATCH($A51,'CCG-Prov(Acute)'!$A$2:$A$29012,0)+VALUE(RIGHT(F$2,1))-1,0),\"\")","v":"RQW"},{"$f":"IF(VALUE(MID(G$2,5,2))<=$D51,OFFSET('CCG-Prov(Acute)'!$B$1,MATCH($A51,'CCG-Prov(Acute)'!$A$2:$A$29012,0)+VALUE(RIGHT(G$2,1))-1,0),\"\")","v":"RVL"},{"$f":"IF(VALUE(MID(H$2,5,2))<=$D51,OFFSET('CCG-Prov(Acute)'!$B$1,MATCH($A51,'CCG-Prov(Acute)'!$A$2:$A$29012,0)+VALUE(RIGHT(H$2,1))-1,0),\"\")","v":"NVC"},{"$f":"IF(VALUE(MID(I$2,5,2))<=$D51,OFFSET('CCG-Prov(Acute)'!$B$1,MATCH($A51,'CCG-Prov(Acute)'!$A$2:$A$29012,0)+VALUE(RIGHT(I$2,1))-1,0),\"\")","v":"RGT"},{"$f":"IF(VALUE(MID(J$2,5,2))<=$D51,OFFSET('CCG-Prov(Acute)'!$B$1,MATCH($A51,'CCG-Prov(Acute)'!$A$2:$A$29012,0)+VALUE(RIGHT(J$2,1))-1,0),\"\")","v":"RRV"},{"$f":"IF(VALUE(MID(K$2,5,2))<=$D51,OFFSET('CCG-Prov(Acute)'!$B$1,MATCH($A51,'CCG-Prov(Acute)'!$A$2:$A$29012,0)+VALUE(RIGHT(K$2,1))-1,0),\"\")","v":"RAL"},{"$f":"IF(VALUE(MID(L$2,5,2))<=$D51,OFFSET('CCG-Prov(Acute)'!$B$1,MATCH($A51,'CCG-Prov(Acute)'!$A$2:$A$29012,0)+VALUE(RIGHT(L$2,1))-1,0),\"\")","v":"RY4"},{"$f":"IF(VALUE(MID(M$2,5,2))<=$D51,OFFSET('CCG-Prov(Acute)'!$B$1,MATCH($A51,'CCG-Prov(Acute)'!$A$2:$A$29012,0)+VALUE(RIGHT(M$2,1))-1,0),\"\")","v":"RGM"},{"$f":"IF(VALUE(MID(N$2,5,2))<=$D51,OFFSET('CCG-Prov(Acute)'!$B$1,MATCH($A51,'CCG-Prov(Acute)'!$A$2:$A$29012,0)+VALUE(RIGHT(N$2,1))-1,0),\"\")","v":"RVN"},null,null,"5PK",{"$f":"VLOOKUP(Q51,provnames!$A$2:$B$331,2,0)","v":"South Staffordshire PCT"},{"$f":"SUM(IF(('CCG-Prov(Acute)'!$B$2:$B$28899=Q51),1,0))","v":21},null,{"$f":"SUM(IF(('CCG-Prov(Amb)'!$A$2:$A$335=A51),1,0))","v":2},{"$f":"SUM(IF(('CCG-Prov(Amb)'!$A$2:$A$335=A51)*('CCG-Prov(Amb)'!$C$2:$C$335>=Ambulance!$B$7),1,0))","v":2},{"$f":"IF(VALUE(MID(W$2,5,2))<=$V51,OFFSET('CCG-Prov(Amb)'!$B$1,MATCH($A51,'CCG-Prov(Amb)'!$A$2:$A$335,0)+VALUE(RIGHT(W$2,1))-1,0),\"\")","v":"RYC"},{"$f":"IF(VALUE(MID(X$2,5,2))<=$V51,OFFSET('CCG-Prov(Amb)'!$B$1,MATCH($A51,'CCG-Prov(Amb)'!$A$2:$A$335,0)+VALUE(RIGHT(X$2,1))-1,0),\"\")","v":"RRY"},{"$f":"IF(VALUE(MID(Y$2,5,2))<=$V51,OFFSET('CCG-Prov(Amb)'!$B$1,MATCH($A51,'CCG-Prov(Amb)'!$A$2:$A$335,0)+VALUE(RIGHT(Y$2,1))-1,0),\"\")","v":""},{"$f":"IF(VALUE(MID(Z$2,5,2))<=$V51,OFFSET('CCG-Prov(Amb)'!$B$1,MATCH($A51,'CCG-Prov(Amb)'!$A$2:$A$335,0)+VALUE(RIGHT(Z$2,1))-1,0),\"\")","v":""},{"$f":"IF(VALUE(MID(AA$2,5,2))<=$V51,OFFSET('CCG-Prov(Amb)'!$B$1,MATCH($A51,'CCG-Prov(Amb)'!$A$2:$A$335,0)+VALUE(RIGHT(AA$2,1))-1,0),\"\")","v":""},null,null,null,null,null,{"$f":"SUM(IF(('CCG-Prov(Births)'!$A$2:$A$6150=A51),1,0))","v":57},{"$f":"SUM(IF(('CCG-Prov(Births)'!$A$2:$A$6150=A51)*('CCG-Prov(Births)'!$C$2:$C$6150>=Maternity!$B$7),1,0))","v":4},{"$f":"IF(VALUE(MID(AI$2,5,2))<=$V51,OFFSET('CCG-Prov(Births)'!$B$1,MATCH($A51,'CCG-Prov(Births)'!$A$2:$A$6150,0)+VALUE(RIGHT(AI$2,1))-1,0),\"\")","v":"RWH"},{"$f":"IF(VALUE(MID(AJ$2,5,2))<=$V51,OFFSET('CCG-Prov(Births)'!$B$1,MATCH($A51,'CCG-Prov(Births)'!$A$2:$A$6150,0)+VALUE(RIGHT(AJ$2,1))-1,0),\"\")","v":"RQW"},{"$f":"IF(VALUE(MID(AK$2,5,2))<=$V51,OFFSET('CCG-Prov(Births)'!$B$1,MATCH($A51,'CCG-Prov(Births)'!$A$2:$A$6150,0)+VALUE(RIGHT(AK$2,1))-1,0),\"\")","v":""},{"$f":"IF(VALUE(MID(AL$2,5,2))<=$V51,OFFSET('CCG-Prov(Births)'!$B$1,MATCH($A51,'CCG-Prov(Births)'!$A$2:$A$6150,0)+VALUE(RIGHT(AL$2,1))-1,0),\"\")","v":""},{"$f":"IF(VALUE(MID(AM$2,5,2))<=$V51,OFFSET('CCG-Prov(Births)'!$B$1,MATCH($A51,'CCG-Prov(Births)'!$A$2:$A$6150,0)+VALUE(RIGHT(AM$2,1))-1,0),\"\")","v":""},null,"RFW",{"$f":"VLOOKUP(AO51,provnames!$A$2:$B$331,2,0)","v":"West Middlesex Univ Hospital NHS Trust"},{"$f":"SUM(IF(('CCG-Prov(Births)'!$B$2:$B$6150=AO51),1,0))","v":31}]
["01A","East Lancashire",{"$f":"SUM(IF(('CCG-Prov(Acute)'!$A$2:$A$29012=A52),1,0))","v":151},{"$f":"SUM(IF(('CCG-Prov(Acute)'!$A$2:$A$29012=A52)*('CCG-Prov(Acute)'!$C$2:$C$29012>=Acute!$B$7),1,0))","v":9},{"$f":"IF(VALUE(MID(E$2,5,2))<=$D52,OFFSET('CCG-Prov(Acute)'!$B$1,MATCH($A52,'CCG-Prov(Acute)'!$A$2:$A$29012,0)+VALUE(RIGHT(E$2,1))-1,0),\"\")","v":"RXR"},{"$f":"IF(VALUE(MID(F$2,5,2))<=$D52,OFFSET('CCG-Prov(Acute)'!$B$1,MATCH($A52,'CCG-Prov(Acute)'!$A$2:$A$29012,0)+VALUE(RIGHT(F$2,1))-1,0),\"\")","v":"RW6"},{"$f":"IF(VALUE(MID(G$2,5,2))<=$D52,OFFSET('CCG-Prov(Acute)'!$B$1,MATCH($A52,'CCG-Prov(Acute)'!$A$2:$A$29012,0)+VALUE(RIGHT(G$2,1))-1,0),\"\")","v":"RCF"},{"$f":"IF(VALUE(MID(H$2,5,2))<=$D52,OFFSET('CCG-Prov(Acute)'!$B$1,MATCH($A52,'CCG-Prov(Acute)'!$A$2:$A$29012,0)+VALUE(RIGHT(H$2,1))-1,0),\"\")","v":"NVC"},{"$f":"IF(VALUE(MID(I$2,5,2))<=$D52,OFFSET('CCG-Prov(Acute)'!$B$1,MATCH($A52,'CCG-Prov(Acute)'!$A$2:$A$29012,0)+VALUE(RIGHT(I$2,1))-1,0),\"\")","v":"RXN"},{"$f":"IF(VALUE(MID(J$2,5,2))<=$D52,OFFSET('CCG-Prov(Acute)'!$B$1,MATCH($A52,'CCG-Prov(Acute)'!$A$2:$A$29012,0)+VALUE(RIGHT(J$2,1))-1,0),\"\")","v":"RW3"},{"$f":"IF(VALUE(MID(K$2,5,2))<=$D52,OFFSET('CCG-Prov(Acute)'!$B$1,MATCH($A52,'CCG-Prov(Acute)'!$A$2:$A$29012,0)+VALUE(RIGHT(K$2,1))-1,0),\"\")","v":"NT4"},{"$f":"IF(VALUE(MID(L$2,5,2))<=$D52,OFFSET('CCG-Prov(Acute)'!$B$1,MATCH($A52,'CCG-Prov(Acute)'!$A$2:$A$29012,0)+VALUE(RIGHT(L$2,1))-1,0),\"\")","v":"NTF"},{"$f":"IF(VALUE(MID(M$2,5,2))<=$D52,OFFSET('CCG-Prov(Acute)'!$B$1,MATCH($A52,'CCG-Prov(Acute)'!$A$2:$A$29012,0)+VALUE(RIGHT(M$2,1))-1,0),\"\")","v":"RM3"},{"$f":"IF(VALUE(MID(N$2,5,2))<=$D52,OFFSET('CCG-Prov(Acute)'!$B$1,MATCH($A52,'CCG-Prov(Acute)'!$A$2:$A$29012,0)+VALUE(RIGHT(N$2,1))-1,0),\"\")","v":""},null,null,"5PL",{"$f":"VLOOKUP(Q52,provnames!$A$2:$B$331,2,0)","v":"Worcestershire PCT"},{"$f":"SUM(IF(('CCG-Prov(Acute)'!$B$2:$B$28899=Q52),1,0))","v":19},null,{"$f":"SUM(IF(('CCG-Prov(Amb)'!$A$2:$A$335=A52),1,0))","v":2},{"$f":"SUM(IF(('CCG-Prov(Amb)'!$A$2:$A$335=A52)*('CCG-Prov(Amb)'!$C$2:$C$335>=Ambulance!$B$7),1,0))","v":1},{"$f":"IF(VALUE(MID(W$2,5,2))<=$V52,OFFSET('CCG-Prov(Amb)'!$B$1,MATCH($A52,'CCG-Prov(Amb)'!$A$2:$A$335,0)+VALUE(RIGHT(W$2,1))-1,0),\"\")","v":"RX7"},{"$f":"IF(VALUE(MID(X$2,5,2))<=$V52,OFFSET('CCG-Prov(Amb)'!$B$1,MATCH($A52,'CCG-Prov(Amb)'!$A$2:$A$335,0)+VALUE(RIGHT(X$2,1))-1,0),\"\")","v":""},{"$f":"IF(VALUE(MID(Y$2,5,2))<=$V52,OFFSET('CCG-Prov(Amb)'!$B$1,MATCH($A52,'CCG-Prov(Amb)'!$A$2:$A$335,0)+VALUE(RIGHT(Y$2,1))-1,0),\"\")","v":""},{"$f":"IF(VALUE(MID(Z$2,5,2))<=$V52,OFFSET('CCG-Prov(Amb)'!$B$1,MATCH($A52,'CCG-Prov(Amb)'!$A$2:$A$335,0)+VALUE(RIGHT(Z$2,1))-1,0),\"\")","v":""},{"$f":"IF(VALUE(MID(AA$2,5,2))<=$V52,OFFSET('CCG-Prov(Amb)'!$B$1,MATCH($A52,'CCG-Prov(Amb)'!$A$2:$A$335,0)+VALUE(RIGHT(AA$2,1))-1,0),\"\")","v":""},null,null,null,null,null,{"$f":"SUM(IF(('CCG-Prov(Births)'!$A$2:$A$6150=A52),1,0))","v":27},{"$f":"SUM(IF(('CCG-Prov(Births)'!$A$2:$A$6150=A52)*('CCG-Prov(Births)'!$C$2:$C$6150>=Maternity!$B$7),1,0))","v":3},{"$f":"IF(VALUE(MID(AI$2,5,2))<=$V52,OFFSET('CCG-Prov(Births)'!$B$1,MATCH($A52,'CCG-Prov(Births)'!$A$2:$A$6150,0)+VALUE(RIGHT(AI$2,1))-1,0),\"\")","v":"RXR"},{"$f":"IF(VALUE(MID(AJ$2,5,2))<=$V52,OFFSET('CCG-Prov(Births)'!$B$1,MATCH($A52,'CCG-Prov(Births)'!$A$2:$A$6150,0)+VALUE(RIGHT(AJ$2,1))-1,0),\"\")","v":""},{"$f":"IF(VALUE(MID(AK$2,5,2))<=$V52,OFFSET('CCG-Prov(Births)'!$B$1,MATCH($A52,'CCG-Prov(Births)'!$A$2:$A$6150,0)+VALUE(RIGHT(AK$2,1))-1,0),\"\")","v":""},{"$f":"IF(VALUE(MID(AL$2,5,2))<=$V52,OFFSET('CCG-Prov(Births)'!$B$1,MATCH($A52,'CCG-Prov(Births)'!$A$2:$A$6150,0)+VALUE(RIGHT(AL$2,1))-1,0),\"\")","v":""},{"$f":"IF(VALUE(MID(AM$2,5,2))<=$V52,OFFSET('CCG-Prov(Births)'!$B$1,MATCH($A52,'CCG-Prov(Births)'!$A$2:$A$6150,0)+VALUE(RIGHT(AM$2,1))-1,0),\"\")","v":""},null,"RGC",{"$f":"VLOOKUP(AO52,provnames!$A$2:$B$331,2,0)","v":"Whipps Cross Univ Hospital NHS Trust"},{"$f":"SUM(IF(('CCG-Prov(Births)'!$B$2:$B$6150=AO52),1,0))","v":54}]
["03W","East Leicestershire & Rutland",{"$f":"SUM(IF(('CCG-Prov(Acute)'!$A$2:$A$29012=A53),1,0))","v":160},{"$f":"SUM(IF(('CCG-Prov(Acute)'!$A$2:$A$29012=A53)*('CCG-Prov(Acute)'!$C$2:$C$29012>=Acute!$B$7),1,0))","v":7},{"$f":"IF(VALUE(MID(E$2,5,2))<=$D53,OFFSET('CCG-Prov(Acute)'!$B$1,MATCH($A53,'CCG-Prov(Acute)'!$A$2:$A$29012,0)+VALUE(RIGHT(E$2,1))-1,0),\"\")","v":"RWE"},{"$f":"IF(VALUE(MID(F$2,5,2))<=$D53,OFFSET('CCG-Prov(Acute)'!$B$1,MATCH($A53,'CCG-Prov(Acute)'!$A$2:$A$29012,0)+VALUE(RIGHT(F$2,1))-1,0),\"\")","v":"5PA"},{"$f":"IF(VALUE(MID(G$2,5,2))<=$D53,OFFSET('CCG-Prov(Acute)'!$B$1,MATCH($A53,'CCG-Prov(Acute)'!$A$2:$A$29012,0)+VALUE(RIGHT(G$2,1))-1,0),\"\")","v":"RNQ"},{"$f":"IF(VALUE(MID(H$2,5,2))<=$D53,OFFSET('CCG-Prov(Acute)'!$B$1,MATCH($A53,'CCG-Prov(Acute)'!$A$2:$A$29012,0)+VALUE(RIGHT(H$2,1))-1,0),\"\")","v":"RGN"},{"$f":"IF(VALUE(MID(I$2,5,2))<=$D53,OFFSET('CCG-Prov(Acute)'!$B$1,MATCH($A53,'CCG-Prov(Acute)'!$A$2:$A$29012,0)+VALUE(RIGHT(I$2,1))-1,0),\"\")","v":"RX1"},{"$f":"IF(VALUE(MID(J$2,5,2))<=$D53,OFFSET('CCG-Prov(Acute)'!$B$1,MATCH($A53,'CCG-Prov(Acute)'!$A$2:$A$29012,0)+VALUE(RIGHT(J$2,1))-1,0),\"\")","v":"RKB"},{"$f":"IF(VALUE(MID(K$2,5,2))<=$D53,OFFSET('CCG-Prov(Acute)'!$B$1,MATCH($A53,'CCG-Prov(Acute)'!$A$2:$A$29012,0)+VALUE(RIGHT(K$2,1))-1,0),\"\")","v":"RWD"},{"$f":"IF(VALUE(MID(L$2,5,2))<=$D53,OFFSET('CCG-Prov(Acute)'!$B$1,MATCH($A53,'CCG-Prov(Acute)'!$A$2:$A$29012,0)+VALUE(RIGHT(L$2,1))-1,0),\"\")","v":""},{"$f":"IF(VALUE(MID(M$2,5,2))<=$D53,OFFSET('CCG-Prov(Acute)'!$B$1,MATCH($A53,'CCG-Prov(Acute)'!$A$2:$A$29012,0)+VALUE(RIGHT(M$2,1))-1,0),\"\")","v":""},{"$f":"IF(VALUE(MID(N$2,5,2))<=$D53,OFFSET('CCG-Prov(Acute)'!$B$1,MATCH($A53,'CCG-Prov(Acute)'!$A$2:$A$29012,0)+VALUE(RIGHT(N$2,1))-1,0),\"\")","v":""},null,null,"5PM",{"$f":"VLOOKUP(Q53,provnames!$A$2:$B$331,2,0)","v":"Warwickshire PCT"},{"$f":"SUM(IF(('CCG-Prov(Acute)'!$B$2:$B$28899=Q53),1,0))","v":11},null,{"$f":"SUM(IF(('CCG-Prov(Amb)'!$A$2:$A$335=A53),1,0))","v":3},{"$f":"SUM(IF(('CCG-Prov(Amb)'!$A$2:$A$335=A53)*('CCG-Prov(Amb)'!$C$2:$C$335>=Ambulance!$B$7),1,0))","v":1},{"$f":"IF(VALUE(MID(W$2,5,2))<=$V53,OFFSET('CCG-Prov(Amb)'!$B$1,MATCH($A53,'CCG-Prov(Amb)'!$A$2:$A$335,0)+VALUE(RIGHT(W$2,1))-1,0),\"\")","v":"RX9"},{"$f":"IF(VALUE(MID(X$2,5,2))<=$V53,OFFSET('CCG-Prov(Amb)'!$B$1,MATCH($A53,'CCG-Prov(Amb)'!$A$2:$A$335,0)+VALUE(RIGHT(X$2,1))-1,0),\"\")","v":""},{"$f":"IF(VALUE(MID(Y$2,5,2))<=$V53,OFFSET('CCG-Prov(Amb)'!$B$1,MATCH($A53,'CCG-Prov(Amb)'!$A$2:$A$335,0)+VALUE(RIGHT(Y$2,1))-1,0),\"\")","v":""},{"$f":"IF(VALUE(MID(Z$2,5,2))<=$V53,OFFSET('CCG-Prov(Amb)'!$B$1,MATCH($A53,'CCG-Prov(Amb)'!$A$2:$A$335,0)+VALUE(RIGHT(Z$2,1))-1,0),\"\")","v":""},{"$f":"IF(VALUE(MID(AA$2,5,2))<=$V53,OFFSET('CCG-Prov(Amb)'!$B$1,MATCH($A53,'CCG-Prov(Amb)'!$A$2:$A$335,0)+VALUE(RIGHT(AA$2,1))-1,0),\"\")","v":""},null,null,null,null,null,{"$f":"SUM(IF(('CCG-Prov(Births)'!$A$2:$A$6150=A53),1,0))","v":31},{"$f":"SUM(IF(('CCG-Prov(Births)'!$A$2:$A$6150=A53)*('CCG-Prov(Births)'!$C$2:$C$6150>=Maternity!$B$7),1,0))","v":4},{"$f":"IF(VALUE(MID(AI$2,5,2))<=$V53,OFFSET('CCG-Prov(Births)'!$B$1,MATCH($A53,'CCG-Prov(Births)'!$A$2:$A$6150,0)+VALUE(RIGHT(AI$2,1))-1,0),\"\")","v":"RWE"},{"$f":"IF(VALUE(MID(AJ$2,5,2))<=$V53,OFFSET('CCG-Prov(Births)'!$B$1,MATCH($A53,'CCG-Prov(Births)'!$A$2:$A$6150,0)+VALUE(RIGHT(AJ$2,1))-1,0),\"\")","v":""},{"$f":"IF(VALUE(MID(AK$2,5,2))<=$V53,OFFSET('CCG-Prov(Births)'!$B$1,MATCH($A53,'CCG-Prov(Births)'!$A$2:$A$6150,0)+VALUE(RIGHT(AK$2,1))-1,0),\"\")","v":""},{"$f":"IF(VALUE(MID(AL$2,5,2))<=$V53,OFFSET('CCG-Prov(Births)'!$B$1,MATCH($A53,'CCG-Prov(Births)'!$A$2:$A$6150,0)+VALUE(RIGHT(AL$2,1))-1,0),\"\")","v":""},{"$f":"IF(VALUE(MID(AM$2,5,2))<=$V53,OFFSET('CCG-Prov(Births)'!$B$1,MATCH($A53,'CCG-Prov(Births)'!$A$2:$A$6150,0)+VALUE(RIGHT(AM$2,1))-1,0),\"\")","v":""},null,"RGN",{"$f":"VLOOKUP(AO53,provnames!$A$2:$B$331,2,0)","v":"Peterborough & Stamford Hospitals NHS FT"},{"$f":"SUM(IF(('CCG-Prov(Births)'!$B$2:$B$6150=AO53),1,0))","v":39}]
["02Y","East Riding of Yorkshire",{"$f":"SUM(IF(('CCG-Prov(Acute)'!$A$2:$A$29012=A54),1,0))","v":154},{"$f":"SUM(IF(('CCG-Prov(Acute)'!$A$2:$A$29012=A54)*('CCG-Prov(Acute)'!$C$2:$C$29012>=Acute!$B$7),1,0))","v":6},{"$f":"IF(VALUE(MID(E$2,5,2))<=$D54,OFFSET('CCG-Prov(Acute)'!$B$1,MATCH($A54,'CCG-Prov(Acute)'!$A$2:$A$29012,0)+VALUE(RIGHT(E$2,1))-1,0),\"\")","v":"RWA"},{"$f":"IF(VALUE(MID(F$2,5,2))<=$D54,OFFSET('CCG-Prov(Acute)'!$B$1,MATCH($A54,'CCG-Prov(Acute)'!$A$2:$A$29012,0)+VALUE(RIGHT(F$2,1))-1,0),\"\")","v":"RCC"},{"$f":"IF(VALUE(MID(G$2,5,2))<=$D54,OFFSET('CCG-Prov(Acute)'!$B$1,MATCH($A54,'CCG-Prov(Acute)'!$A$2:$A$29012,0)+VALUE(RIGHT(G$2,1))-1,0),\"\")","v":"RJL"},{"$f":"IF(VALUE(MID(H$2,5,2))<=$D54,OFFSET('CCG-Prov(Acute)'!$B$1,MATCH($A54,'CCG-Prov(Acute)'!$A$2:$A$29012,0)+VALUE(RIGHT(H$2,1))-1,0),\"\")","v":"RCB"},{"$f":"IF(VALUE(MID(I$2,5,2))<=$D54,OFFSET('CCG-Prov(Acute)'!$B$1,MATCH($A54,'CCG-Prov(Acute)'!$A$2:$A$29012,0)+VALUE(RIGHT(I$2,1))-1,0),\"\")","v":"NT3"},{"$f":"IF(VALUE(MID(J$2,5,2))<=$D54,OFFSET('CCG-Prov(Acute)'!$B$1,MATCH($A54,'CCG-Prov(Acute)'!$A$2:$A$29012,0)+VALUE(RIGHT(J$2,1))-1,0),\"\")","v":"RR8"},{"$f":"IF(VALUE(MID(K$2,5,2))<=$D54,OFFSET('CCG-Prov(Acute)'!$B$1,MATCH($A54,'CCG-Prov(Acute)'!$A$2:$A$29012,0)+VALUE(RIGHT(K$2,1))-1,0),\"\")","v":""},{"$f":"IF(VALUE(MID(L$2,5,2))<=$D54,OFFSET('CCG-Prov(Acute)'!$B$1,MATCH($A54,'CCG-Prov(Acute)'!$A$2:$A$29012,0)+VALUE(RIGHT(L$2,1))-1,0),\"\")","v":""},{"$f":"IF(VALUE(MID(M$2,5,2))<=$D54,OFFSET('CCG-Prov(Acute)'!$B$1,MATCH($A54,'CCG-Prov(Acute)'!$A$2:$A$29012,0)+VALUE(RIGHT(M$2,1))-1,0),\"\")","v":""},{"$f":"IF(VALUE(MID(N$2,5,2))<=$D54,OFFSET('CCG-Prov(Acute)'!$B$1,MATCH($A54,'CCG-Prov(Acute)'!$A$2:$A$29012,0)+VALUE(RIGHT(N$2,1))-1,0),\"\")","v":""},null,null,"5PQ",{"$f":"VLOOKUP(Q54,provnames!$A$2:$B$331,2,0)","v":"Norfolk PCT"},{"$f":"SUM(IF(('CCG-Prov(Acute)'!$B$2:$B$28899=Q54),1,0))","v":12},null,{"$f":"SUM(IF(('CCG-Prov(Amb)'!$A$2:$A$335=A54),1,0))","v":2},{"$f":"SUM(IF(('CCG-Prov(Amb)'!$A$2:$A$335=A54)*('CCG-Prov(Amb)'!$C$2:$C$335>=Ambulance!$B$7),1,0))","v":1},{"$f":"IF(VALUE(MID(W$2,5,2))<=$V54,OFFSET('CCG-Prov(Amb)'!$B$1,MATCH($A54,'CCG-Prov(Amb)'!$A$2:$A$335,0)+VALUE(RIGHT(W$2,1))-1,0),\"\")","v":"RX8"},{"$f":"IF(VALUE(MID(X$2,5,2))<=$V54,OFFSET('CCG-Prov(Amb)'!$B$1,MATCH($A54,'CCG-Prov(Amb)'!$A$2:$A$335,0)+VALUE(RIGHT(X$2,1))-1,0),\"\")","v":""},{"$f":"IF(VALUE(MID(Y$2,5,2))<=$V54,OFFSET('CCG-Prov(Amb)'!$B$1,MATCH($A54,'CCG-Prov(Amb)'!$A$2:$A$335,0)+VALUE(RIGHT(Y$2,1))-1,0),\"\")","v":""},{"$f":"IF(VALUE(MID(Z$2,5,2))<=$V54,OFFSET('CCG-Prov(Amb)'!$B$1,MATCH($A54,'CCG-Prov(Amb)'!$A$2:$A$335,0)+VALUE(RIGHT(Z$2,1))-1,0),\"\")","v":""},{"$f":"IF(VALUE(MID(AA$2,5,2))<=$V54,OFFSET('CCG-Prov(Amb)'!$B$1,MATCH($A54,'CCG-Prov(Amb)'!$A$2:$A$335,0)+VALUE(RIGHT(AA$2,1))-1,0),\"\")","v":""},null,null,null,null,null,{"$f":"SUM(IF(('CCG-Prov(Births)'!$A$2:$A$6150=A54),1,0))","v":20},{"$f":"SUM(IF(('CCG-Prov(Births)'!$A$2:$A$6150=A54)*('CCG-Prov(Births)'!$C$2:$C$6150>=Maternity!$B$7),1,0))","v":4},{"$f":"IF(VALUE(MID(AI$2,5,2))<=$V54,OFFSET('CCG-Prov(Births)'!$B$1,MATCH($A54,'CCG-Prov(Births)'!$A$2:$A$6150,0)+VALUE(RIGHT(AI$2,1))-1,0),\"\")","v":"RWA"},{"$f":"IF(VALUE(MID(AJ$2,5,2))<=$V54,OFFSET('CCG-Prov(Births)'!$B$1,MATCH($A54,'CCG-Prov(Births)'!$A$2:$A$6150,0)+VALUE(RIGHT(AJ$2,1))-1,0),\"\")","v":""},{"$f":"IF(VALUE(MID(AK$2,5,2))<=$V54,OFFSET('CCG-Prov(Births)'!$B$1,MATCH($A54,'CCG-Prov(Births)'!$A$2:$A$6150,0)+VALUE(RIGHT(AK$2,1))-1,0),\"\")","v":""},{"$f":"IF(VALUE(MID(AL$2,5,2))<=$V54,OFFSET('CCG-Prov(Births)'!$B$1,MATCH($A54,'CCG-Prov(Births)'!$A$2:$A$6150,0)+VALUE(RIGHT(AL$2,1))-1,0),\"\")","v":""},{"$f":"IF(VALUE(MID(AM$2,5,2))<=$V54,OFFSET('CCG-Prov(Births)'!$B$1,MATCH($A54,'CCG-Prov(Births)'!$A$2:$A$6150,0)+VALUE(RIGHT(AM$2,1))-1,0),\"\")","v":""},null,"RGP",{"$f":"VLOOKUP(AO54,provnames!$A$2:$B$331,2,0)","v":"James Paget Univ Hospitals NHS FT"},{"$f":"SUM(IF(('CCG-Prov(Births)'!$B$2:$B$6150=AO54),1,0))","v":40}]
["05D","East Staffordshire",{"$f":"SUM(IF(('CCG-Prov(Acute)'!$A$2:$A$29012=A55),1,0))","v":136},{"$f":"SUM(IF(('CCG-Prov(Acute)'!$A$2:$A$29012=A55)*('CCG-Prov(Acute)'!$C$2:$C$29012>=Acute!$B$7),1,0))","v":4},{"$f":"IF(VALUE(MID(E$2,5,2))<=$D55,OFFSET('CCG-Prov(Acute)'!$B$1,MATCH($A55,'CCG-Prov(Acute)'!$A$2:$A$29012,0)+VALUE(RIGHT(E$2,1))-1,0),\"\")","v":"RJF"},{"$f":"IF(VALUE(MID(F$2,5,2))<=$D55,OFFSET('CCG-Prov(Acute)'!$B$1,MATCH($A55,'CCG-Prov(Acute)'!$A$2:$A$29012,0)+VALUE(RIGHT(F$2,1))-1,0),\"\")","v":"NTA"},{"$f":"IF(VALUE(MID(G$2,5,2))<=$D55,OFFSET('CCG-Prov(Acute)'!$B$1,MATCH($A55,'CCG-Prov(Acute)'!$A$2:$A$29012,0)+VALUE(RIGHT(G$2,1))-1,0),\"\")","v":"RTG"},{"$f":"IF(VALUE(MID(H$2,5,2))<=$D55,OFFSET('CCG-Prov(Acute)'!$B$1,MATCH($A55,'CCG-Prov(Acute)'!$A$2:$A$29012,0)+VALUE(RIGHT(H$2,1))-1,0),\"\")","v":"RJD"},{"$f":"IF(VALUE(MID(I$2,5,2))<=$D55,OFFSET('CCG-Prov(Acute)'!$B$1,MATCH($A55,'CCG-Prov(Acute)'!$A$2:$A$29012,0)+VALUE(RIGHT(I$2,1))-1,0),\"\")","v":""},{"$f":"IF(VALUE(MID(J$2,5,2))<=$D55,OFFSET('CCG-Prov(Acute)'!$B$1,MATCH($A55,'CCG-Prov(Acute)'!$A$2:$A$29012,0)+VALUE(RIGHT(J$2,1))-1,0),\"\")","v":""},{"$f":"IF(VALUE(MID(K$2,5,2))<=$D55,OFFSET('CCG-Prov(Acute)'!$B$1,MATCH($A55,'CCG-Prov(Acute)'!$A$2:$A$29012,0)+VALUE(RIGHT(K$2,1))-1,0),\"\")","v":""},{"$f":"IF(VALUE(MID(L$2,5,2))<=$D55,OFFSET('CCG-Prov(Acute)'!$B$1,MATCH($A55,'CCG-Prov(Acute)'!$A$2:$A$29012,0)+VALUE(RIGHT(L$2,1))-1,0),\"\")","v":""},{"$f":"IF(VALUE(MID(M$2,5,2))<=$D55,OFFSET('CCG-Prov(Acute)'!$B$1,MATCH($A55,'CCG-Prov(Acute)'!$A$2:$A$29012,0)+VALUE(RIGHT(M$2,1))-1,0),\"\")","v":""},{"$f":"IF(VALUE(MID(N$2,5,2))<=$D55,OFFSET('CCG-Prov(Acute)'!$B$1,MATCH($A55,'CCG-Prov(Acute)'!$A$2:$A$29012,0)+VALUE(RIGHT(N$2,1))-1,0),\"\")","v":""},null,null,"5PT",{"$f":"VLOOKUP(Q55,provnames!$A$2:$B$331,2,0)","v":"Suffolk PCT"},{"$f":"SUM(IF(('CCG-Prov(Acute)'!$B$2:$B$28899=Q55),1,0))","v":3},null,{"$f":"SUM(IF(('CCG-Prov(Amb)'!$A$2:$A$335=A55),1,0))","v":2},{"$f":"SUM(IF(('CCG-Prov(Amb)'!$A$2:$A$335=A55)*('CCG-Prov(Amb)'!$C$2:$C$335>=Ambulance!$B$7),1,0))","v":2},{"$f":"IF(VALUE(MID(W$2,5,2))<=$V55,OFFSET('CCG-Prov(Amb)'!$B$1,MATCH($A55,'CCG-Prov(Amb)'!$A$2:$A$335,0)+VALUE(RIGHT(W$2,1))-1,0),\"\")","v":"RYA"},{"$f":"IF(VALUE(MID(X$2,5,2))<=$V55,OFFSET('CCG-Prov(Amb)'!$B$1,MATCH($A55,'CCG-Prov(Amb)'!$A$2:$A$335,0)+VALUE(RIGHT(X$2,1))-1,0),\"\")","v":"RX9"},{"$f":"IF(VALUE(MID(Y$2,5,2))<=$V55,OFFSET('CCG-Prov(Amb)'!$B$1,MATCH($A55,'CCG-Prov(Amb)'!$A$2:$A$335,0)+VALUE(RIGHT(Y$2,1))-1,0),\"\")","v":""},{"$f":"IF(VALUE(MID(Z$2,5,2))<=$V55,OFFSET('CCG-Prov(Amb)'!$B$1,MATCH($A55,'CCG-Prov(Amb)'!$A$2:$A$335,0)+VALUE(RIGHT(Z$2,1))-1,0),\"\")","v":""},{"$f":"IF(VALUE(MID(AA$2,5,2))<=$V55,OFFSET('CCG-Prov(Amb)'!$B$1,MATCH($A55,'CCG-Prov(Amb)'!$A$2:$A$335,0)+VALUE(RIGHT(AA$2,1))-1,0),\"\")","v":""},null,null,null,null,null,{"$f":"SUM(IF(('CCG-Prov(Births)'!$A$2:$A$6150=A55),1,0))","v":23},{"$f":"SUM(IF(('CCG-Prov(Births)'!$A$2:$A$6150=A55)*('CCG-Prov(Births)'!$C$2:$C$6150>=Maternity!$B$7),1,0))","v":2},{"$f":"IF(VALUE(MID(AI$2,5,2))<=$V55,OFFSET('CCG-Prov(Births)'!$B$1,MATCH($A55,'CCG-Prov(Births)'!$A$2:$A$6150,0)+VALUE(RIGHT(AI$2,1))-1,0),\"\")","v":"RJF"},{"$f":"IF(VALUE(MID(AJ$2,5,2))<=$V55,OFFSET('CCG-Prov(Births)'!$B$1,MATCH($A55,'CCG-Prov(Births)'!$A$2:$A$6150,0)+VALUE(RIGHT(AJ$2,1))-1,0),\"\")","v":"RTG"},{"$f":"IF(VALUE(MID(AK$2,5,2))<=$V55,OFFSET('CCG-Prov(Births)'!$B$1,MATCH($A55,'CCG-Prov(Births)'!$A$2:$A$6150,0)+VALUE(RIGHT(AK$2,1))-1,0),\"\")","v":""},{"$f":"IF(VALUE(MID(AL$2,5,2))<=$V55,OFFSET('CCG-Prov(Births)'!$B$1,MATCH($A55,'CCG-Prov(Births)'!$A$2:$A$6150,0)+VALUE(RIGHT(AL$2,1))-1,0),\"\")","v":""},{"$f":"IF(VALUE(MID(AM$2,5,2))<=$V55,OFFSET('CCG-Prov(Births)'!$B$1,MATCH($A55,'CCG-Prov(Births)'!$A$2:$A$6150,0)+VALUE(RIGHT(AM$2,1))-1,0),\"\")","v":""},null,"RGQ",{"$f":"VLOOKUP(AO55,provnames!$A$2:$B$331,2,0)","v":"Ipswich Hospital NHS Trust"},{"$f":"SUM(IF(('CCG-Prov(Births)'!$B$2:$B$6150=AO55),1,0))","v":45}]
["09L","East Surrey",{"$f":"SUM(IF(('CCG-Prov(Acute)'!$A$2:$A$29012=A56),1,0))","v":128},{"$f":"SUM(IF(('CCG-Prov(Acute)'!$A$2:$A$29012=A56)*('CCG-Prov(Acute)'!$C$2:$C$29012>=Acute!$B$7),1,0))","v":7},{"$f":"IF(VALUE(MID(E$2,5,2))<=$D56,OFFSET('CCG-Prov(Acute)'!$B$1,MATCH($A56,'CCG-Prov(Acute)'!$A$2:$A$29012,0)+VALUE(RIGHT(E$2,1))-1,0),\"\")","v":"RTP"},{"$f":"IF(VALUE(MID(F$2,5,2))<=$D56,OFFSET('CCG-Prov(Acute)'!$B$1,MATCH($A56,'CCG-Prov(Acute)'!$A$2:$A$29012,0)+VALUE(RIGHT(F$2,1))-1,0),\"\")","v":"NVC"},{"$f":"IF(VALUE(MID(G$2,5,2))<=$D56,OFFSET('CCG-Prov(Acute)'!$B$1,MATCH($A56,'CCG-Prov(Acute)'!$A$2:$A$29012,0)+VALUE(RIGHT(G$2,1))-1,0),\"\")","v":"RPC"},{"$f":"IF(VALUE(MID(H$2,5,2))<=$D56,OFFSET('CCG-Prov(Acute)'!$B$1,MATCH($A56,'CCG-Prov(Acute)'!$A$2:$A$29012,0)+VALUE(RIGHT(H$2,1))-1,0),\"\")","v":"RJ6"},{"$f":"IF(VALUE(MID(I$2,5,2))<=$D56,OFFSET('CCG-Prov(Acute)'!$B$1,MATCH($A56,'CCG-Prov(Acute)'!$A$2:$A$29012,0)+VALUE(RIGHT(I$2,1))-1,0),\"\")","v":"RA2"},{"$f":"IF(VALUE(MID(J$2,5,2))<=$D56,OFFSET('CCG-Prov(Acute)'!$B$1,MATCH($A56,'CCG-Prov(Acute)'!$A$2:$A$29012,0)+VALUE(RIGHT(J$2,1))-1,0),\"\")","v":"RVR"},{"$f":"IF(VALUE(MID(K$2,5,2))<=$D56,OFFSET('CCG-Prov(Acute)'!$B$1,MATCH($A56,'CCG-Prov(Acute)'!$A$2:$A$29012,0)+VALUE(RIGHT(K$2,1))-1,0),\"\")","v":"RJ7"},{"$f":"IF(VALUE(MID(L$2,5,2))<=$D56,OFFSET('CCG-Prov(Acute)'!$B$1,MATCH($A56,'CCG-Prov(Acute)'!$A$2:$A$29012,0)+VALUE(RIGHT(L$2,1))-1,0),\"\")","v":""},{"$f":"IF(VALUE(MID(M$2,5,2))<=$D56,OFFSET('CCG-Prov(Acute)'!$B$1,MATCH($A56,'CCG-Prov(Acute)'!$A$2:$A$29012,0)+VALUE(RIGHT(M$2,1))-1,0),\"\")","v":""},{"$f":"IF(VALUE(MID(N$2,5,2))<=$D56,OFFSET('CCG-Prov(Acute)'!$B$1,MATCH($A56,'CCG-Prov(Acute)'!$A$2:$A$29012,0)+VALUE(RIGHT(N$2,1))-1,0),\"\")","v":""},null,null,"5PV",{"$f":"VLOOKUP(Q56,provnames!$A$2:$B$331,2,0)","v":"West Essex PCT"},{"$f":"SUM(IF(('CCG-Prov(Acute)'!$B$2:$B$28899=Q56),1,0))","v":3},null,{"$f":"SUM(IF(('CCG-Prov(Amb)'!$A$2:$A$335=A56),1,0))","v":2},{"$f":"SUM(IF(('CCG-Prov(Amb)'!$A$2:$A$335=A56)*('CCG-Prov(Amb)'!$C$2:$C$335>=Ambulance!$B$7),1,0))","v":2},{"$f":"IF(VALUE(MID(W$2,5,2))<=$V56,OFFSET('CCG-Prov(Amb)'!$B$1,MATCH($A56,'CCG-Prov(Amb)'!$A$2:$A$335,0)+VALUE(RIGHT(W$2,1))-1,0),\"\")","v":"RYD"},{"$f":"IF(VALUE(MID(X$2,5,2))<=$V56,OFFSET('CCG-Prov(Amb)'!$B$1,MATCH($A56,'CCG-Prov(Amb)'!$A$2:$A$335,0)+VALUE(RIGHT(X$2,1))-1,0),\"\")","v":"RRY"},{"$f":"IF(VALUE(MID(Y$2,5,2))<=$V56,OFFSET('CCG-Prov(Amb)'!$B$1,MATCH($A56,'CCG-Prov(Amb)'!$A$2:$A$335,0)+VALUE(RIGHT(Y$2,1))-1,0),\"\")","v":""},{"$f":"IF(VALUE(MID(Z$2,5,2))<=$V56,OFFSET('CCG-Prov(Amb)'!$B$1,MATCH($A56,'CCG-Prov(Amb)'!$A$2:$A$335,0)+VALUE(RIGHT(Z$2,1))-1,0),\"\")","v":""},{"$f":"IF(VALUE(MID(AA$2,5,2))<=$V56,OFFSET('CCG-Prov(Amb)'!$B$1,MATCH($A56,'CCG-Prov(Amb)'!$A$2:$A$335,0)+VALUE(RIGHT(AA$2,1))-1,0),\"\")","v":""},null,null,null,null,null,{"$f":"SUM(IF(('CCG-Prov(Births)'!$A$2:$A$6150=A56),1,0))","v":34},{"$f":"SUM(IF(('CCG-Prov(Births)'!$A$2:$A$6150=A56)*('CCG-Prov(Births)'!$C$2:$C$6150>=Maternity!$B$7),1,0))","v":1},{"$f":"IF(VALUE(MID(AI$2,5,2))<=$V56,OFFSET('CCG-Prov(Births)'!$B$1,MATCH($A56,'CCG-Prov(Births)'!$A$2:$A$6150,0)+VALUE(RIGHT(AI$2,1))-1,0),\"\")","v":"RTP"},{"$f":"IF(VALUE(MID(AJ$2,5,2))<=$V56,OFFSET('CCG-Prov(Births)'!$B$1,MATCH($A56,'CCG-Prov(Births)'!$A$2:$A$6150,0)+VALUE(RIGHT(AJ$2,1))-1,0),\"\")","v":"RJ6"},{"$f":"IF(VALUE(MID(AK$2,5,2))<=$V56,OFFSET('CCG-Prov(Births)'!$B$1,MATCH($A56,'CCG-Prov(Births)'!$A$2:$A$6150,0)+VALUE(RIGHT(AK$2,1))-1,0),\"\")","v":""},{"$f":"IF(VALUE(MID(AL$2,5,2))<=$V56,OFFSET('CCG-Prov(Births)'!$B$1,MATCH($A56,'CCG-Prov(Births)'!$A$2:$A$6150,0)+VALUE(RIGHT(AL$2,1))-1,0),\"\")","v":""},{"$f":"IF(VALUE(MID(AM$2,5,2))<=$V56,OFFSET('CCG-Prov(Births)'!$B$1,MATCH($A56,'CCG-Prov(Births)'!$A$2:$A$6150,0)+VALUE(RIGHT(AM$2,1))-1,0),\"\")","v":""},null,"RGR",{"$f":"VLOOKUP(AO56,provnames!$A$2:$B$331,2,0)","v":"West Suffolk Hospitals NHS Trust"},{"$f":"SUM(IF(('CCG-Prov(Births)'!$B$2:$B$6150=AO56),1,0))","v":26}]
["09F","Eastbourne, Hailsham & Seaford",{"$f":"SUM(IF(('CCG-Prov(Acute)'!$A$2:$A$29012=A57),1,0))","v":123},{"$f":"SUM(IF(('CCG-Prov(Acute)'!$A$2:$A$29012=A57)*('CCG-Prov(Acute)'!$C$2:$C$29012>=Acute!$B$7),1,0))","v":3},{"$f":"IF(VALUE(MID(E$2,5,2))<=$D57,OFFSET('CCG-Prov(Acute)'!$B$1,MATCH($A57,'CCG-Prov(Acute)'!$A$2:$A$29012,0)+VALUE(RIGHT(E$2,1))-1,0),\"\")","v":"RXC"},{"$f":"IF(VALUE(MID(F$2,5,2))<=$D57,OFFSET('CCG-Prov(Acute)'!$B$1,MATCH($A57,'CCG-Prov(Acute)'!$A$2:$A$29012,0)+VALUE(RIGHT(F$2,1))-1,0),\"\")","v":"RXH"},{"$f":"IF(VALUE(MID(G$2,5,2))<=$D57,OFFSET('CCG-Prov(Acute)'!$B$1,MATCH($A57,'CCG-Prov(Acute)'!$A$2:$A$29012,0)+VALUE(RIGHT(G$2,1))-1,0),\"\")","v":"NXM"},{"$f":"IF(VALUE(MID(H$2,5,2))<=$D57,OFFSET('CCG-Prov(Acute)'!$B$1,MATCH($A57,'CCG-Prov(Acute)'!$A$2:$A$29012,0)+VALUE(RIGHT(H$2,1))-1,0),\"\")","v":""},{"$f":"IF(VALUE(MID(I$2,5,2))<=$D57,OFFSET('CCG-Prov(Acute)'!$B$1,MATCH($A57,'CCG-Prov(Acute)'!$A$2:$A$29012,0)+VALUE(RIGHT(I$2,1))-1,0),\"\")","v":""},{"$f":"IF(VALUE(MID(J$2,5,2))<=$D57,OFFSET('CCG-Prov(Acute)'!$B$1,MATCH($A57,'CCG-Prov(Acute)'!$A$2:$A$29012,0)+VALUE(RIGHT(J$2,1))-1,0),\"\")","v":""},{"$f":"IF(VALUE(MID(K$2,5,2))<=$D57,OFFSET('CCG-Prov(Acute)'!$B$1,MATCH($A57,'CCG-Prov(Acute)'!$A$2:$A$29012,0)+VALUE(RIGHT(K$2,1))-1,0),\"\")","v":""},{"$f":"IF(VALUE(MID(L$2,5,2))<=$D57,OFFSET('CCG-Prov(Acute)'!$B$1,MATCH($A57,'CCG-Prov(Acute)'!$A$2:$A$29012,0)+VALUE(RIGHT(L$2,1))-1,0),\"\")","v":""},{"$f":"IF(VALUE(MID(M$2,5,2))<=$D57,OFFSET('CCG-Prov(Acute)'!$B$1,MATCH($A57,'CCG-Prov(Acute)'!$A$2:$A$29012,0)+VALUE(RIGHT(M$2,1))-1,0),\"\")","v":""},{"$f":"IF(VALUE(MID(N$2,5,2))<=$D57,OFFSET('CCG-Prov(Acute)'!$B$1,MATCH($A57,'CCG-Prov(Acute)'!$A$2:$A$29012,0)+VALUE(RIGHT(N$2,1))-1,0),\"\")","v":""},null,null,"5PX",{"$f":"VLOOKUP(Q57,provnames!$A$2:$B$331,2,0)","v":"Mid Essex PCT"},{"$f":"SUM(IF(('CCG-Prov(Acute)'!$B$2:$B$28899=Q57),1,0))","v":2},null,{"$f":"SUM(IF(('CCG-Prov(Amb)'!$A$2:$A$335=A57),1,0))","v":1},{"$f":"SUM(IF(('CCG-Prov(Amb)'!$A$2:$A$335=A57)*('CCG-Prov(Amb)'!$C$2:$C$335>=Ambulance!$B$7),1,0))","v":1},{"$f":"IF(VALUE(MID(W$2,5,2))<=$V57,OFFSET('CCG-Prov(Amb)'!$B$1,MATCH($A57,'CCG-Prov(Amb)'!$A$2:$A$335,0)+VALUE(RIGHT(W$2,1))-1,0),\"\")","v":"RYD"},{"$f":"IF(VALUE(MID(X$2,5,2))<=$V57,OFFSET('CCG-Prov(Amb)'!$B$1,MATCH($A57,'CCG-Prov(Amb)'!$A$2:$A$335,0)+VALUE(RIGHT(X$2,1))-1,0),\"\")","v":""},{"$f":"IF(VALUE(MID(Y$2,5,2))<=$V57,OFFSET('CCG-Prov(Amb)'!$B$1,MATCH($A57,'CCG-Prov(Amb)'!$A$2:$A$335,0)+VALUE(RIGHT(Y$2,1))-1,0),\"\")","v":""},{"$f":"IF(VALUE(MID(Z$2,5,2))<=$V57,OFFSET('CCG-Prov(Amb)'!$B$1,MATCH($A57,'CCG-Prov(Amb)'!$A$2:$A$335,0)+VALUE(RIGHT(Z$2,1))-1,0),\"\")","v":""},{"$f":"IF(VALUE(MID(AA$2,5,2))<=$V57,OFFSET('CCG-Prov(Amb)'!$B$1,MATCH($A57,'CCG-Prov(Amb)'!$A$2:$A$335,0)+VALUE(RIGHT(AA$2,1))-1,0),\"\")","v":""},null,null,null,null,null,{"$f":"SUM(IF(('CCG-Prov(Births)'!$A$2:$A$6150=A57),1,0))","v":26},{"$f":"SUM(IF(('CCG-Prov(Births)'!$A$2:$A$6150=A57)*('CCG-Prov(Births)'!$C$2:$C$6150>=Maternity!$B$7),1,0))","v":2},{"$f":"IF(VALUE(MID(AI$2,5,2))<=$V57,OFFSET('CCG-Prov(Births)'!$B$1,MATCH($A57,'CCG-Prov(Births)'!$A$2:$A$6150,0)+VALUE(RIGHT(AI$2,1))-1,0),\"\")","v":"RXC"},{"$f":"IF(VALUE(MID(AJ$2,5,2))<=$V57,OFFSET('CCG-Prov(Births)'!$B$1,MATCH($A57,'CCG-Prov(Births)'!$A$2:$A$6150,0)+VALUE(RIGHT(AJ$2,1))-1,0),\"\")","v":""},{"$f":"IF(VALUE(MID(AK$2,5,2))<=$V57,OFFSET('CCG-Prov(Births)'!$B$1,MATCH($A57,'CCG-Prov(Births)'!$A$2:$A$6150,0)+VALUE(RIGHT(AK$2,1))-1,0),\"\")","v":""},{"$f":"IF(VALUE(MID(AL$2,5,2))<=$V57,OFFSET('CCG-Prov(Births)'!$B$1,MATCH($A57,'CCG-Prov(Births)'!$A$2:$A$6150,0)+VALUE(RIGHT(AL$2,1))-1,0),\"\")","v":""},{"$f":"IF(VALUE(MID(AM$2,5,2))<=$V57,OFFSET('CCG-Prov(Births)'!$B$1,MATCH($A57,'CCG-Prov(Births)'!$A$2:$A$6150,0)+VALUE(RIGHT(AM$2,1))-1,0),\"\")","v":""},null,"RGT",{"$f":"VLOOKUP(AO57,provnames!$A$2:$B$331,2,0)","v":"Cambridge Univ Hospitals NHS FT"},{"$f":"SUM(IF(('CCG-Prov(Births)'!$B$2:$B$6150=AO57),1,0))","v":51}]
["01C","Eastern Cheshire",{"$f":"SUM(IF(('CCG-Prov(Acute)'!$A$2:$A$29012=A58),1,0))","v":142},{"$f":"SUM(IF(('CCG-Prov(Acute)'!$A$2:$A$29012=A58)*('CCG-Prov(Acute)'!$C$2:$C$29012>=Acute!$B$7),1,0))","v":7},{"$f":"IF(VALUE(MID(E$2,5,2))<=$D58,OFFSET('CCG-Prov(Acute)'!$B$1,MATCH($A58,'CCG-Prov(Acute)'!$A$2:$A$29012,0)+VALUE(RIGHT(E$2,1))-1,0),\"\")","v":"RJN"},{"$f":"IF(VALUE(MID(F$2,5,2))<=$D58,OFFSET('CCG-Prov(Acute)'!$B$1,MATCH($A58,'CCG-Prov(Acute)'!$A$2:$A$29012,0)+VALUE(RIGHT(F$2,1))-1,0),\"\")","v":"RWJ"},{"$f":"IF(VALUE(MID(G$2,5,2))<=$D58,OFFSET('CCG-Prov(Acute)'!$B$1,MATCH($A58,'CCG-Prov(Acute)'!$A$2:$A$29012,0)+VALUE(RIGHT(G$2,1))-1,0),\"\")","v":"RM2"},{"$f":"IF(VALUE(MID(H$2,5,2))<=$D58,OFFSET('CCG-Prov(Acute)'!$B$1,MATCH($A58,'CCG-Prov(Acute)'!$A$2:$A$29012,0)+VALUE(RIGHT(H$2,1))-1,0),\"\")","v":"RW3"},{"$f":"IF(VALUE(MID(I$2,5,2))<=$D58,OFFSET('CCG-Prov(Acute)'!$B$1,MATCH($A58,'CCG-Prov(Acute)'!$A$2:$A$29012,0)+VALUE(RIGHT(I$2,1))-1,0),\"\")","v":"RBT"},{"$f":"IF(VALUE(MID(J$2,5,2))<=$D58,OFFSET('CCG-Prov(Acute)'!$B$1,MATCH($A58,'CCG-Prov(Acute)'!$A$2:$A$29012,0)+VALUE(RIGHT(J$2,1))-1,0),\"\")","v":"RBV"},{"$f":"IF(VALUE(MID(K$2,5,2))<=$D58,OFFSET('CCG-Prov(Acute)'!$B$1,MATCH($A58,'CCG-Prov(Acute)'!$A$2:$A$29012,0)+VALUE(RIGHT(K$2,1))-1,0),\"\")","v":"RM3"},{"$f":"IF(VALUE(MID(L$2,5,2))<=$D58,OFFSET('CCG-Prov(Acute)'!$B$1,MATCH($A58,'CCG-Prov(Acute)'!$A$2:$A$29012,0)+VALUE(RIGHT(L$2,1))-1,0),\"\")","v":""},{"$f":"IF(VALUE(MID(M$2,5,2))<=$D58,OFFSET('CCG-Prov(Acute)'!$B$1,MATCH($A58,'CCG-Prov(Acute)'!$A$2:$A$29012,0)+VALUE(RIGHT(M$2,1))-1,0),\"\")","v":""},{"$f":"IF(VALUE(MID(N$2,5,2))<=$D58,OFFSET('CCG-Prov(Acute)'!$B$1,MATCH($A58,'CCG-Prov(Acute)'!$A$2:$A$29012,0)+VALUE(RIGHT(N$2,1))-1,0),\"\")","v":""},null,null,"5PY",{"$f":"VLOOKUP(Q58,provnames!$A$2:$B$331,2,0)","v":"South West Essex PCT"},{"$f":"SUM(IF(('CCG-Prov(Acute)'!$B$2:$B$28899=Q58),1,0))","v":6},null,{"$f":"SUM(IF(('CCG-Prov(Amb)'!$A$2:$A$335=A58),1,0))","v":3},{"$f":"SUM(IF(('CCG-Prov(Amb)'!$A$2:$A$335=A58)*('CCG-Prov(Amb)'!$C$2:$C$335>=Ambulance!$B$7),1,0))","v":2},{"$f":"IF(VALUE(MID(W$2,5,2))<=$V58,OFFSET('CCG-Prov(Amb)'!$B$1,MATCH($A58,'CCG-Prov(Amb)'!$A$2:$A$335,0)+VALUE(RIGHT(W$2,1))-1,0),\"\")","v":"RX7"},{"$f":"IF(VALUE(MID(X$2,5,2))<=$V58,OFFSET('CCG-Prov(Amb)'!$B$1,MATCH($A58,'CCG-Prov(Amb)'!$A$2:$A$335,0)+VALUE(RIGHT(X$2,1))-1,0),\"\")","v":"RYA"},{"$f":"IF(VALUE(MID(Y$2,5,2))<=$V58,OFFSET('CCG-Prov(Amb)'!$B$1,MATCH($A58,'CCG-Prov(Amb)'!$A$2:$A$335,0)+VALUE(RIGHT(Y$2,1))-1,0),\"\")","v":""},{"$f":"IF(VALUE(MID(Z$2,5,2))<=$V58,OFFSET('CCG-Prov(Amb)'!$B$1,MATCH($A58,'CCG-Prov(Amb)'!$A$2:$A$335,0)+VALUE(RIGHT(Z$2,1))-1,0),\"\")","v":""},{"$f":"IF(VALUE(MID(AA$2,5,2))<=$V58,OFFSET('CCG-Prov(Amb)'!$B$1,MATCH($A58,'CCG-Prov(Amb)'!$A$2:$A$335,0)+VALUE(RIGHT(AA$2,1))-1,0),\"\")","v":""},null,null,null,null,null,{"$f":"SUM(IF(('CCG-Prov(Births)'!$A$2:$A$6150=A58),1,0))","v":26},{"$f":"SUM(IF(('CCG-Prov(Births)'!$A$2:$A$6150=A58)*('CCG-Prov(Births)'!$C$2:$C$6150>=Maternity!$B$7),1,0))","v":3},{"$f":"IF(VALUE(MID(AI$2,5,2))<=$V58,OFFSET('CCG-Prov(Births)'!$B$1,MATCH($A58,'CCG-Prov(Births)'!$A$2:$A$6150,0)+VALUE(RIGHT(AI$2,1))-1,0),\"\")","v":"RJN"},{"$f":"IF(VALUE(MID(AJ$2,5,2))<=$V58,OFFSET('CCG-Prov(Births)'!$B$1,MATCH($A58,'CCG-Prov(Births)'!$A$2:$A$6150,0)+VALUE(RIGHT(AJ$2,1))-1,0),\"\")","v":"RWJ"},{"$f":"IF(VALUE(MID(AK$2,5,2))<=$V58,OFFSET('CCG-Prov(Births)'!$B$1,MATCH($A58,'CCG-Prov(Births)'!$A$2:$A$6150,0)+VALUE(RIGHT(AK$2,1))-1,0),\"\")","v":""},{"$f":"IF(VALUE(MID(AL$2,5,2))<=$V58,OFFSET('CCG-Prov(Births)'!$B$1,MATCH($A58,'CCG-Prov(Births)'!$A$2:$A$6150,0)+VALUE(RIGHT(AL$2,1))-1,0),\"\")","v":""},{"$f":"IF(VALUE(MID(AM$2,5,2))<=$V58,OFFSET('CCG-Prov(Births)'!$B$1,MATCH($A58,'CCG-Prov(Births)'!$A$2:$A$6150,0)+VALUE(RIGHT(AM$2,1))-1,0),\"\")","v":""},null,"RH8",{"$f":"VLOOKUP(AO58,provnames!$A$2:$B$331,2,0)","v":"Royal Devon & Exeter NHS FT"},{"$f":"SUM(IF(('CCG-Prov(Births)'!$B$2:$B$6150=AO58),1,0))","v":50}]
["07X","Enfield",{"$f":"SUM(IF(('CCG-Prov(Acute)'!$A$2:$A$29012=A59),1,0))","v":137},{"$f":"SUM(IF(('CCG-Prov(Acute)'!$A$2:$A$29012=A59)*('CCG-Prov(Acute)'!$C$2:$C$29012>=Acute!$B$7),1,0))","v":8},{"$f":"IF(VALUE(MID(E$2,5,2))<=$D59,OFFSET('CCG-Prov(Acute)'!$B$1,MATCH($A59,'CCG-Prov(Acute)'!$A$2:$A$29012,0)+VALUE(RIGHT(E$2,1))-1,0),\"\")","v":"RVL"},{"$f":"IF(VALUE(MID(F$2,5,2))<=$D59,OFFSET('CCG-Prov(Acute)'!$B$1,MATCH($A59,'CCG-Prov(Acute)'!$A$2:$A$29012,0)+VALUE(RIGHT(F$2,1))-1,0),\"\")","v":"RAP"},{"$f":"IF(VALUE(MID(G$2,5,2))<=$D59,OFFSET('CCG-Prov(Acute)'!$B$1,MATCH($A59,'CCG-Prov(Acute)'!$A$2:$A$29012,0)+VALUE(RIGHT(G$2,1))-1,0),\"\")","v":"RAL"},{"$f":"IF(VALUE(MID(H$2,5,2))<=$D59,OFFSET('CCG-Prov(Acute)'!$B$1,MATCH($A59,'CCG-Prov(Acute)'!$A$2:$A$29012,0)+VALUE(RIGHT(H$2,1))-1,0),\"\")","v":"RRV"},{"$f":"IF(VALUE(MID(I$2,5,2))<=$D59,OFFSET('CCG-Prov(Acute)'!$B$1,MATCH($A59,'CCG-Prov(Acute)'!$A$2:$A$29012,0)+VALUE(RIGHT(I$2,1))-1,0),\"\")","v":"RP6"},{"$f":"IF(VALUE(MID(J$2,5,2))<=$D59,OFFSET('CCG-Prov(Acute)'!$B$1,MATCH($A59,'CCG-Prov(Acute)'!$A$2:$A$29012,0)+VALUE(RIGHT(J$2,1))-1,0),\"\")","v":"RNJ"},{"$f":"IF(VALUE(MID(K$2,5,2))<=$D59,OFFSET('CCG-Prov(Acute)'!$B$1,MATCH($A59,'CCG-Prov(Acute)'!$A$2:$A$29012,0)+VALUE(RIGHT(K$2,1))-1,0),\"\")","v":"RKE"},{"$f":"IF(VALUE(MID(L$2,5,2))<=$D59,OFFSET('CCG-Prov(Acute)'!$B$1,MATCH($A59,'CCG-Prov(Acute)'!$A$2:$A$29012,0)+VALUE(RIGHT(L$2,1))-1,0),\"\")","v":"RP4"},{"$f":"IF(VALUE(MID(M$2,5,2))<=$D59,OFFSET('CCG-Prov(Acute)'!$B$1,MATCH($A59,'CCG-Prov(Acute)'!$A$2:$A$29012,0)+VALUE(RIGHT(M$2,1))-1,0),\"\")","v":""},{"$f":"IF(VALUE(MID(N$2,5,2))<=$D59,OFFSET('CCG-Prov(Acute)'!$B$1,MATCH($A59,'CCG-Prov(Acute)'!$A$2:$A$29012,0)+VALUE(RIGHT(N$2,1))-1,0),\"\")","v":""},null,null,"5QA",{"$f":"VLOOKUP(Q59,provnames!$A$2:$B$331,2,0)","v":"Eastern & Coastal Kent PCT"},{"$f":"SUM(IF(('CCG-Prov(Acute)'!$B$2:$B$28899=Q59),1,0))","v":5},null,{"$f":"SUM(IF(('CCG-Prov(Amb)'!$A$2:$A$335=A59),1,0))","v":2},{"$f":"SUM(IF(('CCG-Prov(Amb)'!$A$2:$A$335=A59)*('CCG-Prov(Amb)'!$C$2:$C$335>=Ambulance!$B$7),1,0))","v":1},{"$f":"IF(VALUE(MID(W$2,5,2))<=$V59,OFFSET('CCG-Prov(Amb)'!$B$1,MATCH($A59,'CCG-Prov(Amb)'!$A$2:$A$335,0)+VALUE(RIGHT(W$2,1))-1,0),\"\")","v":"RRY"},{"$f":"IF(VALUE(MID(X$2,5,2))<=$V59,OFFSET('CCG-Prov(Amb)'!$B$1,MATCH($A59,'CCG-Prov(Amb)'!$A$2:$A$335,0)+VALUE(RIGHT(X$2,1))-1,0),\"\")","v":""},{"$f":"IF(VALUE(MID(Y$2,5,2))<=$V59,OFFSET('CCG-Prov(Amb)'!$B$1,MATCH($A59,'CCG-Prov(Amb)'!$A$2:$A$335,0)+VALUE(RIGHT(Y$2,1))-1,0),\"\")","v":""},{"$f":"IF(VALUE(MID(Z$2,5,2))<=$V59,OFFSET('CCG-Prov(Amb)'!$B$1,MATCH($A59,'CCG-Prov(Amb)'!$A$2:$A$335,0)+VALUE(RIGHT(Z$2,1))-1,0),\"\")","v":""},{"$f":"IF(VALUE(MID(AA$2,5,2))<=$V59,OFFSET('CCG-Prov(Amb)'!$B$1,MATCH($A59,'CCG-Prov(Amb)'!$A$2:$A$335,0)+VALUE(RIGHT(AA$2,1))-1,0),\"\")","v":""},null,null,null,null,null,{"$f":"SUM(IF(('CCG-Prov(Births)'!$A$2:$A$6150=A59),1,0))","v":50},{"$f":"SUM(IF(('CCG-Prov(Births)'!$A$2:$A$6150=A59)*('CCG-Prov(Births)'!$C$2:$C$6150>=Maternity!$B$7),1,0))","v":6},{"$f":"IF(VALUE(MID(AI$2,5,2))<=$V59,OFFSET('CCG-Prov(Births)'!$B$1,MATCH($A59,'CCG-Prov(Births)'!$A$2:$A$6150,0)+VALUE(RIGHT(AI$2,1))-1,0),\"\")","v":"RVL"},{"$f":"IF(VALUE(MID(AJ$2,5,2))<=$V59,OFFSET('CCG-Prov(Births)'!$B$1,MATCH($A59,'CCG-Prov(Births)'!$A$2:$A$6150,0)+VALUE(RIGHT(AJ$2,1))-1,0),\"\")","v":""},{"$f":"IF(VALUE(MID(AK$2,5,2))<=$V59,OFFSET('CCG-Prov(Births)'!$B$1,MATCH($A59,'CCG-Prov(Births)'!$A$2:$A$6150,0)+VALUE(RIGHT(AK$2,1))-1,0),\"\")","v":""},{"$f":"IF(VALUE(MID(AL$2,5,2))<=$V59,OFFSET('CCG-Prov(Births)'!$B$1,MATCH($A59,'CCG-Prov(Births)'!$A$2:$A$6150,0)+VALUE(RIGHT(AL$2,1))-1,0),\"\")","v":""},{"$f":"IF(VALUE(MID(AM$2,5,2))<=$V59,OFFSET('CCG-Prov(Births)'!$B$1,MATCH($A59,'CCG-Prov(Births)'!$A$2:$A$6150,0)+VALUE(RIGHT(AM$2,1))-1,0),\"\")","v":""},null,"RHM",{"$f":"VLOOKUP(AO59,provnames!$A$2:$B$331,2,0)","v":"University Hospital Southampton NHS FT"},{"$f":"SUM(IF(('CCG-Prov(Births)'!$B$2:$B$6150=AO59),1,0))","v":30}]
["03X","Erewash",{"$f":"SUM(IF(('CCG-Prov(Acute)'!$A$2:$A$29012=A60),1,0))","v":87},{"$f":"SUM(IF(('CCG-Prov(Acute)'!$A$2:$A$29012=A60)*('CCG-Prov(Acute)'!$C$2:$C$29012>=Acute!$B$7),1,0))","v":4},{"$f":"IF(VALUE(MID(E$2,5,2))<=$D60,OFFSET('CCG-Prov(Acute)'!$B$1,MATCH($A60,'CCG-Prov(Acute)'!$A$2:$A$29012,0)+VALUE(RIGHT(E$2,1))-1,0),\"\")","v":"RX1"},{"$f":"IF(VALUE(MID(F$2,5,2))<=$D60,OFFSET('CCG-Prov(Acute)'!$B$1,MATCH($A60,'CCG-Prov(Acute)'!$A$2:$A$29012,0)+VALUE(RIGHT(F$2,1))-1,0),\"\")","v":"RTG"},{"$f":"IF(VALUE(MID(G$2,5,2))<=$D60,OFFSET('CCG-Prov(Acute)'!$B$1,MATCH($A60,'CCG-Prov(Acute)'!$A$2:$A$29012,0)+VALUE(RIGHT(G$2,1))-1,0),\"\")","v":"NTA"},{"$f":"IF(VALUE(MID(H$2,5,2))<=$D60,OFFSET('CCG-Prov(Acute)'!$B$1,MATCH($A60,'CCG-Prov(Acute)'!$A$2:$A$29012,0)+VALUE(RIGHT(H$2,1))-1,0),\"\")","v":"5N6"},{"$f":"IF(VALUE(MID(I$2,5,2))<=$D60,OFFSET('CCG-Prov(Acute)'!$B$1,MATCH($A60,'CCG-Prov(Acute)'!$A$2:$A$29012,0)+VALUE(RIGHT(I$2,1))-1,0),\"\")","v":""},{"$f":"IF(VALUE(MID(J$2,5,2))<=$D60,OFFSET('CCG-Prov(Acute)'!$B$1,MATCH($A60,'CCG-Prov(Acute)'!$A$2:$A$29012,0)+VALUE(RIGHT(J$2,1))-1,0),\"\")","v":""},{"$f":"IF(VALUE(MID(K$2,5,2))<=$D60,OFFSET('CCG-Prov(Acute)'!$B$1,MATCH($A60,'CCG-Prov(Acute)'!$A$2:$A$29012,0)+VALUE(RIGHT(K$2,1))-1,0),\"\")","v":""},{"$f":"IF(VALUE(MID(L$2,5,2))<=$D60,OFFSET('CCG-Prov(Acute)'!$B$1,MATCH($A60,'CCG-Prov(Acute)'!$A$2:$A$29012,0)+VALUE(RIGHT(L$2,1))-1,0),\"\")","v":""},{"$f":"IF(VALUE(MID(M$2,5,2))<=$D60,OFFSET('CCG-Prov(Acute)'!$B$1,MATCH($A60,'CCG-Prov(Acute)'!$A$2:$A$29012,0)+VALUE(RIGHT(M$2,1))-1,0),\"\")","v":""},{"$f":"IF(VALUE(MID(N$2,5,2))<=$D60,OFFSET('CCG-Prov(Acute)'!$B$1,MATCH($A60,'CCG-Prov(Acute)'!$A$2:$A$29012,0)+VALUE(RIGHT(N$2,1))-1,0),\"\")","v":""},null,null,"5QC",{"$f":"VLOOKUP(Q60,provnames!$A$2:$B$331,2,0)","v":"Hampshire PCT"},{"$f":"SUM(IF(('CCG-Prov(Acute)'!$B$2:$B$28899=Q60),1,0))","v":56},null,{"$f":"SUM(IF(('CCG-Prov(Amb)'!$A$2:$A$335=A60),1,0))","v":1},{"$f":"SUM(IF(('CCG-Prov(Amb)'!$A$2:$A$335=A60)*('CCG-Prov(Amb)'!$C$2:$C$335>=Ambulance!$B$7),1,0))","v":1},{"$f":"IF(VALUE(MID(W$2,5,2))<=$V60,OFFSET('CCG-Prov(Amb)'!$B$1,MATCH($A60,'CCG-Prov(Amb)'!$A$2:$A$335,0)+VALUE(RIGHT(W$2,1))-1,0),\"\")","v":"RX9"},{"$f":"IF(VALUE(MID(X$2,5,2))<=$V60,OFFSET('CCG-Prov(Amb)'!$B$1,MATCH($A60,'CCG-Prov(Amb)'!$A$2:$A$335,0)+VALUE(RIGHT(X$2,1))-1,0),\"\")","v":""},{"$f":"IF(VALUE(MID(Y$2,5,2))<=$V60,OFFSET('CCG-Prov(Amb)'!$B$1,MATCH($A60,'CCG-Prov(Amb)'!$A$2:$A$335,0)+VALUE(RIGHT(Y$2,1))-1,0),\"\")","v":""},{"$f":"IF(VALUE(MID(Z$2,5,2))<=$V60,OFFSET('CCG-Prov(Amb)'!$B$1,MATCH($A60,'CCG-Prov(Amb)'!$A$2:$A$335,0)+VALUE(RIGHT(Z$2,1))-1,0),\"\")","v":""},{"$f":"IF(VALUE(MID(AA$2,5,2))<=$V60,OFFSET('CCG-Prov(Amb)'!$B$1,MATCH($A60,'CCG-Prov(Amb)'!$A$2:$A$335,0)+VALUE(RIGHT(AA$2,1))-1,0),\"\")","v":""},null,null,null,null,null,{"$f":"SUM(IF(('CCG-Prov(Births)'!$A$2:$A$6150=A60),1,0))","v":13},{"$f":"SUM(IF(('CCG-Prov(Births)'!$A$2:$A$6150=A60)*('CCG-Prov(Births)'!$C$2:$C$6150>=Maternity!$B$7),1,0))","v":2},{"$f":"IF(VALUE(MID(AI$2,5,2))<=$V60,OFFSET('CCG-Prov(Births)'!$B$1,MATCH($A60,'CCG-Prov(Births)'!$A$2:$A$6150,0)+VALUE(RIGHT(AI$2,1))-1,0),\"\")","v":"RX1"},{"$f":"IF(VALUE(MID(AJ$2,5,2))<=$V60,OFFSET('CCG-Prov(Births)'!$B$1,MATCH($A60,'CCG-Prov(Births)'!$A$2:$A$6150,0)+VALUE(RIGHT(AJ$2,1))-1,0),\"\")","v":""},{"$f":"IF(VALUE(MID(AK$2,5,2))<=$V60,OFFSET('CCG-Prov(Births)'!$B$1,MATCH($A60,'CCG-Prov(Births)'!$A$2:$A$6150,0)+VALUE(RIGHT(AK$2,1))-1,0),\"\")","v":""},{"$f":"IF(VALUE(MID(AL$2,5,2))<=$V60,OFFSET('CCG-Prov(Births)'!$B$1,MATCH($A60,'CCG-Prov(Births)'!$A$2:$A$6150,0)+VALUE(RIGHT(AL$2,1))-1,0),\"\")","v":""},{"$f":"IF(VALUE(MID(AM$2,5,2))<=$V60,OFFSET('CCG-Prov(Births)'!$B$1,MATCH($A60,'CCG-Prov(Births)'!$A$2:$A$6150,0)+VALUE(RIGHT(AM$2,1))-1,0),\"\")","v":""},null,"RHQ",{"$f":"VLOOKUP(AO60,provnames!$A$2:$B$331,2,0)","v":"Sheffield Teaching Hospitals NHS FT"},{"$f":"SUM(IF(('CCG-Prov(Births)'!$B$2:$B$6150=AO60),1,0))","v":71}]
["10K","Fareham & Gosport",{"$f":"SUM(IF(('CCG-Prov(Acute)'!$A$2:$A$29012=A61),1,0))","v":130},{"$f":"SUM(IF(('CCG-Prov(Acute)'!$A$2:$A$29012=A61)*('CCG-Prov(Acute)'!$C$2:$C$29012>=Acute!$B$7),1,0))","v":3},{"$f":"IF(VALUE(MID(E$2,5,2))<=$D61,OFFSET('CCG-Prov(Acute)'!$B$1,MATCH($A61,'CCG-Prov(Acute)'!$A$2:$A$29012,0)+VALUE(RIGHT(E$2,1))-1,0),\"\")","v":"RHU"},{"$f":"IF(VALUE(MID(F$2,5,2))<=$D61,OFFSET('CCG-Prov(Acute)'!$B$1,MATCH($A61,'CCG-Prov(Acute)'!$A$2:$A$29012,0)+VALUE(RIGHT(F$2,1))-1,0),\"\")","v":"RHM"},{"$f":"IF(VALUE(MID(G$2,5,2))<=$D61,OFFSET('CCG-Prov(Acute)'!$B$1,MATCH($A61,'CCG-Prov(Acute)'!$A$2:$A$29012,0)+VALUE(RIGHT(G$2,1))-1,0),\"\")","v":"NTP"},{"$f":"IF(VALUE(MID(H$2,5,2))<=$D61,OFFSET('CCG-Prov(Acute)'!$B$1,MATCH($A61,'CCG-Prov(Acute)'!$A$2:$A$29012,0)+VALUE(RIGHT(H$2,1))-1,0),\"\")","v":""},{"$f":"IF(VALUE(MID(I$2,5,2))<=$D61,OFFSET('CCG-Prov(Acute)'!$B$1,MATCH($A61,'CCG-Prov(Acute)'!$A$2:$A$29012,0)+VALUE(RIGHT(I$2,1))-1,0),\"\")","v":""},{"$f":"IF(VALUE(MID(J$2,5,2))<=$D61,OFFSET('CCG-Prov(Acute)'!$B$1,MATCH($A61,'CCG-Prov(Acute)'!$A$2:$A$29012,0)+VALUE(RIGHT(J$2,1))-1,0),\"\")","v":""},{"$f":"IF(VALUE(MID(K$2,5,2))<=$D61,OFFSET('CCG-Prov(Acute)'!$B$1,MATCH($A61,'CCG-Prov(Acute)'!$A$2:$A$29012,0)+VALUE(RIGHT(K$2,1))-1,0),\"\")","v":""},{"$f":"IF(VALUE(MID(L$2,5,2))<=$D61,OFFSET('CCG-Prov(Acute)'!$B$1,MATCH($A61,'CCG-Prov(Acute)'!$A$2:$A$29012,0)+VALUE(RIGHT(L$2,1))-1,0),\"\")","v":""},{"$f":"IF(VALUE(MID(M$2,5,2))<=$D61,OFFSET('CCG-Prov(Acute)'!$B$1,MATCH($A61,'CCG-Prov(Acute)'!$A$2:$A$29012,0)+VALUE(RIGHT(M$2,1))-1,0),\"\")","v":""},{"$f":"IF(VALUE(MID(N$2,5,2))<=$D61,OFFSET('CCG-Prov(Acute)'!$B$1,MATCH($A61,'CCG-Prov(Acute)'!$A$2:$A$29012,0)+VALUE(RIGHT(N$2,1))-1,0),\"\")","v":""},null,null,"5QD",{"$f":"VLOOKUP(Q61,provnames!$A$2:$B$331,2,0)","v":"Buckinghamshire PCT"},{"$f":"SUM(IF(('CCG-Prov(Acute)'!$B$2:$B$28899=Q61),1,0))","v":11},null,{"$f":"SUM(IF(('CCG-Prov(Amb)'!$A$2:$A$335=A61),1,0))","v":1},{"$f":"SUM(IF(('CCG-Prov(Amb)'!$A$2:$A$335=A61)*('CCG-Prov(Amb)'!$C$2:$C$335>=Ambulance!$B$7),1,0))","v":1},{"$f":"IF(VALUE(MID(W$2,5,2))<=$V61,OFFSET('CCG-Prov(Amb)'!$B$1,MATCH($A61,'CCG-Prov(Amb)'!$A$2:$A$335,0)+VALUE(RIGHT(W$2,1))-1,0),\"\")","v":"RYE"},{"$f":"IF(VALUE(MID(X$2,5,2))<=$V61,OFFSET('CCG-Prov(Amb)'!$B$1,MATCH($A61,'CCG-Prov(Amb)'!$A$2:$A$335,0)+VALUE(RIGHT(X$2,1))-1,0),\"\")","v":""},{"$f":"IF(VALUE(MID(Y$2,5,2))<=$V61,OFFSET('CCG-Prov(Amb)'!$B$1,MATCH($A61,'CCG-Prov(Amb)'!$A$2:$A$335,0)+VALUE(RIGHT(Y$2,1))-1,0),\"\")","v":""},{"$f":"IF(VALUE(MID(Z$2,5,2))<=$V61,OFFSET('CCG-Prov(Amb)'!$B$1,MATCH($A61,'CCG-Prov(Amb)'!$A$2:$A$335,0)+VALUE(RIGHT(Z$2,1))-1,0),\"\")","v":""},{"$f":"IF(VALUE(MID(AA$2,5,2))<=$V61,OFFSET('CCG-Prov(Amb)'!$B$1,MATCH($A61,'CCG-Prov(Amb)'!$A$2:$A$335,0)+VALUE(RIGHT(AA$2,1))-1,0),\"\")","v":""},null,null,null,null,null,{"$f":"SUM(IF(('CCG-Prov(Births)'!$A$2:$A$6150=A61),1,0))","v":21},{"$f":"SUM(IF(('CCG-Prov(Births)'!$A$2:$A$6150=A61)*('CCG-Prov(Births)'!$C$2:$C$6150>=Maternity!$B$7),1,0))","v":2},{"$f":"IF(VALUE(MID(AI$2,5,2))<=$V61,OFFSET('CCG-Prov(Births)'!$B$1,MATCH($A61,'CCG-Prov(Births)'!$A$2:$A$6150,0)+VALUE(RIGHT(AI$2,1))-1,0),\"\")","v":"RHU"},{"$f":"IF(VALUE(MID(AJ$2,5,2))<=$V61,OFFSET('CCG-Prov(Births)'!$B$1,MATCH($A61,'CCG-Prov(Births)'!$A$2:$A$6150,0)+VALUE(RIGHT(AJ$2,1))-1,0),\"\")","v":""},{"$f":"IF(VALUE(MID(AK$2,5,2))<=$V61,OFFSET('CCG-Prov(Births)'!$B$1,MATCH($A61,'CCG-Prov(Births)'!$A$2:$A$6150,0)+VALUE(RIGHT(AK$2,1))-1,0),\"\")","v":""},{"$f":"IF(VALUE(MID(AL$2,5,2))<=$V61,OFFSET('CCG-Prov(Births)'!$B$1,MATCH($A61,'CCG-Prov(Births)'!$A$2:$A$6150,0)+VALUE(RIGHT(AL$2,1))-1,0),\"\")","v":""},{"$f":"IF(VALUE(MID(AM$2,5,2))<=$V61,OFFSET('CCG-Prov(Births)'!$B$1,MATCH($A61,'CCG-Prov(Births)'!$A$2:$A$6150,0)+VALUE(RIGHT(AM$2,1))-1,0),\"\")","v":""},null,"RHU",{"$f":"VLOOKUP(AO61,provnames!$A$2:$B$331,2,0)","v":"Portsmouth Hospitals NHS Trust"},{"$f":"SUM(IF(('CCG-Prov(Births)'!$B$2:$B$6150=AO61),1,0))","v":42}]
["02M","Fylde & Wyre",{"$f":"SUM(IF(('CCG-Prov(Acute)'!$A$2:$A$29012=A62),1,0))","v":130},{"$f":"SUM(IF(('CCG-Prov(Acute)'!$A$2:$A$29012=A62)*('CCG-Prov(Acute)'!$C$2:$C$29012>=Acute!$B$7),1,0))","v":3},{"$f":"IF(VALUE(MID(E$2,5,2))<=$D62,OFFSET('CCG-Prov(Acute)'!$B$1,MATCH($A62,'CCG-Prov(Acute)'!$A$2:$A$29012,0)+VALUE(RIGHT(E$2,1))-1,0),\"\")","v":"RXL"},{"$f":"IF(VALUE(MID(F$2,5,2))<=$D62,OFFSET('CCG-Prov(Acute)'!$B$1,MATCH($A62,'CCG-Prov(Acute)'!$A$2:$A$29012,0)+VALUE(RIGHT(F$2,1))-1,0),\"\")","v":"RXN"},{"$f":"IF(VALUE(MID(G$2,5,2))<=$D62,OFFSET('CCG-Prov(Acute)'!$B$1,MATCH($A62,'CCG-Prov(Acute)'!$A$2:$A$29012,0)+VALUE(RIGHT(G$2,1))-1,0),\"\")","v":"NVC"},{"$f":"IF(VALUE(MID(H$2,5,2))<=$D62,OFFSET('CCG-Prov(Acute)'!$B$1,MATCH($A62,'CCG-Prov(Acute)'!$A$2:$A$29012,0)+VALUE(RIGHT(H$2,1))-1,0),\"\")","v":""},{"$f":"IF(VALUE(MID(I$2,5,2))<=$D62,OFFSET('CCG-Prov(Acute)'!$B$1,MATCH($A62,'CCG-Prov(Acute)'!$A$2:$A$29012,0)+VALUE(RIGHT(I$2,1))-1,0),\"\")","v":""},{"$f":"IF(VALUE(MID(J$2,5,2))<=$D62,OFFSET('CCG-Prov(Acute)'!$B$1,MATCH($A62,'CCG-Prov(Acute)'!$A$2:$A$29012,0)+VALUE(RIGHT(J$2,1))-1,0),\"\")","v":""},{"$f":"IF(VALUE(MID(K$2,5,2))<=$D62,OFFSET('CCG-Prov(Acute)'!$B$1,MATCH($A62,'CCG-Prov(Acute)'!$A$2:$A$29012,0)+VALUE(RIGHT(K$2,1))-1,0),\"\")","v":""},{"$f":"IF(VALUE(MID(L$2,5,2))<=$D62,OFFSET('CCG-Prov(Acute)'!$B$1,MATCH($A62,'CCG-Prov(Acute)'!$A$2:$A$29012,0)+VALUE(RIGHT(L$2,1))-1,0),\"\")","v":""},{"$f":"IF(VALUE(MID(M$2,5,2))<=$D62,OFFSET('CCG-Prov(Acute)'!$B$1,MATCH($A62,'CCG-Prov(Acute)'!$A$2:$A$29012,0)+VALUE(RIGHT(M$2,1))-1,0),\"\")","v":""},{"$f":"IF(VALUE(MID(N$2,5,2))<=$D62,OFFSET('CCG-Prov(Acute)'!$B$1,MATCH($A62,'CCG-Prov(Acute)'!$A$2:$A$29012,0)+VALUE(RIGHT(N$2,1))-1,0),\"\")","v":""},null,null,"5QE",{"$f":"VLOOKUP(Q62,provnames!$A$2:$B$331,2,0)","v":"Oxfordshire PCT"},{"$f":"SUM(IF(('CCG-Prov(Acute)'!$B$2:$B$28899=Q62),1,0))","v":11},null,{"$f":"SUM(IF(('CCG-Prov(Amb)'!$A$2:$A$335=A62),1,0))","v":1},{"$f":"SUM(IF(('CCG-Prov(Amb)'!$A$2:$A$335=A62)*('CCG-Prov(Amb)'!$C$2:$C$335>=Ambulance!$B$7),1,0))","v":1},{"$f":"IF(VALUE(MID(W$2,5,2))<=$V62,OFFSET('CCG-Prov(Amb)'!$B$1,MATCH($A62,'CCG-Prov(Amb)'!$A$2:$A$335,0)+VALUE(RIGHT(W$2,1))-1,0),\"\")","v":"RX7"},{"$f":"IF(VALUE(MID(X$2,5,2))<=$V62,OFFSET('CCG-Prov(Amb)'!$B$1,MATCH($A62,'CCG-Prov(Amb)'!$A$2:$A$335,0)+VALUE(RIGHT(X$2,1))-1,0),\"\")","v":""},{"$f":"IF(VALUE(MID(Y$2,5,2))<=$V62,OFFSET('CCG-Prov(Amb)'!$B$1,MATCH($A62,'CCG-Prov(Amb)'!$A$2:$A$335,0)+VALUE(RIGHT(Y$2,1))-1,0),\"\")","v":""},{"$f":"IF(VALUE(MID(Z$2,5,2))<=$V62,OFFSET('CCG-Prov(Amb)'!$B$1,MATCH($A62,'CCG-Prov(Amb)'!$A$2:$A$335,0)+VALUE(RIGHT(Z$2,1))-1,0),\"\")","v":""},{"$f":"IF(VALUE(MID(AA$2,5,2))<=$V62,OFFSET('CCG-Prov(Amb)'!$B$1,MATCH($A62,'CCG-Prov(Amb)'!$A$2:$A$335,0)+VALUE(RIGHT(AA$2,1))-1,0),\"\")","v":""},null,null,null,null,null,{"$f":"SUM(IF(('CCG-Prov(Births)'!$A$2:$A$6150=A62),1,0))","v":17},{"$f":"SUM(IF(('CCG-Prov(Births)'!$A$2:$A$6150=A62)*('CCG-Prov(Births)'!$C$2:$C$6150>=Maternity!$B$7),1,0))","v":2},{"$f":"IF(VALUE(MID(AI$2,5,2))<=$V62,OFFSET('CCG-Prov(Births)'!$B$1,MATCH($A62,'CCG-Prov(Births)'!$A$2:$A$6150,0)+VALUE(RIGHT(AI$2,1))-1,0),\"\")","v":"RXL"},{"$f":"IF(VALUE(MID(AJ$2,5,2))<=$V62,OFFSET('CCG-Prov(Births)'!$B$1,MATCH($A62,'CCG-Prov(Births)'!$A$2:$A$6150,0)+VALUE(RIGHT(AJ$2,1))-1,0),\"\")","v":""},{"$f":"IF(VALUE(MID(AK$2,5,2))<=$V62,OFFSET('CCG-Prov(Births)'!$B$1,MATCH($A62,'CCG-Prov(Births)'!$A$2:$A$6150,0)+VALUE(RIGHT(AK$2,1))-1,0),\"\")","v":""},{"$f":"IF(VALUE(MID(AL$2,5,2))<=$V62,OFFSET('CCG-Prov(Births)'!$B$1,MATCH($A62,'CCG-Prov(Births)'!$A$2:$A$6150,0)+VALUE(RIGHT(AL$2,1))-1,0),\"\")","v":""},{"$f":"IF(VALUE(MID(AM$2,5,2))<=$V62,OFFSET('CCG-Prov(Births)'!$B$1,MATCH($A62,'CCG-Prov(Births)'!$A$2:$A$6150,0)+VALUE(RIGHT(AM$2,1))-1,0),\"\")","v":""},null,"RHW",{"$f":"VLOOKUP(AO62,provnames!$A$2:$B$331,2,0)","v":"Royal Berkshire NHS FT"},{"$f":"SUM(IF(('CCG-Prov(Births)'!$B$2:$B$6150=AO62),1,0))","v":43}]
["00F","Gateshead",{"$f":"SUM(IF(('CCG-Prov(Acute)'!$A$2:$A$29012=A63),1,0))","v":107},{"$f":"SUM(IF(('CCG-Prov(Acute)'!$A$2:$A$29012=A63)*('CCG-Prov(Acute)'!$C$2:$C$29012>=Acute!$B$7),1,0))","v":5},{"$f":"IF(VALUE(MID(E$2,5,2))<=$D63,OFFSET('CCG-Prov(Acute)'!$B$1,MATCH($A63,'CCG-Prov(Acute)'!$A$2:$A$29012,0)+VALUE(RIGHT(E$2,1))-1,0),\"\")","v":"RR7"},{"$f":"IF(VALUE(MID(F$2,5,2))<=$D63,OFFSET('CCG-Prov(Acute)'!$B$1,MATCH($A63,'CCG-Prov(Acute)'!$A$2:$A$29012,0)+VALUE(RIGHT(F$2,1))-1,0),\"\")","v":"RTD"},{"$f":"IF(VALUE(MID(G$2,5,2))<=$D63,OFFSET('CCG-Prov(Acute)'!$B$1,MATCH($A63,'CCG-Prov(Acute)'!$A$2:$A$29012,0)+VALUE(RIGHT(G$2,1))-1,0),\"\")","v":"RLN"},{"$f":"IF(VALUE(MID(H$2,5,2))<=$D63,OFFSET('CCG-Prov(Acute)'!$B$1,MATCH($A63,'CCG-Prov(Acute)'!$A$2:$A$29012,0)+VALUE(RIGHT(H$2,1))-1,0),\"\")","v":"RXP"},{"$f":"IF(VALUE(MID(I$2,5,2))<=$D63,OFFSET('CCG-Prov(Acute)'!$B$1,MATCH($A63,'CCG-Prov(Acute)'!$A$2:$A$29012,0)+VALUE(RIGHT(I$2,1))-1,0),\"\")","v":"RTF"},{"$f":"IF(VALUE(MID(J$2,5,2))<=$D63,OFFSET('CCG-Prov(Acute)'!$B$1,MATCH($A63,'CCG-Prov(Acute)'!$A$2:$A$29012,0)+VALUE(RIGHT(J$2,1))-1,0),\"\")","v":""},{"$f":"IF(VALUE(MID(K$2,5,2))<=$D63,OFFSET('CCG-Prov(Acute)'!$B$1,MATCH($A63,'CCG-Prov(Acute)'!$A$2:$A$29012,0)+VALUE(RIGHT(K$2,1))-1,0),\"\")","v":""},{"$f":"IF(VALUE(MID(L$2,5,2))<=$D63,OFFSET('CCG-Prov(Acute)'!$B$1,MATCH($A63,'CCG-Prov(Acute)'!$A$2:$A$29012,0)+VALUE(RIGHT(L$2,1))-1,0),\"\")","v":""},{"$f":"IF(VALUE(MID(M$2,5,2))<=$D63,OFFSET('CCG-Prov(Acute)'!$B$1,MATCH($A63,'CCG-Prov(Acute)'!$A$2:$A$29012,0)+VALUE(RIGHT(M$2,1))-1,0),\"\")","v":""},{"$f":"IF(VALUE(MID(N$2,5,2))<=$D63,OFFSET('CCG-Prov(Acute)'!$B$1,MATCH($A63,'CCG-Prov(Acute)'!$A$2:$A$29012,0)+VALUE(RIGHT(N$2,1))-1,0),\"\")","v":""},null,null,"5QF",{"$f":"VLOOKUP(Q63,provnames!$A$2:$B$331,2,0)","v":"Berkshire West PCT"},{"$f":"SUM(IF(('CCG-Prov(Acute)'!$B$2:$B$28899=Q63),1,0))","v":12},null,{"$f":"SUM(IF(('CCG-Prov(Amb)'!$A$2:$A$335=A63),1,0))","v":1},{"$f":"SUM(IF(('CCG-Prov(Amb)'!$A$2:$A$335=A63)*('CCG-Prov(Amb)'!$C$2:$C$335>=Ambulance!$B$7),1,0))","v":1},{"$f":"IF(VALUE(MID(W$2,5,2))<=$V63,OFFSET('CCG-Prov(Amb)'!$B$1,MATCH($A63,'CCG-Prov(Amb)'!$A$2:$A$335,0)+VALUE(RIGHT(W$2,1))-1,0),\"\")","v":"RX6"},{"$f":"IF(VALUE(MID(X$2,5,2))<=$V63,OFFSET('CCG-Prov(Amb)'!$B$1,MATCH($A63,'CCG-Prov(Amb)'!$A$2:$A$335,0)+VALUE(RIGHT(X$2,1))-1,0),\"\")","v":""},{"$f":"IF(VALUE(MID(Y$2,5,2))<=$V63,OFFSET('CCG-Prov(Amb)'!$B$1,MATCH($A63,'CCG-Prov(Amb)'!$A$2:$A$335,0)+VALUE(RIGHT(Y$2,1))-1,0),\"\")","v":""},{"$f":"IF(VALUE(MID(Z$2,5,2))<=$V63,OFFSET('CCG-Prov(Amb)'!$B$1,MATCH($A63,'CCG-Prov(Amb)'!$A$2:$A$335,0)+VALUE(RIGHT(Z$2,1))-1,0),\"\")","v":""},{"$f":"IF(VALUE(MID(AA$2,5,2))<=$V63,OFFSET('CCG-Prov(Amb)'!$B$1,MATCH($A63,'CCG-Prov(Amb)'!$A$2:$A$335,0)+VALUE(RIGHT(AA$2,1))-1,0),\"\")","v":""},null,null,null,null,null,{"$f":"SUM(IF(('CCG-Prov(Births)'!$A$2:$A$6150=A63),1,0))","v":17},{"$f":"SUM(IF(('CCG-Prov(Births)'!$A$2:$A$6150=A63)*('CCG-Prov(Births)'!$C$2:$C$6150>=Maternity!$B$7),1,0))","v":2},{"$f":"IF(VALUE(MID(AI$2,5,2))<=$V63,OFFSET('CCG-Prov(Births)'!$B$1,MATCH($A63,'CCG-Prov(Births)'!$A$2:$A$6150,0)+VALUE(RIGHT(AI$2,1))-1,0),\"\")","v":"RR7"},{"$f":"IF(VALUE(MID(AJ$2,5,2))<=$V63,OFFSET('CCG-Prov(Births)'!$B$1,MATCH($A63,'CCG-Prov(Births)'!$A$2:$A$6150,0)+VALUE(RIGHT(AJ$2,1))-1,0),\"\")","v":""},{"$f":"IF(VALUE(MID(AK$2,5,2))<=$V63,OFFSET('CCG-Prov(Births)'!$B$1,MATCH($A63,'CCG-Prov(Births)'!$A$2:$A$6150,0)+VALUE(RIGHT(AK$2,1))-1,0),\"\")","v":""},{"$f":"IF(VALUE(MID(AL$2,5,2))<=$V63,OFFSET('CCG-Prov(Births)'!$B$1,MATCH($A63,'CCG-Prov(Births)'!$A$2:$A$6150,0)+VALUE(RIGHT(AL$2,1))-1,0),\"\")","v":""},{"$f":"IF(VALUE(MID(AM$2,5,2))<=$V63,OFFSET('CCG-Prov(Births)'!$B$1,MATCH($A63,'CCG-Prov(Births)'!$A$2:$A$6150,0)+VALUE(RIGHT(AM$2,1))-1,0),\"\")","v":""},null,"RJ1",{"$f":"VLOOKUP(AO63,provnames!$A$2:$B$331,2,0)","v":"Guy's & St Thomas' NHS FT"},{"$f":"SUM(IF(('CCG-Prov(Births)'!$B$2:$B$6150=AO63),1,0))","v":94}]
["11M","Gloucestershire",{"$f":"SUM(IF(('CCG-Prov(Acute)'!$A$2:$A$29012=A64),1,0))","v":179},{"$f":"SUM(IF(('CCG-Prov(Acute)'!$A$2:$A$29012=A64)*('CCG-Prov(Acute)'!$C$2:$C$29012>=Acute!$B$7),1,0))","v":8},{"$f":"IF(VALUE(MID(E$2,5,2))<=$D64,OFFSET('CCG-Prov(Acute)'!$B$1,MATCH($A64,'CCG-Prov(Acute)'!$A$2:$A$29012,0)+VALUE(RIGHT(E$2,1))-1,0),\"\")","v":"RTE"},{"$f":"IF(VALUE(MID(F$2,5,2))<=$D64,OFFSET('CCG-Prov(Acute)'!$B$1,MATCH($A64,'CCG-Prov(Acute)'!$A$2:$A$29012,0)+VALUE(RIGHT(F$2,1))-1,0),\"\")","v":"5QH"},{"$f":"IF(VALUE(MID(G$2,5,2))<=$D64,OFFSET('CCG-Prov(Acute)'!$B$1,MATCH($A64,'CCG-Prov(Acute)'!$A$2:$A$29012,0)+VALUE(RIGHT(G$2,1))-1,0),\"\")","v":"RVJ"},{"$f":"IF(VALUE(MID(H$2,5,2))<=$D64,OFFSET('CCG-Prov(Acute)'!$B$1,MATCH($A64,'CCG-Prov(Acute)'!$A$2:$A$29012,0)+VALUE(RIGHT(H$2,1))-1,0),\"\")","v":"RN3"},{"$f":"IF(VALUE(MID(I$2,5,2))<=$D64,OFFSET('CCG-Prov(Acute)'!$B$1,MATCH($A64,'CCG-Prov(Acute)'!$A$2:$A$29012,0)+VALUE(RIGHT(I$2,1))-1,0),\"\")","v":"NVC"},{"$f":"IF(VALUE(MID(J$2,5,2))<=$D64,OFFSET('CCG-Prov(Acute)'!$B$1,MATCH($A64,'CCG-Prov(Acute)'!$A$2:$A$29012,0)+VALUE(RIGHT(J$2,1))-1,0),\"\")","v":"RA7"},{"$f":"IF(VALUE(MID(K$2,5,2))<=$D64,OFFSET('CCG-Prov(Acute)'!$B$1,MATCH($A64,'CCG-Prov(Acute)'!$A$2:$A$29012,0)+VALUE(RIGHT(K$2,1))-1,0),\"\")","v":"RTH"},{"$f":"IF(VALUE(MID(L$2,5,2))<=$D64,OFFSET('CCG-Prov(Acute)'!$B$1,MATCH($A64,'CCG-Prov(Acute)'!$A$2:$A$29012,0)+VALUE(RIGHT(L$2,1))-1,0),\"\")","v":"NTC"},{"$f":"IF(VALUE(MID(M$2,5,2))<=$D64,OFFSET('CCG-Prov(Acute)'!$B$1,MATCH($A64,'CCG-Prov(Acute)'!$A$2:$A$29012,0)+VALUE(RIGHT(M$2,1))-1,0),\"\")","v":""},{"$f":"IF(VALUE(MID(N$2,5,2))<=$D64,OFFSET('CCG-Prov(Acute)'!$B$1,MATCH($A64,'CCG-Prov(Acute)'!$A$2:$A$29012,0)+VALUE(RIGHT(N$2,1))-1,0),\"\")","v":""},null,null,"5QG",{"$f":"VLOOKUP(Q64,provnames!$A$2:$B$331,2,0)","v":"Berkshire East PCT"},{"$f":"SUM(IF(('CCG-Prov(Acute)'!$B$2:$B$28899=Q64),1,0))","v":10},null,{"$f":"SUM(IF(('CCG-Prov(Amb)'!$A$2:$A$335=A64),1,0))","v":3},{"$f":"SUM(IF(('CCG-Prov(Amb)'!$A$2:$A$335=A64)*('CCG-Prov(Amb)'!$C$2:$C$335>=Ambulance!$B$7),1,0))","v":3},{"$f":"IF(VALUE(MID(W$2,5,2))<=$V64,OFFSET('CCG-Prov(Amb)'!$B$1,MATCH($A64,'CCG-Prov(Amb)'!$A$2:$A$335,0)+VALUE(RIGHT(W$2,1))-1,0),\"\")","v":"RX5"},{"$f":"IF(VALUE(MID(X$2,5,2))<=$V64,OFFSET('CCG-Prov(Amb)'!$B$1,MATCH($A64,'CCG-Prov(Amb)'!$A$2:$A$335,0)+VALUE(RIGHT(X$2,1))-1,0),\"\")","v":"RYA"},{"$f":"IF(VALUE(MID(Y$2,5,2))<=$V64,OFFSET('CCG-Prov(Amb)'!$B$1,MATCH($A64,'CCG-Prov(Amb)'!$A$2:$A$335,0)+VALUE(RIGHT(Y$2,1))-1,0),\"\")","v":"RYE"},{"$f":"IF(VALUE(MID(Z$2,5,2))<=$V64,OFFSET('CCG-Prov(Amb)'!$B$1,MATCH($A64,'CCG-Prov(Amb)'!$A$2:$A$335,0)+VALUE(RIGHT(Z$2,1))-1,0),\"\")","v":""},{"$f":"IF(VALUE(MID(AA$2,5,2))<=$V64,OFFSET('CCG-Prov(Amb)'!$B$1,MATCH($A64,'CCG-Prov(Amb)'!$A$2:$A$335,0)+VALUE(RIGHT(AA$2,1))-1,0),\"\")","v":""},null,null,null,null,null,{"$f":"SUM(IF(('CCG-Prov(Births)'!$A$2:$A$6150=A64),1,0))","v":50},{"$f":"SUM(IF(('CCG-Prov(Births)'!$A$2:$A$6150=A64)*('CCG-Prov(Births)'!$C$2:$C$6150>=Maternity!$B$7),1,0))","v":5},{"$f":"IF(VALUE(MID(AI$2,5,2))<=$V64,OFFSET('CCG-Prov(Births)'!$B$1,MATCH($A64,'CCG-Prov(Births)'!$A$2:$A$6150,0)+VALUE(RIGHT(AI$2,1))-1,0),\"\")","v":"RTE"},{"$f":"IF(VALUE(MID(AJ$2,5,2))<=$V64,OFFSET('CCG-Prov(Births)'!$B$1,MATCH($A64,'CCG-Prov(Births)'!$A$2:$A$6150,0)+VALUE(RIGHT(AJ$2,1))-1,0),\"\")","v":"5QH"},{"$f":"IF(VALUE(MID(AK$2,5,2))<=$V64,OFFSET('CCG-Prov(Births)'!$B$1,MATCH($A64,'CCG-Prov(Births)'!$A$2:$A$6150,0)+VALUE(RIGHT(AK$2,1))-1,0),\"\")","v":"RN3"},{"$f":"IF(VALUE(MID(AL$2,5,2))<=$V64,OFFSET('CCG-Prov(Births)'!$B$1,MATCH($A64,'CCG-Prov(Births)'!$A$2:$A$6150,0)+VALUE(RIGHT(AL$2,1))-1,0),\"\")","v":""},{"$f":"IF(VALUE(MID(AM$2,5,2))<=$V64,OFFSET('CCG-Prov(Births)'!$B$1,MATCH($A64,'CCG-Prov(Births)'!$A$2:$A$6150,0)+VALUE(RIGHT(AM$2,1))-1,0),\"\")","v":""},null,"RJ2",{"$f":"VLOOKUP(AO64,provnames!$A$2:$B$331,2,0)","v":"Lewisham Healthcare NHS Trust"},{"$f":"SUM(IF(('CCG-Prov(Births)'!$B$2:$B$6150=AO64),1,0))","v":64}]
["06M","Great Yarmouth & Waveney",{"$f":"SUM(IF(('CCG-Prov(Acute)'!$A$2:$A$29012=A65),1,0))","v":136},{"$f":"SUM(IF(('CCG-Prov(Acute)'!$A$2:$A$29012=A65)*('CCG-Prov(Acute)'!$C$2:$C$29012>=Acute!$B$7),1,0))","v":2},{"$f":"IF(VALUE(MID(E$2,5,2))<=$D65,OFFSET('CCG-Prov(Acute)'!$B$1,MATCH($A65,'CCG-Prov(Acute)'!$A$2:$A$29012,0)+VALUE(RIGHT(E$2,1))-1,0),\"\")","v":"RGP"},{"$f":"IF(VALUE(MID(F$2,5,2))<=$D65,OFFSET('CCG-Prov(Acute)'!$B$1,MATCH($A65,'CCG-Prov(Acute)'!$A$2:$A$29012,0)+VALUE(RIGHT(F$2,1))-1,0),\"\")","v":"RM1"},{"$f":"IF(VALUE(MID(G$2,5,2))<=$D65,OFFSET('CCG-Prov(Acute)'!$B$1,MATCH($A65,'CCG-Prov(Acute)'!$A$2:$A$29012,0)+VALUE(RIGHT(G$2,1))-1,0),\"\")","v":""},{"$f":"IF(VALUE(MID(H$2,5,2))<=$D65,OFFSET('CCG-Prov(Acute)'!$B$1,MATCH($A65,'CCG-Prov(Acute)'!$A$2:$A$29012,0)+VALUE(RIGHT(H$2,1))-1,0),\"\")","v":""},{"$f":"IF(VALUE(MID(I$2,5,2))<=$D65,OFFSET('CCG-Prov(Acute)'!$B$1,MATCH($A65,'CCG-Prov(Acute)'!$A$2:$A$29012,0)+VALUE(RIGHT(I$2,1))-1,0),\"\")","v":""},{"$f":"IF(VALUE(MID(J$2,5,2))<=$D65,OFFSET('CCG-Prov(Acute)'!$B$1,MATCH($A65,'CCG-Prov(Acute)'!$A$2:$A$29012,0)+VALUE(RIGHT(J$2,1))-1,0),\"\")","v":""},{"$f":"IF(VALUE(MID(K$2,5,2))<=$D65,OFFSET('CCG-Prov(Acute)'!$B$1,MATCH($A65,'CCG-Prov(Acute)'!$A$2:$A$29012,0)+VALUE(RIGHT(K$2,1))-1,0),\"\")","v":""},{"$f":"IF(VALUE(MID(L$2,5,2))<=$D65,OFFSET('CCG-Prov(Acute)'!$B$1,MATCH($A65,'CCG-Prov(Acute)'!$A$2:$A$29012,0)+VALUE(RIGHT(L$2,1))-1,0),\"\")","v":""},{"$f":"IF(VALUE(MID(M$2,5,2))<=$D65,OFFSET('CCG-Prov(Acute)'!$B$1,MATCH($A65,'CCG-Prov(Acute)'!$A$2:$A$29012,0)+VALUE(RIGHT(M$2,1))-1,0),\"\")","v":""},{"$f":"IF(VALUE(MID(N$2,5,2))<=$D65,OFFSET('CCG-Prov(Acute)'!$B$1,MATCH($A65,'CCG-Prov(Acute)'!$A$2:$A$29012,0)+VALUE(RIGHT(N$2,1))-1,0),\"\")","v":""},null,null,"5QH",{"$f":"VLOOKUP(Q65,provnames!$A$2:$B$331,2,0)","v":"Gloucestershire PCT"},{"$f":"SUM(IF(('CCG-Prov(Acute)'!$B$2:$B$28899=Q65),1,0))","v":40},null,{"$f":"SUM(IF(('CCG-Prov(Amb)'!$A$2:$A$335=A65),1,0))","v":1},{"$f":"SUM(IF(('CCG-Prov(Amb)'!$A$2:$A$335=A65)*('CCG-Prov(Amb)'!$C$2:$C$335>=Ambulance!$B$7),1,0))","v":1},{"$f":"IF(VALUE(MID(W$2,5,2))<=$V65,OFFSET('CCG-Prov(Amb)'!$B$1,MATCH($A65,'CCG-Prov(Amb)'!$A$2:$A$335,0)+VALUE(RIGHT(W$2,1))-1,0),\"\")","v":"RYC"},{"$f":"IF(VALUE(MID(X$2,5,2))<=$V65,OFFSET('CCG-Prov(Amb)'!$B$1,MATCH($A65,'CCG-Prov(Amb)'!$A$2:$A$335,0)+VALUE(RIGHT(X$2,1))-1,0),\"\")","v":""},{"$f":"IF(VALUE(MID(Y$2,5,2))<=$V65,OFFSET('CCG-Prov(Amb)'!$B$1,MATCH($A65,'CCG-Prov(Amb)'!$A$2:$A$335,0)+VALUE(RIGHT(Y$2,1))-1,0),\"\")","v":""},{"$f":"IF(VALUE(MID(Z$2,5,2))<=$V65,OFFSET('CCG-Prov(Amb)'!$B$1,MATCH($A65,'CCG-Prov(Amb)'!$A$2:$A$335,0)+VALUE(RIGHT(Z$2,1))-1,0),\"\")","v":""},{"$f":"IF(VALUE(MID(AA$2,5,2))<=$V65,OFFSET('CCG-Prov(Amb)'!$B$1,MATCH($A65,'CCG-Prov(Amb)'!$A$2:$A$335,0)+VALUE(RIGHT(AA$2,1))-1,0),\"\")","v":""},null,null,null,null,null,{"$f":"SUM(IF(('CCG-Prov(Births)'!$A$2:$A$6150=A65),1,0))","v":25},{"$f":"SUM(IF(('CCG-Prov(Births)'!$A$2:$A$6150=A65)*('CCG-Prov(Births)'!$C$2:$C$6150>=Maternity!$B$7),1,0))","v":2},{"$f":"IF(VALUE(MID(AI$2,5,2))<=$V65,OFFSET('CCG-Prov(Births)'!$B$1,MATCH($A65,'CCG-Prov(Births)'!$A$2:$A$6150,0)+VALUE(RIGHT(AI$2,1))-1,0),\"\")","v":"RGP"},{"$f":"IF(VALUE(MID(AJ$2,5,2))<=$V65,OFFSET('CCG-Prov(Births)'!$B$1,MATCH($A65,'CCG-Prov(Births)'!$A$2:$A$6150,0)+VALUE(RIGHT(AJ$2,1))-1,0),\"\")","v":""},{"$f":"IF(VALUE(MID(AK$2,5,2))<=$V65,OFFSET('CCG-Prov(Births)'!$B$1,MATCH($A65,'CCG-Prov(Births)'!$A$2:$A$6150,0)+VALUE(RIGHT(AK$2,1))-1,0),\"\")","v":""},{"$f":"IF(VALUE(MID(AL$2,5,2))<=$V65,OFFSET('CCG-Prov(Births)'!$B$1,MATCH($A65,'CCG-Prov(Births)'!$A$2:$A$6150,0)+VALUE(RIGHT(AL$2,1))-1,0),\"\")","v":""},{"$f":"IF(VALUE(MID(AM$2,5,2))<=$V65,OFFSET('CCG-Prov(Births)'!$B$1,MATCH($A65,'CCG-Prov(Births)'!$A$2:$A$6150,0)+VALUE(RIGHT(AM$2,1))-1,0),\"\")","v":""},null,"RJ6",{"$f":"VLOOKUP(AO65,provnames!$A$2:$B$331,2,0)","v":"Croydon Health Services NHS Trust"},{"$f":"SUM(IF(('CCG-Prov(Births)'!$B$2:$B$6150=AO65),1,0))","v":63}]
["03A","Greater Huddersfield",{"$f":"SUM(IF(('CCG-Prov(Acute)'!$A$2:$A$29012=A66),1,0))","v":153},{"$f":"SUM(IF(('CCG-Prov(Acute)'!$A$2:$A$29012=A66)*('CCG-Prov(Acute)'!$C$2:$C$29012>=Acute!$B$7),1,0))","v":6},{"$f":"IF(VALUE(MID(E$2,5,2))<=$D66,OFFSET('CCG-Prov(Acute)'!$B$1,MATCH($A66,'CCG-Prov(Acute)'!$A$2:$A$29012,0)+VALUE(RIGHT(E$2,1))-1,0),\"\")","v":"RWY"},{"$f":"IF(VALUE(MID(F$2,5,2))<=$D66,OFFSET('CCG-Prov(Acute)'!$B$1,MATCH($A66,'CCG-Prov(Acute)'!$A$2:$A$29012,0)+VALUE(RIGHT(F$2,1))-1,0),\"\")","v":"RR8"},{"$f":"IF(VALUE(MID(G$2,5,2))<=$D66,OFFSET('CCG-Prov(Acute)'!$B$1,MATCH($A66,'CCG-Prov(Acute)'!$A$2:$A$29012,0)+VALUE(RIGHT(G$2,1))-1,0),\"\")","v":"RAE"},{"$f":"IF(VALUE(MID(H$2,5,2))<=$D66,OFFSET('CCG-Prov(Acute)'!$B$1,MATCH($A66,'CCG-Prov(Acute)'!$A$2:$A$29012,0)+VALUE(RIGHT(H$2,1))-1,0),\"\")","v":"RFF"},{"$f":"IF(VALUE(MID(I$2,5,2))<=$D66,OFFSET('CCG-Prov(Acute)'!$B$1,MATCH($A66,'CCG-Prov(Acute)'!$A$2:$A$29012,0)+VALUE(RIGHT(I$2,1))-1,0),\"\")","v":"RXF"},{"$f":"IF(VALUE(MID(J$2,5,2))<=$D66,OFFSET('CCG-Prov(Acute)'!$B$1,MATCH($A66,'CCG-Prov(Acute)'!$A$2:$A$29012,0)+VALUE(RIGHT(J$2,1))-1,0),\"\")","v":"NT4"},{"$f":"IF(VALUE(MID(K$2,5,2))<=$D66,OFFSET('CCG-Prov(Acute)'!$B$1,MATCH($A66,'CCG-Prov(Acute)'!$A$2:$A$29012,0)+VALUE(RIGHT(K$2,1))-1,0),\"\")","v":""},{"$f":"IF(VALUE(MID(L$2,5,2))<=$D66,OFFSET('CCG-Prov(Acute)'!$B$1,MATCH($A66,'CCG-Prov(Acute)'!$A$2:$A$29012,0)+VALUE(RIGHT(L$2,1))-1,0),\"\")","v":""},{"$f":"IF(VALUE(MID(M$2,5,2))<=$D66,OFFSET('CCG-Prov(Acute)'!$B$1,MATCH($A66,'CCG-Prov(Acute)'!$A$2:$A$29012,0)+VALUE(RIGHT(M$2,1))-1,0),\"\")","v":""},{"$f":"IF(VALUE(MID(N$2,5,2))<=$D66,OFFSET('CCG-Prov(Acute)'!$B$1,MATCH($A66,'CCG-Prov(Acute)'!$A$2:$A$29012,0)+VALUE(RIGHT(N$2,1))-1,0),\"\")","v":""},null,null,"5QK",{"$f":"VLOOKUP(Q66,provnames!$A$2:$B$331,2,0)","v":"Wiltshire PCT"},{"$f":"SUM(IF(('CCG-Prov(Acute)'!$B$2:$B$28899=Q66),1,0))","v":7},null,{"$f":"SUM(IF(('CCG-Prov(Amb)'!$A$2:$A$335=A66),1,0))","v":1},{"$f":"SUM(IF(('CCG-Prov(Amb)'!$A$2:$A$335=A66)*('CCG-Prov(Amb)'!$C$2:$C$335>=Ambulance!$B$7),1,0))","v":1},{"$f":"IF(VALUE(MID(W$2,5,2))<=$V66,OFFSET('CCG-Prov(Amb)'!$B$1,MATCH($A66,'CCG-Prov(Amb)'!$A$2:$A$335,0)+VALUE(RIGHT(W$2,1))-1,0),\"\")","v":"RX8"},{"$f":"IF(VALUE(MID(X$2,5,2))<=$V66,OFFSET('CCG-Prov(Amb)'!$B$1,MATCH($A66,'CCG-Prov(Amb)'!$A$2:$A$335,0)+VALUE(RIGHT(X$2,1))-1,0),\"\")","v":""},{"$f":"IF(VALUE(MID(Y$2,5,2))<=$V66,OFFSET('CCG-Prov(Amb)'!$B$1,MATCH($A66,'CCG-Prov(Amb)'!$A$2:$A$335,0)+VALUE(RIGHT(Y$2,1))-1,0),\"\")","v":""},{"$f":"IF(VALUE(MID(Z$2,5,2))<=$V66,OFFSET('CCG-Prov(Amb)'!$B$1,MATCH($A66,'CCG-Prov(Amb)'!$A$2:$A$335,0)+VALUE(RIGHT(Z$2,1))-1,0),\"\")","v":""},{"$f":"IF(VALUE(MID(AA$2,5,2))<=$V66,OFFSET('CCG-Prov(Amb)'!$B$1,MATCH($A66,'CCG-Prov(Amb)'!$A$2:$A$335,0)+VALUE(RIGHT(AA$2,1))-1,0),\"\")","v":""},null,null,null,null,null,{"$f":"SUM(IF(('CCG-Prov(Births)'!$A$2:$A$6150=A66),1,0))","v":27},{"$f":"SUM(IF(('CCG-Prov(Births)'!$A$2:$A$6150=A66)*('CCG-Prov(Births)'!$C$2:$C$6150>=Maternity!$B$7),1,0))","v":2},{"$f":"IF(VALUE(MID(AI$2,5,2))<=$V66,OFFSET('CCG-Prov(Births)'!$B$1,MATCH($A66,'CCG-Prov(Births)'!$A$2:$A$6150,0)+VALUE(RIGHT(AI$2,1))-1,0),\"\")","v":"RWY"},{"$f":"IF(VALUE(MID(AJ$2,5,2))<=$V66,OFFSET('CCG-Prov(Births)'!$B$1,MATCH($A66,'CCG-Prov(Births)'!$A$2:$A$6150,0)+VALUE(RIGHT(AJ$2,1))-1,0),\"\")","v":""},{"$f":"IF(VALUE(MID(AK$2,5,2))<=$V66,OFFSET('CCG-Prov(Births)'!$B$1,MATCH($A66,'CCG-Prov(Births)'!$A$2:$A$6150,0)+VALUE(RIGHT(AK$2,1))-1,0),\"\")","v":""},{"$f":"IF(VALUE(MID(AL$2,5,2))<=$V66,OFFSET('CCG-Prov(Births)'!$B$1,MATCH($A66,'CCG-Prov(Births)'!$A$2:$A$6150,0)+VALUE(RIGHT(AL$2,1))-1,0),\"\")","v":""},{"$f":"IF(VALUE(MID(AM$2,5,2))<=$V66,OFFSET('CCG-Prov(Births)'!$B$1,MATCH($A66,'CCG-Prov(Births)'!$A$2:$A$6150,0)+VALUE(RIGHT(AM$2,1))-1,0),\"\")","v":""},null,"RJ7",{"$f":"VLOOKUP(AO66,provnames!$A$2:$B$331,2,0)","v":"St George's Healthcare NHS Trust"},{"$f":"SUM(IF(('CCG-Prov(Births)'!$B$2:$B$6150=AO66),1,0))","v":79}]
["01E","Greater Preston",{"$f":"SUM(IF(('CCG-Prov(Acute)'!$A$2:$A$29012=A67),1,0))","v":140},{"$f":"SUM(IF(('CCG-Prov(Acute)'!$A$2:$A$29012=A67)*('CCG-Prov(Acute)'!$C$2:$C$29012>=Acute!$B$7),1,0))","v":4},{"$f":"IF(VALUE(MID(E$2,5,2))<=$D67,OFFSET('CCG-Prov(Acute)'!$B$1,MATCH($A67,'CCG-Prov(Acute)'!$A$2:$A$29012,0)+VALUE(RIGHT(E$2,1))-1,0),\"\")","v":"RXN"},{"$f":"IF(VALUE(MID(F$2,5,2))<=$D67,OFFSET('CCG-Prov(Acute)'!$B$1,MATCH($A67,'CCG-Prov(Acute)'!$A$2:$A$29012,0)+VALUE(RIGHT(F$2,1))-1,0),\"\")","v":"NVC"},{"$f":"IF(VALUE(MID(G$2,5,2))<=$D67,OFFSET('CCG-Prov(Acute)'!$B$1,MATCH($A67,'CCG-Prov(Acute)'!$A$2:$A$29012,0)+VALUE(RIGHT(G$2,1))-1,0),\"\")","v":"RXL"},{"$f":"IF(VALUE(MID(H$2,5,2))<=$D67,OFFSET('CCG-Prov(Acute)'!$B$1,MATCH($A67,'CCG-Prov(Acute)'!$A$2:$A$29012,0)+VALUE(RIGHT(H$2,1))-1,0),\"\")","v":"RW3"},{"$f":"IF(VALUE(MID(I$2,5,2))<=$D67,OFFSET('CCG-Prov(Acute)'!$B$1,MATCH($A67,'CCG-Prov(Acute)'!$A$2:$A$29012,0)+VALUE(RIGHT(I$2,1))-1,0),\"\")","v":""},{"$f":"IF(VALUE(MID(J$2,5,2))<=$D67,OFFSET('CCG-Prov(Acute)'!$B$1,MATCH($A67,'CCG-Prov(Acute)'!$A$2:$A$29012,0)+VALUE(RIGHT(J$2,1))-1,0),\"\")","v":""},{"$f":"IF(VALUE(MID(K$2,5,2))<=$D67,OFFSET('CCG-Prov(Acute)'!$B$1,MATCH($A67,'CCG-Prov(Acute)'!$A$2:$A$29012,0)+VALUE(RIGHT(K$2,1))-1,0),\"\")","v":""},{"$f":"IF(VALUE(MID(L$2,5,2))<=$D67,OFFSET('CCG-Prov(Acute)'!$B$1,MATCH($A67,'CCG-Prov(Acute)'!$A$2:$A$29012,0)+VALUE(RIGHT(L$2,1))-1,0),\"\")","v":""},{"$f":"IF(VALUE(MID(M$2,5,2))<=$D67,OFFSET('CCG-Prov(Acute)'!$B$1,MATCH($A67,'CCG-Prov(Acute)'!$A$2:$A$29012,0)+VALUE(RIGHT(M$2,1))-1,0),\"\")","v":""},{"$f":"IF(VALUE(MID(N$2,5,2))<=$D67,OFFSET('CCG-Prov(Acute)'!$B$1,MATCH($A67,'CCG-Prov(Acute)'!$A$2:$A$29012,0)+VALUE(RIGHT(N$2,1))-1,0),\"\")","v":""},null,null,"5QL",{"$f":"VLOOKUP(Q67,provnames!$A$2:$B$331,2,0)","v":"Somerset PCT"},{"$f":"SUM(IF(('CCG-Prov(Acute)'!$B$2:$B$28899=Q67),1,0))","v":17},null,{"$f":"SUM(IF(('CCG-Prov(Amb)'!$A$2:$A$335=A67),1,0))","v":1},{"$f":"SUM(IF(('CCG-Prov(Amb)'!$A$2:$A$335=A67)*('CCG-Prov(Amb)'!$C$2:$C$335>=Ambulance!$B$7),1,0))","v":1},{"$f":"IF(VALUE(MID(W$2,5,2))<=$V67,OFFSET('CCG-Prov(Amb)'!$B$1,MATCH($A67,'CCG-Prov(Amb)'!$A$2:$A$335,0)+VALUE(RIGHT(W$2,1))-1,0),\"\")","v":"RX7"},{"$f":"IF(VALUE(MID(X$2,5,2))<=$V67,OFFSET('CCG-Prov(Amb)'!$B$1,MATCH($A67,'CCG-Prov(Amb)'!$A$2:$A$335,0)+VALUE(RIGHT(X$2,1))-1,0),\"\")","v":""},{"$f":"IF(VALUE(MID(Y$2,5,2))<=$V67,OFFSET('CCG-Prov(Amb)'!$B$1,MATCH($A67,'CCG-Prov(Amb)'!$A$2:$A$335,0)+VALUE(RIGHT(Y$2,1))-1,0),\"\")","v":""},{"$f":"IF(VALUE(MID(Z$2,5,2))<=$V67,OFFSET('CCG-Prov(Amb)'!$B$1,MATCH($A67,'CCG-Prov(Amb)'!$A$2:$A$335,0)+VALUE(RIGHT(Z$2,1))-1,0),\"\")","v":""},{"$f":"IF(VALUE(MID(AA$2,5,2))<=$V67,OFFSET('CCG-Prov(Amb)'!$B$1,MATCH($A67,'CCG-Prov(Amb)'!$A$2:$A$335,0)+VALUE(RIGHT(AA$2,1))-1,0),\"\")","v":""},null,null,null,null,null,{"$f":"SUM(IF(('CCG-Prov(Births)'!$A$2:$A$6150=A67),1,0))","v":24},{"$f":"SUM(IF(('CCG-Prov(Births)'!$A$2:$A$6150=A67)*('CCG-Prov(Births)'!$C$2:$C$6150>=Maternity!$B$7),1,0))","v":1},{"$f":"IF(VALUE(MID(AI$2,5,2))<=$V67,OFFSET('CCG-Prov(Births)'!$B$1,MATCH($A67,'CCG-Prov(Births)'!$A$2:$A$6150,0)+VALUE(RIGHT(AI$2,1))-1,0),\"\")","v":"RXN"},{"$f":"IF(VALUE(MID(AJ$2,5,2))<=$V67,OFFSET('CCG-Prov(Births)'!$B$1,MATCH($A67,'CCG-Prov(Births)'!$A$2:$A$6150,0)+VALUE(RIGHT(AJ$2,1))-1,0),\"\")","v":""},{"$f":"IF(VALUE(MID(AK$2,5,2))<=$V67,OFFSET('CCG-Prov(Births)'!$B$1,MATCH($A67,'CCG-Prov(Births)'!$A$2:$A$6150,0)+VALUE(RIGHT(AK$2,1))-1,0),\"\")","v":""},{"$f":"IF(VALUE(MID(AL$2,5,2))<=$V67,OFFSET('CCG-Prov(Births)'!$B$1,MATCH($A67,'CCG-Prov(Births)'!$A$2:$A$6150,0)+VALUE(RIGHT(AL$2,1))-1,0),\"\")","v":""},{"$f":"IF(VALUE(MID(AM$2,5,2))<=$V67,OFFSET('CCG-Prov(Births)'!$B$1,MATCH($A67,'CCG-Prov(Births)'!$A$2:$A$6150,0)+VALUE(RIGHT(AM$2,1))-1,0),\"\")","v":""},null,"RJC",{"$f":"VLOOKUP(AO67,provnames!$A$2:$B$331,2,0)","v":"South Warwickshire NHS FT"},{"$f":"SUM(IF(('CCG-Prov(Births)'!$B$2:$B$6150=AO67),1,0))","v":36}]
["08A","Greenwich",{"$f":"SUM(IF(('CCG-Prov(Acute)'!$A$2:$A$29012=A68),1,0))","v":143},{"$f":"SUM(IF(('CCG-Prov(Acute)'!$A$2:$A$29012=A68)*('CCG-Prov(Acute)'!$C$2:$C$29012>=Acute!$B$7),1,0))","v":4},{"$f":"IF(VALUE(MID(E$2,5,2))<=$D68,OFFSET('CCG-Prov(Acute)'!$B$1,MATCH($A68,'CCG-Prov(Acute)'!$A$2:$A$29012,0)+VALUE(RIGHT(E$2,1))-1,0),\"\")","v":"RYQ"},{"$f":"IF(VALUE(MID(F$2,5,2))<=$D68,OFFSET('CCG-Prov(Acute)'!$B$1,MATCH($A68,'CCG-Prov(Acute)'!$A$2:$A$29012,0)+VALUE(RIGHT(F$2,1))-1,0),\"\")","v":"RJ1"},{"$f":"IF(VALUE(MID(G$2,5,2))<=$D68,OFFSET('CCG-Prov(Acute)'!$B$1,MATCH($A68,'CCG-Prov(Acute)'!$A$2:$A$29012,0)+VALUE(RIGHT(G$2,1))-1,0),\"\")","v":"RJ2"},{"$f":"IF(VALUE(MID(H$2,5,2))<=$D68,OFFSET('CCG-Prov(Acute)'!$B$1,MATCH($A68,'CCG-Prov(Acute)'!$A$2:$A$29012,0)+VALUE(RIGHT(H$2,1))-1,0),\"\")","v":"RJZ"},{"$f":"IF(VALUE(MID(I$2,5,2))<=$D68,OFFSET('CCG-Prov(Acute)'!$B$1,MATCH($A68,'CCG-Prov(Acute)'!$A$2:$A$29012,0)+VALUE(RIGHT(I$2,1))-1,0),\"\")","v":""},{"$f":"IF(VALUE(MID(J$2,5,2))<=$D68,OFFSET('CCG-Prov(Acute)'!$B$1,MATCH($A68,'CCG-Prov(Acute)'!$A$2:$A$29012,0)+VALUE(RIGHT(J$2,1))-1,0),\"\")","v":""},{"$f":"IF(VALUE(MID(K$2,5,2))<=$D68,OFFSET('CCG-Prov(Acute)'!$B$1,MATCH($A68,'CCG-Prov(Acute)'!$A$2:$A$29012,0)+VALUE(RIGHT(K$2,1))-1,0),\"\")","v":""},{"$f":"IF(VALUE(MID(L$2,5,2))<=$D68,OFFSET('CCG-Prov(Acute)'!$B$1,MATCH($A68,'CCG-Prov(Acute)'!$A$2:$A$29012,0)+VALUE(RIGHT(L$2,1))-1,0),\"\")","v":""},{"$f":"IF(VALUE(MID(M$2,5,2))<=$D68,OFFSET('CCG-Prov(Acute)'!$B$1,MATCH($A68,'CCG-Prov(Acute)'!$A$2:$A$29012,0)+VALUE(RIGHT(M$2,1))-1,0),\"\")","v":""},{"$f":"IF(VALUE(MID(N$2,5,2))<=$D68,OFFSET('CCG-Prov(Acute)'!$B$1,MATCH($A68,'CCG-Prov(Acute)'!$A$2:$A$29012,0)+VALUE(RIGHT(N$2,1))-1,0),\"\")","v":""},null,null,"5QM",{"$f":"VLOOKUP(Q68,provnames!$A$2:$B$331,2,0)","v":"Dorset PCT"},{"$f":"SUM(IF(('CCG-Prov(Acute)'!$B$2:$B$28899=Q68),1,0))","v":14},null,{"$f":"SUM(IF(('CCG-Prov(Amb)'!$A$2:$A$335=A68),1,0))","v":2},{"$f":"SUM(IF(('CCG-Prov(Amb)'!$A$2:$A$335=A68)*('CCG-Prov(Amb)'!$C$2:$C$335>=Ambulance!$B$7),1,0))","v":1},{"$f":"IF(VALUE(MID(W$2,5,2))<=$V68,OFFSET('CCG-Prov(Amb)'!$B$1,MATCH($A68,'CCG-Prov(Amb)'!$A$2:$A$335,0)+VALUE(RIGHT(W$2,1))-1,0),\"\")","v":"RRY"},{"$f":"IF(VALUE(MID(X$2,5,2))<=$V68,OFFSET('CCG-Prov(Amb)'!$B$1,MATCH($A68,'CCG-Prov(Amb)'!$A$2:$A$335,0)+VALUE(RIGHT(X$2,1))-1,0),\"\")","v":""},{"$f":"IF(VALUE(MID(Y$2,5,2))<=$V68,OFFSET('CCG-Prov(Amb)'!$B$1,MATCH($A68,'CCG-Prov(Amb)'!$A$2:$A$335,0)+VALUE(RIGHT(Y$2,1))-1,0),\"\")","v":""},{"$f":"IF(VALUE(MID(Z$2,5,2))<=$V68,OFFSET('CCG-Prov(Amb)'!$B$1,MATCH($A68,'CCG-Prov(Amb)'!$A$2:$A$335,0)+VALUE(RIGHT(Z$2,1))-1,0),\"\")","v":""},{"$f":"IF(VALUE(MID(AA$2,5,2))<=$V68,OFFSET('CCG-Prov(Amb)'!$B$1,MATCH($A68,'CCG-Prov(Amb)'!$A$2:$A$335,0)+VALUE(RIGHT(AA$2,1))-1,0),\"\")","v":""},null,null,null,null,null,{"$f":"SUM(IF(('CCG-Prov(Births)'!$A$2:$A$6150=A68),1,0))","v":44},{"$f":"SUM(IF(('CCG-Prov(Births)'!$A$2:$A$6150=A68)*('CCG-Prov(Births)'!$C$2:$C$6150>=Maternity!$B$7),1,0))","v":5},{"$f":"IF(VALUE(MID(AI$2,5,2))<=$V68,OFFSET('CCG-Prov(Births)'!$B$1,MATCH($A68,'CCG-Prov(Births)'!$A$2:$A$6150,0)+VALUE(RIGHT(AI$2,1))-1,0),\"\")","v":"RYQ"},{"$f":"IF(VALUE(MID(AJ$2,5,2))<=$V68,OFFSET('CCG-Prov(Births)'!$B$1,MATCH($A68,'CCG-Prov(Births)'!$A$2:$A$6150,0)+VALUE(RIGHT(AJ$2,1))-1,0),\"\")","v":""},{"$f":"IF(VALUE(MID(AK$2,5,2))<=$V68,OFFSET('CCG-Prov(Births)'!$B$1,MATCH($A68,'CCG-Prov(Births)'!$A$2:$A$6150,0)+VALUE(RIGHT(AK$2,1))-1,0),\"\")","v":""},{"$f":"IF(VALUE(MID(AL$2,5,2))<=$V68,OFFSET('CCG-Prov(Births)'!$B$1,MATCH($A68,'CCG-Prov(Births)'!$A$2:$A$6150,0)+VALUE(RIGHT(AL$2,1))-1,0),\"\")","v":""},{"$f":"IF(VALUE(MID(AM$2,5,2))<=$V68,OFFSET('CCG-Prov(Births)'!$B$1,MATCH($A68,'CCG-Prov(Births)'!$A$2:$A$6150,0)+VALUE(RIGHT(AM$2,1))-1,0),\"\")","v":""},null,"RJD",{"$f":"VLOOKUP(AO68,provnames!$A$2:$B$331,2,0)","v":"Mid Staffordshire NHS FT"},{"$f":"SUM(IF(('CCG-Prov(Births)'!$B$2:$B$6150=AO68),1,0))","v":23}]
["09N","Guildford & Waverley",{"$f":"SUM(IF(('CCG-Prov(Acute)'!$A$2:$A$29012=A69),1,0))","v":140},{"$f":"SUM(IF(('CCG-Prov(Acute)'!$A$2:$A$29012=A69)*('CCG-Prov(Acute)'!$C$2:$C$29012>=Acute!$B$7),1,0))","v":3},{"$f":"IF(VALUE(MID(E$2,5,2))<=$D69,OFFSET('CCG-Prov(Acute)'!$B$1,MATCH($A69,'CCG-Prov(Acute)'!$A$2:$A$29012,0)+VALUE(RIGHT(E$2,1))-1,0),\"\")","v":"RA2"},{"$f":"IF(VALUE(MID(F$2,5,2))<=$D69,OFFSET('CCG-Prov(Acute)'!$B$1,MATCH($A69,'CCG-Prov(Acute)'!$A$2:$A$29012,0)+VALUE(RIGHT(F$2,1))-1,0),\"\")","v":"RDU"},{"$f":"IF(VALUE(MID(G$2,5,2))<=$D69,OFFSET('CCG-Prov(Acute)'!$B$1,MATCH($A69,'CCG-Prov(Acute)'!$A$2:$A$29012,0)+VALUE(RIGHT(G$2,1))-1,0),\"\")","v":"RJ7"},{"$f":"IF(VALUE(MID(H$2,5,2))<=$D69,OFFSET('CCG-Prov(Acute)'!$B$1,MATCH($A69,'CCG-Prov(Acute)'!$A$2:$A$29012,0)+VALUE(RIGHT(H$2,1))-1,0),\"\")","v":""},{"$f":"IF(VALUE(MID(I$2,5,2))<=$D69,OFFSET('CCG-Prov(Acute)'!$B$1,MATCH($A69,'CCG-Prov(Acute)'!$A$2:$A$29012,0)+VALUE(RIGHT(I$2,1))-1,0),\"\")","v":""},{"$f":"IF(VALUE(MID(J$2,5,2))<=$D69,OFFSET('CCG-Prov(Acute)'!$B$1,MATCH($A69,'CCG-Prov(Acute)'!$A$2:$A$29012,0)+VALUE(RIGHT(J$2,1))-1,0),\"\")","v":""},{"$f":"IF(VALUE(MID(K$2,5,2))<=$D69,OFFSET('CCG-Prov(Acute)'!$B$1,MATCH($A69,'CCG-Prov(Acute)'!$A$2:$A$29012,0)+VALUE(RIGHT(K$2,1))-1,0),\"\")","v":""},{"$f":"IF(VALUE(MID(L$2,5,2))<=$D69,OFFSET('CCG-Prov(Acute)'!$B$1,MATCH($A69,'CCG-Prov(Acute)'!$A$2:$A$29012,0)+VALUE(RIGHT(L$2,1))-1,0),\"\")","v":""},{"$f":"IF(VALUE(MID(M$2,5,2))<=$D69,OFFSET('CCG-Prov(Acute)'!$B$1,MATCH($A69,'CCG-Prov(Acute)'!$A$2:$A$29012,0)+VALUE(RIGHT(M$2,1))-1,0),\"\")","v":""},{"$f":"IF(VALUE(MID(N$2,5,2))<=$D69,OFFSET('CCG-Prov(Acute)'!$B$1,MATCH($A69,'CCG-Prov(Acute)'!$A$2:$A$29012,0)+VALUE(RIGHT(N$2,1))-1,0),\"\")","v":""},null,null,"5QN",{"$f":"VLOOKUP(Q69,provnames!$A$2:$B$331,2,0)","v":"Bournemouth & Poole Teaching PCT"},{"$f":"SUM(IF(('CCG-Prov(Acute)'!$B$2:$B$28899=Q69),1,0))","v":3},null,{"$f":"SUM(IF(('CCG-Prov(Amb)'!$A$2:$A$335=A69),1,0))","v":2},{"$f":"SUM(IF(('CCG-Prov(Amb)'!$A$2:$A$335=A69)*('CCG-Prov(Amb)'!$C$2:$C$335>=Ambulance!$B$7),1,0))","v":2},{"$f":"IF(VALUE(MID(W$2,5,2))<=$V69,OFFSET('CCG-Prov(Amb)'!$B$1,MATCH($A69,'CCG-Prov(Amb)'!$A$2:$A$335,0)+VALUE(RIGHT(W$2,1))-1,0),\"\")","v":"RYD"},{"$f":"IF(VALUE(MID(X$2,5,2))<=$V69,OFFSET('CCG-Prov(Amb)'!$B$1,MATCH($A69,'CCG-Prov(Amb)'!$A$2:$A$335,0)+VALUE(RIGHT(X$2,1))-1,0),\"\")","v":"RYE"},{"$f":"IF(VALUE(MID(Y$2,5,2))<=$V69,OFFSET('CCG-Prov(Amb)'!$B$1,MATCH($A69,'CCG-Prov(Amb)'!$A$2:$A$335,0)+VALUE(RIGHT(Y$2,1))-1,0),\"\")","v":""},{"$f":"IF(VALUE(MID(Z$2,5,2))<=$V69,OFFSET('CCG-Prov(Amb)'!$B$1,MATCH($A69,'CCG-Prov(Amb)'!$A$2:$A$335,0)+VALUE(RIGHT(Z$2,1))-1,0),\"\")","v":""},{"$f":"IF(VALUE(MID(AA$2,5,2))<=$V69,OFFSET('CCG-Prov(Amb)'!$B$1,MATCH($A69,'CCG-Prov(Amb)'!$A$2:$A$335,0)+VALUE(RIGHT(AA$2,1))-1,0),\"\")","v":""},null,null,null,null,null,{"$f":"SUM(IF(('CCG-Prov(Births)'!$A$2:$A$6150=A69),1,0))","v":31},{"$f":"SUM(IF(('CCG-Prov(Births)'!$A$2:$A$6150=A69)*('CCG-Prov(Births)'!$C$2:$C$6150>=Maternity!$B$7),1,0))","v":1},{"$f":"IF(VALUE(MID(AI$2,5,2))<=$V69,OFFSET('CCG-Prov(Births)'!$B$1,MATCH($A69,'CCG-Prov(Births)'!$A$2:$A$6150,0)+VALUE(RIGHT(AI$2,1))-1,0),\"\")","v":"RA2"},{"$f":"IF(VALUE(MID(AJ$2,5,2))<=$V69,OFFSET('CCG-Prov(Births)'!$B$1,MATCH($A69,'CCG-Prov(Births)'!$A$2:$A$6150,0)+VALUE(RIGHT(AJ$2,1))-1,0),\"\")","v":"RTK"},{"$f":"IF(VALUE(MID(AK$2,5,2))<=$V69,OFFSET('CCG-Prov(Births)'!$B$1,MATCH($A69,'CCG-Prov(Births)'!$A$2:$A$6150,0)+VALUE(RIGHT(AK$2,1))-1,0),\"\")","v":""},{"$f":"IF(VALUE(MID(AL$2,5,2))<=$V69,OFFSET('CCG-Prov(Births)'!$B$1,MATCH($A69,'CCG-Prov(Births)'!$A$2:$A$6150,0)+VALUE(RIGHT(AL$2,1))-1,0),\"\")","v":""},{"$f":"IF(VALUE(MID(AM$2,5,2))<=$V69,OFFSET('CCG-Prov(Births)'!$B$1,MATCH($A69,'CCG-Prov(Births)'!$A$2:$A$6150,0)+VALUE(RIGHT(AM$2,1))-1,0),\"\")","v":""},null,"RJE",{"$f":"VLOOKUP(AO69,provnames!$A$2:$B$331,2,0)","v":"University Hospital of North Staffordshire NHS Trust"},{"$f":"SUM(IF(('CCG-Prov(Births)'!$B$2:$B$6150=AO69),1,0))","v":43}]
["01F","Halton",{"$f":"SUM(IF(('CCG-Prov(Acute)'!$A$2:$A$29012=A70),1,0))","v":107},{"$f":"SUM(IF(('CCG-Prov(Acute)'!$A$2:$A$29012=A70)*('CCG-Prov(Acute)'!$C$2:$C$29012>=Acute!$B$7),1,0))","v":7},{"$f":"IF(VALUE(MID(E$2,5,2))<=$D70,OFFSET('CCG-Prov(Acute)'!$B$1,MATCH($A70,'CCG-Prov(Acute)'!$A$2:$A$29012,0)+VALUE(RIGHT(E$2,1))-1,0),\"\")","v":"RWW"},{"$f":"IF(VALUE(MID(F$2,5,2))<=$D70,OFFSET('CCG-Prov(Acute)'!$B$1,MATCH($A70,'CCG-Prov(Acute)'!$A$2:$A$29012,0)+VALUE(RIGHT(F$2,1))-1,0),\"\")","v":"RBN"},{"$f":"IF(VALUE(MID(G$2,5,2))<=$D70,OFFSET('CCG-Prov(Acute)'!$B$1,MATCH($A70,'CCG-Prov(Acute)'!$A$2:$A$29012,0)+VALUE(RIGHT(G$2,1))-1,0),\"\")","v":"RBS"},{"$f":"IF(VALUE(MID(H$2,5,2))<=$D70,OFFSET('CCG-Prov(Acute)'!$B$1,MATCH($A70,'CCG-Prov(Acute)'!$A$2:$A$29012,0)+VALUE(RIGHT(H$2,1))-1,0),\"\")","v":"RQ6"},{"$f":"IF(VALUE(MID(I$2,5,2))<=$D70,OFFSET('CCG-Prov(Acute)'!$B$1,MATCH($A70,'CCG-Prov(Acute)'!$A$2:$A$29012,0)+VALUE(RIGHT(I$2,1))-1,0),\"\")","v":"NTD"},{"$f":"IF(VALUE(MID(J$2,5,2))<=$D70,OFFSET('CCG-Prov(Acute)'!$B$1,MATCH($A70,'CCG-Prov(Acute)'!$A$2:$A$29012,0)+VALUE(RIGHT(J$2,1))-1,0),\"\")","v":"REM"},{"$f":"IF(VALUE(MID(K$2,5,2))<=$D70,OFFSET('CCG-Prov(Acute)'!$B$1,MATCH($A70,'CCG-Prov(Acute)'!$A$2:$A$29012,0)+VALUE(RIGHT(K$2,1))-1,0),\"\")","v":"NT3"},{"$f":"IF(VALUE(MID(L$2,5,2))<=$D70,OFFSET('CCG-Prov(Acute)'!$B$1,MATCH($A70,'CCG-Prov(Acute)'!$A$2:$A$29012,0)+VALUE(RIGHT(L$2,1))-1,0),\"\")","v":""},{"$f":"IF(VALUE(MID(M$2,5,2))<=$D70,OFFSET('CCG-Prov(Acute)'!$B$1,MATCH($A70,'CCG-Prov(Acute)'!$A$2:$A$29012,0)+VALUE(RIGHT(M$2,1))-1,0),\"\")","v":""},{"$f":"IF(VALUE(MID(N$2,5,2))<=$D70,OFFSET('CCG-Prov(Acute)'!$B$1,MATCH($A70,'CCG-Prov(Acute)'!$A$2:$A$29012,0)+VALUE(RIGHT(N$2,1))-1,0),\"\")","v":""},null,null,"5QP",{"$f":"VLOOKUP(Q70,provnames!$A$2:$B$331,2,0)","v":"Cornwall & Isles of Scilly PCT"},{"$f":"SUM(IF(('CCG-Prov(Acute)'!$B$2:$B$28899=Q70),1,0))","v":42},null,{"$f":"SUM(IF(('CCG-Prov(Amb)'!$A$2:$A$335=A70),1,0))","v":1},{"$f":"SUM(IF(('CCG-Prov(Amb)'!$A$2:$A$335=A70)*('CCG-Prov(Amb)'!$C$2:$C$335>=Ambulance!$B$7),1,0))","v":1},{"$f":"IF(VALUE(MID(W$2,5,2))<=$V70,OFFSET('CCG-Prov(Amb)'!$B$1,MATCH($A70,'CCG-Prov(Amb)'!$A$2:$A$335,0)+VALUE(RIGHT(W$2,1))-1,0),\"\")","v":"RX7"},{"$f":"IF(VALUE(MID(X$2,5,2))<=$V70,OFFSET('CCG-Prov(Amb)'!$B$1,MATCH($A70,'CCG-Prov(Amb)'!$A$2:$A$335,0)+VALUE(RIGHT(X$2,1))-1,0),\"\")","v":""},{"$f":"IF(VALUE(MID(Y$2,5,2))<=$V70,OFFSET('CCG-Prov(Amb)'!$B$1,MATCH($A70,'CCG-Prov(Amb)'!$A$2:$A$335,0)+VALUE(RIGHT(Y$2,1))-1,0),\"\")","v":""},{"$f":"IF(VALUE(MID(Z$2,5,2))<=$V70,OFFSET('CCG-Prov(Amb)'!$B$1,MATCH($A70,'CCG-Prov(Amb)'!$A$2:$A$335,0)+VALUE(RIGHT(Z$2,1))-1,0),\"\")","v":""},{"$f":"IF(VALUE(MID(AA$2,5,2))<=$V70,OFFSET('CCG-Prov(Amb)'!$B$1,MATCH($A70,'CCG-Prov(Amb)'!$A$2:$A$335,0)+VALUE(RIGHT(AA$2,1))-1,0),\"\")","v":""},null,null,null,null,null,{"$f":"SUM(IF(('CCG-Prov(Births)'!$A$2:$A$6150=A70),1,0))","v":17},{"$f":"SUM(IF(('CCG-Prov(Births)'!$A$2:$A$6150=A70)*('CCG-Prov(Births)'!$C$2:$C$6150>=Maternity!$B$7),1,0))","v":4},{"$f":"IF(VALUE(MID(AI$2,5,2))<=$V70,OFFSET('CCG-Prov(Births)'!$B$1,MATCH($A70,'CCG-Prov(Births)'!$A$2:$A$6150,0)+VALUE(RIGHT(AI$2,1))-1,0),\"\")","v":"RBN"},{"$f":"IF(VALUE(MID(AJ$2,5,2))<=$V70,OFFSET('CCG-Prov(Births)'!$B$1,MATCH($A70,'CCG-Prov(Births)'!$A$2:$A$6150,0)+VALUE(RIGHT(AJ$2,1))-1,0),\"\")","v":""},{"$f":"IF(VALUE(MID(AK$2,5,2))<=$V70,OFFSET('CCG-Prov(Births)'!$B$1,MATCH($A70,'CCG-Prov(Births)'!$A$2:$A$6150,0)+VALUE(RIGHT(AK$2,1))-1,0),\"\")","v":""},{"$f":"IF(VALUE(MID(AL$2,5,2))<=$V70,OFFSET('CCG-Prov(Births)'!$B$1,MATCH($A70,'CCG-Prov(Births)'!$A$2:$A$6150,0)+VALUE(RIGHT(AL$2,1))-1,0),\"\")","v":""},{"$f":"IF(VALUE(MID(AM$2,5,2))<=$V70,OFFSET('CCG-Prov(Births)'!$B$1,MATCH($A70,'CCG-Prov(Births)'!$A$2:$A$6150,0)+VALUE(RIGHT(AM$2,1))-1,0),\"\")","v":""},null,"RJF",{"$f":"VLOOKUP(AO70,provnames!$A$2:$B$331,2,0)","v":"Burton Hospitals NHS FT"},{"$f":"SUM(IF(('CCG-Prov(Births)'!$B$2:$B$6150=AO70),1,0))","v":27}]
["03D","Hambleton, Richmondshire & Whitby",{"$f":"SUM(IF(('CCG-Prov(Acute)'!$A$2:$A$29012=A71),1,0))","v":117},{"$f":"SUM(IF(('CCG-Prov(Acute)'!$A$2:$A$29012=A71)*('CCG-Prov(Acute)'!$C$2:$C$29012>=Acute!$B$7),1,0))","v":4},{"$f":"IF(VALUE(MID(E$2,5,2))<=$D71,OFFSET('CCG-Prov(Acute)'!$B$1,MATCH($A71,'CCG-Prov(Acute)'!$A$2:$A$29012,0)+VALUE(RIGHT(E$2,1))-1,0),\"\")","v":"RTR"},{"$f":"IF(VALUE(MID(F$2,5,2))<=$D71,OFFSET('CCG-Prov(Acute)'!$B$1,MATCH($A71,'CCG-Prov(Acute)'!$A$2:$A$29012,0)+VALUE(RIGHT(F$2,1))-1,0),\"\")","v":"RCC"},{"$f":"IF(VALUE(MID(G$2,5,2))<=$D71,OFFSET('CCG-Prov(Acute)'!$B$1,MATCH($A71,'CCG-Prov(Acute)'!$A$2:$A$29012,0)+VALUE(RIGHT(G$2,1))-1,0),\"\")","v":"RXP"},{"$f":"IF(VALUE(MID(H$2,5,2))<=$D71,OFFSET('CCG-Prov(Acute)'!$B$1,MATCH($A71,'CCG-Prov(Acute)'!$A$2:$A$29012,0)+VALUE(RIGHT(H$2,1))-1,0),\"\")","v":"5NV"},{"$f":"IF(VALUE(MID(I$2,5,2))<=$D71,OFFSET('CCG-Prov(Acute)'!$B$1,MATCH($A71,'CCG-Prov(Acute)'!$A$2:$A$29012,0)+VALUE(RIGHT(I$2,1))-1,0),\"\")","v":""},{"$f":"IF(VALUE(MID(J$2,5,2))<=$D71,OFFSET('CCG-Prov(Acute)'!$B$1,MATCH($A71,'CCG-Prov(Acute)'!$A$2:$A$29012,0)+VALUE(RIGHT(J$2,1))-1,0),\"\")","v":""},{"$f":"IF(VALUE(MID(K$2,5,2))<=$D71,OFFSET('CCG-Prov(Acute)'!$B$1,MATCH($A71,'CCG-Prov(Acute)'!$A$2:$A$29012,0)+VALUE(RIGHT(K$2,1))-1,0),\"\")","v":""},{"$f":"IF(VALUE(MID(L$2,5,2))<=$D71,OFFSET('CCG-Prov(Acute)'!$B$1,MATCH($A71,'CCG-Prov(Acute)'!$A$2:$A$29012,0)+VALUE(RIGHT(L$2,1))-1,0),\"\")","v":""},{"$f":"IF(VALUE(MID(M$2,5,2))<=$D71,OFFSET('CCG-Prov(Acute)'!$B$1,MATCH($A71,'CCG-Prov(Acute)'!$A$2:$A$29012,0)+VALUE(RIGHT(M$2,1))-1,0),\"\")","v":""},{"$f":"IF(VALUE(MID(N$2,5,2))<=$D71,OFFSET('CCG-Prov(Acute)'!$B$1,MATCH($A71,'CCG-Prov(Acute)'!$A$2:$A$29012,0)+VALUE(RIGHT(N$2,1))-1,0),\"\")","v":""},null,null,"5QQ",{"$f":"VLOOKUP(Q71,provnames!$A$2:$B$331,2,0)","v":"Devon PCT"},{"$f":"SUM(IF(('CCG-Prov(Acute)'!$B$2:$B$28899=Q71),1,0))","v":23},null,{"$f":"SUM(IF(('CCG-Prov(Amb)'!$A$2:$A$335=A71),1,0))","v":3},{"$f":"SUM(IF(('CCG-Prov(Amb)'!$A$2:$A$335=A71)*('CCG-Prov(Amb)'!$C$2:$C$335>=Ambulance!$B$7),1,0))","v":2},{"$f":"IF(VALUE(MID(W$2,5,2))<=$V71,OFFSET('CCG-Prov(Amb)'!$B$1,MATCH($A71,'CCG-Prov(Amb)'!$A$2:$A$335,0)+VALUE(RIGHT(W$2,1))-1,0),\"\")","v":"RX8"},{"$f":"IF(VALUE(MID(X$2,5,2))<=$V71,OFFSET('CCG-Prov(Amb)'!$B$1,MATCH($A71,'CCG-Prov(Amb)'!$A$2:$A$335,0)+VALUE(RIGHT(X$2,1))-1,0),\"\")","v":"RX6"},{"$f":"IF(VALUE(MID(Y$2,5,2))<=$V71,OFFSET('CCG-Prov(Amb)'!$B$1,MATCH($A71,'CCG-Prov(Amb)'!$A$2:$A$335,0)+VALUE(RIGHT(Y$2,1))-1,0),\"\")","v":""},{"$f":"IF(VALUE(MID(Z$2,5,2))<=$V71,OFFSET('CCG-Prov(Amb)'!$B$1,MATCH($A71,'CCG-Prov(Amb)'!$A$2:$A$335,0)+VALUE(RIGHT(Z$2,1))-1,0),\"\")","v":""},{"$f":"IF(VALUE(MID(AA$2,5,2))<=$V71,OFFSET('CCG-Prov(Amb)'!$B$1,MATCH($A71,'CCG-Prov(Amb)'!$A$2:$A$335,0)+VALUE(RIGHT(AA$2,1))-1,0),\"\")","v":""},null,null,null,null,null,{"$f":"SUM(IF(('CCG-Prov(Births)'!$A$2:$A$6150=A71),1,0))","v":27},{"$f":"SUM(IF(('CCG-Prov(Births)'!$A$2:$A$6150=A71)*('CCG-Prov(Births)'!$C$2:$C$6150>=Maternity!$B$7),1,0))","v":2},{"$f":"IF(VALUE(MID(AI$2,5,2))<=$V71,OFFSET('CCG-Prov(Births)'!$B$1,MATCH($A71,'CCG-Prov(Births)'!$A$2:$A$6150,0)+VALUE(RIGHT(AI$2,1))-1,0),\"\")","v":"RTR"},{"$f":"IF(VALUE(MID(AJ$2,5,2))<=$V71,OFFSET('CCG-Prov(Births)'!$B$1,MATCH($A71,'CCG-Prov(Births)'!$A$2:$A$6150,0)+VALUE(RIGHT(AJ$2,1))-1,0),\"\")","v":"RCC"},{"$f":"IF(VALUE(MID(AK$2,5,2))<=$V71,OFFSET('CCG-Prov(Births)'!$B$1,MATCH($A71,'CCG-Prov(Births)'!$A$2:$A$6150,0)+VALUE(RIGHT(AK$2,1))-1,0),\"\")","v":""},{"$f":"IF(VALUE(MID(AL$2,5,2))<=$V71,OFFSET('CCG-Prov(Births)'!$B$1,MATCH($A71,'CCG-Prov(Births)'!$A$2:$A$6150,0)+VALUE(RIGHT(AL$2,1))-1,0),\"\")","v":""},{"$f":"IF(VALUE(MID(AM$2,5,2))<=$V71,OFFSET('CCG-Prov(Births)'!$B$1,MATCH($A71,'CCG-Prov(Births)'!$A$2:$A$6150,0)+VALUE(RIGHT(AM$2,1))-1,0),\"\")","v":""},null,"RJL",{"$f":"VLOOKUP(AO71,provnames!$A$2:$B$331,2,0)","v":"Northern Lincolnshire & Goole Hospitals NHS FT"},{"$f":"SUM(IF(('CCG-Prov(Births)'!$B$2:$B$6150=AO71),1,0))","v":40}]
["08C","Hammersmith & Fulham",{"$f":"SUM(IF(('CCG-Prov(Acute)'!$A$2:$A$29012=A72),1,0))","v":122},{"$f":"SUM(IF(('CCG-Prov(Acute)'!$A$2:$A$29012=A72)*('CCG-Prov(Acute)'!$C$2:$C$29012>=Acute!$B$7),1,0))","v":2},{"$f":"IF(VALUE(MID(E$2,5,2))<=$D72,OFFSET('CCG-Prov(Acute)'!$B$1,MATCH($A72,'CCG-Prov(Acute)'!$A$2:$A$29012,0)+VALUE(RIGHT(E$2,1))-1,0),\"\")","v":"RYJ"},{"$f":"IF(VALUE(MID(F$2,5,2))<=$D72,OFFSET('CCG-Prov(Acute)'!$B$1,MATCH($A72,'CCG-Prov(Acute)'!$A$2:$A$29012,0)+VALUE(RIGHT(F$2,1))-1,0),\"\")","v":"RQM"},{"$f":"IF(VALUE(MID(G$2,5,2))<=$D72,OFFSET('CCG-Prov(Acute)'!$B$1,MATCH($A72,'CCG-Prov(Acute)'!$A$2:$A$29012,0)+VALUE(RIGHT(G$2,1))-1,0),\"\")","v":""},{"$f":"IF(VALUE(MID(H$2,5,2))<=$D72,OFFSET('CCG-Prov(Acute)'!$B$1,MATCH($A72,'CCG-Prov(Acute)'!$A$2:$A$29012,0)+VALUE(RIGHT(H$2,1))-1,0),\"\")","v":""},{"$f":"IF(VALUE(MID(I$2,5,2))<=$D72,OFFSET('CCG-Prov(Acute)'!$B$1,MATCH($A72,'CCG-Prov(Acute)'!$A$2:$A$29012,0)+VALUE(RIGHT(I$2,1))-1,0),\"\")","v":""},{"$f":"IF(VALUE(MID(J$2,5,2))<=$D72,OFFSET('CCG-Prov(Acute)'!$B$1,MATCH($A72,'CCG-Prov(Acute)'!$A$2:$A$29012,0)+VALUE(RIGHT(J$2,1))-1,0),\"\")","v":""},{"$f":"IF(VALUE(MID(K$2,5,2))<=$D72,OFFSET('CCG-Prov(Acute)'!$B$1,MATCH($A72,'CCG-Prov(Acute)'!$A$2:$A$29012,0)+VALUE(RIGHT(K$2,1))-1,0),\"\")","v":""},{"$f":"IF(VALUE(MID(L$2,5,2))<=$D72,OFFSET('CCG-Prov(Acute)'!$B$1,MATCH($A72,'CCG-Prov(Acute)'!$A$2:$A$29012,0)+VALUE(RIGHT(L$2,1))-1,0),\"\")","v":""},{"$f":"IF(VALUE(MID(M$2,5,2))<=$D72,OFFSET('CCG-Prov(Acute)'!$B$1,MATCH($A72,'CCG-Prov(Acute)'!$A$2:$A$29012,0)+VALUE(RIGHT(M$2,1))-1,0),\"\")","v":""},{"$f":"IF(VALUE(MID(N$2,5,2))<=$D72,OFFSET('CCG-Prov(Acute)'!$B$1,MATCH($A72,'CCG-Prov(Acute)'!$A$2:$A$29012,0)+VALUE(RIGHT(N$2,1))-1,0),\"\")","v":""},null,null,"5QR",{"$f":"VLOOKUP(Q72,provnames!$A$2:$B$331,2,0)","v":"Redcar & Cleveland PCT"},{"$f":"SUM(IF(('CCG-Prov(Acute)'!$B$2:$B$28899=Q72),1,0))","v":3},null,{"$f":"SUM(IF(('CCG-Prov(Amb)'!$A$2:$A$335=A72),1,0))","v":1},{"$f":"SUM(IF(('CCG-Prov(Amb)'!$A$2:$A$335=A72)*('CCG-Prov(Amb)'!$C$2:$C$335>=Ambulance!$B$7),1,0))","v":1},{"$f":"IF(VALUE(MID(W$2,5,2))<=$V72,OFFSET('CCG-Prov(Amb)'!$B$1,MATCH($A72,'CCG-Prov(Amb)'!$A$2:$A$335,0)+VALUE(RIGHT(W$2,1))-1,0),\"\")","v":"RRY"},{"$f":"IF(VALUE(MID(X$2,5,2))<=$V72,OFFSET('CCG-Prov(Amb)'!$B$1,MATCH($A72,'CCG-Prov(Amb)'!$A$2:$A$335,0)+VALUE(RIGHT(X$2,1))-1,0),\"\")","v":""},{"$f":"IF(VALUE(MID(Y$2,5,2))<=$V72,OFFSET('CCG-Prov(Amb)'!$B$1,MATCH($A72,'CCG-Prov(Amb)'!$A$2:$A$335,0)+VALUE(RIGHT(Y$2,1))-1,0),\"\")","v":""},{"$f":"IF(VALUE(MID(Z$2,5,2))<=$V72,OFFSET('CCG-Prov(Amb)'!$B$1,MATCH($A72,'CCG-Prov(Amb)'!$A$2:$A$335,0)+VALUE(RIGHT(Z$2,1))-1,0),\"\")","v":""},{"$f":"IF(VALUE(MID(AA$2,5,2))<=$V72,OFFSET('CCG-Prov(Amb)'!$B$1,MATCH($A72,'CCG-Prov(Amb)'!$A$2:$A$335,0)+VALUE(RIGHT(AA$2,1))-1,0),\"\")","v":""},null,null,null,null,null,{"$f":"SUM(IF(('CCG-Prov(Births)'!$A$2:$A$6150=A72),1,0))","v":45},{"$f":"SUM(IF(('CCG-Prov(Births)'!$A$2:$A$6150=A72)*('CCG-Prov(Births)'!$C$2:$C$6150>=Maternity!$B$7),1,0))","v":2},{"$f":"IF(VALUE(MID(AI$2,5,2))<=$V72,OFFSET('CCG-Prov(Births)'!$B$1,MATCH($A72,'CCG-Prov(Births)'!$A$2:$A$6150,0)+VALUE(RIGHT(AI$2,1))-1,0),\"\")","v":"RYJ"},{"$f":"IF(VALUE(MID(AJ$2,5,2))<=$V72,OFFSET('CCG-Prov(Births)'!$B$1,MATCH($A72,'CCG-Prov(Births)'!$A$2:$A$6150,0)+VALUE(RIGHT(AJ$2,1))-1,0),\"\")","v":""},{"$f":"IF(VALUE(MID(AK$2,5,2))<=$V72,OFFSET('CCG-Prov(Births)'!$B$1,MATCH($A72,'CCG-Prov(Births)'!$A$2:$A$6150,0)+VALUE(RIGHT(AK$2,1))-1,0),\"\")","v":""},{"$f":"IF(VALUE(MID(AL$2,5,2))<=$V72,OFFSET('CCG-Prov(Births)'!$B$1,MATCH($A72,'CCG-Prov(Births)'!$A$2:$A$6150,0)+VALUE(RIGHT(AL$2,1))-1,0),\"\")","v":""},{"$f":"IF(VALUE(MID(AM$2,5,2))<=$V72,OFFSET('CCG-Prov(Births)'!$B$1,MATCH($A72,'CCG-Prov(Births)'!$A$2:$A$6150,0)+VALUE(RIGHT(AM$2,1))-1,0),\"\")","v":""},null,"RJN",{"$f":"VLOOKUP(AO72,provnames!$A$2:$B$331,2,0)","v":"East Cheshire NHS Trust"},{"$f":"SUM(IF(('CCG-Prov(Births)'!$B$2:$B$6150=AO72),1,0))","v":15}]
["03Y","Hardwick",{"$f":"SUM(IF(('CCG-Prov(Acute)'!$A$2:$A$29012=A73),1,0))","v":96},{"$f":"SUM(IF(('CCG-Prov(Acute)'!$A$2:$A$29012=A73)*('CCG-Prov(Acute)'!$C$2:$C$29012>=Acute!$B$7),1,0))","v":6},{"$f":"IF(VALUE(MID(E$2,5,2))<=$D73,OFFSET('CCG-Prov(Acute)'!$B$1,MATCH($A73,'CCG-Prov(Acute)'!$A$2:$A$29012,0)+VALUE(RIGHT(E$2,1))-1,0),\"\")","v":"RFS"},{"$f":"IF(VALUE(MID(F$2,5,2))<=$D73,OFFSET('CCG-Prov(Acute)'!$B$1,MATCH($A73,'CCG-Prov(Acute)'!$A$2:$A$29012,0)+VALUE(RIGHT(F$2,1))-1,0),\"\")","v":"RK5"},{"$f":"IF(VALUE(MID(G$2,5,2))<=$D73,OFFSET('CCG-Prov(Acute)'!$B$1,MATCH($A73,'CCG-Prov(Acute)'!$A$2:$A$29012,0)+VALUE(RIGHT(G$2,1))-1,0),\"\")","v":"RHQ"},{"$f":"IF(VALUE(MID(H$2,5,2))<=$D73,OFFSET('CCG-Prov(Acute)'!$B$1,MATCH($A73,'CCG-Prov(Acute)'!$A$2:$A$29012,0)+VALUE(RIGHT(H$2,1))-1,0),\"\")","v":"RP5"},{"$f":"IF(VALUE(MID(I$2,5,2))<=$D73,OFFSET('CCG-Prov(Acute)'!$B$1,MATCH($A73,'CCG-Prov(Acute)'!$A$2:$A$29012,0)+VALUE(RIGHT(I$2,1))-1,0),\"\")","v":"RTG"},{"$f":"IF(VALUE(MID(J$2,5,2))<=$D73,OFFSET('CCG-Prov(Acute)'!$B$1,MATCH($A73,'CCG-Prov(Acute)'!$A$2:$A$29012,0)+VALUE(RIGHT(J$2,1))-1,0),\"\")","v":"RX1"},{"$f":"IF(VALUE(MID(K$2,5,2))<=$D73,OFFSET('CCG-Prov(Acute)'!$B$1,MATCH($A73,'CCG-Prov(Acute)'!$A$2:$A$29012,0)+VALUE(RIGHT(K$2,1))-1,0),\"\")","v":""},{"$f":"IF(VALUE(MID(L$2,5,2))<=$D73,OFFSET('CCG-Prov(Acute)'!$B$1,MATCH($A73,'CCG-Prov(Acute)'!$A$2:$A$29012,0)+VALUE(RIGHT(L$2,1))-1,0),\"\")","v":""},{"$f":"IF(VALUE(MID(M$2,5,2))<=$D73,OFFSET('CCG-Prov(Acute)'!$B$1,MATCH($A73,'CCG-Prov(Acute)'!$A$2:$A$29012,0)+VALUE(RIGHT(M$2,1))-1,0),\"\")","v":""},{"$f":"IF(VALUE(MID(N$2,5,2))<=$D73,OFFSET('CCG-Prov(Acute)'!$B$1,MATCH($A73,'CCG-Prov(Acute)'!$A$2:$A$29012,0)+VALUE(RIGHT(N$2,1))-1,0),\"\")","v":""},null,null,"5QT",{"$f":"VLOOKUP(Q73,provnames!$A$2:$B$331,2,0)","v":"Isle of Wight NHS PCT"},{"$f":"SUM(IF(('CCG-Prov(Acute)'!$B$2:$B$28899=Q73),1,0))","v":162},null,{"$f":"SUM(IF(('CCG-Prov(Amb)'!$A$2:$A$335=A73),1,0))","v":2},{"$f":"SUM(IF(('CCG-Prov(Amb)'!$A$2:$A$335=A73)*('CCG-Prov(Amb)'!$C$2:$C$335>=Ambulance!$B$7),1,0))","v":1},{"$f":"IF(VALUE(MID(W$2,5,2))<=$V73,OFFSET('CCG-Prov(Amb)'!$B$1,MATCH($A73,'CCG-Prov(Amb)'!$A$2:$A$335,0)+VALUE(RIGHT(W$2,1))-1,0),\"\")","v":"RX9"},{"$f":"IF(VALUE(MID(X$2,5,2))<=$V73,OFFSET('CCG-Prov(Amb)'!$B$1,MATCH($A73,'CCG-Prov(Amb)'!$A$2:$A$335,0)+VALUE(RIGHT(X$2,1))-1,0),\"\")","v":""},{"$f":"IF(VALUE(MID(Y$2,5,2))<=$V73,OFFSET('CCG-Prov(Amb)'!$B$1,MATCH($A73,'CCG-Prov(Amb)'!$A$2:$A$335,0)+VALUE(RIGHT(Y$2,1))-1,0),\"\")","v":""},{"$f":"IF(VALUE(MID(Z$2,5,2))<=$V73,OFFSET('CCG-Prov(Amb)'!$B$1,MATCH($A73,'CCG-Prov(Amb)'!$A$2:$A$335,0)+VALUE(RIGHT(Z$2,1))-1,0),\"\")","v":""},{"$f":"IF(VALUE(MID(AA$2,5,2))<=$V73,OFFSET('CCG-Prov(Amb)'!$B$1,MATCH($A73,'CCG-Prov(Amb)'!$A$2:$A$335,0)+VALUE(RIGHT(AA$2,1))-1,0),\"\")","v":""},null,null,null,null,null,{"$f":"SUM(IF(('CCG-Prov(Births)'!$A$2:$A$6150=A73),1,0))","v":14},{"$f":"SUM(IF(('CCG-Prov(Births)'!$A$2:$A$6150=A73)*('CCG-Prov(Births)'!$C$2:$C$6150>=Maternity!$B$7),1,0))","v":3},{"$f":"IF(VALUE(MID(AI$2,5,2))<=$V73,OFFSET('CCG-Prov(Births)'!$B$1,MATCH($A73,'CCG-Prov(Births)'!$A$2:$A$6150,0)+VALUE(RIGHT(AI$2,1))-1,0),\"\")","v":"RFS"},{"$f":"IF(VALUE(MID(AJ$2,5,2))<=$V73,OFFSET('CCG-Prov(Births)'!$B$1,MATCH($A73,'CCG-Prov(Births)'!$A$2:$A$6150,0)+VALUE(RIGHT(AJ$2,1))-1,0),\"\")","v":""},{"$f":"IF(VALUE(MID(AK$2,5,2))<=$V73,OFFSET('CCG-Prov(Births)'!$B$1,MATCH($A73,'CCG-Prov(Births)'!$A$2:$A$6150,0)+VALUE(RIGHT(AK$2,1))-1,0),\"\")","v":""},{"$f":"IF(VALUE(MID(AL$2,5,2))<=$V73,OFFSET('CCG-Prov(Births)'!$B$1,MATCH($A73,'CCG-Prov(Births)'!$A$2:$A$6150,0)+VALUE(RIGHT(AL$2,1))-1,0),\"\")","v":""},{"$f":"IF(VALUE(MID(AM$2,5,2))<=$V73,OFFSET('CCG-Prov(Births)'!$B$1,MATCH($A73,'CCG-Prov(Births)'!$A$2:$A$6150,0)+VALUE(RIGHT(AM$2,1))-1,0),\"\")","v":""},null,"RJR",{"$f":"VLOOKUP(AO73,provnames!$A$2:$B$331,2,0)","v":"Countess of Chester Hospital NHS FT"},{"$f":"SUM(IF(('CCG-Prov(Births)'!$B$2:$B$6150=AO73),1,0))","v":18}]
["08D","Haringey",{"$f":"SUM(IF(('CCG-Prov(Acute)'!$A$2:$A$29012=A74),1,0))","v":140},{"$f":"SUM(IF(('CCG-Prov(Acute)'!$A$2:$A$29012=A74)*('CCG-Prov(Acute)'!$C$2:$C$29012>=Acute!$B$7),1,0))","v":8},{"$f":"IF(VALUE(MID(E$2,5,2))<=$D74,OFFSET('CCG-Prov(Acute)'!$B$1,MATCH($A74,'CCG-Prov(Acute)'!$A$2:$A$29012,0)+VALUE(RIGHT(E$2,1))-1,0),\"\")","v":"RAP"},{"$f":"IF(VALUE(MID(F$2,5,2))<=$D74,OFFSET('CCG-Prov(Acute)'!$B$1,MATCH($A74,'CCG-Prov(Acute)'!$A$2:$A$29012,0)+VALUE(RIGHT(F$2,1))-1,0),\"\")","v":"RKE"},{"$f":"IF(VALUE(MID(G$2,5,2))<=$D74,OFFSET('CCG-Prov(Acute)'!$B$1,MATCH($A74,'CCG-Prov(Acute)'!$A$2:$A$29012,0)+VALUE(RIGHT(G$2,1))-1,0),\"\")","v":"RAL"},{"$f":"IF(VALUE(MID(H$2,5,2))<=$D74,OFFSET('CCG-Prov(Acute)'!$B$1,MATCH($A74,'CCG-Prov(Acute)'!$A$2:$A$29012,0)+VALUE(RIGHT(H$2,1))-1,0),\"\")","v":"RRV"},{"$f":"IF(VALUE(MID(I$2,5,2))<=$D74,OFFSET('CCG-Prov(Acute)'!$B$1,MATCH($A74,'CCG-Prov(Acute)'!$A$2:$A$29012,0)+VALUE(RIGHT(I$2,1))-1,0),\"\")","v":"RVL"},{"$f":"IF(VALUE(MID(J$2,5,2))<=$D74,OFFSET('CCG-Prov(Acute)'!$B$1,MATCH($A74,'CCG-Prov(Acute)'!$A$2:$A$29012,0)+VALUE(RIGHT(J$2,1))-1,0),\"\")","v":"RP6"},{"$f":"IF(VALUE(MID(K$2,5,2))<=$D74,OFFSET('CCG-Prov(Acute)'!$B$1,MATCH($A74,'CCG-Prov(Acute)'!$A$2:$A$29012,0)+VALUE(RIGHT(K$2,1))-1,0),\"\")","v":"RQX"},{"$f":"IF(VALUE(MID(L$2,5,2))<=$D74,OFFSET('CCG-Prov(Acute)'!$B$1,MATCH($A74,'CCG-Prov(Acute)'!$A$2:$A$29012,0)+VALUE(RIGHT(L$2,1))-1,0),\"\")","v":"RNJ"},{"$f":"IF(VALUE(MID(M$2,5,2))<=$D74,OFFSET('CCG-Prov(Acute)'!$B$1,MATCH($A74,'CCG-Prov(Acute)'!$A$2:$A$29012,0)+VALUE(RIGHT(M$2,1))-1,0),\"\")","v":""},{"$f":"IF(VALUE(MID(N$2,5,2))<=$D74,OFFSET('CCG-Prov(Acute)'!$B$1,MATCH($A74,'CCG-Prov(Acute)'!$A$2:$A$29012,0)+VALUE(RIGHT(N$2,1))-1,0),\"\")","v":""},null,null,"NN4",{"$f":"VLOOKUP(Q74,provnames!$A$2:$B$331,2,0)","v":"Tyneside Surgical Services Ltd"},{"$f":"SUM(IF(('CCG-Prov(Acute)'!$B$2:$B$28899=Q74),1,0))","v":14},null,{"$f":"SUM(IF(('CCG-Prov(Amb)'!$A$2:$A$335=A74),1,0))","v":2},{"$f":"SUM(IF(('CCG-Prov(Amb)'!$A$2:$A$335=A74)*('CCG-Prov(Amb)'!$C$2:$C$335>=Ambulance!$B$7),1,0))","v":1},{"$f":"IF(VALUE(MID(W$2,5,2))<=$V74,OFFSET('CCG-Prov(Amb)'!$B$1,MATCH($A74,'CCG-Prov(Amb)'!$A$2:$A$335,0)+VALUE(RIGHT(W$2,1))-1,0),\"\")","v":"RRY"},{"$f":"IF(VALUE(MID(X$2,5,2))<=$V74,OFFSET('CCG-Prov(Amb)'!$B$1,MATCH($A74,'CCG-Prov(Amb)'!$A$2:$A$335,0)+VALUE(RIGHT(X$2,1))-1,0),\"\")","v":""},{"$f":"IF(VALUE(MID(Y$2,5,2))<=$V74,OFFSET('CCG-Prov(Amb)'!$B$1,MATCH($A74,'CCG-Prov(Amb)'!$A$2:$A$335,0)+VALUE(RIGHT(Y$2,1))-1,0),\"\")","v":""},{"$f":"IF(VALUE(MID(Z$2,5,2))<=$V74,OFFSET('CCG-Prov(Amb)'!$B$1,MATCH($A74,'CCG-Prov(Amb)'!$A$2:$A$335,0)+VALUE(RIGHT(Z$2,1))-1,0),\"\")","v":""},{"$f":"IF(VALUE(MID(AA$2,5,2))<=$V74,OFFSET('CCG-Prov(Amb)'!$B$1,MATCH($A74,'CCG-Prov(Amb)'!$A$2:$A$335,0)+VALUE(RIGHT(AA$2,1))-1,0),\"\")","v":""},null,null,null,null,null,{"$f":"SUM(IF(('CCG-Prov(Births)'!$A$2:$A$6150=A74),1,0))","v":40},{"$f":"SUM(IF(('CCG-Prov(Births)'!$A$2:$A$6150=A74)*('CCG-Prov(Births)'!$C$2:$C$6150>=Maternity!$B$7),1,0))","v":6},{"$f":"IF(VALUE(MID(AI$2,5,2))<=$V74,OFFSET('CCG-Prov(Births)'!$B$1,MATCH($A74,'CCG-Prov(Births)'!$A$2:$A$6150,0)+VALUE(RIGHT(AI$2,1))-1,0),\"\")","v":"RKE"},{"$f":"IF(VALUE(MID(AJ$2,5,2))<=$V74,OFFSET('CCG-Prov(Births)'!$B$1,MATCH($A74,'CCG-Prov(Births)'!$A$2:$A$6150,0)+VALUE(RIGHT(AJ$2,1))-1,0),\"\")","v":""},{"$f":"IF(VALUE(MID(AK$2,5,2))<=$V74,OFFSET('CCG-Prov(Births)'!$B$1,MATCH($A74,'CCG-Prov(Births)'!$A$2:$A$6150,0)+VALUE(RIGHT(AK$2,1))-1,0),\"\")","v":""},{"$f":"IF(VALUE(MID(AL$2,5,2))<=$V74,OFFSET('CCG-Prov(Births)'!$B$1,MATCH($A74,'CCG-Prov(Births)'!$A$2:$A$6150,0)+VALUE(RIGHT(AL$2,1))-1,0),\"\")","v":""},{"$f":"IF(VALUE(MID(AM$2,5,2))<=$V74,OFFSET('CCG-Prov(Births)'!$B$1,MATCH($A74,'CCG-Prov(Births)'!$A$2:$A$6150,0)+VALUE(RIGHT(AM$2,1))-1,0),\"\")","v":""},null,"RJZ",{"$f":"VLOOKUP(AO74,provnames!$A$2:$B$331,2,0)","v":"King's College Hospital NHS FT"},{"$f":"SUM(IF(('CCG-Prov(Births)'!$B$2:$B$6150=AO74),1,0))","v":83}]
["03E","Harrogate & Rural District",{"$f":"SUM(IF(('CCG-Prov(Acute)'!$A$2:$A$29012=A75),1,0))","v":129},{"$f":"SUM(IF(('CCG-Prov(Acute)'!$A$2:$A$29012=A75)*('CCG-Prov(Acute)'!$C$2:$C$29012>=Acute!$B$7),1,0))","v":4},{"$f":"IF(VALUE(MID(E$2,5,2))<=$D75,OFFSET('CCG-Prov(Acute)'!$B$1,MATCH($A75,'CCG-Prov(Acute)'!$A$2:$A$29012,0)+VALUE(RIGHT(E$2,1))-1,0),\"\")","v":"RCD"},{"$f":"IF(VALUE(MID(F$2,5,2))<=$D75,OFFSET('CCG-Prov(Acute)'!$B$1,MATCH($A75,'CCG-Prov(Acute)'!$A$2:$A$29012,0)+VALUE(RIGHT(F$2,1))-1,0),\"\")","v":"RR8"},{"$f":"IF(VALUE(MID(G$2,5,2))<=$D75,OFFSET('CCG-Prov(Acute)'!$B$1,MATCH($A75,'CCG-Prov(Acute)'!$A$2:$A$29012,0)+VALUE(RIGHT(G$2,1))-1,0),\"\")","v":"RCB"},{"$f":"IF(VALUE(MID(H$2,5,2))<=$D75,OFFSET('CCG-Prov(Acute)'!$B$1,MATCH($A75,'CCG-Prov(Acute)'!$A$2:$A$29012,0)+VALUE(RIGHT(H$2,1))-1,0),\"\")","v":"RTR"},{"$f":"IF(VALUE(MID(I$2,5,2))<=$D75,OFFSET('CCG-Prov(Acute)'!$B$1,MATCH($A75,'CCG-Prov(Acute)'!$A$2:$A$29012,0)+VALUE(RIGHT(I$2,1))-1,0),\"\")","v":""},{"$f":"IF(VALUE(MID(J$2,5,2))<=$D75,OFFSET('CCG-Prov(Acute)'!$B$1,MATCH($A75,'CCG-Prov(Acute)'!$A$2:$A$29012,0)+VALUE(RIGHT(J$2,1))-1,0),\"\")","v":""},{"$f":"IF(VALUE(MID(K$2,5,2))<=$D75,OFFSET('CCG-Prov(Acute)'!$B$1,MATCH($A75,'CCG-Prov(Acute)'!$A$2:$A$29012,0)+VALUE(RIGHT(K$2,1))-1,0),\"\")","v":""},{"$f":"IF(VALUE(MID(L$2,5,2))<=$D75,OFFSET('CCG-Prov(Acute)'!$B$1,MATCH($A75,'CCG-Prov(Acute)'!$A$2:$A$29012,0)+VALUE(RIGHT(L$2,1))-1,0),\"\")","v":""},{"$f":"IF(VALUE(MID(M$2,5,2))<=$D75,OFFSET('CCG-Prov(Acute)'!$B$1,MATCH($A75,'CCG-Prov(Acute)'!$A$2:$A$29012,0)+VALUE(RIGHT(M$2,1))-1,0),\"\")","v":""},{"$f":"IF(VALUE(MID(N$2,5,2))<=$D75,OFFSET('CCG-Prov(Acute)'!$B$1,MATCH($A75,'CCG-Prov(Acute)'!$A$2:$A$29012,0)+VALUE(RIGHT(N$2,1))-1,0),\"\")","v":""},null,null,"NT2",{"$f":"VLOOKUP(Q75,provnames!$A$2:$B$331,2,0)","v":"Nuffield Health"},{"$f":"SUM(IF(('CCG-Prov(Acute)'!$B$2:$B$28899=Q75),1,0))","v":3},null,{"$f":"SUM(IF(('CCG-Prov(Amb)'!$A$2:$A$335=A75),1,0))","v":1},{"$f":"SUM(IF(('CCG-Prov(Amb)'!$A$2:$A$335=A75)*('CCG-Prov(Amb)'!$C$2:$C$335>=Ambulance!$B$7),1,0))","v":1},{"$f":"IF(VALUE(MID(W$2,5,2))<=$V75,OFFSET('CCG-Prov(Amb)'!$B$1,MATCH($A75,'CCG-Prov(Amb)'!$A$2:$A$335,0)+VALUE(RIGHT(W$2,1))-1,0),\"\")","v":"RX8"},{"$f":"IF(VALUE(MID(X$2,5,2))<=$V75,OFFSET('CCG-Prov(Amb)'!$B$1,MATCH($A75,'CCG-Prov(Amb)'!$A$2:$A$335,0)+VALUE(RIGHT(X$2,1))-1,0),\"\")","v":""},{"$f":"IF(VALUE(MID(Y$2,5,2))<=$V75,OFFSET('CCG-Prov(Amb)'!$B$1,MATCH($A75,'CCG-Prov(Amb)'!$A$2:$A$335,0)+VALUE(RIGHT(Y$2,1))-1,0),\"\")","v":""},{"$f":"IF(VALUE(MID(Z$2,5,2))<=$V75,OFFSET('CCG-Prov(Amb)'!$B$1,MATCH($A75,'CCG-Prov(Amb)'!$A$2:$A$335,0)+VALUE(RIGHT(Z$2,1))-1,0),\"\")","v":""},{"$f":"IF(VALUE(MID(AA$2,5,2))<=$V75,OFFSET('CCG-Prov(Amb)'!$B$1,MATCH($A75,'CCG-Prov(Amb)'!$A$2:$A$335,0)+VALUE(RIGHT(AA$2,1))-1,0),\"\")","v":""},null,null,null,null,null,{"$f":"SUM(IF(('CCG-Prov(Births)'!$A$2:$A$6150=A75),1,0))","v":24},{"$f":"SUM(IF(('CCG-Prov(Births)'!$A$2:$A$6150=A75)*('CCG-Prov(Births)'!$C$2:$C$6150>=Maternity!$B$7),1,0))","v":2},{"$f":"IF(VALUE(MID(AI$2,5,2))<=$V75,OFFSET('CCG-Prov(Births)'!$B$1,MATCH($A75,'CCG-Prov(Births)'!$A$2:$A$6150,0)+VALUE(RIGHT(AI$2,1))-1,0),\"\")","v":"RCD"},{"$f":"IF(VALUE(MID(AJ$2,5,2))<=$V75,OFFSET('CCG-Prov(Births)'!$B$1,MATCH($A75,'CCG-Prov(Births)'!$A$2:$A$6150,0)+VALUE(RIGHT(AJ$2,1))-1,0),\"\")","v":""},{"$f":"IF(VALUE(MID(AK$2,5,2))<=$V75,OFFSET('CCG-Prov(Births)'!$B$1,MATCH($A75,'CCG-Prov(Births)'!$A$2:$A$6150,0)+VALUE(RIGHT(AK$2,1))-1,0),\"\")","v":""},{"$f":"IF(VALUE(MID(AL$2,5,2))<=$V75,OFFSET('CCG-Prov(Births)'!$B$1,MATCH($A75,'CCG-Prov(Births)'!$A$2:$A$6150,0)+VALUE(RIGHT(AL$2,1))-1,0),\"\")","v":""},{"$f":"IF(VALUE(MID(AM$2,5,2))<=$V75,OFFSET('CCG-Prov(Births)'!$B$1,MATCH($A75,'CCG-Prov(Births)'!$A$2:$A$6150,0)+VALUE(RIGHT(AM$2,1))-1,0),\"\")","v":""},null,"RK5",{"$f":"VLOOKUP(AO75,provnames!$A$2:$B$331,2,0)","v":"Sherwood Forest Hospitals NHS FT"},{"$f":"SUM(IF(('CCG-Prov(Births)'!$B$2:$B$6150=AO75),1,0))","v":30}]
["08E","Harrow",{"$f":"SUM(IF(('CCG-Prov(Acute)'!$A$2:$A$29012=A76),1,0))","v":131},{"$f":"SUM(IF(('CCG-Prov(Acute)'!$A$2:$A$29012=A76)*('CCG-Prov(Acute)'!$C$2:$C$29012>=Acute!$B$7),1,0))","v":11},{"$f":"IF(VALUE(MID(E$2,5,2))<=$D76,OFFSET('CCG-Prov(Acute)'!$B$1,MATCH($A76,'CCG-Prov(Acute)'!$A$2:$A$29012,0)+VALUE(RIGHT(E$2,1))-1,0),\"\")","v":"RV8"},{"$f":"IF(VALUE(MID(F$2,5,2))<=$D76,OFFSET('CCG-Prov(Acute)'!$B$1,MATCH($A76,'CCG-Prov(Acute)'!$A$2:$A$29012,0)+VALUE(RIGHT(F$2,1))-1,0),\"\")","v":"RYJ"},{"$f":"IF(VALUE(MID(G$2,5,2))<=$D76,OFFSET('CCG-Prov(Acute)'!$B$1,MATCH($A76,'CCG-Prov(Acute)'!$A$2:$A$29012,0)+VALUE(RIGHT(G$2,1))-1,0),\"\")","v":"RAL"},{"$f":"IF(VALUE(MID(H$2,5,2))<=$D76,OFFSET('CCG-Prov(Acute)'!$B$1,MATCH($A76,'CCG-Prov(Acute)'!$A$2:$A$29012,0)+VALUE(RIGHT(H$2,1))-1,0),\"\")","v":"RP6"},{"$f":"IF(VALUE(MID(I$2,5,2))<=$D76,OFFSET('CCG-Prov(Acute)'!$B$1,MATCH($A76,'CCG-Prov(Acute)'!$A$2:$A$29012,0)+VALUE(RIGHT(I$2,1))-1,0),\"\")","v":"RVL"},{"$f":"IF(VALUE(MID(J$2,5,2))<=$D76,OFFSET('CCG-Prov(Acute)'!$B$1,MATCH($A76,'CCG-Prov(Acute)'!$A$2:$A$29012,0)+VALUE(RIGHT(J$2,1))-1,0),\"\")","v":"RAS"},{"$f":"IF(VALUE(MID(K$2,5,2))<=$D76,OFFSET('CCG-Prov(Acute)'!$B$1,MATCH($A76,'CCG-Prov(Acute)'!$A$2:$A$29012,0)+VALUE(RIGHT(K$2,1))-1,0),\"\")","v":"RRV"},{"$f":"IF(VALUE(MID(L$2,5,2))<=$D76,OFFSET('CCG-Prov(Acute)'!$B$1,MATCH($A76,'CCG-Prov(Acute)'!$A$2:$A$29012,0)+VALUE(RIGHT(L$2,1))-1,0),\"\")","v":"RAN"},{"$f":"IF(VALUE(MID(M$2,5,2))<=$D76,OFFSET('CCG-Prov(Acute)'!$B$1,MATCH($A76,'CCG-Prov(Acute)'!$A$2:$A$29012,0)+VALUE(RIGHT(M$2,1))-1,0),\"\")","v":"RWG"},{"$f":"IF(VALUE(MID(N$2,5,2))<=$D76,OFFSET('CCG-Prov(Acute)'!$B$1,MATCH($A76,'CCG-Prov(Acute)'!$A$2:$A$29012,0)+VALUE(RIGHT(N$2,1))-1,0),\"\")","v":"RXR"},null,null,"NT3",{"$f":"VLOOKUP(Q76,provnames!$A$2:$B$331,2,0)","v":"Spire Healthcare"},{"$f":"SUM(IF(('CCG-Prov(Acute)'!$B$2:$B$28899=Q76),1,0))","v":189},null,{"$f":"SUM(IF(('CCG-Prov(Amb)'!$A$2:$A$335=A76),1,0))","v":2},{"$f":"SUM(IF(('CCG-Prov(Amb)'!$A$2:$A$335=A76)*('CCG-Prov(Amb)'!$C$2:$C$335>=Ambulance!$B$7),1,0))","v":2},{"$f":"IF(VALUE(MID(W$2,5,2))<=$V76,OFFSET('CCG-Prov(Amb)'!$B$1,MATCH($A76,'CCG-Prov(Amb)'!$A$2:$A$335,0)+VALUE(RIGHT(W$2,1))-1,0),\"\")","v":"RRY"},{"$f":"IF(VALUE(MID(X$2,5,2))<=$V76,OFFSET('CCG-Prov(Amb)'!$B$1,MATCH($A76,'CCG-Prov(Amb)'!$A$2:$A$335,0)+VALUE(RIGHT(X$2,1))-1,0),\"\")","v":"RYC"},{"$f":"IF(VALUE(MID(Y$2,5,2))<=$V76,OFFSET('CCG-Prov(Amb)'!$B$1,MATCH($A76,'CCG-Prov(Amb)'!$A$2:$A$335,0)+VALUE(RIGHT(Y$2,1))-1,0),\"\")","v":""},{"$f":"IF(VALUE(MID(Z$2,5,2))<=$V76,OFFSET('CCG-Prov(Amb)'!$B$1,MATCH($A76,'CCG-Prov(Amb)'!$A$2:$A$335,0)+VALUE(RIGHT(Z$2,1))-1,0),\"\")","v":""},{"$f":"IF(VALUE(MID(AA$2,5,2))<=$V76,OFFSET('CCG-Prov(Amb)'!$B$1,MATCH($A76,'CCG-Prov(Amb)'!$A$2:$A$335,0)+VALUE(RIGHT(AA$2,1))-1,0),\"\")","v":""},null,null,null,null,null,{"$f":"SUM(IF(('CCG-Prov(Births)'!$A$2:$A$6150=A76),1,0))","v":34},{"$f":"SUM(IF(('CCG-Prov(Births)'!$A$2:$A$6150=A76)*('CCG-Prov(Births)'!$C$2:$C$6150>=Maternity!$B$7),1,0))","v":6},{"$f":"IF(VALUE(MID(AI$2,5,2))<=$V76,OFFSET('CCG-Prov(Births)'!$B$1,MATCH($A76,'CCG-Prov(Births)'!$A$2:$A$6150,0)+VALUE(RIGHT(AI$2,1))-1,0),\"\")","v":"RV8"},{"$f":"IF(VALUE(MID(AJ$2,5,2))<=$V76,OFFSET('CCG-Prov(Births)'!$B$1,MATCH($A76,'CCG-Prov(Births)'!$A$2:$A$6150,0)+VALUE(RIGHT(AJ$2,1))-1,0),\"\")","v":"RVL"},{"$f":"IF(VALUE(MID(AK$2,5,2))<=$V76,OFFSET('CCG-Prov(Births)'!$B$1,MATCH($A76,'CCG-Prov(Births)'!$A$2:$A$6150,0)+VALUE(RIGHT(AK$2,1))-1,0),\"\")","v":""},{"$f":"IF(VALUE(MID(AL$2,5,2))<=$V76,OFFSET('CCG-Prov(Births)'!$B$1,MATCH($A76,'CCG-Prov(Births)'!$A$2:$A$6150,0)+VALUE(RIGHT(AL$2,1))-1,0),\"\")","v":""},{"$f":"IF(VALUE(MID(AM$2,5,2))<=$V76,OFFSET('CCG-Prov(Births)'!$B$1,MATCH($A76,'CCG-Prov(Births)'!$A$2:$A$6150,0)+VALUE(RIGHT(AM$2,1))-1,0),\"\")","v":""},null,"RK9",{"$f":"VLOOKUP(AO76,provnames!$A$2:$B$331,2,0)","v":"Plymouth Hospitals NHS Trust"},{"$f":"SUM(IF(('CCG-Prov(Births)'!$B$2:$B$6150=AO76),1,0))","v":34}]
["00K","Hartlepool & Stockton-on-Tees",{"$f":"SUM(IF(('CCG-Prov(Acute)'!$A$2:$A$29012=A77),1,0))","v":133},{"$f":"SUM(IF(('CCG-Prov(Acute)'!$A$2:$A$29012=A77)*('CCG-Prov(Acute)'!$C$2:$C$29012>=Acute!$B$7),1,0))","v":5},{"$f":"IF(VALUE(MID(E$2,5,2))<=$D77,OFFSET('CCG-Prov(Acute)'!$B$1,MATCH($A77,'CCG-Prov(Acute)'!$A$2:$A$29012,0)+VALUE(RIGHT(E$2,1))-1,0),\"\")","v":"RVW"},{"$f":"IF(VALUE(MID(F$2,5,2))<=$D77,OFFSET('CCG-Prov(Acute)'!$B$1,MATCH($A77,'CCG-Prov(Acute)'!$A$2:$A$29012,0)+VALUE(RIGHT(F$2,1))-1,0),\"\")","v":"RTR"},{"$f":"IF(VALUE(MID(G$2,5,2))<=$D77,OFFSET('CCG-Prov(Acute)'!$B$1,MATCH($A77,'CCG-Prov(Acute)'!$A$2:$A$29012,0)+VALUE(RIGHT(G$2,1))-1,0),\"\")","v":"RLN"},{"$f":"IF(VALUE(MID(H$2,5,2))<=$D77,OFFSET('CCG-Prov(Acute)'!$B$1,MATCH($A77,'CCG-Prov(Acute)'!$A$2:$A$29012,0)+VALUE(RIGHT(H$2,1))-1,0),\"\")","v":"RTD"},{"$f":"IF(VALUE(MID(I$2,5,2))<=$D77,OFFSET('CCG-Prov(Acute)'!$B$1,MATCH($A77,'CCG-Prov(Acute)'!$A$2:$A$29012,0)+VALUE(RIGHT(I$2,1))-1,0),\"\")","v":"NVC"},{"$f":"IF(VALUE(MID(J$2,5,2))<=$D77,OFFSET('CCG-Prov(Acute)'!$B$1,MATCH($A77,'CCG-Prov(Acute)'!$A$2:$A$29012,0)+VALUE(RIGHT(J$2,1))-1,0),\"\")","v":""},{"$f":"IF(VALUE(MID(K$2,5,2))<=$D77,OFFSET('CCG-Prov(Acute)'!$B$1,MATCH($A77,'CCG-Prov(Acute)'!$A$2:$A$29012,0)+VALUE(RIGHT(K$2,1))-1,0),\"\")","v":""},{"$f":"IF(VALUE(MID(L$2,5,2))<=$D77,OFFSET('CCG-Prov(Acute)'!$B$1,MATCH($A77,'CCG-Prov(Acute)'!$A$2:$A$29012,0)+VALUE(RIGHT(L$2,1))-1,0),\"\")","v":""},{"$f":"IF(VALUE(MID(M$2,5,2))<=$D77,OFFSET('CCG-Prov(Acute)'!$B$1,MATCH($A77,'CCG-Prov(Acute)'!$A$2:$A$29012,0)+VALUE(RIGHT(M$2,1))-1,0),\"\")","v":""},{"$f":"IF(VALUE(MID(N$2,5,2))<=$D77,OFFSET('CCG-Prov(Acute)'!$B$1,MATCH($A77,'CCG-Prov(Acute)'!$A$2:$A$29012,0)+VALUE(RIGHT(N$2,1))-1,0),\"\")","v":""},null,null,"NT4",{"$f":"VLOOKUP(Q77,provnames!$A$2:$B$331,2,0)","v":"BMI Headquarters"},{"$f":"SUM(IF(('CCG-Prov(Acute)'!$B$2:$B$28899=Q77),1,0))","v":198},null,{"$f":"SUM(IF(('CCG-Prov(Amb)'!$A$2:$A$335=A77),1,0))","v":2},{"$f":"SUM(IF(('CCG-Prov(Amb)'!$A$2:$A$335=A77)*('CCG-Prov(Amb)'!$C$2:$C$335>=Ambulance!$B$7),1,0))","v":1},{"$f":"IF(VALUE(MID(W$2,5,2))<=$V77,OFFSET('CCG-Prov(Amb)'!$B$1,MATCH($A77,'CCG-Prov(Amb)'!$A$2:$A$335,0)+VALUE(RIGHT(W$2,1))-1,0),\"\")","v":"RX6"},{"$f":"IF(VALUE(MID(X$2,5,2))<=$V77,OFFSET('CCG-Prov(Amb)'!$B$1,MATCH($A77,'CCG-Prov(Amb)'!$A$2:$A$335,0)+VALUE(RIGHT(X$2,1))-1,0),\"\")","v":""},{"$f":"IF(VALUE(MID(Y$2,5,2))<=$V77,OFFSET('CCG-Prov(Amb)'!$B$1,MATCH($A77,'CCG-Prov(Amb)'!$A$2:$A$335,0)+VALUE(RIGHT(Y$2,1))-1,0),\"\")","v":""},{"$f":"IF(VALUE(MID(Z$2,5,2))<=$V77,OFFSET('CCG-Prov(Amb)'!$B$1,MATCH($A77,'CCG-Prov(Amb)'!$A$2:$A$335,0)+VALUE(RIGHT(Z$2,1))-1,0),\"\")","v":""},{"$f":"IF(VALUE(MID(AA$2,5,2))<=$V77,OFFSET('CCG-Prov(Amb)'!$B$1,MATCH($A77,'CCG-Prov(Amb)'!$A$2:$A$335,0)+VALUE(RIGHT(AA$2,1))-1,0),\"\")","v":""},null,null,null,null,null,{"$f":"SUM(IF(('CCG-Prov(Births)'!$A$2:$A$6150=A77),1,0))","v":21},{"$f":"SUM(IF(('CCG-Prov(Births)'!$A$2:$A$6150=A77)*('CCG-Prov(Births)'!$C$2:$C$6150>=Maternity!$B$7),1,0))","v":2},{"$f":"IF(VALUE(MID(AI$2,5,2))<=$V77,OFFSET('CCG-Prov(Births)'!$B$1,MATCH($A77,'CCG-Prov(Births)'!$A$2:$A$6150,0)+VALUE(RIGHT(AI$2,1))-1,0),\"\")","v":"RVW"},{"$f":"IF(VALUE(MID(AJ$2,5,2))<=$V77,OFFSET('CCG-Prov(Births)'!$B$1,MATCH($A77,'CCG-Prov(Births)'!$A$2:$A$6150,0)+VALUE(RIGHT(AJ$2,1))-1,0),\"\")","v":""},{"$f":"IF(VALUE(MID(AK$2,5,2))<=$V77,OFFSET('CCG-Prov(Births)'!$B$1,MATCH($A77,'CCG-Prov(Births)'!$A$2:$A$6150,0)+VALUE(RIGHT(AK$2,1))-1,0),\"\")","v":""},{"$f":"IF(VALUE(MID(AL$2,5,2))<=$V77,OFFSET('CCG-Prov(Births)'!$B$1,MATCH($A77,'CCG-Prov(Births)'!$A$2:$A$6150,0)+VALUE(RIGHT(AL$2,1))-1,0),\"\")","v":""},{"$f":"IF(VALUE(MID(AM$2,5,2))<=$V77,OFFSET('CCG-Prov(Births)'!$B$1,MATCH($A77,'CCG-Prov(Births)'!$A$2:$A$6150,0)+VALUE(RIGHT(AM$2,1))-1,0),\"\")","v":""},null,"RKB",{"$f":"VLOOKUP(AO77,provnames!$A$2:$B$331,2,0)","v":"University Hospitals Coventry & Warwickshire NHS Trust"},{"$f":"SUM(IF(('CCG-Prov(Births)'!$B$2:$B$6150=AO77),1,0))","v":61}]
["09P","Hastings & Rother",{"$f":"SUM(IF(('CCG-Prov(Acute)'!$A$2:$A$29012=A78),1,0))","v":124},{"$f":"SUM(IF(('CCG-Prov(Acute)'!$A$2:$A$29012=A78)*('CCG-Prov(Acute)'!$C$2:$C$29012>=Acute!$B$7),1,0))","v":3},{"$f":"IF(VALUE(MID(E$2,5,2))<=$D78,OFFSET('CCG-Prov(Acute)'!$B$1,MATCH($A78,'CCG-Prov(Acute)'!$A$2:$A$29012,0)+VALUE(RIGHT(E$2,1))-1,0),\"\")","v":"RXC"},{"$f":"IF(VALUE(MID(F$2,5,2))<=$D78,OFFSET('CCG-Prov(Acute)'!$B$1,MATCH($A78,'CCG-Prov(Acute)'!$A$2:$A$29012,0)+VALUE(RIGHT(F$2,1))-1,0),\"\")","v":"RXH"},{"$f":"IF(VALUE(MID(G$2,5,2))<=$D78,OFFSET('CCG-Prov(Acute)'!$B$1,MATCH($A78,'CCG-Prov(Acute)'!$A$2:$A$29012,0)+VALUE(RIGHT(G$2,1))-1,0),\"\")","v":"5P8"},{"$f":"IF(VALUE(MID(H$2,5,2))<=$D78,OFFSET('CCG-Prov(Acute)'!$B$1,MATCH($A78,'CCG-Prov(Acute)'!$A$2:$A$29012,0)+VALUE(RIGHT(H$2,1))-1,0),\"\")","v":""},{"$f":"IF(VALUE(MID(I$2,5,2))<=$D78,OFFSET('CCG-Prov(Acute)'!$B$1,MATCH($A78,'CCG-Prov(Acute)'!$A$2:$A$29012,0)+VALUE(RIGHT(I$2,1))-1,0),\"\")","v":""},{"$f":"IF(VALUE(MID(J$2,5,2))<=$D78,OFFSET('CCG-Prov(Acute)'!$B$1,MATCH($A78,'CCG-Prov(Acute)'!$A$2:$A$29012,0)+VALUE(RIGHT(J$2,1))-1,0),\"\")","v":""},{"$f":"IF(VALUE(MID(K$2,5,2))<=$D78,OFFSET('CCG-Prov(Acute)'!$B$1,MATCH($A78,'CCG-Prov(Acute)'!$A$2:$A$29012,0)+VALUE(RIGHT(K$2,1))-1,0),\"\")","v":""},{"$f":"IF(VALUE(MID(L$2,5,2))<=$D78,OFFSET('CCG-Prov(Acute)'!$B$1,MATCH($A78,'CCG-Prov(Acute)'!$A$2:$A$29012,0)+VALUE(RIGHT(L$2,1))-1,0),\"\")","v":""},{"$f":"IF(VALUE(MID(M$2,5,2))<=$D78,OFFSET('CCG-Prov(Acute)'!$B$1,MATCH($A78,'CCG-Prov(Acute)'!$A$2:$A$29012,0)+VALUE(RIGHT(M$2,1))-1,0),\"\")","v":""},{"$f":"IF(VALUE(MID(N$2,5,2))<=$D78,OFFSET('CCG-Prov(Acute)'!$B$1,MATCH($A78,'CCG-Prov(Acute)'!$A$2:$A$29012,0)+VALUE(RIGHT(N$2,1))-1,0),\"\")","v":""},null,null,"NT7",{"$f":"VLOOKUP(Q78,provnames!$A$2:$B$331,2,0)","v":"Netcare Healthcare UK"},{"$f":"SUM(IF(('CCG-Prov(Acute)'!$B$2:$B$28899=Q78),1,0))","v":14},null,{"$f":"SUM(IF(('CCG-Prov(Amb)'!$A$2:$A$335=A78),1,0))","v":1},{"$f":"SUM(IF(('CCG-Prov(Amb)'!$A$2:$A$335=A78)*('CCG-Prov(Amb)'!$C$2:$C$335>=Ambulance!$B$7),1,0))","v":1},{"$f":"IF(VALUE(MID(W$2,5,2))<=$V78,OFFSET('CCG-Prov(Amb)'!$B$1,MATCH($A78,'CCG-Prov(Amb)'!$A$2:$A$335,0)+VALUE(RIGHT(W$2,1))-1,0),\"\")","v":"RYD"},{"$f":"IF(VALUE(MID(X$2,5,2))<=$V78,OFFSET('CCG-Prov(Amb)'!$B$1,MATCH($A78,'CCG-Prov(Amb)'!$A$2:$A$335,0)+VALUE(RIGHT(X$2,1))-1,0),\"\")","v":""},{"$f":"IF(VALUE(MID(Y$2,5,2))<=$V78,OFFSET('CCG-Prov(Amb)'!$B$1,MATCH($A78,'CCG-Prov(Amb)'!$A$2:$A$335,0)+VALUE(RIGHT(Y$2,1))-1,0),\"\")","v":""},{"$f":"IF(VALUE(MID(Z$2,5,2))<=$V78,OFFSET('CCG-Prov(Amb)'!$B$1,MATCH($A78,'CCG-Prov(Amb)'!$A$2:$A$335,0)+VALUE(RIGHT(Z$2,1))-1,0),\"\")","v":""},{"$f":"IF(VALUE(MID(AA$2,5,2))<=$V78,OFFSET('CCG-Prov(Amb)'!$B$1,MATCH($A78,'CCG-Prov(Amb)'!$A$2:$A$335,0)+VALUE(RIGHT(AA$2,1))-1,0),\"\")","v":""},null,null,null,null,null,{"$f":"SUM(IF(('CCG-Prov(Births)'!$A$2:$A$6150=A78),1,0))","v":23},{"$f":"SUM(IF(('CCG-Prov(Births)'!$A$2:$A$6150=A78)*('CCG-Prov(Births)'!$C$2:$C$6150>=Maternity!$B$7),1,0))","v":1},{"$f":"IF(VALUE(MID(AI$2,5,2))<=$V78,OFFSET('CCG-Prov(Births)'!$B$1,MATCH($A78,'CCG-Prov(Births)'!$A$2:$A$6150,0)+VALUE(RIGHT(AI$2,1))-1,0),\"\")","v":"RXC"},{"$f":"IF(VALUE(MID(AJ$2,5,2))<=$V78,OFFSET('CCG-Prov(Births)'!$B$1,MATCH($A78,'CCG-Prov(Births)'!$A$2:$A$6150,0)+VALUE(RIGHT(AJ$2,1))-1,0),\"\")","v":""},{"$f":"IF(VALUE(MID(AK$2,5,2))<=$V78,OFFSET('CCG-Prov(Births)'!$B$1,MATCH($A78,'CCG-Prov(Births)'!$A$2:$A$6150,0)+VALUE(RIGHT(AK$2,1))-1,0),\"\")","v":""},{"$f":"IF(VALUE(MID(AL$2,5,2))<=$V78,OFFSET('CCG-Prov(Births)'!$B$1,MATCH($A78,'CCG-Prov(Births)'!$A$2:$A$6150,0)+VALUE(RIGHT(AL$2,1))-1,0),\"\")","v":""},{"$f":"IF(VALUE(MID(AM$2,5,2))<=$V78,OFFSET('CCG-Prov(Births)'!$B$1,MATCH($A78,'CCG-Prov(Births)'!$A$2:$A$6150,0)+VALUE(RIGHT(AM$2,1))-1,0),\"\")","v":""},null,"RKE",{"$f":"VLOOKUP(AO78,provnames!$A$2:$B$331,2,0)","v":"The Whittington Hospital NHS Trust"},{"$f":"SUM(IF(('CCG-Prov(Births)'!$B$2:$B$6150=AO78),1,0))","v":65}]
["08F","Havering",{"$f":"SUM(IF(('CCG-Prov(Acute)'!$A$2:$A$29012=A79),1,0))","v":124},{"$f":"SUM(IF(('CCG-Prov(Acute)'!$A$2:$A$29012=A79)*('CCG-Prov(Acute)'!$C$2:$C$29012>=Acute!$B$7),1,0))","v":8},{"$f":"IF(VALUE(MID(E$2,5,2))<=$D79,OFFSET('CCG-Prov(Acute)'!$B$1,MATCH($A79,'CCG-Prov(Acute)'!$A$2:$A$29012,0)+VALUE(RIGHT(E$2,1))-1,0),\"\")","v":"RF4"},{"$f":"IF(VALUE(MID(F$2,5,2))<=$D79,OFFSET('CCG-Prov(Acute)'!$B$1,MATCH($A79,'CCG-Prov(Acute)'!$A$2:$A$29012,0)+VALUE(RIGHT(F$2,1))-1,0),\"\")","v":"NTP"},{"$f":"IF(VALUE(MID(G$2,5,2))<=$D79,OFFSET('CCG-Prov(Acute)'!$B$1,MATCH($A79,'CCG-Prov(Acute)'!$A$2:$A$29012,0)+VALUE(RIGHT(G$2,1))-1,0),\"\")","v":"RNJ"},{"$f":"IF(VALUE(MID(H$2,5,2))<=$D79,OFFSET('CCG-Prov(Acute)'!$B$1,MATCH($A79,'CCG-Prov(Acute)'!$A$2:$A$29012,0)+VALUE(RIGHT(H$2,1))-1,0),\"\")","v":"RQ8"},{"$f":"IF(VALUE(MID(I$2,5,2))<=$D79,OFFSET('CCG-Prov(Acute)'!$B$1,MATCH($A79,'CCG-Prov(Acute)'!$A$2:$A$29012,0)+VALUE(RIGHT(I$2,1))-1,0),\"\")","v":"NT3"},{"$f":"IF(VALUE(MID(J$2,5,2))<=$D79,OFFSET('CCG-Prov(Acute)'!$B$1,MATCH($A79,'CCG-Prov(Acute)'!$A$2:$A$29012,0)+VALUE(RIGHT(J$2,1))-1,0),\"\")","v":"5A4"},{"$f":"IF(VALUE(MID(K$2,5,2))<=$D79,OFFSET('CCG-Prov(Acute)'!$B$1,MATCH($A79,'CCG-Prov(Acute)'!$A$2:$A$29012,0)+VALUE(RIGHT(K$2,1))-1,0),\"\")","v":"RDD"},{"$f":"IF(VALUE(MID(L$2,5,2))<=$D79,OFFSET('CCG-Prov(Acute)'!$B$1,MATCH($A79,'CCG-Prov(Acute)'!$A$2:$A$29012,0)+VALUE(RIGHT(L$2,1))-1,0),\"\")","v":"RRV"},{"$f":"IF(VALUE(MID(M$2,5,2))<=$D79,OFFSET('CCG-Prov(Acute)'!$B$1,MATCH($A79,'CCG-Prov(Acute)'!$A$2:$A$29012,0)+VALUE(RIGHT(M$2,1))-1,0),\"\")","v":""},{"$f":"IF(VALUE(MID(N$2,5,2))<=$D79,OFFSET('CCG-Prov(Acute)'!$B$1,MATCH($A79,'CCG-Prov(Acute)'!$A$2:$A$29012,0)+VALUE(RIGHT(N$2,1))-1,0),\"\")","v":""},null,null,"NTA",{"$f":"VLOOKUP(Q79,provnames!$A$2:$B$331,2,0)","v":"Nations Healthcare Ltd"},{"$f":"SUM(IF(('CCG-Prov(Acute)'!$B$2:$B$28899=Q79),1,0))","v":104},null,{"$f":"SUM(IF(('CCG-Prov(Amb)'!$A$2:$A$335=A79),1,0))","v":2},{"$f":"SUM(IF(('CCG-Prov(Amb)'!$A$2:$A$335=A79)*('CCG-Prov(Amb)'!$C$2:$C$335>=Ambulance!$B$7),1,0))","v":1},{"$f":"IF(VALUE(MID(W$2,5,2))<=$V79,OFFSET('CCG-Prov(Amb)'!$B$1,MATCH($A79,'CCG-Prov(Amb)'!$A$2:$A$335,0)+VALUE(RIGHT(W$2,1))-1,0),\"\")","v":"RRY"},{"$f":"IF(VALUE(MID(X$2,5,2))<=$V79,OFFSET('CCG-Prov(Amb)'!$B$1,MATCH($A79,'CCG-Prov(Amb)'!$A$2:$A$335,0)+VALUE(RIGHT(X$2,1))-1,0),\"\")","v":""},{"$f":"IF(VALUE(MID(Y$2,5,2))<=$V79,OFFSET('CCG-Prov(Amb)'!$B$1,MATCH($A79,'CCG-Prov(Amb)'!$A$2:$A$335,0)+VALUE(RIGHT(Y$2,1))-1,0),\"\")","v":""},{"$f":"IF(VALUE(MID(Z$2,5,2))<=$V79,OFFSET('CCG-Prov(Amb)'!$B$1,MATCH($A79,'CCG-Prov(Amb)'!$A$2:$A$335,0)+VALUE(RIGHT(Z$2,1))-1,0),\"\")","v":""},{"$f":"IF(VALUE(MID(AA$2,5,2))<=$V79,OFFSET('CCG-Prov(Amb)'!$B$1,MATCH($A79,'CCG-Prov(Amb)'!$A$2:$A$335,0)+VALUE(RIGHT(AA$2,1))-1,0),\"\")","v":""},null,null,null,null,null,{"$f":"SUM(IF(('CCG-Prov(Births)'!$A$2:$A$6150=A79),1,0))","v":38},{"$f":"SUM(IF(('CCG-Prov(Births)'!$A$2:$A$6150=A79)*('CCG-Prov(Births)'!$C$2:$C$6150>=Maternity!$B$7),1,0))","v":1},{"$f":"IF(VALUE(MID(AI$2,5,2))<=$V79,OFFSET('CCG-Prov(Births)'!$B$1,MATCH($A79,'CCG-Prov(Births)'!$A$2:$A$6150,0)+VALUE(RIGHT(AI$2,1))-1,0),\"\")","v":"RF4"},{"$f":"IF(VALUE(MID(AJ$2,5,2))<=$V79,OFFSET('CCG-Prov(Births)'!$B$1,MATCH($A79,'CCG-Prov(Births)'!$A$2:$A$6150,0)+VALUE(RIGHT(AJ$2,1))-1,0),\"\")","v":""},{"$f":"IF(VALUE(MID(AK$2,5,2))<=$V79,OFFSET('CCG-Prov(Births)'!$B$1,MATCH($A79,'CCG-Prov(Births)'!$A$2:$A$6150,0)+VALUE(RIGHT(AK$2,1))-1,0),\"\")","v":""},{"$f":"IF(VALUE(MID(AL$2,5,2))<=$V79,OFFSET('CCG-Prov(Births)'!$B$1,MATCH($A79,'CCG-Prov(Births)'!$A$2:$A$6150,0)+VALUE(RIGHT(AL$2,1))-1,0),\"\")","v":""},{"$f":"IF(VALUE(MID(AM$2,5,2))<=$V79,OFFSET('CCG-Prov(Births)'!$B$1,MATCH($A79,'CCG-Prov(Births)'!$A$2:$A$6150,0)+VALUE(RIGHT(AM$2,1))-1,0),\"\")","v":""},null,"RL4",{"$f":"VLOOKUP(AO79,provnames!$A$2:$B$331,2,0)","v":"The Royal Wolverhampton Hospitals NHS Trust"},{"$f":"SUM(IF(('CCG-Prov(Births)'!$B$2:$B$6150=AO79),1,0))","v":63}]
["05F","Herefordshire",{"$f":"SUM(IF(('CCG-Prov(Acute)'!$A$2:$A$29012=A80),1,0))","v":134},{"$f":"SUM(IF(('CCG-Prov(Acute)'!$A$2:$A$29012=A80)*('CCG-Prov(Acute)'!$C$2:$C$29012>=Acute!$B$7),1,0))","v":5},{"$f":"IF(VALUE(MID(E$2,5,2))<=$D80,OFFSET('CCG-Prov(Acute)'!$B$1,MATCH($A80,'CCG-Prov(Acute)'!$A$2:$A$29012,0)+VALUE(RIGHT(E$2,1))-1,0),\"\")","v":"RLQ"},{"$f":"IF(VALUE(MID(F$2,5,2))<=$D80,OFFSET('CCG-Prov(Acute)'!$B$1,MATCH($A80,'CCG-Prov(Acute)'!$A$2:$A$29012,0)+VALUE(RIGHT(F$2,1))-1,0),\"\")","v":"RTE"},{"$f":"IF(VALUE(MID(G$2,5,2))<=$D80,OFFSET('CCG-Prov(Acute)'!$B$1,MATCH($A80,'CCG-Prov(Acute)'!$A$2:$A$29012,0)+VALUE(RIGHT(G$2,1))-1,0),\"\")","v":"5CN"},{"$f":"IF(VALUE(MID(H$2,5,2))<=$D80,OFFSET('CCG-Prov(Acute)'!$B$1,MATCH($A80,'CCG-Prov(Acute)'!$A$2:$A$29012,0)+VALUE(RIGHT(H$2,1))-1,0),\"\")","v":"RWP"},{"$f":"IF(VALUE(MID(I$2,5,2))<=$D80,OFFSET('CCG-Prov(Acute)'!$B$1,MATCH($A80,'CCG-Prov(Acute)'!$A$2:$A$29012,0)+VALUE(RIGHT(I$2,1))-1,0),\"\")","v":"RRK"},{"$f":"IF(VALUE(MID(J$2,5,2))<=$D80,OFFSET('CCG-Prov(Acute)'!$B$1,MATCH($A80,'CCG-Prov(Acute)'!$A$2:$A$29012,0)+VALUE(RIGHT(J$2,1))-1,0),\"\")","v":""},{"$f":"IF(VALUE(MID(K$2,5,2))<=$D80,OFFSET('CCG-Prov(Acute)'!$B$1,MATCH($A80,'CCG-Prov(Acute)'!$A$2:$A$29012,0)+VALUE(RIGHT(K$2,1))-1,0),\"\")","v":""},{"$f":"IF(VALUE(MID(L$2,5,2))<=$D80,OFFSET('CCG-Prov(Acute)'!$B$1,MATCH($A80,'CCG-Prov(Acute)'!$A$2:$A$29012,0)+VALUE(RIGHT(L$2,1))-1,0),\"\")","v":""},{"$f":"IF(VALUE(MID(M$2,5,2))<=$D80,OFFSET('CCG-Prov(Acute)'!$B$1,MATCH($A80,'CCG-Prov(Acute)'!$A$2:$A$29012,0)+VALUE(RIGHT(M$2,1))-1,0),\"\")","v":""},{"$f":"IF(VALUE(MID(N$2,5,2))<=$D80,OFFSET('CCG-Prov(Acute)'!$B$1,MATCH($A80,'CCG-Prov(Acute)'!$A$2:$A$29012,0)+VALUE(RIGHT(N$2,1))-1,0),\"\")","v":""},null,null,"NTC",{"$f":"VLOOKUP(Q80,provnames!$A$2:$B$331,2,0)","v":"Uk Specialist Hospitals Ltd"},{"$f":"SUM(IF(('CCG-Prov(Acute)'!$B$2:$B$28899=Q80),1,0))","v":42},null,{"$f":"SUM(IF(('CCG-Prov(Amb)'!$A$2:$A$335=A80),1,0))","v":2},{"$f":"SUM(IF(('CCG-Prov(Amb)'!$A$2:$A$335=A80)*('CCG-Prov(Amb)'!$C$2:$C$335>=Ambulance!$B$7),1,0))","v":1},{"$f":"IF(VALUE(MID(W$2,5,2))<=$V80,OFFSET('CCG-Prov(Amb)'!$B$1,MATCH($A80,'CCG-Prov(Amb)'!$A$2:$A$335,0)+VALUE(RIGHT(W$2,1))-1,0),\"\")","v":"RYA"},{"$f":"IF(VALUE(MID(X$2,5,2))<=$V80,OFFSET('CCG-Prov(Amb)'!$B$1,MATCH($A80,'CCG-Prov(Amb)'!$A$2:$A$335,0)+VALUE(RIGHT(X$2,1))-1,0),\"\")","v":""},{"$f":"IF(VALUE(MID(Y$2,5,2))<=$V80,OFFSET('CCG-Prov(Amb)'!$B$1,MATCH($A80,'CCG-Prov(Amb)'!$A$2:$A$335,0)+VALUE(RIGHT(Y$2,1))-1,0),\"\")","v":""},{"$f":"IF(VALUE(MID(Z$2,5,2))<=$V80,OFFSET('CCG-Prov(Amb)'!$B$1,MATCH($A80,'CCG-Prov(Amb)'!$A$2:$A$335,0)+VALUE(RIGHT(Z$2,1))-1,0),\"\")","v":""},{"$f":"IF(VALUE(MID(AA$2,5,2))<=$V80,OFFSET('CCG-Prov(Amb)'!$B$1,MATCH($A80,'CCG-Prov(Amb)'!$A$2:$A$335,0)+VALUE(RIGHT(AA$2,1))-1,0),\"\")","v":""},null,null,null,null,null,{"$f":"SUM(IF(('CCG-Prov(Births)'!$A$2:$A$6150=A80),1,0))","v":18},{"$f":"SUM(IF(('CCG-Prov(Births)'!$A$2:$A$6150=A80)*('CCG-Prov(Births)'!$C$2:$C$6150>=Maternity!$B$7),1,0))","v":2},{"$f":"IF(VALUE(MID(AI$2,5,2))<=$V80,OFFSET('CCG-Prov(Births)'!$B$1,MATCH($A80,'CCG-Prov(Births)'!$A$2:$A$6150,0)+VALUE(RIGHT(AI$2,1))-1,0),\"\")","v":"RLQ"},{"$f":"IF(VALUE(MID(AJ$2,5,2))<=$V80,OFFSET('CCG-Prov(Births)'!$B$1,MATCH($A80,'CCG-Prov(Births)'!$A$2:$A$6150,0)+VALUE(RIGHT(AJ$2,1))-1,0),\"\")","v":""},{"$f":"IF(VALUE(MID(AK$2,5,2))<=$V80,OFFSET('CCG-Prov(Births)'!$B$1,MATCH($A80,'CCG-Prov(Births)'!$A$2:$A$6150,0)+VALUE(RIGHT(AK$2,1))-1,0),\"\")","v":""},{"$f":"IF(VALUE(MID(AL$2,5,2))<=$V80,OFFSET('CCG-Prov(Births)'!$B$1,MATCH($A80,'CCG-Prov(Births)'!$A$2:$A$6150,0)+VALUE(RIGHT(AL$2,1))-1,0),\"\")","v":""},{"$f":"IF(VALUE(MID(AM$2,5,2))<=$V80,OFFSET('CCG-Prov(Births)'!$B$1,MATCH($A80,'CCG-Prov(Births)'!$A$2:$A$6150,0)+VALUE(RIGHT(AM$2,1))-1,0),\"\")","v":""},null,"RLN",{"$f":"VLOOKUP(AO80,provnames!$A$2:$B$331,2,0)","v":"City Hospitals Sunderland NHS FT"},{"$f":"SUM(IF(('CCG-Prov(Births)'!$B$2:$B$6150=AO80),1,0))","v":19}]
["06N","Herts Valleys",{"$f":"SUM(IF(('CCG-Prov(Acute)'!$A$2:$A$29012=A81),1,0))","v":171},{"$f":"SUM(IF(('CCG-Prov(Acute)'!$A$2:$A$29012=A81)*('CCG-Prov(Acute)'!$C$2:$C$29012>=Acute!$B$7),1,0))","v":16},{"$f":"IF(VALUE(MID(E$2,5,2))<=$D81,OFFSET('CCG-Prov(Acute)'!$B$1,MATCH($A81,'CCG-Prov(Acute)'!$A$2:$A$29012,0)+VALUE(RIGHT(E$2,1))-1,0),\"\")","v":"RWG"},{"$f":"IF(VALUE(MID(F$2,5,2))<=$D81,OFFSET('CCG-Prov(Acute)'!$B$1,MATCH($A81,'CCG-Prov(Acute)'!$A$2:$A$29012,0)+VALUE(RIGHT(F$2,1))-1,0),\"\")","v":"RVL"},{"$f":"IF(VALUE(MID(G$2,5,2))<=$D81,OFFSET('CCG-Prov(Acute)'!$B$1,MATCH($A81,'CCG-Prov(Acute)'!$A$2:$A$29012,0)+VALUE(RIGHT(G$2,1))-1,0),\"\")","v":"RWH"},{"$f":"IF(VALUE(MID(H$2,5,2))<=$D81,OFFSET('CCG-Prov(Acute)'!$B$1,MATCH($A81,'CCG-Prov(Acute)'!$A$2:$A$29012,0)+VALUE(RIGHT(H$2,1))-1,0),\"\")","v":"RC9"},{"$f":"IF(VALUE(MID(I$2,5,2))<=$D81,OFFSET('CCG-Prov(Acute)'!$B$1,MATCH($A81,'CCG-Prov(Acute)'!$A$2:$A$29012,0)+VALUE(RIGHT(I$2,1))-1,0),\"\")","v":"RXQ"},{"$f":"IF(VALUE(MID(J$2,5,2))<=$D81,OFFSET('CCG-Prov(Acute)'!$B$1,MATCH($A81,'CCG-Prov(Acute)'!$A$2:$A$29012,0)+VALUE(RIGHT(J$2,1))-1,0),\"\")","v":"RAL"},{"$f":"IF(VALUE(MID(K$2,5,2))<=$D81,OFFSET('CCG-Prov(Acute)'!$B$1,MATCH($A81,'CCG-Prov(Acute)'!$A$2:$A$29012,0)+VALUE(RIGHT(K$2,1))-1,0),\"\")","v":"RY4"},{"$f":"IF(VALUE(MID(L$2,5,2))<=$D81,OFFSET('CCG-Prov(Acute)'!$B$1,MATCH($A81,'CCG-Prov(Acute)'!$A$2:$A$29012,0)+VALUE(RIGHT(L$2,1))-1,0),\"\")","v":"RRV"},{"$f":"IF(VALUE(MID(M$2,5,2))<=$D81,OFFSET('CCG-Prov(Acute)'!$B$1,MATCH($A81,'CCG-Prov(Acute)'!$A$2:$A$29012,0)+VALUE(RIGHT(M$2,1))-1,0),\"\")","v":"RYJ"},{"$f":"IF(VALUE(MID(N$2,5,2))<=$D81,OFFSET('CCG-Prov(Acute)'!$B$1,MATCH($A81,'CCG-Prov(Acute)'!$A$2:$A$29012,0)+VALUE(RIGHT(N$2,1))-1,0),\"\")","v":"RYV"},null,null,"NTD",{"$f":"VLOOKUP(Q81,provnames!$A$2:$B$331,2,0)","v":"Interhealth Care Services (Uk) Ltd"},{"$f":"SUM(IF(('CCG-Prov(Acute)'!$B$2:$B$28899=Q81),1,0))","v":26},null,{"$f":"SUM(IF(('CCG-Prov(Amb)'!$A$2:$A$335=A81),1,0))","v":3},{"$f":"SUM(IF(('CCG-Prov(Amb)'!$A$2:$A$335=A81)*('CCG-Prov(Amb)'!$C$2:$C$335>=Ambulance!$B$7),1,0))","v":3},{"$f":"IF(VALUE(MID(W$2,5,2))<=$V81,OFFSET('CCG-Prov(Amb)'!$B$1,MATCH($A81,'CCG-Prov(Amb)'!$A$2:$A$335,0)+VALUE(RIGHT(W$2,1))-1,0),\"\")","v":"RYC"},{"$f":"IF(VALUE(MID(X$2,5,2))<=$V81,OFFSET('CCG-Prov(Amb)'!$B$1,MATCH($A81,'CCG-Prov(Amb)'!$A$2:$A$335,0)+VALUE(RIGHT(X$2,1))-1,0),\"\")","v":"RYE"},{"$f":"IF(VALUE(MID(Y$2,5,2))<=$V81,OFFSET('CCG-Prov(Amb)'!$B$1,MATCH($A81,'CCG-Prov(Amb)'!$A$2:$A$335,0)+VALUE(RIGHT(Y$2,1))-1,0),\"\")","v":"RRY"},{"$f":"IF(VALUE(MID(Z$2,5,2))<=$V81,OFFSET('CCG-Prov(Amb)'!$B$1,MATCH($A81,'CCG-Prov(Amb)'!$A$2:$A$335,0)+VALUE(RIGHT(Z$2,1))-1,0),\"\")","v":""},{"$f":"IF(VALUE(MID(AA$2,5,2))<=$V81,OFFSET('CCG-Prov(Amb)'!$B$1,MATCH($A81,'CCG-Prov(Amb)'!$A$2:$A$335,0)+VALUE(RIGHT(AA$2,1))-1,0),\"\")","v":""},null,null,null,null,null,{"$f":"SUM(IF(('CCG-Prov(Births)'!$A$2:$A$6150=A81),1,0))","v":64},{"$f":"SUM(IF(('CCG-Prov(Births)'!$A$2:$A$6150=A81)*('CCG-Prov(Births)'!$C$2:$C$6150>=Maternity!$B$7),1,0))","v":6},{"$f":"IF(VALUE(MID(AI$2,5,2))<=$V81,OFFSET('CCG-Prov(Births)'!$B$1,MATCH($A81,'CCG-Prov(Births)'!$A$2:$A$6150,0)+VALUE(RIGHT(AI$2,1))-1,0),\"\")","v":"RWG"},{"$f":"IF(VALUE(MID(AJ$2,5,2))<=$V81,OFFSET('CCG-Prov(Births)'!$B$1,MATCH($A81,'CCG-Prov(Births)'!$A$2:$A$6150,0)+VALUE(RIGHT(AJ$2,1))-1,0),\"\")","v":"RVL"},{"$f":"IF(VALUE(MID(AK$2,5,2))<=$V81,OFFSET('CCG-Prov(Births)'!$B$1,MATCH($A81,'CCG-Prov(Births)'!$A$2:$A$6150,0)+VALUE(RIGHT(AK$2,1))-1,0),\"\")","v":"RC9"},{"$f":"IF(VALUE(MID(AL$2,5,2))<=$V81,OFFSET('CCG-Prov(Births)'!$B$1,MATCH($A81,'CCG-Prov(Births)'!$A$2:$A$6150,0)+VALUE(RIGHT(AL$2,1))-1,0),\"\")","v":""},{"$f":"IF(VALUE(MID(AM$2,5,2))<=$V81,OFFSET('CCG-Prov(Births)'!$B$1,MATCH($A81,'CCG-Prov(Births)'!$A$2:$A$6150,0)+VALUE(RIGHT(AM$2,1))-1,0),\"\")","v":""},null,"RLQ",{"$f":"VLOOKUP(AO81,provnames!$A$2:$B$331,2,0)","v":"Wye Valley NHS Trust"},{"$f":"SUM(IF(('CCG-Prov(Births)'!$B$2:$B$6150=AO81),1,0))","v":27}]
["01D","Heywood, Middleton & Rochdale",{"$f":"SUM(IF(('CCG-Prov(Acute)'!$A$2:$A$29012=A82),1,0))","v":128},{"$f":"SUM(IF(('CCG-Prov(Acute)'!$A$2:$A$29012=A82)*('CCG-Prov(Acute)'!$C$2:$C$29012>=Acute!$B$7),1,0))","v":6},{"$f":"IF(VALUE(MID(E$2,5,2))<=$D82,OFFSET('CCG-Prov(Acute)'!$B$1,MATCH($A82,'CCG-Prov(Acute)'!$A$2:$A$29012,0)+VALUE(RIGHT(E$2,1))-1,0),\"\")","v":"RW6"},{"$f":"IF(VALUE(MID(F$2,5,2))<=$D82,OFFSET('CCG-Prov(Acute)'!$B$1,MATCH($A82,'CCG-Prov(Acute)'!$A$2:$A$29012,0)+VALUE(RIGHT(F$2,1))-1,0),\"\")","v":"RW3"},{"$f":"IF(VALUE(MID(G$2,5,2))<=$D82,OFFSET('CCG-Prov(Acute)'!$B$1,MATCH($A82,'CCG-Prov(Acute)'!$A$2:$A$29012,0)+VALUE(RIGHT(G$2,1))-1,0),\"\")","v":"RM3"},{"$f":"IF(VALUE(MID(H$2,5,2))<=$D82,OFFSET('CCG-Prov(Acute)'!$B$1,MATCH($A82,'CCG-Prov(Acute)'!$A$2:$A$29012,0)+VALUE(RIGHT(H$2,1))-1,0),\"\")","v":"NT4"},{"$f":"IF(VALUE(MID(I$2,5,2))<=$D82,OFFSET('CCG-Prov(Acute)'!$B$1,MATCH($A82,'CCG-Prov(Acute)'!$A$2:$A$29012,0)+VALUE(RIGHT(I$2,1))-1,0),\"\")","v":"RBV"},{"$f":"IF(VALUE(MID(J$2,5,2))<=$D82,OFFSET('CCG-Prov(Acute)'!$B$1,MATCH($A82,'CCG-Prov(Acute)'!$A$2:$A$29012,0)+VALUE(RIGHT(J$2,1))-1,0),\"\")","v":"RM2"},{"$f":"IF(VALUE(MID(K$2,5,2))<=$D82,OFFSET('CCG-Prov(Acute)'!$B$1,MATCH($A82,'CCG-Prov(Acute)'!$A$2:$A$29012,0)+VALUE(RIGHT(K$2,1))-1,0),\"\")","v":""},{"$f":"IF(VALUE(MID(L$2,5,2))<=$D82,OFFSET('CCG-Prov(Acute)'!$B$1,MATCH($A82,'CCG-Prov(Acute)'!$A$2:$A$29012,0)+VALUE(RIGHT(L$2,1))-1,0),\"\")","v":""},{"$f":"IF(VALUE(MID(M$2,5,2))<=$D82,OFFSET('CCG-Prov(Acute)'!$B$1,MATCH($A82,'CCG-Prov(Acute)'!$A$2:$A$29012,0)+VALUE(RIGHT(M$2,1))-1,0),\"\")","v":""},{"$f":"IF(VALUE(MID(N$2,5,2))<=$D82,OFFSET('CCG-Prov(Acute)'!$B$1,MATCH($A82,'CCG-Prov(Acute)'!$A$2:$A$29012,0)+VALUE(RIGHT(N$2,1))-1,0),\"\")","v":""},null,null,"NTE",{"$f":"VLOOKUP(Q82,provnames!$A$2:$B$331,2,0)","v":"Claremont & St Hugh's Hospitals (Hmt)"},{"$f":"SUM(IF(('CCG-Prov(Acute)'!$B$2:$B$28899=Q82),1,0))","v":29},null,{"$f":"SUM(IF(('CCG-Prov(Amb)'!$A$2:$A$335=A82),1,0))","v":2},{"$f":"SUM(IF(('CCG-Prov(Amb)'!$A$2:$A$335=A82)*('CCG-Prov(Amb)'!$C$2:$C$335>=Ambulance!$B$7),1,0))","v":1},{"$f":"IF(VALUE(MID(W$2,5,2))<=$V82,OFFSET('CCG-Prov(Amb)'!$B$1,MATCH($A82,'CCG-Prov(Amb)'!$A$2:$A$335,0)+VALUE(RIGHT(W$2,1))-1,0),\"\")","v":"RX7"},{"$f":"IF(VALUE(MID(X$2,5,2))<=$V82,OFFSET('CCG-Prov(Amb)'!$B$1,MATCH($A82,'CCG-Prov(Amb)'!$A$2:$A$335,0)+VALUE(RIGHT(X$2,1))-1,0),\"\")","v":""},{"$f":"IF(VALUE(MID(Y$2,5,2))<=$V82,OFFSET('CCG-Prov(Amb)'!$B$1,MATCH($A82,'CCG-Prov(Amb)'!$A$2:$A$335,0)+VALUE(RIGHT(Y$2,1))-1,0),\"\")","v":""},{"$f":"IF(VALUE(MID(Z$2,5,2))<=$V82,OFFSET('CCG-Prov(Amb)'!$B$1,MATCH($A82,'CCG-Prov(Amb)'!$A$2:$A$335,0)+VALUE(RIGHT(Z$2,1))-1,0),\"\")","v":""},{"$f":"IF(VALUE(MID(AA$2,5,2))<=$V82,OFFSET('CCG-Prov(Amb)'!$B$1,MATCH($A82,'CCG-Prov(Amb)'!$A$2:$A$335,0)+VALUE(RIGHT(AA$2,1))-1,0),\"\")","v":""},null,null,null,null,null,{"$f":"SUM(IF(('CCG-Prov(Births)'!$A$2:$A$6150=A82),1,0))","v":22},{"$f":"SUM(IF(('CCG-Prov(Births)'!$A$2:$A$6150=A82)*('CCG-Prov(Births)'!$C$2:$C$6150>=Maternity!$B$7),1,0))","v":2},{"$f":"IF(VALUE(MID(AI$2,5,2))<=$V82,OFFSET('CCG-Prov(Births)'!$B$1,MATCH($A82,'CCG-Prov(Births)'!$A$2:$A$6150,0)+VALUE(RIGHT(AI$2,1))-1,0),\"\")","v":"RW6"},{"$f":"IF(VALUE(MID(AJ$2,5,2))<=$V82,OFFSET('CCG-Prov(Births)'!$B$1,MATCH($A82,'CCG-Prov(Births)'!$A$2:$A$6150,0)+VALUE(RIGHT(AJ$2,1))-1,0),\"\")","v":""},{"$f":"IF(VALUE(MID(AK$2,5,2))<=$V82,OFFSET('CCG-Prov(Births)'!$B$1,MATCH($A82,'CCG-Prov(Births)'!$A$2:$A$6150,0)+VALUE(RIGHT(AK$2,1))-1,0),\"\")","v":""},{"$f":"IF(VALUE(MID(AL$2,5,2))<=$V82,OFFSET('CCG-Prov(Births)'!$B$1,MATCH($A82,'CCG-Prov(Births)'!$A$2:$A$6150,0)+VALUE(RIGHT(AL$2,1))-1,0),\"\")","v":""},{"$f":"IF(VALUE(MID(AM$2,5,2))<=$V82,OFFSET('CCG-Prov(Births)'!$B$1,MATCH($A82,'CCG-Prov(Births)'!$A$2:$A$6150,0)+VALUE(RIGHT(AM$2,1))-1,0),\"\")","v":""},null,"RLT",{"$f":"VLOOKUP(AO82,provnames!$A$2:$B$331,2,0)","v":"George Eliot Hospital NHS Trust"},{"$f":"SUM(IF(('CCG-Prov(Births)'!$B$2:$B$6150=AO82),1,0))","v":18}]
["99K","High Weald Lewes Havens",{"$f":"SUM(IF(('CCG-Prov(Acute)'!$A$2:$A$29012=A83),1,0))","v":122},{"$f":"SUM(IF(('CCG-Prov(Acute)'!$A$2:$A$29012=A83)*('CCG-Prov(Acute)'!$C$2:$C$29012>=Acute!$B$7),1,0))","v":7},{"$f":"IF(VALUE(MID(E$2,5,2))<=$D83,OFFSET('CCG-Prov(Acute)'!$B$1,MATCH($A83,'CCG-Prov(Acute)'!$A$2:$A$29012,0)+VALUE(RIGHT(E$2,1))-1,0),\"\")","v":"RXH"},{"$f":"IF(VALUE(MID(F$2,5,2))<=$D83,OFFSET('CCG-Prov(Acute)'!$B$1,MATCH($A83,'CCG-Prov(Acute)'!$A$2:$A$29012,0)+VALUE(RIGHT(F$2,1))-1,0),\"\")","v":"RWF"},{"$f":"IF(VALUE(MID(G$2,5,2))<=$D83,OFFSET('CCG-Prov(Acute)'!$B$1,MATCH($A83,'CCG-Prov(Acute)'!$A$2:$A$29012,0)+VALUE(RIGHT(G$2,1))-1,0),\"\")","v":"RXC"},{"$f":"IF(VALUE(MID(H$2,5,2))<=$D83,OFFSET('CCG-Prov(Acute)'!$B$1,MATCH($A83,'CCG-Prov(Acute)'!$A$2:$A$29012,0)+VALUE(RIGHT(H$2,1))-1,0),\"\")","v":"RPC"},{"$f":"IF(VALUE(MID(I$2,5,2))<=$D83,OFFSET('CCG-Prov(Acute)'!$B$1,MATCH($A83,'CCG-Prov(Acute)'!$A$2:$A$29012,0)+VALUE(RIGHT(I$2,1))-1,0),\"\")","v":"NXM"},{"$f":"IF(VALUE(MID(J$2,5,2))<=$D83,OFFSET('CCG-Prov(Acute)'!$B$1,MATCH($A83,'CCG-Prov(Acute)'!$A$2:$A$29012,0)+VALUE(RIGHT(J$2,1))-1,0),\"\")","v":"NTP"},{"$f":"IF(VALUE(MID(K$2,5,2))<=$D83,OFFSET('CCG-Prov(Acute)'!$B$1,MATCH($A83,'CCG-Prov(Acute)'!$A$2:$A$29012,0)+VALUE(RIGHT(K$2,1))-1,0),\"\")","v":"5P7"},{"$f":"IF(VALUE(MID(L$2,5,2))<=$D83,OFFSET('CCG-Prov(Acute)'!$B$1,MATCH($A83,'CCG-Prov(Acute)'!$A$2:$A$29012,0)+VALUE(RIGHT(L$2,1))-1,0),\"\")","v":""},{"$f":"IF(VALUE(MID(M$2,5,2))<=$D83,OFFSET('CCG-Prov(Acute)'!$B$1,MATCH($A83,'CCG-Prov(Acute)'!$A$2:$A$29012,0)+VALUE(RIGHT(M$2,1))-1,0),\"\")","v":""},{"$f":"IF(VALUE(MID(N$2,5,2))<=$D83,OFFSET('CCG-Prov(Acute)'!$B$1,MATCH($A83,'CCG-Prov(Acute)'!$A$2:$A$29012,0)+VALUE(RIGHT(N$2,1))-1,0),\"\")","v":""},null,null,"NTF",{"$f":"VLOOKUP(Q83,provnames!$A$2:$B$331,2,0)","v":"Abbey Hospitals"},{"$f":"SUM(IF(('CCG-Prov(Acute)'!$B$2:$B$28899=Q83),1,0))","v":13},null,{"$f":"SUM(IF(('CCG-Prov(Amb)'!$A$2:$A$335=A83),1,0))","v":1},{"$f":"SUM(IF(('CCG-Prov(Amb)'!$A$2:$A$335=A83)*('CCG-Prov(Amb)'!$C$2:$C$335>=Ambulance!$B$7),1,0))","v":1},{"$f":"IF(VALUE(MID(W$2,5,2))<=$V83,OFFSET('CCG-Prov(Amb)'!$B$1,MATCH($A83,'CCG-Prov(Amb)'!$A$2:$A$335,0)+VALUE(RIGHT(W$2,1))-1,0),\"\")","v":"RYD"},{"$f":"IF(VALUE(MID(X$2,5,2))<=$V83,OFFSET('CCG-Prov(Amb)'!$B$1,MATCH($A83,'CCG-Prov(Amb)'!$A$2:$A$335,0)+VALUE(RIGHT(X$2,1))-1,0),\"\")","v":""},{"$f":"IF(VALUE(MID(Y$2,5,2))<=$V83,OFFSET('CCG-Prov(Amb)'!$B$1,MATCH($A83,'CCG-Prov(Amb)'!$A$2:$A$335,0)+VALUE(RIGHT(Y$2,1))-1,0),\"\")","v":""},{"$f":"IF(VALUE(MID(Z$2,5,2))<=$V83,OFFSET('CCG-Prov(Amb)'!$B$1,MATCH($A83,'CCG-Prov(Amb)'!$A$2:$A$335,0)+VALUE(RIGHT(Z$2,1))-1,0),\"\")","v":""},{"$f":"IF(VALUE(MID(AA$2,5,2))<=$V83,OFFSET('CCG-Prov(Amb)'!$B$1,MATCH($A83,'CCG-Prov(Amb)'!$A$2:$A$335,0)+VALUE(RIGHT(AA$2,1))-1,0),\"\")","v":""},null,null,null,null,null,{"$f":"SUM(IF(('CCG-Prov(Births)'!$A$2:$A$6150=A83),1,0))","v":22},{"$f":"SUM(IF(('CCG-Prov(Births)'!$A$2:$A$6150=A83)*('CCG-Prov(Births)'!$C$2:$C$6150>=Maternity!$B$7),1,0))","v":3},{"$f":"IF(VALUE(MID(AI$2,5,2))<=$V83,OFFSET('CCG-Prov(Births)'!$B$1,MATCH($A83,'CCG-Prov(Births)'!$A$2:$A$6150,0)+VALUE(RIGHT(AI$2,1))-1,0),\"\")","v":"RXH"},{"$f":"IF(VALUE(MID(AJ$2,5,2))<=$V83,OFFSET('CCG-Prov(Births)'!$B$1,MATCH($A83,'CCG-Prov(Births)'!$A$2:$A$6150,0)+VALUE(RIGHT(AJ$2,1))-1,0),\"\")","v":""},{"$f":"IF(VALUE(MID(AK$2,5,2))<=$V83,OFFSET('CCG-Prov(Births)'!$B$1,MATCH($A83,'CCG-Prov(Births)'!$A$2:$A$6150,0)+VALUE(RIGHT(AK$2,1))-1,0),\"\")","v":""},{"$f":"IF(VALUE(MID(AL$2,5,2))<=$V83,OFFSET('CCG-Prov(Births)'!$B$1,MATCH($A83,'CCG-Prov(Births)'!$A$2:$A$6150,0)+VALUE(RIGHT(AL$2,1))-1,0),\"\")","v":""},{"$f":"IF(VALUE(MID(AM$2,5,2))<=$V83,OFFSET('CCG-Prov(Births)'!$B$1,MATCH($A83,'CCG-Prov(Births)'!$A$2:$A$6150,0)+VALUE(RIGHT(AM$2,1))-1,0),\"\")","v":""},null,"RLU",{"$f":"VLOOKUP(AO83,provnames!$A$2:$B$331,2,0)","v":"Birmingham Women's NHS FT"},{"$f":"SUM(IF(('CCG-Prov(Births)'!$B$2:$B$6150=AO83),1,0))","v":62}]
["08G","Hillingdon",{"$f":"SUM(IF(('CCG-Prov(Acute)'!$A$2:$A$29012=A84),1,0))","v":151},{"$f":"SUM(IF(('CCG-Prov(Acute)'!$A$2:$A$29012=A84)*('CCG-Prov(Acute)'!$C$2:$C$29012>=Acute!$B$7),1,0))","v":8},{"$f":"IF(VALUE(MID(E$2,5,2))<=$D84,OFFSET('CCG-Prov(Acute)'!$B$1,MATCH($A84,'CCG-Prov(Acute)'!$A$2:$A$29012,0)+VALUE(RIGHT(E$2,1))-1,0),\"\")","v":"RAS"},{"$f":"IF(VALUE(MID(F$2,5,2))<=$D84,OFFSET('CCG-Prov(Acute)'!$B$1,MATCH($A84,'CCG-Prov(Acute)'!$A$2:$A$29012,0)+VALUE(RIGHT(F$2,1))-1,0),\"\")","v":"RV8"},{"$f":"IF(VALUE(MID(G$2,5,2))<=$D84,OFFSET('CCG-Prov(Acute)'!$B$1,MATCH($A84,'CCG-Prov(Acute)'!$A$2:$A$29012,0)+VALUE(RIGHT(G$2,1))-1,0),\"\")","v":"RYJ"},{"$f":"IF(VALUE(MID(H$2,5,2))<=$D84,OFFSET('CCG-Prov(Acute)'!$B$1,MATCH($A84,'CCG-Prov(Acute)'!$A$2:$A$29012,0)+VALUE(RIGHT(H$2,1))-1,0),\"\")","v":"RWG"},{"$f":"IF(VALUE(MID(I$2,5,2))<=$D84,OFFSET('CCG-Prov(Acute)'!$B$1,MATCH($A84,'CCG-Prov(Acute)'!$A$2:$A$29012,0)+VALUE(RIGHT(I$2,1))-1,0),\"\")","v":"RT3"},{"$f":"IF(VALUE(MID(J$2,5,2))<=$D84,OFFSET('CCG-Prov(Acute)'!$B$1,MATCH($A84,'CCG-Prov(Acute)'!$A$2:$A$29012,0)+VALUE(RIGHT(J$2,1))-1,0),\"\")","v":"RAL"},{"$f":"IF(VALUE(MID(K$2,5,2))<=$D84,OFFSET('CCG-Prov(Acute)'!$B$1,MATCH($A84,'CCG-Prov(Acute)'!$A$2:$A$29012,0)+VALUE(RIGHT(K$2,1))-1,0),\"\")","v":"RC3"},{"$f":"IF(VALUE(MID(L$2,5,2))<=$D84,OFFSET('CCG-Prov(Acute)'!$B$1,MATCH($A84,'CCG-Prov(Acute)'!$A$2:$A$29012,0)+VALUE(RIGHT(L$2,1))-1,0),\"\")","v":"RWH"},{"$f":"IF(VALUE(MID(M$2,5,2))<=$D84,OFFSET('CCG-Prov(Acute)'!$B$1,MATCH($A84,'CCG-Prov(Acute)'!$A$2:$A$29012,0)+VALUE(RIGHT(M$2,1))-1,0),\"\")","v":""},{"$f":"IF(VALUE(MID(N$2,5,2))<=$D84,OFFSET('CCG-Prov(Acute)'!$B$1,MATCH($A84,'CCG-Prov(Acute)'!$A$2:$A$29012,0)+VALUE(RIGHT(N$2,1))-1,0),\"\")","v":""},null,null,"NTP",{"$f":"VLOOKUP(Q84,provnames!$A$2:$B$331,2,0)","v":"Care UK"},{"$f":"SUM(IF(('CCG-Prov(Acute)'!$B$2:$B$28899=Q84),1,0))","v":129},null,{"$f":"SUM(IF(('CCG-Prov(Amb)'!$A$2:$A$335=A84),1,0))","v":4},{"$f":"SUM(IF(('CCG-Prov(Amb)'!$A$2:$A$335=A84)*('CCG-Prov(Amb)'!$C$2:$C$335>=Ambulance!$B$7),1,0))","v":3},{"$f":"IF(VALUE(MID(W$2,5,2))<=$V84,OFFSET('CCG-Prov(Amb)'!$B$1,MATCH($A84,'CCG-Prov(Amb)'!$A$2:$A$335,0)+VALUE(RIGHT(W$2,1))-1,0),\"\")","v":"RRY"},{"$f":"IF(VALUE(MID(X$2,5,2))<=$V84,OFFSET('CCG-Prov(Amb)'!$B$1,MATCH($A84,'CCG-Prov(Amb)'!$A$2:$A$335,0)+VALUE(RIGHT(X$2,1))-1,0),\"\")","v":"RYC"},{"$f":"IF(VALUE(MID(Y$2,5,2))<=$V84,OFFSET('CCG-Prov(Amb)'!$B$1,MATCH($A84,'CCG-Prov(Amb)'!$A$2:$A$335,0)+VALUE(RIGHT(Y$2,1))-1,0),\"\")","v":"RYE"},{"$f":"IF(VALUE(MID(Z$2,5,2))<=$V84,OFFSET('CCG-Prov(Amb)'!$B$1,MATCH($A84,'CCG-Prov(Amb)'!$A$2:$A$335,0)+VALUE(RIGHT(Z$2,1))-1,0),\"\")","v":""},{"$f":"IF(VALUE(MID(AA$2,5,2))<=$V84,OFFSET('CCG-Prov(Amb)'!$B$1,MATCH($A84,'CCG-Prov(Amb)'!$A$2:$A$335,0)+VALUE(RIGHT(AA$2,1))-1,0),\"\")","v":""},null,null,null,null,null,{"$f":"SUM(IF(('CCG-Prov(Births)'!$A$2:$A$6150=A84),1,0))","v":46},{"$f":"SUM(IF(('CCG-Prov(Births)'!$A$2:$A$6150=A84)*('CCG-Prov(Births)'!$C$2:$C$6150>=Maternity!$B$7),1,0))","v":5},{"$f":"IF(VALUE(MID(AI$2,5,2))<=$V84,OFFSET('CCG-Prov(Births)'!$B$1,MATCH($A84,'CCG-Prov(Births)'!$A$2:$A$6150,0)+VALUE(RIGHT(AI$2,1))-1,0),\"\")","v":"RAS"},{"$f":"IF(VALUE(MID(AJ$2,5,2))<=$V84,OFFSET('CCG-Prov(Births)'!$B$1,MATCH($A84,'CCG-Prov(Births)'!$A$2:$A$6150,0)+VALUE(RIGHT(AJ$2,1))-1,0),\"\")","v":"RWG"},{"$f":"IF(VALUE(MID(AK$2,5,2))<=$V84,OFFSET('CCG-Prov(Births)'!$B$1,MATCH($A84,'CCG-Prov(Births)'!$A$2:$A$6150,0)+VALUE(RIGHT(AK$2,1))-1,0),\"\")","v":"RYJ"},{"$f":"IF(VALUE(MID(AL$2,5,2))<=$V84,OFFSET('CCG-Prov(Births)'!$B$1,MATCH($A84,'CCG-Prov(Births)'!$A$2:$A$6150,0)+VALUE(RIGHT(AL$2,1))-1,0),\"\")","v":""},{"$f":"IF(VALUE(MID(AM$2,5,2))<=$V84,OFFSET('CCG-Prov(Births)'!$B$1,MATCH($A84,'CCG-Prov(Births)'!$A$2:$A$6150,0)+VALUE(RIGHT(AM$2,1))-1,0),\"\")","v":""},null,"RM1",{"$f":"VLOOKUP(AO84,provnames!$A$2:$B$331,2,0)","v":"Norfolk & Norwich Univ Hospitals NHS FT"},{"$f":"SUM(IF(('CCG-Prov(Births)'!$B$2:$B$6150=AO84),1,0))","v":46}]
["09X","Horsham & Mid Sussex",{"$f":"SUM(IF(('CCG-Prov(Acute)'!$A$2:$A$29012=A85),1,0))","v":138},{"$f":"SUM(IF(('CCG-Prov(Acute)'!$A$2:$A$29012=A85)*('CCG-Prov(Acute)'!$C$2:$C$29012>=Acute!$B$7),1,0))","v":7},{"$f":"IF(VALUE(MID(E$2,5,2))<=$D85,OFFSET('CCG-Prov(Acute)'!$B$1,MATCH($A85,'CCG-Prov(Acute)'!$A$2:$A$29012,0)+VALUE(RIGHT(E$2,1))-1,0),\"\")","v":"RXH"},{"$f":"IF(VALUE(MID(F$2,5,2))<=$D85,OFFSET('CCG-Prov(Acute)'!$B$1,MATCH($A85,'CCG-Prov(Acute)'!$A$2:$A$29012,0)+VALUE(RIGHT(F$2,1))-1,0),\"\")","v":"RTP"},{"$f":"IF(VALUE(MID(G$2,5,2))<=$D85,OFFSET('CCG-Prov(Acute)'!$B$1,MATCH($A85,'CCG-Prov(Acute)'!$A$2:$A$29012,0)+VALUE(RIGHT(G$2,1))-1,0),\"\")","v":"RPC"},{"$f":"IF(VALUE(MID(H$2,5,2))<=$D85,OFFSET('CCG-Prov(Acute)'!$B$1,MATCH($A85,'CCG-Prov(Acute)'!$A$2:$A$29012,0)+VALUE(RIGHT(H$2,1))-1,0),\"\")","v":"NTP"},{"$f":"IF(VALUE(MID(I$2,5,2))<=$D85,OFFSET('CCG-Prov(Acute)'!$B$1,MATCH($A85,'CCG-Prov(Acute)'!$A$2:$A$29012,0)+VALUE(RIGHT(I$2,1))-1,0),\"\")","v":"RYR"},{"$f":"IF(VALUE(MID(J$2,5,2))<=$D85,OFFSET('CCG-Prov(Acute)'!$B$1,MATCH($A85,'CCG-Prov(Acute)'!$A$2:$A$29012,0)+VALUE(RIGHT(J$2,1))-1,0),\"\")","v":"RA2"},{"$f":"IF(VALUE(MID(K$2,5,2))<=$D85,OFFSET('CCG-Prov(Acute)'!$B$1,MATCH($A85,'CCG-Prov(Acute)'!$A$2:$A$29012,0)+VALUE(RIGHT(K$2,1))-1,0),\"\")","v":"RWF"},{"$f":"IF(VALUE(MID(L$2,5,2))<=$D85,OFFSET('CCG-Prov(Acute)'!$B$1,MATCH($A85,'CCG-Prov(Acute)'!$A$2:$A$29012,0)+VALUE(RIGHT(L$2,1))-1,0),\"\")","v":""},{"$f":"IF(VALUE(MID(M$2,5,2))<=$D85,OFFSET('CCG-Prov(Acute)'!$B$1,MATCH($A85,'CCG-Prov(Acute)'!$A$2:$A$29012,0)+VALUE(RIGHT(M$2,1))-1,0),\"\")","v":""},{"$f":"IF(VALUE(MID(N$2,5,2))<=$D85,OFFSET('CCG-Prov(Acute)'!$B$1,MATCH($A85,'CCG-Prov(Acute)'!$A$2:$A$29012,0)+VALUE(RIGHT(N$2,1))-1,0),\"\")","v":""},null,null,"NTY",{"$f":"VLOOKUP(Q85,provnames!$A$2:$B$331,2,0)","v":"Other Private Healthcare Providers"},{"$f":"SUM(IF(('CCG-Prov(Acute)'!$B$2:$B$28899=Q85),1,0))","v":19},null,{"$f":"SUM(IF(('CCG-Prov(Amb)'!$A$2:$A$335=A85),1,0))","v":1},{"$f":"SUM(IF(('CCG-Prov(Amb)'!$A$2:$A$335=A85)*('CCG-Prov(Amb)'!$C$2:$C$335>=Ambulance!$B$7),1,0))","v":1},{"$f":"IF(VALUE(MID(W$2,5,2))<=$V85,OFFSET('CCG-Prov(Amb)'!$B$1,MATCH($A85,'CCG-Prov(Amb)'!$A$2:$A$335,0)+VALUE(RIGHT(W$2,1))-1,0),\"\")","v":"RYD"},{"$f":"IF(VALUE(MID(X$2,5,2))<=$V85,OFFSET('CCG-Prov(Amb)'!$B$1,MATCH($A85,'CCG-Prov(Amb)'!$A$2:$A$335,0)+VALUE(RIGHT(X$2,1))-1,0),\"\")","v":""},{"$f":"IF(VALUE(MID(Y$2,5,2))<=$V85,OFFSET('CCG-Prov(Amb)'!$B$1,MATCH($A85,'CCG-Prov(Amb)'!$A$2:$A$335,0)+VALUE(RIGHT(Y$2,1))-1,0),\"\")","v":""},{"$f":"IF(VALUE(MID(Z$2,5,2))<=$V85,OFFSET('CCG-Prov(Amb)'!$B$1,MATCH($A85,'CCG-Prov(Amb)'!$A$2:$A$335,0)+VALUE(RIGHT(Z$2,1))-1,0),\"\")","v":""},{"$f":"IF(VALUE(MID(AA$2,5,2))<=$V85,OFFSET('CCG-Prov(Amb)'!$B$1,MATCH($A85,'CCG-Prov(Amb)'!$A$2:$A$335,0)+VALUE(RIGHT(AA$2,1))-1,0),\"\")","v":""},null,null,null,null,null,{"$f":"SUM(IF(('CCG-Prov(Births)'!$A$2:$A$6150=A85),1,0))","v":28},{"$f":"SUM(IF(('CCG-Prov(Births)'!$A$2:$A$6150=A85)*('CCG-Prov(Births)'!$C$2:$C$6150>=Maternity!$B$7),1,0))","v":4},{"$f":"IF(VALUE(MID(AI$2,5,2))<=$V85,OFFSET('CCG-Prov(Births)'!$B$1,MATCH($A85,'CCG-Prov(Births)'!$A$2:$A$6150,0)+VALUE(RIGHT(AI$2,1))-1,0),\"\")","v":"RXH"},{"$f":"IF(VALUE(MID(AJ$2,5,2))<=$V85,OFFSET('CCG-Prov(Births)'!$B$1,MATCH($A85,'CCG-Prov(Births)'!$A$2:$A$6150,0)+VALUE(RIGHT(AJ$2,1))-1,0),\"\")","v":""},{"$f":"IF(VALUE(MID(AK$2,5,2))<=$V85,OFFSET('CCG-Prov(Births)'!$B$1,MATCH($A85,'CCG-Prov(Births)'!$A$2:$A$6150,0)+VALUE(RIGHT(AK$2,1))-1,0),\"\")","v":""},{"$f":"IF(VALUE(MID(AL$2,5,2))<=$V85,OFFSET('CCG-Prov(Births)'!$B$1,MATCH($A85,'CCG-Prov(Births)'!$A$2:$A$6150,0)+VALUE(RIGHT(AL$2,1))-1,0),\"\")","v":""},{"$f":"IF(VALUE(MID(AM$2,5,2))<=$V85,OFFSET('CCG-Prov(Births)'!$B$1,MATCH($A85,'CCG-Prov(Births)'!$A$2:$A$6150,0)+VALUE(RIGHT(AM$2,1))-1,0),\"\")","v":""},null,"RM2",{"$f":"VLOOKUP(AO85,provnames!$A$2:$B$331,2,0)","v":"University Hospital of South Manchester NHS FT"},{"$f":"SUM(IF(('CCG-Prov(Births)'!$B$2:$B$6150=AO85),1,0))","v":41}]
["07Y","Hounslow",{"$f":"SUM(IF(('CCG-Prov(Acute)'!$A$2:$A$29012=A86),1,0))","v":142},{"$f":"SUM(IF(('CCG-Prov(Acute)'!$A$2:$A$29012=A86)*('CCG-Prov(Acute)'!$C$2:$C$29012>=Acute!$B$7),1,0))","v":6},{"$f":"IF(VALUE(MID(E$2,5,2))<=$D86,OFFSET('CCG-Prov(Acute)'!$B$1,MATCH($A86,'CCG-Prov(Acute)'!$A$2:$A$29012,0)+VALUE(RIGHT(E$2,1))-1,0),\"\")","v":"RFW"},{"$f":"IF(VALUE(MID(F$2,5,2))<=$D86,OFFSET('CCG-Prov(Acute)'!$B$1,MATCH($A86,'CCG-Prov(Acute)'!$A$2:$A$29012,0)+VALUE(RIGHT(F$2,1))-1,0),\"\")","v":"RYJ"},{"$f":"IF(VALUE(MID(G$2,5,2))<=$D86,OFFSET('CCG-Prov(Acute)'!$B$1,MATCH($A86,'CCG-Prov(Acute)'!$A$2:$A$29012,0)+VALUE(RIGHT(G$2,1))-1,0),\"\")","v":"RTK"},{"$f":"IF(VALUE(MID(H$2,5,2))<=$D86,OFFSET('CCG-Prov(Acute)'!$B$1,MATCH($A86,'CCG-Prov(Acute)'!$A$2:$A$29012,0)+VALUE(RIGHT(H$2,1))-1,0),\"\")","v":"RQM"},{"$f":"IF(VALUE(MID(I$2,5,2))<=$D86,OFFSET('CCG-Prov(Acute)'!$B$1,MATCH($A86,'CCG-Prov(Acute)'!$A$2:$A$29012,0)+VALUE(RIGHT(I$2,1))-1,0),\"\")","v":"RC3"},{"$f":"IF(VALUE(MID(J$2,5,2))<=$D86,OFFSET('CCG-Prov(Acute)'!$B$1,MATCH($A86,'CCG-Prov(Acute)'!$A$2:$A$29012,0)+VALUE(RIGHT(J$2,1))-1,0),\"\")","v":"RAS"},{"$f":"IF(VALUE(MID(K$2,5,2))<=$D86,OFFSET('CCG-Prov(Acute)'!$B$1,MATCH($A86,'CCG-Prov(Acute)'!$A$2:$A$29012,0)+VALUE(RIGHT(K$2,1))-1,0),\"\")","v":""},{"$f":"IF(VALUE(MID(L$2,5,2))<=$D86,OFFSET('CCG-Prov(Acute)'!$B$1,MATCH($A86,'CCG-Prov(Acute)'!$A$2:$A$29012,0)+VALUE(RIGHT(L$2,1))-1,0),\"\")","v":""},{"$f":"IF(VALUE(MID(M$2,5,2))<=$D86,OFFSET('CCG-Prov(Acute)'!$B$1,MATCH($A86,'CCG-Prov(Acute)'!$A$2:$A$29012,0)+VALUE(RIGHT(M$2,1))-1,0),\"\")","v":""},{"$f":"IF(VALUE(MID(N$2,5,2))<=$D86,OFFSET('CCG-Prov(Acute)'!$B$1,MATCH($A86,'CCG-Prov(Acute)'!$A$2:$A$29012,0)+VALUE(RIGHT(N$2,1))-1,0),\"\")","v":""},null,null,"NV3",{"$f":"VLOOKUP(Q86,provnames!$A$2:$B$331,2,0)","v":"Circle"},{"$f":"SUM(IF(('CCG-Prov(Acute)'!$B$2:$B$28899=Q86),1,0))","v":9},null,{"$f":"SUM(IF(('CCG-Prov(Amb)'!$A$2:$A$335=A86),1,0))","v":2},{"$f":"SUM(IF(('CCG-Prov(Amb)'!$A$2:$A$335=A86)*('CCG-Prov(Amb)'!$C$2:$C$335>=Ambulance!$B$7),1,0))","v":2},{"$f":"IF(VALUE(MID(W$2,5,2))<=$V86,OFFSET('CCG-Prov(Amb)'!$B$1,MATCH($A86,'CCG-Prov(Amb)'!$A$2:$A$335,0)+VALUE(RIGHT(W$2,1))-1,0),\"\")","v":"RRY"},{"$f":"IF(VALUE(MID(X$2,5,2))<=$V86,OFFSET('CCG-Prov(Amb)'!$B$1,MATCH($A86,'CCG-Prov(Amb)'!$A$2:$A$335,0)+VALUE(RIGHT(X$2,1))-1,0),\"\")","v":"RYD"},{"$f":"IF(VALUE(MID(Y$2,5,2))<=$V86,OFFSET('CCG-Prov(Amb)'!$B$1,MATCH($A86,'CCG-Prov(Amb)'!$A$2:$A$335,0)+VALUE(RIGHT(Y$2,1))-1,0),\"\")","v":""},{"$f":"IF(VALUE(MID(Z$2,5,2))<=$V86,OFFSET('CCG-Prov(Amb)'!$B$1,MATCH($A86,'CCG-Prov(Amb)'!$A$2:$A$335,0)+VALUE(RIGHT(Z$2,1))-1,0),\"\")","v":""},{"$f":"IF(VALUE(MID(AA$2,5,2))<=$V86,OFFSET('CCG-Prov(Amb)'!$B$1,MATCH($A86,'CCG-Prov(Amb)'!$A$2:$A$335,0)+VALUE(RIGHT(AA$2,1))-1,0),\"\")","v":""},null,null,null,null,null,{"$f":"SUM(IF(('CCG-Prov(Births)'!$A$2:$A$6150=A86),1,0))","v":50},{"$f":"SUM(IF(('CCG-Prov(Births)'!$A$2:$A$6150=A86)*('CCG-Prov(Births)'!$C$2:$C$6150>=Maternity!$B$7),1,0))","v":6},{"$f":"IF(VALUE(MID(AI$2,5,2))<=$V86,OFFSET('CCG-Prov(Births)'!$B$1,MATCH($A86,'CCG-Prov(Births)'!$A$2:$A$6150,0)+VALUE(RIGHT(AI$2,1))-1,0),\"\")","v":"RFW"},{"$f":"IF(VALUE(MID(AJ$2,5,2))<=$V86,OFFSET('CCG-Prov(Births)'!$B$1,MATCH($A86,'CCG-Prov(Births)'!$A$2:$A$6150,0)+VALUE(RIGHT(AJ$2,1))-1,0),\"\")","v":"RYJ"},{"$f":"IF(VALUE(MID(AK$2,5,2))<=$V86,OFFSET('CCG-Prov(Births)'!$B$1,MATCH($A86,'CCG-Prov(Births)'!$A$2:$A$6150,0)+VALUE(RIGHT(AK$2,1))-1,0),\"\")","v":""},{"$f":"IF(VALUE(MID(AL$2,5,2))<=$V86,OFFSET('CCG-Prov(Births)'!$B$1,MATCH($A86,'CCG-Prov(Births)'!$A$2:$A$6150,0)+VALUE(RIGHT(AL$2,1))-1,0),\"\")","v":""},{"$f":"IF(VALUE(MID(AM$2,5,2))<=$V86,OFFSET('CCG-Prov(Births)'!$B$1,MATCH($A86,'CCG-Prov(Births)'!$A$2:$A$6150,0)+VALUE(RIGHT(AM$2,1))-1,0),\"\")","v":""},null,"RM3",{"$f":"VLOOKUP(AO86,provnames!$A$2:$B$331,2,0)","v":"Salford Royal NHS FT"},{"$f":"SUM(IF(('CCG-Prov(Births)'!$B$2:$B$6150=AO86),1,0))","v":52}]
["03F","Hull",{"$f":"SUM(IF(('CCG-Prov(Acute)'!$A$2:$A$29012=A87),1,0))","v":142},{"$f":"SUM(IF(('CCG-Prov(Acute)'!$A$2:$A$29012=A87)*('CCG-Prov(Acute)'!$C$2:$C$29012>=Acute!$B$7),1,0))","v":2},{"$f":"IF(VALUE(MID(E$2,5,2))<=$D87,OFFSET('CCG-Prov(Acute)'!$B$1,MATCH($A87,'CCG-Prov(Acute)'!$A$2:$A$29012,0)+VALUE(RIGHT(E$2,1))-1,0),\"\")","v":"RWA"},{"$f":"IF(VALUE(MID(F$2,5,2))<=$D87,OFFSET('CCG-Prov(Acute)'!$B$1,MATCH($A87,'CCG-Prov(Acute)'!$A$2:$A$29012,0)+VALUE(RIGHT(F$2,1))-1,0),\"\")","v":"NT3"},{"$f":"IF(VALUE(MID(G$2,5,2))<=$D87,OFFSET('CCG-Prov(Acute)'!$B$1,MATCH($A87,'CCG-Prov(Acute)'!$A$2:$A$29012,0)+VALUE(RIGHT(G$2,1))-1,0),\"\")","v":""},{"$f":"IF(VALUE(MID(H$2,5,2))<=$D87,OFFSET('CCG-Prov(Acute)'!$B$1,MATCH($A87,'CCG-Prov(Acute)'!$A$2:$A$29012,0)+VALUE(RIGHT(H$2,1))-1,0),\"\")","v":""},{"$f":"IF(VALUE(MID(I$2,5,2))<=$D87,OFFSET('CCG-Prov(Acute)'!$B$1,MATCH($A87,'CCG-Prov(Acute)'!$A$2:$A$29012,0)+VALUE(RIGHT(I$2,1))-1,0),\"\")","v":""},{"$f":"IF(VALUE(MID(J$2,5,2))<=$D87,OFFSET('CCG-Prov(Acute)'!$B$1,MATCH($A87,'CCG-Prov(Acute)'!$A$2:$A$29012,0)+VALUE(RIGHT(J$2,1))-1,0),\"\")","v":""},{"$f":"IF(VALUE(MID(K$2,5,2))<=$D87,OFFSET('CCG-Prov(Acute)'!$B$1,MATCH($A87,'CCG-Prov(Acute)'!$A$2:$A$29012,0)+VALUE(RIGHT(K$2,1))-1,0),\"\")","v":""},{"$f":"IF(VALUE(MID(L$2,5,2))<=$D87,OFFSET('CCG-Prov(Acute)'!$B$1,MATCH($A87,'CCG-Prov(Acute)'!$A$2:$A$29012,0)+VALUE(RIGHT(L$2,1))-1,0),\"\")","v":""},{"$f":"IF(VALUE(MID(M$2,5,2))<=$D87,OFFSET('CCG-Prov(Acute)'!$B$1,MATCH($A87,'CCG-Prov(Acute)'!$A$2:$A$29012,0)+VALUE(RIGHT(M$2,1))-1,0),\"\")","v":""},{"$f":"IF(VALUE(MID(N$2,5,2))<=$D87,OFFSET('CCG-Prov(Acute)'!$B$1,MATCH($A87,'CCG-Prov(Acute)'!$A$2:$A$29012,0)+VALUE(RIGHT(N$2,1))-1,0),\"\")","v":""},null,null,"NVC",{"$f":"VLOOKUP(Q87,provnames!$A$2:$B$331,2,0)","v":"Ramsay Healthcare UK Operations Ltd"},{"$f":"SUM(IF(('CCG-Prov(Acute)'!$B$2:$B$28899=Q87),1,0))","v":191},null,{"$f":"SUM(IF(('CCG-Prov(Amb)'!$A$2:$A$335=A87),1,0))","v":2},{"$f":"SUM(IF(('CCG-Prov(Amb)'!$A$2:$A$335=A87)*('CCG-Prov(Amb)'!$C$2:$C$335>=Ambulance!$B$7),1,0))","v":1},{"$f":"IF(VALUE(MID(W$2,5,2))<=$V87,OFFSET('CCG-Prov(Amb)'!$B$1,MATCH($A87,'CCG-Prov(Amb)'!$A$2:$A$335,0)+VALUE(RIGHT(W$2,1))-1,0),\"\")","v":"RX8"},{"$f":"IF(VALUE(MID(X$2,5,2))<=$V87,OFFSET('CCG-Prov(Amb)'!$B$1,MATCH($A87,'CCG-Prov(Amb)'!$A$2:$A$335,0)+VALUE(RIGHT(X$2,1))-1,0),\"\")","v":""},{"$f":"IF(VALUE(MID(Y$2,5,2))<=$V87,OFFSET('CCG-Prov(Amb)'!$B$1,MATCH($A87,'CCG-Prov(Amb)'!$A$2:$A$335,0)+VALUE(RIGHT(Y$2,1))-1,0),\"\")","v":""},{"$f":"IF(VALUE(MID(Z$2,5,2))<=$V87,OFFSET('CCG-Prov(Amb)'!$B$1,MATCH($A87,'CCG-Prov(Amb)'!$A$2:$A$335,0)+VALUE(RIGHT(Z$2,1))-1,0),\"\")","v":""},{"$f":"IF(VALUE(MID(AA$2,5,2))<=$V87,OFFSET('CCG-Prov(Amb)'!$B$1,MATCH($A87,'CCG-Prov(Amb)'!$A$2:$A$335,0)+VALUE(RIGHT(AA$2,1))-1,0),\"\")","v":""},null,null,null,null,null,{"$f":"SUM(IF(('CCG-Prov(Births)'!$A$2:$A$6150=A87),1,0))","v":24},{"$f":"SUM(IF(('CCG-Prov(Births)'!$A$2:$A$6150=A87)*('CCG-Prov(Births)'!$C$2:$C$6150>=Maternity!$B$7),1,0))","v":1},{"$f":"IF(VALUE(MID(AI$2,5,2))<=$V87,OFFSET('CCG-Prov(Births)'!$B$1,MATCH($A87,'CCG-Prov(Births)'!$A$2:$A$6150,0)+VALUE(RIGHT(AI$2,1))-1,0),\"\")","v":"RWA"},{"$f":"IF(VALUE(MID(AJ$2,5,2))<=$V87,OFFSET('CCG-Prov(Births)'!$B$1,MATCH($A87,'CCG-Prov(Births)'!$A$2:$A$6150,0)+VALUE(RIGHT(AJ$2,1))-1,0),\"\")","v":""},{"$f":"IF(VALUE(MID(AK$2,5,2))<=$V87,OFFSET('CCG-Prov(Births)'!$B$1,MATCH($A87,'CCG-Prov(Births)'!$A$2:$A$6150,0)+VALUE(RIGHT(AK$2,1))-1,0),\"\")","v":""},{"$f":"IF(VALUE(MID(AL$2,5,2))<=$V87,OFFSET('CCG-Prov(Births)'!$B$1,MATCH($A87,'CCG-Prov(Births)'!$A$2:$A$6150,0)+VALUE(RIGHT(AL$2,1))-1,0),\"\")","v":""},{"$f":"IF(VALUE(MID(AM$2,5,2))<=$V87,OFFSET('CCG-Prov(Births)'!$B$1,MATCH($A87,'CCG-Prov(Births)'!$A$2:$A$6150,0)+VALUE(RIGHT(AM$2,1))-1,0),\"\")","v":""},null,"RMC",{"$f":"VLOOKUP(AO87,provnames!$A$2:$B$331,2,0)","v":"Bolton NHS FT"},{"$f":"SUM(IF(('CCG-Prov(Births)'!$B$2:$B$6150=AO87),1,0))","v":37}]
["06L","Ipswich & East Suffolk",{"$f":"SUM(IF(('CCG-Prov(Acute)'!$A$2:$A$29012=A88),1,0))","v":149},{"$f":"SUM(IF(('CCG-Prov(Acute)'!$A$2:$A$29012=A88)*('CCG-Prov(Acute)'!$C$2:$C$29012>=Acute!$B$7),1,0))","v":6},{"$f":"IF(VALUE(MID(E$2,5,2))<=$D88,OFFSET('CCG-Prov(Acute)'!$B$1,MATCH($A88,'CCG-Prov(Acute)'!$A$2:$A$29012,0)+VALUE(RIGHT(E$2,1))-1,0),\"\")","v":"RGQ"},{"$f":"IF(VALUE(MID(F$2,5,2))<=$D88,OFFSET('CCG-Prov(Acute)'!$B$1,MATCH($A88,'CCG-Prov(Acute)'!$A$2:$A$29012,0)+VALUE(RIGHT(F$2,1))-1,0),\"\")","v":"RGR"},{"$f":"IF(VALUE(MID(G$2,5,2))<=$D88,OFFSET('CCG-Prov(Acute)'!$B$1,MATCH($A88,'CCG-Prov(Acute)'!$A$2:$A$29012,0)+VALUE(RIGHT(G$2,1))-1,0),\"\")","v":"RGT"},{"$f":"IF(VALUE(MID(H$2,5,2))<=$D88,OFFSET('CCG-Prov(Acute)'!$B$1,MATCH($A88,'CCG-Prov(Acute)'!$A$2:$A$29012,0)+VALUE(RIGHT(H$2,1))-1,0),\"\")","v":"RM1"},{"$f":"IF(VALUE(MID(I$2,5,2))<=$D88,OFFSET('CCG-Prov(Acute)'!$B$1,MATCH($A88,'CCG-Prov(Acute)'!$A$2:$A$29012,0)+VALUE(RIGHT(I$2,1))-1,0),\"\")","v":"RGM"},{"$f":"IF(VALUE(MID(J$2,5,2))<=$D88,OFFSET('CCG-Prov(Acute)'!$B$1,MATCH($A88,'CCG-Prov(Acute)'!$A$2:$A$29012,0)+VALUE(RIGHT(J$2,1))-1,0),\"\")","v":"RDE"},{"$f":"IF(VALUE(MID(K$2,5,2))<=$D88,OFFSET('CCG-Prov(Acute)'!$B$1,MATCH($A88,'CCG-Prov(Acute)'!$A$2:$A$29012,0)+VALUE(RIGHT(K$2,1))-1,0),\"\")","v":""},{"$f":"IF(VALUE(MID(L$2,5,2))<=$D88,OFFSET('CCG-Prov(Acute)'!$B$1,MATCH($A88,'CCG-Prov(Acute)'!$A$2:$A$29012,0)+VALUE(RIGHT(L$2,1))-1,0),\"\")","v":""},{"$f":"IF(VALUE(MID(M$2,5,2))<=$D88,OFFSET('CCG-Prov(Acute)'!$B$1,MATCH($A88,'CCG-Prov(Acute)'!$A$2:$A$29012,0)+VALUE(RIGHT(M$2,1))-1,0),\"\")","v":""},{"$f":"IF(VALUE(MID(N$2,5,2))<=$D88,OFFSET('CCG-Prov(Acute)'!$B$1,MATCH($A88,'CCG-Prov(Acute)'!$A$2:$A$29012,0)+VALUE(RIGHT(N$2,1))-1,0),\"\")","v":""},null,null,"NVG",{"$f":"VLOOKUP(Q88,provnames!$A$2:$B$331,2,0)","v":"Fairfield Hospital"},{"$f":"SUM(IF(('CCG-Prov(Acute)'!$B$2:$B$28899=Q88),1,0))","v":15},null,{"$f":"SUM(IF(('CCG-Prov(Amb)'!$A$2:$A$335=A88),1,0))","v":1},{"$f":"SUM(IF(('CCG-Prov(Amb)'!$A$2:$A$335=A88)*('CCG-Prov(Amb)'!$C$2:$C$335>=Ambulance!$B$7),1,0))","v":1},{"$f":"IF(VALUE(MID(W$2,5,2))<=$V88,OFFSET('CCG-Prov(Amb)'!$B$1,MATCH($A88,'CCG-Prov(Amb)'!$A$2:$A$335,0)+VALUE(RIGHT(W$2,1))-1,0),\"\")","v":"RYC"},{"$f":"IF(VALUE(MID(X$2,5,2))<=$V88,OFFSET('CCG-Prov(Amb)'!$B$1,MATCH($A88,'CCG-Prov(Amb)'!$A$2:$A$335,0)+VALUE(RIGHT(X$2,1))-1,0),\"\")","v":""},{"$f":"IF(VALUE(MID(Y$2,5,2))<=$V88,OFFSET('CCG-Prov(Amb)'!$B$1,MATCH($A88,'CCG-Prov(Amb)'!$A$2:$A$335,0)+VALUE(RIGHT(Y$2,1))-1,0),\"\")","v":""},{"$f":"IF(VALUE(MID(Z$2,5,2))<=$V88,OFFSET('CCG-Prov(Amb)'!$B$1,MATCH($A88,'CCG-Prov(Amb)'!$A$2:$A$335,0)+VALUE(RIGHT(Z$2,1))-1,0),\"\")","v":""},{"$f":"IF(VALUE(MID(AA$2,5,2))<=$V88,OFFSET('CCG-Prov(Amb)'!$B$1,MATCH($A88,'CCG-Prov(Amb)'!$A$2:$A$335,0)+VALUE(RIGHT(AA$2,1))-1,0),\"\")","v":""},null,null,null,null,null,{"$f":"SUM(IF(('CCG-Prov(Births)'!$A$2:$A$6150=A88),1,0))","v":39},{"$f":"SUM(IF(('CCG-Prov(Births)'!$A$2:$A$6150=A88)*('CCG-Prov(Births)'!$C$2:$C$6150>=Maternity!$B$7),1,0))","v":2},{"$f":"IF(VALUE(MID(AI$2,5,2))<=$V88,OFFSET('CCG-Prov(Births)'!$B$1,MATCH($A88,'CCG-Prov(Births)'!$A$2:$A$6150,0)+VALUE(RIGHT(AI$2,1))-1,0),\"\")","v":"RGQ"},{"$f":"IF(VALUE(MID(AJ$2,5,2))<=$V88,OFFSET('CCG-Prov(Births)'!$B$1,MATCH($A88,'CCG-Prov(Births)'!$A$2:$A$6150,0)+VALUE(RIGHT(AJ$2,1))-1,0),\"\")","v":""},{"$f":"IF(VALUE(MID(AK$2,5,2))<=$V88,OFFSET('CCG-Prov(Births)'!$B$1,MATCH($A88,'CCG-Prov(Births)'!$A$2:$A$6150,0)+VALUE(RIGHT(AK$2,1))-1,0),\"\")","v":""},{"$f":"IF(VALUE(MID(AL$2,5,2))<=$V88,OFFSET('CCG-Prov(Births)'!$B$1,MATCH($A88,'CCG-Prov(Births)'!$A$2:$A$6150,0)+VALUE(RIGHT(AL$2,1))-1,0),\"\")","v":""},{"$f":"IF(VALUE(MID(AM$2,5,2))<=$V88,OFFSET('CCG-Prov(Births)'!$B$1,MATCH($A88,'CCG-Prov(Births)'!$A$2:$A$6150,0)+VALUE(RIGHT(AM$2,1))-1,0),\"\")","v":""},null,"RMP",{"$f":"VLOOKUP(AO88,provnames!$A$2:$B$331,2,0)","v":"Tameside Hospital NHS FT"},{"$f":"SUM(IF(('CCG-Prov(Births)'!$B$2:$B$6150=AO88),1,0))","v":16}]
["10L","Isle of Wight",{"$f":"SUM(IF(('CCG-Prov(Acute)'!$A$2:$A$29012=A89),1,0))","v":123},{"$f":"SUM(IF(('CCG-Prov(Acute)'!$A$2:$A$29012=A89)*('CCG-Prov(Acute)'!$C$2:$C$29012>=Acute!$B$7),1,0))","v":3},{"$f":"IF(VALUE(MID(E$2,5,2))<=$D89,OFFSET('CCG-Prov(Acute)'!$B$1,MATCH($A89,'CCG-Prov(Acute)'!$A$2:$A$29012,0)+VALUE(RIGHT(E$2,1))-1,0),\"\")","v":"5QT"},{"$f":"IF(VALUE(MID(F$2,5,2))<=$D89,OFFSET('CCG-Prov(Acute)'!$B$1,MATCH($A89,'CCG-Prov(Acute)'!$A$2:$A$29012,0)+VALUE(RIGHT(F$2,1))-1,0),\"\")","v":"RHM"},{"$f":"IF(VALUE(MID(G$2,5,2))<=$D89,OFFSET('CCG-Prov(Acute)'!$B$1,MATCH($A89,'CCG-Prov(Acute)'!$A$2:$A$29012,0)+VALUE(RIGHT(G$2,1))-1,0),\"\")","v":"RHU"},{"$f":"IF(VALUE(MID(H$2,5,2))<=$D89,OFFSET('CCG-Prov(Acute)'!$B$1,MATCH($A89,'CCG-Prov(Acute)'!$A$2:$A$29012,0)+VALUE(RIGHT(H$2,1))-1,0),\"\")","v":""},{"$f":"IF(VALUE(MID(I$2,5,2))<=$D89,OFFSET('CCG-Prov(Acute)'!$B$1,MATCH($A89,'CCG-Prov(Acute)'!$A$2:$A$29012,0)+VALUE(RIGHT(I$2,1))-1,0),\"\")","v":""},{"$f":"IF(VALUE(MID(J$2,5,2))<=$D89,OFFSET('CCG-Prov(Acute)'!$B$1,MATCH($A89,'CCG-Prov(Acute)'!$A$2:$A$29012,0)+VALUE(RIGHT(J$2,1))-1,0),\"\")","v":""},{"$f":"IF(VALUE(MID(K$2,5,2))<=$D89,OFFSET('CCG-Prov(Acute)'!$B$1,MATCH($A89,'CCG-Prov(Acute)'!$A$2:$A$29012,0)+VALUE(RIGHT(K$2,1))-1,0),\"\")","v":""},{"$f":"IF(VALUE(MID(L$2,5,2))<=$D89,OFFSET('CCG-Prov(Acute)'!$B$1,MATCH($A89,'CCG-Prov(Acute)'!$A$2:$A$29012,0)+VALUE(RIGHT(L$2,1))-1,0),\"\")","v":""},{"$f":"IF(VALUE(MID(M$2,5,2))<=$D89,OFFSET('CCG-Prov(Acute)'!$B$1,MATCH($A89,'CCG-Prov(Acute)'!$A$2:$A$29012,0)+VALUE(RIGHT(M$2,1))-1,0),\"\")","v":""},{"$f":"IF(VALUE(MID(N$2,5,2))<=$D89,OFFSET('CCG-Prov(Acute)'!$B$1,MATCH($A89,'CCG-Prov(Acute)'!$A$2:$A$29012,0)+VALUE(RIGHT(N$2,1))-1,0),\"\")","v":""},null,null,"NWF",{"$f":"VLOOKUP(Q89,provnames!$A$2:$B$331,2,0)","v":"Benenden Hospital"},{"$f":"SUM(IF(('CCG-Prov(Acute)'!$B$2:$B$28899=Q89),1,0))","v":39},null,{"$f":"SUM(IF(('CCG-Prov(Amb)'!$A$2:$A$335=A89),1,0))","v":1},{"$f":"SUM(IF(('CCG-Prov(Amb)'!$A$2:$A$335=A89)*('CCG-Prov(Amb)'!$C$2:$C$335>=Ambulance!$B$7),1,0))","v":1},{"$f":"IF(VALUE(MID(W$2,5,2))<=$V89,OFFSET('CCG-Prov(Amb)'!$B$1,MATCH($A89,'CCG-Prov(Amb)'!$A$2:$A$335,0)+VALUE(RIGHT(W$2,1))-1,0),\"\")","v":"5QT"},{"$f":"IF(VALUE(MID(X$2,5,2))<=$V89,OFFSET('CCG-Prov(Amb)'!$B$1,MATCH($A89,'CCG-Prov(Amb)'!$A$2:$A$335,0)+VALUE(RIGHT(X$2,1))-1,0),\"\")","v":""},{"$f":"IF(VALUE(MID(Y$2,5,2))<=$V89,OFFSET('CCG-Prov(Amb)'!$B$1,MATCH($A89,'CCG-Prov(Amb)'!$A$2:$A$335,0)+VALUE(RIGHT(Y$2,1))-1,0),\"\")","v":""},{"$f":"IF(VALUE(MID(Z$2,5,2))<=$V89,OFFSET('CCG-Prov(Amb)'!$B$1,MATCH($A89,'CCG-Prov(Amb)'!$A$2:$A$335,0)+VALUE(RIGHT(Z$2,1))-1,0),\"\")","v":""},{"$f":"IF(VALUE(MID(AA$2,5,2))<=$V89,OFFSET('CCG-Prov(Amb)'!$B$1,MATCH($A89,'CCG-Prov(Amb)'!$A$2:$A$335,0)+VALUE(RIGHT(AA$2,1))-1,0),\"\")","v":""},null,null,null,null,null,{"$f":"SUM(IF(('CCG-Prov(Births)'!$A$2:$A$6150=A89),1,0))","v":12},{"$f":"SUM(IF(('CCG-Prov(Births)'!$A$2:$A$6150=A89)*('CCG-Prov(Births)'!$C$2:$C$6150>=Maternity!$B$7),1,0))","v":1},{"$f":"IF(VALUE(MID(AI$2,5,2))<=$V89,OFFSET('CCG-Prov(Births)'!$B$1,MATCH($A89,'CCG-Prov(Births)'!$A$2:$A$6150,0)+VALUE(RIGHT(AI$2,1))-1,0),\"\")","v":"5QT"},{"$f":"IF(VALUE(MID(AJ$2,5,2))<=$V89,OFFSET('CCG-Prov(Births)'!$B$1,MATCH($A89,'CCG-Prov(Births)'!$A$2:$A$6150,0)+VALUE(RIGHT(AJ$2,1))-1,0),\"\")","v":""},{"$f":"IF(VALUE(MID(AK$2,5,2))<=$V89,OFFSET('CCG-Prov(Births)'!$B$1,MATCH($A89,'CCG-Prov(Births)'!$A$2:$A$6150,0)+VALUE(RIGHT(AK$2,1))-1,0),\"\")","v":""},{"$f":"IF(VALUE(MID(AL$2,5,2))<=$V89,OFFSET('CCG-Prov(Births)'!$B$1,MATCH($A89,'CCG-Prov(Births)'!$A$2:$A$6150,0)+VALUE(RIGHT(AL$2,1))-1,0),\"\")","v":""},{"$f":"IF(VALUE(MID(AM$2,5,2))<=$V89,OFFSET('CCG-Prov(Births)'!$B$1,MATCH($A89,'CCG-Prov(Births)'!$A$2:$A$6150,0)+VALUE(RIGHT(AM$2,1))-1,0),\"\")","v":""},null,"RN1",{"$f":"VLOOKUP(AO89,provnames!$A$2:$B$331,2,0)","v":"Winchester & Eastleigh Healthcare NHS Trust"},{"$f":"SUM(IF(('CCG-Prov(Births)'!$B$2:$B$6150=AO89),1,0))","v":23}]
["08H","Islington",{"$f":"SUM(IF(('CCG-Prov(Acute)'!$A$2:$A$29012=A90),1,0))","v":144},{"$f":"SUM(IF(('CCG-Prov(Acute)'!$A$2:$A$29012=A90)*('CCG-Prov(Acute)'!$C$2:$C$29012>=Acute!$B$7),1,0))","v":6},{"$f":"IF(VALUE(MID(E$2,5,2))<=$D90,OFFSET('CCG-Prov(Acute)'!$B$1,MATCH($A90,'CCG-Prov(Acute)'!$A$2:$A$29012,0)+VALUE(RIGHT(E$2,1))-1,0),\"\")","v":"RKE"},{"$f":"IF(VALUE(MID(F$2,5,2))<=$D90,OFFSET('CCG-Prov(Acute)'!$B$1,MATCH($A90,'CCG-Prov(Acute)'!$A$2:$A$29012,0)+VALUE(RIGHT(F$2,1))-1,0),\"\")","v":"RRV"},{"$f":"IF(VALUE(MID(G$2,5,2))<=$D90,OFFSET('CCG-Prov(Acute)'!$B$1,MATCH($A90,'CCG-Prov(Acute)'!$A$2:$A$29012,0)+VALUE(RIGHT(G$2,1))-1,0),\"\")","v":"RAL"},{"$f":"IF(VALUE(MID(H$2,5,2))<=$D90,OFFSET('CCG-Prov(Acute)'!$B$1,MATCH($A90,'CCG-Prov(Acute)'!$A$2:$A$29012,0)+VALUE(RIGHT(H$2,1))-1,0),\"\")","v":"RQX"},{"$f":"IF(VALUE(MID(I$2,5,2))<=$D90,OFFSET('CCG-Prov(Acute)'!$B$1,MATCH($A90,'CCG-Prov(Acute)'!$A$2:$A$29012,0)+VALUE(RIGHT(I$2,1))-1,0),\"\")","v":"RNJ"},{"$f":"IF(VALUE(MID(J$2,5,2))<=$D90,OFFSET('CCG-Prov(Acute)'!$B$1,MATCH($A90,'CCG-Prov(Acute)'!$A$2:$A$29012,0)+VALUE(RIGHT(J$2,1))-1,0),\"\")","v":"RP6"},{"$f":"IF(VALUE(MID(K$2,5,2))<=$D90,OFFSET('CCG-Prov(Acute)'!$B$1,MATCH($A90,'CCG-Prov(Acute)'!$A$2:$A$29012,0)+VALUE(RIGHT(K$2,1))-1,0),\"\")","v":""},{"$f":"IF(VALUE(MID(L$2,5,2))<=$D90,OFFSET('CCG-Prov(Acute)'!$B$1,MATCH($A90,'CCG-Prov(Acute)'!$A$2:$A$29012,0)+VALUE(RIGHT(L$2,1))-1,0),\"\")","v":""},{"$f":"IF(VALUE(MID(M$2,5,2))<=$D90,OFFSET('CCG-Prov(Acute)'!$B$1,MATCH($A90,'CCG-Prov(Acute)'!$A$2:$A$29012,0)+VALUE(RIGHT(M$2,1))-1,0),\"\")","v":""},{"$f":"IF(VALUE(MID(N$2,5,2))<=$D90,OFFSET('CCG-Prov(Acute)'!$B$1,MATCH($A90,'CCG-Prov(Acute)'!$A$2:$A$29012,0)+VALUE(RIGHT(N$2,1))-1,0),\"\")","v":""},null,null,"NXM",{"$f":"VLOOKUP(Q90,provnames!$A$2:$B$331,2,0)","v":"The Horder Centre"},{"$f":"SUM(IF(('CCG-Prov(Acute)'!$B$2:$B$28899=Q90),1,0))","v":45},null,{"$f":"SUM(IF(('CCG-Prov(Amb)'!$A$2:$A$335=A90),1,0))","v":1},{"$f":"SUM(IF(('CCG-Prov(Amb)'!$A$2:$A$335=A90)*('CCG-Prov(Amb)'!$C$2:$C$335>=Ambulance!$B$7),1,0))","v":1},{"$f":"IF(VALUE(MID(W$2,5,2))<=$V90,OFFSET('CCG-Prov(Amb)'!$B$1,MATCH($A90,'CCG-Prov(Amb)'!$A$2:$A$335,0)+VALUE(RIGHT(W$2,1))-1,0),\"\")","v":"RRY"},{"$f":"IF(VALUE(MID(X$2,5,2))<=$V90,OFFSET('CCG-Prov(Amb)'!$B$1,MATCH($A90,'CCG-Prov(Amb)'!$A$2:$A$335,0)+VALUE(RIGHT(X$2,1))-1,0),\"\")","v":""},{"$f":"IF(VALUE(MID(Y$2,5,2))<=$V90,OFFSET('CCG-Prov(Amb)'!$B$1,MATCH($A90,'CCG-Prov(Amb)'!$A$2:$A$335,0)+VALUE(RIGHT(Y$2,1))-1,0),\"\")","v":""},{"$f":"IF(VALUE(MID(Z$2,5,2))<=$V90,OFFSET('CCG-Prov(Amb)'!$B$1,MATCH($A90,'CCG-Prov(Amb)'!$A$2:$A$335,0)+VALUE(RIGHT(Z$2,1))-1,0),\"\")","v":""},{"$f":"IF(VALUE(MID(AA$2,5,2))<=$V90,OFFSET('CCG-Prov(Amb)'!$B$1,MATCH($A90,'CCG-Prov(Amb)'!$A$2:$A$335,0)+VALUE(RIGHT(AA$2,1))-1,0),\"\")","v":""},null,null,null,null,null,{"$f":"SUM(IF(('CCG-Prov(Births)'!$A$2:$A$6150=A90),1,0))","v":38},{"$f":"SUM(IF(('CCG-Prov(Births)'!$A$2:$A$6150=A90)*('CCG-Prov(Births)'!$C$2:$C$6150>=Maternity!$B$7),1,0))","v":4},{"$f":"IF(VALUE(MID(AI$2,5,2))<=$V90,OFFSET('CCG-Prov(Births)'!$B$1,MATCH($A90,'CCG-Prov(Births)'!$A$2:$A$6150,0)+VALUE(RIGHT(AI$2,1))-1,0),\"\")","v":"RRV"},{"$f":"IF(VALUE(MID(AJ$2,5,2))<=$V90,OFFSET('CCG-Prov(Births)'!$B$1,MATCH($A90,'CCG-Prov(Births)'!$A$2:$A$6150,0)+VALUE(RIGHT(AJ$2,1))-1,0),\"\")","v":""},{"$f":"IF(VALUE(MID(AK$2,5,2))<=$V90,OFFSET('CCG-Prov(Births)'!$B$1,MATCH($A90,'CCG-Prov(Births)'!$A$2:$A$6150,0)+VALUE(RIGHT(AK$2,1))-1,0),\"\")","v":""},{"$f":"IF(VALUE(MID(AL$2,5,2))<=$V90,OFFSET('CCG-Prov(Births)'!$B$1,MATCH($A90,'CCG-Prov(Births)'!$A$2:$A$6150,0)+VALUE(RIGHT(AL$2,1))-1,0),\"\")","v":""},{"$f":"IF(VALUE(MID(AM$2,5,2))<=$V90,OFFSET('CCG-Prov(Births)'!$B$1,MATCH($A90,'CCG-Prov(Births)'!$A$2:$A$6150,0)+VALUE(RIGHT(AM$2,1))-1,0),\"\")","v":""},null,"RN3",{"$f":"VLOOKUP(AO90,provnames!$A$2:$B$331,2,0)","v":"Great Western Hospitals NHS FT"},{"$f":"SUM(IF(('CCG-Prov(Births)'!$B$2:$B$6150=AO90),1,0))","v":24}]
["11N","Kernow",{"$f":"SUM(IF(('CCG-Prov(Acute)'!$A$2:$A$29012=A91),1,0))","v":172},{"$f":"SUM(IF(('CCG-Prov(Acute)'!$A$2:$A$29012=A91)*('CCG-Prov(Acute)'!$C$2:$C$29012>=Acute!$B$7),1,0))","v":6},{"$f":"IF(VALUE(MID(E$2,5,2))<=$D91,OFFSET('CCG-Prov(Acute)'!$B$1,MATCH($A91,'CCG-Prov(Acute)'!$A$2:$A$29012,0)+VALUE(RIGHT(E$2,1))-1,0),\"\")","v":"REF"},{"$f":"IF(VALUE(MID(F$2,5,2))<=$D91,OFFSET('CCG-Prov(Acute)'!$B$1,MATCH($A91,'CCG-Prov(Acute)'!$A$2:$A$29012,0)+VALUE(RIGHT(F$2,1))-1,0),\"\")","v":"RK9"},{"$f":"IF(VALUE(MID(G$2,5,2))<=$D91,OFFSET('CCG-Prov(Acute)'!$B$1,MATCH($A91,'CCG-Prov(Acute)'!$A$2:$A$29012,0)+VALUE(RIGHT(G$2,1))-1,0),\"\")","v":"NVC"},{"$f":"IF(VALUE(MID(H$2,5,2))<=$D91,OFFSET('CCG-Prov(Acute)'!$B$1,MATCH($A91,'CCG-Prov(Acute)'!$A$2:$A$29012,0)+VALUE(RIGHT(H$2,1))-1,0),\"\")","v":"5QP"},{"$f":"IF(VALUE(MID(I$2,5,2))<=$D91,OFFSET('CCG-Prov(Acute)'!$B$1,MATCH($A91,'CCG-Prov(Acute)'!$A$2:$A$29012,0)+VALUE(RIGHT(I$2,1))-1,0),\"\")","v":"RBZ"},{"$f":"IF(VALUE(MID(J$2,5,2))<=$D91,OFFSET('CCG-Prov(Acute)'!$B$1,MATCH($A91,'CCG-Prov(Acute)'!$A$2:$A$29012,0)+VALUE(RIGHT(J$2,1))-1,0),\"\")","v":"RH8"},{"$f":"IF(VALUE(MID(K$2,5,2))<=$D91,OFFSET('CCG-Prov(Acute)'!$B$1,MATCH($A91,'CCG-Prov(Acute)'!$A$2:$A$29012,0)+VALUE(RIGHT(K$2,1))-1,0),\"\")","v":""},{"$f":"IF(VALUE(MID(L$2,5,2))<=$D91,OFFSET('CCG-Prov(Acute)'!$B$1,MATCH($A91,'CCG-Prov(Acute)'!$A$2:$A$29012,0)+VALUE(RIGHT(L$2,1))-1,0),\"\")","v":""},{"$f":"IF(VALUE(MID(M$2,5,2))<=$D91,OFFSET('CCG-Prov(Acute)'!$B$1,MATCH($A91,'CCG-Prov(Acute)'!$A$2:$A$29012,0)+VALUE(RIGHT(M$2,1))-1,0),\"\")","v":""},{"$f":"IF(VALUE(MID(N$2,5,2))<=$D91,OFFSET('CCG-Prov(Acute)'!$B$1,MATCH($A91,'CCG-Prov(Acute)'!$A$2:$A$29012,0)+VALUE(RIGHT(N$2,1))-1,0),\"\")","v":""},null,null,"NY6",{"$f":"VLOOKUP(Q91,provnames!$A$2:$B$331,2,0)","v":"Pain Management Solutions"},{"$f":"SUM(IF(('CCG-Prov(Acute)'!$B$2:$B$28899=Q91),1,0))","v":1},null,{"$f":"SUM(IF(('CCG-Prov(Amb)'!$A$2:$A$335=A91),1,0))","v":1},{"$f":"SUM(IF(('CCG-Prov(Amb)'!$A$2:$A$335=A91)*('CCG-Prov(Amb)'!$C$2:$C$335>=Ambulance!$B$7),1,0))","v":1},{"$f":"IF(VALUE(MID(W$2,5,2))<=$V91,OFFSET('CCG-Prov(Amb)'!$B$1,MATCH($A91,'CCG-Prov(Amb)'!$A$2:$A$335,0)+VALUE(RIGHT(W$2,1))-1,0),\"\")","v":"RYF"},{"$f":"IF(VALUE(MID(X$2,5,2))<=$V91,OFFSET('CCG-Prov(Amb)'!$B$1,MATCH($A91,'CCG-Prov(Amb)'!$A$2:$A$335,0)+VALUE(RIGHT(X$2,1))-1,0),\"\")","v":""},{"$f":"IF(VALUE(MID(Y$2,5,2))<=$V91,OFFSET('CCG-Prov(Amb)'!$B$1,MATCH($A91,'CCG-Prov(Amb)'!$A$2:$A$335,0)+VALUE(RIGHT(Y$2,1))-1,0),\"\")","v":""},{"$f":"IF(VALUE(MID(Z$2,5,2))<=$V91,OFFSET('CCG-Prov(Amb)'!$B$1,MATCH($A91,'CCG-Prov(Amb)'!$A$2:$A$335,0)+VALUE(RIGHT(Z$2,1))-1,0),\"\")","v":""},{"$f":"IF(VALUE(MID(AA$2,5,2))<=$V91,OFFSET('CCG-Prov(Amb)'!$B$1,MATCH($A91,'CCG-Prov(Amb)'!$A$2:$A$335,0)+VALUE(RIGHT(AA$2,1))-1,0),\"\")","v":""},null,null,null,null,null,{"$f":"SUM(IF(('CCG-Prov(Births)'!$A$2:$A$6150=A91),1,0))","v":32},{"$f":"SUM(IF(('CCG-Prov(Births)'!$A$2:$A$6150=A91)*('CCG-Prov(Births)'!$C$2:$C$6150>=Maternity!$B$7),1,0))","v":4},{"$f":"IF(VALUE(MID(AI$2,5,2))<=$V91,OFFSET('CCG-Prov(Births)'!$B$1,MATCH($A91,'CCG-Prov(Births)'!$A$2:$A$6150,0)+VALUE(RIGHT(AI$2,1))-1,0),\"\")","v":"REF"},{"$f":"IF(VALUE(MID(AJ$2,5,2))<=$V91,OFFSET('CCG-Prov(Births)'!$B$1,MATCH($A91,'CCG-Prov(Births)'!$A$2:$A$6150,0)+VALUE(RIGHT(AJ$2,1))-1,0),\"\")","v":""},{"$f":"IF(VALUE(MID(AK$2,5,2))<=$V91,OFFSET('CCG-Prov(Births)'!$B$1,MATCH($A91,'CCG-Prov(Births)'!$A$2:$A$6150,0)+VALUE(RIGHT(AK$2,1))-1,0),\"\")","v":""},{"$f":"IF(VALUE(MID(AL$2,5,2))<=$V91,OFFSET('CCG-Prov(Births)'!$B$1,MATCH($A91,'CCG-Prov(Births)'!$A$2:$A$6150,0)+VALUE(RIGHT(AL$2,1))-1,0),\"\")","v":""},{"$f":"IF(VALUE(MID(AM$2,5,2))<=$V91,OFFSET('CCG-Prov(Births)'!$B$1,MATCH($A91,'CCG-Prov(Births)'!$A$2:$A$6150,0)+VALUE(RIGHT(AM$2,1))-1,0),\"\")","v":""},null,"RN5",{"$f":"VLOOKUP(AO91,provnames!$A$2:$B$331,2,0)","v":"Basingstoke & North Hampshire NHS FT"},{"$f":"SUM(IF(('CCG-Prov(Births)'!$B$2:$B$6150=AO91),1,0))","v":24}]
["08J","Kingston",{"$f":"SUM(IF(('CCG-Prov(Acute)'!$A$2:$A$29012=A92),1,0))","v":131},{"$f":"SUM(IF(('CCG-Prov(Acute)'!$A$2:$A$29012=A92)*('CCG-Prov(Acute)'!$C$2:$C$29012>=Acute!$B$7),1,0))","v":5},{"$f":"IF(VALUE(MID(E$2,5,2))<=$D92,OFFSET('CCG-Prov(Acute)'!$B$1,MATCH($A92,'CCG-Prov(Acute)'!$A$2:$A$29012,0)+VALUE(RIGHT(E$2,1))-1,0),\"\")","v":"RAX"},{"$f":"IF(VALUE(MID(F$2,5,2))<=$D92,OFFSET('CCG-Prov(Acute)'!$B$1,MATCH($A92,'CCG-Prov(Acute)'!$A$2:$A$29012,0)+VALUE(RIGHT(F$2,1))-1,0),\"\")","v":"RJ7"},{"$f":"IF(VALUE(MID(G$2,5,2))<=$D92,OFFSET('CCG-Prov(Acute)'!$B$1,MATCH($A92,'CCG-Prov(Acute)'!$A$2:$A$29012,0)+VALUE(RIGHT(G$2,1))-1,0),\"\")","v":"RVR"},{"$f":"IF(VALUE(MID(H$2,5,2))<=$D92,OFFSET('CCG-Prov(Acute)'!$B$1,MATCH($A92,'CCG-Prov(Acute)'!$A$2:$A$29012,0)+VALUE(RIGHT(H$2,1))-1,0),\"\")","v":"5A5"},{"$f":"IF(VALUE(MID(I$2,5,2))<=$D92,OFFSET('CCG-Prov(Acute)'!$B$1,MATCH($A92,'CCG-Prov(Acute)'!$A$2:$A$29012,0)+VALUE(RIGHT(I$2,1))-1,0),\"\")","v":"RPY"},{"$f":"IF(VALUE(MID(J$2,5,2))<=$D92,OFFSET('CCG-Prov(Acute)'!$B$1,MATCH($A92,'CCG-Prov(Acute)'!$A$2:$A$29012,0)+VALUE(RIGHT(J$2,1))-1,0),\"\")","v":""},{"$f":"IF(VALUE(MID(K$2,5,2))<=$D92,OFFSET('CCG-Prov(Acute)'!$B$1,MATCH($A92,'CCG-Prov(Acute)'!$A$2:$A$29012,0)+VALUE(RIGHT(K$2,1))-1,0),\"\")","v":""},{"$f":"IF(VALUE(MID(L$2,5,2))<=$D92,OFFSET('CCG-Prov(Acute)'!$B$1,MATCH($A92,'CCG-Prov(Acute)'!$A$2:$A$29012,0)+VALUE(RIGHT(L$2,1))-1,0),\"\")","v":""},{"$f":"IF(VALUE(MID(M$2,5,2))<=$D92,OFFSET('CCG-Prov(Acute)'!$B$1,MATCH($A92,'CCG-Prov(Acute)'!$A$2:$A$29012,0)+VALUE(RIGHT(M$2,1))-1,0),\"\")","v":""},{"$f":"IF(VALUE(MID(N$2,5,2))<=$D92,OFFSET('CCG-Prov(Acute)'!$B$1,MATCH($A92,'CCG-Prov(Acute)'!$A$2:$A$29012,0)+VALUE(RIGHT(N$2,1))-1,0),\"\")","v":""},null,null,"RA2",{"$f":"VLOOKUP(Q92,provnames!$A$2:$B$331,2,0)","v":"Royal Surrey County Hospital NHS FT"},{"$f":"SUM(IF(('CCG-Prov(Acute)'!$B$2:$B$28899=Q92),1,0))","v":174},null,{"$f":"SUM(IF(('CCG-Prov(Amb)'!$A$2:$A$335=A92),1,0))","v":2},{"$f":"SUM(IF(('CCG-Prov(Amb)'!$A$2:$A$335=A92)*('CCG-Prov(Amb)'!$C$2:$C$335>=Ambulance!$B$7),1,0))","v":2},{"$f":"IF(VALUE(MID(W$2,5,2))<=$V92,OFFSET('CCG-Prov(Amb)'!$B$1,MATCH($A92,'CCG-Prov(Amb)'!$A$2:$A$335,0)+VALUE(RIGHT(W$2,1))-1,0),\"\")","v":"RRY"},{"$f":"IF(VALUE(MID(X$2,5,2))<=$V92,OFFSET('CCG-Prov(Amb)'!$B$1,MATCH($A92,'CCG-Prov(Amb)'!$A$2:$A$335,0)+VALUE(RIGHT(X$2,1))-1,0),\"\")","v":"RYD"},{"$f":"IF(VALUE(MID(Y$2,5,2))<=$V92,OFFSET('CCG-Prov(Amb)'!$B$1,MATCH($A92,'CCG-Prov(Amb)'!$A$2:$A$335,0)+VALUE(RIGHT(Y$2,1))-1,0),\"\")","v":""},{"$f":"IF(VALUE(MID(Z$2,5,2))<=$V92,OFFSET('CCG-Prov(Amb)'!$B$1,MATCH($A92,'CCG-Prov(Amb)'!$A$2:$A$335,0)+VALUE(RIGHT(Z$2,1))-1,0),\"\")","v":""},{"$f":"IF(VALUE(MID(AA$2,5,2))<=$V92,OFFSET('CCG-Prov(Amb)'!$B$1,MATCH($A92,'CCG-Prov(Amb)'!$A$2:$A$335,0)+VALUE(RIGHT(AA$2,1))-1,0),\"\")","v":""},null,null,null,null,null,{"$f":"SUM(IF(('CCG-Prov(Births)'!$A$2:$A$6150=A92),1,0))","v":28},{"$f":"SUM(IF(('CCG-Prov(Births)'!$A$2:$A$6150=A92)*('CCG-Prov(Births)'!$C$2:$C$6150>=Maternity!$B$7),1,0))","v":3},{"$f":"IF(VALUE(MID(AI$2,5,2))<=$V92,OFFSET('CCG-Prov(Births)'!$B$1,MATCH($A92,'CCG-Prov(Births)'!$A$2:$A$6150,0)+VALUE(RIGHT(AI$2,1))-1,0),\"\")","v":"RAX"},{"$f":"IF(VALUE(MID(AJ$2,5,2))<=$V92,OFFSET('CCG-Prov(Births)'!$B$1,MATCH($A92,'CCG-Prov(Births)'!$A$2:$A$6150,0)+VALUE(RIGHT(AJ$2,1))-1,0),\"\")","v":"RVR"},{"$f":"IF(VALUE(MID(AK$2,5,2))<=$V92,OFFSET('CCG-Prov(Births)'!$B$1,MATCH($A92,'CCG-Prov(Births)'!$A$2:$A$6150,0)+VALUE(RIGHT(AK$2,1))-1,0),\"\")","v":""},{"$f":"IF(VALUE(MID(AL$2,5,2))<=$V92,OFFSET('CCG-Prov(Births)'!$B$1,MATCH($A92,'CCG-Prov(Births)'!$A$2:$A$6150,0)+VALUE(RIGHT(AL$2,1))-1,0),\"\")","v":""},{"$f":"IF(VALUE(MID(AM$2,5,2))<=$V92,OFFSET('CCG-Prov(Births)'!$B$1,MATCH($A92,'CCG-Prov(Births)'!$A$2:$A$6150,0)+VALUE(RIGHT(AM$2,1))-1,0),\"\")","v":""},null,"RN7",{"$f":"VLOOKUP(AO92,provnames!$A$2:$B$331,2,0)","v":"Dartford & Gravesham NHS Trust"},{"$f":"SUM(IF(('CCG-Prov(Births)'!$B$2:$B$6150=AO92),1,0))","v":32}]
["01J","Knowsley",{"$f":"SUM(IF(('CCG-Prov(Acute)'!$A$2:$A$29012=A93),1,0))","v":96},{"$f":"SUM(IF(('CCG-Prov(Acute)'!$A$2:$A$29012=A93)*('CCG-Prov(Acute)'!$C$2:$C$29012>=Acute!$B$7),1,0))","v":6},{"$f":"IF(VALUE(MID(E$2,5,2))<=$D93,OFFSET('CCG-Prov(Acute)'!$B$1,MATCH($A93,'CCG-Prov(Acute)'!$A$2:$A$29012,0)+VALUE(RIGHT(E$2,1))-1,0),\"\")","v":"RBN"},{"$f":"IF(VALUE(MID(F$2,5,2))<=$D93,OFFSET('CCG-Prov(Acute)'!$B$1,MATCH($A93,'CCG-Prov(Acute)'!$A$2:$A$29012,0)+VALUE(RIGHT(F$2,1))-1,0),\"\")","v":"REM"},{"$f":"IF(VALUE(MID(G$2,5,2))<=$D93,OFFSET('CCG-Prov(Acute)'!$B$1,MATCH($A93,'CCG-Prov(Acute)'!$A$2:$A$29012,0)+VALUE(RIGHT(G$2,1))-1,0),\"\")","v":"RQ6"},{"$f":"IF(VALUE(MID(H$2,5,2))<=$D93,OFFSET('CCG-Prov(Acute)'!$B$1,MATCH($A93,'CCG-Prov(Acute)'!$A$2:$A$29012,0)+VALUE(RIGHT(H$2,1))-1,0),\"\")","v":"RBS"},{"$f":"IF(VALUE(MID(I$2,5,2))<=$D93,OFFSET('CCG-Prov(Acute)'!$B$1,MATCH($A93,'CCG-Prov(Acute)'!$A$2:$A$29012,0)+VALUE(RIGHT(I$2,1))-1,0),\"\")","v":"REP"},{"$f":"IF(VALUE(MID(J$2,5,2))<=$D93,OFFSET('CCG-Prov(Acute)'!$B$1,MATCH($A93,'CCG-Prov(Acute)'!$A$2:$A$29012,0)+VALUE(RIGHT(J$2,1))-1,0),\"\")","v":"RBQ"},{"$f":"IF(VALUE(MID(K$2,5,2))<=$D93,OFFSET('CCG-Prov(Acute)'!$B$1,MATCH($A93,'CCG-Prov(Acute)'!$A$2:$A$29012,0)+VALUE(RIGHT(K$2,1))-1,0),\"\")","v":""},{"$f":"IF(VALUE(MID(L$2,5,2))<=$D93,OFFSET('CCG-Prov(Acute)'!$B$1,MATCH($A93,'CCG-Prov(Acute)'!$A$2:$A$29012,0)+VALUE(RIGHT(L$2,1))-1,0),\"\")","v":""},{"$f":"IF(VALUE(MID(M$2,5,2))<=$D93,OFFSET('CCG-Prov(Acute)'!$B$1,MATCH($A93,'CCG-Prov(Acute)'!$A$2:$A$29012,0)+VALUE(RIGHT(M$2,1))-1,0),\"\")","v":""},{"$f":"IF(VALUE(MID(N$2,5,2))<=$D93,OFFSET('CCG-Prov(Acute)'!$B$1,MATCH($A93,'CCG-Prov(Acute)'!$A$2:$A$29012,0)+VALUE(RIGHT(N$2,1))-1,0),\"\")","v":""},null,null,"RA3",{"$f":"VLOOKUP(Q93,provnames!$A$2:$B$331,2,0)","v":"Weston Area Health NHS Trust"},{"$f":"SUM(IF(('CCG-Prov(Acute)'!$B$2:$B$28899=Q93),1,0))","v":134},null,{"$f":"SUM(IF(('CCG-Prov(Amb)'!$A$2:$A$335=A93),1,0))","v":1},{"$f":"SUM(IF(('CCG-Prov(Amb)'!$A$2:$A$335=A93)*('CCG-Prov(Amb)'!$C$2:$C$335>=Ambulance!$B$7),1,0))","v":1},{"$f":"IF(VALUE(MID(W$2,5,2))<=$V93,OFFSET('CCG-Prov(Amb)'!$B$1,MATCH($A93,'CCG-Prov(Amb)'!$A$2:$A$335,0)+VALUE(RIGHT(W$2,1))-1,0),\"\")","v":"RX7"},{"$f":"IF(VALUE(MID(X$2,5,2))<=$V93,OFFSET('CCG-Prov(Amb)'!$B$1,MATCH($A93,'CCG-Prov(Amb)'!$A$2:$A$335,0)+VALUE(RIGHT(X$2,1))-1,0),\"\")","v":""},{"$f":"IF(VALUE(MID(Y$2,5,2))<=$V93,OFFSET('CCG-Prov(Amb)'!$B$1,MATCH($A93,'CCG-Prov(Amb)'!$A$2:$A$335,0)+VALUE(RIGHT(Y$2,1))-1,0),\"\")","v":""},{"$f":"IF(VALUE(MID(Z$2,5,2))<=$V93,OFFSET('CCG-Prov(Amb)'!$B$1,MATCH($A93,'CCG-Prov(Amb)'!$A$2:$A$335,0)+VALUE(RIGHT(Z$2,1))-1,0),\"\")","v":""},{"$f":"IF(VALUE(MID(AA$2,5,2))<=$V93,OFFSET('CCG-Prov(Amb)'!$B$1,MATCH($A93,'CCG-Prov(Amb)'!$A$2:$A$335,0)+VALUE(RIGHT(AA$2,1))-1,0),\"\")","v":""},null,null,null,null,null,{"$f":"SUM(IF(('CCG-Prov(Births)'!$A$2:$A$6150=A93),1,0))","v":14},{"$f":"SUM(IF(('CCG-Prov(Births)'!$A$2:$A$6150=A93)*('CCG-Prov(Births)'!$C$2:$C$6150>=Maternity!$B$7),1,0))","v":3},{"$f":"IF(VALUE(MID(AI$2,5,2))<=$V93,OFFSET('CCG-Prov(Births)'!$B$1,MATCH($A93,'CCG-Prov(Births)'!$A$2:$A$6150,0)+VALUE(RIGHT(AI$2,1))-1,0),\"\")","v":"RBN"},{"$f":"IF(VALUE(MID(AJ$2,5,2))<=$V93,OFFSET('CCG-Prov(Births)'!$B$1,MATCH($A93,'CCG-Prov(Births)'!$A$2:$A$6150,0)+VALUE(RIGHT(AJ$2,1))-1,0),\"\")","v":""},{"$f":"IF(VALUE(MID(AK$2,5,2))<=$V93,OFFSET('CCG-Prov(Births)'!$B$1,MATCH($A93,'CCG-Prov(Births)'!$A$2:$A$6150,0)+VALUE(RIGHT(AK$2,1))-1,0),\"\")","v":""},{"$f":"IF(VALUE(MID(AL$2,5,2))<=$V93,OFFSET('CCG-Prov(Births)'!$B$1,MATCH($A93,'CCG-Prov(Births)'!$A$2:$A$6150,0)+VALUE(RIGHT(AL$2,1))-1,0),\"\")","v":""},{"$f":"IF(VALUE(MID(AM$2,5,2))<=$V93,OFFSET('CCG-Prov(Births)'!$B$1,MATCH($A93,'CCG-Prov(Births)'!$A$2:$A$6150,0)+VALUE(RIGHT(AM$2,1))-1,0),\"\")","v":""},null,"RNA",{"$f":"VLOOKUP(AO93,provnames!$A$2:$B$331,2,0)","v":"The Dudley Group of Hospitals NHS FT"},{"$f":"SUM(IF(('CCG-Prov(Births)'!$B$2:$B$6150=AO93),1,0))","v":31}]
["08K","Lambeth",{"$f":"SUM(IF(('CCG-Prov(Acute)'!$A$2:$A$29012=A94),1,0))","v":142},{"$f":"SUM(IF(('CCG-Prov(Acute)'!$A$2:$A$29012=A94)*('CCG-Prov(Acute)'!$C$2:$C$29012>=Acute!$B$7),1,0))","v":6},{"$f":"IF(VALUE(MID(E$2,5,2))<=$D94,OFFSET('CCG-Prov(Acute)'!$B$1,MATCH($A94,'CCG-Prov(Acute)'!$A$2:$A$29012,0)+VALUE(RIGHT(E$2,1))-1,0),\"\")","v":"RJZ"},{"$f":"IF(VALUE(MID(F$2,5,2))<=$D94,OFFSET('CCG-Prov(Acute)'!$B$1,MATCH($A94,'CCG-Prov(Acute)'!$A$2:$A$29012,0)+VALUE(RIGHT(F$2,1))-1,0),\"\")","v":"RJ1"},{"$f":"IF(VALUE(MID(G$2,5,2))<=$D94,OFFSET('CCG-Prov(Acute)'!$B$1,MATCH($A94,'CCG-Prov(Acute)'!$A$2:$A$29012,0)+VALUE(RIGHT(G$2,1))-1,0),\"\")","v":"RJ7"},{"$f":"IF(VALUE(MID(H$2,5,2))<=$D94,OFFSET('CCG-Prov(Acute)'!$B$1,MATCH($A94,'CCG-Prov(Acute)'!$A$2:$A$29012,0)+VALUE(RIGHT(H$2,1))-1,0),\"\")","v":"RJ6"},{"$f":"IF(VALUE(MID(I$2,5,2))<=$D94,OFFSET('CCG-Prov(Acute)'!$B$1,MATCH($A94,'CCG-Prov(Acute)'!$A$2:$A$29012,0)+VALUE(RIGHT(I$2,1))-1,0),\"\")","v":"RQM"},{"$f":"IF(VALUE(MID(J$2,5,2))<=$D94,OFFSET('CCG-Prov(Acute)'!$B$1,MATCH($A94,'CCG-Prov(Acute)'!$A$2:$A$29012,0)+VALUE(RIGHT(J$2,1))-1,0),\"\")","v":"RRV"},{"$f":"IF(VALUE(MID(K$2,5,2))<=$D94,OFFSET('CCG-Prov(Acute)'!$B$1,MATCH($A94,'CCG-Prov(Acute)'!$A$2:$A$29012,0)+VALUE(RIGHT(K$2,1))-1,0),\"\")","v":""},{"$f":"IF(VALUE(MID(L$2,5,2))<=$D94,OFFSET('CCG-Prov(Acute)'!$B$1,MATCH($A94,'CCG-Prov(Acute)'!$A$2:$A$29012,0)+VALUE(RIGHT(L$2,1))-1,0),\"\")","v":""},{"$f":"IF(VALUE(MID(M$2,5,2))<=$D94,OFFSET('CCG-Prov(Acute)'!$B$1,MATCH($A94,'CCG-Prov(Acute)'!$A$2:$A$29012,0)+VALUE(RIGHT(M$2,1))-1,0),\"\")","v":""},{"$f":"IF(VALUE(MID(N$2,5,2))<=$D94,OFFSET('CCG-Prov(Acute)'!$B$1,MATCH($A94,'CCG-Prov(Acute)'!$A$2:$A$29012,0)+VALUE(RIGHT(N$2,1))-1,0),\"\")","v":""},null,null,"RA4",{"$f":"VLOOKUP(Q94,provnames!$A$2:$B$331,2,0)","v":"Yeovil District Hospital NHS FT"},{"$f":"SUM(IF(('CCG-Prov(Acute)'!$B$2:$B$28899=Q94),1,0))","v":126},null,{"$f":"SUM(IF(('CCG-Prov(Amb)'!$A$2:$A$335=A94),1,0))","v":1},{"$f":"SUM(IF(('CCG-Prov(Amb)'!$A$2:$A$335=A94)*('CCG-Prov(Amb)'!$C$2:$C$335>=Ambulance!$B$7),1,0))","v":1},{"$f":"IF(VALUE(MID(W$2,5,2))<=$V94,OFFSET('CCG-Prov(Amb)'!$B$1,MATCH($A94,'CCG-Prov(Amb)'!$A$2:$A$335,0)+VALUE(RIGHT(W$2,1))-1,0),\"\")","v":"RRY"},{"$f":"IF(VALUE(MID(X$2,5,2))<=$V94,OFFSET('CCG-Prov(Amb)'!$B$1,MATCH($A94,'CCG-Prov(Amb)'!$A$2:$A$335,0)+VALUE(RIGHT(X$2,1))-1,0),\"\")","v":""},{"$f":"IF(VALUE(MID(Y$2,5,2))<=$V94,OFFSET('CCG-Prov(Amb)'!$B$1,MATCH($A94,'CCG-Prov(Amb)'!$A$2:$A$335,0)+VALUE(RIGHT(Y$2,1))-1,0),\"\")","v":""},{"$f":"IF(VALUE(MID(Z$2,5,2))<=$V94,OFFSET('CCG-Prov(Amb)'!$B$1,MATCH($A94,'CCG-Prov(Amb)'!$A$2:$A$335,0)+VALUE(RIGHT(Z$2,1))-1,0),\"\")","v":""},{"$f":"IF(VALUE(MID(AA$2,5,2))<=$V94,OFFSET('CCG-Prov(Amb)'!$B$1,MATCH($A94,'CCG-Prov(Amb)'!$A$2:$A$335,0)+VALUE(RIGHT(AA$2,1))-1,0),\"\")","v":""},null,null,null,null,null,{"$f":"SUM(IF(('CCG-Prov(Births)'!$A$2:$A$6150=A94),1,0))","v":56},{"$f":"SUM(IF(('CCG-Prov(Births)'!$A$2:$A$6150=A94)*('CCG-Prov(Births)'!$C$2:$C$6150>=Maternity!$B$7),1,0))","v":5},{"$f":"IF(VALUE(MID(AI$2,5,2))<=$V94,OFFSET('CCG-Prov(Births)'!$B$1,MATCH($A94,'CCG-Prov(Births)'!$A$2:$A$6150,0)+VALUE(RIGHT(AI$2,1))-1,0),\"\")","v":"RJ1"},{"$f":"IF(VALUE(MID(AJ$2,5,2))<=$V94,OFFSET('CCG-Prov(Births)'!$B$1,MATCH($A94,'CCG-Prov(Births)'!$A$2:$A$6150,0)+VALUE(RIGHT(AJ$2,1))-1,0),\"\")","v":""},{"$f":"IF(VALUE(MID(AK$2,5,2))<=$V94,OFFSET('CCG-Prov(Births)'!$B$1,MATCH($A94,'CCG-Prov(Births)'!$A$2:$A$6150,0)+VALUE(RIGHT(AK$2,1))-1,0),\"\")","v":""},{"$f":"IF(VALUE(MID(AL$2,5,2))<=$V94,OFFSET('CCG-Prov(Births)'!$B$1,MATCH($A94,'CCG-Prov(Births)'!$A$2:$A$6150,0)+VALUE(RIGHT(AL$2,1))-1,0),\"\")","v":""},{"$f":"IF(VALUE(MID(AM$2,5,2))<=$V94,OFFSET('CCG-Prov(Births)'!$B$1,MATCH($A94,'CCG-Prov(Births)'!$A$2:$A$6150,0)+VALUE(RIGHT(AM$2,1))-1,0),\"\")","v":""},null,"RNH",{"$f":"VLOOKUP(AO94,provnames!$A$2:$B$331,2,0)","v":"Newham Univ Hospital NHS Trust"},{"$f":"SUM(IF(('CCG-Prov(Births)'!$B$2:$B$6150=AO94),1,0))","v":72}]
["01K","Lancashire North",{"$f":"SUM(IF(('CCG-Prov(Acute)'!$A$2:$A$29012=A95),1,0))","v":132},{"$f":"SUM(IF(('CCG-Prov(Acute)'!$A$2:$A$29012=A95)*('CCG-Prov(Acute)'!$C$2:$C$29012>=Acute!$B$7),1,0))","v":3},{"$f":"IF(VALUE(MID(E$2,5,2))<=$D95,OFFSET('CCG-Prov(Acute)'!$B$1,MATCH($A95,'CCG-Prov(Acute)'!$A$2:$A$29012,0)+VALUE(RIGHT(E$2,1))-1,0),\"\")","v":"RTX"},{"$f":"IF(VALUE(MID(F$2,5,2))<=$D95,OFFSET('CCG-Prov(Acute)'!$B$1,MATCH($A95,'CCG-Prov(Acute)'!$A$2:$A$29012,0)+VALUE(RIGHT(F$2,1))-1,0),\"\")","v":"RXN"},{"$f":"IF(VALUE(MID(G$2,5,2))<=$D95,OFFSET('CCG-Prov(Acute)'!$B$1,MATCH($A95,'CCG-Prov(Acute)'!$A$2:$A$29012,0)+VALUE(RIGHT(G$2,1))-1,0),\"\")","v":"RXL"},{"$f":"IF(VALUE(MID(H$2,5,2))<=$D95,OFFSET('CCG-Prov(Acute)'!$B$1,MATCH($A95,'CCG-Prov(Acute)'!$A$2:$A$29012,0)+VALUE(RIGHT(H$2,1))-1,0),\"\")","v":""},{"$f":"IF(VALUE(MID(I$2,5,2))<=$D95,OFFSET('CCG-Prov(Acute)'!$B$1,MATCH($A95,'CCG-Prov(Acute)'!$A$2:$A$29012,0)+VALUE(RIGHT(I$2,1))-1,0),\"\")","v":""},{"$f":"IF(VALUE(MID(J$2,5,2))<=$D95,OFFSET('CCG-Prov(Acute)'!$B$1,MATCH($A95,'CCG-Prov(Acute)'!$A$2:$A$29012,0)+VALUE(RIGHT(J$2,1))-1,0),\"\")","v":""},{"$f":"IF(VALUE(MID(K$2,5,2))<=$D95,OFFSET('CCG-Prov(Acute)'!$B$1,MATCH($A95,'CCG-Prov(Acute)'!$A$2:$A$29012,0)+VALUE(RIGHT(K$2,1))-1,0),\"\")","v":""},{"$f":"IF(VALUE(MID(L$2,5,2))<=$D95,OFFSET('CCG-Prov(Acute)'!$B$1,MATCH($A95,'CCG-Prov(Acute)'!$A$2:$A$29012,0)+VALUE(RIGHT(L$2,1))-1,0),\"\")","v":""},{"$f":"IF(VALUE(MID(M$2,5,2))<=$D95,OFFSET('CCG-Prov(Acute)'!$B$1,MATCH($A95,'CCG-Prov(Acute)'!$A$2:$A$29012,0)+VALUE(RIGHT(M$2,1))-1,0),\"\")","v":""},{"$f":"IF(VALUE(MID(N$2,5,2))<=$D95,OFFSET('CCG-Prov(Acute)'!$B$1,MATCH($A95,'CCG-Prov(Acute)'!$A$2:$A$29012,0)+VALUE(RIGHT(N$2,1))-1,0),\"\")","v":""},null,null,"RA7",{"$f":"VLOOKUP(Q95,provnames!$A$2:$B$331,2,0)","v":"University Hospitals Bristol NHS FT"},{"$f":"SUM(IF(('CCG-Prov(Acute)'!$B$2:$B$28899=Q95),1,0))","v":147},null,{"$f":"SUM(IF(('CCG-Prov(Amb)'!$A$2:$A$335=A95),1,0))","v":1},{"$f":"SUM(IF(('CCG-Prov(Amb)'!$A$2:$A$335=A95)*('CCG-Prov(Amb)'!$C$2:$C$335>=Ambulance!$B$7),1,0))","v":1},{"$f":"IF(VALUE(MID(W$2,5,2))<=$V95,OFFSET('CCG-Prov(Amb)'!$B$1,MATCH($A95,'CCG-Prov(Amb)'!$A$2:$A$335,0)+VALUE(RIGHT(W$2,1))-1,0),\"\")","v":"RX7"},{"$f":"IF(VALUE(MID(X$2,5,2))<=$V95,OFFSET('CCG-Prov(Amb)'!$B$1,MATCH($A95,'CCG-Prov(Amb)'!$A$2:$A$335,0)+VALUE(RIGHT(X$2,1))-1,0),\"\")","v":""},{"$f":"IF(VALUE(MID(Y$2,5,2))<=$V95,OFFSET('CCG-Prov(Amb)'!$B$1,MATCH($A95,'CCG-Prov(Amb)'!$A$2:$A$335,0)+VALUE(RIGHT(Y$2,1))-1,0),\"\")","v":""},{"$f":"IF(VALUE(MID(Z$2,5,2))<=$V95,OFFSET('CCG-Prov(Amb)'!$B$1,MATCH($A95,'CCG-Prov(Amb)'!$A$2:$A$335,0)+VALUE(RIGHT(Z$2,1))-1,0),\"\")","v":""},{"$f":"IF(VALUE(MID(AA$2,5,2))<=$V95,OFFSET('CCG-Prov(Amb)'!$B$1,MATCH($A95,'CCG-Prov(Amb)'!$A$2:$A$335,0)+VALUE(RIGHT(AA$2,1))-1,0),\"\")","v":""},null,null,null,null,null,{"$f":"SUM(IF(('CCG-Prov(Births)'!$A$2:$A$6150=A95),1,0))","v":13},{"$f":"SUM(IF(('CCG-Prov(Births)'!$A$2:$A$6150=A95)*('CCG-Prov(Births)'!$C$2:$C$6150>=Maternity!$B$7),1,0))","v":2},{"$f":"IF(VALUE(MID(AI$2,5,2))<=$V95,OFFSET('CCG-Prov(Births)'!$B$1,MATCH($A95,'CCG-Prov(Births)'!$A$2:$A$6150,0)+VALUE(RIGHT(AI$2,1))-1,0),\"\")","v":"RTX"},{"$f":"IF(VALUE(MID(AJ$2,5,2))<=$V95,OFFSET('CCG-Prov(Births)'!$B$1,MATCH($A95,'CCG-Prov(Births)'!$A$2:$A$6150,0)+VALUE(RIGHT(AJ$2,1))-1,0),\"\")","v":""},{"$f":"IF(VALUE(MID(AK$2,5,2))<=$V95,OFFSET('CCG-Prov(Births)'!$B$1,MATCH($A95,'CCG-Prov(Births)'!$A$2:$A$6150,0)+VALUE(RIGHT(AK$2,1))-1,0),\"\")","v":""},{"$f":"IF(VALUE(MID(AL$2,5,2))<=$V95,OFFSET('CCG-Prov(Births)'!$B$1,MATCH($A95,'CCG-Prov(Births)'!$A$2:$A$6150,0)+VALUE(RIGHT(AL$2,1))-1,0),\"\")","v":""},{"$f":"IF(VALUE(MID(AM$2,5,2))<=$V95,OFFSET('CCG-Prov(Births)'!$B$1,MATCH($A95,'CCG-Prov(Births)'!$A$2:$A$6150,0)+VALUE(RIGHT(AM$2,1))-1,0),\"\")","v":""},null,"RNJ",{"$f":"VLOOKUP(AO95,provnames!$A$2:$B$331,2,0)","v":"Barts & The London NHS Trust"},{"$f":"SUM(IF(('CCG-Prov(Births)'!$B$2:$B$6150=AO95),1,0))","v":76}]
["02V","Leeds North",{"$f":"SUM(IF(('CCG-Prov(Acute)'!$A$2:$A$29012=A96),1,0))","v":131},{"$f":"SUM(IF(('CCG-Prov(Acute)'!$A$2:$A$29012=A96)*('CCG-Prov(Acute)'!$C$2:$C$29012>=Acute!$B$7),1,0))","v":3},{"$f":"IF(VALUE(MID(E$2,5,2))<=$D96,OFFSET('CCG-Prov(Acute)'!$B$1,MATCH($A96,'CCG-Prov(Acute)'!$A$2:$A$29012,0)+VALUE(RIGHT(E$2,1))-1,0),\"\")","v":"RR8"},{"$f":"IF(VALUE(MID(F$2,5,2))<=$D96,OFFSET('CCG-Prov(Acute)'!$B$1,MATCH($A96,'CCG-Prov(Acute)'!$A$2:$A$29012,0)+VALUE(RIGHT(F$2,1))-1,0),\"\")","v":"RCD"},{"$f":"IF(VALUE(MID(G$2,5,2))<=$D96,OFFSET('CCG-Prov(Acute)'!$B$1,MATCH($A96,'CCG-Prov(Acute)'!$A$2:$A$29012,0)+VALUE(RIGHT(G$2,1))-1,0),\"\")","v":"RCB"},{"$f":"IF(VALUE(MID(H$2,5,2))<=$D96,OFFSET('CCG-Prov(Acute)'!$B$1,MATCH($A96,'CCG-Prov(Acute)'!$A$2:$A$29012,0)+VALUE(RIGHT(H$2,1))-1,0),\"\")","v":""},{"$f":"IF(VALUE(MID(I$2,5,2))<=$D96,OFFSET('CCG-Prov(Acute)'!$B$1,MATCH($A96,'CCG-Prov(Acute)'!$A$2:$A$29012,0)+VALUE(RIGHT(I$2,1))-1,0),\"\")","v":""},{"$f":"IF(VALUE(MID(J$2,5,2))<=$D96,OFFSET('CCG-Prov(Acute)'!$B$1,MATCH($A96,'CCG-Prov(Acute)'!$A$2:$A$29012,0)+VALUE(RIGHT(J$2,1))-1,0),\"\")","v":""},{"$f":"IF(VALUE(MID(K$2,5,2))<=$D96,OFFSET('CCG-Prov(Acute)'!$B$1,MATCH($A96,'CCG-Prov(Acute)'!$A$2:$A$29012,0)+VALUE(RIGHT(K$2,1))-1,0),\"\")","v":""},{"$f":"IF(VALUE(MID(L$2,5,2))<=$D96,OFFSET('CCG-Prov(Acute)'!$B$1,MATCH($A96,'CCG-Prov(Acute)'!$A$2:$A$29012,0)+VALUE(RIGHT(L$2,1))-1,0),\"\")","v":""},{"$f":"IF(VALUE(MID(M$2,5,2))<=$D96,OFFSET('CCG-Prov(Acute)'!$B$1,MATCH($A96,'CCG-Prov(Acute)'!$A$2:$A$29012,0)+VALUE(RIGHT(M$2,1))-1,0),\"\")","v":""},{"$f":"IF(VALUE(MID(N$2,5,2))<=$D96,OFFSET('CCG-Prov(Acute)'!$B$1,MATCH($A96,'CCG-Prov(Acute)'!$A$2:$A$29012,0)+VALUE(RIGHT(N$2,1))-1,0),\"\")","v":""},null,null,"RA9",{"$f":"VLOOKUP(Q96,provnames!$A$2:$B$331,2,0)","v":"South Devon Healthcare NHS FT"},{"$f":"SUM(IF(('CCG-Prov(Acute)'!$B$2:$B$28899=Q96),1,0))","v":192},null,{"$f":"SUM(IF(('CCG-Prov(Amb)'!$A$2:$A$335=A96),1,0))","v":1},{"$f":"SUM(IF(('CCG-Prov(Amb)'!$A$2:$A$335=A96)*('CCG-Prov(Amb)'!$C$2:$C$335>=Ambulance!$B$7),1,0))","v":1},{"$f":"IF(VALUE(MID(W$2,5,2))<=$V96,OFFSET('CCG-Prov(Amb)'!$B$1,MATCH($A96,'CCG-Prov(Amb)'!$A$2:$A$335,0)+VALUE(RIGHT(W$2,1))-1,0),\"\")","v":"RX8"},{"$f":"IF(VALUE(MID(X$2,5,2))<=$V96,OFFSET('CCG-Prov(Amb)'!$B$1,MATCH($A96,'CCG-Prov(Amb)'!$A$2:$A$335,0)+VALUE(RIGHT(X$2,1))-1,0),\"\")","v":""},{"$f":"IF(VALUE(MID(Y$2,5,2))<=$V96,OFFSET('CCG-Prov(Amb)'!$B$1,MATCH($A96,'CCG-Prov(Amb)'!$A$2:$A$335,0)+VALUE(RIGHT(Y$2,1))-1,0),\"\")","v":""},{"$f":"IF(VALUE(MID(Z$2,5,2))<=$V96,OFFSET('CCG-Prov(Amb)'!$B$1,MATCH($A96,'CCG-Prov(Amb)'!$A$2:$A$335,0)+VALUE(RIGHT(Z$2,1))-1,0),\"\")","v":""},{"$f":"IF(VALUE(MID(AA$2,5,2))<=$V96,OFFSET('CCG-Prov(Amb)'!$B$1,MATCH($A96,'CCG-Prov(Amb)'!$A$2:$A$335,0)+VALUE(RIGHT(AA$2,1))-1,0),\"\")","v":""},null,null,null,null,null,{"$f":"SUM(IF(('CCG-Prov(Births)'!$A$2:$A$6150=A96),1,0))","v":27},{"$f":"SUM(IF(('CCG-Prov(Births)'!$A$2:$A$6150=A96)*('CCG-Prov(Births)'!$C$2:$C$6150>=Maternity!$B$7),1,0))","v":2},{"$f":"IF(VALUE(MID(AI$2,5,2))<=$V96,OFFSET('CCG-Prov(Births)'!$B$1,MATCH($A96,'CCG-Prov(Births)'!$A$2:$A$6150,0)+VALUE(RIGHT(AI$2,1))-1,0),\"\")","v":"RR8"},{"$f":"IF(VALUE(MID(AJ$2,5,2))<=$V96,OFFSET('CCG-Prov(Births)'!$B$1,MATCH($A96,'CCG-Prov(Births)'!$A$2:$A$6150,0)+VALUE(RIGHT(AJ$2,1))-1,0),\"\")","v":""},{"$f":"IF(VALUE(MID(AK$2,5,2))<=$V96,OFFSET('CCG-Prov(Births)'!$B$1,MATCH($A96,'CCG-Prov(Births)'!$A$2:$A$6150,0)+VALUE(RIGHT(AK$2,1))-1,0),\"\")","v":""},{"$f":"IF(VALUE(MID(AL$2,5,2))<=$V96,OFFSET('CCG-Prov(Births)'!$B$1,MATCH($A96,'CCG-Prov(Births)'!$A$2:$A$6150,0)+VALUE(RIGHT(AL$2,1))-1,0),\"\")","v":""},{"$f":"IF(VALUE(MID(AM$2,5,2))<=$V96,OFFSET('CCG-Prov(Births)'!$B$1,MATCH($A96,'CCG-Prov(Births)'!$A$2:$A$6150,0)+VALUE(RIGHT(AM$2,1))-1,0),\"\")","v":""},null,"RNL",{"$f":"VLOOKUP(AO96,provnames!$A$2:$B$331,2,0)","v":"North Cumbria Univ Hospitals NHS Trust"},{"$f":"SUM(IF(('CCG-Prov(Births)'!$B$2:$B$6150=AO96),1,0))","v":27}]
["03G","Leeds South & East",{"$f":"SUM(IF(('CCG-Prov(Acute)'!$A$2:$A$29012=A97),1,0))","v":128},{"$f":"SUM(IF(('CCG-Prov(Acute)'!$A$2:$A$29012=A97)*('CCG-Prov(Acute)'!$C$2:$C$29012>=Acute!$B$7),1,0))","v":4},{"$f":"IF(VALUE(MID(E$2,5,2))<=$D97,OFFSET('CCG-Prov(Acute)'!$B$1,MATCH($A97,'CCG-Prov(Acute)'!$A$2:$A$29012,0)+VALUE(RIGHT(E$2,1))-1,0),\"\")","v":"RR8"},{"$f":"IF(VALUE(MID(F$2,5,2))<=$D97,OFFSET('CCG-Prov(Acute)'!$B$1,MATCH($A97,'CCG-Prov(Acute)'!$A$2:$A$29012,0)+VALUE(RIGHT(F$2,1))-1,0),\"\")","v":"RXF"},{"$f":"IF(VALUE(MID(G$2,5,2))<=$D97,OFFSET('CCG-Prov(Acute)'!$B$1,MATCH($A97,'CCG-Prov(Acute)'!$A$2:$A$29012,0)+VALUE(RIGHT(G$2,1))-1,0),\"\")","v":"NT3"},{"$f":"IF(VALUE(MID(H$2,5,2))<=$D97,OFFSET('CCG-Prov(Acute)'!$B$1,MATCH($A97,'CCG-Prov(Acute)'!$A$2:$A$29012,0)+VALUE(RIGHT(H$2,1))-1,0),\"\")","v":"RCD"},{"$f":"IF(VALUE(MID(I$2,5,2))<=$D97,OFFSET('CCG-Prov(Acute)'!$B$1,MATCH($A97,'CCG-Prov(Acute)'!$A$2:$A$29012,0)+VALUE(RIGHT(I$2,1))-1,0),\"\")","v":""},{"$f":"IF(VALUE(MID(J$2,5,2))<=$D97,OFFSET('CCG-Prov(Acute)'!$B$1,MATCH($A97,'CCG-Prov(Acute)'!$A$2:$A$29012,0)+VALUE(RIGHT(J$2,1))-1,0),\"\")","v":""},{"$f":"IF(VALUE(MID(K$2,5,2))<=$D97,OFFSET('CCG-Prov(Acute)'!$B$1,MATCH($A97,'CCG-Prov(Acute)'!$A$2:$A$29012,0)+VALUE(RIGHT(K$2,1))-1,0),\"\")","v":""},{"$f":"IF(VALUE(MID(L$2,5,2))<=$D97,OFFSET('CCG-Prov(Acute)'!$B$1,MATCH($A97,'CCG-Prov(Acute)'!$A$2:$A$29012,0)+VALUE(RIGHT(L$2,1))-1,0),\"\")","v":""},{"$f":"IF(VALUE(MID(M$2,5,2))<=$D97,OFFSET('CCG-Prov(Acute)'!$B$1,MATCH($A97,'CCG-Prov(Acute)'!$A$2:$A$29012,0)+VALUE(RIGHT(M$2,1))-1,0),\"\")","v":""},{"$f":"IF(VALUE(MID(N$2,5,2))<=$D97,OFFSET('CCG-Prov(Acute)'!$B$1,MATCH($A97,'CCG-Prov(Acute)'!$A$2:$A$29012,0)+VALUE(RIGHT(N$2,1))-1,0),\"\")","v":""},null,null,"RAE",{"$f":"VLOOKUP(Q97,provnames!$A$2:$B$331,2,0)","v":"Bradford Teaching Hospitals NHS FT"},{"$f":"SUM(IF(('CCG-Prov(Acute)'!$B$2:$B$28899=Q97),1,0))","v":165},null,{"$f":"SUM(IF(('CCG-Prov(Amb)'!$A$2:$A$335=A97),1,0))","v":1},{"$f":"SUM(IF(('CCG-Prov(Amb)'!$A$2:$A$335=A97)*('CCG-Prov(Amb)'!$C$2:$C$335>=Ambulance!$B$7),1,0))","v":1},{"$f":"IF(VALUE(MID(W$2,5,2))<=$V97,OFFSET('CCG-Prov(Amb)'!$B$1,MATCH($A97,'CCG-Prov(Amb)'!$A$2:$A$335,0)+VALUE(RIGHT(W$2,1))-1,0),\"\")","v":"RX8"},{"$f":"IF(VALUE(MID(X$2,5,2))<=$V97,OFFSET('CCG-Prov(Amb)'!$B$1,MATCH($A97,'CCG-Prov(Amb)'!$A$2:$A$335,0)+VALUE(RIGHT(X$2,1))-1,0),\"\")","v":""},{"$f":"IF(VALUE(MID(Y$2,5,2))<=$V97,OFFSET('CCG-Prov(Amb)'!$B$1,MATCH($A97,'CCG-Prov(Amb)'!$A$2:$A$335,0)+VALUE(RIGHT(Y$2,1))-1,0),\"\")","v":""},{"$f":"IF(VALUE(MID(Z$2,5,2))<=$V97,OFFSET('CCG-Prov(Amb)'!$B$1,MATCH($A97,'CCG-Prov(Amb)'!$A$2:$A$335,0)+VALUE(RIGHT(Z$2,1))-1,0),\"\")","v":""},{"$f":"IF(VALUE(MID(AA$2,5,2))<=$V97,OFFSET('CCG-Prov(Amb)'!$B$1,MATCH($A97,'CCG-Prov(Amb)'!$A$2:$A$335,0)+VALUE(RIGHT(AA$2,1))-1,0),\"\")","v":""},null,null,null,null,null,{"$f":"SUM(IF(('CCG-Prov(Births)'!$A$2:$A$6150=A97),1,0))","v":28},{"$f":"SUM(IF(('CCG-Prov(Births)'!$A$2:$A$6150=A97)*('CCG-Prov(Births)'!$C$2:$C$6150>=Maternity!$B$7),1,0))","v":2},{"$f":"IF(VALUE(MID(AI$2,5,2))<=$V97,OFFSET('CCG-Prov(Births)'!$B$1,MATCH($A97,'CCG-Prov(Births)'!$A$2:$A$6150,0)+VALUE(RIGHT(AI$2,1))-1,0),\"\")","v":"RR8"},{"$f":"IF(VALUE(MID(AJ$2,5,2))<=$V97,OFFSET('CCG-Prov(Births)'!$B$1,MATCH($A97,'CCG-Prov(Births)'!$A$2:$A$6150,0)+VALUE(RIGHT(AJ$2,1))-1,0),\"\")","v":""},{"$f":"IF(VALUE(MID(AK$2,5,2))<=$V97,OFFSET('CCG-Prov(Births)'!$B$1,MATCH($A97,'CCG-Prov(Births)'!$A$2:$A$6150,0)+VALUE(RIGHT(AK$2,1))-1,0),\"\")","v":""},{"$f":"IF(VALUE(MID(AL$2,5,2))<=$V97,OFFSET('CCG-Prov(Births)'!$B$1,MATCH($A97,'CCG-Prov(Births)'!$A$2:$A$6150,0)+VALUE(RIGHT(AL$2,1))-1,0),\"\")","v":""},{"$f":"IF(VALUE(MID(AM$2,5,2))<=$V97,OFFSET('CCG-Prov(Births)'!$B$1,MATCH($A97,'CCG-Prov(Births)'!$A$2:$A$6150,0)+VALUE(RIGHT(AM$2,1))-1,0),\"\")","v":""},null,"RNQ",{"$f":"VLOOKUP(AO97,provnames!$A$2:$B$331,2,0)","v":"Kettering General Hospital NHS FT"},{"$f":"SUM(IF(('CCG-Prov(Births)'!$B$2:$B$6150=AO97),1,0))","v":48}]
["03C","Leeds West",{"$f":"SUM(IF(('CCG-Prov(Acute)'!$A$2:$A$29012=A98),1,0))","v":163},{"$f":"SUM(IF(('CCG-Prov(Acute)'!$A$2:$A$29012=A98)*('CCG-Prov(Acute)'!$C$2:$C$29012>=Acute!$B$7),1,0))","v":7},{"$f":"IF(VALUE(MID(E$2,5,2))<=$D98,OFFSET('CCG-Prov(Acute)'!$B$1,MATCH($A98,'CCG-Prov(Acute)'!$A$2:$A$29012,0)+VALUE(RIGHT(E$2,1))-1,0),\"\")","v":"RR8"},{"$f":"IF(VALUE(MID(F$2,5,2))<=$D98,OFFSET('CCG-Prov(Acute)'!$B$1,MATCH($A98,'CCG-Prov(Acute)'!$A$2:$A$29012,0)+VALUE(RIGHT(F$2,1))-1,0),\"\")","v":"RXF"},{"$f":"IF(VALUE(MID(G$2,5,2))<=$D98,OFFSET('CCG-Prov(Acute)'!$B$1,MATCH($A98,'CCG-Prov(Acute)'!$A$2:$A$29012,0)+VALUE(RIGHT(G$2,1))-1,0),\"\")","v":"RAE"},{"$f":"IF(VALUE(MID(H$2,5,2))<=$D98,OFFSET('CCG-Prov(Acute)'!$B$1,MATCH($A98,'CCG-Prov(Acute)'!$A$2:$A$29012,0)+VALUE(RIGHT(H$2,1))-1,0),\"\")","v":"NVC"},{"$f":"IF(VALUE(MID(I$2,5,2))<=$D98,OFFSET('CCG-Prov(Acute)'!$B$1,MATCH($A98,'CCG-Prov(Acute)'!$A$2:$A$29012,0)+VALUE(RIGHT(I$2,1))-1,0),\"\")","v":"RCD"},{"$f":"IF(VALUE(MID(J$2,5,2))<=$D98,OFFSET('CCG-Prov(Acute)'!$B$1,MATCH($A98,'CCG-Prov(Acute)'!$A$2:$A$29012,0)+VALUE(RIGHT(J$2,1))-1,0),\"\")","v":"NTP"},{"$f":"IF(VALUE(MID(K$2,5,2))<=$D98,OFFSET('CCG-Prov(Acute)'!$B$1,MATCH($A98,'CCG-Prov(Acute)'!$A$2:$A$29012,0)+VALUE(RIGHT(K$2,1))-1,0),\"\")","v":"NT3"},{"$f":"IF(VALUE(MID(L$2,5,2))<=$D98,OFFSET('CCG-Prov(Acute)'!$B$1,MATCH($A98,'CCG-Prov(Acute)'!$A$2:$A$29012,0)+VALUE(RIGHT(L$2,1))-1,0),\"\")","v":""},{"$f":"IF(VALUE(MID(M$2,5,2))<=$D98,OFFSET('CCG-Prov(Acute)'!$B$1,MATCH($A98,'CCG-Prov(Acute)'!$A$2:$A$29012,0)+VALUE(RIGHT(M$2,1))-1,0),\"\")","v":""},{"$f":"IF(VALUE(MID(N$2,5,2))<=$D98,OFFSET('CCG-Prov(Acute)'!$B$1,MATCH($A98,'CCG-Prov(Acute)'!$A$2:$A$29012,0)+VALUE(RIGHT(N$2,1))-1,0),\"\")","v":""},null,null,"RAJ",{"$f":"VLOOKUP(Q98,provnames!$A$2:$B$331,2,0)","v":"Southend Univ Hospital NHS FT"},{"$f":"SUM(IF(('CCG-Prov(Acute)'!$B$2:$B$28899=Q98),1,0))","v":113},null,{"$f":"SUM(IF(('CCG-Prov(Amb)'!$A$2:$A$335=A98),1,0))","v":1},{"$f":"SUM(IF(('CCG-Prov(Amb)'!$A$2:$A$335=A98)*('CCG-Prov(Amb)'!$C$2:$C$335>=Ambulance!$B$7),1,0))","v":1},{"$f":"IF(VALUE(MID(W$2,5,2))<=$V98,OFFSET('CCG-Prov(Amb)'!$B$1,MATCH($A98,'CCG-Prov(Amb)'!$A$2:$A$335,0)+VALUE(RIGHT(W$2,1))-1,0),\"\")","v":"RX8"},{"$f":"IF(VALUE(MID(X$2,5,2))<=$V98,OFFSET('CCG-Prov(Amb)'!$B$1,MATCH($A98,'CCG-Prov(Amb)'!$A$2:$A$335,0)+VALUE(RIGHT(X$2,1))-1,0),\"\")","v":""},{"$f":"IF(VALUE(MID(Y$2,5,2))<=$V98,OFFSET('CCG-Prov(Amb)'!$B$1,MATCH($A98,'CCG-Prov(Amb)'!$A$2:$A$335,0)+VALUE(RIGHT(Y$2,1))-1,0),\"\")","v":""},{"$f":"IF(VALUE(MID(Z$2,5,2))<=$V98,OFFSET('CCG-Prov(Amb)'!$B$1,MATCH($A98,'CCG-Prov(Amb)'!$A$2:$A$335,0)+VALUE(RIGHT(Z$2,1))-1,0),\"\")","v":""},{"$f":"IF(VALUE(MID(AA$2,5,2))<=$V98,OFFSET('CCG-Prov(Amb)'!$B$1,MATCH($A98,'CCG-Prov(Amb)'!$A$2:$A$335,0)+VALUE(RIGHT(AA$2,1))-1,0),\"\")","v":""},null,null,null,null,null,{"$f":"SUM(IF(('CCG-Prov(Births)'!$A$2:$A$6150=A98),1,0))","v":32},{"$f":"SUM(IF(('CCG-Prov(Births)'!$A$2:$A$6150=A98)*('CCG-Prov(Births)'!$C$2:$C$6150>=Maternity!$B$7),1,0))","v":4},{"$f":"IF(VALUE(MID(AI$2,5,2))<=$V98,OFFSET('CCG-Prov(Births)'!$B$1,MATCH($A98,'CCG-Prov(Births)'!$A$2:$A$6150,0)+VALUE(RIGHT(AI$2,1))-1,0),\"\")","v":"RR8"},{"$f":"IF(VALUE(MID(AJ$2,5,2))<=$V98,OFFSET('CCG-Prov(Births)'!$B$1,MATCH($A98,'CCG-Prov(Births)'!$A$2:$A$6150,0)+VALUE(RIGHT(AJ$2,1))-1,0),\"\")","v":""},{"$f":"IF(VALUE(MID(AK$2,5,2))<=$V98,OFFSET('CCG-Prov(Births)'!$B$1,MATCH($A98,'CCG-Prov(Births)'!$A$2:$A$6150,0)+VALUE(RIGHT(AK$2,1))-1,0),\"\")","v":""},{"$f":"IF(VALUE(MID(AL$2,5,2))<=$V98,OFFSET('CCG-Prov(Births)'!$B$1,MATCH($A98,'CCG-Prov(Births)'!$A$2:$A$6150,0)+VALUE(RIGHT(AL$2,1))-1,0),\"\")","v":""},{"$f":"IF(VALUE(MID(AM$2,5,2))<=$V98,OFFSET('CCG-Prov(Births)'!$B$1,MATCH($A98,'CCG-Prov(Births)'!$A$2:$A$6150,0)+VALUE(RIGHT(AM$2,1))-1,0),\"\")","v":""},null,"RNS",{"$f":"VLOOKUP(AO98,provnames!$A$2:$B$331,2,0)","v":"Northampton General Hospital NHS Trust"},{"$f":"SUM(IF(('CCG-Prov(Births)'!$B$2:$B$6150=AO98),1,0))","v":29}]
["04C","Leicester City",{"$f":"SUM(IF(('CCG-Prov(Acute)'!$A$2:$A$29012=A99),1,0))","v":158},{"$f":"SUM(IF(('CCG-Prov(Acute)'!$A$2:$A$29012=A99)*('CCG-Prov(Acute)'!$C$2:$C$29012>=Acute!$B$7),1,0))","v":2},{"$f":"IF(VALUE(MID(E$2,5,2))<=$D99,OFFSET('CCG-Prov(Acute)'!$B$1,MATCH($A99,'CCG-Prov(Acute)'!$A$2:$A$29012,0)+VALUE(RIGHT(E$2,1))-1,0),\"\")","v":"RWE"},{"$f":"IF(VALUE(MID(F$2,5,2))<=$D99,OFFSET('CCG-Prov(Acute)'!$B$1,MATCH($A99,'CCG-Prov(Acute)'!$A$2:$A$29012,0)+VALUE(RIGHT(F$2,1))-1,0),\"\")","v":"NT3"},{"$f":"IF(VALUE(MID(G$2,5,2))<=$D99,OFFSET('CCG-Prov(Acute)'!$B$1,MATCH($A99,'CCG-Prov(Acute)'!$A$2:$A$29012,0)+VALUE(RIGHT(G$2,1))-1,0),\"\")","v":""},{"$f":"IF(VALUE(MID(H$2,5,2))<=$D99,OFFSET('CCG-Prov(Acute)'!$B$1,MATCH($A99,'CCG-Prov(Acute)'!$A$2:$A$29012,0)+VALUE(RIGHT(H$2,1))-1,0),\"\")","v":""},{"$f":"IF(VALUE(MID(I$2,5,2))<=$D99,OFFSET('CCG-Prov(Acute)'!$B$1,MATCH($A99,'CCG-Prov(Acute)'!$A$2:$A$29012,0)+VALUE(RIGHT(I$2,1))-1,0),\"\")","v":""},{"$f":"IF(VALUE(MID(J$2,5,2))<=$D99,OFFSET('CCG-Prov(Acute)'!$B$1,MATCH($A99,'CCG-Prov(Acute)'!$A$2:$A$29012,0)+VALUE(RIGHT(J$2,1))-1,0),\"\")","v":""},{"$f":"IF(VALUE(MID(K$2,5,2))<=$D99,OFFSET('CCG-Prov(Acute)'!$B$1,MATCH($A99,'CCG-Prov(Acute)'!$A$2:$A$29012,0)+VALUE(RIGHT(K$2,1))-1,0),\"\")","v":""},{"$f":"IF(VALUE(MID(L$2,5,2))<=$D99,OFFSET('CCG-Prov(Acute)'!$B$1,MATCH($A99,'CCG-Prov(Acute)'!$A$2:$A$29012,0)+VALUE(RIGHT(L$2,1))-1,0),\"\")","v":""},{"$f":"IF(VALUE(MID(M$2,5,2))<=$D99,OFFSET('CCG-Prov(Acute)'!$B$1,MATCH($A99,'CCG-Prov(Acute)'!$A$2:$A$29012,0)+VALUE(RIGHT(M$2,1))-1,0),\"\")","v":""},{"$f":"IF(VALUE(MID(N$2,5,2))<=$D99,OFFSET('CCG-Prov(Acute)'!$B$1,MATCH($A99,'CCG-Prov(Acute)'!$A$2:$A$29012,0)+VALUE(RIGHT(N$2,1))-1,0),\"\")","v":""},null,null,"RAL",{"$f":"VLOOKUP(Q99,provnames!$A$2:$B$331,2,0)","v":"Royal Free Hampstead NHS Trust"},{"$f":"SUM(IF(('CCG-Prov(Acute)'!$B$2:$B$28899=Q99),1,0))","v":206},null,{"$f":"SUM(IF(('CCG-Prov(Amb)'!$A$2:$A$335=A99),1,0))","v":1},{"$f":"SUM(IF(('CCG-Prov(Amb)'!$A$2:$A$335=A99)*('CCG-Prov(Amb)'!$C$2:$C$335>=Ambulance!$B$7),1,0))","v":1},{"$f":"IF(VALUE(MID(W$2,5,2))<=$V99,OFFSET('CCG-Prov(Amb)'!$B$1,MATCH($A99,'CCG-Prov(Amb)'!$A$2:$A$335,0)+VALUE(RIGHT(W$2,1))-1,0),\"\")","v":"RX9"},{"$f":"IF(VALUE(MID(X$2,5,2))<=$V99,OFFSET('CCG-Prov(Amb)'!$B$1,MATCH($A99,'CCG-Prov(Amb)'!$A$2:$A$335,0)+VALUE(RIGHT(X$2,1))-1,0),\"\")","v":""},{"$f":"IF(VALUE(MID(Y$2,5,2))<=$V99,OFFSET('CCG-Prov(Amb)'!$B$1,MATCH($A99,'CCG-Prov(Amb)'!$A$2:$A$335,0)+VALUE(RIGHT(Y$2,1))-1,0),\"\")","v":""},{"$f":"IF(VALUE(MID(Z$2,5,2))<=$V99,OFFSET('CCG-Prov(Amb)'!$B$1,MATCH($A99,'CCG-Prov(Amb)'!$A$2:$A$335,0)+VALUE(RIGHT(Z$2,1))-1,0),\"\")","v":""},{"$f":"IF(VALUE(MID(AA$2,5,2))<=$V99,OFFSET('CCG-Prov(Amb)'!$B$1,MATCH($A99,'CCG-Prov(Amb)'!$A$2:$A$335,0)+VALUE(RIGHT(AA$2,1))-1,0),\"\")","v":""},null,null,null,null,null,{"$f":"SUM(IF(('CCG-Prov(Births)'!$A$2:$A$6150=A99),1,0))","v":38},{"$f":"SUM(IF(('CCG-Prov(Births)'!$A$2:$A$6150=A99)*('CCG-Prov(Births)'!$C$2:$C$6150>=Maternity!$B$7),1,0))","v":1},{"$f":"IF(VALUE(MID(AI$2,5,2))<=$V99,OFFSET('CCG-Prov(Births)'!$B$1,MATCH($A99,'CCG-Prov(Births)'!$A$2:$A$6150,0)+VALUE(RIGHT(AI$2,1))-1,0),\"\")","v":"RWE"},{"$f":"IF(VALUE(MID(AJ$2,5,2))<=$V99,OFFSET('CCG-Prov(Births)'!$B$1,MATCH($A99,'CCG-Prov(Births)'!$A$2:$A$6150,0)+VALUE(RIGHT(AJ$2,1))-1,0),\"\")","v":""},{"$f":"IF(VALUE(MID(AK$2,5,2))<=$V99,OFFSET('CCG-Prov(Births)'!$B$1,MATCH($A99,'CCG-Prov(Births)'!$A$2:$A$6150,0)+VALUE(RIGHT(AK$2,1))-1,0),\"\")","v":""},{"$f":"IF(VALUE(MID(AL$2,5,2))<=$V99,OFFSET('CCG-Prov(Births)'!$B$1,MATCH($A99,'CCG-Prov(Births)'!$A$2:$A$6150,0)+VALUE(RIGHT(AL$2,1))-1,0),\"\")","v":""},{"$f":"IF(VALUE(MID(AM$2,5,2))<=$V99,OFFSET('CCG-Prov(Births)'!$B$1,MATCH($A99,'CCG-Prov(Births)'!$A$2:$A$6150,0)+VALUE(RIGHT(AM$2,1))-1,0),\"\")","v":""},null,"RNZ",{"$f":"VLOOKUP(AO99,provnames!$A$2:$B$331,2,0)","v":"Salisbury NHS FT"},{"$f":"SUM(IF(('CCG-Prov(Births)'!$B$2:$B$6150=AO99),1,0))","v":20}]
["08L","Lewisham",{"$f":"SUM(IF(('CCG-Prov(Acute)'!$A$2:$A$29012=A100),1,0))","v":145},{"$f":"SUM(IF(('CCG-Prov(Acute)'!$A$2:$A$29012=A100)*('CCG-Prov(Acute)'!$C$2:$C$29012>=Acute!$B$7),1,0))","v":4},{"$f":"IF(VALUE(MID(E$2,5,2))<=$D100,OFFSET('CCG-Prov(Acute)'!$B$1,MATCH($A100,'CCG-Prov(Acute)'!$A$2:$A$29012,0)+VALUE(RIGHT(E$2,1))-1,0),\"\")","v":"RJ2"},{"$f":"IF(VALUE(MID(F$2,5,2))<=$D100,OFFSET('CCG-Prov(Acute)'!$B$1,MATCH($A100,'CCG-Prov(Acute)'!$A$2:$A$29012,0)+VALUE(RIGHT(F$2,1))-1,0),\"\")","v":"RJZ"},{"$f":"IF(VALUE(MID(G$2,5,2))<=$D100,OFFSET('CCG-Prov(Acute)'!$B$1,MATCH($A100,'CCG-Prov(Acute)'!$A$2:$A$29012,0)+VALUE(RIGHT(G$2,1))-1,0),\"\")","v":"RJ1"},{"$f":"IF(VALUE(MID(H$2,5,2))<=$D100,OFFSET('CCG-Prov(Acute)'!$B$1,MATCH($A100,'CCG-Prov(Acute)'!$A$2:$A$29012,0)+VALUE(RIGHT(H$2,1))-1,0),\"\")","v":"RYQ"},{"$f":"IF(VALUE(MID(I$2,5,2))<=$D100,OFFSET('CCG-Prov(Acute)'!$B$1,MATCH($A100,'CCG-Prov(Acute)'!$A$2:$A$29012,0)+VALUE(RIGHT(I$2,1))-1,0),\"\")","v":""},{"$f":"IF(VALUE(MID(J$2,5,2))<=$D100,OFFSET('CCG-Prov(Acute)'!$B$1,MATCH($A100,'CCG-Prov(Acute)'!$A$2:$A$29012,0)+VALUE(RIGHT(J$2,1))-1,0),\"\")","v":""},{"$f":"IF(VALUE(MID(K$2,5,2))<=$D100,OFFSET('CCG-Prov(Acute)'!$B$1,MATCH($A100,'CCG-Prov(Acute)'!$A$2:$A$29012,0)+VALUE(RIGHT(K$2,1))-1,0),\"\")","v":""},{"$f":"IF(VALUE(MID(L$2,5,2))<=$D100,OFFSET('CCG-Prov(Acute)'!$B$1,MATCH($A100,'CCG-Prov(Acute)'!$A$2:$A$29012,0)+VALUE(RIGHT(L$2,1))-1,0),\"\")","v":""},{"$f":"IF(VALUE(MID(M$2,5,2))<=$D100,OFFSET('CCG-Prov(Acute)'!$B$1,MATCH($A100,'CCG-Prov(Acute)'!$A$2:$A$29012,0)+VALUE(RIGHT(M$2,1))-1,0),\"\")","v":""},{"$f":"IF(VALUE(MID(N$2,5,2))<=$D100,OFFSET('CCG-Prov(Acute)'!$B$1,MATCH($A100,'CCG-Prov(Acute)'!$A$2:$A$29012,0)+VALUE(RIGHT(N$2,1))-1,0),\"\")","v":""},null,null,"RAN",{"$f":"VLOOKUP(Q100,provnames!$A$2:$B$331,2,0)","v":"Royal National Orthopaedic Hospital NHS Trust"},{"$f":"SUM(IF(('CCG-Prov(Acute)'!$B$2:$B$28899=Q100),1,0))","v":167},null,{"$f":"SUM(IF(('CCG-Prov(Amb)'!$A$2:$A$335=A100),1,0))","v":1},{"$f":"SUM(IF(('CCG-Prov(Amb)'!$A$2:$A$335=A100)*('CCG-Prov(Amb)'!$C$2:$C$335>=Ambulance!$B$7),1,0))","v":1},{"$f":"IF(VALUE(MID(W$2,5,2))<=$V100,OFFSET('CCG-Prov(Amb)'!$B$1,MATCH($A100,'CCG-Prov(Amb)'!$A$2:$A$335,0)+VALUE(RIGHT(W$2,1))-1,0),\"\")","v":"RRY"},{"$f":"IF(VALUE(MID(X$2,5,2))<=$V100,OFFSET('CCG-Prov(Amb)'!$B$1,MATCH($A100,'CCG-Prov(Amb)'!$A$2:$A$335,0)+VALUE(RIGHT(X$2,1))-1,0),\"\")","v":""},{"$f":"IF(VALUE(MID(Y$2,5,2))<=$V100,OFFSET('CCG-Prov(Amb)'!$B$1,MATCH($A100,'CCG-Prov(Amb)'!$A$2:$A$335,0)+VALUE(RIGHT(Y$2,1))-1,0),\"\")","v":""},{"$f":"IF(VALUE(MID(Z$2,5,2))<=$V100,OFFSET('CCG-Prov(Amb)'!$B$1,MATCH($A100,'CCG-Prov(Amb)'!$A$2:$A$335,0)+VALUE(RIGHT(Z$2,1))-1,0),\"\")","v":""},{"$f":"IF(VALUE(MID(AA$2,5,2))<=$V100,OFFSET('CCG-Prov(Amb)'!$B$1,MATCH($A100,'CCG-Prov(Amb)'!$A$2:$A$335,0)+VALUE(RIGHT(AA$2,1))-1,0),\"\")","v":""},null,null,null,null,null,{"$f":"SUM(IF(('CCG-Prov(Births)'!$A$2:$A$6150=A100),1,0))","v":41},{"$f":"SUM(IF(('CCG-Prov(Births)'!$A$2:$A$6150=A100)*('CCG-Prov(Births)'!$C$2:$C$6150>=Maternity!$B$7),1,0))","v":4},{"$f":"IF(VALUE(MID(AI$2,5,2))<=$V100,OFFSET('CCG-Prov(Births)'!$B$1,MATCH($A100,'CCG-Prov(Births)'!$A$2:$A$6150,0)+VALUE(RIGHT(AI$2,1))-1,0),\"\")","v":"RJ2"},{"$f":"IF(VALUE(MID(AJ$2,5,2))<=$V100,OFFSET('CCG-Prov(Births)'!$B$1,MATCH($A100,'CCG-Prov(Births)'!$A$2:$A$6150,0)+VALUE(RIGHT(AJ$2,1))-1,0),\"\")","v":""},{"$f":"IF(VALUE(MID(AK$2,5,2))<=$V100,OFFSET('CCG-Prov(Births)'!$B$1,MATCH($A100,'CCG-Prov(Births)'!$A$2:$A$6150,0)+VALUE(RIGHT(AK$2,1))-1,0),\"\")","v":""},{"$f":"IF(VALUE(MID(AL$2,5,2))<=$V100,OFFSET('CCG-Prov(Births)'!$B$1,MATCH($A100,'CCG-Prov(Births)'!$A$2:$A$6150,0)+VALUE(RIGHT(AL$2,1))-1,0),\"\")","v":""},{"$f":"IF(VALUE(MID(AM$2,5,2))<=$V100,OFFSET('CCG-Prov(Births)'!$B$1,MATCH($A100,'CCG-Prov(Births)'!$A$2:$A$6150,0)+VALUE(RIGHT(AM$2,1))-1,0),\"\")","v":""},null,"RP5",{"$f":"VLOOKUP(AO100,provnames!$A$2:$B$331,2,0)","v":"Doncaster & Bassetlaw Hospitals NHS FT"},{"$f":"SUM(IF(('CCG-Prov(Births)'!$B$2:$B$6150=AO100),1,0))","v":40}]
["03T","Lincolnshire East",{"$f":"SUM(IF(('CCG-Prov(Acute)'!$A$2:$A$29012=A101),1,0))","v":155},{"$f":"SUM(IF(('CCG-Prov(Acute)'!$A$2:$A$29012=A101)*('CCG-Prov(Acute)'!$C$2:$C$29012>=Acute!$B$7),1,0))","v":6},{"$f":"IF(VALUE(MID(E$2,5,2))<=$D101,OFFSET('CCG-Prov(Acute)'!$B$1,MATCH($A101,'CCG-Prov(Acute)'!$A$2:$A$29012,0)+VALUE(RIGHT(E$2,1))-1,0),\"\")","v":"RWD"},{"$f":"IF(VALUE(MID(F$2,5,2))<=$D101,OFFSET('CCG-Prov(Acute)'!$B$1,MATCH($A101,'CCG-Prov(Acute)'!$A$2:$A$29012,0)+VALUE(RIGHT(F$2,1))-1,0),\"\")","v":"RJL"},{"$f":"IF(VALUE(MID(G$2,5,2))<=$D101,OFFSET('CCG-Prov(Acute)'!$B$1,MATCH($A101,'CCG-Prov(Acute)'!$A$2:$A$29012,0)+VALUE(RIGHT(G$2,1))-1,0),\"\")","v":"NVC"},{"$f":"IF(VALUE(MID(H$2,5,2))<=$D101,OFFSET('CCG-Prov(Acute)'!$B$1,MATCH($A101,'CCG-Prov(Acute)'!$A$2:$A$29012,0)+VALUE(RIGHT(H$2,1))-1,0),\"\")","v":"RX1"},{"$f":"IF(VALUE(MID(I$2,5,2))<=$D101,OFFSET('CCG-Prov(Acute)'!$B$1,MATCH($A101,'CCG-Prov(Acute)'!$A$2:$A$29012,0)+VALUE(RIGHT(I$2,1))-1,0),\"\")","v":"5N9"},{"$f":"IF(VALUE(MID(J$2,5,2))<=$D101,OFFSET('CCG-Prov(Acute)'!$B$1,MATCH($A101,'CCG-Prov(Acute)'!$A$2:$A$29012,0)+VALUE(RIGHT(J$2,1))-1,0),\"\")","v":"RWE"},{"$f":"IF(VALUE(MID(K$2,5,2))<=$D101,OFFSET('CCG-Prov(Acute)'!$B$1,MATCH($A101,'CCG-Prov(Acute)'!$A$2:$A$29012,0)+VALUE(RIGHT(K$2,1))-1,0),\"\")","v":""},{"$f":"IF(VALUE(MID(L$2,5,2))<=$D101,OFFSET('CCG-Prov(Acute)'!$B$1,MATCH($A101,'CCG-Prov(Acute)'!$A$2:$A$29012,0)+VALUE(RIGHT(L$2,1))-1,0),\"\")","v":""},{"$f":"IF(VALUE(MID(M$2,5,2))<=$D101,OFFSET('CCG-Prov(Acute)'!$B$1,MATCH($A101,'CCG-Prov(Acute)'!$A$2:$A$29012,0)+VALUE(RIGHT(M$2,1))-1,0),\"\")","v":""},{"$f":"IF(VALUE(MID(N$2,5,2))<=$D101,OFFSET('CCG-Prov(Acute)'!$B$1,MATCH($A101,'CCG-Prov(Acute)'!$A$2:$A$29012,0)+VALUE(RIGHT(N$2,1))-1,0),\"\")","v":""},null,null,"RAP",{"$f":"VLOOKUP(Q101,provnames!$A$2:$B$331,2,0)","v":"North Middlesex Univ Hospital NHS Trust"},{"$f":"SUM(IF(('CCG-Prov(Acute)'!$B$2:$B$28899=Q101),1,0))","v":124},null,{"$f":"SUM(IF(('CCG-Prov(Amb)'!$A$2:$A$335=A101),1,0))","v":1},{"$f":"SUM(IF(('CCG-Prov(Amb)'!$A$2:$A$335=A101)*('CCG-Prov(Amb)'!$C$2:$C$335>=Ambulance!$B$7),1,0))","v":1},{"$f":"IF(VALUE(MID(W$2,5,2))<=$V101,OFFSET('CCG-Prov(Amb)'!$B$1,MATCH($A101,'CCG-Prov(Amb)'!$A$2:$A$335,0)+VALUE(RIGHT(W$2,1))-1,0),\"\")","v":"RX9"},{"$f":"IF(VALUE(MID(X$2,5,2))<=$V101,OFFSET('CCG-Prov(Amb)'!$B$1,MATCH($A101,'CCG-Prov(Amb)'!$A$2:$A$335,0)+VALUE(RIGHT(X$2,1))-1,0),\"\")","v":""},{"$f":"IF(VALUE(MID(Y$2,5,2))<=$V101,OFFSET('CCG-Prov(Amb)'!$B$1,MATCH($A101,'CCG-Prov(Amb)'!$A$2:$A$335,0)+VALUE(RIGHT(Y$2,1))-1,0),\"\")","v":""},{"$f":"IF(VALUE(MID(Z$2,5,2))<=$V101,OFFSET('CCG-Prov(Amb)'!$B$1,MATCH($A101,'CCG-Prov(Amb)'!$A$2:$A$335,0)+VALUE(RIGHT(Z$2,1))-1,0),\"\")","v":""},{"$f":"IF(VALUE(MID(AA$2,5,2))<=$V101,OFFSET('CCG-Prov(Amb)'!$B$1,MATCH($A101,'CCG-Prov(Amb)'!$A$2:$A$335,0)+VALUE(RIGHT(AA$2,1))-1,0),\"\")","v":""},null,null,null,null,null,{"$f":"SUM(IF(('CCG-Prov(Births)'!$A$2:$A$6150=A101),1,0))","v":33},{"$f":"SUM(IF(('CCG-Prov(Births)'!$A$2:$A$6150=A101)*('CCG-Prov(Births)'!$C$2:$C$6150>=Maternity!$B$7),1,0))","v":2},{"$f":"IF(VALUE(MID(AI$2,5,2))<=$V101,OFFSET('CCG-Prov(Births)'!$B$1,MATCH($A101,'CCG-Prov(Births)'!$A$2:$A$6150,0)+VALUE(RIGHT(AI$2,1))-1,0),\"\")","v":"RWD"},{"$f":"IF(VALUE(MID(AJ$2,5,2))<=$V101,OFFSET('CCG-Prov(Births)'!$B$1,MATCH($A101,'CCG-Prov(Births)'!$A$2:$A$6150,0)+VALUE(RIGHT(AJ$2,1))-1,0),\"\")","v":""},{"$f":"IF(VALUE(MID(AK$2,5,2))<=$V101,OFFSET('CCG-Prov(Births)'!$B$1,MATCH($A101,'CCG-Prov(Births)'!$A$2:$A$6150,0)+VALUE(RIGHT(AK$2,1))-1,0),\"\")","v":""},{"$f":"IF(VALUE(MID(AL$2,5,2))<=$V101,OFFSET('CCG-Prov(Births)'!$B$1,MATCH($A101,'CCG-Prov(Births)'!$A$2:$A$6150,0)+VALUE(RIGHT(AL$2,1))-1,0),\"\")","v":""},{"$f":"IF(VALUE(MID(AM$2,5,2))<=$V101,OFFSET('CCG-Prov(Births)'!$B$1,MATCH($A101,'CCG-Prov(Births)'!$A$2:$A$6150,0)+VALUE(RIGHT(AM$2,1))-1,0),\"\")","v":""},null,"RPA",{"$f":"VLOOKUP(AO101,provnames!$A$2:$B$331,2,0)","v":"Medway NHS FT"},{"$f":"SUM(IF(('CCG-Prov(Births)'!$B$2:$B$6150=AO101),1,0))","v":42}]
["04D","Lincolnshire West",{"$f":"SUM(IF(('CCG-Prov(Acute)'!$A$2:$A$29012=A102),1,0))","v":153},{"$f":"SUM(IF(('CCG-Prov(Acute)'!$A$2:$A$29012=A102)*('CCG-Prov(Acute)'!$C$2:$C$29012>=Acute!$B$7),1,0))","v":5},{"$f":"IF(VALUE(MID(E$2,5,2))<=$D102,OFFSET('CCG-Prov(Acute)'!$B$1,MATCH($A102,'CCG-Prov(Acute)'!$A$2:$A$29012,0)+VALUE(RIGHT(E$2,1))-1,0),\"\")","v":"RWD"},{"$f":"IF(VALUE(MID(F$2,5,2))<=$D102,OFFSET('CCG-Prov(Acute)'!$B$1,MATCH($A102,'CCG-Prov(Acute)'!$A$2:$A$29012,0)+VALUE(RIGHT(F$2,1))-1,0),\"\")","v":"RJL"},{"$f":"IF(VALUE(MID(G$2,5,2))<=$D102,OFFSET('CCG-Prov(Acute)'!$B$1,MATCH($A102,'CCG-Prov(Acute)'!$A$2:$A$29012,0)+VALUE(RIGHT(G$2,1))-1,0),\"\")","v":"RX1"},{"$f":"IF(VALUE(MID(H$2,5,2))<=$D102,OFFSET('CCG-Prov(Acute)'!$B$1,MATCH($A102,'CCG-Prov(Acute)'!$A$2:$A$29012,0)+VALUE(RIGHT(H$2,1))-1,0),\"\")","v":"RK5"},{"$f":"IF(VALUE(MID(I$2,5,2))<=$D102,OFFSET('CCG-Prov(Acute)'!$B$1,MATCH($A102,'CCG-Prov(Acute)'!$A$2:$A$29012,0)+VALUE(RIGHT(I$2,1))-1,0),\"\")","v":"NVC"},{"$f":"IF(VALUE(MID(J$2,5,2))<=$D102,OFFSET('CCG-Prov(Acute)'!$B$1,MATCH($A102,'CCG-Prov(Acute)'!$A$2:$A$29012,0)+VALUE(RIGHT(J$2,1))-1,0),\"\")","v":""},{"$f":"IF(VALUE(MID(K$2,5,2))<=$D102,OFFSET('CCG-Prov(Acute)'!$B$1,MATCH($A102,'CCG-Prov(Acute)'!$A$2:$A$29012,0)+VALUE(RIGHT(K$2,1))-1,0),\"\")","v":""},{"$f":"IF(VALUE(MID(L$2,5,2))<=$D102,OFFSET('CCG-Prov(Acute)'!$B$1,MATCH($A102,'CCG-Prov(Acute)'!$A$2:$A$29012,0)+VALUE(RIGHT(L$2,1))-1,0),\"\")","v":""},{"$f":"IF(VALUE(MID(M$2,5,2))<=$D102,OFFSET('CCG-Prov(Acute)'!$B$1,MATCH($A102,'CCG-Prov(Acute)'!$A$2:$A$29012,0)+VALUE(RIGHT(M$2,1))-1,0),\"\")","v":""},{"$f":"IF(VALUE(MID(N$2,5,2))<=$D102,OFFSET('CCG-Prov(Acute)'!$B$1,MATCH($A102,'CCG-Prov(Acute)'!$A$2:$A$29012,0)+VALUE(RIGHT(N$2,1))-1,0),\"\")","v":""},null,null,"RAS",{"$f":"VLOOKUP(Q102,provnames!$A$2:$B$331,2,0)","v":"The Hillingdon Hospitals NHS FT"},{"$f":"SUM(IF(('CCG-Prov(Acute)'!$B$2:$B$28899=Q102),1,0))","v":185},null,{"$f":"SUM(IF(('CCG-Prov(Amb)'!$A$2:$A$335=A102),1,0))","v":1},{"$f":"SUM(IF(('CCG-Prov(Amb)'!$A$2:$A$335=A102)*('CCG-Prov(Amb)'!$C$2:$C$335>=Ambulance!$B$7),1,0))","v":1},{"$f":"IF(VALUE(MID(W$2,5,2))<=$V102,OFFSET('CCG-Prov(Amb)'!$B$1,MATCH($A102,'CCG-Prov(Amb)'!$A$2:$A$335,0)+VALUE(RIGHT(W$2,1))-1,0),\"\")","v":"RX9"},{"$f":"IF(VALUE(MID(X$2,5,2))<=$V102,OFFSET('CCG-Prov(Amb)'!$B$1,MATCH($A102,'CCG-Prov(Amb)'!$A$2:$A$335,0)+VALUE(RIGHT(X$2,1))-1,0),\"\")","v":""},{"$f":"IF(VALUE(MID(Y$2,5,2))<=$V102,OFFSET('CCG-Prov(Amb)'!$B$1,MATCH($A102,'CCG-Prov(Amb)'!$A$2:$A$335,0)+VALUE(RIGHT(Y$2,1))-1,0),\"\")","v":""},{"$f":"IF(VALUE(MID(Z$2,5,2))<=$V102,OFFSET('CCG-Prov(Amb)'!$B$1,MATCH($A102,'CCG-Prov(Amb)'!$A$2:$A$335,0)+VALUE(RIGHT(Z$2,1))-1,0),\"\")","v":""},{"$f":"IF(VALUE(MID(AA$2,5,2))<=$V102,OFFSET('CCG-Prov(Amb)'!$B$1,MATCH($A102,'CCG-Prov(Amb)'!$A$2:$A$335,0)+VALUE(RIGHT(AA$2,1))-1,0),\"\")","v":""},null,null,null,null,null,{"$f":"SUM(IF(('CCG-Prov(Births)'!$A$2:$A$6150=A102),1,0))","v":29},{"$f":"SUM(IF(('CCG-Prov(Births)'!$A$2:$A$6150=A102)*('CCG-Prov(Births)'!$C$2:$C$6150>=Maternity!$B$7),1,0))","v":2},{"$f":"IF(VALUE(MID(AI$2,5,2))<=$V102,OFFSET('CCG-Prov(Births)'!$B$1,MATCH($A102,'CCG-Prov(Births)'!$A$2:$A$6150,0)+VALUE(RIGHT(AI$2,1))-1,0),\"\")","v":"RWD"},{"$f":"IF(VALUE(MID(AJ$2,5,2))<=$V102,OFFSET('CCG-Prov(Births)'!$B$1,MATCH($A102,'CCG-Prov(Births)'!$A$2:$A$6150,0)+VALUE(RIGHT(AJ$2,1))-1,0),\"\")","v":""},{"$f":"IF(VALUE(MID(AK$2,5,2))<=$V102,OFFSET('CCG-Prov(Births)'!$B$1,MATCH($A102,'CCG-Prov(Births)'!$A$2:$A$6150,0)+VALUE(RIGHT(AK$2,1))-1,0),\"\")","v":""},{"$f":"IF(VALUE(MID(AL$2,5,2))<=$V102,OFFSET('CCG-Prov(Births)'!$B$1,MATCH($A102,'CCG-Prov(Births)'!$A$2:$A$6150,0)+VALUE(RIGHT(AL$2,1))-1,0),\"\")","v":""},{"$f":"IF(VALUE(MID(AM$2,5,2))<=$V102,OFFSET('CCG-Prov(Births)'!$B$1,MATCH($A102,'CCG-Prov(Births)'!$A$2:$A$6150,0)+VALUE(RIGHT(AM$2,1))-1,0),\"\")","v":""},null,"RQ3",{"$f":"VLOOKUP(AO102,provnames!$A$2:$B$331,2,0)","v":"Birmingham Children's Hospital NHS FT"},{"$f":"SUM(IF(('CCG-Prov(Births)'!$B$2:$B$6150=AO102),1,0))","v":0}]
["99A","Liverpool",{"$f":"SUM(IF(('CCG-Prov(Acute)'!$A$2:$A$29012=A103),1,0))","v":161},{"$f":"SUM(IF(('CCG-Prov(Acute)'!$A$2:$A$29012=A103)*('CCG-Prov(Acute)'!$C$2:$C$29012>=Acute!$B$7),1,0))","v":11},{"$f":"IF(VALUE(MID(E$2,5,2))<=$D103,OFFSET('CCG-Prov(Acute)'!$B$1,MATCH($A103,'CCG-Prov(Acute)'!$A$2:$A$29012,0)+VALUE(RIGHT(E$2,1))-1,0),\"\")","v":"RQ6"},{"$f":"IF(VALUE(MID(F$2,5,2))<=$D103,OFFSET('CCG-Prov(Acute)'!$B$1,MATCH($A103,'CCG-Prov(Acute)'!$A$2:$A$29012,0)+VALUE(RIGHT(F$2,1))-1,0),\"\")","v":"REM"},{"$f":"IF(VALUE(MID(G$2,5,2))<=$D103,OFFSET('CCG-Prov(Acute)'!$B$1,MATCH($A103,'CCG-Prov(Acute)'!$A$2:$A$29012,0)+VALUE(RIGHT(G$2,1))-1,0),\"\")","v":"RBS"},{"$f":"IF(VALUE(MID(H$2,5,2))<=$D103,OFFSET('CCG-Prov(Acute)'!$B$1,MATCH($A103,'CCG-Prov(Acute)'!$A$2:$A$29012,0)+VALUE(RIGHT(H$2,1))-1,0),\"\")","v":"RBN"},{"$f":"IF(VALUE(MID(I$2,5,2))<=$D103,OFFSET('CCG-Prov(Acute)'!$B$1,MATCH($A103,'CCG-Prov(Acute)'!$A$2:$A$29012,0)+VALUE(RIGHT(I$2,1))-1,0),\"\")","v":"REP"},{"$f":"IF(VALUE(MID(J$2,5,2))<=$D103,OFFSET('CCG-Prov(Acute)'!$B$1,MATCH($A103,'CCG-Prov(Acute)'!$A$2:$A$29012,0)+VALUE(RIGHT(J$2,1))-1,0),\"\")","v":"NT3"},{"$f":"IF(VALUE(MID(K$2,5,2))<=$D103,OFFSET('CCG-Prov(Acute)'!$B$1,MATCH($A103,'CCG-Prov(Acute)'!$A$2:$A$29012,0)+VALUE(RIGHT(K$2,1))-1,0),\"\")","v":"RBQ"},{"$f":"IF(VALUE(MID(L$2,5,2))<=$D103,OFFSET('CCG-Prov(Acute)'!$B$1,MATCH($A103,'CCG-Prov(Acute)'!$A$2:$A$29012,0)+VALUE(RIGHT(L$2,1))-1,0),\"\")","v":"5NL"},{"$f":"IF(VALUE(MID(M$2,5,2))<=$D103,OFFSET('CCG-Prov(Acute)'!$B$1,MATCH($A103,'CCG-Prov(Acute)'!$A$2:$A$29012,0)+VALUE(RIGHT(M$2,1))-1,0),\"\")","v":"RET"},{"$f":"IF(VALUE(MID(N$2,5,2))<=$D103,OFFSET('CCG-Prov(Acute)'!$B$1,MATCH($A103,'CCG-Prov(Acute)'!$A$2:$A$29012,0)+VALUE(RIGHT(N$2,1))-1,0),\"\")","v":"RYV"},null,null,"RAX",{"$f":"VLOOKUP(Q103,provnames!$A$2:$B$331,2,0)","v":"Kingston Hospital NHS Trust"},{"$f":"SUM(IF(('CCG-Prov(Acute)'!$B$2:$B$28899=Q103),1,0))","v":156},null,{"$f":"SUM(IF(('CCG-Prov(Amb)'!$A$2:$A$335=A103),1,0))","v":1},{"$f":"SUM(IF(('CCG-Prov(Amb)'!$A$2:$A$335=A103)*('CCG-Prov(Amb)'!$C$2:$C$335>=Ambulance!$B$7),1,0))","v":1},{"$f":"IF(VALUE(MID(W$2,5,2))<=$V103,OFFSET('CCG-Prov(Amb)'!$B$1,MATCH($A103,'CCG-Prov(Amb)'!$A$2:$A$335,0)+VALUE(RIGHT(W$2,1))-1,0),\"\")","v":"RX7"},{"$f":"IF(VALUE(MID(X$2,5,2))<=$V103,OFFSET('CCG-Prov(Amb)'!$B$1,MATCH($A103,'CCG-Prov(Amb)'!$A$2:$A$335,0)+VALUE(RIGHT(X$2,1))-1,0),\"\")","v":""},{"$f":"IF(VALUE(MID(Y$2,5,2))<=$V103,OFFSET('CCG-Prov(Amb)'!$B$1,MATCH($A103,'CCG-Prov(Amb)'!$A$2:$A$335,0)+VALUE(RIGHT(Y$2,1))-1,0),\"\")","v":""},{"$f":"IF(VALUE(MID(Z$2,5,2))<=$V103,OFFSET('CCG-Prov(Amb)'!$B$1,MATCH($A103,'CCG-Prov(Amb)'!$A$2:$A$335,0)+VALUE(RIGHT(Z$2,1))-1,0),\"\")","v":""},{"$f":"IF(VALUE(MID(AA$2,5,2))<=$V103,OFFSET('CCG-Prov(Amb)'!$B$1,MATCH($A103,'CCG-Prov(Amb)'!$A$2:$A$335,0)+VALUE(RIGHT(AA$2,1))-1,0),\"\")","v":""},null,null,null,null,null,{"$f":"SUM(IF(('CCG-Prov(Births)'!$A$2:$A$6150=A103),1,0))","v":34},{"$f":"SUM(IF(('CCG-Prov(Births)'!$A$2:$A$6150=A103)*('CCG-Prov(Births)'!$C$2:$C$6150>=Maternity!$B$7),1,0))","v":3},{"$f":"IF(VALUE(MID(AI$2,5,2))<=$V103,OFFSET('CCG-Prov(Births)'!$B$1,MATCH($A103,'CCG-Prov(Births)'!$A$2:$A$6150,0)+VALUE(RIGHT(AI$2,1))-1,0),\"\")","v":"REP"},{"$f":"IF(VALUE(MID(AJ$2,5,2))<=$V103,OFFSET('CCG-Prov(Births)'!$B$1,MATCH($A103,'CCG-Prov(Births)'!$A$2:$A$6150,0)+VALUE(RIGHT(AJ$2,1))-1,0),\"\")","v":""},{"$f":"IF(VALUE(MID(AK$2,5,2))<=$V103,OFFSET('CCG-Prov(Births)'!$B$1,MATCH($A103,'CCG-Prov(Births)'!$A$2:$A$6150,0)+VALUE(RIGHT(AK$2,1))-1,0),\"\")","v":""},{"$f":"IF(VALUE(MID(AL$2,5,2))<=$V103,OFFSET('CCG-Prov(Births)'!$B$1,MATCH($A103,'CCG-Prov(Births)'!$A$2:$A$6150,0)+VALUE(RIGHT(AL$2,1))-1,0),\"\")","v":""},{"$f":"IF(VALUE(MID(AM$2,5,2))<=$V103,OFFSET('CCG-Prov(Births)'!$B$1,MATCH($A103,'CCG-Prov(Births)'!$A$2:$A$6150,0)+VALUE(RIGHT(AM$2,1))-1,0),\"\")","v":""},null,"RQ8",{"$f":"VLOOKUP(AO103,provnames!$A$2:$B$331,2,0)","v":"Mid Essex Hospital Services NHS Trust"},{"$f":"SUM(IF(('CCG-Prov(Births)'!$B$2:$B$6150=AO103),1,0))","v":30}]
["06P","Luton",{"$f":"SUM(IF(('CCG-Prov(Acute)'!$A$2:$A$29012=A104),1,0))","v":133},{"$f":"SUM(IF(('CCG-Prov(Acute)'!$A$2:$A$29012=A104)*('CCG-Prov(Acute)'!$C$2:$C$29012>=Acute!$B$7),1,0))","v":3},{"$f":"IF(VALUE(MID(E$2,5,2))<=$D104,OFFSET('CCG-Prov(Acute)'!$B$1,MATCH($A104,'CCG-Prov(Acute)'!$A$2:$A$29012,0)+VALUE(RIGHT(E$2,1))-1,0),\"\")","v":"RC9"},{"$f":"IF(VALUE(MID(F$2,5,2))<=$D104,OFFSET('CCG-Prov(Acute)'!$B$1,MATCH($A104,'CCG-Prov(Acute)'!$A$2:$A$29012,0)+VALUE(RIGHT(F$2,1))-1,0),\"\")","v":"RWH"},{"$f":"IF(VALUE(MID(G$2,5,2))<=$D104,OFFSET('CCG-Prov(Acute)'!$B$1,MATCH($A104,'CCG-Prov(Acute)'!$A$2:$A$29012,0)+VALUE(RIGHT(G$2,1))-1,0),\"\")","v":"RC1"},{"$f":"IF(VALUE(MID(H$2,5,2))<=$D104,OFFSET('CCG-Prov(Acute)'!$B$1,MATCH($A104,'CCG-Prov(Acute)'!$A$2:$A$29012,0)+VALUE(RIGHT(H$2,1))-1,0),\"\")","v":""},{"$f":"IF(VALUE(MID(I$2,5,2))<=$D104,OFFSET('CCG-Prov(Acute)'!$B$1,MATCH($A104,'CCG-Prov(Acute)'!$A$2:$A$29012,0)+VALUE(RIGHT(I$2,1))-1,0),\"\")","v":""},{"$f":"IF(VALUE(MID(J$2,5,2))<=$D104,OFFSET('CCG-Prov(Acute)'!$B$1,MATCH($A104,'CCG-Prov(Acute)'!$A$2:$A$29012,0)+VALUE(RIGHT(J$2,1))-1,0),\"\")","v":""},{"$f":"IF(VALUE(MID(K$2,5,2))<=$D104,OFFSET('CCG-Prov(Acute)'!$B$1,MATCH($A104,'CCG-Prov(Acute)'!$A$2:$A$29012,0)+VALUE(RIGHT(K$2,1))-1,0),\"\")","v":""},{"$f":"IF(VALUE(MID(L$2,5,2))<=$D104,OFFSET('CCG-Prov(Acute)'!$B$1,MATCH($A104,'CCG-Prov(Acute)'!$A$2:$A$29012,0)+VALUE(RIGHT(L$2,1))-1,0),\"\")","v":""},{"$f":"IF(VALUE(MID(M$2,5,2))<=$D104,OFFSET('CCG-Prov(Acute)'!$B$1,MATCH($A104,'CCG-Prov(Acute)'!$A$2:$A$29012,0)+VALUE(RIGHT(M$2,1))-1,0),\"\")","v":""},{"$f":"IF(VALUE(MID(N$2,5,2))<=$D104,OFFSET('CCG-Prov(Acute)'!$B$1,MATCH($A104,'CCG-Prov(Acute)'!$A$2:$A$29012,0)+VALUE(RIGHT(N$2,1))-1,0),\"\")","v":""},null,null,"RBA",{"$f":"VLOOKUP(Q104,provnames!$A$2:$B$331,2,0)","v":"Taunton & Somerset NHS FT"},{"$f":"SUM(IF(('CCG-Prov(Acute)'!$B$2:$B$28899=Q104),1,0))","v":161},null,{"$f":"SUM(IF(('CCG-Prov(Amb)'!$A$2:$A$335=A104),1,0))","v":1},{"$f":"SUM(IF(('CCG-Prov(Amb)'!$A$2:$A$335=A104)*('CCG-Prov(Amb)'!$C$2:$C$335>=Ambulance!$B$7),1,0))","v":1},{"$f":"IF(VALUE(MID(W$2,5,2))<=$V104,OFFSET('CCG-Prov(Amb)'!$B$1,MATCH($A104,'CCG-Prov(Amb)'!$A$2:$A$335,0)+VALUE(RIGHT(W$2,1))-1,0),\"\")","v":"RYC"},{"$f":"IF(VALUE(MID(X$2,5,2))<=$V104,OFFSET('CCG-Prov(Amb)'!$B$1,MATCH($A104,'CCG-Prov(Amb)'!$A$2:$A$335,0)+VALUE(RIGHT(X$2,1))-1,0),\"\")","v":""},{"$f":"IF(VALUE(MID(Y$2,5,2))<=$V104,OFFSET('CCG-Prov(Amb)'!$B$1,MATCH($A104,'CCG-Prov(Amb)'!$A$2:$A$335,0)+VALUE(RIGHT(Y$2,1))-1,0),\"\")","v":""},{"$f":"IF(VALUE(MID(Z$2,5,2))<=$V104,OFFSET('CCG-Prov(Amb)'!$B$1,MATCH($A104,'CCG-Prov(Amb)'!$A$2:$A$335,0)+VALUE(RIGHT(Z$2,1))-1,0),\"\")","v":""},{"$f":"IF(VALUE(MID(AA$2,5,2))<=$V104,OFFSET('CCG-Prov(Amb)'!$B$1,MATCH($A104,'CCG-Prov(Amb)'!$A$2:$A$335,0)+VALUE(RIGHT(AA$2,1))-1,0),\"\")","v":""},null,null,null,null,null,{"$f":"SUM(IF(('CCG-Prov(Births)'!$A$2:$A$6150=A104),1,0))","v":34},{"$f":"SUM(IF(('CCG-Prov(Births)'!$A$2:$A$6150=A104)*('CCG-Prov(Births)'!$C$2:$C$6150>=Maternity!$B$7),1,0))","v":1},{"$f":"IF(VALUE(MID(AI$2,5,2))<=$V104,OFFSET('CCG-Prov(Births)'!$B$1,MATCH($A104,'CCG-Prov(Births)'!$A$2:$A$6150,0)+VALUE(RIGHT(AI$2,1))-1,0),\"\")","v":"RC9"},{"$f":"IF(VALUE(MID(AJ$2,5,2))<=$V104,OFFSET('CCG-Prov(Births)'!$B$1,MATCH($A104,'CCG-Prov(Births)'!$A$2:$A$6150,0)+VALUE(RIGHT(AJ$2,1))-1,0),\"\")","v":""},{"$f":"IF(VALUE(MID(AK$2,5,2))<=$V104,OFFSET('CCG-Prov(Births)'!$B$1,MATCH($A104,'CCG-Prov(Births)'!$A$2:$A$6150,0)+VALUE(RIGHT(AK$2,1))-1,0),\"\")","v":""},{"$f":"IF(VALUE(MID(AL$2,5,2))<=$V104,OFFSET('CCG-Prov(Births)'!$B$1,MATCH($A104,'CCG-Prov(Births)'!$A$2:$A$6150,0)+VALUE(RIGHT(AL$2,1))-1,0),\"\")","v":""},{"$f":"IF(VALUE(MID(AM$2,5,2))<=$V104,OFFSET('CCG-Prov(Births)'!$B$1,MATCH($A104,'CCG-Prov(Births)'!$A$2:$A$6150,0)+VALUE(RIGHT(AM$2,1))-1,0),\"\")","v":""},null,"RQM",{"$f":"VLOOKUP(AO104,provnames!$A$2:$B$331,2,0)","v":"Chelsea & Westminster Hospital NHS FT"},{"$f":"SUM(IF(('CCG-Prov(Births)'!$B$2:$B$6150=AO104),1,0))","v":88}]
["04E","Mansfield & Ashfield",{"$f":"SUM(IF(('CCG-Prov(Acute)'!$A$2:$A$29012=A105),1,0))","v":126},{"$f":"SUM(IF(('CCG-Prov(Acute)'!$A$2:$A$29012=A105)*('CCG-Prov(Acute)'!$C$2:$C$29012>=Acute!$B$7),1,0))","v":3},{"$f":"IF(VALUE(MID(E$2,5,2))<=$D105,OFFSET('CCG-Prov(Acute)'!$B$1,MATCH($A105,'CCG-Prov(Acute)'!$A$2:$A$29012,0)+VALUE(RIGHT(E$2,1))-1,0),\"\")","v":"RK5"},{"$f":"IF(VALUE(MID(F$2,5,2))<=$D105,OFFSET('CCG-Prov(Acute)'!$B$1,MATCH($A105,'CCG-Prov(Acute)'!$A$2:$A$29012,0)+VALUE(RIGHT(F$2,1))-1,0),\"\")","v":"RX1"},{"$f":"IF(VALUE(MID(G$2,5,2))<=$D105,OFFSET('CCG-Prov(Acute)'!$B$1,MATCH($A105,'CCG-Prov(Acute)'!$A$2:$A$29012,0)+VALUE(RIGHT(G$2,1))-1,0),\"\")","v":"5N8"},{"$f":"IF(VALUE(MID(H$2,5,2))<=$D105,OFFSET('CCG-Prov(Acute)'!$B$1,MATCH($A105,'CCG-Prov(Acute)'!$A$2:$A$29012,0)+VALUE(RIGHT(H$2,1))-1,0),\"\")","v":""},{"$f":"IF(VALUE(MID(I$2,5,2))<=$D105,OFFSET('CCG-Prov(Acute)'!$B$1,MATCH($A105,'CCG-Prov(Acute)'!$A$2:$A$29012,0)+VALUE(RIGHT(I$2,1))-1,0),\"\")","v":""},{"$f":"IF(VALUE(MID(J$2,5,2))<=$D105,OFFSET('CCG-Prov(Acute)'!$B$1,MATCH($A105,'CCG-Prov(Acute)'!$A$2:$A$29012,0)+VALUE(RIGHT(J$2,1))-1,0),\"\")","v":""},{"$f":"IF(VALUE(MID(K$2,5,2))<=$D105,OFFSET('CCG-Prov(Acute)'!$B$1,MATCH($A105,'CCG-Prov(Acute)'!$A$2:$A$29012,0)+VALUE(RIGHT(K$2,1))-1,0),\"\")","v":""},{"$f":"IF(VALUE(MID(L$2,5,2))<=$D105,OFFSET('CCG-Prov(Acute)'!$B$1,MATCH($A105,'CCG-Prov(Acute)'!$A$2:$A$29012,0)+VALUE(RIGHT(L$2,1))-1,0),\"\")","v":""},{"$f":"IF(VALUE(MID(M$2,5,2))<=$D105,OFFSET('CCG-Prov(Acute)'!$B$1,MATCH($A105,'CCG-Prov(Acute)'!$A$2:$A$29012,0)+VALUE(RIGHT(M$2,1))-1,0),\"\")","v":""},{"$f":"IF(VALUE(MID(N$2,5,2))<=$D105,OFFSET('CCG-Prov(Acute)'!$B$1,MATCH($A105,'CCG-Prov(Acute)'!$A$2:$A$29012,0)+VALUE(RIGHT(N$2,1))-1,0),\"\")","v":""},null,null,"RBB",{"$f":"VLOOKUP(Q105,provnames!$A$2:$B$331,2,0)","v":"Royal National Hospital for Rheumatic Diseases NHS FT"},{"$f":"SUM(IF(('CCG-Prov(Acute)'!$B$2:$B$28899=Q105),1,0))","v":106},null,{"$f":"SUM(IF(('CCG-Prov(Amb)'!$A$2:$A$335=A105),1,0))","v":1},{"$f":"SUM(IF(('CCG-Prov(Amb)'!$A$2:$A$335=A105)*('CCG-Prov(Amb)'!$C$2:$C$335>=Ambulance!$B$7),1,0))","v":1},{"$f":"IF(VALUE(MID(W$2,5,2))<=$V105,OFFSET('CCG-Prov(Amb)'!$B$1,MATCH($A105,'CCG-Prov(Amb)'!$A$2:$A$335,0)+VALUE(RIGHT(W$2,1))-1,0),\"\")","v":"RX9"},{"$f":"IF(VALUE(MID(X$2,5,2))<=$V105,OFFSET('CCG-Prov(Amb)'!$B$1,MATCH($A105,'CCG-Prov(Amb)'!$A$2:$A$335,0)+VALUE(RIGHT(X$2,1))-1,0),\"\")","v":""},{"$f":"IF(VALUE(MID(Y$2,5,2))<=$V105,OFFSET('CCG-Prov(Amb)'!$B$1,MATCH($A105,'CCG-Prov(Amb)'!$A$2:$A$335,0)+VALUE(RIGHT(Y$2,1))-1,0),\"\")","v":""},{"$f":"IF(VALUE(MID(Z$2,5,2))<=$V105,OFFSET('CCG-Prov(Amb)'!$B$1,MATCH($A105,'CCG-Prov(Amb)'!$A$2:$A$335,0)+VALUE(RIGHT(Z$2,1))-1,0),\"\")","v":""},{"$f":"IF(VALUE(MID(AA$2,5,2))<=$V105,OFFSET('CCG-Prov(Amb)'!$B$1,MATCH($A105,'CCG-Prov(Amb)'!$A$2:$A$335,0)+VALUE(RIGHT(AA$2,1))-1,0),\"\")","v":""},null,null,null,null,null,{"$f":"SUM(IF(('CCG-Prov(Births)'!$A$2:$A$6150=A105),1,0))","v":19},{"$f":"SUM(IF(('CCG-Prov(Births)'!$A$2:$A$6150=A105)*('CCG-Prov(Births)'!$C$2:$C$6150>=Maternity!$B$7),1,0))","v":2},{"$f":"IF(VALUE(MID(AI$2,5,2))<=$V105,OFFSET('CCG-Prov(Births)'!$B$1,MATCH($A105,'CCG-Prov(Births)'!$A$2:$A$6150,0)+VALUE(RIGHT(AI$2,1))-1,0),\"\")","v":"RK5"},{"$f":"IF(VALUE(MID(AJ$2,5,2))<=$V105,OFFSET('CCG-Prov(Births)'!$B$1,MATCH($A105,'CCG-Prov(Births)'!$A$2:$A$6150,0)+VALUE(RIGHT(AJ$2,1))-1,0),\"\")","v":""},{"$f":"IF(VALUE(MID(AK$2,5,2))<=$V105,OFFSET('CCG-Prov(Births)'!$B$1,MATCH($A105,'CCG-Prov(Births)'!$A$2:$A$6150,0)+VALUE(RIGHT(AK$2,1))-1,0),\"\")","v":""},{"$f":"IF(VALUE(MID(AL$2,5,2))<=$V105,OFFSET('CCG-Prov(Births)'!$B$1,MATCH($A105,'CCG-Prov(Births)'!$A$2:$A$6150,0)+VALUE(RIGHT(AL$2,1))-1,0),\"\")","v":""},{"$f":"IF(VALUE(MID(AM$2,5,2))<=$V105,OFFSET('CCG-Prov(Births)'!$B$1,MATCH($A105,'CCG-Prov(Births)'!$A$2:$A$6150,0)+VALUE(RIGHT(AM$2,1))-1,0),\"\")","v":""},null,"RQQ",{"$f":"VLOOKUP(AO105,provnames!$A$2:$B$331,2,0)","v":"Hinchingbrooke Health Care NHS Trust"},{"$f":"SUM(IF(('CCG-Prov(Births)'!$B$2:$B$6150=AO105),1,0))","v":24}]
["09W","Medway",{"$f":"SUM(IF(('CCG-Prov(Acute)'!$A$2:$A$29012=A106),1,0))","v":143},{"$f":"SUM(IF(('CCG-Prov(Acute)'!$A$2:$A$29012=A106)*('CCG-Prov(Acute)'!$C$2:$C$29012>=Acute!$B$7),1,0))","v":10},{"$f":"IF(VALUE(MID(E$2,5,2))<=$D106,OFFSET('CCG-Prov(Acute)'!$B$1,MATCH($A106,'CCG-Prov(Acute)'!$A$2:$A$29012,0)+VALUE(RIGHT(E$2,1))-1,0),\"\")","v":"RPA"},{"$f":"IF(VALUE(MID(F$2,5,2))<=$D106,OFFSET('CCG-Prov(Acute)'!$B$1,MATCH($A106,'CCG-Prov(Acute)'!$A$2:$A$29012,0)+VALUE(RIGHT(F$2,1))-1,0),\"\")","v":"NTP"},{"$f":"IF(VALUE(MID(G$2,5,2))<=$D106,OFFSET('CCG-Prov(Acute)'!$B$1,MATCH($A106,'CCG-Prov(Acute)'!$A$2:$A$29012,0)+VALUE(RIGHT(G$2,1))-1,0),\"\")","v":"RWF"},{"$f":"IF(VALUE(MID(H$2,5,2))<=$D106,OFFSET('CCG-Prov(Acute)'!$B$1,MATCH($A106,'CCG-Prov(Acute)'!$A$2:$A$29012,0)+VALUE(RIGHT(H$2,1))-1,0),\"\")","v":"RPC"},{"$f":"IF(VALUE(MID(I$2,5,2))<=$D106,OFFSET('CCG-Prov(Acute)'!$B$1,MATCH($A106,'CCG-Prov(Acute)'!$A$2:$A$29012,0)+VALUE(RIGHT(I$2,1))-1,0),\"\")","v":"RN7"},{"$f":"IF(VALUE(MID(J$2,5,2))<=$D106,OFFSET('CCG-Prov(Acute)'!$B$1,MATCH($A106,'CCG-Prov(Acute)'!$A$2:$A$29012,0)+VALUE(RIGHT(J$2,1))-1,0),\"\")","v":"RJ1"},{"$f":"IF(VALUE(MID(K$2,5,2))<=$D106,OFFSET('CCG-Prov(Acute)'!$B$1,MATCH($A106,'CCG-Prov(Acute)'!$A$2:$A$29012,0)+VALUE(RIGHT(K$2,1))-1,0),\"\")","v":"RJZ"},{"$f":"IF(VALUE(MID(L$2,5,2))<=$D106,OFFSET('CCG-Prov(Acute)'!$B$1,MATCH($A106,'CCG-Prov(Acute)'!$A$2:$A$29012,0)+VALUE(RIGHT(L$2,1))-1,0),\"\")","v":"5L3"},{"$f":"IF(VALUE(MID(M$2,5,2))<=$D106,OFFSET('CCG-Prov(Acute)'!$B$1,MATCH($A106,'CCG-Prov(Acute)'!$A$2:$A$29012,0)+VALUE(RIGHT(M$2,1))-1,0),\"\")","v":"NT3"},{"$f":"IF(VALUE(MID(N$2,5,2))<=$D106,OFFSET('CCG-Prov(Acute)'!$B$1,MATCH($A106,'CCG-Prov(Acute)'!$A$2:$A$29012,0)+VALUE(RIGHT(N$2,1))-1,0),\"\")","v":"RXL"},null,null,"RBD",{"$f":"VLOOKUP(Q106,provnames!$A$2:$B$331,2,0)","v":"Dorset County Hospital NHS FT"},{"$f":"SUM(IF(('CCG-Prov(Acute)'!$B$2:$B$28899=Q106),1,0))","v":163},null,{"$f":"SUM(IF(('CCG-Prov(Amb)'!$A$2:$A$335=A106),1,0))","v":1},{"$f":"SUM(IF(('CCG-Prov(Amb)'!$A$2:$A$335=A106)*('CCG-Prov(Amb)'!$C$2:$C$335>=Ambulance!$B$7),1,0))","v":1},{"$f":"IF(VALUE(MID(W$2,5,2))<=$V106,OFFSET('CCG-Prov(Amb)'!$B$1,MATCH($A106,'CCG-Prov(Amb)'!$A$2:$A$335,0)+VALUE(RIGHT(W$2,1))-1,0),\"\")","v":"RYD"},{"$f":"IF(VALUE(MID(X$2,5,2))<=$V106,OFFSET('CCG-Prov(Amb)'!$B$1,MATCH($A106,'CCG-Prov(Amb)'!$A$2:$A$335,0)+VALUE(RIGHT(X$2,1))-1,0),\"\")","v":""},{"$f":"IF(VALUE(MID(Y$2,5,2))<=$V106,OFFSET('CCG-Prov(Amb)'!$B$1,MATCH($A106,'CCG-Prov(Amb)'!$A$2:$A$335,0)+VALUE(RIGHT(Y$2,1))-1,0),\"\")","v":""},{"$f":"IF(VALUE(MID(Z$2,5,2))<=$V106,OFFSET('CCG-Prov(Amb)'!$B$1,MATCH($A106,'CCG-Prov(Amb)'!$A$2:$A$335,0)+VALUE(RIGHT(Z$2,1))-1,0),\"\")","v":""},{"$f":"IF(VALUE(MID(AA$2,5,2))<=$V106,OFFSET('CCG-Prov(Amb)'!$B$1,MATCH($A106,'CCG-Prov(Amb)'!$A$2:$A$335,0)+VALUE(RIGHT(AA$2,1))-1,0),\"\")","v":""},null,null,null,null,null,{"$f":"SUM(IF(('CCG-Prov(Births)'!$A$2:$A$6150=A106),1,0))","v":35},{"$f":"SUM(IF(('CCG-Prov(Births)'!$A$2:$A$6150=A106)*('CCG-Prov(Births)'!$C$2:$C$6150>=Maternity!$B$7),1,0))","v":3},{"$f":"IF(VALUE(MID(AI$2,5,2))<=$V106,OFFSET('CCG-Prov(Births)'!$B$1,MATCH($A106,'CCG-Prov(Births)'!$A$2:$A$6150,0)+VALUE(RIGHT(AI$2,1))-1,0),\"\")","v":"RPA"},{"$f":"IF(VALUE(MID(AJ$2,5,2))<=$V106,OFFSET('CCG-Prov(Births)'!$B$1,MATCH($A106,'CCG-Prov(Births)'!$A$2:$A$6150,0)+VALUE(RIGHT(AJ$2,1))-1,0),\"\")","v":""},{"$f":"IF(VALUE(MID(AK$2,5,2))<=$V106,OFFSET('CCG-Prov(Births)'!$B$1,MATCH($A106,'CCG-Prov(Births)'!$A$2:$A$6150,0)+VALUE(RIGHT(AK$2,1))-1,0),\"\")","v":""},{"$f":"IF(VALUE(MID(AL$2,5,2))<=$V106,OFFSET('CCG-Prov(Births)'!$B$1,MATCH($A106,'CCG-Prov(Births)'!$A$2:$A$6150,0)+VALUE(RIGHT(AL$2,1))-1,0),\"\")","v":""},{"$f":"IF(VALUE(MID(AM$2,5,2))<=$V106,OFFSET('CCG-Prov(Births)'!$B$1,MATCH($A106,'CCG-Prov(Births)'!$A$2:$A$6150,0)+VALUE(RIGHT(AM$2,1))-1,0),\"\")","v":""},null,"RQW",{"$f":"VLOOKUP(AO106,provnames!$A$2:$B$331,2,0)","v":"The Princess Alexandra Hospital NHS Trust"},{"$f":"SUM(IF(('CCG-Prov(Births)'!$B$2:$B$6150=AO106),1,0))","v":18}]
["08R","Merton",{"$f":"SUM(IF(('CCG-Prov(Acute)'!$A$2:$A$29012=A107),1,0))","v":132},{"$f":"SUM(IF(('CCG-Prov(Acute)'!$A$2:$A$29012=A107)*('CCG-Prov(Acute)'!$C$2:$C$29012>=Acute!$B$7),1,0))","v":5},{"$f":"IF(VALUE(MID(E$2,5,2))<=$D107,OFFSET('CCG-Prov(Acute)'!$B$1,MATCH($A107,'CCG-Prov(Acute)'!$A$2:$A$29012,0)+VALUE(RIGHT(E$2,1))-1,0),\"\")","v":"RJ7"},{"$f":"IF(VALUE(MID(F$2,5,2))<=$D107,OFFSET('CCG-Prov(Acute)'!$B$1,MATCH($A107,'CCG-Prov(Acute)'!$A$2:$A$29012,0)+VALUE(RIGHT(F$2,1))-1,0),\"\")","v":"RVR"},{"$f":"IF(VALUE(MID(G$2,5,2))<=$D107,OFFSET('CCG-Prov(Acute)'!$B$1,MATCH($A107,'CCG-Prov(Acute)'!$A$2:$A$29012,0)+VALUE(RIGHT(G$2,1))-1,0),\"\")","v":"RAX"},{"$f":"IF(VALUE(MID(H$2,5,2))<=$D107,OFFSET('CCG-Prov(Acute)'!$B$1,MATCH($A107,'CCG-Prov(Acute)'!$A$2:$A$29012,0)+VALUE(RIGHT(H$2,1))-1,0),\"\")","v":"RP6"},{"$f":"IF(VALUE(MID(I$2,5,2))<=$D107,OFFSET('CCG-Prov(Acute)'!$B$1,MATCH($A107,'CCG-Prov(Acute)'!$A$2:$A$29012,0)+VALUE(RIGHT(I$2,1))-1,0),\"\")","v":"RJ6"},{"$f":"IF(VALUE(MID(J$2,5,2))<=$D107,OFFSET('CCG-Prov(Acute)'!$B$1,MATCH($A107,'CCG-Prov(Acute)'!$A$2:$A$29012,0)+VALUE(RIGHT(J$2,1))-1,0),\"\")","v":""},{"$f":"IF(VALUE(MID(K$2,5,2))<=$D107,OFFSET('CCG-Prov(Acute)'!$B$1,MATCH($A107,'CCG-Prov(Acute)'!$A$2:$A$29012,0)+VALUE(RIGHT(K$2,1))-1,0),\"\")","v":""},{"$f":"IF(VALUE(MID(L$2,5,2))<=$D107,OFFSET('CCG-Prov(Acute)'!$B$1,MATCH($A107,'CCG-Prov(Acute)'!$A$2:$A$29012,0)+VALUE(RIGHT(L$2,1))-1,0),\"\")","v":""},{"$f":"IF(VALUE(MID(M$2,5,2))<=$D107,OFFSET('CCG-Prov(Acute)'!$B$1,MATCH($A107,'CCG-Prov(Acute)'!$A$2:$A$29012,0)+VALUE(RIGHT(M$2,1))-1,0),\"\")","v":""},{"$f":"IF(VALUE(MID(N$2,5,2))<=$D107,OFFSET('CCG-Prov(Acute)'!$B$1,MATCH($A107,'CCG-Prov(Acute)'!$A$2:$A$29012,0)+VALUE(RIGHT(N$2,1))-1,0),\"\")","v":""},null,null,"RBF",{"$f":"VLOOKUP(Q107,provnames!$A$2:$B$331,2,0)","v":"Nuffield Orthopaedic Centre NHS Trust"},{"$f":"SUM(IF(('CCG-Prov(Acute)'!$B$2:$B$28899=Q107),1,0))","v":131},null,{"$f":"SUM(IF(('CCG-Prov(Amb)'!$A$2:$A$335=A107),1,0))","v":2},{"$f":"SUM(IF(('CCG-Prov(Amb)'!$A$2:$A$335=A107)*('CCG-Prov(Amb)'!$C$2:$C$335>=Ambulance!$B$7),1,0))","v":1},{"$f":"IF(VALUE(MID(W$2,5,2))<=$V107,OFFSET('CCG-Prov(Amb)'!$B$1,MATCH($A107,'CCG-Prov(Amb)'!$A$2:$A$335,0)+VALUE(RIGHT(W$2,1))-1,0),\"\")","v":"RRY"},{"$f":"IF(VALUE(MID(X$2,5,2))<=$V107,OFFSET('CCG-Prov(Amb)'!$B$1,MATCH($A107,'CCG-Prov(Amb)'!$A$2:$A$335,0)+VALUE(RIGHT(X$2,1))-1,0),\"\")","v":""},{"$f":"IF(VALUE(MID(Y$2,5,2))<=$V107,OFFSET('CCG-Prov(Amb)'!$B$1,MATCH($A107,'CCG-Prov(Amb)'!$A$2:$A$335,0)+VALUE(RIGHT(Y$2,1))-1,0),\"\")","v":""},{"$f":"IF(VALUE(MID(Z$2,5,2))<=$V107,OFFSET('CCG-Prov(Amb)'!$B$1,MATCH($A107,'CCG-Prov(Amb)'!$A$2:$A$335,0)+VALUE(RIGHT(Z$2,1))-1,0),\"\")","v":""},{"$f":"IF(VALUE(MID(AA$2,5,2))<=$V107,OFFSET('CCG-Prov(Amb)'!$B$1,MATCH($A107,'CCG-Prov(Amb)'!$A$2:$A$335,0)+VALUE(RIGHT(AA$2,1))-1,0),\"\")","v":""},null,null,null,null,null,{"$f":"SUM(IF(('CCG-Prov(Births)'!$A$2:$A$6150=A107),1,0))","v":37},{"$f":"SUM(IF(('CCG-Prov(Births)'!$A$2:$A$6150=A107)*('CCG-Prov(Births)'!$C$2:$C$6150>=Maternity!$B$7),1,0))","v":5},{"$f":"IF(VALUE(MID(AI$2,5,2))<=$V107,OFFSET('CCG-Prov(Births)'!$B$1,MATCH($A107,'CCG-Prov(Births)'!$A$2:$A$6150,0)+VALUE(RIGHT(AI$2,1))-1,0),\"\")","v":"RJ7"},{"$f":"IF(VALUE(MID(AJ$2,5,2))<=$V107,OFFSET('CCG-Prov(Births)'!$B$1,MATCH($A107,'CCG-Prov(Births)'!$A$2:$A$6150,0)+VALUE(RIGHT(AJ$2,1))-1,0),\"\")","v":""},{"$f":"IF(VALUE(MID(AK$2,5,2))<=$V107,OFFSET('CCG-Prov(Births)'!$B$1,MATCH($A107,'CCG-Prov(Births)'!$A$2:$A$6150,0)+VALUE(RIGHT(AK$2,1))-1,0),\"\")","v":""},{"$f":"IF(VALUE(MID(AL$2,5,2))<=$V107,OFFSET('CCG-Prov(Births)'!$B$1,MATCH($A107,'CCG-Prov(Births)'!$A$2:$A$6150,0)+VALUE(RIGHT(AL$2,1))-1,0),\"\")","v":""},{"$f":"IF(VALUE(MID(AM$2,5,2))<=$V107,OFFSET('CCG-Prov(Births)'!$B$1,MATCH($A107,'CCG-Prov(Births)'!$A$2:$A$6150,0)+VALUE(RIGHT(AM$2,1))-1,0),\"\")","v":""},null,"RQX",{"$f":"VLOOKUP(AO107,provnames!$A$2:$B$331,2,0)","v":"Homerton Univ Hospital NHS FT"},{"$f":"SUM(IF(('CCG-Prov(Births)'!$B$2:$B$6150=AO107),1,0))","v":80}]
["06Q","Mid Essex",{"$f":"SUM(IF(('CCG-Prov(Acute)'!$A$2:$A$29012=A108),1,0))","v":149},{"$f":"SUM(IF(('CCG-Prov(Acute)'!$A$2:$A$29012=A108)*('CCG-Prov(Acute)'!$C$2:$C$29012>=Acute!$B$7),1,0))","v":7},{"$f":"IF(VALUE(MID(E$2,5,2))<=$D108,OFFSET('CCG-Prov(Acute)'!$B$1,MATCH($A108,'CCG-Prov(Acute)'!$A$2:$A$29012,0)+VALUE(RIGHT(E$2,1))-1,0),\"\")","v":"RQ8"},{"$f":"IF(VALUE(MID(F$2,5,2))<=$D108,OFFSET('CCG-Prov(Acute)'!$B$1,MATCH($A108,'CCG-Prov(Acute)'!$A$2:$A$29012,0)+VALUE(RIGHT(F$2,1))-1,0),\"\")","v":"RDE"},{"$f":"IF(VALUE(MID(G$2,5,2))<=$D108,OFFSET('CCG-Prov(Acute)'!$B$1,MATCH($A108,'CCG-Prov(Acute)'!$A$2:$A$29012,0)+VALUE(RIGHT(G$2,1))-1,0),\"\")","v":"NVC"},{"$f":"IF(VALUE(MID(H$2,5,2))<=$D108,OFFSET('CCG-Prov(Acute)'!$B$1,MATCH($A108,'CCG-Prov(Acute)'!$A$2:$A$29012,0)+VALUE(RIGHT(H$2,1))-1,0),\"\")","v":"RDD"},{"$f":"IF(VALUE(MID(I$2,5,2))<=$D108,OFFSET('CCG-Prov(Acute)'!$B$1,MATCH($A108,'CCG-Prov(Acute)'!$A$2:$A$29012,0)+VALUE(RIGHT(I$2,1))-1,0),\"\")","v":"RNJ"},{"$f":"IF(VALUE(MID(J$2,5,2))<=$D108,OFFSET('CCG-Prov(Acute)'!$B$1,MATCH($A108,'CCG-Prov(Acute)'!$A$2:$A$29012,0)+VALUE(RIGHT(J$2,1))-1,0),\"\")","v":"5PX"},{"$f":"IF(VALUE(MID(K$2,5,2))<=$D108,OFFSET('CCG-Prov(Acute)'!$B$1,MATCH($A108,'CCG-Prov(Acute)'!$A$2:$A$29012,0)+VALUE(RIGHT(K$2,1))-1,0),\"\")","v":"RGT"},{"$f":"IF(VALUE(MID(L$2,5,2))<=$D108,OFFSET('CCG-Prov(Acute)'!$B$1,MATCH($A108,'CCG-Prov(Acute)'!$A$2:$A$29012,0)+VALUE(RIGHT(L$2,1))-1,0),\"\")","v":""},{"$f":"IF(VALUE(MID(M$2,5,2))<=$D108,OFFSET('CCG-Prov(Acute)'!$B$1,MATCH($A108,'CCG-Prov(Acute)'!$A$2:$A$29012,0)+VALUE(RIGHT(M$2,1))-1,0),\"\")","v":""},{"$f":"IF(VALUE(MID(N$2,5,2))<=$D108,OFFSET('CCG-Prov(Acute)'!$B$1,MATCH($A108,'CCG-Prov(Acute)'!$A$2:$A$29012,0)+VALUE(RIGHT(N$2,1))-1,0),\"\")","v":""},null,null,"RBK",{"$f":"VLOOKUP(Q108,provnames!$A$2:$B$331,2,0)","v":"Walsall Healthcare NHS Trust"},{"$f":"SUM(IF(('CCG-Prov(Acute)'!$B$2:$B$28899=Q108),1,0))","v":114},null,{"$f":"SUM(IF(('CCG-Prov(Amb)'!$A$2:$A$335=A108),1,0))","v":1},{"$f":"SUM(IF(('CCG-Prov(Amb)'!$A$2:$A$335=A108)*('CCG-Prov(Amb)'!$C$2:$C$335>=Ambulance!$B$7),1,0))","v":1},{"$f":"IF(VALUE(MID(W$2,5,2))<=$V108,OFFSET('CCG-Prov(Amb)'!$B$1,MATCH($A108,'CCG-Prov(Amb)'!$A$2:$A$335,0)+VALUE(RIGHT(W$2,1))-1,0),\"\")","v":"RYC"},{"$f":"IF(VALUE(MID(X$2,5,2))<=$V108,OFFSET('CCG-Prov(Amb)'!$B$1,MATCH($A108,'CCG-Prov(Amb)'!$A$2:$A$335,0)+VALUE(RIGHT(X$2,1))-1,0),\"\")","v":""},{"$f":"IF(VALUE(MID(Y$2,5,2))<=$V108,OFFSET('CCG-Prov(Amb)'!$B$1,MATCH($A108,'CCG-Prov(Amb)'!$A$2:$A$335,0)+VALUE(RIGHT(Y$2,1))-1,0),\"\")","v":""},{"$f":"IF(VALUE(MID(Z$2,5,2))<=$V108,OFFSET('CCG-Prov(Amb)'!$B$1,MATCH($A108,'CCG-Prov(Amb)'!$A$2:$A$335,0)+VALUE(RIGHT(Z$2,1))-1,0),\"\")","v":""},{"$f":"IF(VALUE(MID(AA$2,5,2))<=$V108,OFFSET('CCG-Prov(Amb)'!$B$1,MATCH($A108,'CCG-Prov(Amb)'!$A$2:$A$335,0)+VALUE(RIGHT(AA$2,1))-1,0),\"\")","v":""},null,null,null,null,null,{"$f":"SUM(IF(('CCG-Prov(Births)'!$A$2:$A$6150=A108),1,0))","v":40},{"$f":"SUM(IF(('CCG-Prov(Births)'!$A$2:$A$6150=A108)*('CCG-Prov(Births)'!$C$2:$C$6150>=Maternity!$B$7),1,0))","v":2},{"$f":"IF(VALUE(MID(AI$2,5,2))<=$V108,OFFSET('CCG-Prov(Births)'!$B$1,MATCH($A108,'CCG-Prov(Births)'!$A$2:$A$6150,0)+VALUE(RIGHT(AI$2,1))-1,0),\"\")","v":"RQ8"},{"$f":"IF(VALUE(MID(AJ$2,5,2))<=$V108,OFFSET('CCG-Prov(Births)'!$B$1,MATCH($A108,'CCG-Prov(Births)'!$A$2:$A$6150,0)+VALUE(RIGHT(AJ$2,1))-1,0),\"\")","v":""},{"$f":"IF(VALUE(MID(AK$2,5,2))<=$V108,OFFSET('CCG-Prov(Births)'!$B$1,MATCH($A108,'CCG-Prov(Births)'!$A$2:$A$6150,0)+VALUE(RIGHT(AK$2,1))-1,0),\"\")","v":""},{"$f":"IF(VALUE(MID(AL$2,5,2))<=$V108,OFFSET('CCG-Prov(Births)'!$B$1,MATCH($A108,'CCG-Prov(Births)'!$A$2:$A$6150,0)+VALUE(RIGHT(AL$2,1))-1,0),\"\")","v":""},{"$f":"IF(VALUE(MID(AM$2,5,2))<=$V108,OFFSET('CCG-Prov(Births)'!$B$1,MATCH($A108,'CCG-Prov(Births)'!$A$2:$A$6150,0)+VALUE(RIGHT(AM$2,1))-1,0),\"\")","v":""},null,"RR1",{"$f":"VLOOKUP(AO108,provnames!$A$2:$B$331,2,0)","v":"Heart of England NHS FT"},{"$f":"SUM(IF(('CCG-Prov(Births)'!$B$2:$B$6150=AO108),1,0))","v":81}]
["04F","Milton Keynes",{"$f":"SUM(IF(('CCG-Prov(Acute)'!$A$2:$A$29012=A109),1,0))","v":152},{"$f":"SUM(IF(('CCG-Prov(Acute)'!$A$2:$A$29012=A109)*('CCG-Prov(Acute)'!$C$2:$C$29012>=Acute!$B$7),1,0))","v":7},{"$f":"IF(VALUE(MID(E$2,5,2))<=$D109,OFFSET('CCG-Prov(Acute)'!$B$1,MATCH($A109,'CCG-Prov(Acute)'!$A$2:$A$29012,0)+VALUE(RIGHT(E$2,1))-1,0),\"\")","v":"RD8"},{"$f":"IF(VALUE(MID(F$2,5,2))<=$D109,OFFSET('CCG-Prov(Acute)'!$B$1,MATCH($A109,'CCG-Prov(Acute)'!$A$2:$A$29012,0)+VALUE(RIGHT(F$2,1))-1,0),\"\")","v":"RTH"},{"$f":"IF(VALUE(MID(G$2,5,2))<=$D109,OFFSET('CCG-Prov(Acute)'!$B$1,MATCH($A109,'CCG-Prov(Acute)'!$A$2:$A$29012,0)+VALUE(RIGHT(G$2,1))-1,0),\"\")","v":"RNS"},{"$f":"IF(VALUE(MID(H$2,5,2))<=$D109,OFFSET('CCG-Prov(Acute)'!$B$1,MATCH($A109,'CCG-Prov(Acute)'!$A$2:$A$29012,0)+VALUE(RIGHT(H$2,1))-1,0),\"\")","v":"NVC"},{"$f":"IF(VALUE(MID(I$2,5,2))<=$D109,OFFSET('CCG-Prov(Acute)'!$B$1,MATCH($A109,'CCG-Prov(Acute)'!$A$2:$A$29012,0)+VALUE(RIGHT(I$2,1))-1,0),\"\")","v":"RXQ"},{"$f":"IF(VALUE(MID(J$2,5,2))<=$D109,OFFSET('CCG-Prov(Acute)'!$B$1,MATCH($A109,'CCG-Prov(Acute)'!$A$2:$A$29012,0)+VALUE(RIGHT(J$2,1))-1,0),\"\")","v":"NT4"},{"$f":"IF(VALUE(MID(K$2,5,2))<=$D109,OFFSET('CCG-Prov(Acute)'!$B$1,MATCH($A109,'CCG-Prov(Acute)'!$A$2:$A$29012,0)+VALUE(RIGHT(K$2,1))-1,0),\"\")","v":"5CQ"},{"$f":"IF(VALUE(MID(L$2,5,2))<=$D109,OFFSET('CCG-Prov(Acute)'!$B$1,MATCH($A109,'CCG-Prov(Acute)'!$A$2:$A$29012,0)+VALUE(RIGHT(L$2,1))-1,0),\"\")","v":""},{"$f":"IF(VALUE(MID(M$2,5,2))<=$D109,OFFSET('CCG-Prov(Acute)'!$B$1,MATCH($A109,'CCG-Prov(Acute)'!$A$2:$A$29012,0)+VALUE(RIGHT(M$2,1))-1,0),\"\")","v":""},{"$f":"IF(VALUE(MID(N$2,5,2))<=$D109,OFFSET('CCG-Prov(Acute)'!$B$1,MATCH($A109,'CCG-Prov(Acute)'!$A$2:$A$29012,0)+VALUE(RIGHT(N$2,1))-1,0),\"\")","v":""},null,null,"RBL",{"$f":"VLOOKUP(Q109,provnames!$A$2:$B$331,2,0)","v":"Wirral Univ Teaching Hospital NHS FT"},{"$f":"SUM(IF(('CCG-Prov(Acute)'!$B$2:$B$28899=Q109),1,0))","v":121},null,{"$f":"SUM(IF(('CCG-Prov(Amb)'!$A$2:$A$335=A109),1,0))","v":3},{"$f":"SUM(IF(('CCG-Prov(Amb)'!$A$2:$A$335=A109)*('CCG-Prov(Amb)'!$C$2:$C$335>=Ambulance!$B$7),1,0))","v":2},{"$f":"IF(VALUE(MID(W$2,5,2))<=$V109,OFFSET('CCG-Prov(Amb)'!$B$1,MATCH($A109,'CCG-Prov(Amb)'!$A$2:$A$335,0)+VALUE(RIGHT(W$2,1))-1,0),\"\")","v":"RYE"},{"$f":"IF(VALUE(MID(X$2,5,2))<=$V109,OFFSET('CCG-Prov(Amb)'!$B$1,MATCH($A109,'CCG-Prov(Amb)'!$A$2:$A$335,0)+VALUE(RIGHT(X$2,1))-1,0),\"\")","v":"RX9"},{"$f":"IF(VALUE(MID(Y$2,5,2))<=$V109,OFFSET('CCG-Prov(Amb)'!$B$1,MATCH($A109,'CCG-Prov(Amb)'!$A$2:$A$335,0)+VALUE(RIGHT(Y$2,1))-1,0),\"\")","v":""},{"$f":"IF(VALUE(MID(Z$2,5,2))<=$V109,OFFSET('CCG-Prov(Amb)'!$B$1,MATCH($A109,'CCG-Prov(Amb)'!$A$2:$A$335,0)+VALUE(RIGHT(Z$2,1))-1,0),\"\")","v":""},{"$f":"IF(VALUE(MID(AA$2,5,2))<=$V109,OFFSET('CCG-Prov(Amb)'!$B$1,MATCH($A109,'CCG-Prov(Amb)'!$A$2:$A$335,0)+VALUE(RIGHT(AA$2,1))-1,0),\"\")","v":""},null,null,null,null,null,{"$f":"SUM(IF(('CCG-Prov(Births)'!$A$2:$A$6150=A109),1,0))","v":44},{"$f":"SUM(IF(('CCG-Prov(Births)'!$A$2:$A$6150=A109)*('CCG-Prov(Births)'!$C$2:$C$6150>=Maternity!$B$7),1,0))","v":3},{"$f":"IF(VALUE(MID(AI$2,5,2))<=$V109,OFFSET('CCG-Prov(Births)'!$B$1,MATCH($A109,'CCG-Prov(Births)'!$A$2:$A$6150,0)+VALUE(RIGHT(AI$2,1))-1,0),\"\")","v":"RD8"},{"$f":"IF(VALUE(MID(AJ$2,5,2))<=$V109,OFFSET('CCG-Prov(Births)'!$B$1,MATCH($A109,'CCG-Prov(Births)'!$A$2:$A$6150,0)+VALUE(RIGHT(AJ$2,1))-1,0),\"\")","v":"RC1"},{"$f":"IF(VALUE(MID(AK$2,5,2))<=$V109,OFFSET('CCG-Prov(Births)'!$B$1,MATCH($A109,'CCG-Prov(Births)'!$A$2:$A$6150,0)+VALUE(RIGHT(AK$2,1))-1,0),\"\")","v":""},{"$f":"IF(VALUE(MID(AL$2,5,2))<=$V109,OFFSET('CCG-Prov(Births)'!$B$1,MATCH($A109,'CCG-Prov(Births)'!$A$2:$A$6150,0)+VALUE(RIGHT(AL$2,1))-1,0),\"\")","v":""},{"$f":"IF(VALUE(MID(AM$2,5,2))<=$V109,OFFSET('CCG-Prov(Births)'!$B$1,MATCH($A109,'CCG-Prov(Births)'!$A$2:$A$6150,0)+VALUE(RIGHT(AM$2,1))-1,0),\"\")","v":""},null,"RR7",{"$f":"VLOOKUP(AO109,provnames!$A$2:$B$331,2,0)","v":"Gateshead Health NHS FT"},{"$f":"SUM(IF(('CCG-Prov(Births)'!$B$2:$B$6150=AO109),1,0))","v":14}]
["04G","Nene",{"$f":"SUM(IF(('CCG-Prov(Acute)'!$A$2:$A$29012=A110),1,0))","v":178},{"$f":"SUM(IF(('CCG-Prov(Acute)'!$A$2:$A$29012=A110)*('CCG-Prov(Acute)'!$C$2:$C$29012>=Acute!$B$7),1,0))","v":9},{"$f":"IF(VALUE(MID(E$2,5,2))<=$D110,OFFSET('CCG-Prov(Acute)'!$B$1,MATCH($A110,'CCG-Prov(Acute)'!$A$2:$A$29012,0)+VALUE(RIGHT(E$2,1))-1,0),\"\")","v":"RNS"},{"$f":"IF(VALUE(MID(F$2,5,2))<=$D110,OFFSET('CCG-Prov(Acute)'!$B$1,MATCH($A110,'CCG-Prov(Acute)'!$A$2:$A$29012,0)+VALUE(RIGHT(F$2,1))-1,0),\"\")","v":"RNQ"},{"$f":"IF(VALUE(MID(G$2,5,2))<=$D110,OFFSET('CCG-Prov(Acute)'!$B$1,MATCH($A110,'CCG-Prov(Acute)'!$A$2:$A$29012,0)+VALUE(RIGHT(G$2,1))-1,0),\"\")","v":"RTH"},{"$f":"IF(VALUE(MID(H$2,5,2))<=$D110,OFFSET('CCG-Prov(Acute)'!$B$1,MATCH($A110,'CCG-Prov(Acute)'!$A$2:$A$29012,0)+VALUE(RIGHT(H$2,1))-1,0),\"\")","v":"RWE"},{"$f":"IF(VALUE(MID(I$2,5,2))<=$D110,OFFSET('CCG-Prov(Acute)'!$B$1,MATCH($A110,'CCG-Prov(Acute)'!$A$2:$A$29012,0)+VALUE(RIGHT(I$2,1))-1,0),\"\")","v":"RP1"},{"$f":"IF(VALUE(MID(J$2,5,2))<=$D110,OFFSET('CCG-Prov(Acute)'!$B$1,MATCH($A110,'CCG-Prov(Acute)'!$A$2:$A$29012,0)+VALUE(RIGHT(J$2,1))-1,0),\"\")","v":"NVC"},{"$f":"IF(VALUE(MID(K$2,5,2))<=$D110,OFFSET('CCG-Prov(Acute)'!$B$1,MATCH($A110,'CCG-Prov(Acute)'!$A$2:$A$29012,0)+VALUE(RIGHT(K$2,1))-1,0),\"\")","v":"RKB"},{"$f":"IF(VALUE(MID(L$2,5,2))<=$D110,OFFSET('CCG-Prov(Acute)'!$B$1,MATCH($A110,'CCG-Prov(Acute)'!$A$2:$A$29012,0)+VALUE(RIGHT(L$2,1))-1,0),\"\")","v":"NT4"},{"$f":"IF(VALUE(MID(M$2,5,2))<=$D110,OFFSET('CCG-Prov(Acute)'!$B$1,MATCH($A110,'CCG-Prov(Acute)'!$A$2:$A$29012,0)+VALUE(RIGHT(M$2,1))-1,0),\"\")","v":"RD8"},{"$f":"IF(VALUE(MID(N$2,5,2))<=$D110,OFFSET('CCG-Prov(Acute)'!$B$1,MATCH($A110,'CCG-Prov(Acute)'!$A$2:$A$29012,0)+VALUE(RIGHT(N$2,1))-1,0),\"\")","v":""},null,null,"RBN",{"$f":"VLOOKUP(Q110,provnames!$A$2:$B$331,2,0)","v":"St Helens & Knowsley Hospitals NHS Trust"},{"$f":"SUM(IF(('CCG-Prov(Acute)'!$B$2:$B$28899=Q110),1,0))","v":130},null,{"$f":"SUM(IF(('CCG-Prov(Amb)'!$A$2:$A$335=A110),1,0))","v":4},{"$f":"SUM(IF(('CCG-Prov(Amb)'!$A$2:$A$335=A110)*('CCG-Prov(Amb)'!$C$2:$C$335>=Ambulance!$B$7),1,0))","v":4},{"$f":"IF(VALUE(MID(W$2,5,2))<=$V110,OFFSET('CCG-Prov(Amb)'!$B$1,MATCH($A110,'CCG-Prov(Amb)'!$A$2:$A$335,0)+VALUE(RIGHT(W$2,1))-1,0),\"\")","v":"RX9"},{"$f":"IF(VALUE(MID(X$2,5,2))<=$V110,OFFSET('CCG-Prov(Amb)'!$B$1,MATCH($A110,'CCG-Prov(Amb)'!$A$2:$A$335,0)+VALUE(RIGHT(X$2,1))-1,0),\"\")","v":"RYC"},{"$f":"IF(VALUE(MID(Y$2,5,2))<=$V110,OFFSET('CCG-Prov(Amb)'!$B$1,MATCH($A110,'CCG-Prov(Amb)'!$A$2:$A$335,0)+VALUE(RIGHT(Y$2,1))-1,0),\"\")","v":"RYE"},{"$f":"IF(VALUE(MID(Z$2,5,2))<=$V110,OFFSET('CCG-Prov(Amb)'!$B$1,MATCH($A110,'CCG-Prov(Amb)'!$A$2:$A$335,0)+VALUE(RIGHT(Z$2,1))-1,0),\"\")","v":"RYA"},{"$f":"IF(VALUE(MID(AA$2,5,2))<=$V110,OFFSET('CCG-Prov(Amb)'!$B$1,MATCH($A110,'CCG-Prov(Amb)'!$A$2:$A$335,0)+VALUE(RIGHT(AA$2,1))-1,0),\"\")","v":""},null,null,null,null,null,{"$f":"SUM(IF(('CCG-Prov(Births)'!$A$2:$A$6150=A110),1,0))","v":53},{"$f":"SUM(IF(('CCG-Prov(Births)'!$A$2:$A$6150=A110)*('CCG-Prov(Births)'!$C$2:$C$6150>=Maternity!$B$7),1,0))","v":4},{"$f":"IF(VALUE(MID(AI$2,5,2))<=$V110,OFFSET('CCG-Prov(Births)'!$B$1,MATCH($A110,'CCG-Prov(Births)'!$A$2:$A$6150,0)+VALUE(RIGHT(AI$2,1))-1,0),\"\")","v":"RNS"},{"$f":"IF(VALUE(MID(AJ$2,5,2))<=$V110,OFFSET('CCG-Prov(Births)'!$B$1,MATCH($A110,'CCG-Prov(Births)'!$A$2:$A$6150,0)+VALUE(RIGHT(AJ$2,1))-1,0),\"\")","v":"RNQ"},{"$f":"IF(VALUE(MID(AK$2,5,2))<=$V110,OFFSET('CCG-Prov(Births)'!$B$1,MATCH($A110,'CCG-Prov(Births)'!$A$2:$A$6150,0)+VALUE(RIGHT(AK$2,1))-1,0),\"\")","v":"RTH"},{"$f":"IF(VALUE(MID(AL$2,5,2))<=$V110,OFFSET('CCG-Prov(Births)'!$B$1,MATCH($A110,'CCG-Prov(Births)'!$A$2:$A$6150,0)+VALUE(RIGHT(AL$2,1))-1,0),\"\")","v":"RC1"},{"$f":"IF(VALUE(MID(AM$2,5,2))<=$V110,OFFSET('CCG-Prov(Births)'!$B$1,MATCH($A110,'CCG-Prov(Births)'!$A$2:$A$6150,0)+VALUE(RIGHT(AM$2,1))-1,0),\"\")","v":""},null,"RR8",{"$f":"VLOOKUP(AO110,provnames!$A$2:$B$331,2,0)","v":"Leeds Teaching Hospitals NHS Trust"},{"$f":"SUM(IF(('CCG-Prov(Births)'!$B$2:$B$6150=AO110),1,0))","v":72}]
["04H","Newark & Sherwood",{"$f":"SUM(IF(('CCG-Prov(Acute)'!$A$2:$A$29012=A111),1,0))","v":128},{"$f":"SUM(IF(('CCG-Prov(Acute)'!$A$2:$A$29012=A111)*('CCG-Prov(Acute)'!$C$2:$C$29012>=Acute!$B$7),1,0))","v":5},{"$f":"IF(VALUE(MID(E$2,5,2))<=$D111,OFFSET('CCG-Prov(Acute)'!$B$1,MATCH($A111,'CCG-Prov(Acute)'!$A$2:$A$29012,0)+VALUE(RIGHT(E$2,1))-1,0),\"\")","v":"RK5"},{"$f":"IF(VALUE(MID(F$2,5,2))<=$D111,OFFSET('CCG-Prov(Acute)'!$B$1,MATCH($A111,'CCG-Prov(Acute)'!$A$2:$A$29012,0)+VALUE(RIGHT(F$2,1))-1,0),\"\")","v":"RX1"},{"$f":"IF(VALUE(MID(G$2,5,2))<=$D111,OFFSET('CCG-Prov(Acute)'!$B$1,MATCH($A111,'CCG-Prov(Acute)'!$A$2:$A$29012,0)+VALUE(RIGHT(G$2,1))-1,0),\"\")","v":"RWD"},{"$f":"IF(VALUE(MID(H$2,5,2))<=$D111,OFFSET('CCG-Prov(Acute)'!$B$1,MATCH($A111,'CCG-Prov(Acute)'!$A$2:$A$29012,0)+VALUE(RIGHT(H$2,1))-1,0),\"\")","v":"RP5"},{"$f":"IF(VALUE(MID(I$2,5,2))<=$D111,OFFSET('CCG-Prov(Acute)'!$B$1,MATCH($A111,'CCG-Prov(Acute)'!$A$2:$A$29012,0)+VALUE(RIGHT(I$2,1))-1,0),\"\")","v":"NTA"},{"$f":"IF(VALUE(MID(J$2,5,2))<=$D111,OFFSET('CCG-Prov(Acute)'!$B$1,MATCH($A111,'CCG-Prov(Acute)'!$A$2:$A$29012,0)+VALUE(RIGHT(J$2,1))-1,0),\"\")","v":""},{"$f":"IF(VALUE(MID(K$2,5,2))<=$D111,OFFSET('CCG-Prov(Acute)'!$B$1,MATCH($A111,'CCG-Prov(Acute)'!$A$2:$A$29012,0)+VALUE(RIGHT(K$2,1))-1,0),\"\")","v":""},{"$f":"IF(VALUE(MID(L$2,5,2))<=$D111,OFFSET('CCG-Prov(Acute)'!$B$1,MATCH($A111,'CCG-Prov(Acute)'!$A$2:$A$29012,0)+VALUE(RIGHT(L$2,1))-1,0),\"\")","v":""},{"$f":"IF(VALUE(MID(M$2,5,2))<=$D111,OFFSET('CCG-Prov(Acute)'!$B$1,MATCH($A111,'CCG-Prov(Acute)'!$A$2:$A$29012,0)+VALUE(RIGHT(M$2,1))-1,0),\"\")","v":""},{"$f":"IF(VALUE(MID(N$2,5,2))<=$D111,OFFSET('CCG-Prov(Acute)'!$B$1,MATCH($A111,'CCG-Prov(Acute)'!$A$2:$A$29012,0)+VALUE(RIGHT(N$2,1))-1,0),\"\")","v":""},null,null,"RBQ",{"$f":"VLOOKUP(Q111,provnames!$A$2:$B$331,2,0)","v":"Liverpool Heart & Chest NHS FT"},{"$f":"SUM(IF(('CCG-Prov(Acute)'!$B$2:$B$28899=Q111),1,0))","v":53},null,{"$f":"SUM(IF(('CCG-Prov(Amb)'!$A$2:$A$335=A111),1,0))","v":1},{"$f":"SUM(IF(('CCG-Prov(Amb)'!$A$2:$A$335=A111)*('CCG-Prov(Amb)'!$C$2:$C$335>=Ambulance!$B$7),1,0))","v":1},{"$f":"IF(VALUE(MID(W$2,5,2))<=$V111,OFFSET('CCG-Prov(Amb)'!$B$1,MATCH($A111,'CCG-Prov(Amb)'!$A$2:$A$335,0)+VALUE(RIGHT(W$2,1))-1,0),\"\")","v":"RX9"},{"$f":"IF(VALUE(MID(X$2,5,2))<=$V111,OFFSET('CCG-Prov(Amb)'!$B$1,MATCH($A111,'CCG-Prov(Amb)'!$A$2:$A$335,0)+VALUE(RIGHT(X$2,1))-1,0),\"\")","v":""},{"$f":"IF(VALUE(MID(Y$2,5,2))<=$V111,OFFSET('CCG-Prov(Amb)'!$B$1,MATCH($A111,'CCG-Prov(Amb)'!$A$2:$A$335,0)+VALUE(RIGHT(Y$2,1))-1,0),\"\")","v":""},{"$f":"IF(VALUE(MID(Z$2,5,2))<=$V111,OFFSET('CCG-Prov(Amb)'!$B$1,MATCH($A111,'CCG-Prov(Amb)'!$A$2:$A$335,0)+VALUE(RIGHT(Z$2,1))-1,0),\"\")","v":""},{"$f":"IF(VALUE(MID(AA$2,5,2))<=$V111,OFFSET('CCG-Prov(Amb)'!$B$1,MATCH($A111,'CCG-Prov(Amb)'!$A$2:$A$335,0)+VALUE(RIGHT(AA$2,1))-1,0),\"\")","v":""},null,null,null,null,null,{"$f":"SUM(IF(('CCG-Prov(Births)'!$A$2:$A$6150=A111),1,0))","v":13},{"$f":"SUM(IF(('CCG-Prov(Births)'!$A$2:$A$6150=A111)*('CCG-Prov(Births)'!$C$2:$C$6150>=Maternity!$B$7),1,0))","v":4},{"$f":"IF(VALUE(MID(AI$2,5,2))<=$V111,OFFSET('CCG-Prov(Births)'!$B$1,MATCH($A111,'CCG-Prov(Births)'!$A$2:$A$6150,0)+VALUE(RIGHT(AI$2,1))-1,0),\"\")","v":"RK5"},{"$f":"IF(VALUE(MID(AJ$2,5,2))<=$V111,OFFSET('CCG-Prov(Births)'!$B$1,MATCH($A111,'CCG-Prov(Births)'!$A$2:$A$6150,0)+VALUE(RIGHT(AJ$2,1))-1,0),\"\")","v":""},{"$f":"IF(VALUE(MID(AK$2,5,2))<=$V111,OFFSET('CCG-Prov(Births)'!$B$1,MATCH($A111,'CCG-Prov(Births)'!$A$2:$A$6150,0)+VALUE(RIGHT(AK$2,1))-1,0),\"\")","v":""},{"$f":"IF(VALUE(MID(AL$2,5,2))<=$V111,OFFSET('CCG-Prov(Births)'!$B$1,MATCH($A111,'CCG-Prov(Births)'!$A$2:$A$6150,0)+VALUE(RIGHT(AL$2,1))-1,0),\"\")","v":""},{"$f":"IF(VALUE(MID(AM$2,5,2))<=$V111,OFFSET('CCG-Prov(Births)'!$B$1,MATCH($A111,'CCG-Prov(Births)'!$A$2:$A$6150,0)+VALUE(RIGHT(AM$2,1))-1,0),\"\")","v":""},null,"RRF",{"$f":"VLOOKUP(AO111,provnames!$A$2:$B$331,2,0)","v":"Wrightington, Wigan & Leigh NHS FT"},{"$f":"SUM(IF(('CCG-Prov(Births)'!$B$2:$B$6150=AO111),1,0))","v":28}]
["10M","Newbury & District",{"$f":"SUM(IF(('CCG-Prov(Acute)'!$A$2:$A$29012=A112),1,0))","v":123},{"$f":"SUM(IF(('CCG-Prov(Acute)'!$A$2:$A$29012=A112)*('CCG-Prov(Acute)'!$C$2:$C$29012>=Acute!$B$7),1,0))","v":4},{"$f":"IF(VALUE(MID(E$2,5,2))<=$D112,OFFSET('CCG-Prov(Acute)'!$B$1,MATCH($A112,'CCG-Prov(Acute)'!$A$2:$A$29012,0)+VALUE(RIGHT(E$2,1))-1,0),\"\")","v":"RHW"},{"$f":"IF(VALUE(MID(F$2,5,2))<=$D112,OFFSET('CCG-Prov(Acute)'!$B$1,MATCH($A112,'CCG-Prov(Acute)'!$A$2:$A$29012,0)+VALUE(RIGHT(F$2,1))-1,0),\"\")","v":"RN5"},{"$f":"IF(VALUE(MID(G$2,5,2))<=$D112,OFFSET('CCG-Prov(Acute)'!$B$1,MATCH($A112,'CCG-Prov(Acute)'!$A$2:$A$29012,0)+VALUE(RIGHT(G$2,1))-1,0),\"\")","v":"RN3"},{"$f":"IF(VALUE(MID(H$2,5,2))<=$D112,OFFSET('CCG-Prov(Acute)'!$B$1,MATCH($A112,'CCG-Prov(Acute)'!$A$2:$A$29012,0)+VALUE(RIGHT(H$2,1))-1,0),\"\")","v":"RTH"},{"$f":"IF(VALUE(MID(I$2,5,2))<=$D112,OFFSET('CCG-Prov(Acute)'!$B$1,MATCH($A112,'CCG-Prov(Acute)'!$A$2:$A$29012,0)+VALUE(RIGHT(I$2,1))-1,0),\"\")","v":""},{"$f":"IF(VALUE(MID(J$2,5,2))<=$D112,OFFSET('CCG-Prov(Acute)'!$B$1,MATCH($A112,'CCG-Prov(Acute)'!$A$2:$A$29012,0)+VALUE(RIGHT(J$2,1))-1,0),\"\")","v":""},{"$f":"IF(VALUE(MID(K$2,5,2))<=$D112,OFFSET('CCG-Prov(Acute)'!$B$1,MATCH($A112,'CCG-Prov(Acute)'!$A$2:$A$29012,0)+VALUE(RIGHT(K$2,1))-1,0),\"\")","v":""},{"$f":"IF(VALUE(MID(L$2,5,2))<=$D112,OFFSET('CCG-Prov(Acute)'!$B$1,MATCH($A112,'CCG-Prov(Acute)'!$A$2:$A$29012,0)+VALUE(RIGHT(L$2,1))-1,0),\"\")","v":""},{"$f":"IF(VALUE(MID(M$2,5,2))<=$D112,OFFSET('CCG-Prov(Acute)'!$B$1,MATCH($A112,'CCG-Prov(Acute)'!$A$2:$A$29012,0)+VALUE(RIGHT(M$2,1))-1,0),\"\")","v":""},{"$f":"IF(VALUE(MID(N$2,5,2))<=$D112,OFFSET('CCG-Prov(Acute)'!$B$1,MATCH($A112,'CCG-Prov(Acute)'!$A$2:$A$29012,0)+VALUE(RIGHT(N$2,1))-1,0),\"\")","v":""},null,null,"RBS",{"$f":"VLOOKUP(Q112,provnames!$A$2:$B$331,2,0)","v":"Alder Hey Children's NHS FT"},{"$f":"SUM(IF(('CCG-Prov(Acute)'!$B$2:$B$28899=Q112),1,0))","v":134},null,{"$f":"SUM(IF(('CCG-Prov(Amb)'!$A$2:$A$335=A112),1,0))","v":2},{"$f":"SUM(IF(('CCG-Prov(Amb)'!$A$2:$A$335=A112)*('CCG-Prov(Amb)'!$C$2:$C$335>=Ambulance!$B$7),1,0))","v":2},{"$f":"IF(VALUE(MID(W$2,5,2))<=$V112,OFFSET('CCG-Prov(Amb)'!$B$1,MATCH($A112,'CCG-Prov(Amb)'!$A$2:$A$335,0)+VALUE(RIGHT(W$2,1))-1,0),\"\")","v":"RYE"},{"$f":"IF(VALUE(MID(X$2,5,2))<=$V112,OFFSET('CCG-Prov(Amb)'!$B$1,MATCH($A112,'CCG-Prov(Amb)'!$A$2:$A$335,0)+VALUE(RIGHT(X$2,1))-1,0),\"\")","v":"RX5"},{"$f":"IF(VALUE(MID(Y$2,5,2))<=$V112,OFFSET('CCG-Prov(Amb)'!$B$1,MATCH($A112,'CCG-Prov(Amb)'!$A$2:$A$335,0)+VALUE(RIGHT(Y$2,1))-1,0),\"\")","v":""},{"$f":"IF(VALUE(MID(Z$2,5,2))<=$V112,OFFSET('CCG-Prov(Amb)'!$B$1,MATCH($A112,'CCG-Prov(Amb)'!$A$2:$A$335,0)+VALUE(RIGHT(Z$2,1))-1,0),\"\")","v":""},{"$f":"IF(VALUE(MID(AA$2,5,2))<=$V112,OFFSET('CCG-Prov(Amb)'!$B$1,MATCH($A112,'CCG-Prov(Amb)'!$A$2:$A$335,0)+VALUE(RIGHT(AA$2,1))-1,0),\"\")","v":""},null,null,null,null,null,{"$f":"SUM(IF(('CCG-Prov(Births)'!$A$2:$A$6150=A112),1,0))","v":19},{"$f":"SUM(IF(('CCG-Prov(Births)'!$A$2:$A$6150=A112)*('CCG-Prov(Births)'!$C$2:$C$6150>=Maternity!$B$7),1,0))","v":4},{"$f":"IF(VALUE(MID(AI$2,5,2))<=$V112,OFFSET('CCG-Prov(Births)'!$B$1,MATCH($A112,'CCG-Prov(Births)'!$A$2:$A$6150,0)+VALUE(RIGHT(AI$2,1))-1,0),\"\")","v":"RHW"},{"$f":"IF(VALUE(MID(AJ$2,5,2))<=$V112,OFFSET('CCG-Prov(Births)'!$B$1,MATCH($A112,'CCG-Prov(Births)'!$A$2:$A$6150,0)+VALUE(RIGHT(AJ$2,1))-1,0),\"\")","v":"RN5"},{"$f":"IF(VALUE(MID(AK$2,5,2))<=$V112,OFFSET('CCG-Prov(Births)'!$B$1,MATCH($A112,'CCG-Prov(Births)'!$A$2:$A$6150,0)+VALUE(RIGHT(AK$2,1))-1,0),\"\")","v":""},{"$f":"IF(VALUE(MID(AL$2,5,2))<=$V112,OFFSET('CCG-Prov(Births)'!$B$1,MATCH($A112,'CCG-Prov(Births)'!$A$2:$A$6150,0)+VALUE(RIGHT(AL$2,1))-1,0),\"\")","v":""},{"$f":"IF(VALUE(MID(AM$2,5,2))<=$V112,OFFSET('CCG-Prov(Births)'!$B$1,MATCH($A112,'CCG-Prov(Births)'!$A$2:$A$6150,0)+VALUE(RIGHT(AM$2,1))-1,0),\"\")","v":""},null,"RRV",{"$f":"VLOOKUP(AO112,provnames!$A$2:$B$331,2,0)","v":"University College London Hospitals NHS FT"},{"$f":"SUM(IF(('CCG-Prov(Births)'!$B$2:$B$6150=AO112),1,0))","v":84}]
["00G","Newcastle North & East",{"$f":"SUM(IF(('CCG-Prov(Acute)'!$A$2:$A$29012=A113),1,0))","v":124},{"$f":"SUM(IF(('CCG-Prov(Acute)'!$A$2:$A$29012=A113)*('CCG-Prov(Acute)'!$C$2:$C$29012>=Acute!$B$7),1,0))","v":3},{"$f":"IF(VALUE(MID(E$2,5,2))<=$D113,OFFSET('CCG-Prov(Acute)'!$B$1,MATCH($A113,'CCG-Prov(Acute)'!$A$2:$A$29012,0)+VALUE(RIGHT(E$2,1))-1,0),\"\")","v":"RTD"},{"$f":"IF(VALUE(MID(F$2,5,2))<=$D113,OFFSET('CCG-Prov(Acute)'!$B$1,MATCH($A113,'CCG-Prov(Acute)'!$A$2:$A$29012,0)+VALUE(RIGHT(F$2,1))-1,0),\"\")","v":"RTF"},{"$f":"IF(VALUE(MID(G$2,5,2))<=$D113,OFFSET('CCG-Prov(Acute)'!$B$1,MATCH($A113,'CCG-Prov(Acute)'!$A$2:$A$29012,0)+VALUE(RIGHT(G$2,1))-1,0),\"\")","v":"NVC"},{"$f":"IF(VALUE(MID(H$2,5,2))<=$D113,OFFSET('CCG-Prov(Acute)'!$B$1,MATCH($A113,'CCG-Prov(Acute)'!$A$2:$A$29012,0)+VALUE(RIGHT(H$2,1))-1,0),\"\")","v":""},{"$f":"IF(VALUE(MID(I$2,5,2))<=$D113,OFFSET('CCG-Prov(Acute)'!$B$1,MATCH($A113,'CCG-Prov(Acute)'!$A$2:$A$29012,0)+VALUE(RIGHT(I$2,1))-1,0),\"\")","v":""},{"$f":"IF(VALUE(MID(J$2,5,2))<=$D113,OFFSET('CCG-Prov(Acute)'!$B$1,MATCH($A113,'CCG-Prov(Acute)'!$A$2:$A$29012,0)+VALUE(RIGHT(J$2,1))-1,0),\"\")","v":""},{"$f":"IF(VALUE(MID(K$2,5,2))<=$D113,OFFSET('CCG-Prov(Acute)'!$B$1,MATCH($A113,'CCG-Prov(Acute)'!$A$2:$A$29012,0)+VALUE(RIGHT(K$2,1))-1,0),\"\")","v":""},{"$f":"IF(VALUE(MID(L$2,5,2))<=$D113,OFFSET('CCG-Prov(Acute)'!$B$1,MATCH($A113,'CCG-Prov(Acute)'!$A$2:$A$29012,0)+VALUE(RIGHT(L$2,1))-1,0),\"\")","v":""},{"$f":"IF(VALUE(MID(M$2,5,2))<=$D113,OFFSET('CCG-Prov(Acute)'!$B$1,MATCH($A113,'CCG-Prov(Acute)'!$A$2:$A$29012,0)+VALUE(RIGHT(M$2,1))-1,0),\"\")","v":""},{"$f":"IF(VALUE(MID(N$2,5,2))<=$D113,OFFSET('CCG-Prov(Acute)'!$B$1,MATCH($A113,'CCG-Prov(Acute)'!$A$2:$A$29012,0)+VALUE(RIGHT(N$2,1))-1,0),\"\")","v":""},null,null,"RBT",{"$f":"VLOOKUP(Q113,provnames!$A$2:$B$331,2,0)","v":"Mid Cheshire Hospitals NHS FT"},{"$f":"SUM(IF(('CCG-Prov(Acute)'!$B$2:$B$28899=Q113),1,0))","v":165},null,{"$f":"SUM(IF(('CCG-Prov(Amb)'!$A$2:$A$335=A113),1,0))","v":1},{"$f":"SUM(IF(('CCG-Prov(Amb)'!$A$2:$A$335=A113)*('CCG-Prov(Amb)'!$C$2:$C$335>=Ambulance!$B$7),1,0))","v":1},{"$f":"IF(VALUE(MID(W$2,5,2))<=$V113,OFFSET('CCG-Prov(Amb)'!$B$1,MATCH($A113,'CCG-Prov(Amb)'!$A$2:$A$335,0)+VALUE(RIGHT(W$2,1))-1,0),\"\")","v":"RX6"},{"$f":"IF(VALUE(MID(X$2,5,2))<=$V113,OFFSET('CCG-Prov(Amb)'!$B$1,MATCH($A113,'CCG-Prov(Amb)'!$A$2:$A$335,0)+VALUE(RIGHT(X$2,1))-1,0),\"\")","v":""},{"$f":"IF(VALUE(MID(Y$2,5,2))<=$V113,OFFSET('CCG-Prov(Amb)'!$B$1,MATCH($A113,'CCG-Prov(Amb)'!$A$2:$A$335,0)+VALUE(RIGHT(Y$2,1))-1,0),\"\")","v":""},{"$f":"IF(VALUE(MID(Z$2,5,2))<=$V113,OFFSET('CCG-Prov(Amb)'!$B$1,MATCH($A113,'CCG-Prov(Amb)'!$A$2:$A$335,0)+VALUE(RIGHT(Z$2,1))-1,0),\"\")","v":""},{"$f":"IF(VALUE(MID(AA$2,5,2))<=$V113,OFFSET('CCG-Prov(Amb)'!$B$1,MATCH($A113,'CCG-Prov(Amb)'!$A$2:$A$335,0)+VALUE(RIGHT(AA$2,1))-1,0),\"\")","v":""},null,null,null,null,null,{"$f":"SUM(IF(('CCG-Prov(Births)'!$A$2:$A$6150=A113),1,0))","v":14},{"$f":"SUM(IF(('CCG-Prov(Births)'!$A$2:$A$6150=A113)*('CCG-Prov(Births)'!$C$2:$C$6150>=Maternity!$B$7),1,0))","v":1},{"$f":"IF(VALUE(MID(AI$2,5,2))<=$V113,OFFSET('CCG-Prov(Births)'!$B$1,MATCH($A113,'CCG-Prov(Births)'!$A$2:$A$6150,0)+VALUE(RIGHT(AI$2,1))-1,0),\"\")","v":"RTD"},{"$f":"IF(VALUE(MID(AJ$2,5,2))<=$V113,OFFSET('CCG-Prov(Births)'!$B$1,MATCH($A113,'CCG-Prov(Births)'!$A$2:$A$6150,0)+VALUE(RIGHT(AJ$2,1))-1,0),\"\")","v":""},{"$f":"IF(VALUE(MID(AK$2,5,2))<=$V113,OFFSET('CCG-Prov(Births)'!$B$1,MATCH($A113,'CCG-Prov(Births)'!$A$2:$A$6150,0)+VALUE(RIGHT(AK$2,1))-1,0),\"\")","v":""},{"$f":"IF(VALUE(MID(AL$2,5,2))<=$V113,OFFSET('CCG-Prov(Births)'!$B$1,MATCH($A113,'CCG-Prov(Births)'!$A$2:$A$6150,0)+VALUE(RIGHT(AL$2,1))-1,0),\"\")","v":""},{"$f":"IF(VALUE(MID(AM$2,5,2))<=$V113,OFFSET('CCG-Prov(Births)'!$B$1,MATCH($A113,'CCG-Prov(Births)'!$A$2:$A$6150,0)+VALUE(RIGHT(AM$2,1))-1,0),\"\")","v":""},null,"RTD",{"$f":"VLOOKUP(AO113,provnames!$A$2:$B$331,2,0)","v":"The Newcastle Upon Tyne Hospitals NHS FT"},{"$f":"SUM(IF(('CCG-Prov(Births)'!$B$2:$B$6150=AO113),1,0))","v":33}]
["00H","Newcastle West",{"$f":"SUM(IF(('CCG-Prov(Acute)'!$A$2:$A$29012=A114),1,0))","v":80},{"$f":"SUM(IF(('CCG-Prov(Acute)'!$A$2:$A$29012=A114)*('CCG-Prov(Acute)'!$C$2:$C$29012>=Acute!$B$7),1,0))","v":1},{"$f":"IF(VALUE(MID(E$2,5,2))<=$D114,OFFSET('CCG-Prov(Acute)'!$B$1,MATCH($A114,'CCG-Prov(Acute)'!$A$2:$A$29012,0)+VALUE(RIGHT(E$2,1))-1,0),\"\")","v":"RTD"},{"$f":"IF(VALUE(MID(F$2,5,2))<=$D114,OFFSET('CCG-Prov(Acute)'!$B$1,MATCH($A114,'CCG-Prov(Acute)'!$A$2:$A$29012,0)+VALUE(RIGHT(F$2,1))-1,0),\"\")","v":""},{"$f":"IF(VALUE(MID(G$2,5,2))<=$D114,OFFSET('CCG-Prov(Acute)'!$B$1,MATCH($A114,'CCG-Prov(Acute)'!$A$2:$A$29012,0)+VALUE(RIGHT(G$2,1))-1,0),\"\")","v":""},{"$f":"IF(VALUE(MID(H$2,5,2))<=$D114,OFFSET('CCG-Prov(Acute)'!$B$1,MATCH($A114,'CCG-Prov(Acute)'!$A$2:$A$29012,0)+VALUE(RIGHT(H$2,1))-1,0),\"\")","v":""},{"$f":"IF(VALUE(MID(I$2,5,2))<=$D114,OFFSET('CCG-Prov(Acute)'!$B$1,MATCH($A114,'CCG-Prov(Acute)'!$A$2:$A$29012,0)+VALUE(RIGHT(I$2,1))-1,0),\"\")","v":""},{"$f":"IF(VALUE(MID(J$2,5,2))<=$D114,OFFSET('CCG-Prov(Acute)'!$B$1,MATCH($A114,'CCG-Prov(Acute)'!$A$2:$A$29012,0)+VALUE(RIGHT(J$2,1))-1,0),\"\")","v":""},{"$f":"IF(VALUE(MID(K$2,5,2))<=$D114,OFFSET('CCG-Prov(Acute)'!$B$1,MATCH($A114,'CCG-Prov(Acute)'!$A$2:$A$29012,0)+VALUE(RIGHT(K$2,1))-1,0),\"\")","v":""},{"$f":"IF(VALUE(MID(L$2,5,2))<=$D114,OFFSET('CCG-Prov(Acute)'!$B$1,MATCH($A114,'CCG-Prov(Acute)'!$A$2:$A$29012,0)+VALUE(RIGHT(L$2,1))-1,0),\"\")","v":""},{"$f":"IF(VALUE(MID(M$2,5,2))<=$D114,OFFSET('CCG-Prov(Acute)'!$B$1,MATCH($A114,'CCG-Prov(Acute)'!$A$2:$A$29012,0)+VALUE(RIGHT(M$2,1))-1,0),\"\")","v":""},{"$f":"IF(VALUE(MID(N$2,5,2))<=$D114,OFFSET('CCG-Prov(Acute)'!$B$1,MATCH($A114,'CCG-Prov(Acute)'!$A$2:$A$29012,0)+VALUE(RIGHT(N$2,1))-1,0),\"\")","v":""},null,null,"RBV",{"$f":"VLOOKUP(Q114,provnames!$A$2:$B$331,2,0)","v":"The Christie NHS FT"},{"$f":"SUM(IF(('CCG-Prov(Acute)'!$B$2:$B$28899=Q114),1,0))","v":93},null,{"$f":"SUM(IF(('CCG-Prov(Amb)'!$A$2:$A$335=A114),1,0))","v":1},{"$f":"SUM(IF(('CCG-Prov(Amb)'!$A$2:$A$335=A114)*('CCG-Prov(Amb)'!$C$2:$C$335>=Ambulance!$B$7),1,0))","v":1},{"$f":"IF(VALUE(MID(W$2,5,2))<=$V114,OFFSET('CCG-Prov(Amb)'!$B$1,MATCH($A114,'CCG-Prov(Amb)'!$A$2:$A$335,0)+VALUE(RIGHT(W$2,1))-1,0),\"\")","v":"RX6"},{"$f":"IF(VALUE(MID(X$2,5,2))<=$V114,OFFSET('CCG-Prov(Amb)'!$B$1,MATCH($A114,'CCG-Prov(Amb)'!$A$2:$A$335,0)+VALUE(RIGHT(X$2,1))-1,0),\"\")","v":""},{"$f":"IF(VALUE(MID(Y$2,5,2))<=$V114,OFFSET('CCG-Prov(Amb)'!$B$1,MATCH($A114,'CCG-Prov(Amb)'!$A$2:$A$335,0)+VALUE(RIGHT(Y$2,1))-1,0),\"\")","v":""},{"$f":"IF(VALUE(MID(Z$2,5,2))<=$V114,OFFSET('CCG-Prov(Amb)'!$B$1,MATCH($A114,'CCG-Prov(Amb)'!$A$2:$A$335,0)+VALUE(RIGHT(Z$2,1))-1,0),\"\")","v":""},{"$f":"IF(VALUE(MID(AA$2,5,2))<=$V114,OFFSET('CCG-Prov(Amb)'!$B$1,MATCH($A114,'CCG-Prov(Amb)'!$A$2:$A$335,0)+VALUE(RIGHT(AA$2,1))-1,0),\"\")","v":""},null,null,null,null,null,{"$f":"SUM(IF(('CCG-Prov(Births)'!$A$2:$A$6150=A114),1,0))","v":15},{"$f":"SUM(IF(('CCG-Prov(Births)'!$A$2:$A$6150=A114)*('CCG-Prov(Births)'!$C$2:$C$6150>=Maternity!$B$7),1,0))","v":1},{"$f":"IF(VALUE(MID(AI$2,5,2))<=$V114,OFFSET('CCG-Prov(Births)'!$B$1,MATCH($A114,'CCG-Prov(Births)'!$A$2:$A$6150,0)+VALUE(RIGHT(AI$2,1))-1,0),\"\")","v":"RTD"},{"$f":"IF(VALUE(MID(AJ$2,5,2))<=$V114,OFFSET('CCG-Prov(Births)'!$B$1,MATCH($A114,'CCG-Prov(Births)'!$A$2:$A$6150,0)+VALUE(RIGHT(AJ$2,1))-1,0),\"\")","v":""},{"$f":"IF(VALUE(MID(AK$2,5,2))<=$V114,OFFSET('CCG-Prov(Births)'!$B$1,MATCH($A114,'CCG-Prov(Births)'!$A$2:$A$6150,0)+VALUE(RIGHT(AK$2,1))-1,0),\"\")","v":""},{"$f":"IF(VALUE(MID(AL$2,5,2))<=$V114,OFFSET('CCG-Prov(Births)'!$B$1,MATCH($A114,'CCG-Prov(Births)'!$A$2:$A$6150,0)+VALUE(RIGHT(AL$2,1))-1,0),\"\")","v":""},{"$f":"IF(VALUE(MID(AM$2,5,2))<=$V114,OFFSET('CCG-Prov(Births)'!$B$1,MATCH($A114,'CCG-Prov(Births)'!$A$2:$A$6150,0)+VALUE(RIGHT(AM$2,1))-1,0),\"\")","v":""},null,"RTE",{"$f":"VLOOKUP(AO114,provnames!$A$2:$B$331,2,0)","v":"Gloucestershire Hospitals NHS FT"},{"$f":"SUM(IF(('CCG-Prov(Births)'!$B$2:$B$6150=AO114),1,0))","v":52}]
["08M","Newham",{"$f":"SUM(IF(('CCG-Prov(Acute)'!$A$2:$A$29012=A115),1,0))","v":138},{"$f":"SUM(IF(('CCG-Prov(Acute)'!$A$2:$A$29012=A115)*('CCG-Prov(Acute)'!$C$2:$C$29012>=Acute!$B$7),1,0))","v":7},{"$f":"IF(VALUE(MID(E$2,5,2))<=$D115,OFFSET('CCG-Prov(Acute)'!$B$1,MATCH($A115,'CCG-Prov(Acute)'!$A$2:$A$29012,0)+VALUE(RIGHT(E$2,1))-1,0),\"\")","v":"RNH"},{"$f":"IF(VALUE(MID(F$2,5,2))<=$D115,OFFSET('CCG-Prov(Acute)'!$B$1,MATCH($A115,'CCG-Prov(Acute)'!$A$2:$A$29012,0)+VALUE(RIGHT(F$2,1))-1,0),\"\")","v":"RNJ"},{"$f":"IF(VALUE(MID(G$2,5,2))<=$D115,OFFSET('CCG-Prov(Acute)'!$B$1,MATCH($A115,'CCG-Prov(Acute)'!$A$2:$A$29012,0)+VALUE(RIGHT(G$2,1))-1,0),\"\")","v":"RGC"},{"$f":"IF(VALUE(MID(H$2,5,2))<=$D115,OFFSET('CCG-Prov(Acute)'!$B$1,MATCH($A115,'CCG-Prov(Acute)'!$A$2:$A$29012,0)+VALUE(RIGHT(H$2,1))-1,0),\"\")","v":"RF4"},{"$f":"IF(VALUE(MID(I$2,5,2))<=$D115,OFFSET('CCG-Prov(Acute)'!$B$1,MATCH($A115,'CCG-Prov(Acute)'!$A$2:$A$29012,0)+VALUE(RIGHT(I$2,1))-1,0),\"\")","v":"RP6"},{"$f":"IF(VALUE(MID(J$2,5,2))<=$D115,OFFSET('CCG-Prov(Acute)'!$B$1,MATCH($A115,'CCG-Prov(Acute)'!$A$2:$A$29012,0)+VALUE(RIGHT(J$2,1))-1,0),\"\")","v":"RQX"},{"$f":"IF(VALUE(MID(K$2,5,2))<=$D115,OFFSET('CCG-Prov(Acute)'!$B$1,MATCH($A115,'CCG-Prov(Acute)'!$A$2:$A$29012,0)+VALUE(RIGHT(K$2,1))-1,0),\"\")","v":"RRV"},{"$f":"IF(VALUE(MID(L$2,5,2))<=$D115,OFFSET('CCG-Prov(Acute)'!$B$1,MATCH($A115,'CCG-Prov(Acute)'!$A$2:$A$29012,0)+VALUE(RIGHT(L$2,1))-1,0),\"\")","v":""},{"$f":"IF(VALUE(MID(M$2,5,2))<=$D115,OFFSET('CCG-Prov(Acute)'!$B$1,MATCH($A115,'CCG-Prov(Acute)'!$A$2:$A$29012,0)+VALUE(RIGHT(M$2,1))-1,0),\"\")","v":""},{"$f":"IF(VALUE(MID(N$2,5,2))<=$D115,OFFSET('CCG-Prov(Acute)'!$B$1,MATCH($A115,'CCG-Prov(Acute)'!$A$2:$A$29012,0)+VALUE(RIGHT(N$2,1))-1,0),\"\")","v":""},null,null,"RBZ",{"$f":"VLOOKUP(Q115,provnames!$A$2:$B$331,2,0)","v":"Northern Devon Healthcare NHS Trust"},{"$f":"SUM(IF(('CCG-Prov(Acute)'!$B$2:$B$28899=Q115),1,0))","v":169},null,{"$f":"SUM(IF(('CCG-Prov(Amb)'!$A$2:$A$335=A115),1,0))","v":2},{"$f":"SUM(IF(('CCG-Prov(Amb)'!$A$2:$A$335=A115)*('CCG-Prov(Amb)'!$C$2:$C$335>=Ambulance!$B$7),1,0))","v":1},{"$f":"IF(VALUE(MID(W$2,5,2))<=$V115,OFFSET('CCG-Prov(Amb)'!$B$1,MATCH($A115,'CCG-Prov(Amb)'!$A$2:$A$335,0)+VALUE(RIGHT(W$2,1))-1,0),\"\")","v":"RRY"},{"$f":"IF(VALUE(MID(X$2,5,2))<=$V115,OFFSET('CCG-Prov(Amb)'!$B$1,MATCH($A115,'CCG-Prov(Amb)'!$A$2:$A$335,0)+VALUE(RIGHT(X$2,1))-1,0),\"\")","v":""},{"$f":"IF(VALUE(MID(Y$2,5,2))<=$V115,OFFSET('CCG-Prov(Amb)'!$B$1,MATCH($A115,'CCG-Prov(Amb)'!$A$2:$A$335,0)+VALUE(RIGHT(Y$2,1))-1,0),\"\")","v":""},{"$f":"IF(VALUE(MID(Z$2,5,2))<=$V115,OFFSET('CCG-Prov(Amb)'!$B$1,MATCH($A115,'CCG-Prov(Amb)'!$A$2:$A$335,0)+VALUE(RIGHT(Z$2,1))-1,0),\"\")","v":""},{"$f":"IF(VALUE(MID(AA$2,5,2))<=$V115,OFFSET('CCG-Prov(Amb)'!$B$1,MATCH($A115,'CCG-Prov(Amb)'!$A$2:$A$335,0)+VALUE(RIGHT(AA$2,1))-1,0),\"\")","v":""},null,null,null,null,null,{"$f":"SUM(IF(('CCG-Prov(Births)'!$A$2:$A$6150=A115),1,0))","v":48},{"$f":"SUM(IF(('CCG-Prov(Births)'!$A$2:$A$6150=A115)*('CCG-Prov(Births)'!$C$2:$C$6150>=Maternity!$B$7),1,0))","v":5},{"$f":"IF(VALUE(MID(AI$2,5,2))<=$V115,OFFSET('CCG-Prov(Births)'!$B$1,MATCH($A115,'CCG-Prov(Births)'!$A$2:$A$6150,0)+VALUE(RIGHT(AI$2,1))-1,0),\"\")","v":"RNH"},{"$f":"IF(VALUE(MID(AJ$2,5,2))<=$V115,OFFSET('CCG-Prov(Births)'!$B$1,MATCH($A115,'CCG-Prov(Births)'!$A$2:$A$6150,0)+VALUE(RIGHT(AJ$2,1))-1,0),\"\")","v":""},{"$f":"IF(VALUE(MID(AK$2,5,2))<=$V115,OFFSET('CCG-Prov(Births)'!$B$1,MATCH($A115,'CCG-Prov(Births)'!$A$2:$A$6150,0)+VALUE(RIGHT(AK$2,1))-1,0),\"\")","v":""},{"$f":"IF(VALUE(MID(AL$2,5,2))<=$V115,OFFSET('CCG-Prov(Births)'!$B$1,MATCH($A115,'CCG-Prov(Births)'!$A$2:$A$6150,0)+VALUE(RIGHT(AL$2,1))-1,0),\"\")","v":""},{"$f":"IF(VALUE(MID(AM$2,5,2))<=$V115,OFFSET('CCG-Prov(Births)'!$B$1,MATCH($A115,'CCG-Prov(Births)'!$A$2:$A$6150,0)+VALUE(RIGHT(AM$2,1))-1,0),\"\")","v":""},null,"RTF",{"$f":"VLOOKUP(AO115,provnames!$A$2:$B$331,2,0)","v":"Northumbria Healthcare NHS FT"},{"$f":"SUM(IF(('CCG-Prov(Births)'!$B$2:$B$6150=AO115),1,0))","v":14}]
["10N","North & West Reading",{"$f":"SUM(IF(('CCG-Prov(Acute)'!$A$2:$A$29012=A116),1,0))","v":105},{"$f":"SUM(IF(('CCG-Prov(Acute)'!$A$2:$A$29012=A116)*('CCG-Prov(Acute)'!$C$2:$C$29012>=Acute!$B$7),1,0))","v":2},{"$f":"IF(VALUE(MID(E$2,5,2))<=$D116,OFFSET('CCG-Prov(Acute)'!$B$1,MATCH($A116,'CCG-Prov(Acute)'!$A$2:$A$29012,0)+VALUE(RIGHT(E$2,1))-1,0),\"\")","v":"RHW"},{"$f":"IF(VALUE(MID(F$2,5,2))<=$D116,OFFSET('CCG-Prov(Acute)'!$B$1,MATCH($A116,'CCG-Prov(Acute)'!$A$2:$A$29012,0)+VALUE(RIGHT(F$2,1))-1,0),\"\")","v":"RTH"},{"$f":"IF(VALUE(MID(G$2,5,2))<=$D116,OFFSET('CCG-Prov(Acute)'!$B$1,MATCH($A116,'CCG-Prov(Acute)'!$A$2:$A$29012,0)+VALUE(RIGHT(G$2,1))-1,0),\"\")","v":""},{"$f":"IF(VALUE(MID(H$2,5,2))<=$D116,OFFSET('CCG-Prov(Acute)'!$B$1,MATCH($A116,'CCG-Prov(Acute)'!$A$2:$A$29012,0)+VALUE(RIGHT(H$2,1))-1,0),\"\")","v":""},{"$f":"IF(VALUE(MID(I$2,5,2))<=$D116,OFFSET('CCG-Prov(Acute)'!$B$1,MATCH($A116,'CCG-Prov(Acute)'!$A$2:$A$29012,0)+VALUE(RIGHT(I$2,1))-1,0),\"\")","v":""},{"$f":"IF(VALUE(MID(J$2,5,2))<=$D116,OFFSET('CCG-Prov(Acute)'!$B$1,MATCH($A116,'CCG-Prov(Acute)'!$A$2:$A$29012,0)+VALUE(RIGHT(J$2,1))-1,0),\"\")","v":""},{"$f":"IF(VALUE(MID(K$2,5,2))<=$D116,OFFSET('CCG-Prov(Acute)'!$B$1,MATCH($A116,'CCG-Prov(Acute)'!$A$2:$A$29012,0)+VALUE(RIGHT(K$2,1))-1,0),\"\")","v":""},{"$f":"IF(VALUE(MID(L$2,5,2))<=$D116,OFFSET('CCG-Prov(Acute)'!$B$1,MATCH($A116,'CCG-Prov(Acute)'!$A$2:$A$29012,0)+VALUE(RIGHT(L$2,1))-1,0),\"\")","v":""},{"$f":"IF(VALUE(MID(M$2,5,2))<=$D116,OFFSET('CCG-Prov(Acute)'!$B$1,MATCH($A116,'CCG-Prov(Acute)'!$A$2:$A$29012,0)+VALUE(RIGHT(M$2,1))-1,0),\"\")","v":""},{"$f":"IF(VALUE(MID(N$2,5,2))<=$D116,OFFSET('CCG-Prov(Acute)'!$B$1,MATCH($A116,'CCG-Prov(Acute)'!$A$2:$A$29012,0)+VALUE(RIGHT(N$2,1))-1,0),\"\")","v":""},null,null,"RC1",{"$f":"VLOOKUP(Q116,provnames!$A$2:$B$331,2,0)","v":"Bedford Hospital NHS Trust"},{"$f":"SUM(IF(('CCG-Prov(Acute)'!$B$2:$B$28899=Q116),1,0))","v":145},null,{"$f":"SUM(IF(('CCG-Prov(Amb)'!$A$2:$A$335=A116),1,0))","v":1},{"$f":"SUM(IF(('CCG-Prov(Amb)'!$A$2:$A$335=A116)*('CCG-Prov(Amb)'!$C$2:$C$335>=Ambulance!$B$7),1,0))","v":1},{"$f":"IF(VALUE(MID(W$2,5,2))<=$V116,OFFSET('CCG-Prov(Amb)'!$B$1,MATCH($A116,'CCG-Prov(Amb)'!$A$2:$A$335,0)+VALUE(RIGHT(W$2,1))-1,0),\"\")","v":"RYE"},{"$f":"IF(VALUE(MID(X$2,5,2))<=$V116,OFFSET('CCG-Prov(Amb)'!$B$1,MATCH($A116,'CCG-Prov(Amb)'!$A$2:$A$335,0)+VALUE(RIGHT(X$2,1))-1,0),\"\")","v":""},{"$f":"IF(VALUE(MID(Y$2,5,2))<=$V116,OFFSET('CCG-Prov(Amb)'!$B$1,MATCH($A116,'CCG-Prov(Amb)'!$A$2:$A$335,0)+VALUE(RIGHT(Y$2,1))-1,0),\"\")","v":""},{"$f":"IF(VALUE(MID(Z$2,5,2))<=$V116,OFFSET('CCG-Prov(Amb)'!$B$1,MATCH($A116,'CCG-Prov(Amb)'!$A$2:$A$335,0)+VALUE(RIGHT(Z$2,1))-1,0),\"\")","v":""},{"$f":"IF(VALUE(MID(AA$2,5,2))<=$V116,OFFSET('CCG-Prov(Amb)'!$B$1,MATCH($A116,'CCG-Prov(Amb)'!$A$2:$A$335,0)+VALUE(RIGHT(AA$2,1))-1,0),\"\")","v":""},null,null,null,null,null,{"$f":"SUM(IF(('CCG-Prov(Births)'!$A$2:$A$6150=A116),1,0))","v":19},{"$f":"SUM(IF(('CCG-Prov(Births)'!$A$2:$A$6150=A116)*('CCG-Prov(Births)'!$C$2:$C$6150>=Maternity!$B$7),1,0))","v":1},{"$f":"IF(VALUE(MID(AI$2,5,2))<=$V116,OFFSET('CCG-Prov(Births)'!$B$1,MATCH($A116,'CCG-Prov(Births)'!$A$2:$A$6150,0)+VALUE(RIGHT(AI$2,1))-1,0),\"\")","v":"RHW"},{"$f":"IF(VALUE(MID(AJ$2,5,2))<=$V116,OFFSET('CCG-Prov(Births)'!$B$1,MATCH($A116,'CCG-Prov(Births)'!$A$2:$A$6150,0)+VALUE(RIGHT(AJ$2,1))-1,0),\"\")","v":""},{"$f":"IF(VALUE(MID(AK$2,5,2))<=$V116,OFFSET('CCG-Prov(Births)'!$B$1,MATCH($A116,'CCG-Prov(Births)'!$A$2:$A$6150,0)+VALUE(RIGHT(AK$2,1))-1,0),\"\")","v":""},{"$f":"IF(VALUE(MID(AL$2,5,2))<=$V116,OFFSET('CCG-Prov(Births)'!$B$1,MATCH($A116,'CCG-Prov(Births)'!$A$2:$A$6150,0)+VALUE(RIGHT(AL$2,1))-1,0),\"\")","v":""},{"$f":"IF(VALUE(MID(AM$2,5,2))<=$V116,OFFSET('CCG-Prov(Births)'!$B$1,MATCH($A116,'CCG-Prov(Births)'!$A$2:$A$6150,0)+VALUE(RIGHT(AM$2,1))-1,0),\"\")","v":""},null,"RTG",{"$f":"VLOOKUP(AO116,provnames!$A$2:$B$331,2,0)","v":"Derby Hospitals NHS FT"},{"$f":"SUM(IF(('CCG-Prov(Births)'!$B$2:$B$6150=AO116),1,0))","v":48}]
["04J","North Derbyshire",{"$f":"SUM(IF(('CCG-Prov(Acute)'!$A$2:$A$29012=A117),1,0))","v":155},{"$f":"SUM(IF(('CCG-Prov(Acute)'!$A$2:$A$29012=A117)*('CCG-Prov(Acute)'!$C$2:$C$29012>=Acute!$B$7),1,0))","v":11},{"$f":"IF(VALUE(MID(E$2,5,2))<=$D117,OFFSET('CCG-Prov(Acute)'!$B$1,MATCH($A117,'CCG-Prov(Acute)'!$A$2:$A$29012,0)+VALUE(RIGHT(E$2,1))-1,0),\"\")","v":"RFS"},{"$f":"IF(VALUE(MID(F$2,5,2))<=$D117,OFFSET('CCG-Prov(Acute)'!$B$1,MATCH($A117,'CCG-Prov(Acute)'!$A$2:$A$29012,0)+VALUE(RIGHT(F$2,1))-1,0),\"\")","v":"RHQ"},{"$f":"IF(VALUE(MID(G$2,5,2))<=$D117,OFFSET('CCG-Prov(Acute)'!$B$1,MATCH($A117,'CCG-Prov(Acute)'!$A$2:$A$29012,0)+VALUE(RIGHT(G$2,1))-1,0),\"\")","v":"RWJ"},{"$f":"IF(VALUE(MID(H$2,5,2))<=$D117,OFFSET('CCG-Prov(Acute)'!$B$1,MATCH($A117,'CCG-Prov(Acute)'!$A$2:$A$29012,0)+VALUE(RIGHT(H$2,1))-1,0),\"\")","v":"5N6"},{"$f":"IF(VALUE(MID(I$2,5,2))<=$D117,OFFSET('CCG-Prov(Acute)'!$B$1,MATCH($A117,'CCG-Prov(Acute)'!$A$2:$A$29012,0)+VALUE(RIGHT(I$2,1))-1,0),\"\")","v":"RJN"},{"$f":"IF(VALUE(MID(J$2,5,2))<=$D117,OFFSET('CCG-Prov(Acute)'!$B$1,MATCH($A117,'CCG-Prov(Acute)'!$A$2:$A$29012,0)+VALUE(RIGHT(J$2,1))-1,0),\"\")","v":"RCU"},{"$f":"IF(VALUE(MID(K$2,5,2))<=$D117,OFFSET('CCG-Prov(Acute)'!$B$1,MATCH($A117,'CCG-Prov(Acute)'!$A$2:$A$29012,0)+VALUE(RIGHT(K$2,1))-1,0),\"\")","v":"RTG"},{"$f":"IF(VALUE(MID(L$2,5,2))<=$D117,OFFSET('CCG-Prov(Acute)'!$B$1,MATCH($A117,'CCG-Prov(Acute)'!$A$2:$A$29012,0)+VALUE(RIGHT(L$2,1))-1,0),\"\")","v":"NTE"},{"$f":"IF(VALUE(MID(M$2,5,2))<=$D117,OFFSET('CCG-Prov(Acute)'!$B$1,MATCH($A117,'CCG-Prov(Acute)'!$A$2:$A$29012,0)+VALUE(RIGHT(M$2,1))-1,0),\"\")","v":"RW3"},{"$f":"IF(VALUE(MID(N$2,5,2))<=$D117,OFFSET('CCG-Prov(Acute)'!$B$1,MATCH($A117,'CCG-Prov(Acute)'!$A$2:$A$29012,0)+VALUE(RIGHT(N$2,1))-1,0),\"\")","v":"RYR"},null,null,"RC3",{"$f":"VLOOKUP(Q117,provnames!$A$2:$B$331,2,0)","v":"Ealing Hospital NHS Trust"},{"$f":"SUM(IF(('CCG-Prov(Acute)'!$B$2:$B$28899=Q117),1,0))","v":153},null,{"$f":"SUM(IF(('CCG-Prov(Amb)'!$A$2:$A$335=A117),1,0))","v":4},{"$f":"SUM(IF(('CCG-Prov(Amb)'!$A$2:$A$335=A117)*('CCG-Prov(Amb)'!$C$2:$C$335>=Ambulance!$B$7),1,0))","v":4},{"$f":"IF(VALUE(MID(W$2,5,2))<=$V117,OFFSET('CCG-Prov(Amb)'!$B$1,MATCH($A117,'CCG-Prov(Amb)'!$A$2:$A$335,0)+VALUE(RIGHT(W$2,1))-1,0),\"\")","v":"RX9"},{"$f":"IF(VALUE(MID(X$2,5,2))<=$V117,OFFSET('CCG-Prov(Amb)'!$B$1,MATCH($A117,'CCG-Prov(Amb)'!$A$2:$A$335,0)+VALUE(RIGHT(X$2,1))-1,0),\"\")","v":"RYA"},{"$f":"IF(VALUE(MID(Y$2,5,2))<=$V117,OFFSET('CCG-Prov(Amb)'!$B$1,MATCH($A117,'CCG-Prov(Amb)'!$A$2:$A$335,0)+VALUE(RIGHT(Y$2,1))-1,0),\"\")","v":"RX8"},{"$f":"IF(VALUE(MID(Z$2,5,2))<=$V117,OFFSET('CCG-Prov(Amb)'!$B$1,MATCH($A117,'CCG-Prov(Amb)'!$A$2:$A$335,0)+VALUE(RIGHT(Z$2,1))-1,0),\"\")","v":"RX7"},{"$f":"IF(VALUE(MID(AA$2,5,2))<=$V117,OFFSET('CCG-Prov(Amb)'!$B$1,MATCH($A117,'CCG-Prov(Amb)'!$A$2:$A$335,0)+VALUE(RIGHT(AA$2,1))-1,0),\"\")","v":""},null,null,null,null,null,{"$f":"SUM(IF(('CCG-Prov(Births)'!$A$2:$A$6150=A117),1,0))","v":26},{"$f":"SUM(IF(('CCG-Prov(Births)'!$A$2:$A$6150=A117)*('CCG-Prov(Births)'!$C$2:$C$6150>=Maternity!$B$7),1,0))","v":4},{"$f":"IF(VALUE(MID(AI$2,5,2))<=$V117,OFFSET('CCG-Prov(Births)'!$B$1,MATCH($A117,'CCG-Prov(Births)'!$A$2:$A$6150,0)+VALUE(RIGHT(AI$2,1))-1,0),\"\")","v":"RFS"},{"$f":"IF(VALUE(MID(AJ$2,5,2))<=$V117,OFFSET('CCG-Prov(Births)'!$B$1,MATCH($A117,'CCG-Prov(Births)'!$A$2:$A$6150,0)+VALUE(RIGHT(AJ$2,1))-1,0),\"\")","v":"RWJ"},{"$f":"IF(VALUE(MID(AK$2,5,2))<=$V117,OFFSET('CCG-Prov(Births)'!$B$1,MATCH($A117,'CCG-Prov(Births)'!$A$2:$A$6150,0)+VALUE(RIGHT(AK$2,1))-1,0),\"\")","v":"RHQ"},{"$f":"IF(VALUE(MID(AL$2,5,2))<=$V117,OFFSET('CCG-Prov(Births)'!$B$1,MATCH($A117,'CCG-Prov(Births)'!$A$2:$A$6150,0)+VALUE(RIGHT(AL$2,1))-1,0),\"\")","v":"RJN"},{"$f":"IF(VALUE(MID(AM$2,5,2))<=$V117,OFFSET('CCG-Prov(Births)'!$B$1,MATCH($A117,'CCG-Prov(Births)'!$A$2:$A$6150,0)+VALUE(RIGHT(AM$2,1))-1,0),\"\")","v":""},null,"RTH",{"$f":"VLOOKUP(AO117,provnames!$A$2:$B$331,2,0)","v":"Oxford Univ Hospitals NHS Trust"},{"$f":"SUM(IF(('CCG-Prov(Births)'!$B$2:$B$6150=AO117),1,0))","v":85}]
["00J","North Durham",{"$f":"SUM(IF(('CCG-Prov(Acute)'!$A$2:$A$29012=A118),1,0))","v":132},{"$f":"SUM(IF(('CCG-Prov(Acute)'!$A$2:$A$29012=A118)*('CCG-Prov(Acute)'!$C$2:$C$29012>=Acute!$B$7),1,0))","v":5},{"$f":"IF(VALUE(MID(E$2,5,2))<=$D118,OFFSET('CCG-Prov(Acute)'!$B$1,MATCH($A118,'CCG-Prov(Acute)'!$A$2:$A$29012,0)+VALUE(RIGHT(E$2,1))-1,0),\"\")","v":"RXP"},{"$f":"IF(VALUE(MID(F$2,5,2))<=$D118,OFFSET('CCG-Prov(Acute)'!$B$1,MATCH($A118,'CCG-Prov(Acute)'!$A$2:$A$29012,0)+VALUE(RIGHT(F$2,1))-1,0),\"\")","v":"RLN"},{"$f":"IF(VALUE(MID(G$2,5,2))<=$D118,OFFSET('CCG-Prov(Acute)'!$B$1,MATCH($A118,'CCG-Prov(Acute)'!$A$2:$A$29012,0)+VALUE(RIGHT(G$2,1))-1,0),\"\")","v":"RTD"},{"$f":"IF(VALUE(MID(H$2,5,2))<=$D118,OFFSET('CCG-Prov(Acute)'!$B$1,MATCH($A118,'CCG-Prov(Acute)'!$A$2:$A$29012,0)+VALUE(RIGHT(H$2,1))-1,0),\"\")","v":"RR7"},{"$f":"IF(VALUE(MID(I$2,5,2))<=$D118,OFFSET('CCG-Prov(Acute)'!$B$1,MATCH($A118,'CCG-Prov(Acute)'!$A$2:$A$29012,0)+VALUE(RIGHT(I$2,1))-1,0),\"\")","v":"NT3"},{"$f":"IF(VALUE(MID(J$2,5,2))<=$D118,OFFSET('CCG-Prov(Acute)'!$B$1,MATCH($A118,'CCG-Prov(Acute)'!$A$2:$A$29012,0)+VALUE(RIGHT(J$2,1))-1,0),\"\")","v":""},{"$f":"IF(VALUE(MID(K$2,5,2))<=$D118,OFFSET('CCG-Prov(Acute)'!$B$1,MATCH($A118,'CCG-Prov(Acute)'!$A$2:$A$29012,0)+VALUE(RIGHT(K$2,1))-1,0),\"\")","v":""},{"$f":"IF(VALUE(MID(L$2,5,2))<=$D118,OFFSET('CCG-Prov(Acute)'!$B$1,MATCH($A118,'CCG-Prov(Acute)'!$A$2:$A$29012,0)+VALUE(RIGHT(L$2,1))-1,0),\"\")","v":""},{"$f":"IF(VALUE(MID(M$2,5,2))<=$D118,OFFSET('CCG-Prov(Acute)'!$B$1,MATCH($A118,'CCG-Prov(Acute)'!$A$2:$A$29012,0)+VALUE(RIGHT(M$2,1))-1,0),\"\")","v":""},{"$f":"IF(VALUE(MID(N$2,5,2))<=$D118,OFFSET('CCG-Prov(Acute)'!$B$1,MATCH($A118,'CCG-Prov(Acute)'!$A$2:$A$29012,0)+VALUE(RIGHT(N$2,1))-1,0),\"\")","v":""},null,null,"RC9",{"$f":"VLOOKUP(Q118,provnames!$A$2:$B$331,2,0)","v":"Luton & Dunstable Hospital NHS FT"},{"$f":"SUM(IF(('CCG-Prov(Acute)'!$B$2:$B$28899=Q118),1,0))","v":160},null,{"$f":"SUM(IF(('CCG-Prov(Amb)'!$A$2:$A$335=A118),1,0))","v":1},{"$f":"SUM(IF(('CCG-Prov(Amb)'!$A$2:$A$335=A118)*('CCG-Prov(Amb)'!$C$2:$C$335>=Ambulance!$B$7),1,0))","v":1},{"$f":"IF(VALUE(MID(W$2,5,2))<=$V118,OFFSET('CCG-Prov(Amb)'!$B$1,MATCH($A118,'CCG-Prov(Amb)'!$A$2:$A$335,0)+VALUE(RIGHT(W$2,1))-1,0),\"\")","v":"RX6"},{"$f":"IF(VALUE(MID(X$2,5,2))<=$V118,OFFSET('CCG-Prov(Amb)'!$B$1,MATCH($A118,'CCG-Prov(Amb)'!$A$2:$A$335,0)+VALUE(RIGHT(X$2,1))-1,0),\"\")","v":""},{"$f":"IF(VALUE(MID(Y$2,5,2))<=$V118,OFFSET('CCG-Prov(Amb)'!$B$1,MATCH($A118,'CCG-Prov(Amb)'!$A$2:$A$335,0)+VALUE(RIGHT(Y$2,1))-1,0),\"\")","v":""},{"$f":"IF(VALUE(MID(Z$2,5,2))<=$V118,OFFSET('CCG-Prov(Amb)'!$B$1,MATCH($A118,'CCG-Prov(Amb)'!$A$2:$A$335,0)+VALUE(RIGHT(Z$2,1))-1,0),\"\")","v":""},{"$f":"IF(VALUE(MID(AA$2,5,2))<=$V118,OFFSET('CCG-Prov(Amb)'!$B$1,MATCH($A118,'CCG-Prov(Amb)'!$A$2:$A$335,0)+VALUE(RIGHT(AA$2,1))-1,0),\"\")","v":""},null,null,null,null,null,{"$f":"SUM(IF(('CCG-Prov(Births)'!$A$2:$A$6150=A118),1,0))","v":16},{"$f":"SUM(IF(('CCG-Prov(Births)'!$A$2:$A$6150=A118)*('CCG-Prov(Births)'!$C$2:$C$6150>=Maternity!$B$7),1,0))","v":3},{"$f":"IF(VALUE(MID(AI$2,5,2))<=$V118,OFFSET('CCG-Prov(Births)'!$B$1,MATCH($A118,'CCG-Prov(Births)'!$A$2:$A$6150,0)+VALUE(RIGHT(AI$2,1))-1,0),\"\")","v":"RXP"},{"$f":"IF(VALUE(MID(AJ$2,5,2))<=$V118,OFFSET('CCG-Prov(Births)'!$B$1,MATCH($A118,'CCG-Prov(Births)'!$A$2:$A$6150,0)+VALUE(RIGHT(AJ$2,1))-1,0),\"\")","v":""},{"$f":"IF(VALUE(MID(AK$2,5,2))<=$V118,OFFSET('CCG-Prov(Births)'!$B$1,MATCH($A118,'CCG-Prov(Births)'!$A$2:$A$6150,0)+VALUE(RIGHT(AK$2,1))-1,0),\"\")","v":""},{"$f":"IF(VALUE(MID(AL$2,5,2))<=$V118,OFFSET('CCG-Prov(Births)'!$B$1,MATCH($A118,'CCG-Prov(Births)'!$A$2:$A$6150,0)+VALUE(RIGHT(AL$2,1))-1,0),\"\")","v":""},{"$f":"IF(VALUE(MID(AM$2,5,2))<=$V118,OFFSET('CCG-Prov(Births)'!$B$1,MATCH($A118,'CCG-Prov(Births)'!$A$2:$A$6150,0)+VALUE(RIGHT(AM$2,1))-1,0),\"\")","v":""},null,"RTK",{"$f":"VLOOKUP(AO118,provnames!$A$2:$B$331,2,0)","v":"Ashford & St Peter's Hospitals NHS FT"},{"$f":"SUM(IF(('CCG-Prov(Births)'!$B$2:$B$6150=AO118),1,0))","v":55}]
["06T","North East Essex",{"$f":"SUM(IF(('CCG-Prov(Acute)'!$A$2:$A$29012=A119),1,0))","v":150},{"$f":"SUM(IF(('CCG-Prov(Acute)'!$A$2:$A$29012=A119)*('CCG-Prov(Acute)'!$C$2:$C$29012>=Acute!$B$7),1,0))","v":5},{"$f":"IF(VALUE(MID(E$2,5,2))<=$D119,OFFSET('CCG-Prov(Acute)'!$B$1,MATCH($A119,'CCG-Prov(Acute)'!$A$2:$A$29012,0)+VALUE(RIGHT(E$2,1))-1,0),\"\")","v":"RDE"},{"$f":"IF(VALUE(MID(F$2,5,2))<=$D119,OFFSET('CCG-Prov(Acute)'!$B$1,MATCH($A119,'CCG-Prov(Acute)'!$A$2:$A$29012,0)+VALUE(RIGHT(F$2,1))-1,0),\"\")","v":"RQ8"},{"$f":"IF(VALUE(MID(G$2,5,2))<=$D119,OFFSET('CCG-Prov(Acute)'!$B$1,MATCH($A119,'CCG-Prov(Acute)'!$A$2:$A$29012,0)+VALUE(RIGHT(G$2,1))-1,0),\"\")","v":"NVC"},{"$f":"IF(VALUE(MID(H$2,5,2))<=$D119,OFFSET('CCG-Prov(Acute)'!$B$1,MATCH($A119,'CCG-Prov(Acute)'!$A$2:$A$29012,0)+VALUE(RIGHT(H$2,1))-1,0),\"\")","v":"RGQ"},{"$f":"IF(VALUE(MID(I$2,5,2))<=$D119,OFFSET('CCG-Prov(Acute)'!$B$1,MATCH($A119,'CCG-Prov(Acute)'!$A$2:$A$29012,0)+VALUE(RIGHT(I$2,1))-1,0),\"\")","v":"RGT"},{"$f":"IF(VALUE(MID(J$2,5,2))<=$D119,OFFSET('CCG-Prov(Acute)'!$B$1,MATCH($A119,'CCG-Prov(Acute)'!$A$2:$A$29012,0)+VALUE(RIGHT(J$2,1))-1,0),\"\")","v":""},{"$f":"IF(VALUE(MID(K$2,5,2))<=$D119,OFFSET('CCG-Prov(Acute)'!$B$1,MATCH($A119,'CCG-Prov(Acute)'!$A$2:$A$29012,0)+VALUE(RIGHT(K$2,1))-1,0),\"\")","v":""},{"$f":"IF(VALUE(MID(L$2,5,2))<=$D119,OFFSET('CCG-Prov(Acute)'!$B$1,MATCH($A119,'CCG-Prov(Acute)'!$A$2:$A$29012,0)+VALUE(RIGHT(L$2,1))-1,0),\"\")","v":""},{"$f":"IF(VALUE(MID(M$2,5,2))<=$D119,OFFSET('CCG-Prov(Acute)'!$B$1,MATCH($A119,'CCG-Prov(Acute)'!$A$2:$A$29012,0)+VALUE(RIGHT(M$2,1))-1,0),\"\")","v":""},{"$f":"IF(VALUE(MID(N$2,5,2))<=$D119,OFFSET('CCG-Prov(Acute)'!$B$1,MATCH($A119,'CCG-Prov(Acute)'!$A$2:$A$29012,0)+VALUE(RIGHT(N$2,1))-1,0),\"\")","v":""},null,null,"RCB",{"$f":"VLOOKUP(Q119,provnames!$A$2:$B$331,2,0)","v":"York Teaching Hospital NHS FT"},{"$f":"SUM(IF(('CCG-Prov(Acute)'!$B$2:$B$28899=Q119),1,0))","v":172},null,{"$f":"SUM(IF(('CCG-Prov(Amb)'!$A$2:$A$335=A119),1,0))","v":1},{"$f":"SUM(IF(('CCG-Prov(Amb)'!$A$2:$A$335=A119)*('CCG-Prov(Amb)'!$C$2:$C$335>=Ambulance!$B$7),1,0))","v":1},{"$f":"IF(VALUE(MID(W$2,5,2))<=$V119,OFFSET('CCG-Prov(Amb)'!$B$1,MATCH($A119,'CCG-Prov(Amb)'!$A$2:$A$335,0)+VALUE(RIGHT(W$2,1))-1,0),\"\")","v":"RYC"},{"$f":"IF(VALUE(MID(X$2,5,2))<=$V119,OFFSET('CCG-Prov(Amb)'!$B$1,MATCH($A119,'CCG-Prov(Amb)'!$A$2:$A$335,0)+VALUE(RIGHT(X$2,1))-1,0),\"\")","v":""},{"$f":"IF(VALUE(MID(Y$2,5,2))<=$V119,OFFSET('CCG-Prov(Amb)'!$B$1,MATCH($A119,'CCG-Prov(Amb)'!$A$2:$A$335,0)+VALUE(RIGHT(Y$2,1))-1,0),\"\")","v":""},{"$f":"IF(VALUE(MID(Z$2,5,2))<=$V119,OFFSET('CCG-Prov(Amb)'!$B$1,MATCH($A119,'CCG-Prov(Amb)'!$A$2:$A$335,0)+VALUE(RIGHT(Z$2,1))-1,0),\"\")","v":""},{"$f":"IF(VALUE(MID(AA$2,5,2))<=$V119,OFFSET('CCG-Prov(Amb)'!$B$1,MATCH($A119,'CCG-Prov(Amb)'!$A$2:$A$335,0)+VALUE(RIGHT(AA$2,1))-1,0),\"\")","v":""},null,null,null,null,null,{"$f":"SUM(IF(('CCG-Prov(Births)'!$A$2:$A$6150=A119),1,0))","v":35},{"$f":"SUM(IF(('CCG-Prov(Births)'!$A$2:$A$6150=A119)*('CCG-Prov(Births)'!$C$2:$C$6150>=Maternity!$B$7),1,0))","v":1},{"$f":"IF(VALUE(MID(AI$2,5,2))<=$V119,OFFSET('CCG-Prov(Births)'!$B$1,MATCH($A119,'CCG-Prov(Births)'!$A$2:$A$6150,0)+VALUE(RIGHT(AI$2,1))-1,0),\"\")","v":"RDE"},{"$f":"IF(VALUE(MID(AJ$2,5,2))<=$V119,OFFSET('CCG-Prov(Births)'!$B$1,MATCH($A119,'CCG-Prov(Births)'!$A$2:$A$6150,0)+VALUE(RIGHT(AJ$2,1))-1,0),\"\")","v":""},{"$f":"IF(VALUE(MID(AK$2,5,2))<=$V119,OFFSET('CCG-Prov(Births)'!$B$1,MATCH($A119,'CCG-Prov(Births)'!$A$2:$A$6150,0)+VALUE(RIGHT(AK$2,1))-1,0),\"\")","v":""},{"$f":"IF(VALUE(MID(AL$2,5,2))<=$V119,OFFSET('CCG-Prov(Births)'!$B$1,MATCH($A119,'CCG-Prov(Births)'!$A$2:$A$6150,0)+VALUE(RIGHT(AL$2,1))-1,0),\"\")","v":""},{"$f":"IF(VALUE(MID(AM$2,5,2))<=$V119,OFFSET('CCG-Prov(Births)'!$B$1,MATCH($A119,'CCG-Prov(Births)'!$A$2:$A$6150,0)+VALUE(RIGHT(AM$2,1))-1,0),\"\")","v":""},null,"RTP",{"$f":"VLOOKUP(AO119,provnames!$A$2:$B$331,2,0)","v":"Surrey & Sussex Healthcare NHS Trust"},{"$f":"SUM(IF(('CCG-Prov(Births)'!$B$2:$B$6150=AO119),1,0))","v":39}]
["99M","North East Hampshire & Farnham",{"$f":"SUM(IF(('CCG-Prov(Acute)'!$A$2:$A$29012=A120),1,0))","v":134},{"$f":"SUM(IF(('CCG-Prov(Acute)'!$A$2:$A$29012=A120)*('CCG-Prov(Acute)'!$C$2:$C$29012>=Acute!$B$7),1,0))","v":2},{"$f":"IF(VALUE(MID(E$2,5,2))<=$D120,OFFSET('CCG-Prov(Acute)'!$B$1,MATCH($A120,'CCG-Prov(Acute)'!$A$2:$A$29012,0)+VALUE(RIGHT(E$2,1))-1,0),\"\")","v":"RDU"},{"$f":"IF(VALUE(MID(F$2,5,2))<=$D120,OFFSET('CCG-Prov(Acute)'!$B$1,MATCH($A120,'CCG-Prov(Acute)'!$A$2:$A$29012,0)+VALUE(RIGHT(F$2,1))-1,0),\"\")","v":"RA2"},{"$f":"IF(VALUE(MID(G$2,5,2))<=$D120,OFFSET('CCG-Prov(Acute)'!$B$1,MATCH($A120,'CCG-Prov(Acute)'!$A$2:$A$29012,0)+VALUE(RIGHT(G$2,1))-1,0),\"\")","v":""},{"$f":"IF(VALUE(MID(H$2,5,2))<=$D120,OFFSET('CCG-Prov(Acute)'!$B$1,MATCH($A120,'CCG-Prov(Acute)'!$A$2:$A$29012,0)+VALUE(RIGHT(H$2,1))-1,0),\"\")","v":""},{"$f":"IF(VALUE(MID(I$2,5,2))<=$D120,OFFSET('CCG-Prov(Acute)'!$B$1,MATCH($A120,'CCG-Prov(Acute)'!$A$2:$A$29012,0)+VALUE(RIGHT(I$2,1))-1,0),\"\")","v":""},{"$f":"IF(VALUE(MID(J$2,5,2))<=$D120,OFFSET('CCG-Prov(Acute)'!$B$1,MATCH($A120,'CCG-Prov(Acute)'!$A$2:$A$29012,0)+VALUE(RIGHT(J$2,1))-1,0),\"\")","v":""},{"$f":"IF(VALUE(MID(K$2,5,2))<=$D120,OFFSET('CCG-Prov(Acute)'!$B$1,MATCH($A120,'CCG-Prov(Acute)'!$A$2:$A$29012,0)+VALUE(RIGHT(K$2,1))-1,0),\"\")","v":""},{"$f":"IF(VALUE(MID(L$2,5,2))<=$D120,OFFSET('CCG-Prov(Acute)'!$B$1,MATCH($A120,'CCG-Prov(Acute)'!$A$2:$A$29012,0)+VALUE(RIGHT(L$2,1))-1,0),\"\")","v":""},{"$f":"IF(VALUE(MID(M$2,5,2))<=$D120,OFFSET('CCG-Prov(Acute)'!$B$1,MATCH($A120,'CCG-Prov(Acute)'!$A$2:$A$29012,0)+VALUE(RIGHT(M$2,1))-1,0),\"\")","v":""},{"$f":"IF(VALUE(MID(N$2,5,2))<=$D120,OFFSET('CCG-Prov(Acute)'!$B$1,MATCH($A120,'CCG-Prov(Acute)'!$A$2:$A$29012,0)+VALUE(RIGHT(N$2,1))-1,0),\"\")","v":""},null,null,"RCC",{"$f":"VLOOKUP(Q120,provnames!$A$2:$B$331,2,0)","v":"Scarborough & NE Yorkshire Health Care NHS Trust"},{"$f":"SUM(IF(('CCG-Prov(Acute)'!$B$2:$B$28899=Q120),1,0))","v":164},null,{"$f":"SUM(IF(('CCG-Prov(Amb)'!$A$2:$A$335=A120),1,0))","v":2},{"$f":"SUM(IF(('CCG-Prov(Amb)'!$A$2:$A$335=A120)*('CCG-Prov(Amb)'!$C$2:$C$335>=Ambulance!$B$7),1,0))","v":2},{"$f":"IF(VALUE(MID(W$2,5,2))<=$V120,OFFSET('CCG-Prov(Amb)'!$B$1,MATCH($A120,'CCG-Prov(Amb)'!$A$2:$A$335,0)+VALUE(RIGHT(W$2,1))-1,0),\"\")","v":"RYD"},{"$f":"IF(VALUE(MID(X$2,5,2))<=$V120,OFFSET('CCG-Prov(Amb)'!$B$1,MATCH($A120,'CCG-Prov(Amb)'!$A$2:$A$335,0)+VALUE(RIGHT(X$2,1))-1,0),\"\")","v":"RYE"},{"$f":"IF(VALUE(MID(Y$2,5,2))<=$V120,OFFSET('CCG-Prov(Amb)'!$B$1,MATCH($A120,'CCG-Prov(Amb)'!$A$2:$A$335,0)+VALUE(RIGHT(Y$2,1))-1,0),\"\")","v":""},{"$f":"IF(VALUE(MID(Z$2,5,2))<=$V120,OFFSET('CCG-Prov(Amb)'!$B$1,MATCH($A120,'CCG-Prov(Amb)'!$A$2:$A$335,0)+VALUE(RIGHT(Z$2,1))-1,0),\"\")","v":""},{"$f":"IF(VALUE(MID(AA$2,5,2))<=$V120,OFFSET('CCG-Prov(Amb)'!$B$1,MATCH($A120,'CCG-Prov(Amb)'!$A$2:$A$335,0)+VALUE(RIGHT(AA$2,1))-1,0),\"\")","v":""},null,null,null,null,null,{"$f":"SUM(IF(('CCG-Prov(Births)'!$A$2:$A$6150=A120),1,0))","v":24},{"$f":"SUM(IF(('CCG-Prov(Births)'!$A$2:$A$6150=A120)*('CCG-Prov(Births)'!$C$2:$C$6150>=Maternity!$B$7),1,0))","v":2},{"$f":"IF(VALUE(MID(AI$2,5,2))<=$V120,OFFSET('CCG-Prov(Births)'!$B$1,MATCH($A120,'CCG-Prov(Births)'!$A$2:$A$6150,0)+VALUE(RIGHT(AI$2,1))-1,0),\"\")","v":"RDU"},{"$f":"IF(VALUE(MID(AJ$2,5,2))<=$V120,OFFSET('CCG-Prov(Births)'!$B$1,MATCH($A120,'CCG-Prov(Births)'!$A$2:$A$6150,0)+VALUE(RIGHT(AJ$2,1))-1,0),\"\")","v":"RA2"},{"$f":"IF(VALUE(MID(AK$2,5,2))<=$V120,OFFSET('CCG-Prov(Births)'!$B$1,MATCH($A120,'CCG-Prov(Births)'!$A$2:$A$6150,0)+VALUE(RIGHT(AK$2,1))-1,0),\"\")","v":""},{"$f":"IF(VALUE(MID(AL$2,5,2))<=$V120,OFFSET('CCG-Prov(Births)'!$B$1,MATCH($A120,'CCG-Prov(Births)'!$A$2:$A$6150,0)+VALUE(RIGHT(AL$2,1))-1,0),\"\")","v":""},{"$f":"IF(VALUE(MID(AM$2,5,2))<=$V120,OFFSET('CCG-Prov(Births)'!$B$1,MATCH($A120,'CCG-Prov(Births)'!$A$2:$A$6150,0)+VALUE(RIGHT(AM$2,1))-1,0),\"\")","v":""},null,"RTR",{"$f":"VLOOKUP(AO120,provnames!$A$2:$B$331,2,0)","v":"South Tees Hospitals NHS FT"},{"$f":"SUM(IF(('CCG-Prov(Births)'!$B$2:$B$6150=AO120),1,0))","v":45}]
["03H","North East Lincolnshire",{"$f":"SUM(IF(('CCG-Prov(Acute)'!$A$2:$A$29012=A121),1,0))","v":116},{"$f":"SUM(IF(('CCG-Prov(Acute)'!$A$2:$A$29012=A121)*('CCG-Prov(Acute)'!$C$2:$C$29012>=Acute!$B$7),1,0))","v":2},{"$f":"IF(VALUE(MID(E$2,5,2))<=$D121,OFFSET('CCG-Prov(Acute)'!$B$1,MATCH($A121,'CCG-Prov(Acute)'!$A$2:$A$29012,0)+VALUE(RIGHT(E$2,1))-1,0),\"\")","v":"RJL"},{"$f":"IF(VALUE(MID(F$2,5,2))<=$D121,OFFSET('CCG-Prov(Acute)'!$B$1,MATCH($A121,'CCG-Prov(Acute)'!$A$2:$A$29012,0)+VALUE(RIGHT(F$2,1))-1,0),\"\")","v":"RWA"},{"$f":"IF(VALUE(MID(G$2,5,2))<=$D121,OFFSET('CCG-Prov(Acute)'!$B$1,MATCH($A121,'CCG-Prov(Acute)'!$A$2:$A$29012,0)+VALUE(RIGHT(G$2,1))-1,0),\"\")","v":""},{"$f":"IF(VALUE(MID(H$2,5,2))<=$D121,OFFSET('CCG-Prov(Acute)'!$B$1,MATCH($A121,'CCG-Prov(Acute)'!$A$2:$A$29012,0)+VALUE(RIGHT(H$2,1))-1,0),\"\")","v":""},{"$f":"IF(VALUE(MID(I$2,5,2))<=$D121,OFFSET('CCG-Prov(Acute)'!$B$1,MATCH($A121,'CCG-Prov(Acute)'!$A$2:$A$29012,0)+VALUE(RIGHT(I$2,1))-1,0),\"\")","v":""},{"$f":"IF(VALUE(MID(J$2,5,2))<=$D121,OFFSET('CCG-Prov(Acute)'!$B$1,MATCH($A121,'CCG-Prov(Acute)'!$A$2:$A$29012,0)+VALUE(RIGHT(J$2,1))-1,0),\"\")","v":""},{"$f":"IF(VALUE(MID(K$2,5,2))<=$D121,OFFSET('CCG-Prov(Acute)'!$B$1,MATCH($A121,'CCG-Prov(Acute)'!$A$2:$A$29012,0)+VALUE(RIGHT(K$2,1))-1,0),\"\")","v":""},{"$f":"IF(VALUE(MID(L$2,5,2))<=$D121,OFFSET('CCG-Prov(Acute)'!$B$1,MATCH($A121,'CCG-Prov(Acute)'!$A$2:$A$29012,0)+VALUE(RIGHT(L$2,1))-1,0),\"\")","v":""},{"$f":"IF(VALUE(MID(M$2,5,2))<=$D121,OFFSET('CCG-Prov(Acute)'!$B$1,MATCH($A121,'CCG-Prov(Acute)'!$A$2:$A$29012,0)+VALUE(RIGHT(M$2,1))-1,0),\"\")","v":""},{"$f":"IF(VALUE(MID(N$2,5,2))<=$D121,OFFSET('CCG-Prov(Acute)'!$B$1,MATCH($A121,'CCG-Prov(Acute)'!$A$2:$A$29012,0)+VALUE(RIGHT(N$2,1))-1,0),\"\")","v":""},null,null,"RCD",{"$f":"VLOOKUP(Q121,provnames!$A$2:$B$331,2,0)","v":"Harrogate & District NHS FT"},{"$f":"SUM(IF(('CCG-Prov(Acute)'!$B$2:$B$28899=Q121),1,0))","v":149},null,{"$f":"SUM(IF(('CCG-Prov(Amb)'!$A$2:$A$335=A121),1,0))","v":1},{"$f":"SUM(IF(('CCG-Prov(Amb)'!$A$2:$A$335=A121)*('CCG-Prov(Amb)'!$C$2:$C$335>=Ambulance!$B$7),1,0))","v":1},{"$f":"IF(VALUE(MID(W$2,5,2))<=$V121,OFFSET('CCG-Prov(Amb)'!$B$1,MATCH($A121,'CCG-Prov(Amb)'!$A$2:$A$335,0)+VALUE(RIGHT(W$2,1))-1,0),\"\")","v":"RX9"},{"$f":"IF(VALUE(MID(X$2,5,2))<=$V121,OFFSET('CCG-Prov(Amb)'!$B$1,MATCH($A121,'CCG-Prov(Amb)'!$A$2:$A$335,0)+VALUE(RIGHT(X$2,1))-1,0),\"\")","v":""},{"$f":"IF(VALUE(MID(Y$2,5,2))<=$V121,OFFSET('CCG-Prov(Amb)'!$B$1,MATCH($A121,'CCG-Prov(Amb)'!$A$2:$A$335,0)+VALUE(RIGHT(Y$2,1))-1,0),\"\")","v":""},{"$f":"IF(VALUE(MID(Z$2,5,2))<=$V121,OFFSET('CCG-Prov(Amb)'!$B$1,MATCH($A121,'CCG-Prov(Amb)'!$A$2:$A$335,0)+VALUE(RIGHT(Z$2,1))-1,0),\"\")","v":""},{"$f":"IF(VALUE(MID(AA$2,5,2))<=$V121,OFFSET('CCG-Prov(Amb)'!$B$1,MATCH($A121,'CCG-Prov(Amb)'!$A$2:$A$335,0)+VALUE(RIGHT(AA$2,1))-1,0),\"\")","v":""},null,null,null,null,null,{"$f":"SUM(IF(('CCG-Prov(Births)'!$A$2:$A$6150=A121),1,0))","v":16},{"$f":"SUM(IF(('CCG-Prov(Births)'!$A$2:$A$6150=A121)*('CCG-Prov(Births)'!$C$2:$C$6150>=Maternity!$B$7),1,0))","v":1},{"$f":"IF(VALUE(MID(AI$2,5,2))<=$V121,OFFSET('CCG-Prov(Births)'!$B$1,MATCH($A121,'CCG-Prov(Births)'!$A$2:$A$6150,0)+VALUE(RIGHT(AI$2,1))-1,0),\"\")","v":"RJL"},{"$f":"IF(VALUE(MID(AJ$2,5,2))<=$V121,OFFSET('CCG-Prov(Births)'!$B$1,MATCH($A121,'CCG-Prov(Births)'!$A$2:$A$6150,0)+VALUE(RIGHT(AJ$2,1))-1,0),\"\")","v":""},{"$f":"IF(VALUE(MID(AK$2,5,2))<=$V121,OFFSET('CCG-Prov(Births)'!$B$1,MATCH($A121,'CCG-Prov(Births)'!$A$2:$A$6150,0)+VALUE(RIGHT(AK$2,1))-1,0),\"\")","v":""},{"$f":"IF(VALUE(MID(AL$2,5,2))<=$V121,OFFSET('CCG-Prov(Births)'!$B$1,MATCH($A121,'CCG-Prov(Births)'!$A$2:$A$6150,0)+VALUE(RIGHT(AL$2,1))-1,0),\"\")","v":""},{"$f":"IF(VALUE(MID(AM$2,5,2))<=$V121,OFFSET('CCG-Prov(Births)'!$B$1,MATCH($A121,'CCG-Prov(Births)'!$A$2:$A$6150,0)+VALUE(RIGHT(AM$2,1))-1,0),\"\")","v":""},null,"RTX",{"$f":"VLOOKUP(AO121,provnames!$A$2:$B$331,2,0)","v":"University Hospitals of Morecambe Bay NHS FT"},{"$f":"SUM(IF(('CCG-Prov(Births)'!$B$2:$B$6150=AO121),1,0))","v":32}]
["10J","North Hampshire",{"$f":"SUM(IF(('CCG-Prov(Acute)'!$A$2:$A$29012=A122),1,0))","v":138},{"$f":"SUM(IF(('CCG-Prov(Acute)'!$A$2:$A$29012=A122)*('CCG-Prov(Acute)'!$C$2:$C$29012>=Acute!$B$7),1,0))","v":4},{"$f":"IF(VALUE(MID(E$2,5,2))<=$D122,OFFSET('CCG-Prov(Acute)'!$B$1,MATCH($A122,'CCG-Prov(Acute)'!$A$2:$A$29012,0)+VALUE(RIGHT(E$2,1))-1,0),\"\")","v":"RN5"},{"$f":"IF(VALUE(MID(F$2,5,2))<=$D122,OFFSET('CCG-Prov(Acute)'!$B$1,MATCH($A122,'CCG-Prov(Acute)'!$A$2:$A$29012,0)+VALUE(RIGHT(F$2,1))-1,0),\"\")","v":"RDU"},{"$f":"IF(VALUE(MID(G$2,5,2))<=$D122,OFFSET('CCG-Prov(Acute)'!$B$1,MATCH($A122,'CCG-Prov(Acute)'!$A$2:$A$29012,0)+VALUE(RIGHT(G$2,1))-1,0),\"\")","v":"RHM"},{"$f":"IF(VALUE(MID(H$2,5,2))<=$D122,OFFSET('CCG-Prov(Acute)'!$B$1,MATCH($A122,'CCG-Prov(Acute)'!$A$2:$A$29012,0)+VALUE(RIGHT(H$2,1))-1,0),\"\")","v":"RA2"},{"$f":"IF(VALUE(MID(I$2,5,2))<=$D122,OFFSET('CCG-Prov(Acute)'!$B$1,MATCH($A122,'CCG-Prov(Acute)'!$A$2:$A$29012,0)+VALUE(RIGHT(I$2,1))-1,0),\"\")","v":""},{"$f":"IF(VALUE(MID(J$2,5,2))<=$D122,OFFSET('CCG-Prov(Acute)'!$B$1,MATCH($A122,'CCG-Prov(Acute)'!$A$2:$A$29012,0)+VALUE(RIGHT(J$2,1))-1,0),\"\")","v":""},{"$f":"IF(VALUE(MID(K$2,5,2))<=$D122,OFFSET('CCG-Prov(Acute)'!$B$1,MATCH($A122,'CCG-Prov(Acute)'!$A$2:$A$29012,0)+VALUE(RIGHT(K$2,1))-1,0),\"\")","v":""},{"$f":"IF(VALUE(MID(L$2,5,2))<=$D122,OFFSET('CCG-Prov(Acute)'!$B$1,MATCH($A122,'CCG-Prov(Acute)'!$A$2:$A$29012,0)+VALUE(RIGHT(L$2,1))-1,0),\"\")","v":""},{"$f":"IF(VALUE(MID(M$2,5,2))<=$D122,OFFSET('CCG-Prov(Acute)'!$B$1,MATCH($A122,'CCG-Prov(Acute)'!$A$2:$A$29012,0)+VALUE(RIGHT(M$2,1))-1,0),\"\")","v":""},{"$f":"IF(VALUE(MID(N$2,5,2))<=$D122,OFFSET('CCG-Prov(Acute)'!$B$1,MATCH($A122,'CCG-Prov(Acute)'!$A$2:$A$29012,0)+VALUE(RIGHT(N$2,1))-1,0),\"\")","v":""},null,null,"RCF",{"$f":"VLOOKUP(Q122,provnames!$A$2:$B$331,2,0)","v":"Airedale NHS FT"},{"$f":"SUM(IF(('CCG-Prov(Acute)'!$B$2:$B$28899=Q122),1,0))","v":122},null,{"$f":"SUM(IF(('CCG-Prov(Amb)'!$A$2:$A$335=A122),1,0))","v":2},{"$f":"SUM(IF(('CCG-Prov(Amb)'!$A$2:$A$335=A122)*('CCG-Prov(Amb)'!$C$2:$C$335>=Ambulance!$B$7),1,0))","v":2},{"$f":"IF(VALUE(MID(W$2,5,2))<=$V122,OFFSET('CCG-Prov(Amb)'!$B$1,MATCH($A122,'CCG-Prov(Amb)'!$A$2:$A$335,0)+VALUE(RIGHT(W$2,1))-1,0),\"\")","v":"RYE"},{"$f":"IF(VALUE(MID(X$2,5,2))<=$V122,OFFSET('CCG-Prov(Amb)'!$B$1,MATCH($A122,'CCG-Prov(Amb)'!$A$2:$A$335,0)+VALUE(RIGHT(X$2,1))-1,0),\"\")","v":"RYD"},{"$f":"IF(VALUE(MID(Y$2,5,2))<=$V122,OFFSET('CCG-Prov(Amb)'!$B$1,MATCH($A122,'CCG-Prov(Amb)'!$A$2:$A$335,0)+VALUE(RIGHT(Y$2,1))-1,0),\"\")","v":""},{"$f":"IF(VALUE(MID(Z$2,5,2))<=$V122,OFFSET('CCG-Prov(Amb)'!$B$1,MATCH($A122,'CCG-Prov(Amb)'!$A$2:$A$335,0)+VALUE(RIGHT(Z$2,1))-1,0),\"\")","v":""},{"$f":"IF(VALUE(MID(AA$2,5,2))<=$V122,OFFSET('CCG-Prov(Amb)'!$B$1,MATCH($A122,'CCG-Prov(Amb)'!$A$2:$A$335,0)+VALUE(RIGHT(AA$2,1))-1,0),\"\")","v":""},null,null,null,null,null,{"$f":"SUM(IF(('CCG-Prov(Births)'!$A$2:$A$6150=A122),1,0))","v":27},{"$f":"SUM(IF(('CCG-Prov(Births)'!$A$2:$A$6150=A122)*('CCG-Prov(Births)'!$C$2:$C$6150>=Maternity!$B$7),1,0))","v":3},{"$f":"IF(VALUE(MID(AI$2,5,2))<=$V122,OFFSET('CCG-Prov(Births)'!$B$1,MATCH($A122,'CCG-Prov(Births)'!$A$2:$A$6150,0)+VALUE(RIGHT(AI$2,1))-1,0),\"\")","v":"RN5"},{"$f":"IF(VALUE(MID(AJ$2,5,2))<=$V122,OFFSET('CCG-Prov(Births)'!$B$1,MATCH($A122,'CCG-Prov(Births)'!$A$2:$A$6150,0)+VALUE(RIGHT(AJ$2,1))-1,0),\"\")","v":"RDU"},{"$f":"IF(VALUE(MID(AK$2,5,2))<=$V122,OFFSET('CCG-Prov(Births)'!$B$1,MATCH($A122,'CCG-Prov(Births)'!$A$2:$A$6150,0)+VALUE(RIGHT(AK$2,1))-1,0),\"\")","v":""},{"$f":"IF(VALUE(MID(AL$2,5,2))<=$V122,OFFSET('CCG-Prov(Births)'!$B$1,MATCH($A122,'CCG-Prov(Births)'!$A$2:$A$6150,0)+VALUE(RIGHT(AL$2,1))-1,0),\"\")","v":""},{"$f":"IF(VALUE(MID(AM$2,5,2))<=$V122,OFFSET('CCG-Prov(Births)'!$B$1,MATCH($A122,'CCG-Prov(Births)'!$A$2:$A$6150,0)+VALUE(RIGHT(AM$2,1))-1,0),\"\")","v":""},null,"RV8",{"$f":"VLOOKUP(AO122,provnames!$A$2:$B$331,2,0)","v":"North West London Hospitals NHS Trust"},{"$f":"SUM(IF(('CCG-Prov(Births)'!$B$2:$B$6150=AO122),1,0))","v":63}]
["03J","North Kirklees",{"$f":"SUM(IF(('CCG-Prov(Acute)'!$A$2:$A$29012=A123),1,0))","v":112},{"$f":"SUM(IF(('CCG-Prov(Acute)'!$A$2:$A$29012=A123)*('CCG-Prov(Acute)'!$C$2:$C$29012>=Acute!$B$7),1,0))","v":4},{"$f":"IF(VALUE(MID(E$2,5,2))<=$D123,OFFSET('CCG-Prov(Acute)'!$B$1,MATCH($A123,'CCG-Prov(Acute)'!$A$2:$A$29012,0)+VALUE(RIGHT(E$2,1))-1,0),\"\")","v":"RXF"},{"$f":"IF(VALUE(MID(F$2,5,2))<=$D123,OFFSET('CCG-Prov(Acute)'!$B$1,MATCH($A123,'CCG-Prov(Acute)'!$A$2:$A$29012,0)+VALUE(RIGHT(F$2,1))-1,0),\"\")","v":"RR8"},{"$f":"IF(VALUE(MID(G$2,5,2))<=$D123,OFFSET('CCG-Prov(Acute)'!$B$1,MATCH($A123,'CCG-Prov(Acute)'!$A$2:$A$29012,0)+VALUE(RIGHT(G$2,1))-1,0),\"\")","v":"RWY"},{"$f":"IF(VALUE(MID(H$2,5,2))<=$D123,OFFSET('CCG-Prov(Acute)'!$B$1,MATCH($A123,'CCG-Prov(Acute)'!$A$2:$A$29012,0)+VALUE(RIGHT(H$2,1))-1,0),\"\")","v":"RAE"},{"$f":"IF(VALUE(MID(I$2,5,2))<=$D123,OFFSET('CCG-Prov(Acute)'!$B$1,MATCH($A123,'CCG-Prov(Acute)'!$A$2:$A$29012,0)+VALUE(RIGHT(I$2,1))-1,0),\"\")","v":""},{"$f":"IF(VALUE(MID(J$2,5,2))<=$D123,OFFSET('CCG-Prov(Acute)'!$B$1,MATCH($A123,'CCG-Prov(Acute)'!$A$2:$A$29012,0)+VALUE(RIGHT(J$2,1))-1,0),\"\")","v":""},{"$f":"IF(VALUE(MID(K$2,5,2))<=$D123,OFFSET('CCG-Prov(Acute)'!$B$1,MATCH($A123,'CCG-Prov(Acute)'!$A$2:$A$29012,0)+VALUE(RIGHT(K$2,1))-1,0),\"\")","v":""},{"$f":"IF(VALUE(MID(L$2,5,2))<=$D123,OFFSET('CCG-Prov(Acute)'!$B$1,MATCH($A123,'CCG-Prov(Acute)'!$A$2:$A$29012,0)+VALUE(RIGHT(L$2,1))-1,0),\"\")","v":""},{"$f":"IF(VALUE(MID(M$2,5,2))<=$D123,OFFSET('CCG-Prov(Acute)'!$B$1,MATCH($A123,'CCG-Prov(Acute)'!$A$2:$A$29012,0)+VALUE(RIGHT(M$2,1))-1,0),\"\")","v":""},{"$f":"IF(VALUE(MID(N$2,5,2))<=$D123,OFFSET('CCG-Prov(Acute)'!$B$1,MATCH($A123,'CCG-Prov(Acute)'!$A$2:$A$29012,0)+VALUE(RIGHT(N$2,1))-1,0),\"\")","v":""},null,null,"RCU",{"$f":"VLOOKUP(Q123,provnames!$A$2:$B$331,2,0)","v":"Sheffield Children's NHS FT"},{"$f":"SUM(IF(('CCG-Prov(Acute)'!$B$2:$B$28899=Q123),1,0))","v":134},null,{"$f":"SUM(IF(('CCG-Prov(Amb)'!$A$2:$A$335=A123),1,0))","v":1},{"$f":"SUM(IF(('CCG-Prov(Amb)'!$A$2:$A$335=A123)*('CCG-Prov(Amb)'!$C$2:$C$335>=Ambulance!$B$7),1,0))","v":1},{"$f":"IF(VALUE(MID(W$2,5,2))<=$V123,OFFSET('CCG-Prov(Amb)'!$B$1,MATCH($A123,'CCG-Prov(Amb)'!$A$2:$A$335,0)+VALUE(RIGHT(W$2,1))-1,0),\"\")","v":"RX8"},{"$f":"IF(VALUE(MID(X$2,5,2))<=$V123,OFFSET('CCG-Prov(Amb)'!$B$1,MATCH($A123,'CCG-Prov(Amb)'!$A$2:$A$335,0)+VALUE(RIGHT(X$2,1))-1,0),\"\")","v":""},{"$f":"IF(VALUE(MID(Y$2,5,2))<=$V123,OFFSET('CCG-Prov(Amb)'!$B$1,MATCH($A123,'CCG-Prov(Amb)'!$A$2:$A$335,0)+VALUE(RIGHT(Y$2,1))-1,0),\"\")","v":""},{"$f":"IF(VALUE(MID(Z$2,5,2))<=$V123,OFFSET('CCG-Prov(Amb)'!$B$1,MATCH($A123,'CCG-Prov(Amb)'!$A$2:$A$335,0)+VALUE(RIGHT(Z$2,1))-1,0),\"\")","v":""},{"$f":"IF(VALUE(MID(AA$2,5,2))<=$V123,OFFSET('CCG-Prov(Amb)'!$B$1,MATCH($A123,'CCG-Prov(Amb)'!$A$2:$A$335,0)+VALUE(RIGHT(AA$2,1))-1,0),\"\")","v":""},null,null,null,null,null,{"$f":"SUM(IF(('CCG-Prov(Births)'!$A$2:$A$6150=A123),1,0))","v":34},{"$f":"SUM(IF(('CCG-Prov(Births)'!$A$2:$A$6150=A123)*('CCG-Prov(Births)'!$C$2:$C$6150>=Maternity!$B$7),1,0))","v":3},{"$f":"IF(VALUE(MID(AI$2,5,2))<=$V123,OFFSET('CCG-Prov(Births)'!$B$1,MATCH($A123,'CCG-Prov(Births)'!$A$2:$A$6150,0)+VALUE(RIGHT(AI$2,1))-1,0),\"\")","v":"RXF"},{"$f":"IF(VALUE(MID(AJ$2,5,2))<=$V123,OFFSET('CCG-Prov(Births)'!$B$1,MATCH($A123,'CCG-Prov(Births)'!$A$2:$A$6150,0)+VALUE(RIGHT(AJ$2,1))-1,0),\"\")","v":""},{"$f":"IF(VALUE(MID(AK$2,5,2))<=$V123,OFFSET('CCG-Prov(Births)'!$B$1,MATCH($A123,'CCG-Prov(Births)'!$A$2:$A$6150,0)+VALUE(RIGHT(AK$2,1))-1,0),\"\")","v":""},{"$f":"IF(VALUE(MID(AL$2,5,2))<=$V123,OFFSET('CCG-Prov(Births)'!$B$1,MATCH($A123,'CCG-Prov(Births)'!$A$2:$A$6150,0)+VALUE(RIGHT(AL$2,1))-1,0),\"\")","v":""},{"$f":"IF(VALUE(MID(AM$2,5,2))<=$V123,OFFSET('CCG-Prov(Births)'!$B$1,MATCH($A123,'CCG-Prov(Births)'!$A$2:$A$6150,0)+VALUE(RIGHT(AM$2,1))-1,0),\"\")","v":""},null,"RVJ",{"$f":"VLOOKUP(AO123,provnames!$A$2:$B$331,2,0)","v":"North Bristol NHS Trust"},{"$f":"SUM(IF(('CCG-Prov(Births)'!$B$2:$B$6150=AO123),1,0))","v":33}]
["03K","North Lincolnshire",{"$f":"SUM(IF(('CCG-Prov(Acute)'!$A$2:$A$29012=A124),1,0))","v":128},{"$f":"SUM(IF(('CCG-Prov(Acute)'!$A$2:$A$29012=A124)*('CCG-Prov(Acute)'!$C$2:$C$29012>=Acute!$B$7),1,0))","v":4},{"$f":"IF(VALUE(MID(E$2,5,2))<=$D124,OFFSET('CCG-Prov(Acute)'!$B$1,MATCH($A124,'CCG-Prov(Acute)'!$A$2:$A$29012,0)+VALUE(RIGHT(E$2,1))-1,0),\"\")","v":"RJL"},{"$f":"IF(VALUE(MID(F$2,5,2))<=$D124,OFFSET('CCG-Prov(Acute)'!$B$1,MATCH($A124,'CCG-Prov(Acute)'!$A$2:$A$29012,0)+VALUE(RIGHT(F$2,1))-1,0),\"\")","v":"RWA"},{"$f":"IF(VALUE(MID(G$2,5,2))<=$D124,OFFSET('CCG-Prov(Acute)'!$B$1,MATCH($A124,'CCG-Prov(Acute)'!$A$2:$A$29012,0)+VALUE(RIGHT(G$2,1))-1,0),\"\")","v":"RP5"},{"$f":"IF(VALUE(MID(H$2,5,2))<=$D124,OFFSET('CCG-Prov(Acute)'!$B$1,MATCH($A124,'CCG-Prov(Acute)'!$A$2:$A$29012,0)+VALUE(RIGHT(H$2,1))-1,0),\"\")","v":"RHQ"},{"$f":"IF(VALUE(MID(I$2,5,2))<=$D124,OFFSET('CCG-Prov(Acute)'!$B$1,MATCH($A124,'CCG-Prov(Acute)'!$A$2:$A$29012,0)+VALUE(RIGHT(I$2,1))-1,0),\"\")","v":""},{"$f":"IF(VALUE(MID(J$2,5,2))<=$D124,OFFSET('CCG-Prov(Acute)'!$B$1,MATCH($A124,'CCG-Prov(Acute)'!$A$2:$A$29012,0)+VALUE(RIGHT(J$2,1))-1,0),\"\")","v":""},{"$f":"IF(VALUE(MID(K$2,5,2))<=$D124,OFFSET('CCG-Prov(Acute)'!$B$1,MATCH($A124,'CCG-Prov(Acute)'!$A$2:$A$29012,0)+VALUE(RIGHT(K$2,1))-1,0),\"\")","v":""},{"$f":"IF(VALUE(MID(L$2,5,2))<=$D124,OFFSET('CCG-Prov(Acute)'!$B$1,MATCH($A124,'CCG-Prov(Acute)'!$A$2:$A$29012,0)+VALUE(RIGHT(L$2,1))-1,0),\"\")","v":""},{"$f":"IF(VALUE(MID(M$2,5,2))<=$D124,OFFSET('CCG-Prov(Acute)'!$B$1,MATCH($A124,'CCG-Prov(Acute)'!$A$2:$A$29012,0)+VALUE(RIGHT(M$2,1))-1,0),\"\")","v":""},{"$f":"IF(VALUE(MID(N$2,5,2))<=$D124,OFFSET('CCG-Prov(Acute)'!$B$1,MATCH($A124,'CCG-Prov(Acute)'!$A$2:$A$29012,0)+VALUE(RIGHT(N$2,1))-1,0),\"\")","v":""},null,null,"RCX",{"$f":"VLOOKUP(Q124,provnames!$A$2:$B$331,2,0)","v":"The Queen Elizabeth Hospital, King's Lynn. NHS FT"},{"$f":"SUM(IF(('CCG-Prov(Acute)'!$B$2:$B$28899=Q124),1,0))","v":172},null,{"$f":"SUM(IF(('CCG-Prov(Amb)'!$A$2:$A$335=A124),1,0))","v":2},{"$f":"SUM(IF(('CCG-Prov(Amb)'!$A$2:$A$335=A124)*('CCG-Prov(Amb)'!$C$2:$C$335>=Ambulance!$B$7),1,0))","v":1},{"$f":"IF(VALUE(MID(W$2,5,2))<=$V124,OFFSET('CCG-Prov(Amb)'!$B$1,MATCH($A124,'CCG-Prov(Amb)'!$A$2:$A$335,0)+VALUE(RIGHT(W$2,1))-1,0),\"\")","v":"RX9"},{"$f":"IF(VALUE(MID(X$2,5,2))<=$V124,OFFSET('CCG-Prov(Amb)'!$B$1,MATCH($A124,'CCG-Prov(Amb)'!$A$2:$A$335,0)+VALUE(RIGHT(X$2,1))-1,0),\"\")","v":""},{"$f":"IF(VALUE(MID(Y$2,5,2))<=$V124,OFFSET('CCG-Prov(Amb)'!$B$1,MATCH($A124,'CCG-Prov(Amb)'!$A$2:$A$335,0)+VALUE(RIGHT(Y$2,1))-1,0),\"\")","v":""},{"$f":"IF(VALUE(MID(Z$2,5,2))<=$V124,OFFSET('CCG-Prov(Amb)'!$B$1,MATCH($A124,'CCG-Prov(Amb)'!$A$2:$A$335,0)+VALUE(RIGHT(Z$2,1))-1,0),\"\")","v":""},{"$f":"IF(VALUE(MID(AA$2,5,2))<=$V124,OFFSET('CCG-Prov(Amb)'!$B$1,MATCH($A124,'CCG-Prov(Amb)'!$A$2:$A$335,0)+VALUE(RIGHT(AA$2,1))-1,0),\"\")","v":""},null,null,null,null,null,{"$f":"SUM(IF(('CCG-Prov(Births)'!$A$2:$A$6150=A124),1,0))","v":17},{"$f":"SUM(IF(('CCG-Prov(Births)'!$A$2:$A$6150=A124)*('CCG-Prov(Births)'!$C$2:$C$6150>=Maternity!$B$7),1,0))","v":2},{"$f":"IF(VALUE(MID(AI$2,5,2))<=$V124,OFFSET('CCG-Prov(Births)'!$B$1,MATCH($A124,'CCG-Prov(Births)'!$A$2:$A$6150,0)+VALUE(RIGHT(AI$2,1))-1,0),\"\")","v":"RJL"},{"$f":"IF(VALUE(MID(AJ$2,5,2))<=$V124,OFFSET('CCG-Prov(Births)'!$B$1,MATCH($A124,'CCG-Prov(Births)'!$A$2:$A$6150,0)+VALUE(RIGHT(AJ$2,1))-1,0),\"\")","v":""},{"$f":"IF(VALUE(MID(AK$2,5,2))<=$V124,OFFSET('CCG-Prov(Births)'!$B$1,MATCH($A124,'CCG-Prov(Births)'!$A$2:$A$6150,0)+VALUE(RIGHT(AK$2,1))-1,0),\"\")","v":""},{"$f":"IF(VALUE(MID(AL$2,5,2))<=$V124,OFFSET('CCG-Prov(Births)'!$B$1,MATCH($A124,'CCG-Prov(Births)'!$A$2:$A$6150,0)+VALUE(RIGHT(AL$2,1))-1,0),\"\")","v":""},{"$f":"IF(VALUE(MID(AM$2,5,2))<=$V124,OFFSET('CCG-Prov(Births)'!$B$1,MATCH($A124,'CCG-Prov(Births)'!$A$2:$A$6150,0)+VALUE(RIGHT(AM$2,1))-1,0),\"\")","v":""},null,"RVL",{"$f":"VLOOKUP(AO124,provnames!$A$2:$B$331,2,0)","v":"Barnet & Chase Farm Hospitals NHS Trust"},{"$f":"SUM(IF(('CCG-Prov(Births)'!$B$2:$B$6150=AO124),1,0))","v":62}]
["01M","North Manchester",{"$f":"SUM(IF(('CCG-Prov(Acute)'!$A$2:$A$29012=A125),1,0))","v":124},{"$f":"SUM(IF(('CCG-Prov(Acute)'!$A$2:$A$29012=A125)*('CCG-Prov(Acute)'!$C$2:$C$29012>=Acute!$B$7),1,0))","v":6},{"$f":"IF(VALUE(MID(E$2,5,2))<=$D125,OFFSET('CCG-Prov(Acute)'!$B$1,MATCH($A125,'CCG-Prov(Acute)'!$A$2:$A$29012,0)+VALUE(RIGHT(E$2,1))-1,0),\"\")","v":"RW6"},{"$f":"IF(VALUE(MID(F$2,5,2))<=$D125,OFFSET('CCG-Prov(Acute)'!$B$1,MATCH($A125,'CCG-Prov(Acute)'!$A$2:$A$29012,0)+VALUE(RIGHT(F$2,1))-1,0),\"\")","v":"RW3"},{"$f":"IF(VALUE(MID(G$2,5,2))<=$D125,OFFSET('CCG-Prov(Acute)'!$B$1,MATCH($A125,'CCG-Prov(Acute)'!$A$2:$A$29012,0)+VALUE(RIGHT(G$2,1))-1,0),\"\")","v":"RMP"},{"$f":"IF(VALUE(MID(H$2,5,2))<=$D125,OFFSET('CCG-Prov(Acute)'!$B$1,MATCH($A125,'CCG-Prov(Acute)'!$A$2:$A$29012,0)+VALUE(RIGHT(H$2,1))-1,0),\"\")","v":"RM3"},{"$f":"IF(VALUE(MID(I$2,5,2))<=$D125,OFFSET('CCG-Prov(Acute)'!$B$1,MATCH($A125,'CCG-Prov(Acute)'!$A$2:$A$29012,0)+VALUE(RIGHT(I$2,1))-1,0),\"\")","v":"RM2"},{"$f":"IF(VALUE(MID(J$2,5,2))<=$D125,OFFSET('CCG-Prov(Acute)'!$B$1,MATCH($A125,'CCG-Prov(Acute)'!$A$2:$A$29012,0)+VALUE(RIGHT(J$2,1))-1,0),\"\")","v":"RBV"},{"$f":"IF(VALUE(MID(K$2,5,2))<=$D125,OFFSET('CCG-Prov(Acute)'!$B$1,MATCH($A125,'CCG-Prov(Acute)'!$A$2:$A$29012,0)+VALUE(RIGHT(K$2,1))-1,0),\"\")","v":""},{"$f":"IF(VALUE(MID(L$2,5,2))<=$D125,OFFSET('CCG-Prov(Acute)'!$B$1,MATCH($A125,'CCG-Prov(Acute)'!$A$2:$A$29012,0)+VALUE(RIGHT(L$2,1))-1,0),\"\")","v":""},{"$f":"IF(VALUE(MID(M$2,5,2))<=$D125,OFFSET('CCG-Prov(Acute)'!$B$1,MATCH($A125,'CCG-Prov(Acute)'!$A$2:$A$29012,0)+VALUE(RIGHT(M$2,1))-1,0),\"\")","v":""},{"$f":"IF(VALUE(MID(N$2,5,2))<=$D125,OFFSET('CCG-Prov(Acute)'!$B$1,MATCH($A125,'CCG-Prov(Acute)'!$A$2:$A$29012,0)+VALUE(RIGHT(N$2,1))-1,0),\"\")","v":""},null,null,"RD1",{"$f":"VLOOKUP(Q125,provnames!$A$2:$B$331,2,0)","v":"Royal United Hospital Bath NHS Trust"},{"$f":"SUM(IF(('CCG-Prov(Acute)'!$B$2:$B$28899=Q125),1,0))","v":157},null,{"$f":"SUM(IF(('CCG-Prov(Amb)'!$A$2:$A$335=A125),1,0))","v":1},{"$f":"SUM(IF(('CCG-Prov(Amb)'!$A$2:$A$335=A125)*('CCG-Prov(Amb)'!$C$2:$C$335>=Ambulance!$B$7),1,0))","v":1},{"$f":"IF(VALUE(MID(W$2,5,2))<=$V125,OFFSET('CCG-Prov(Amb)'!$B$1,MATCH($A125,'CCG-Prov(Amb)'!$A$2:$A$335,0)+VALUE(RIGHT(W$2,1))-1,0),\"\")","v":"RX7"},{"$f":"IF(VALUE(MID(X$2,5,2))<=$V125,OFFSET('CCG-Prov(Amb)'!$B$1,MATCH($A125,'CCG-Prov(Amb)'!$A$2:$A$335,0)+VALUE(RIGHT(X$2,1))-1,0),\"\")","v":""},{"$f":"IF(VALUE(MID(Y$2,5,2))<=$V125,OFFSET('CCG-Prov(Amb)'!$B$1,MATCH($A125,'CCG-Prov(Amb)'!$A$2:$A$335,0)+VALUE(RIGHT(Y$2,1))-1,0),\"\")","v":""},{"$f":"IF(VALUE(MID(Z$2,5,2))<=$V125,OFFSET('CCG-Prov(Amb)'!$B$1,MATCH($A125,'CCG-Prov(Amb)'!$A$2:$A$335,0)+VALUE(RIGHT(Z$2,1))-1,0),\"\")","v":""},{"$f":"IF(VALUE(MID(AA$2,5,2))<=$V125,OFFSET('CCG-Prov(Amb)'!$B$1,MATCH($A125,'CCG-Prov(Amb)'!$A$2:$A$335,0)+VALUE(RIGHT(AA$2,1))-1,0),\"\")","v":""},null,null,null,null,null,{"$f":"SUM(IF(('CCG-Prov(Births)'!$A$2:$A$6150=A125),1,0))","v":30},{"$f":"SUM(IF(('CCG-Prov(Births)'!$A$2:$A$6150=A125)*('CCG-Prov(Births)'!$C$2:$C$6150>=Maternity!$B$7),1,0))","v":4},{"$f":"IF(VALUE(MID(AI$2,5,2))<=$V125,OFFSET('CCG-Prov(Births)'!$B$1,MATCH($A125,'CCG-Prov(Births)'!$A$2:$A$6150,0)+VALUE(RIGHT(AI$2,1))-1,0),\"\")","v":"RW6"},{"$f":"IF(VALUE(MID(AJ$2,5,2))<=$V125,OFFSET('CCG-Prov(Births)'!$B$1,MATCH($A125,'CCG-Prov(Births)'!$A$2:$A$6150,0)+VALUE(RIGHT(AJ$2,1))-1,0),\"\")","v":""},{"$f":"IF(VALUE(MID(AK$2,5,2))<=$V125,OFFSET('CCG-Prov(Births)'!$B$1,MATCH($A125,'CCG-Prov(Births)'!$A$2:$A$6150,0)+VALUE(RIGHT(AK$2,1))-1,0),\"\")","v":""},{"$f":"IF(VALUE(MID(AL$2,5,2))<=$V125,OFFSET('CCG-Prov(Births)'!$B$1,MATCH($A125,'CCG-Prov(Births)'!$A$2:$A$6150,0)+VALUE(RIGHT(AL$2,1))-1,0),\"\")","v":""},{"$f":"IF(VALUE(MID(AM$2,5,2))<=$V125,OFFSET('CCG-Prov(Births)'!$B$1,MATCH($A125,'CCG-Prov(Births)'!$A$2:$A$6150,0)+VALUE(RIGHT(AM$2,1))-1,0),\"\")","v":""},null,"RVR",{"$f":"VLOOKUP(AO125,provnames!$A$2:$B$331,2,0)","v":"Epsom & St Helier Univ Hospitals NHS Trust"},{"$f":"SUM(IF(('CCG-Prov(Births)'!$B$2:$B$6150=AO125),1,0))","v":50}]
["06V","North Norfolk",{"$f":"SUM(IF(('CCG-Prov(Acute)'!$A$2:$A$29012=A126),1,0))","v":127},{"$f":"SUM(IF(('CCG-Prov(Acute)'!$A$2:$A$29012=A126)*('CCG-Prov(Acute)'!$C$2:$C$29012>=Acute!$B$7),1,0))","v":5},{"$f":"IF(VALUE(MID(E$2,5,2))<=$D126,OFFSET('CCG-Prov(Acute)'!$B$1,MATCH($A126,'CCG-Prov(Acute)'!$A$2:$A$29012,0)+VALUE(RIGHT(E$2,1))-1,0),\"\")","v":"RM1"},{"$f":"IF(VALUE(MID(F$2,5,2))<=$D126,OFFSET('CCG-Prov(Acute)'!$B$1,MATCH($A126,'CCG-Prov(Acute)'!$A$2:$A$29012,0)+VALUE(RIGHT(F$2,1))-1,0),\"\")","v":"RCX"},{"$f":"IF(VALUE(MID(G$2,5,2))<=$D126,OFFSET('CCG-Prov(Acute)'!$B$1,MATCH($A126,'CCG-Prov(Acute)'!$A$2:$A$29012,0)+VALUE(RIGHT(G$2,1))-1,0),\"\")","v":"RGP"},{"$f":"IF(VALUE(MID(H$2,5,2))<=$D126,OFFSET('CCG-Prov(Acute)'!$B$1,MATCH($A126,'CCG-Prov(Acute)'!$A$2:$A$29012,0)+VALUE(RIGHT(H$2,1))-1,0),\"\")","v":"5PQ"},{"$f":"IF(VALUE(MID(I$2,5,2))<=$D126,OFFSET('CCG-Prov(Acute)'!$B$1,MATCH($A126,'CCG-Prov(Acute)'!$A$2:$A$29012,0)+VALUE(RIGHT(I$2,1))-1,0),\"\")","v":"RY3"},{"$f":"IF(VALUE(MID(J$2,5,2))<=$D126,OFFSET('CCG-Prov(Acute)'!$B$1,MATCH($A126,'CCG-Prov(Acute)'!$A$2:$A$29012,0)+VALUE(RIGHT(J$2,1))-1,0),\"\")","v":""},{"$f":"IF(VALUE(MID(K$2,5,2))<=$D126,OFFSET('CCG-Prov(Acute)'!$B$1,MATCH($A126,'CCG-Prov(Acute)'!$A$2:$A$29012,0)+VALUE(RIGHT(K$2,1))-1,0),\"\")","v":""},{"$f":"IF(VALUE(MID(L$2,5,2))<=$D126,OFFSET('CCG-Prov(Acute)'!$B$1,MATCH($A126,'CCG-Prov(Acute)'!$A$2:$A$29012,0)+VALUE(RIGHT(L$2,1))-1,0),\"\")","v":""},{"$f":"IF(VALUE(MID(M$2,5,2))<=$D126,OFFSET('CCG-Prov(Acute)'!$B$1,MATCH($A126,'CCG-Prov(Acute)'!$A$2:$A$29012,0)+VALUE(RIGHT(M$2,1))-1,0),\"\")","v":""},{"$f":"IF(VALUE(MID(N$2,5,2))<=$D126,OFFSET('CCG-Prov(Acute)'!$B$1,MATCH($A126,'CCG-Prov(Acute)'!$A$2:$A$29012,0)+VALUE(RIGHT(N$2,1))-1,0),\"\")","v":""},null,null,"RD3",{"$f":"VLOOKUP(Q126,provnames!$A$2:$B$331,2,0)","v":"Poole Hospital NHS FT"},{"$f":"SUM(IF(('CCG-Prov(Acute)'!$B$2:$B$28899=Q126),1,0))","v":172},null,{"$f":"SUM(IF(('CCG-Prov(Amb)'!$A$2:$A$335=A126),1,0))","v":1},{"$f":"SUM(IF(('CCG-Prov(Amb)'!$A$2:$A$335=A126)*('CCG-Prov(Amb)'!$C$2:$C$335>=Ambulance!$B$7),1,0))","v":1},{"$f":"IF(VALUE(MID(W$2,5,2))<=$V126,OFFSET('CCG-Prov(Amb)'!$B$1,MATCH($A126,'CCG-Prov(Amb)'!$A$2:$A$335,0)+VALUE(RIGHT(W$2,1))-1,0),\"\")","v":"RYC"},{"$f":"IF(VALUE(MID(X$2,5,2))<=$V126,OFFSET('CCG-Prov(Amb)'!$B$1,MATCH($A126,'CCG-Prov(Amb)'!$A$2:$A$335,0)+VALUE(RIGHT(X$2,1))-1,0),\"\")","v":""},{"$f":"IF(VALUE(MID(Y$2,5,2))<=$V126,OFFSET('CCG-Prov(Amb)'!$B$1,MATCH($A126,'CCG-Prov(Amb)'!$A$2:$A$335,0)+VALUE(RIGHT(Y$2,1))-1,0),\"\")","v":""},{"$f":"IF(VALUE(MID(Z$2,5,2))<=$V126,OFFSET('CCG-Prov(Amb)'!$B$1,MATCH($A126,'CCG-Prov(Amb)'!$A$2:$A$335,0)+VALUE(RIGHT(Z$2,1))-1,0),\"\")","v":""},{"$f":"IF(VALUE(MID(AA$2,5,2))<=$V126,OFFSET('CCG-Prov(Amb)'!$B$1,MATCH($A126,'CCG-Prov(Amb)'!$A$2:$A$335,0)+VALUE(RIGHT(AA$2,1))-1,0),\"\")","v":""},null,null,null,null,null,{"$f":"SUM(IF(('CCG-Prov(Births)'!$A$2:$A$6150=A126),1,0))","v":15},{"$f":"SUM(IF(('CCG-Prov(Births)'!$A$2:$A$6150=A126)*('CCG-Prov(Births)'!$C$2:$C$6150>=Maternity!$B$7),1,0))","v":2},{"$f":"IF(VALUE(MID(AI$2,5,2))<=$V126,OFFSET('CCG-Prov(Births)'!$B$1,MATCH($A126,'CCG-Prov(Births)'!$A$2:$A$6150,0)+VALUE(RIGHT(AI$2,1))-1,0),\"\")","v":"RM1"},{"$f":"IF(VALUE(MID(AJ$2,5,2))<=$V126,OFFSET('CCG-Prov(Births)'!$B$1,MATCH($A126,'CCG-Prov(Births)'!$A$2:$A$6150,0)+VALUE(RIGHT(AJ$2,1))-1,0),\"\")","v":""},{"$f":"IF(VALUE(MID(AK$2,5,2))<=$V126,OFFSET('CCG-Prov(Births)'!$B$1,MATCH($A126,'CCG-Prov(Births)'!$A$2:$A$6150,0)+VALUE(RIGHT(AK$2,1))-1,0),\"\")","v":""},{"$f":"IF(VALUE(MID(AL$2,5,2))<=$V126,OFFSET('CCG-Prov(Births)'!$B$1,MATCH($A126,'CCG-Prov(Births)'!$A$2:$A$6150,0)+VALUE(RIGHT(AL$2,1))-1,0),\"\")","v":""},{"$f":"IF(VALUE(MID(AM$2,5,2))<=$V126,OFFSET('CCG-Prov(Births)'!$B$1,MATCH($A126,'CCG-Prov(Births)'!$A$2:$A$6150,0)+VALUE(RIGHT(AM$2,1))-1,0),\"\")","v":""},null,"RVV",{"$f":"VLOOKUP(AO126,provnames!$A$2:$B$331,2,0)","v":"East Kent Hospitals Univ NHS FT"},{"$f":"SUM(IF(('CCG-Prov(Births)'!$B$2:$B$6150=AO126),1,0))","v":57}]
["11T","North Somerset",{"$f":"SUM(IF(('CCG-Prov(Acute)'!$A$2:$A$29012=A127),1,0))","v":129},{"$f":"SUM(IF(('CCG-Prov(Acute)'!$A$2:$A$29012=A127)*('CCG-Prov(Acute)'!$C$2:$C$29012>=Acute!$B$7),1,0))","v":5},{"$f":"IF(VALUE(MID(E$2,5,2))<=$D127,OFFSET('CCG-Prov(Acute)'!$B$1,MATCH($A127,'CCG-Prov(Acute)'!$A$2:$A$29012,0)+VALUE(RIGHT(E$2,1))-1,0),\"\")","v":"RA3"},{"$f":"IF(VALUE(MID(F$2,5,2))<=$D127,OFFSET('CCG-Prov(Acute)'!$B$1,MATCH($A127,'CCG-Prov(Acute)'!$A$2:$A$29012,0)+VALUE(RIGHT(F$2,1))-1,0),\"\")","v":"RA7"},{"$f":"IF(VALUE(MID(G$2,5,2))<=$D127,OFFSET('CCG-Prov(Acute)'!$B$1,MATCH($A127,'CCG-Prov(Acute)'!$A$2:$A$29012,0)+VALUE(RIGHT(G$2,1))-1,0),\"\")","v":"RVJ"},{"$f":"IF(VALUE(MID(H$2,5,2))<=$D127,OFFSET('CCG-Prov(Acute)'!$B$1,MATCH($A127,'CCG-Prov(Acute)'!$A$2:$A$29012,0)+VALUE(RIGHT(H$2,1))-1,0),\"\")","v":"NTC"},{"$f":"IF(VALUE(MID(I$2,5,2))<=$D127,OFFSET('CCG-Prov(Acute)'!$B$1,MATCH($A127,'CCG-Prov(Acute)'!$A$2:$A$29012,0)+VALUE(RIGHT(I$2,1))-1,0),\"\")","v":"5M8"},{"$f":"IF(VALUE(MID(J$2,5,2))<=$D127,OFFSET('CCG-Prov(Acute)'!$B$1,MATCH($A127,'CCG-Prov(Acute)'!$A$2:$A$29012,0)+VALUE(RIGHT(J$2,1))-1,0),\"\")","v":""},{"$f":"IF(VALUE(MID(K$2,5,2))<=$D127,OFFSET('CCG-Prov(Acute)'!$B$1,MATCH($A127,'CCG-Prov(Acute)'!$A$2:$A$29012,0)+VALUE(RIGHT(K$2,1))-1,0),\"\")","v":""},{"$f":"IF(VALUE(MID(L$2,5,2))<=$D127,OFFSET('CCG-Prov(Acute)'!$B$1,MATCH($A127,'CCG-Prov(Acute)'!$A$2:$A$29012,0)+VALUE(RIGHT(L$2,1))-1,0),\"\")","v":""},{"$f":"IF(VALUE(MID(M$2,5,2))<=$D127,OFFSET('CCG-Prov(Acute)'!$B$1,MATCH($A127,'CCG-Prov(Acute)'!$A$2:$A$29012,0)+VALUE(RIGHT(M$2,1))-1,0),\"\")","v":""},{"$f":"IF(VALUE(MID(N$2,5,2))<=$D127,OFFSET('CCG-Prov(Acute)'!$B$1,MATCH($A127,'CCG-Prov(Acute)'!$A$2:$A$29012,0)+VALUE(RIGHT(N$2,1))-1,0),\"\")","v":""},null,null,"RD7",{"$f":"VLOOKUP(Q127,provnames!$A$2:$B$331,2,0)","v":"Heatherwood & Wexham Park Hospitals NHS FT"},{"$f":"SUM(IF(('CCG-Prov(Acute)'!$B$2:$B$28899=Q127),1,0))","v":172},null,{"$f":"SUM(IF(('CCG-Prov(Amb)'!$A$2:$A$335=A127),1,0))","v":2},{"$f":"SUM(IF(('CCG-Prov(Amb)'!$A$2:$A$335=A127)*('CCG-Prov(Amb)'!$C$2:$C$335>=Ambulance!$B$7),1,0))","v":2},{"$f":"IF(VALUE(MID(W$2,5,2))<=$V127,OFFSET('CCG-Prov(Amb)'!$B$1,MATCH($A127,'CCG-Prov(Amb)'!$A$2:$A$335,0)+VALUE(RIGHT(W$2,1))-1,0),\"\")","v":"RX5"},{"$f":"IF(VALUE(MID(X$2,5,2))<=$V127,OFFSET('CCG-Prov(Amb)'!$B$1,MATCH($A127,'CCG-Prov(Amb)'!$A$2:$A$335,0)+VALUE(RIGHT(X$2,1))-1,0),\"\")","v":"RYF"},{"$f":"IF(VALUE(MID(Y$2,5,2))<=$V127,OFFSET('CCG-Prov(Amb)'!$B$1,MATCH($A127,'CCG-Prov(Amb)'!$A$2:$A$335,0)+VALUE(RIGHT(Y$2,1))-1,0),\"\")","v":""},{"$f":"IF(VALUE(MID(Z$2,5,2))<=$V127,OFFSET('CCG-Prov(Amb)'!$B$1,MATCH($A127,'CCG-Prov(Amb)'!$A$2:$A$335,0)+VALUE(RIGHT(Z$2,1))-1,0),\"\")","v":""},{"$f":"IF(VALUE(MID(AA$2,5,2))<=$V127,OFFSET('CCG-Prov(Amb)'!$B$1,MATCH($A127,'CCG-Prov(Amb)'!$A$2:$A$335,0)+VALUE(RIGHT(AA$2,1))-1,0),\"\")","v":""},null,null,null,null,null,{"$f":"SUM(IF(('CCG-Prov(Births)'!$A$2:$A$6150=A127),1,0))","v":19},{"$f":"SUM(IF(('CCG-Prov(Births)'!$A$2:$A$6150=A127)*('CCG-Prov(Births)'!$C$2:$C$6150>=Maternity!$B$7),1,0))","v":3},{"$f":"IF(VALUE(MID(AI$2,5,2))<=$V127,OFFSET('CCG-Prov(Births)'!$B$1,MATCH($A127,'CCG-Prov(Births)'!$A$2:$A$6150,0)+VALUE(RIGHT(AI$2,1))-1,0),\"\")","v":"RA3"},{"$f":"IF(VALUE(MID(AJ$2,5,2))<=$V127,OFFSET('CCG-Prov(Births)'!$B$1,MATCH($A127,'CCG-Prov(Births)'!$A$2:$A$6150,0)+VALUE(RIGHT(AJ$2,1))-1,0),\"\")","v":"RA7"},{"$f":"IF(VALUE(MID(AK$2,5,2))<=$V127,OFFSET('CCG-Prov(Births)'!$B$1,MATCH($A127,'CCG-Prov(Births)'!$A$2:$A$6150,0)+VALUE(RIGHT(AK$2,1))-1,0),\"\")","v":""},{"$f":"IF(VALUE(MID(AL$2,5,2))<=$V127,OFFSET('CCG-Prov(Births)'!$B$1,MATCH($A127,'CCG-Prov(Births)'!$A$2:$A$6150,0)+VALUE(RIGHT(AL$2,1))-1,0),\"\")","v":""},{"$f":"IF(VALUE(MID(AM$2,5,2))<=$V127,OFFSET('CCG-Prov(Births)'!$B$1,MATCH($A127,'CCG-Prov(Births)'!$A$2:$A$6150,0)+VALUE(RIGHT(AM$2,1))-1,0),\"\")","v":""},null,"RVW",{"$f":"VLOOKUP(AO127,provnames!$A$2:$B$331,2,0)","v":"North Tees & Hartlepool NHS FT"},{"$f":"SUM(IF(('CCG-Prov(Births)'!$B$2:$B$6150=AO127),1,0))","v":31}]
["05G","North Staffordshire",{"$f":"SUM(IF(('CCG-Prov(Acute)'!$A$2:$A$29012=A128),1,0))","v":148},{"$f":"SUM(IF(('CCG-Prov(Acute)'!$A$2:$A$29012=A128)*('CCG-Prov(Acute)'!$C$2:$C$29012>=Acute!$B$7),1,0))","v":5},{"$f":"IF(VALUE(MID(E$2,5,2))<=$D128,OFFSET('CCG-Prov(Acute)'!$B$1,MATCH($A128,'CCG-Prov(Acute)'!$A$2:$A$29012,0)+VALUE(RIGHT(E$2,1))-1,0),\"\")","v":"RJE"},{"$f":"IF(VALUE(MID(F$2,5,2))<=$D128,OFFSET('CCG-Prov(Acute)'!$B$1,MATCH($A128,'CCG-Prov(Acute)'!$A$2:$A$29012,0)+VALUE(RIGHT(F$2,1))-1,0),\"\")","v":"RJN"},{"$f":"IF(VALUE(MID(G$2,5,2))<=$D128,OFFSET('CCG-Prov(Acute)'!$B$1,MATCH($A128,'CCG-Prov(Acute)'!$A$2:$A$29012,0)+VALUE(RIGHT(G$2,1))-1,0),\"\")","v":"5PJ"},{"$f":"IF(VALUE(MID(H$2,5,2))<=$D128,OFFSET('CCG-Prov(Acute)'!$B$1,MATCH($A128,'CCG-Prov(Acute)'!$A$2:$A$29012,0)+VALUE(RIGHT(H$2,1))-1,0),\"\")","v":"5PH"},{"$f":"IF(VALUE(MID(I$2,5,2))<=$D128,OFFSET('CCG-Prov(Acute)'!$B$1,MATCH($A128,'CCG-Prov(Acute)'!$A$2:$A$29012,0)+VALUE(RIGHT(I$2,1))-1,0),\"\")","v":"RBT"},{"$f":"IF(VALUE(MID(J$2,5,2))<=$D128,OFFSET('CCG-Prov(Acute)'!$B$1,MATCH($A128,'CCG-Prov(Acute)'!$A$2:$A$29012,0)+VALUE(RIGHT(J$2,1))-1,0),\"\")","v":""},{"$f":"IF(VALUE(MID(K$2,5,2))<=$D128,OFFSET('CCG-Prov(Acute)'!$B$1,MATCH($A128,'CCG-Prov(Acute)'!$A$2:$A$29012,0)+VALUE(RIGHT(K$2,1))-1,0),\"\")","v":""},{"$f":"IF(VALUE(MID(L$2,5,2))<=$D128,OFFSET('CCG-Prov(Acute)'!$B$1,MATCH($A128,'CCG-Prov(Acute)'!$A$2:$A$29012,0)+VALUE(RIGHT(L$2,1))-1,0),\"\")","v":""},{"$f":"IF(VALUE(MID(M$2,5,2))<=$D128,OFFSET('CCG-Prov(Acute)'!$B$1,MATCH($A128,'CCG-Prov(Acute)'!$A$2:$A$29012,0)+VALUE(RIGHT(M$2,1))-1,0),\"\")","v":""},{"$f":"IF(VALUE(MID(N$2,5,2))<=$D128,OFFSET('CCG-Prov(Acute)'!$B$1,MATCH($A128,'CCG-Prov(Acute)'!$A$2:$A$29012,0)+VALUE(RIGHT(N$2,1))-1,0),\"\")","v":""},null,null,"RD8",{"$f":"VLOOKUP(Q128,provnames!$A$2:$B$331,2,0)","v":"Milton Keynes Hospital NHS FT"},{"$f":"SUM(IF(('CCG-Prov(Acute)'!$B$2:$B$28899=Q128),1,0))","v":167},null,{"$f":"SUM(IF(('CCG-Prov(Amb)'!$A$2:$A$335=A128),1,0))","v":3},{"$f":"SUM(IF(('CCG-Prov(Amb)'!$A$2:$A$335=A128)*('CCG-Prov(Amb)'!$C$2:$C$335>=Ambulance!$B$7),1,0))","v":2},{"$f":"IF(VALUE(MID(W$2,5,2))<=$V128,OFFSET('CCG-Prov(Amb)'!$B$1,MATCH($A128,'CCG-Prov(Amb)'!$A$2:$A$335,0)+VALUE(RIGHT(W$2,1))-1,0),\"\")","v":"RYA"},{"$f":"IF(VALUE(MID(X$2,5,2))<=$V128,OFFSET('CCG-Prov(Amb)'!$B$1,MATCH($A128,'CCG-Prov(Amb)'!$A$2:$A$335,0)+VALUE(RIGHT(X$2,1))-1,0),\"\")","v":"RX7"},{"$f":"IF(VALUE(MID(Y$2,5,2))<=$V128,OFFSET('CCG-Prov(Amb)'!$B$1,MATCH($A128,'CCG-Prov(Amb)'!$A$2:$A$335,0)+VALUE(RIGHT(Y$2,1))-1,0),\"\")","v":""},{"$f":"IF(VALUE(MID(Z$2,5,2))<=$V128,OFFSET('CCG-Prov(Amb)'!$B$1,MATCH($A128,'CCG-Prov(Amb)'!$A$2:$A$335,0)+VALUE(RIGHT(Z$2,1))-1,0),\"\")","v":""},{"$f":"IF(VALUE(MID(AA$2,5,2))<=$V128,OFFSET('CCG-Prov(Amb)'!$B$1,MATCH($A128,'CCG-Prov(Amb)'!$A$2:$A$335,0)+VALUE(RIGHT(AA$2,1))-1,0),\"\")","v":""},null,null,null,null,null,{"$f":"SUM(IF(('CCG-Prov(Births)'!$A$2:$A$6150=A128),1,0))","v":20},{"$f":"SUM(IF(('CCG-Prov(Births)'!$A$2:$A$6150=A128)*('CCG-Prov(Births)'!$C$2:$C$6150>=Maternity!$B$7),1,0))","v":2},{"$f":"IF(VALUE(MID(AI$2,5,2))<=$V128,OFFSET('CCG-Prov(Births)'!$B$1,MATCH($A128,'CCG-Prov(Births)'!$A$2:$A$6150,0)+VALUE(RIGHT(AI$2,1))-1,0),\"\")","v":"RJE"},{"$f":"IF(VALUE(MID(AJ$2,5,2))<=$V128,OFFSET('CCG-Prov(Births)'!$B$1,MATCH($A128,'CCG-Prov(Births)'!$A$2:$A$6150,0)+VALUE(RIGHT(AJ$2,1))-1,0),\"\")","v":"RJN"},{"$f":"IF(VALUE(MID(AK$2,5,2))<=$V128,OFFSET('CCG-Prov(Births)'!$B$1,MATCH($A128,'CCG-Prov(Births)'!$A$2:$A$6150,0)+VALUE(RIGHT(AK$2,1))-1,0),\"\")","v":""},{"$f":"IF(VALUE(MID(AL$2,5,2))<=$V128,OFFSET('CCG-Prov(Births)'!$B$1,MATCH($A128,'CCG-Prov(Births)'!$A$2:$A$6150,0)+VALUE(RIGHT(AL$2,1))-1,0),\"\")","v":""},{"$f":"IF(VALUE(MID(AM$2,5,2))<=$V128,OFFSET('CCG-Prov(Births)'!$B$1,MATCH($A128,'CCG-Prov(Births)'!$A$2:$A$6150,0)+VALUE(RIGHT(AM$2,1))-1,0),\"\")","v":""},null,"RVY",{"$f":"VLOOKUP(AO128,provnames!$A$2:$B$331,2,0)","v":"Southport & Ormskirk Hospital NHS Trust"},{"$f":"SUM(IF(('CCG-Prov(Births)'!$B$2:$B$6150=AO128),1,0))","v":16}]
["99C","North Tyneside",{"$f":"SUM(IF(('CCG-Prov(Acute)'!$A$2:$A$29012=A129),1,0))","v":111},{"$f":"SUM(IF(('CCG-Prov(Acute)'!$A$2:$A$29012=A129)*('CCG-Prov(Acute)'!$C$2:$C$29012>=Acute!$B$7),1,0))","v":3},{"$f":"IF(VALUE(MID(E$2,5,2))<=$D129,OFFSET('CCG-Prov(Acute)'!$B$1,MATCH($A129,'CCG-Prov(Acute)'!$A$2:$A$29012,0)+VALUE(RIGHT(E$2,1))-1,0),\"\")","v":"RTF"},{"$f":"IF(VALUE(MID(F$2,5,2))<=$D129,OFFSET('CCG-Prov(Acute)'!$B$1,MATCH($A129,'CCG-Prov(Acute)'!$A$2:$A$29012,0)+VALUE(RIGHT(F$2,1))-1,0),\"\")","v":"RTD"},{"$f":"IF(VALUE(MID(G$2,5,2))<=$D129,OFFSET('CCG-Prov(Acute)'!$B$1,MATCH($A129,'CCG-Prov(Acute)'!$A$2:$A$29012,0)+VALUE(RIGHT(G$2,1))-1,0),\"\")","v":"NVC"},{"$f":"IF(VALUE(MID(H$2,5,2))<=$D129,OFFSET('CCG-Prov(Acute)'!$B$1,MATCH($A129,'CCG-Prov(Acute)'!$A$2:$A$29012,0)+VALUE(RIGHT(H$2,1))-1,0),\"\")","v":""},{"$f":"IF(VALUE(MID(I$2,5,2))<=$D129,OFFSET('CCG-Prov(Acute)'!$B$1,MATCH($A129,'CCG-Prov(Acute)'!$A$2:$A$29012,0)+VALUE(RIGHT(I$2,1))-1,0),\"\")","v":""},{"$f":"IF(VALUE(MID(J$2,5,2))<=$D129,OFFSET('CCG-Prov(Acute)'!$B$1,MATCH($A129,'CCG-Prov(Acute)'!$A$2:$A$29012,0)+VALUE(RIGHT(J$2,1))-1,0),\"\")","v":""},{"$f":"IF(VALUE(MID(K$2,5,2))<=$D129,OFFSET('CCG-Prov(Acute)'!$B$1,MATCH($A129,'CCG-Prov(Acute)'!$A$2:$A$29012,0)+VALUE(RIGHT(K$2,1))-1,0),\"\")","v":""},{"$f":"IF(VALUE(MID(L$2,5,2))<=$D129,OFFSET('CCG-Prov(Acute)'!$B$1,MATCH($A129,'CCG-Prov(Acute)'!$A$2:$A$29012,0)+VALUE(RIGHT(L$2,1))-1,0),\"\")","v":""},{"$f":"IF(VALUE(MID(M$2,5,2))<=$D129,OFFSET('CCG-Prov(Acute)'!$B$1,MATCH($A129,'CCG-Prov(Acute)'!$A$2:$A$29012,0)+VALUE(RIGHT(M$2,1))-1,0),\"\")","v":""},{"$f":"IF(VALUE(MID(N$2,5,2))<=$D129,OFFSET('CCG-Prov(Acute)'!$B$1,MATCH($A129,'CCG-Prov(Acute)'!$A$2:$A$29012,0)+VALUE(RIGHT(N$2,1))-1,0),\"\")","v":""},null,null,"RDD",{"$f":"VLOOKUP(Q129,provnames!$A$2:$B$331,2,0)","v":"Basildon & Thurrock Univ Hospitals NHS FT"},{"$f":"SUM(IF(('CCG-Prov(Acute)'!$B$2:$B$28899=Q129),1,0))","v":138},null,{"$f":"SUM(IF(('CCG-Prov(Amb)'!$A$2:$A$335=A129),1,0))","v":1},{"$f":"SUM(IF(('CCG-Prov(Amb)'!$A$2:$A$335=A129)*('CCG-Prov(Amb)'!$C$2:$C$335>=Ambulance!$B$7),1,0))","v":1},{"$f":"IF(VALUE(MID(W$2,5,2))<=$V129,OFFSET('CCG-Prov(Amb)'!$B$1,MATCH($A129,'CCG-Prov(Amb)'!$A$2:$A$335,0)+VALUE(RIGHT(W$2,1))-1,0),\"\")","v":"RX6"},{"$f":"IF(VALUE(MID(X$2,5,2))<=$V129,OFFSET('CCG-Prov(Amb)'!$B$1,MATCH($A129,'CCG-Prov(Amb)'!$A$2:$A$335,0)+VALUE(RIGHT(X$2,1))-1,0),\"\")","v":""},{"$f":"IF(VALUE(MID(Y$2,5,2))<=$V129,OFFSET('CCG-Prov(Amb)'!$B$1,MATCH($A129,'CCG-Prov(Amb)'!$A$2:$A$335,0)+VALUE(RIGHT(Y$2,1))-1,0),\"\")","v":""},{"$f":"IF(VALUE(MID(Z$2,5,2))<=$V129,OFFSET('CCG-Prov(Amb)'!$B$1,MATCH($A129,'CCG-Prov(Amb)'!$A$2:$A$335,0)+VALUE(RIGHT(Z$2,1))-1,0),\"\")","v":""},{"$f":"IF(VALUE(MID(AA$2,5,2))<=$V129,OFFSET('CCG-Prov(Amb)'!$B$1,MATCH($A129,'CCG-Prov(Amb)'!$A$2:$A$335,0)+VALUE(RIGHT(AA$2,1))-1,0),\"\")","v":""},null,null,null,null,null,{"$f":"SUM(IF(('CCG-Prov(Births)'!$A$2:$A$6150=A129),1,0))","v":21},{"$f":"SUM(IF(('CCG-Prov(Births)'!$A$2:$A$6150=A129)*('CCG-Prov(Births)'!$C$2:$C$6150>=Maternity!$B$7),1,0))","v":2},{"$f":"IF(VALUE(MID(AI$2,5,2))<=$V129,OFFSET('CCG-Prov(Births)'!$B$1,MATCH($A129,'CCG-Prov(Births)'!$A$2:$A$6150,0)+VALUE(RIGHT(AI$2,1))-1,0),\"\")","v":"RTD"},{"$f":"IF(VALUE(MID(AJ$2,5,2))<=$V129,OFFSET('CCG-Prov(Births)'!$B$1,MATCH($A129,'CCG-Prov(Births)'!$A$2:$A$6150,0)+VALUE(RIGHT(AJ$2,1))-1,0),\"\")","v":""},{"$f":"IF(VALUE(MID(AK$2,5,2))<=$V129,OFFSET('CCG-Prov(Births)'!$B$1,MATCH($A129,'CCG-Prov(Births)'!$A$2:$A$6150,0)+VALUE(RIGHT(AK$2,1))-1,0),\"\")","v":""},{"$f":"IF(VALUE(MID(AL$2,5,2))<=$V129,OFFSET('CCG-Prov(Births)'!$B$1,MATCH($A129,'CCG-Prov(Births)'!$A$2:$A$6150,0)+VALUE(RIGHT(AL$2,1))-1,0),\"\")","v":""},{"$f":"IF(VALUE(MID(AM$2,5,2))<=$V129,OFFSET('CCG-Prov(Births)'!$B$1,MATCH($A129,'CCG-Prov(Births)'!$A$2:$A$6150,0)+VALUE(RIGHT(AM$2,1))-1,0),\"\")","v":""},null,"RW1",{"$f":"VLOOKUP(AO129,provnames!$A$2:$B$331,2,0)","v":"Southern Health NHS FT"},{"$f":"SUM(IF(('CCG-Prov(Births)'!$B$2:$B$6150=AO129),1,0))","v":1}]
["09Y","North West Surrey",{"$f":"SUM(IF(('CCG-Prov(Acute)'!$A$2:$A$29012=A130),1,0))","v":153},{"$f":"SUM(IF(('CCG-Prov(Acute)'!$A$2:$A$29012=A130)*('CCG-Prov(Acute)'!$C$2:$C$29012>=Acute!$B$7),1,0))","v":10},{"$f":"IF(VALUE(MID(E$2,5,2))<=$D130,OFFSET('CCG-Prov(Acute)'!$B$1,MATCH($A130,'CCG-Prov(Acute)'!$A$2:$A$29012,0)+VALUE(RIGHT(E$2,1))-1,0),\"\")","v":"RTK"},{"$f":"IF(VALUE(MID(F$2,5,2))<=$D130,OFFSET('CCG-Prov(Acute)'!$B$1,MATCH($A130,'CCG-Prov(Acute)'!$A$2:$A$29012,0)+VALUE(RIGHT(F$2,1))-1,0),\"\")","v":"RA2"},{"$f":"IF(VALUE(MID(G$2,5,2))<=$D130,OFFSET('CCG-Prov(Acute)'!$B$1,MATCH($A130,'CCG-Prov(Acute)'!$A$2:$A$29012,0)+VALUE(RIGHT(G$2,1))-1,0),\"\")","v":"RDU"},{"$f":"IF(VALUE(MID(H$2,5,2))<=$D130,OFFSET('CCG-Prov(Acute)'!$B$1,MATCH($A130,'CCG-Prov(Acute)'!$A$2:$A$29012,0)+VALUE(RIGHT(H$2,1))-1,0),\"\")","v":"RJ7"},{"$f":"IF(VALUE(MID(I$2,5,2))<=$D130,OFFSET('CCG-Prov(Acute)'!$B$1,MATCH($A130,'CCG-Prov(Acute)'!$A$2:$A$29012,0)+VALUE(RIGHT(I$2,1))-1,0),\"\")","v":"5P5"},{"$f":"IF(VALUE(MID(J$2,5,2))<=$D130,OFFSET('CCG-Prov(Acute)'!$B$1,MATCH($A130,'CCG-Prov(Acute)'!$A$2:$A$29012,0)+VALUE(RIGHT(J$2,1))-1,0),\"\")","v":"NT4"},{"$f":"IF(VALUE(MID(K$2,5,2))<=$D130,OFFSET('CCG-Prov(Acute)'!$B$1,MATCH($A130,'CCG-Prov(Acute)'!$A$2:$A$29012,0)+VALUE(RIGHT(K$2,1))-1,0),\"\")","v":"RVR"},{"$f":"IF(VALUE(MID(L$2,5,2))<=$D130,OFFSET('CCG-Prov(Acute)'!$B$1,MATCH($A130,'CCG-Prov(Acute)'!$A$2:$A$29012,0)+VALUE(RIGHT(L$2,1))-1,0),\"\")","v":"RYJ"},{"$f":"IF(VALUE(MID(M$2,5,2))<=$D130,OFFSET('CCG-Prov(Acute)'!$B$1,MATCH($A130,'CCG-Prov(Acute)'!$A$2:$A$29012,0)+VALUE(RIGHT(M$2,1))-1,0),\"\")","v":"RRV"},{"$f":"IF(VALUE(MID(N$2,5,2))<=$D130,OFFSET('CCG-Prov(Acute)'!$B$1,MATCH($A130,'CCG-Prov(Acute)'!$A$2:$A$29012,0)+VALUE(RIGHT(N$2,1))-1,0),\"\")","v":"RXL"},null,null,"RDE",{"$f":"VLOOKUP(Q130,provnames!$A$2:$B$331,2,0)","v":"Colchester Hospital Univ NHS FT"},{"$f":"SUM(IF(('CCG-Prov(Acute)'!$B$2:$B$28899=Q130),1,0))","v":138},null,{"$f":"SUM(IF(('CCG-Prov(Amb)'!$A$2:$A$335=A130),1,0))","v":3},{"$f":"SUM(IF(('CCG-Prov(Amb)'!$A$2:$A$335=A130)*('CCG-Prov(Amb)'!$C$2:$C$335>=Ambulance!$B$7),1,0))","v":2},{"$f":"IF(VALUE(MID(W$2,5,2))<=$V130,OFFSET('CCG-Prov(Amb)'!$B$1,MATCH($A130,'CCG-Prov(Amb)'!$A$2:$A$335,0)+VALUE(RIGHT(W$2,1))-1,0),\"\")","v":"RYD"},{"$f":"IF(VALUE(MID(X$2,5,2))<=$V130,OFFSET('CCG-Prov(Amb)'!$B$1,MATCH($A130,'CCG-Prov(Amb)'!$A$2:$A$335,0)+VALUE(RIGHT(X$2,1))-1,0),\"\")","v":"RRY"},{"$f":"IF(VALUE(MID(Y$2,5,2))<=$V130,OFFSET('CCG-Prov(Amb)'!$B$1,MATCH($A130,'CCG-Prov(Amb)'!$A$2:$A$335,0)+VALUE(RIGHT(Y$2,1))-1,0),\"\")","v":""},{"$f":"IF(VALUE(MID(Z$2,5,2))<=$V130,OFFSET('CCG-Prov(Amb)'!$B$1,MATCH($A130,'CCG-Prov(Amb)'!$A$2:$A$335,0)+VALUE(RIGHT(Z$2,1))-1,0),\"\")","v":""},{"$f":"IF(VALUE(MID(AA$2,5,2))<=$V130,OFFSET('CCG-Prov(Amb)'!$B$1,MATCH($A130,'CCG-Prov(Amb)'!$A$2:$A$335,0)+VALUE(RIGHT(AA$2,1))-1,0),\"\")","v":""},null,null,null,null,null,{"$f":"SUM(IF(('CCG-Prov(Births)'!$A$2:$A$6150=A130),1,0))","v":42},{"$f":"SUM(IF(('CCG-Prov(Births)'!$A$2:$A$6150=A130)*('CCG-Prov(Births)'!$C$2:$C$6150>=Maternity!$B$7),1,0))","v":5},{"$f":"IF(VALUE(MID(AI$2,5,2))<=$V130,OFFSET('CCG-Prov(Births)'!$B$1,MATCH($A130,'CCG-Prov(Births)'!$A$2:$A$6150,0)+VALUE(RIGHT(AI$2,1))-1,0),\"\")","v":"RTK"},{"$f":"IF(VALUE(MID(AJ$2,5,2))<=$V130,OFFSET('CCG-Prov(Births)'!$B$1,MATCH($A130,'CCG-Prov(Births)'!$A$2:$A$6150,0)+VALUE(RIGHT(AJ$2,1))-1,0),\"\")","v":"RA2"},{"$f":"IF(VALUE(MID(AK$2,5,2))<=$V130,OFFSET('CCG-Prov(Births)'!$B$1,MATCH($A130,'CCG-Prov(Births)'!$A$2:$A$6150,0)+VALUE(RIGHT(AK$2,1))-1,0),\"\")","v":""},{"$f":"IF(VALUE(MID(AL$2,5,2))<=$V130,OFFSET('CCG-Prov(Births)'!$B$1,MATCH($A130,'CCG-Prov(Births)'!$A$2:$A$6150,0)+VALUE(RIGHT(AL$2,1))-1,0),\"\")","v":""},{"$f":"IF(VALUE(MID(AM$2,5,2))<=$V130,OFFSET('CCG-Prov(Births)'!$B$1,MATCH($A130,'CCG-Prov(Births)'!$A$2:$A$6150,0)+VALUE(RIGHT(AM$2,1))-1,0),\"\")","v":""},null,"RW3",{"$f":"VLOOKUP(AO130,provnames!$A$2:$B$331,2,0)","v":"Central Manchester Univ Hospitals NHS FT"},{"$f":"SUM(IF(('CCG-Prov(Births)'!$B$2:$B$6150=AO130),1,0))","v":79}]
["99P","North, East, West Devon",{"$f":"SUM(IF(('CCG-Prov(Acute)'!$A$2:$A$29012=A131),1,0))","v":184},{"$f":"SUM(IF(('CCG-Prov(Acute)'!$A$2:$A$29012=A131)*('CCG-Prov(Acute)'!$C$2:$C$29012>=Acute!$B$7),1,0))","v":10},{"$f":"IF(VALUE(MID(E$2,5,2))<=$D131,OFFSET('CCG-Prov(Acute)'!$B$1,MATCH($A131,'CCG-Prov(Acute)'!$A$2:$A$29012,0)+VALUE(RIGHT(E$2,1))-1,0),\"\")","v":"RH8"},{"$f":"IF(VALUE(MID(F$2,5,2))<=$D131,OFFSET('CCG-Prov(Acute)'!$B$1,MATCH($A131,'CCG-Prov(Acute)'!$A$2:$A$29012,0)+VALUE(RIGHT(F$2,1))-1,0),\"\")","v":"RK9"},{"$f":"IF(VALUE(MID(G$2,5,2))<=$D131,OFFSET('CCG-Prov(Acute)'!$B$1,MATCH($A131,'CCG-Prov(Acute)'!$A$2:$A$29012,0)+VALUE(RIGHT(G$2,1))-1,0),\"\")","v":"RBZ"},{"$f":"IF(VALUE(MID(H$2,5,2))<=$D131,OFFSET('CCG-Prov(Acute)'!$B$1,MATCH($A131,'CCG-Prov(Acute)'!$A$2:$A$29012,0)+VALUE(RIGHT(H$2,1))-1,0),\"\")","v":"5QQ"},{"$f":"IF(VALUE(MID(I$2,5,2))<=$D131,OFFSET('CCG-Prov(Acute)'!$B$1,MATCH($A131,'CCG-Prov(Acute)'!$A$2:$A$29012,0)+VALUE(RIGHT(I$2,1))-1,0),\"\")","v":"RBA"},{"$f":"IF(VALUE(MID(J$2,5,2))<=$D131,OFFSET('CCG-Prov(Acute)'!$B$1,MATCH($A131,'CCG-Prov(Acute)'!$A$2:$A$29012,0)+VALUE(RIGHT(J$2,1))-1,0),\"\")","v":"RA9"},{"$f":"IF(VALUE(MID(K$2,5,2))<=$D131,OFFSET('CCG-Prov(Acute)'!$B$1,MATCH($A131,'CCG-Prov(Acute)'!$A$2:$A$29012,0)+VALUE(RIGHT(K$2,1))-1,0),\"\")","v":"NTC"},{"$f":"IF(VALUE(MID(L$2,5,2))<=$D131,OFFSET('CCG-Prov(Acute)'!$B$1,MATCH($A131,'CCG-Prov(Acute)'!$A$2:$A$29012,0)+VALUE(RIGHT(L$2,1))-1,0),\"\")","v":"5F1"},{"$f":"IF(VALUE(MID(M$2,5,2))<=$D131,OFFSET('CCG-Prov(Acute)'!$B$1,MATCH($A131,'CCG-Prov(Acute)'!$A$2:$A$29012,0)+VALUE(RIGHT(M$2,1))-1,0),\"\")","v":"RA7"},{"$f":"IF(VALUE(MID(N$2,5,2))<=$D131,OFFSET('CCG-Prov(Acute)'!$B$1,MATCH($A131,'CCG-Prov(Acute)'!$A$2:$A$29012,0)+VALUE(RIGHT(N$2,1))-1,0),\"\")","v":"RWY"},null,null,"RDR",{"$f":"VLOOKUP(Q131,provnames!$A$2:$B$331,2,0)","v":"Sussex Community NHS Trust"},{"$f":"SUM(IF(('CCG-Prov(Acute)'!$B$2:$B$28899=Q131),1,0))","v":21},null,{"$f":"SUM(IF(('CCG-Prov(Amb)'!$A$2:$A$335=A131),1,0))","v":1},{"$f":"SUM(IF(('CCG-Prov(Amb)'!$A$2:$A$335=A131)*('CCG-Prov(Amb)'!$C$2:$C$335>=Ambulance!$B$7),1,0))","v":1},{"$f":"IF(VALUE(MID(W$2,5,2))<=$V131,OFFSET('CCG-Prov(Amb)'!$B$1,MATCH($A131,'CCG-Prov(Amb)'!$A$2:$A$335,0)+VALUE(RIGHT(W$2,1))-1,0),\"\")","v":"RYF"},{"$f":"IF(VALUE(MID(X$2,5,2))<=$V131,OFFSET('CCG-Prov(Amb)'!$B$1,MATCH($A131,'CCG-Prov(Amb)'!$A$2:$A$335,0)+VALUE(RIGHT(X$2,1))-1,0),\"\")","v":""},{"$f":"IF(VALUE(MID(Y$2,5,2))<=$V131,OFFSET('CCG-Prov(Amb)'!$B$1,MATCH($A131,'CCG-Prov(Amb)'!$A$2:$A$335,0)+VALUE(RIGHT(Y$2,1))-1,0),\"\")","v":""},{"$f":"IF(VALUE(MID(Z$2,5,2))<=$V131,OFFSET('CCG-Prov(Amb)'!$B$1,MATCH($A131,'CCG-Prov(Amb)'!$A$2:$A$335,0)+VALUE(RIGHT(Z$2,1))-1,0),\"\")","v":""},{"$f":"IF(VALUE(MID(AA$2,5,2))<=$V131,OFFSET('CCG-Prov(Amb)'!$B$1,MATCH($A131,'CCG-Prov(Amb)'!$A$2:$A$335,0)+VALUE(RIGHT(AA$2,1))-1,0),\"\")","v":""},null,null,null,null,null,{"$f":"SUM(IF(('CCG-Prov(Births)'!$A$2:$A$6150=A131),1,0))","v":40},{"$f":"SUM(IF(('CCG-Prov(Births)'!$A$2:$A$6150=A131)*('CCG-Prov(Births)'!$C$2:$C$6150>=Maternity!$B$7),1,0))","v":6},{"$f":"IF(VALUE(MID(AI$2,5,2))<=$V131,OFFSET('CCG-Prov(Births)'!$B$1,MATCH($A131,'CCG-Prov(Births)'!$A$2:$A$6150,0)+VALUE(RIGHT(AI$2,1))-1,0),\"\")","v":"RH8"},{"$f":"IF(VALUE(MID(AJ$2,5,2))<=$V131,OFFSET('CCG-Prov(Births)'!$B$1,MATCH($A131,'CCG-Prov(Births)'!$A$2:$A$6150,0)+VALUE(RIGHT(AJ$2,1))-1,0),\"\")","v":""},{"$f":"IF(VALUE(MID(AK$2,5,2))<=$V131,OFFSET('CCG-Prov(Births)'!$B$1,MATCH($A131,'CCG-Prov(Births)'!$A$2:$A$6150,0)+VALUE(RIGHT(AK$2,1))-1,0),\"\")","v":""},{"$f":"IF(VALUE(MID(AL$2,5,2))<=$V131,OFFSET('CCG-Prov(Births)'!$B$1,MATCH($A131,'CCG-Prov(Births)'!$A$2:$A$6150,0)+VALUE(RIGHT(AL$2,1))-1,0),\"\")","v":""},{"$f":"IF(VALUE(MID(AM$2,5,2))<=$V131,OFFSET('CCG-Prov(Births)'!$B$1,MATCH($A131,'CCG-Prov(Births)'!$A$2:$A$6150,0)+VALUE(RIGHT(AM$2,1))-1,0),\"\")","v":""},null,"RW6",{"$f":"VLOOKUP(AO131,provnames!$A$2:$B$331,2,0)","v":"Pennine Acute Hospitals NHS Trust"},{"$f":"SUM(IF(('CCG-Prov(Births)'!$B$2:$B$6150=AO131),1,0))","v":62}]
["00L","Northumberland",{"$f":"SUM(IF(('CCG-Prov(Acute)'!$A$2:$A$29012=A132),1,0))","v":140},{"$f":"SUM(IF(('CCG-Prov(Acute)'!$A$2:$A$29012=A132)*('CCG-Prov(Acute)'!$C$2:$C$29012>=Acute!$B$7),1,0))","v":3},{"$f":"IF(VALUE(MID(E$2,5,2))<=$D132,OFFSET('CCG-Prov(Acute)'!$B$1,MATCH($A132,'CCG-Prov(Acute)'!$A$2:$A$29012,0)+VALUE(RIGHT(E$2,1))-1,0),\"\")","v":"RTF"},{"$f":"IF(VALUE(MID(F$2,5,2))<=$D132,OFFSET('CCG-Prov(Acute)'!$B$1,MATCH($A132,'CCG-Prov(Acute)'!$A$2:$A$29012,0)+VALUE(RIGHT(F$2,1))-1,0),\"\")","v":"RTD"},{"$f":"IF(VALUE(MID(G$2,5,2))<=$D132,OFFSET('CCG-Prov(Acute)'!$B$1,MATCH($A132,'CCG-Prov(Acute)'!$A$2:$A$29012,0)+VALUE(RIGHT(G$2,1))-1,0),\"\")","v":"NVC"},{"$f":"IF(VALUE(MID(H$2,5,2))<=$D132,OFFSET('CCG-Prov(Acute)'!$B$1,MATCH($A132,'CCG-Prov(Acute)'!$A$2:$A$29012,0)+VALUE(RIGHT(H$2,1))-1,0),\"\")","v":""},{"$f":"IF(VALUE(MID(I$2,5,2))<=$D132,OFFSET('CCG-Prov(Acute)'!$B$1,MATCH($A132,'CCG-Prov(Acute)'!$A$2:$A$29012,0)+VALUE(RIGHT(I$2,1))-1,0),\"\")","v":""},{"$f":"IF(VALUE(MID(J$2,5,2))<=$D132,OFFSET('CCG-Prov(Acute)'!$B$1,MATCH($A132,'CCG-Prov(Acute)'!$A$2:$A$29012,0)+VALUE(RIGHT(J$2,1))-1,0),\"\")","v":""},{"$f":"IF(VALUE(MID(K$2,5,2))<=$D132,OFFSET('CCG-Prov(Acute)'!$B$1,MATCH($A132,'CCG-Prov(Acute)'!$A$2:$A$29012,0)+VALUE(RIGHT(K$2,1))-1,0),\"\")","v":""},{"$f":"IF(VALUE(MID(L$2,5,2))<=$D132,OFFSET('CCG-Prov(Acute)'!$B$1,MATCH($A132,'CCG-Prov(Acute)'!$A$2:$A$29012,0)+VALUE(RIGHT(L$2,1))-1,0),\"\")","v":""},{"$f":"IF(VALUE(MID(M$2,5,2))<=$D132,OFFSET('CCG-Prov(Acute)'!$B$1,MATCH($A132,'CCG-Prov(Acute)'!$A$2:$A$29012,0)+VALUE(RIGHT(M$2,1))-1,0),\"\")","v":""},{"$f":"IF(VALUE(MID(N$2,5,2))<=$D132,OFFSET('CCG-Prov(Acute)'!$B$1,MATCH($A132,'CCG-Prov(Acute)'!$A$2:$A$29012,0)+VALUE(RIGHT(N$2,1))-1,0),\"\")","v":""},null,null,"RDU",{"$f":"VLOOKUP(Q132,provnames!$A$2:$B$331,2,0)","v":"Frimley Park Hospital NHS FT"},{"$f":"SUM(IF(('CCG-Prov(Acute)'!$B$2:$B$28899=Q132),1,0))","v":174},null,{"$f":"SUM(IF(('CCG-Prov(Amb)'!$A$2:$A$335=A132),1,0))","v":2},{"$f":"SUM(IF(('CCG-Prov(Amb)'!$A$2:$A$335=A132)*('CCG-Prov(Amb)'!$C$2:$C$335>=Ambulance!$B$7),1,0))","v":1},{"$f":"IF(VALUE(MID(W$2,5,2))<=$V132,OFFSET('CCG-Prov(Amb)'!$B$1,MATCH($A132,'CCG-Prov(Amb)'!$A$2:$A$335,0)+VALUE(RIGHT(W$2,1))-1,0),\"\")","v":"RX6"},{"$f":"IF(VALUE(MID(X$2,5,2))<=$V132,OFFSET('CCG-Prov(Amb)'!$B$1,MATCH($A132,'CCG-Prov(Amb)'!$A$2:$A$335,0)+VALUE(RIGHT(X$2,1))-1,0),\"\")","v":""},{"$f":"IF(VALUE(MID(Y$2,5,2))<=$V132,OFFSET('CCG-Prov(Amb)'!$B$1,MATCH($A132,'CCG-Prov(Amb)'!$A$2:$A$335,0)+VALUE(RIGHT(Y$2,1))-1,0),\"\")","v":""},{"$f":"IF(VALUE(MID(Z$2,5,2))<=$V132,OFFSET('CCG-Prov(Amb)'!$B$1,MATCH($A132,'CCG-Prov(Amb)'!$A$2:$A$335,0)+VALUE(RIGHT(Z$2,1))-1,0),\"\")","v":""},{"$f":"IF(VALUE(MID(AA$2,5,2))<=$V132,OFFSET('CCG-Prov(Amb)'!$B$1,MATCH($A132,'CCG-Prov(Amb)'!$A$2:$A$335,0)+VALUE(RIGHT(AA$2,1))-1,0),\"\")","v":""},null,null,null,null,null,{"$f":"SUM(IF(('CCG-Prov(Births)'!$A$2:$A$6150=A132),1,0))","v":15},{"$f":"SUM(IF(('CCG-Prov(Births)'!$A$2:$A$6150=A132)*('CCG-Prov(Births)'!$C$2:$C$6150>=Maternity!$B$7),1,0))","v":2},{"$f":"IF(VALUE(MID(AI$2,5,2))<=$V132,OFFSET('CCG-Prov(Births)'!$B$1,MATCH($A132,'CCG-Prov(Births)'!$A$2:$A$6150,0)+VALUE(RIGHT(AI$2,1))-1,0),\"\")","v":"RTF"},{"$f":"IF(VALUE(MID(AJ$2,5,2))<=$V132,OFFSET('CCG-Prov(Births)'!$B$1,MATCH($A132,'CCG-Prov(Births)'!$A$2:$A$6150,0)+VALUE(RIGHT(AJ$2,1))-1,0),\"\")","v":""},{"$f":"IF(VALUE(MID(AK$2,5,2))<=$V132,OFFSET('CCG-Prov(Births)'!$B$1,MATCH($A132,'CCG-Prov(Births)'!$A$2:$A$6150,0)+VALUE(RIGHT(AK$2,1))-1,0),\"\")","v":""},{"$f":"IF(VALUE(MID(AL$2,5,2))<=$V132,OFFSET('CCG-Prov(Births)'!$B$1,MATCH($A132,'CCG-Prov(Births)'!$A$2:$A$6150,0)+VALUE(RIGHT(AL$2,1))-1,0),\"\")","v":""},{"$f":"IF(VALUE(MID(AM$2,5,2))<=$V132,OFFSET('CCG-Prov(Births)'!$B$1,MATCH($A132,'CCG-Prov(Births)'!$A$2:$A$6150,0)+VALUE(RIGHT(AM$2,1))-1,0),\"\")","v":""},null,"RWA",{"$f":"VLOOKUP(AO132,provnames!$A$2:$B$331,2,0)","v":"Hull & East Yorkshire Hospitals NHS Trust"},{"$f":"SUM(IF(('CCG-Prov(Births)'!$B$2:$B$6150=AO132),1,0))","v":31}]
["06W","Norwich",{"$f":"SUM(IF(('CCG-Prov(Acute)'!$A$2:$A$29012=A133),1,0))","v":130},{"$f":"SUM(IF(('CCG-Prov(Acute)'!$A$2:$A$29012=A133)*('CCG-Prov(Acute)'!$C$2:$C$29012>=Acute!$B$7),1,0))","v":2},{"$f":"IF(VALUE(MID(E$2,5,2))<=$D133,OFFSET('CCG-Prov(Acute)'!$B$1,MATCH($A133,'CCG-Prov(Acute)'!$A$2:$A$29012,0)+VALUE(RIGHT(E$2,1))-1,0),\"\")","v":"RM1"},{"$f":"IF(VALUE(MID(F$2,5,2))<=$D133,OFFSET('CCG-Prov(Acute)'!$B$1,MATCH($A133,'CCG-Prov(Acute)'!$A$2:$A$29012,0)+VALUE(RIGHT(F$2,1))-1,0),\"\")","v":"5PQ"},{"$f":"IF(VALUE(MID(G$2,5,2))<=$D133,OFFSET('CCG-Prov(Acute)'!$B$1,MATCH($A133,'CCG-Prov(Acute)'!$A$2:$A$29012,0)+VALUE(RIGHT(G$2,1))-1,0),\"\")","v":""},{"$f":"IF(VALUE(MID(H$2,5,2))<=$D133,OFFSET('CCG-Prov(Acute)'!$B$1,MATCH($A133,'CCG-Prov(Acute)'!$A$2:$A$29012,0)+VALUE(RIGHT(H$2,1))-1,0),\"\")","v":""},{"$f":"IF(VALUE(MID(I$2,5,2))<=$D133,OFFSET('CCG-Prov(Acute)'!$B$1,MATCH($A133,'CCG-Prov(Acute)'!$A$2:$A$29012,0)+VALUE(RIGHT(I$2,1))-1,0),\"\")","v":""},{"$f":"IF(VALUE(MID(J$2,5,2))<=$D133,OFFSET('CCG-Prov(Acute)'!$B$1,MATCH($A133,'CCG-Prov(Acute)'!$A$2:$A$29012,0)+VALUE(RIGHT(J$2,1))-1,0),\"\")","v":""},{"$f":"IF(VALUE(MID(K$2,5,2))<=$D133,OFFSET('CCG-Prov(Acute)'!$B$1,MATCH($A133,'CCG-Prov(Acute)'!$A$2:$A$29012,0)+VALUE(RIGHT(K$2,1))-1,0),\"\")","v":""},{"$f":"IF(VALUE(MID(L$2,5,2))<=$D133,OFFSET('CCG-Prov(Acute)'!$B$1,MATCH($A133,'CCG-Prov(Acute)'!$A$2:$A$29012,0)+VALUE(RIGHT(L$2,1))-1,0),\"\")","v":""},{"$f":"IF(VALUE(MID(M$2,5,2))<=$D133,OFFSET('CCG-Prov(Acute)'!$B$1,MATCH($A133,'CCG-Prov(Acute)'!$A$2:$A$29012,0)+VALUE(RIGHT(M$2,1))-1,0),\"\")","v":""},{"$f":"IF(VALUE(MID(N$2,5,2))<=$D133,OFFSET('CCG-Prov(Acute)'!$B$1,MATCH($A133,'CCG-Prov(Acute)'!$A$2:$A$29012,0)+VALUE(RIGHT(N$2,1))-1,0),\"\")","v":""},null,null,"RDY",{"$f":"VLOOKUP(Q133,provnames!$A$2:$B$331,2,0)","v":"Dorset Healthcare Univ NHS FT"},{"$f":"SUM(IF(('CCG-Prov(Acute)'!$B$2:$B$28899=Q133),1,0))","v":15},null,{"$f":"SUM(IF(('CCG-Prov(Amb)'!$A$2:$A$335=A133),1,0))","v":1},{"$f":"SUM(IF(('CCG-Prov(Amb)'!$A$2:$A$335=A133)*('CCG-Prov(Amb)'!$C$2:$C$335>=Ambulance!$B$7),1,0))","v":1},{"$f":"IF(VALUE(MID(W$2,5,2))<=$V133,OFFSET('CCG-Prov(Amb)'!$B$1,MATCH($A133,'CCG-Prov(Amb)'!$A$2:$A$335,0)+VALUE(RIGHT(W$2,1))-1,0),\"\")","v":"RYC"},{"$f":"IF(VALUE(MID(X$2,5,2))<=$V133,OFFSET('CCG-Prov(Amb)'!$B$1,MATCH($A133,'CCG-Prov(Amb)'!$A$2:$A$335,0)+VALUE(RIGHT(X$2,1))-1,0),\"\")","v":""},{"$f":"IF(VALUE(MID(Y$2,5,2))<=$V133,OFFSET('CCG-Prov(Amb)'!$B$1,MATCH($A133,'CCG-Prov(Amb)'!$A$2:$A$335,0)+VALUE(RIGHT(Y$2,1))-1,0),\"\")","v":""},{"$f":"IF(VALUE(MID(Z$2,5,2))<=$V133,OFFSET('CCG-Prov(Amb)'!$B$1,MATCH($A133,'CCG-Prov(Amb)'!$A$2:$A$335,0)+VALUE(RIGHT(Z$2,1))-1,0),\"\")","v":""},{"$f":"IF(VALUE(MID(AA$2,5,2))<=$V133,OFFSET('CCG-Prov(Amb)'!$B$1,MATCH($A133,'CCG-Prov(Amb)'!$A$2:$A$335,0)+VALUE(RIGHT(AA$2,1))-1,0),\"\")","v":""},null,null,null,null,null,{"$f":"SUM(IF(('CCG-Prov(Births)'!$A$2:$A$6150=A133),1,0))","v":21},{"$f":"SUM(IF(('CCG-Prov(Births)'!$A$2:$A$6150=A133)*('CCG-Prov(Births)'!$C$2:$C$6150>=Maternity!$B$7),1,0))","v":1},{"$f":"IF(VALUE(MID(AI$2,5,2))<=$V133,OFFSET('CCG-Prov(Births)'!$B$1,MATCH($A133,'CCG-Prov(Births)'!$A$2:$A$6150,0)+VALUE(RIGHT(AI$2,1))-1,0),\"\")","v":"RM1"},{"$f":"IF(VALUE(MID(AJ$2,5,2))<=$V133,OFFSET('CCG-Prov(Births)'!$B$1,MATCH($A133,'CCG-Prov(Births)'!$A$2:$A$6150,0)+VALUE(RIGHT(AJ$2,1))-1,0),\"\")","v":""},{"$f":"IF(VALUE(MID(AK$2,5,2))<=$V133,OFFSET('CCG-Prov(Births)'!$B$1,MATCH($A133,'CCG-Prov(Births)'!$A$2:$A$6150,0)+VALUE(RIGHT(AK$2,1))-1,0),\"\")","v":""},{"$f":"IF(VALUE(MID(AL$2,5,2))<=$V133,OFFSET('CCG-Prov(Births)'!$B$1,MATCH($A133,'CCG-Prov(Births)'!$A$2:$A$6150,0)+VALUE(RIGHT(AL$2,1))-1,0),\"\")","v":""},{"$f":"IF(VALUE(MID(AM$2,5,2))<=$V133,OFFSET('CCG-Prov(Births)'!$B$1,MATCH($A133,'CCG-Prov(Births)'!$A$2:$A$6150,0)+VALUE(RIGHT(AM$2,1))-1,0),\"\")","v":""},null,"RWD",{"$f":"VLOOKUP(AO133,provnames!$A$2:$B$331,2,0)","v":"United Lincolnshire Hospitals NHS Trust"},{"$f":"SUM(IF(('CCG-Prov(Births)'!$B$2:$B$6150=AO133),1,0))","v":56}]
["04K","Nottingham City",{"$f":"SUM(IF(('CCG-Prov(Acute)'!$A$2:$A$29012=A134),1,0))","v":170},{"$f":"SUM(IF(('CCG-Prov(Acute)'!$A$2:$A$29012=A134)*('CCG-Prov(Acute)'!$C$2:$C$29012>=Acute!$B$7),1,0))","v":3},{"$f":"IF(VALUE(MID(E$2,5,2))<=$D134,OFFSET('CCG-Prov(Acute)'!$B$1,MATCH($A134,'CCG-Prov(Acute)'!$A$2:$A$29012,0)+VALUE(RIGHT(E$2,1))-1,0),\"\")","v":"RX1"},{"$f":"IF(VALUE(MID(F$2,5,2))<=$D134,OFFSET('CCG-Prov(Acute)'!$B$1,MATCH($A134,'CCG-Prov(Acute)'!$A$2:$A$29012,0)+VALUE(RIGHT(F$2,1))-1,0),\"\")","v":"NTA"},{"$f":"IF(VALUE(MID(G$2,5,2))<=$D134,OFFSET('CCG-Prov(Acute)'!$B$1,MATCH($A134,'CCG-Prov(Acute)'!$A$2:$A$29012,0)+VALUE(RIGHT(G$2,1))-1,0),\"\")","v":"NVC"},{"$f":"IF(VALUE(MID(H$2,5,2))<=$D134,OFFSET('CCG-Prov(Acute)'!$B$1,MATCH($A134,'CCG-Prov(Acute)'!$A$2:$A$29012,0)+VALUE(RIGHT(H$2,1))-1,0),\"\")","v":""},{"$f":"IF(VALUE(MID(I$2,5,2))<=$D134,OFFSET('CCG-Prov(Acute)'!$B$1,MATCH($A134,'CCG-Prov(Acute)'!$A$2:$A$29012,0)+VALUE(RIGHT(I$2,1))-1,0),\"\")","v":""},{"$f":"IF(VALUE(MID(J$2,5,2))<=$D134,OFFSET('CCG-Prov(Acute)'!$B$1,MATCH($A134,'CCG-Prov(Acute)'!$A$2:$A$29012,0)+VALUE(RIGHT(J$2,1))-1,0),\"\")","v":""},{"$f":"IF(VALUE(MID(K$2,5,2))<=$D134,OFFSET('CCG-Prov(Acute)'!$B$1,MATCH($A134,'CCG-Prov(Acute)'!$A$2:$A$29012,0)+VALUE(RIGHT(K$2,1))-1,0),\"\")","v":""},{"$f":"IF(VALUE(MID(L$2,5,2))<=$D134,OFFSET('CCG-Prov(Acute)'!$B$1,MATCH($A134,'CCG-Prov(Acute)'!$A$2:$A$29012,0)+VALUE(RIGHT(L$2,1))-1,0),\"\")","v":""},{"$f":"IF(VALUE(MID(M$2,5,2))<=$D134,OFFSET('CCG-Prov(Acute)'!$B$1,MATCH($A134,'CCG-Prov(Acute)'!$A$2:$A$29012,0)+VALUE(RIGHT(M$2,1))-1,0),\"\")","v":""},{"$f":"IF(VALUE(MID(N$2,5,2))<=$D134,OFFSET('CCG-Prov(Acute)'!$B$1,MATCH($A134,'CCG-Prov(Acute)'!$A$2:$A$29012,0)+VALUE(RIGHT(N$2,1))-1,0),\"\")","v":""},null,null,"RDZ",{"$f":"VLOOKUP(Q134,provnames!$A$2:$B$331,2,0)","v":"The Royal Bournemouth & Christchurch Hospitals NHS FT"},{"$f":"SUM(IF(('CCG-Prov(Acute)'!$B$2:$B$28899=Q134),1,0))","v":186},null,{"$f":"SUM(IF(('CCG-Prov(Amb)'!$A$2:$A$335=A134),1,0))","v":1},{"$f":"SUM(IF(('CCG-Prov(Amb)'!$A$2:$A$335=A134)*('CCG-Prov(Amb)'!$C$2:$C$335>=Ambulance!$B$7),1,0))","v":1},{"$f":"IF(VALUE(MID(W$2,5,2))<=$V134,OFFSET('CCG-Prov(Amb)'!$B$1,MATCH($A134,'CCG-Prov(Amb)'!$A$2:$A$335,0)+VALUE(RIGHT(W$2,1))-1,0),\"\")","v":"RX9"},{"$f":"IF(VALUE(MID(X$2,5,2))<=$V134,OFFSET('CCG-Prov(Amb)'!$B$1,MATCH($A134,'CCG-Prov(Amb)'!$A$2:$A$335,0)+VALUE(RIGHT(X$2,1))-1,0),\"\")","v":""},{"$f":"IF(VALUE(MID(Y$2,5,2))<=$V134,OFFSET('CCG-Prov(Amb)'!$B$1,MATCH($A134,'CCG-Prov(Amb)'!$A$2:$A$335,0)+VALUE(RIGHT(Y$2,1))-1,0),\"\")","v":""},{"$f":"IF(VALUE(MID(Z$2,5,2))<=$V134,OFFSET('CCG-Prov(Amb)'!$B$1,MATCH($A134,'CCG-Prov(Amb)'!$A$2:$A$335,0)+VALUE(RIGHT(Z$2,1))-1,0),\"\")","v":""},{"$f":"IF(VALUE(MID(AA$2,5,2))<=$V134,OFFSET('CCG-Prov(Amb)'!$B$1,MATCH($A134,'CCG-Prov(Amb)'!$A$2:$A$335,0)+VALUE(RIGHT(AA$2,1))-1,0),\"\")","v":""},null,null,null,null,null,{"$f":"SUM(IF(('CCG-Prov(Births)'!$A$2:$A$6150=A134),1,0))","v":36},{"$f":"SUM(IF(('CCG-Prov(Births)'!$A$2:$A$6150=A134)*('CCG-Prov(Births)'!$C$2:$C$6150>=Maternity!$B$7),1,0))","v":1},{"$f":"IF(VALUE(MID(AI$2,5,2))<=$V134,OFFSET('CCG-Prov(Births)'!$B$1,MATCH($A134,'CCG-Prov(Births)'!$A$2:$A$6150,0)+VALUE(RIGHT(AI$2,1))-1,0),\"\")","v":"RX1"},{"$f":"IF(VALUE(MID(AJ$2,5,2))<=$V134,OFFSET('CCG-Prov(Births)'!$B$1,MATCH($A134,'CCG-Prov(Births)'!$A$2:$A$6150,0)+VALUE(RIGHT(AJ$2,1))-1,0),\"\")","v":""},{"$f":"IF(VALUE(MID(AK$2,5,2))<=$V134,OFFSET('CCG-Prov(Births)'!$B$1,MATCH($A134,'CCG-Prov(Births)'!$A$2:$A$6150,0)+VALUE(RIGHT(AK$2,1))-1,0),\"\")","v":""},{"$f":"IF(VALUE(MID(AL$2,5,2))<=$V134,OFFSET('CCG-Prov(Births)'!$B$1,MATCH($A134,'CCG-Prov(Births)'!$A$2:$A$6150,0)+VALUE(RIGHT(AL$2,1))-1,0),\"\")","v":""},{"$f":"IF(VALUE(MID(AM$2,5,2))<=$V134,OFFSET('CCG-Prov(Births)'!$B$1,MATCH($A134,'CCG-Prov(Births)'!$A$2:$A$6150,0)+VALUE(RIGHT(AM$2,1))-1,0),\"\")","v":""},null,"RWE",{"$f":"VLOOKUP(AO134,provnames!$A$2:$B$331,2,0)","v":"University Hospitals of Leicester NHS Trust"},{"$f":"SUM(IF(('CCG-Prov(Births)'!$B$2:$B$6150=AO134),1,0))","v":71}]
["04L","Nottingham North & East",{"$f":"SUM(IF(('CCG-Prov(Acute)'!$A$2:$A$29012=A135),1,0))","v":109},{"$f":"SUM(IF(('CCG-Prov(Acute)'!$A$2:$A$29012=A135)*('CCG-Prov(Acute)'!$C$2:$C$29012>=Acute!$B$7),1,0))","v":4},{"$f":"IF(VALUE(MID(E$2,5,2))<=$D135,OFFSET('CCG-Prov(Acute)'!$B$1,MATCH($A135,'CCG-Prov(Acute)'!$A$2:$A$29012,0)+VALUE(RIGHT(E$2,1))-1,0),\"\")","v":"RX1"},{"$f":"IF(VALUE(MID(F$2,5,2))<=$D135,OFFSET('CCG-Prov(Acute)'!$B$1,MATCH($A135,'CCG-Prov(Acute)'!$A$2:$A$29012,0)+VALUE(RIGHT(F$2,1))-1,0),\"\")","v":"NTA"},{"$f":"IF(VALUE(MID(G$2,5,2))<=$D135,OFFSET('CCG-Prov(Acute)'!$B$1,MATCH($A135,'CCG-Prov(Acute)'!$A$2:$A$29012,0)+VALUE(RIGHT(G$2,1))-1,0),\"\")","v":"RK5"},{"$f":"IF(VALUE(MID(H$2,5,2))<=$D135,OFFSET('CCG-Prov(Acute)'!$B$1,MATCH($A135,'CCG-Prov(Acute)'!$A$2:$A$29012,0)+VALUE(RIGHT(H$2,1))-1,0),\"\")","v":"NVC"},{"$f":"IF(VALUE(MID(I$2,5,2))<=$D135,OFFSET('CCG-Prov(Acute)'!$B$1,MATCH($A135,'CCG-Prov(Acute)'!$A$2:$A$29012,0)+VALUE(RIGHT(I$2,1))-1,0),\"\")","v":""},{"$f":"IF(VALUE(MID(J$2,5,2))<=$D135,OFFSET('CCG-Prov(Acute)'!$B$1,MATCH($A135,'CCG-Prov(Acute)'!$A$2:$A$29012,0)+VALUE(RIGHT(J$2,1))-1,0),\"\")","v":""},{"$f":"IF(VALUE(MID(K$2,5,2))<=$D135,OFFSET('CCG-Prov(Acute)'!$B$1,MATCH($A135,'CCG-Prov(Acute)'!$A$2:$A$29012,0)+VALUE(RIGHT(K$2,1))-1,0),\"\")","v":""},{"$f":"IF(VALUE(MID(L$2,5,2))<=$D135,OFFSET('CCG-Prov(Acute)'!$B$1,MATCH($A135,'CCG-Prov(Acute)'!$A$2:$A$29012,0)+VALUE(RIGHT(L$2,1))-1,0),\"\")","v":""},{"$f":"IF(VALUE(MID(M$2,5,2))<=$D135,OFFSET('CCG-Prov(Acute)'!$B$1,MATCH($A135,'CCG-Prov(Acute)'!$A$2:$A$29012,0)+VALUE(RIGHT(M$2,1))-1,0),\"\")","v":""},{"$f":"IF(VALUE(MID(N$2,5,2))<=$D135,OFFSET('CCG-Prov(Acute)'!$B$1,MATCH($A135,'CCG-Prov(Acute)'!$A$2:$A$29012,0)+VALUE(RIGHT(N$2,1))-1,0),\"\")","v":""},null,null,"RE9",{"$f":"VLOOKUP(Q135,provnames!$A$2:$B$331,2,0)","v":"South Tyneside NHS FT"},{"$f":"SUM(IF(('CCG-Prov(Acute)'!$B$2:$B$28899=Q135),1,0))","v":65},null,{"$f":"SUM(IF(('CCG-Prov(Amb)'!$A$2:$A$335=A135),1,0))","v":1},{"$f":"SUM(IF(('CCG-Prov(Amb)'!$A$2:$A$335=A135)*('CCG-Prov(Amb)'!$C$2:$C$335>=Ambulance!$B$7),1,0))","v":1},{"$f":"IF(VALUE(MID(W$2,5,2))<=$V135,OFFSET('CCG-Prov(Amb)'!$B$1,MATCH($A135,'CCG-Prov(Amb)'!$A$2:$A$335,0)+VALUE(RIGHT(W$2,1))-1,0),\"\")","v":"RX9"},{"$f":"IF(VALUE(MID(X$2,5,2))<=$V135,OFFSET('CCG-Prov(Amb)'!$B$1,MATCH($A135,'CCG-Prov(Amb)'!$A$2:$A$335,0)+VALUE(RIGHT(X$2,1))-1,0),\"\")","v":""},{"$f":"IF(VALUE(MID(Y$2,5,2))<=$V135,OFFSET('CCG-Prov(Amb)'!$B$1,MATCH($A135,'CCG-Prov(Amb)'!$A$2:$A$335,0)+VALUE(RIGHT(Y$2,1))-1,0),\"\")","v":""},{"$f":"IF(VALUE(MID(Z$2,5,2))<=$V135,OFFSET('CCG-Prov(Amb)'!$B$1,MATCH($A135,'CCG-Prov(Amb)'!$A$2:$A$335,0)+VALUE(RIGHT(Z$2,1))-1,0),\"\")","v":""},{"$f":"IF(VALUE(MID(AA$2,5,2))<=$V135,OFFSET('CCG-Prov(Amb)'!$B$1,MATCH($A135,'CCG-Prov(Amb)'!$A$2:$A$335,0)+VALUE(RIGHT(AA$2,1))-1,0),\"\")","v":""},null,null,null,null,null,{"$f":"SUM(IF(('CCG-Prov(Births)'!$A$2:$A$6150=A135),1,0))","v":13},{"$f":"SUM(IF(('CCG-Prov(Births)'!$A$2:$A$6150=A135)*('CCG-Prov(Births)'!$C$2:$C$6150>=Maternity!$B$7),1,0))","v":1},{"$f":"IF(VALUE(MID(AI$2,5,2))<=$V135,OFFSET('CCG-Prov(Births)'!$B$1,MATCH($A135,'CCG-Prov(Births)'!$A$2:$A$6150,0)+VALUE(RIGHT(AI$2,1))-1,0),\"\")","v":"RX1"},{"$f":"IF(VALUE(MID(AJ$2,5,2))<=$V135,OFFSET('CCG-Prov(Births)'!$B$1,MATCH($A135,'CCG-Prov(Births)'!$A$2:$A$6150,0)+VALUE(RIGHT(AJ$2,1))-1,0),\"\")","v":""},{"$f":"IF(VALUE(MID(AK$2,5,2))<=$V135,OFFSET('CCG-Prov(Births)'!$B$1,MATCH($A135,'CCG-Prov(Births)'!$A$2:$A$6150,0)+VALUE(RIGHT(AK$2,1))-1,0),\"\")","v":""},{"$f":"IF(VALUE(MID(AL$2,5,2))<=$V135,OFFSET('CCG-Prov(Births)'!$B$1,MATCH($A135,'CCG-Prov(Births)'!$A$2:$A$6150,0)+VALUE(RIGHT(AL$2,1))-1,0),\"\")","v":""},{"$f":"IF(VALUE(MID(AM$2,5,2))<=$V135,OFFSET('CCG-Prov(Births)'!$B$1,MATCH($A135,'CCG-Prov(Births)'!$A$2:$A$6150,0)+VALUE(RIGHT(AM$2,1))-1,0),\"\")","v":""},null,"RWF",{"$f":"VLOOKUP(AO135,provnames!$A$2:$B$331,2,0)","v":"Maidstone & Tunbridge Wells NHS Trust"},{"$f":"SUM(IF(('CCG-Prov(Births)'!$B$2:$B$6150=AO135),1,0))","v":39}]
["04M","Nottingham West",{"$f":"SUM(IF(('CCG-Prov(Acute)'!$A$2:$A$29012=A136),1,0))","v":105},{"$f":"SUM(IF(('CCG-Prov(Acute)'!$A$2:$A$29012=A136)*('CCG-Prov(Acute)'!$C$2:$C$29012>=Acute!$B$7),1,0))","v":3},{"$f":"IF(VALUE(MID(E$2,5,2))<=$D136,OFFSET('CCG-Prov(Acute)'!$B$1,MATCH($A136,'CCG-Prov(Acute)'!$A$2:$A$29012,0)+VALUE(RIGHT(E$2,1))-1,0),\"\")","v":"RX1"},{"$f":"IF(VALUE(MID(F$2,5,2))<=$D136,OFFSET('CCG-Prov(Acute)'!$B$1,MATCH($A136,'CCG-Prov(Acute)'!$A$2:$A$29012,0)+VALUE(RIGHT(F$2,1))-1,0),\"\")","v":"NTA"},{"$f":"IF(VALUE(MID(G$2,5,2))<=$D136,OFFSET('CCG-Prov(Acute)'!$B$1,MATCH($A136,'CCG-Prov(Acute)'!$A$2:$A$29012,0)+VALUE(RIGHT(G$2,1))-1,0),\"\")","v":"RTG"},{"$f":"IF(VALUE(MID(H$2,5,2))<=$D136,OFFSET('CCG-Prov(Acute)'!$B$1,MATCH($A136,'CCG-Prov(Acute)'!$A$2:$A$29012,0)+VALUE(RIGHT(H$2,1))-1,0),\"\")","v":""},{"$f":"IF(VALUE(MID(I$2,5,2))<=$D136,OFFSET('CCG-Prov(Acute)'!$B$1,MATCH($A136,'CCG-Prov(Acute)'!$A$2:$A$29012,0)+VALUE(RIGHT(I$2,1))-1,0),\"\")","v":""},{"$f":"IF(VALUE(MID(J$2,5,2))<=$D136,OFFSET('CCG-Prov(Acute)'!$B$1,MATCH($A136,'CCG-Prov(Acute)'!$A$2:$A$29012,0)+VALUE(RIGHT(J$2,1))-1,0),\"\")","v":""},{"$f":"IF(VALUE(MID(K$2,5,2))<=$D136,OFFSET('CCG-Prov(Acute)'!$B$1,MATCH($A136,'CCG-Prov(Acute)'!$A$2:$A$29012,0)+VALUE(RIGHT(K$2,1))-1,0),\"\")","v":""},{"$f":"IF(VALUE(MID(L$2,5,2))<=$D136,OFFSET('CCG-Prov(Acute)'!$B$1,MATCH($A136,'CCG-Prov(Acute)'!$A$2:$A$29012,0)+VALUE(RIGHT(L$2,1))-1,0),\"\")","v":""},{"$f":"IF(VALUE(MID(M$2,5,2))<=$D136,OFFSET('CCG-Prov(Acute)'!$B$1,MATCH($A136,'CCG-Prov(Acute)'!$A$2:$A$29012,0)+VALUE(RIGHT(M$2,1))-1,0),\"\")","v":""},{"$f":"IF(VALUE(MID(N$2,5,2))<=$D136,OFFSET('CCG-Prov(Acute)'!$B$1,MATCH($A136,'CCG-Prov(Acute)'!$A$2:$A$29012,0)+VALUE(RIGHT(N$2,1))-1,0),\"\")","v":""},null,null,"REF",{"$f":"VLOOKUP(Q136,provnames!$A$2:$B$331,2,0)","v":"Royal Cornwall Hospitals NHS Trust"},{"$f":"SUM(IF(('CCG-Prov(Acute)'!$B$2:$B$28899=Q136),1,0))","v":207},null,{"$f":"SUM(IF(('CCG-Prov(Amb)'!$A$2:$A$335=A136),1,0))","v":1},{"$f":"SUM(IF(('CCG-Prov(Amb)'!$A$2:$A$335=A136)*('CCG-Prov(Amb)'!$C$2:$C$335>=Ambulance!$B$7),1,0))","v":1},{"$f":"IF(VALUE(MID(W$2,5,2))<=$V136,OFFSET('CCG-Prov(Amb)'!$B$1,MATCH($A136,'CCG-Prov(Amb)'!$A$2:$A$335,0)+VALUE(RIGHT(W$2,1))-1,0),\"\")","v":"RX9"},{"$f":"IF(VALUE(MID(X$2,5,2))<=$V136,OFFSET('CCG-Prov(Amb)'!$B$1,MATCH($A136,'CCG-Prov(Amb)'!$A$2:$A$335,0)+VALUE(RIGHT(X$2,1))-1,0),\"\")","v":""},{"$f":"IF(VALUE(MID(Y$2,5,2))<=$V136,OFFSET('CCG-Prov(Amb)'!$B$1,MATCH($A136,'CCG-Prov(Amb)'!$A$2:$A$335,0)+VALUE(RIGHT(Y$2,1))-1,0),\"\")","v":""},{"$f":"IF(VALUE(MID(Z$2,5,2))<=$V136,OFFSET('CCG-Prov(Amb)'!$B$1,MATCH($A136,'CCG-Prov(Amb)'!$A$2:$A$335,0)+VALUE(RIGHT(Z$2,1))-1,0),\"\")","v":""},{"$f":"IF(VALUE(MID(AA$2,5,2))<=$V136,OFFSET('CCG-Prov(Amb)'!$B$1,MATCH($A136,'CCG-Prov(Amb)'!$A$2:$A$335,0)+VALUE(RIGHT(AA$2,1))-1,0),\"\")","v":""},null,null,null,null,null,{"$f":"SUM(IF(('CCG-Prov(Births)'!$A$2:$A$6150=A136),1,0))","v":15},{"$f":"SUM(IF(('CCG-Prov(Births)'!$A$2:$A$6150=A136)*('CCG-Prov(Births)'!$C$2:$C$6150>=Maternity!$B$7),1,0))","v":1},{"$f":"IF(VALUE(MID(AI$2,5,2))<=$V136,OFFSET('CCG-Prov(Births)'!$B$1,MATCH($A136,'CCG-Prov(Births)'!$A$2:$A$6150,0)+VALUE(RIGHT(AI$2,1))-1,0),\"\")","v":"RX1"},{"$f":"IF(VALUE(MID(AJ$2,5,2))<=$V136,OFFSET('CCG-Prov(Births)'!$B$1,MATCH($A136,'CCG-Prov(Births)'!$A$2:$A$6150,0)+VALUE(RIGHT(AJ$2,1))-1,0),\"\")","v":""},{"$f":"IF(VALUE(MID(AK$2,5,2))<=$V136,OFFSET('CCG-Prov(Births)'!$B$1,MATCH($A136,'CCG-Prov(Births)'!$A$2:$A$6150,0)+VALUE(RIGHT(AK$2,1))-1,0),\"\")","v":""},{"$f":"IF(VALUE(MID(AL$2,5,2))<=$V136,OFFSET('CCG-Prov(Births)'!$B$1,MATCH($A136,'CCG-Prov(Births)'!$A$2:$A$6150,0)+VALUE(RIGHT(AL$2,1))-1,0),\"\")","v":""},{"$f":"IF(VALUE(MID(AM$2,5,2))<=$V136,OFFSET('CCG-Prov(Births)'!$B$1,MATCH($A136,'CCG-Prov(Births)'!$A$2:$A$6150,0)+VALUE(RIGHT(AM$2,1))-1,0),\"\")","v":""},null,"RWG",{"$f":"VLOOKUP(AO136,provnames!$A$2:$B$331,2,0)","v":"West Hertfordshire Hospitals NHS Trust"},{"$f":"SUM(IF(('CCG-Prov(Births)'!$B$2:$B$6150=AO136),1,0))","v":35}]
["00Y","Oldham",{"$f":"SUM(IF(('CCG-Prov(Acute)'!$A$2:$A$29012=A137),1,0))","v":121},{"$f":"SUM(IF(('CCG-Prov(Acute)'!$A$2:$A$29012=A137)*('CCG-Prov(Acute)'!$C$2:$C$29012>=Acute!$B$7),1,0))","v":7},{"$f":"IF(VALUE(MID(E$2,5,2))<=$D137,OFFSET('CCG-Prov(Acute)'!$B$1,MATCH($A137,'CCG-Prov(Acute)'!$A$2:$A$29012,0)+VALUE(RIGHT(E$2,1))-1,0),\"\")","v":"RW6"},{"$f":"IF(VALUE(MID(F$2,5,2))<=$D137,OFFSET('CCG-Prov(Acute)'!$B$1,MATCH($A137,'CCG-Prov(Acute)'!$A$2:$A$29012,0)+VALUE(RIGHT(F$2,1))-1,0),\"\")","v":"RW3"},{"$f":"IF(VALUE(MID(G$2,5,2))<=$D137,OFFSET('CCG-Prov(Acute)'!$B$1,MATCH($A137,'CCG-Prov(Acute)'!$A$2:$A$29012,0)+VALUE(RIGHT(G$2,1))-1,0),\"\")","v":"RMP"},{"$f":"IF(VALUE(MID(H$2,5,2))<=$D137,OFFSET('CCG-Prov(Acute)'!$B$1,MATCH($A137,'CCG-Prov(Acute)'!$A$2:$A$29012,0)+VALUE(RIGHT(H$2,1))-1,0),\"\")","v":"NT4"},{"$f":"IF(VALUE(MID(I$2,5,2))<=$D137,OFFSET('CCG-Prov(Acute)'!$B$1,MATCH($A137,'CCG-Prov(Acute)'!$A$2:$A$29012,0)+VALUE(RIGHT(I$2,1))-1,0),\"\")","v":"RM3"},{"$f":"IF(VALUE(MID(J$2,5,2))<=$D137,OFFSET('CCG-Prov(Acute)'!$B$1,MATCH($A137,'CCG-Prov(Acute)'!$A$2:$A$29012,0)+VALUE(RIGHT(J$2,1))-1,0),\"\")","v":"RM2"},{"$f":"IF(VALUE(MID(K$2,5,2))<=$D137,OFFSET('CCG-Prov(Acute)'!$B$1,MATCH($A137,'CCG-Prov(Acute)'!$A$2:$A$29012,0)+VALUE(RIGHT(K$2,1))-1,0),\"\")","v":"RBV"},{"$f":"IF(VALUE(MID(L$2,5,2))<=$D137,OFFSET('CCG-Prov(Acute)'!$B$1,MATCH($A137,'CCG-Prov(Acute)'!$A$2:$A$29012,0)+VALUE(RIGHT(L$2,1))-1,0),\"\")","v":""},{"$f":"IF(VALUE(MID(M$2,5,2))<=$D137,OFFSET('CCG-Prov(Acute)'!$B$1,MATCH($A137,'CCG-Prov(Acute)'!$A$2:$A$29012,0)+VALUE(RIGHT(M$2,1))-1,0),\"\")","v":""},{"$f":"IF(VALUE(MID(N$2,5,2))<=$D137,OFFSET('CCG-Prov(Acute)'!$B$1,MATCH($A137,'CCG-Prov(Acute)'!$A$2:$A$29012,0)+VALUE(RIGHT(N$2,1))-1,0),\"\")","v":""},null,null,"REM",{"$f":"VLOOKUP(Q137,provnames!$A$2:$B$331,2,0)","v":"Aintree Univ Hospitals NHS FT"},{"$f":"SUM(IF(('CCG-Prov(Acute)'!$B$2:$B$28899=Q137),1,0))","v":147},null,{"$f":"SUM(IF(('CCG-Prov(Amb)'!$A$2:$A$335=A137),1,0))","v":1},{"$f":"SUM(IF(('CCG-Prov(Amb)'!$A$2:$A$335=A137)*('CCG-Prov(Amb)'!$C$2:$C$335>=Ambulance!$B$7),1,0))","v":1},{"$f":"IF(VALUE(MID(W$2,5,2))<=$V137,OFFSET('CCG-Prov(Amb)'!$B$1,MATCH($A137,'CCG-Prov(Amb)'!$A$2:$A$335,0)+VALUE(RIGHT(W$2,1))-1,0),\"\")","v":"RX7"},{"$f":"IF(VALUE(MID(X$2,5,2))<=$V137,OFFSET('CCG-Prov(Amb)'!$B$1,MATCH($A137,'CCG-Prov(Amb)'!$A$2:$A$335,0)+VALUE(RIGHT(X$2,1))-1,0),\"\")","v":""},{"$f":"IF(VALUE(MID(Y$2,5,2))<=$V137,OFFSET('CCG-Prov(Amb)'!$B$1,MATCH($A137,'CCG-Prov(Amb)'!$A$2:$A$335,0)+VALUE(RIGHT(Y$2,1))-1,0),\"\")","v":""},{"$f":"IF(VALUE(MID(Z$2,5,2))<=$V137,OFFSET('CCG-Prov(Amb)'!$B$1,MATCH($A137,'CCG-Prov(Amb)'!$A$2:$A$335,0)+VALUE(RIGHT(Z$2,1))-1,0),\"\")","v":""},{"$f":"IF(VALUE(MID(AA$2,5,2))<=$V137,OFFSET('CCG-Prov(Amb)'!$B$1,MATCH($A137,'CCG-Prov(Amb)'!$A$2:$A$335,0)+VALUE(RIGHT(AA$2,1))-1,0),\"\")","v":""},null,null,null,null,null,{"$f":"SUM(IF(('CCG-Prov(Births)'!$A$2:$A$6150=A137),1,0))","v":22},{"$f":"SUM(IF(('CCG-Prov(Births)'!$A$2:$A$6150=A137)*('CCG-Prov(Births)'!$C$2:$C$6150>=Maternity!$B$7),1,0))","v":3},{"$f":"IF(VALUE(MID(AI$2,5,2))<=$V137,OFFSET('CCG-Prov(Births)'!$B$1,MATCH($A137,'CCG-Prov(Births)'!$A$2:$A$6150,0)+VALUE(RIGHT(AI$2,1))-1,0),\"\")","v":"RW6"},{"$f":"IF(VALUE(MID(AJ$2,5,2))<=$V137,OFFSET('CCG-Prov(Births)'!$B$1,MATCH($A137,'CCG-Prov(Births)'!$A$2:$A$6150,0)+VALUE(RIGHT(AJ$2,1))-1,0),\"\")","v":""},{"$f":"IF(VALUE(MID(AK$2,5,2))<=$V137,OFFSET('CCG-Prov(Births)'!$B$1,MATCH($A137,'CCG-Prov(Births)'!$A$2:$A$6150,0)+VALUE(RIGHT(AK$2,1))-1,0),\"\")","v":""},{"$f":"IF(VALUE(MID(AL$2,5,2))<=$V137,OFFSET('CCG-Prov(Births)'!$B$1,MATCH($A137,'CCG-Prov(Births)'!$A$2:$A$6150,0)+VALUE(RIGHT(AL$2,1))-1,0),\"\")","v":""},{"$f":"IF(VALUE(MID(AM$2,5,2))<=$V137,OFFSET('CCG-Prov(Births)'!$B$1,MATCH($A137,'CCG-Prov(Births)'!$A$2:$A$6150,0)+VALUE(RIGHT(AM$2,1))-1,0),\"\")","v":""},null,"RWH",{"$f":"VLOOKUP(AO137,provnames!$A$2:$B$331,2,0)","v":"East & North Hertfordshire NHS Trust"},{"$f":"SUM(IF(('CCG-Prov(Births)'!$B$2:$B$6150=AO137),1,0))","v":44}]
["10Q","Oxfordshire",{"$f":"SUM(IF(('CCG-Prov(Acute)'!$A$2:$A$29012=A138),1,0))","v":180},{"$f":"SUM(IF(('CCG-Prov(Acute)'!$A$2:$A$29012=A138)*('CCG-Prov(Acute)'!$C$2:$C$29012>=Acute!$B$7),1,0))","v":7},{"$f":"IF(VALUE(MID(E$2,5,2))<=$D138,OFFSET('CCG-Prov(Acute)'!$B$1,MATCH($A138,'CCG-Prov(Acute)'!$A$2:$A$29012,0)+VALUE(RIGHT(E$2,1))-1,0),\"\")","v":"RTH"},{"$f":"IF(VALUE(MID(F$2,5,2))<=$D138,OFFSET('CCG-Prov(Acute)'!$B$1,MATCH($A138,'CCG-Prov(Acute)'!$A$2:$A$29012,0)+VALUE(RIGHT(F$2,1))-1,0),\"\")","v":"RBF"},{"$f":"IF(VALUE(MID(G$2,5,2))<=$D138,OFFSET('CCG-Prov(Acute)'!$B$1,MATCH($A138,'CCG-Prov(Acute)'!$A$2:$A$29012,0)+VALUE(RIGHT(G$2,1))-1,0),\"\")","v":"RHW"},{"$f":"IF(VALUE(MID(H$2,5,2))<=$D138,OFFSET('CCG-Prov(Acute)'!$B$1,MATCH($A138,'CCG-Prov(Acute)'!$A$2:$A$29012,0)+VALUE(RIGHT(H$2,1))-1,0),\"\")","v":"5QE"},{"$f":"IF(VALUE(MID(I$2,5,2))<=$D138,OFFSET('CCG-Prov(Acute)'!$B$1,MATCH($A138,'CCG-Prov(Acute)'!$A$2:$A$29012,0)+VALUE(RIGHT(I$2,1))-1,0),\"\")","v":"NVC"},{"$f":"IF(VALUE(MID(J$2,5,2))<=$D138,OFFSET('CCG-Prov(Acute)'!$B$1,MATCH($A138,'CCG-Prov(Acute)'!$A$2:$A$29012,0)+VALUE(RIGHT(J$2,1))-1,0),\"\")","v":"RN3"},{"$f":"IF(VALUE(MID(K$2,5,2))<=$D138,OFFSET('CCG-Prov(Acute)'!$B$1,MATCH($A138,'CCG-Prov(Acute)'!$A$2:$A$29012,0)+VALUE(RIGHT(K$2,1))-1,0),\"\")","v":"RXQ"},{"$f":"IF(VALUE(MID(L$2,5,2))<=$D138,OFFSET('CCG-Prov(Acute)'!$B$1,MATCH($A138,'CCG-Prov(Acute)'!$A$2:$A$29012,0)+VALUE(RIGHT(L$2,1))-1,0),\"\")","v":""},{"$f":"IF(VALUE(MID(M$2,5,2))<=$D138,OFFSET('CCG-Prov(Acute)'!$B$1,MATCH($A138,'CCG-Prov(Acute)'!$A$2:$A$29012,0)+VALUE(RIGHT(M$2,1))-1,0),\"\")","v":""},{"$f":"IF(VALUE(MID(N$2,5,2))<=$D138,OFFSET('CCG-Prov(Acute)'!$B$1,MATCH($A138,'CCG-Prov(Acute)'!$A$2:$A$29012,0)+VALUE(RIGHT(N$2,1))-1,0),\"\")","v":""},null,null,"REN",{"$f":"VLOOKUP(Q138,provnames!$A$2:$B$331,2,0)","v":"Clatterbridge Centre For Oncology NHS FT"},{"$f":"SUM(IF(('CCG-Prov(Acute)'!$B$2:$B$28899=Q138),1,0))","v":25},null,{"$f":"SUM(IF(('CCG-Prov(Amb)'!$A$2:$A$335=A138),1,0))","v":4},{"$f":"SUM(IF(('CCG-Prov(Amb)'!$A$2:$A$335=A138)*('CCG-Prov(Amb)'!$C$2:$C$335>=Ambulance!$B$7),1,0))","v":4},{"$f":"IF(VALUE(MID(W$2,5,2))<=$V138,OFFSET('CCG-Prov(Amb)'!$B$1,MATCH($A138,'CCG-Prov(Amb)'!$A$2:$A$335,0)+VALUE(RIGHT(W$2,1))-1,0),\"\")","v":"RYE"},{"$f":"IF(VALUE(MID(X$2,5,2))<=$V138,OFFSET('CCG-Prov(Amb)'!$B$1,MATCH($A138,'CCG-Prov(Amb)'!$A$2:$A$335,0)+VALUE(RIGHT(X$2,1))-1,0),\"\")","v":"RX9"},{"$f":"IF(VALUE(MID(Y$2,5,2))<=$V138,OFFSET('CCG-Prov(Amb)'!$B$1,MATCH($A138,'CCG-Prov(Amb)'!$A$2:$A$335,0)+VALUE(RIGHT(Y$2,1))-1,0),\"\")","v":"RYA"},{"$f":"IF(VALUE(MID(Z$2,5,2))<=$V138,OFFSET('CCG-Prov(Amb)'!$B$1,MATCH($A138,'CCG-Prov(Amb)'!$A$2:$A$335,0)+VALUE(RIGHT(Z$2,1))-1,0),\"\")","v":"RX5"},{"$f":"IF(VALUE(MID(AA$2,5,2))<=$V138,OFFSET('CCG-Prov(Amb)'!$B$1,MATCH($A138,'CCG-Prov(Amb)'!$A$2:$A$335,0)+VALUE(RIGHT(AA$2,1))-1,0),\"\")","v":""},null,null,null,null,null,{"$f":"SUM(IF(('CCG-Prov(Births)'!$A$2:$A$6150=A138),1,0))","v":64},{"$f":"SUM(IF(('CCG-Prov(Births)'!$A$2:$A$6150=A138)*('CCG-Prov(Births)'!$C$2:$C$6150>=Maternity!$B$7),1,0))","v":3},{"$f":"IF(VALUE(MID(AI$2,5,2))<=$V138,OFFSET('CCG-Prov(Births)'!$B$1,MATCH($A138,'CCG-Prov(Births)'!$A$2:$A$6150,0)+VALUE(RIGHT(AI$2,1))-1,0),\"\")","v":"RTH"},{"$f":"IF(VALUE(MID(AJ$2,5,2))<=$V138,OFFSET('CCG-Prov(Births)'!$B$1,MATCH($A138,'CCG-Prov(Births)'!$A$2:$A$6150,0)+VALUE(RIGHT(AJ$2,1))-1,0),\"\")","v":"RHW"},{"$f":"IF(VALUE(MID(AK$2,5,2))<=$V138,OFFSET('CCG-Prov(Births)'!$B$1,MATCH($A138,'CCG-Prov(Births)'!$A$2:$A$6150,0)+VALUE(RIGHT(AK$2,1))-1,0),\"\")","v":"RN3"},{"$f":"IF(VALUE(MID(AL$2,5,2))<=$V138,OFFSET('CCG-Prov(Births)'!$B$1,MATCH($A138,'CCG-Prov(Births)'!$A$2:$A$6150,0)+VALUE(RIGHT(AL$2,1))-1,0),\"\")","v":"RXQ"},{"$f":"IF(VALUE(MID(AM$2,5,2))<=$V138,OFFSET('CCG-Prov(Births)'!$B$1,MATCH($A138,'CCG-Prov(Births)'!$A$2:$A$6150,0)+VALUE(RIGHT(AM$2,1))-1,0),\"\")","v":""},null,"RWJ",{"$f":"VLOOKUP(AO138,provnames!$A$2:$B$331,2,0)","v":"Stockport NHS FT"},{"$f":"SUM(IF(('CCG-Prov(Births)'!$B$2:$B$6150=AO138),1,0))","v":41}]
["10R","Portsmouth",{"$f":"SUM(IF(('CCG-Prov(Acute)'!$A$2:$A$29012=A139),1,0))","v":142},{"$f":"SUM(IF(('CCG-Prov(Acute)'!$A$2:$A$29012=A139)*('CCG-Prov(Acute)'!$C$2:$C$29012>=Acute!$B$7),1,0))","v":4},{"$f":"IF(VALUE(MID(E$2,5,2))<=$D139,OFFSET('CCG-Prov(Acute)'!$B$1,MATCH($A139,'CCG-Prov(Acute)'!$A$2:$A$29012,0)+VALUE(RIGHT(E$2,1))-1,0),\"\")","v":"RHU"},{"$f":"IF(VALUE(MID(F$2,5,2))<=$D139,OFFSET('CCG-Prov(Acute)'!$B$1,MATCH($A139,'CCG-Prov(Acute)'!$A$2:$A$29012,0)+VALUE(RIGHT(F$2,1))-1,0),\"\")","v":"NTP"},{"$f":"IF(VALUE(MID(G$2,5,2))<=$D139,OFFSET('CCG-Prov(Acute)'!$B$1,MATCH($A139,'CCG-Prov(Acute)'!$A$2:$A$29012,0)+VALUE(RIGHT(G$2,1))-1,0),\"\")","v":"RHM"},{"$f":"IF(VALUE(MID(H$2,5,2))<=$D139,OFFSET('CCG-Prov(Acute)'!$B$1,MATCH($A139,'CCG-Prov(Acute)'!$A$2:$A$29012,0)+VALUE(RIGHT(H$2,1))-1,0),\"\")","v":"5FE"},{"$f":"IF(VALUE(MID(I$2,5,2))<=$D139,OFFSET('CCG-Prov(Acute)'!$B$1,MATCH($A139,'CCG-Prov(Acute)'!$A$2:$A$29012,0)+VALUE(RIGHT(I$2,1))-1,0),\"\")","v":""},{"$f":"IF(VALUE(MID(J$2,5,2))<=$D139,OFFSET('CCG-Prov(Acute)'!$B$1,MATCH($A139,'CCG-Prov(Acute)'!$A$2:$A$29012,0)+VALUE(RIGHT(J$2,1))-1,0),\"\")","v":""},{"$f":"IF(VALUE(MID(K$2,5,2))<=$D139,OFFSET('CCG-Prov(Acute)'!$B$1,MATCH($A139,'CCG-Prov(Acute)'!$A$2:$A$29012,0)+VALUE(RIGHT(K$2,1))-1,0),\"\")","v":""},{"$f":"IF(VALUE(MID(L$2,5,2))<=$D139,OFFSET('CCG-Prov(Acute)'!$B$1,MATCH($A139,'CCG-Prov(Acute)'!$A$2:$A$29012,0)+VALUE(RIGHT(L$2,1))-1,0),\"\")","v":""},{"$f":"IF(VALUE(MID(M$2,5,2))<=$D139,OFFSET('CCG-Prov(Acute)'!$B$1,MATCH($A139,'CCG-Prov(Acute)'!$A$2:$A$29012,0)+VALUE(RIGHT(M$2,1))-1,0),\"\")","v":""},{"$f":"IF(VALUE(MID(N$2,5,2))<=$D139,OFFSET('CCG-Prov(Acute)'!$B$1,MATCH($A139,'CCG-Prov(Acute)'!$A$2:$A$29012,0)+VALUE(RIGHT(N$2,1))-1,0),\"\")","v":""},null,null,"REP",{"$f":"VLOOKUP(Q139,provnames!$A$2:$B$331,2,0)","v":"Liverpool Women's NHS FT"},{"$f":"SUM(IF(('CCG-Prov(Acute)'!$B$2:$B$28899=Q139),1,0))","v":58},null,{"$f":"SUM(IF(('CCG-Prov(Amb)'!$A$2:$A$335=A139),1,0))","v":1},{"$f":"SUM(IF(('CCG-Prov(Amb)'!$A$2:$A$335=A139)*('CCG-Prov(Amb)'!$C$2:$C$335>=Ambulance!$B$7),1,0))","v":1},{"$f":"IF(VALUE(MID(W$2,5,2))<=$V139,OFFSET('CCG-Prov(Amb)'!$B$1,MATCH($A139,'CCG-Prov(Amb)'!$A$2:$A$335,0)+VALUE(RIGHT(W$2,1))-1,0),\"\")","v":"RYE"},{"$f":"IF(VALUE(MID(X$2,5,2))<=$V139,OFFSET('CCG-Prov(Amb)'!$B$1,MATCH($A139,'CCG-Prov(Amb)'!$A$2:$A$335,0)+VALUE(RIGHT(X$2,1))-1,0),\"\")","v":""},{"$f":"IF(VALUE(MID(Y$2,5,2))<=$V139,OFFSET('CCG-Prov(Amb)'!$B$1,MATCH($A139,'CCG-Prov(Amb)'!$A$2:$A$335,0)+VALUE(RIGHT(Y$2,1))-1,0),\"\")","v":""},{"$f":"IF(VALUE(MID(Z$2,5,2))<=$V139,OFFSET('CCG-Prov(Amb)'!$B$1,MATCH($A139,'CCG-Prov(Amb)'!$A$2:$A$335,0)+VALUE(RIGHT(Z$2,1))-1,0),\"\")","v":""},{"$f":"IF(VALUE(MID(AA$2,5,2))<=$V139,OFFSET('CCG-Prov(Amb)'!$B$1,MATCH($A139,'CCG-Prov(Amb)'!$A$2:$A$335,0)+VALUE(RIGHT(AA$2,1))-1,0),\"\")","v":""},null,null,null,null,null,{"$f":"SUM(IF(('CCG-Prov(Births)'!$A$2:$A$6150=A139),1,0))","v":22},{"$f":"SUM(IF(('CCG-Prov(Births)'!$A$2:$A$6150=A139)*('CCG-Prov(Births)'!$C$2:$C$6150>=Maternity!$B$7),1,0))","v":1},{"$f":"IF(VALUE(MID(AI$2,5,2))<=$V139,OFFSET('CCG-Prov(Births)'!$B$1,MATCH($A139,'CCG-Prov(Births)'!$A$2:$A$6150,0)+VALUE(RIGHT(AI$2,1))-1,0),\"\")","v":"RHU"},{"$f":"IF(VALUE(MID(AJ$2,5,2))<=$V139,OFFSET('CCG-Prov(Births)'!$B$1,MATCH($A139,'CCG-Prov(Births)'!$A$2:$A$6150,0)+VALUE(RIGHT(AJ$2,1))-1,0),\"\")","v":""},{"$f":"IF(VALUE(MID(AK$2,5,2))<=$V139,OFFSET('CCG-Prov(Births)'!$B$1,MATCH($A139,'CCG-Prov(Births)'!$A$2:$A$6150,0)+VALUE(RIGHT(AK$2,1))-1,0),\"\")","v":""},{"$f":"IF(VALUE(MID(AL$2,5,2))<=$V139,OFFSET('CCG-Prov(Births)'!$B$1,MATCH($A139,'CCG-Prov(Births)'!$A$2:$A$6150,0)+VALUE(RIGHT(AL$2,1))-1,0),\"\")","v":""},{"$f":"IF(VALUE(MID(AM$2,5,2))<=$V139,OFFSET('CCG-Prov(Births)'!$B$1,MATCH($A139,'CCG-Prov(Births)'!$A$2:$A$6150,0)+VALUE(RIGHT(AM$2,1))-1,0),\"\")","v":""},null,"RWP",{"$f":"VLOOKUP(AO139,provnames!$A$2:$B$331,2,0)","v":"Worcestershire Acute Hospitals NHS Trust"},{"$f":"SUM(IF(('CCG-Prov(Births)'!$B$2:$B$6150=AO139),1,0))","v":42}]
["08N","Redbridge",{"$f":"SUM(IF(('CCG-Prov(Acute)'!$A$2:$A$29012=A140),1,0))","v":140},{"$f":"SUM(IF(('CCG-Prov(Acute)'!$A$2:$A$29012=A140)*('CCG-Prov(Acute)'!$C$2:$C$29012>=Acute!$B$7),1,0))","v":10},{"$f":"IF(VALUE(MID(E$2,5,2))<=$D140,OFFSET('CCG-Prov(Acute)'!$B$1,MATCH($A140,'CCG-Prov(Acute)'!$A$2:$A$29012,0)+VALUE(RIGHT(E$2,1))-1,0),\"\")","v":"RF4"},{"$f":"IF(VALUE(MID(F$2,5,2))<=$D140,OFFSET('CCG-Prov(Acute)'!$B$1,MATCH($A140,'CCG-Prov(Acute)'!$A$2:$A$29012,0)+VALUE(RIGHT(F$2,1))-1,0),\"\")","v":"RGC"},{"$f":"IF(VALUE(MID(G$2,5,2))<=$D140,OFFSET('CCG-Prov(Acute)'!$B$1,MATCH($A140,'CCG-Prov(Acute)'!$A$2:$A$29012,0)+VALUE(RIGHT(G$2,1))-1,0),\"\")","v":"RNJ"},{"$f":"IF(VALUE(MID(H$2,5,2))<=$D140,OFFSET('CCG-Prov(Acute)'!$B$1,MATCH($A140,'CCG-Prov(Acute)'!$A$2:$A$29012,0)+VALUE(RIGHT(H$2,1))-1,0),\"\")","v":"NTP"},{"$f":"IF(VALUE(MID(I$2,5,2))<=$D140,OFFSET('CCG-Prov(Acute)'!$B$1,MATCH($A140,'CCG-Prov(Acute)'!$A$2:$A$29012,0)+VALUE(RIGHT(I$2,1))-1,0),\"\")","v":"RRV"},{"$f":"IF(VALUE(MID(J$2,5,2))<=$D140,OFFSET('CCG-Prov(Acute)'!$B$1,MATCH($A140,'CCG-Prov(Acute)'!$A$2:$A$29012,0)+VALUE(RIGHT(J$2,1))-1,0),\"\")","v":"RP6"},{"$f":"IF(VALUE(MID(K$2,5,2))<=$D140,OFFSET('CCG-Prov(Acute)'!$B$1,MATCH($A140,'CCG-Prov(Acute)'!$A$2:$A$29012,0)+VALUE(RIGHT(K$2,1))-1,0),\"\")","v":"RQ8"},{"$f":"IF(VALUE(MID(L$2,5,2))<=$D140,OFFSET('CCG-Prov(Acute)'!$B$1,MATCH($A140,'CCG-Prov(Acute)'!$A$2:$A$29012,0)+VALUE(RIGHT(L$2,1))-1,0),\"\")","v":"NT3"},{"$f":"IF(VALUE(MID(M$2,5,2))<=$D140,OFFSET('CCG-Prov(Acute)'!$B$1,MATCH($A140,'CCG-Prov(Acute)'!$A$2:$A$29012,0)+VALUE(RIGHT(M$2,1))-1,0),\"\")","v":"RAL"},{"$f":"IF(VALUE(MID(N$2,5,2))<=$D140,OFFSET('CCG-Prov(Acute)'!$B$1,MATCH($A140,'CCG-Prov(Acute)'!$A$2:$A$29012,0)+VALUE(RIGHT(N$2,1))-1,0),\"\")","v":"RYV"},null,null,"RET",{"$f":"VLOOKUP(Q140,provnames!$A$2:$B$331,2,0)","v":"The Walton Centre NHS FT"},{"$f":"SUM(IF(('CCG-Prov(Acute)'!$B$2:$B$28899=Q140),1,0))","v":78},null,{"$f":"SUM(IF(('CCG-Prov(Amb)'!$A$2:$A$335=A140),1,0))","v":2},{"$f":"SUM(IF(('CCG-Prov(Amb)'!$A$2:$A$335=A140)*('CCG-Prov(Amb)'!$C$2:$C$335>=Ambulance!$B$7),1,0))","v":2},{"$f":"IF(VALUE(MID(W$2,5,2))<=$V140,OFFSET('CCG-Prov(Amb)'!$B$1,MATCH($A140,'CCG-Prov(Amb)'!$A$2:$A$335,0)+VALUE(RIGHT(W$2,1))-1,0),\"\")","v":"RRY"},{"$f":"IF(VALUE(MID(X$2,5,2))<=$V140,OFFSET('CCG-Prov(Amb)'!$B$1,MATCH($A140,'CCG-Prov(Amb)'!$A$2:$A$335,0)+VALUE(RIGHT(X$2,1))-1,0),\"\")","v":"RYC"},{"$f":"IF(VALUE(MID(Y$2,5,2))<=$V140,OFFSET('CCG-Prov(Amb)'!$B$1,MATCH($A140,'CCG-Prov(Amb)'!$A$2:$A$335,0)+VALUE(RIGHT(Y$2,1))-1,0),\"\")","v":""},{"$f":"IF(VALUE(MID(Z$2,5,2))<=$V140,OFFSET('CCG-Prov(Amb)'!$B$1,MATCH($A140,'CCG-Prov(Amb)'!$A$2:$A$335,0)+VALUE(RIGHT(Z$2,1))-1,0),\"\")","v":""},{"$f":"IF(VALUE(MID(AA$2,5,2))<=$V140,OFFSET('CCG-Prov(Amb)'!$B$1,MATCH($A140,'CCG-Prov(Amb)'!$A$2:$A$335,0)+VALUE(RIGHT(AA$2,1))-1,0),\"\")","v":""},null,null,null,null,null,{"$f":"SUM(IF(('CCG-Prov(Births)'!$A$2:$A$6150=A140),1,0))","v":44},{"$f":"SUM(IF(('CCG-Prov(Births)'!$A$2:$A$6150=A140)*('CCG-Prov(Births)'!$C$2:$C$6150>=Maternity!$B$7),1,0))","v":4},{"$f":"IF(VALUE(MID(AI$2,5,2))<=$V140,OFFSET('CCG-Prov(Births)'!$B$1,MATCH($A140,'CCG-Prov(Births)'!$A$2:$A$6150,0)+VALUE(RIGHT(AI$2,1))-1,0),\"\")","v":"RF4"},{"$f":"IF(VALUE(MID(AJ$2,5,2))<=$V140,OFFSET('CCG-Prov(Births)'!$B$1,MATCH($A140,'CCG-Prov(Births)'!$A$2:$A$6150,0)+VALUE(RIGHT(AJ$2,1))-1,0),\"\")","v":"RGC"},{"$f":"IF(VALUE(MID(AK$2,5,2))<=$V140,OFFSET('CCG-Prov(Births)'!$B$1,MATCH($A140,'CCG-Prov(Births)'!$A$2:$A$6150,0)+VALUE(RIGHT(AK$2,1))-1,0),\"\")","v":""},{"$f":"IF(VALUE(MID(AL$2,5,2))<=$V140,OFFSET('CCG-Prov(Births)'!$B$1,MATCH($A140,'CCG-Prov(Births)'!$A$2:$A$6150,0)+VALUE(RIGHT(AL$2,1))-1,0),\"\")","v":""},{"$f":"IF(VALUE(MID(AM$2,5,2))<=$V140,OFFSET('CCG-Prov(Births)'!$B$1,MATCH($A140,'CCG-Prov(Births)'!$A$2:$A$6150,0)+VALUE(RIGHT(AM$2,1))-1,0),\"\")","v":""},null,"RWW",{"$f":"VLOOKUP(AO140,provnames!$A$2:$B$331,2,0)","v":"Warrington & Halton Hospitals NHS FT"},{"$f":"SUM(IF(('CCG-Prov(Births)'!$B$2:$B$6150=AO140),1,0))","v":22}]
["05J","Redditch & Bromsgrove",{"$f":"SUM(IF(('CCG-Prov(Acute)'!$A$2:$A$29012=A141),1,0))","v":122},{"$f":"SUM(IF(('CCG-Prov(Acute)'!$A$2:$A$29012=A141)*('CCG-Prov(Acute)'!$C$2:$C$29012>=Acute!$B$7),1,0))","v":7},{"$f":"IF(VALUE(MID(E$2,5,2))<=$D141,OFFSET('CCG-Prov(Acute)'!$B$1,MATCH($A141,'CCG-Prov(Acute)'!$A$2:$A$29012,0)+VALUE(RIGHT(E$2,1))-1,0),\"\")","v":"RWP"},{"$f":"IF(VALUE(MID(F$2,5,2))<=$D141,OFFSET('CCG-Prov(Acute)'!$B$1,MATCH($A141,'CCG-Prov(Acute)'!$A$2:$A$29012,0)+VALUE(RIGHT(F$2,1))-1,0),\"\")","v":"RRK"},{"$f":"IF(VALUE(MID(G$2,5,2))<=$D141,OFFSET('CCG-Prov(Acute)'!$B$1,MATCH($A141,'CCG-Prov(Acute)'!$A$2:$A$29012,0)+VALUE(RIGHT(G$2,1))-1,0),\"\")","v":"RRJ"},{"$f":"IF(VALUE(MID(H$2,5,2))<=$D141,OFFSET('CCG-Prov(Acute)'!$B$1,MATCH($A141,'CCG-Prov(Acute)'!$A$2:$A$29012,0)+VALUE(RIGHT(H$2,1))-1,0),\"\")","v":"5PL"},{"$f":"IF(VALUE(MID(I$2,5,2))<=$D141,OFFSET('CCG-Prov(Acute)'!$B$1,MATCH($A141,'CCG-Prov(Acute)'!$A$2:$A$29012,0)+VALUE(RIGHT(I$2,1))-1,0),\"\")","v":"RR1"},{"$f":"IF(VALUE(MID(J$2,5,2))<=$D141,OFFSET('CCG-Prov(Acute)'!$B$1,MATCH($A141,'CCG-Prov(Acute)'!$A$2:$A$29012,0)+VALUE(RIGHT(J$2,1))-1,0),\"\")","v":"RQ3"},{"$f":"IF(VALUE(MID(K$2,5,2))<=$D141,OFFSET('CCG-Prov(Acute)'!$B$1,MATCH($A141,'CCG-Prov(Acute)'!$A$2:$A$29012,0)+VALUE(RIGHT(K$2,1))-1,0),\"\")","v":"RXK"},{"$f":"IF(VALUE(MID(L$2,5,2))<=$D141,OFFSET('CCG-Prov(Acute)'!$B$1,MATCH($A141,'CCG-Prov(Acute)'!$A$2:$A$29012,0)+VALUE(RIGHT(L$2,1))-1,0),\"\")","v":""},{"$f":"IF(VALUE(MID(M$2,5,2))<=$D141,OFFSET('CCG-Prov(Acute)'!$B$1,MATCH($A141,'CCG-Prov(Acute)'!$A$2:$A$29012,0)+VALUE(RIGHT(M$2,1))-1,0),\"\")","v":""},{"$f":"IF(VALUE(MID(N$2,5,2))<=$D141,OFFSET('CCG-Prov(Acute)'!$B$1,MATCH($A141,'CCG-Prov(Acute)'!$A$2:$A$29012,0)+VALUE(RIGHT(N$2,1))-1,0),\"\")","v":""},null,null,"RF4",{"$f":"VLOOKUP(Q141,provnames!$A$2:$B$331,2,0)","v":"Barking, Havering & Redbridge Univ Hospitals NHS Trust"},{"$f":"SUM(IF(('CCG-Prov(Acute)'!$B$2:$B$28899=Q141),1,0))","v":172},null,{"$f":"SUM(IF(('CCG-Prov(Amb)'!$A$2:$A$335=A141),1,0))","v":1},{"$f":"SUM(IF(('CCG-Prov(Amb)'!$A$2:$A$335=A141)*('CCG-Prov(Amb)'!$C$2:$C$335>=Ambulance!$B$7),1,0))","v":1},{"$f":"IF(VALUE(MID(W$2,5,2))<=$V141,OFFSET('CCG-Prov(Amb)'!$B$1,MATCH($A141,'CCG-Prov(Amb)'!$A$2:$A$335,0)+VALUE(RIGHT(W$2,1))-1,0),\"\")","v":"RYA"},{"$f":"IF(VALUE(MID(X$2,5,2))<=$V141,OFFSET('CCG-Prov(Amb)'!$B$1,MATCH($A141,'CCG-Prov(Amb)'!$A$2:$A$335,0)+VALUE(RIGHT(X$2,1))-1,0),\"\")","v":""},{"$f":"IF(VALUE(MID(Y$2,5,2))<=$V141,OFFSET('CCG-Prov(Amb)'!$B$1,MATCH($A141,'CCG-Prov(Amb)'!$A$2:$A$335,0)+VALUE(RIGHT(Y$2,1))-1,0),\"\")","v":""},{"$f":"IF(VALUE(MID(Z$2,5,2))<=$V141,OFFSET('CCG-Prov(Amb)'!$B$1,MATCH($A141,'CCG-Prov(Amb)'!$A$2:$A$335,0)+VALUE(RIGHT(Z$2,1))-1,0),\"\")","v":""},{"$f":"IF(VALUE(MID(AA$2,5,2))<=$V141,OFFSET('CCG-Prov(Amb)'!$B$1,MATCH($A141,'CCG-Prov(Amb)'!$A$2:$A$335,0)+VALUE(RIGHT(AA$2,1))-1,0),\"\")","v":""},null,null,null,null,null,{"$f":"SUM(IF(('CCG-Prov(Births)'!$A$2:$A$6150=A141),1,0))","v":20},{"$f":"SUM(IF(('CCG-Prov(Births)'!$A$2:$A$6150=A141)*('CCG-Prov(Births)'!$C$2:$C$6150>=Maternity!$B$7),1,0))","v":2},{"$f":"IF(VALUE(MID(AI$2,5,2))<=$V141,OFFSET('CCG-Prov(Births)'!$B$1,MATCH($A141,'CCG-Prov(Births)'!$A$2:$A$6150,0)+VALUE(RIGHT(AI$2,1))-1,0),\"\")","v":"RWP"},{"$f":"IF(VALUE(MID(AJ$2,5,2))<=$V141,OFFSET('CCG-Prov(Births)'!$B$1,MATCH($A141,'CCG-Prov(Births)'!$A$2:$A$6150,0)+VALUE(RIGHT(AJ$2,1))-1,0),\"\")","v":""},{"$f":"IF(VALUE(MID(AK$2,5,2))<=$V141,OFFSET('CCG-Prov(Births)'!$B$1,MATCH($A141,'CCG-Prov(Births)'!$A$2:$A$6150,0)+VALUE(RIGHT(AK$2,1))-1,0),\"\")","v":""},{"$f":"IF(VALUE(MID(AL$2,5,2))<=$V141,OFFSET('CCG-Prov(Births)'!$B$1,MATCH($A141,'CCG-Prov(Births)'!$A$2:$A$6150,0)+VALUE(RIGHT(AL$2,1))-1,0),\"\")","v":""},{"$f":"IF(VALUE(MID(AM$2,5,2))<=$V141,OFFSET('CCG-Prov(Births)'!$B$1,MATCH($A141,'CCG-Prov(Births)'!$A$2:$A$6150,0)+VALUE(RIGHT(AM$2,1))-1,0),\"\")","v":""},null,"RWY",{"$f":"VLOOKUP(AO141,provnames!$A$2:$B$331,2,0)","v":"Calderdale & Huddersfield NHS FT"},{"$f":"SUM(IF(('CCG-Prov(Births)'!$B$2:$B$6150=AO141),1,0))","v":28}]
["08P","Richmond",{"$f":"SUM(IF(('CCG-Prov(Acute)'!$A$2:$A$29012=A142),1,0))","v":140},{"$f":"SUM(IF(('CCG-Prov(Acute)'!$A$2:$A$29012=A142)*('CCG-Prov(Acute)'!$C$2:$C$29012>=Acute!$B$7),1,0))","v":6},{"$f":"IF(VALUE(MID(E$2,5,2))<=$D142,OFFSET('CCG-Prov(Acute)'!$B$1,MATCH($A142,'CCG-Prov(Acute)'!$A$2:$A$29012,0)+VALUE(RIGHT(E$2,1))-1,0),\"\")","v":"RAX"},{"$f":"IF(VALUE(MID(F$2,5,2))<=$D142,OFFSET('CCG-Prov(Acute)'!$B$1,MATCH($A142,'CCG-Prov(Acute)'!$A$2:$A$29012,0)+VALUE(RIGHT(F$2,1))-1,0),\"\")","v":"RFW"},{"$f":"IF(VALUE(MID(G$2,5,2))<=$D142,OFFSET('CCG-Prov(Acute)'!$B$1,MATCH($A142,'CCG-Prov(Acute)'!$A$2:$A$29012,0)+VALUE(RIGHT(G$2,1))-1,0),\"\")","v":"RYJ"},{"$f":"IF(VALUE(MID(H$2,5,2))<=$D142,OFFSET('CCG-Prov(Acute)'!$B$1,MATCH($A142,'CCG-Prov(Acute)'!$A$2:$A$29012,0)+VALUE(RIGHT(H$2,1))-1,0),\"\")","v":"RJ7"},{"$f":"IF(VALUE(MID(I$2,5,2))<=$D142,OFFSET('CCG-Prov(Acute)'!$B$1,MATCH($A142,'CCG-Prov(Acute)'!$A$2:$A$29012,0)+VALUE(RIGHT(I$2,1))-1,0),\"\")","v":"RQM"},{"$f":"IF(VALUE(MID(J$2,5,2))<=$D142,OFFSET('CCG-Prov(Acute)'!$B$1,MATCH($A142,'CCG-Prov(Acute)'!$A$2:$A$29012,0)+VALUE(RIGHT(J$2,1))-1,0),\"\")","v":"RTK"},{"$f":"IF(VALUE(MID(K$2,5,2))<=$D142,OFFSET('CCG-Prov(Acute)'!$B$1,MATCH($A142,'CCG-Prov(Acute)'!$A$2:$A$29012,0)+VALUE(RIGHT(K$2,1))-1,0),\"\")","v":""},{"$f":"IF(VALUE(MID(L$2,5,2))<=$D142,OFFSET('CCG-Prov(Acute)'!$B$1,MATCH($A142,'CCG-Prov(Acute)'!$A$2:$A$29012,0)+VALUE(RIGHT(L$2,1))-1,0),\"\")","v":""},{"$f":"IF(VALUE(MID(M$2,5,2))<=$D142,OFFSET('CCG-Prov(Acute)'!$B$1,MATCH($A142,'CCG-Prov(Acute)'!$A$2:$A$29012,0)+VALUE(RIGHT(M$2,1))-1,0),\"\")","v":""},{"$f":"IF(VALUE(MID(N$2,5,2))<=$D142,OFFSET('CCG-Prov(Acute)'!$B$1,MATCH($A142,'CCG-Prov(Acute)'!$A$2:$A$29012,0)+VALUE(RIGHT(N$2,1))-1,0),\"\")","v":""},null,null,"RFF",{"$f":"VLOOKUP(Q142,provnames!$A$2:$B$331,2,0)","v":"Barnsley Hospital NHS FT"},{"$f":"SUM(IF(('CCG-Prov(Acute)'!$B$2:$B$28899=Q142),1,0))","v":96},null,{"$f":"SUM(IF(('CCG-Prov(Amb)'!$A$2:$A$335=A142),1,0))","v":2},{"$f":"SUM(IF(('CCG-Prov(Amb)'!$A$2:$A$335=A142)*('CCG-Prov(Amb)'!$C$2:$C$335>=Ambulance!$B$7),1,0))","v":1},{"$f":"IF(VALUE(MID(W$2,5,2))<=$V142,OFFSET('CCG-Prov(Amb)'!$B$1,MATCH($A142,'CCG-Prov(Amb)'!$A$2:$A$335,0)+VALUE(RIGHT(W$2,1))-1,0),\"\")","v":"RRY"},{"$f":"IF(VALUE(MID(X$2,5,2))<=$V142,OFFSET('CCG-Prov(Amb)'!$B$1,MATCH($A142,'CCG-Prov(Amb)'!$A$2:$A$335,0)+VALUE(RIGHT(X$2,1))-1,0),\"\")","v":""},{"$f":"IF(VALUE(MID(Y$2,5,2))<=$V142,OFFSET('CCG-Prov(Amb)'!$B$1,MATCH($A142,'CCG-Prov(Amb)'!$A$2:$A$335,0)+VALUE(RIGHT(Y$2,1))-1,0),\"\")","v":""},{"$f":"IF(VALUE(MID(Z$2,5,2))<=$V142,OFFSET('CCG-Prov(Amb)'!$B$1,MATCH($A142,'CCG-Prov(Amb)'!$A$2:$A$335,0)+VALUE(RIGHT(Z$2,1))-1,0),\"\")","v":""},{"$f":"IF(VALUE(MID(AA$2,5,2))<=$V142,OFFSET('CCG-Prov(Amb)'!$B$1,MATCH($A142,'CCG-Prov(Amb)'!$A$2:$A$335,0)+VALUE(RIGHT(AA$2,1))-1,0),\"\")","v":""},null,null,null,null,null,{"$f":"SUM(IF(('CCG-Prov(Births)'!$A$2:$A$6150=A142),1,0))","v":36},{"$f":"SUM(IF(('CCG-Prov(Births)'!$A$2:$A$6150=A142)*('CCG-Prov(Births)'!$C$2:$C$6150>=Maternity!$B$7),1,0))","v":4},{"$f":"IF(VALUE(MID(AI$2,5,2))<=$V142,OFFSET('CCG-Prov(Births)'!$B$1,MATCH($A142,'CCG-Prov(Births)'!$A$2:$A$6150,0)+VALUE(RIGHT(AI$2,1))-1,0),\"\")","v":"RAX"},{"$f":"IF(VALUE(MID(AJ$2,5,2))<=$V142,OFFSET('CCG-Prov(Births)'!$B$1,MATCH($A142,'CCG-Prov(Births)'!$A$2:$A$6150,0)+VALUE(RIGHT(AJ$2,1))-1,0),\"\")","v":""},{"$f":"IF(VALUE(MID(AK$2,5,2))<=$V142,OFFSET('CCG-Prov(Births)'!$B$1,MATCH($A142,'CCG-Prov(Births)'!$A$2:$A$6150,0)+VALUE(RIGHT(AK$2,1))-1,0),\"\")","v":""},{"$f":"IF(VALUE(MID(AL$2,5,2))<=$V142,OFFSET('CCG-Prov(Births)'!$B$1,MATCH($A142,'CCG-Prov(Births)'!$A$2:$A$6150,0)+VALUE(RIGHT(AL$2,1))-1,0),\"\")","v":""},{"$f":"IF(VALUE(MID(AM$2,5,2))<=$V142,OFFSET('CCG-Prov(Births)'!$B$1,MATCH($A142,'CCG-Prov(Births)'!$A$2:$A$6150,0)+VALUE(RIGHT(AM$2,1))-1,0),\"\")","v":""},null,"RX1",{"$f":"VLOOKUP(AO142,provnames!$A$2:$B$331,2,0)","v":"Nottingham Univ Hospitals NHS Trust"},{"$f":"SUM(IF(('CCG-Prov(Births)'!$B$2:$B$6150=AO142),1,0))","v":72}]
["03L","Rotherham",{"$f":"SUM(IF(('CCG-Prov(Acute)'!$A$2:$A$29012=A143),1,0))","v":129},{"$f":"SUM(IF(('CCG-Prov(Acute)'!$A$2:$A$29012=A143)*('CCG-Prov(Acute)'!$C$2:$C$29012>=Acute!$B$7),1,0))","v":5},{"$f":"IF(VALUE(MID(E$2,5,2))<=$D143,OFFSET('CCG-Prov(Acute)'!$B$1,MATCH($A143,'CCG-Prov(Acute)'!$A$2:$A$29012,0)+VALUE(RIGHT(E$2,1))-1,0),\"\")","v":"RFR"},{"$f":"IF(VALUE(MID(F$2,5,2))<=$D143,OFFSET('CCG-Prov(Acute)'!$B$1,MATCH($A143,'CCG-Prov(Acute)'!$A$2:$A$29012,0)+VALUE(RIGHT(F$2,1))-1,0),\"\")","v":"RHQ"},{"$f":"IF(VALUE(MID(G$2,5,2))<=$D143,OFFSET('CCG-Prov(Acute)'!$B$1,MATCH($A143,'CCG-Prov(Acute)'!$A$2:$A$29012,0)+VALUE(RIGHT(G$2,1))-1,0),\"\")","v":"RP5"},{"$f":"IF(VALUE(MID(H$2,5,2))<=$D143,OFFSET('CCG-Prov(Acute)'!$B$1,MATCH($A143,'CCG-Prov(Acute)'!$A$2:$A$29012,0)+VALUE(RIGHT(H$2,1))-1,0),\"\")","v":"RCU"},{"$f":"IF(VALUE(MID(I$2,5,2))<=$D143,OFFSET('CCG-Prov(Acute)'!$B$1,MATCH($A143,'CCG-Prov(Acute)'!$A$2:$A$29012,0)+VALUE(RIGHT(I$2,1))-1,0),\"\")","v":"5H8"},{"$f":"IF(VALUE(MID(J$2,5,2))<=$D143,OFFSET('CCG-Prov(Acute)'!$B$1,MATCH($A143,'CCG-Prov(Acute)'!$A$2:$A$29012,0)+VALUE(RIGHT(J$2,1))-1,0),\"\")","v":""},{"$f":"IF(VALUE(MID(K$2,5,2))<=$D143,OFFSET('CCG-Prov(Acute)'!$B$1,MATCH($A143,'CCG-Prov(Acute)'!$A$2:$A$29012,0)+VALUE(RIGHT(K$2,1))-1,0),\"\")","v":""},{"$f":"IF(VALUE(MID(L$2,5,2))<=$D143,OFFSET('CCG-Prov(Acute)'!$B$1,MATCH($A143,'CCG-Prov(Acute)'!$A$2:$A$29012,0)+VALUE(RIGHT(L$2,1))-1,0),\"\")","v":""},{"$f":"IF(VALUE(MID(M$2,5,2))<=$D143,OFFSET('CCG-Prov(Acute)'!$B$1,MATCH($A143,'CCG-Prov(Acute)'!$A$2:$A$29012,0)+VALUE(RIGHT(M$2,1))-1,0),\"\")","v":""},{"$f":"IF(VALUE(MID(N$2,5,2))<=$D143,OFFSET('CCG-Prov(Acute)'!$B$1,MATCH($A143,'CCG-Prov(Acute)'!$A$2:$A$29012,0)+VALUE(RIGHT(N$2,1))-1,0),\"\")","v":""},null,null,"RFR",{"$f":"VLOOKUP(Q143,provnames!$A$2:$B$331,2,0)","v":"The Rotherham NHS FT"},{"$f":"SUM(IF(('CCG-Prov(Acute)'!$B$2:$B$28899=Q143),1,0))","v":124},null,{"$f":"SUM(IF(('CCG-Prov(Amb)'!$A$2:$A$335=A143),1,0))","v":2},{"$f":"SUM(IF(('CCG-Prov(Amb)'!$A$2:$A$335=A143)*('CCG-Prov(Amb)'!$C$2:$C$335>=Ambulance!$B$7),1,0))","v":1},{"$f":"IF(VALUE(MID(W$2,5,2))<=$V143,OFFSET('CCG-Prov(Amb)'!$B$1,MATCH($A143,'CCG-Prov(Amb)'!$A$2:$A$335,0)+VALUE(RIGHT(W$2,1))-1,0),\"\")","v":"RX8"},{"$f":"IF(VALUE(MID(X$2,5,2))<=$V143,OFFSET('CCG-Prov(Amb)'!$B$1,MATCH($A143,'CCG-Prov(Amb)'!$A$2:$A$335,0)+VALUE(RIGHT(X$2,1))-1,0),\"\")","v":""},{"$f":"IF(VALUE(MID(Y$2,5,2))<=$V143,OFFSET('CCG-Prov(Amb)'!$B$1,MATCH($A143,'CCG-Prov(Amb)'!$A$2:$A$335,0)+VALUE(RIGHT(Y$2,1))-1,0),\"\")","v":""},{"$f":"IF(VALUE(MID(Z$2,5,2))<=$V143,OFFSET('CCG-Prov(Amb)'!$B$1,MATCH($A143,'CCG-Prov(Amb)'!$A$2:$A$335,0)+VALUE(RIGHT(Z$2,1))-1,0),\"\")","v":""},{"$f":"IF(VALUE(MID(AA$2,5,2))<=$V143,OFFSET('CCG-Prov(Amb)'!$B$1,MATCH($A143,'CCG-Prov(Amb)'!$A$2:$A$335,0)+VALUE(RIGHT(AA$2,1))-1,0),\"\")","v":""},null,null,null,null,null,{"$f":"SUM(IF(('CCG-Prov(Births)'!$A$2:$A$6150=A143),1,0))","v":17},{"$f":"SUM(IF(('CCG-Prov(Births)'!$A$2:$A$6150=A143)*('CCG-Prov(Births)'!$C$2:$C$6150>=Maternity!$B$7),1,0))","v":3},{"$f":"IF(VALUE(MID(AI$2,5,2))<=$V143,OFFSET('CCG-Prov(Births)'!$B$1,MATCH($A143,'CCG-Prov(Births)'!$A$2:$A$6150,0)+VALUE(RIGHT(AI$2,1))-1,0),\"\")","v":"RFR"},{"$f":"IF(VALUE(MID(AJ$2,5,2))<=$V143,OFFSET('CCG-Prov(Births)'!$B$1,MATCH($A143,'CCG-Prov(Births)'!$A$2:$A$6150,0)+VALUE(RIGHT(AJ$2,1))-1,0),\"\")","v":""},{"$f":"IF(VALUE(MID(AK$2,5,2))<=$V143,OFFSET('CCG-Prov(Births)'!$B$1,MATCH($A143,'CCG-Prov(Births)'!$A$2:$A$6150,0)+VALUE(RIGHT(AK$2,1))-1,0),\"\")","v":""},{"$f":"IF(VALUE(MID(AL$2,5,2))<=$V143,OFFSET('CCG-Prov(Births)'!$B$1,MATCH($A143,'CCG-Prov(Births)'!$A$2:$A$6150,0)+VALUE(RIGHT(AL$2,1))-1,0),\"\")","v":""},{"$f":"IF(VALUE(MID(AM$2,5,2))<=$V143,OFFSET('CCG-Prov(Births)'!$B$1,MATCH($A143,'CCG-Prov(Births)'!$A$2:$A$6150,0)+VALUE(RIGHT(AM$2,1))-1,0),\"\")","v":""},null,"RXC",{"$f":"VLOOKUP(AO143,provnames!$A$2:$B$331,2,0)","v":"East Sussex Healthcare NHS Trust"},{"$f":"SUM(IF(('CCG-Prov(Births)'!$B$2:$B$6150=AO143),1,0))","v":34}]
["04N","Rushcliffe",{"$f":"SUM(IF(('CCG-Prov(Acute)'!$A$2:$A$29012=A144),1,0))","v":133},{"$f":"SUM(IF(('CCG-Prov(Acute)'!$A$2:$A$29012=A144)*('CCG-Prov(Acute)'!$C$2:$C$29012>=Acute!$B$7),1,0))","v":2},{"$f":"IF(VALUE(MID(E$2,5,2))<=$D144,OFFSET('CCG-Prov(Acute)'!$B$1,MATCH($A144,'CCG-Prov(Acute)'!$A$2:$A$29012,0)+VALUE(RIGHT(E$2,1))-1,0),\"\")","v":"RX1"},{"$f":"IF(VALUE(MID(F$2,5,2))<=$D144,OFFSET('CCG-Prov(Acute)'!$B$1,MATCH($A144,'CCG-Prov(Acute)'!$A$2:$A$29012,0)+VALUE(RIGHT(F$2,1))-1,0),\"\")","v":"NTA"},{"$f":"IF(VALUE(MID(G$2,5,2))<=$D144,OFFSET('CCG-Prov(Acute)'!$B$1,MATCH($A144,'CCG-Prov(Acute)'!$A$2:$A$29012,0)+VALUE(RIGHT(G$2,1))-1,0),\"\")","v":""},{"$f":"IF(VALUE(MID(H$2,5,2))<=$D144,OFFSET('CCG-Prov(Acute)'!$B$1,MATCH($A144,'CCG-Prov(Acute)'!$A$2:$A$29012,0)+VALUE(RIGHT(H$2,1))-1,0),\"\")","v":""},{"$f":"IF(VALUE(MID(I$2,5,2))<=$D144,OFFSET('CCG-Prov(Acute)'!$B$1,MATCH($A144,'CCG-Prov(Acute)'!$A$2:$A$29012,0)+VALUE(RIGHT(I$2,1))-1,0),\"\")","v":""},{"$f":"IF(VALUE(MID(J$2,5,2))<=$D144,OFFSET('CCG-Prov(Acute)'!$B$1,MATCH($A144,'CCG-Prov(Acute)'!$A$2:$A$29012,0)+VALUE(RIGHT(J$2,1))-1,0),\"\")","v":""},{"$f":"IF(VALUE(MID(K$2,5,2))<=$D144,OFFSET('CCG-Prov(Acute)'!$B$1,MATCH($A144,'CCG-Prov(Acute)'!$A$2:$A$29012,0)+VALUE(RIGHT(K$2,1))-1,0),\"\")","v":""},{"$f":"IF(VALUE(MID(L$2,5,2))<=$D144,OFFSET('CCG-Prov(Acute)'!$B$1,MATCH($A144,'CCG-Prov(Acute)'!$A$2:$A$29012,0)+VALUE(RIGHT(L$2,1))-1,0),\"\")","v":""},{"$f":"IF(VALUE(MID(M$2,5,2))<=$D144,OFFSET('CCG-Prov(Acute)'!$B$1,MATCH($A144,'CCG-Prov(Acute)'!$A$2:$A$29012,0)+VALUE(RIGHT(M$2,1))-1,0),\"\")","v":""},{"$f":"IF(VALUE(MID(N$2,5,2))<=$D144,OFFSET('CCG-Prov(Acute)'!$B$1,MATCH($A144,'CCG-Prov(Acute)'!$A$2:$A$29012,0)+VALUE(RIGHT(N$2,1))-1,0),\"\")","v":""},null,null,"RFS",{"$f":"VLOOKUP(Q144,provnames!$A$2:$B$331,2,0)","v":"Chesterfield Royal Hospital NHS FT"},{"$f":"SUM(IF(('CCG-Prov(Acute)'!$B$2:$B$28899=Q144),1,0))","v":160},null,{"$f":"SUM(IF(('CCG-Prov(Amb)'!$A$2:$A$335=A144),1,0))","v":1},{"$f":"SUM(IF(('CCG-Prov(Amb)'!$A$2:$A$335=A144)*('CCG-Prov(Amb)'!$C$2:$C$335>=Ambulance!$B$7),1,0))","v":1},{"$f":"IF(VALUE(MID(W$2,5,2))<=$V144,OFFSET('CCG-Prov(Amb)'!$B$1,MATCH($A144,'CCG-Prov(Amb)'!$A$2:$A$335,0)+VALUE(RIGHT(W$2,1))-1,0),\"\")","v":"RX9"},{"$f":"IF(VALUE(MID(X$2,5,2))<=$V144,OFFSET('CCG-Prov(Amb)'!$B$1,MATCH($A144,'CCG-Prov(Amb)'!$A$2:$A$335,0)+VALUE(RIGHT(X$2,1))-1,0),\"\")","v":""},{"$f":"IF(VALUE(MID(Y$2,5,2))<=$V144,OFFSET('CCG-Prov(Amb)'!$B$1,MATCH($A144,'CCG-Prov(Amb)'!$A$2:$A$335,0)+VALUE(RIGHT(Y$2,1))-1,0),\"\")","v":""},{"$f":"IF(VALUE(MID(Z$2,5,2))<=$V144,OFFSET('CCG-Prov(Amb)'!$B$1,MATCH($A144,'CCG-Prov(Amb)'!$A$2:$A$335,0)+VALUE(RIGHT(Z$2,1))-1,0),\"\")","v":""},{"$f":"IF(VALUE(MID(AA$2,5,2))<=$V144,OFFSET('CCG-Prov(Amb)'!$B$1,MATCH($A144,'CCG-Prov(Amb)'!$A$2:$A$335,0)+VALUE(RIGHT(AA$2,1))-1,0),\"\")","v":""},null,null,null,null,null,{"$f":"SUM(IF(('CCG-Prov(Births)'!$A$2:$A$6150=A144),1,0))","v":18},{"$f":"SUM(IF(('CCG-Prov(Births)'!$A$2:$A$6150=A144)*('CCG-Prov(Births)'!$C$2:$C$6150>=Maternity!$B$7),1,0))","v":1},{"$f":"IF(VALUE(MID(AI$2,5,2))<=$V144,OFFSET('CCG-Prov(Births)'!$B$1,MATCH($A144,'CCG-Prov(Births)'!$A$2:$A$6150,0)+VALUE(RIGHT(AI$2,1))-1,0),\"\")","v":"RX1"},{"$f":"IF(VALUE(MID(AJ$2,5,2))<=$V144,OFFSET('CCG-Prov(Births)'!$B$1,MATCH($A144,'CCG-Prov(Births)'!$A$2:$A$6150,0)+VALUE(RIGHT(AJ$2,1))-1,0),\"\")","v":""},{"$f":"IF(VALUE(MID(AK$2,5,2))<=$V144,OFFSET('CCG-Prov(Births)'!$B$1,MATCH($A144,'CCG-Prov(Births)'!$A$2:$A$6150,0)+VALUE(RIGHT(AK$2,1))-1,0),\"\")","v":""},{"$f":"IF(VALUE(MID(AL$2,5,2))<=$V144,OFFSET('CCG-Prov(Births)'!$B$1,MATCH($A144,'CCG-Prov(Births)'!$A$2:$A$6150,0)+VALUE(RIGHT(AL$2,1))-1,0),\"\")","v":""},{"$f":"IF(VALUE(MID(AM$2,5,2))<=$V144,OFFSET('CCG-Prov(Births)'!$B$1,MATCH($A144,'CCG-Prov(Births)'!$A$2:$A$6150,0)+VALUE(RIGHT(AM$2,1))-1,0),\"\")","v":""},null,"RXF",{"$f":"VLOOKUP(AO144,provnames!$A$2:$B$331,2,0)","v":"Mid Yorkshire Hospitals NHS Trust"},{"$f":"SUM(IF(('CCG-Prov(Births)'!$B$2:$B$6150=AO144),1,0))","v":38}]
["01G","Salford",{"$f":"SUM(IF(('CCG-Prov(Acute)'!$A$2:$A$29012=A145),1,0))","v":135},{"$f":"SUM(IF(('CCG-Prov(Acute)'!$A$2:$A$29012=A145)*('CCG-Prov(Acute)'!$C$2:$C$29012>=Acute!$B$7),1,0))","v":8},{"$f":"IF(VALUE(MID(E$2,5,2))<=$D145,OFFSET('CCG-Prov(Acute)'!$B$1,MATCH($A145,'CCG-Prov(Acute)'!$A$2:$A$29012,0)+VALUE(RIGHT(E$2,1))-1,0),\"\")","v":"RM3"},{"$f":"IF(VALUE(MID(F$2,5,2))<=$D145,OFFSET('CCG-Prov(Acute)'!$B$1,MATCH($A145,'CCG-Prov(Acute)'!$A$2:$A$29012,0)+VALUE(RIGHT(F$2,1))-1,0),\"\")","v":"RW3"},{"$f":"IF(VALUE(MID(G$2,5,2))<=$D145,OFFSET('CCG-Prov(Acute)'!$B$1,MATCH($A145,'CCG-Prov(Acute)'!$A$2:$A$29012,0)+VALUE(RIGHT(G$2,1))-1,0),\"\")","v":"RMC"},{"$f":"IF(VALUE(MID(H$2,5,2))<=$D145,OFFSET('CCG-Prov(Acute)'!$B$1,MATCH($A145,'CCG-Prov(Acute)'!$A$2:$A$29012,0)+VALUE(RIGHT(H$2,1))-1,0),\"\")","v":"RW6"},{"$f":"IF(VALUE(MID(I$2,5,2))<=$D145,OFFSET('CCG-Prov(Acute)'!$B$1,MATCH($A145,'CCG-Prov(Acute)'!$A$2:$A$29012,0)+VALUE(RIGHT(I$2,1))-1,0),\"\")","v":"RM2"},{"$f":"IF(VALUE(MID(J$2,5,2))<=$D145,OFFSET('CCG-Prov(Acute)'!$B$1,MATCH($A145,'CCG-Prov(Acute)'!$A$2:$A$29012,0)+VALUE(RIGHT(J$2,1))-1,0),\"\")","v":"NVC"},{"$f":"IF(VALUE(MID(K$2,5,2))<=$D145,OFFSET('CCG-Prov(Acute)'!$B$1,MATCH($A145,'CCG-Prov(Acute)'!$A$2:$A$29012,0)+VALUE(RIGHT(K$2,1))-1,0),\"\")","v":"RBV"},{"$f":"IF(VALUE(MID(L$2,5,2))<=$D145,OFFSET('CCG-Prov(Acute)'!$B$1,MATCH($A145,'CCG-Prov(Acute)'!$A$2:$A$29012,0)+VALUE(RIGHT(L$2,1))-1,0),\"\")","v":"RM4"},{"$f":"IF(VALUE(MID(M$2,5,2))<=$D145,OFFSET('CCG-Prov(Acute)'!$B$1,MATCH($A145,'CCG-Prov(Acute)'!$A$2:$A$29012,0)+VALUE(RIGHT(M$2,1))-1,0),\"\")","v":""},{"$f":"IF(VALUE(MID(N$2,5,2))<=$D145,OFFSET('CCG-Prov(Acute)'!$B$1,MATCH($A145,'CCG-Prov(Acute)'!$A$2:$A$29012,0)+VALUE(RIGHT(N$2,1))-1,0),\"\")","v":""},null,null,"RFW",{"$f":"VLOOKUP(Q145,provnames!$A$2:$B$331,2,0)","v":"West Middlesex Univ Hospital NHS Trust"},{"$f":"SUM(IF(('CCG-Prov(Acute)'!$B$2:$B$28899=Q145),1,0))","v":144},null,{"$f":"SUM(IF(('CCG-Prov(Amb)'!$A$2:$A$335=A145),1,0))","v":1},{"$f":"SUM(IF(('CCG-Prov(Amb)'!$A$2:$A$335=A145)*('CCG-Prov(Amb)'!$C$2:$C$335>=Ambulance!$B$7),1,0))","v":1},{"$f":"IF(VALUE(MID(W$2,5,2))<=$V145,OFFSET('CCG-Prov(Amb)'!$B$1,MATCH($A145,'CCG-Prov(Amb)'!$A$2:$A$335,0)+VALUE(RIGHT(W$2,1))-1,0),\"\")","v":"RX7"},{"$f":"IF(VALUE(MID(X$2,5,2))<=$V145,OFFSET('CCG-Prov(Amb)'!$B$1,MATCH($A145,'CCG-Prov(Amb)'!$A$2:$A$335,0)+VALUE(RIGHT(X$2,1))-1,0),\"\")","v":""},{"$f":"IF(VALUE(MID(Y$2,5,2))<=$V145,OFFSET('CCG-Prov(Amb)'!$B$1,MATCH($A145,'CCG-Prov(Amb)'!$A$2:$A$335,0)+VALUE(RIGHT(Y$2,1))-1,0),\"\")","v":""},{"$f":"IF(VALUE(MID(Z$2,5,2))<=$V145,OFFSET('CCG-Prov(Amb)'!$B$1,MATCH($A145,'CCG-Prov(Amb)'!$A$2:$A$335,0)+VALUE(RIGHT(Z$2,1))-1,0),\"\")","v":""},{"$f":"IF(VALUE(MID(AA$2,5,2))<=$V145,OFFSET('CCG-Prov(Amb)'!$B$1,MATCH($A145,'CCG-Prov(Amb)'!$A$2:$A$335,0)+VALUE(RIGHT(AA$2,1))-1,0),\"\")","v":""},null,null,null,null,null,{"$f":"SUM(IF(('CCG-Prov(Births)'!$A$2:$A$6150=A145),1,0))","v":33},{"$f":"SUM(IF(('CCG-Prov(Births)'!$A$2:$A$6150=A145)*('CCG-Prov(Births)'!$C$2:$C$6150>=Maternity!$B$7),1,0))","v":4},{"$f":"IF(VALUE(MID(AI$2,5,2))<=$V145,OFFSET('CCG-Prov(Births)'!$B$1,MATCH($A145,'CCG-Prov(Births)'!$A$2:$A$6150,0)+VALUE(RIGHT(AI$2,1))-1,0),\"\")","v":"RM3"},{"$f":"IF(VALUE(MID(AJ$2,5,2))<=$V145,OFFSET('CCG-Prov(Births)'!$B$1,MATCH($A145,'CCG-Prov(Births)'!$A$2:$A$6150,0)+VALUE(RIGHT(AJ$2,1))-1,0),\"\")","v":""},{"$f":"IF(VALUE(MID(AK$2,5,2))<=$V145,OFFSET('CCG-Prov(Births)'!$B$1,MATCH($A145,'CCG-Prov(Births)'!$A$2:$A$6150,0)+VALUE(RIGHT(AK$2,1))-1,0),\"\")","v":""},{"$f":"IF(VALUE(MID(AL$2,5,2))<=$V145,OFFSET('CCG-Prov(Births)'!$B$1,MATCH($A145,'CCG-Prov(Births)'!$A$2:$A$6150,0)+VALUE(RIGHT(AL$2,1))-1,0),\"\")","v":""},{"$f":"IF(VALUE(MID(AM$2,5,2))<=$V145,OFFSET('CCG-Prov(Births)'!$B$1,MATCH($A145,'CCG-Prov(Births)'!$A$2:$A$6150,0)+VALUE(RIGHT(AM$2,1))-1,0),\"\")","v":""},null,"RXH",{"$f":"VLOOKUP(AO145,provnames!$A$2:$B$331,2,0)","v":"Brighton & Sussex Univ Hospitals NHS Trust"},{"$f":"SUM(IF(('CCG-Prov(Births)'!$B$2:$B$6150=AO145),1,0))","v":39}]
["05L","Sandwell & West Birmingham",{"$f":"SUM(IF(('CCG-Prov(Acute)'!$A$2:$A$29012=A146),1,0))","v":168},{"$f":"SUM(IF(('CCG-Prov(Acute)'!$A$2:$A$29012=A146)*('CCG-Prov(Acute)'!$C$2:$C$29012>=Acute!$B$7),1,0))","v":8},{"$f":"IF(VALUE(MID(E$2,5,2))<=$D146,OFFSET('CCG-Prov(Acute)'!$B$1,MATCH($A146,'CCG-Prov(Acute)'!$A$2:$A$29012,0)+VALUE(RIGHT(E$2,1))-1,0),\"\")","v":"RXK"},{"$f":"IF(VALUE(MID(F$2,5,2))<=$D146,OFFSET('CCG-Prov(Acute)'!$B$1,MATCH($A146,'CCG-Prov(Acute)'!$A$2:$A$29012,0)+VALUE(RIGHT(F$2,1))-1,0),\"\")","v":"RNA"},{"$f":"IF(VALUE(MID(G$2,5,2))<=$D146,OFFSET('CCG-Prov(Acute)'!$B$1,MATCH($A146,'CCG-Prov(Acute)'!$A$2:$A$29012,0)+VALUE(RIGHT(G$2,1))-1,0),\"\")","v":"RRK"},{"$f":"IF(VALUE(MID(H$2,5,2))<=$D146,OFFSET('CCG-Prov(Acute)'!$B$1,MATCH($A146,'CCG-Prov(Acute)'!$A$2:$A$29012,0)+VALUE(RIGHT(H$2,1))-1,0),\"\")","v":"RQ3"},{"$f":"IF(VALUE(MID(I$2,5,2))<=$D146,OFFSET('CCG-Prov(Acute)'!$B$1,MATCH($A146,'CCG-Prov(Acute)'!$A$2:$A$29012,0)+VALUE(RIGHT(I$2,1))-1,0),\"\")","v":"RR1"},{"$f":"IF(VALUE(MID(J$2,5,2))<=$D146,OFFSET('CCG-Prov(Acute)'!$B$1,MATCH($A146,'CCG-Prov(Acute)'!$A$2:$A$29012,0)+VALUE(RIGHT(J$2,1))-1,0),\"\")","v":"RBK"},{"$f":"IF(VALUE(MID(K$2,5,2))<=$D146,OFFSET('CCG-Prov(Acute)'!$B$1,MATCH($A146,'CCG-Prov(Acute)'!$A$2:$A$29012,0)+VALUE(RIGHT(K$2,1))-1,0),\"\")","v":"RRJ"},{"$f":"IF(VALUE(MID(L$2,5,2))<=$D146,OFFSET('CCG-Prov(Acute)'!$B$1,MATCH($A146,'CCG-Prov(Acute)'!$A$2:$A$29012,0)+VALUE(RIGHT(L$2,1))-1,0),\"\")","v":"RL4"},{"$f":"IF(VALUE(MID(M$2,5,2))<=$D146,OFFSET('CCG-Prov(Acute)'!$B$1,MATCH($A146,'CCG-Prov(Acute)'!$A$2:$A$29012,0)+VALUE(RIGHT(M$2,1))-1,0),\"\")","v":""},{"$f":"IF(VALUE(MID(N$2,5,2))<=$D146,OFFSET('CCG-Prov(Acute)'!$B$1,MATCH($A146,'CCG-Prov(Acute)'!$A$2:$A$29012,0)+VALUE(RIGHT(N$2,1))-1,0),\"\")","v":""},null,null,"RGC",{"$f":"VLOOKUP(Q146,provnames!$A$2:$B$331,2,0)","v":"Whipps Cross Univ Hospital NHS Trust"},{"$f":"SUM(IF(('CCG-Prov(Acute)'!$B$2:$B$28899=Q146),1,0))","v":168},null,{"$f":"SUM(IF(('CCG-Prov(Amb)'!$A$2:$A$335=A146),1,0))","v":1},{"$f":"SUM(IF(('CCG-Prov(Amb)'!$A$2:$A$335=A146)*('CCG-Prov(Amb)'!$C$2:$C$335>=Ambulance!$B$7),1,0))","v":1},{"$f":"IF(VALUE(MID(W$2,5,2))<=$V146,OFFSET('CCG-Prov(Amb)'!$B$1,MATCH($A146,'CCG-Prov(Amb)'!$A$2:$A$335,0)+VALUE(RIGHT(W$2,1))-1,0),\"\")","v":"RYA"},{"$f":"IF(VALUE(MID(X$2,5,2))<=$V146,OFFSET('CCG-Prov(Amb)'!$B$1,MATCH($A146,'CCG-Prov(Amb)'!$A$2:$A$335,0)+VALUE(RIGHT(X$2,1))-1,0),\"\")","v":""},{"$f":"IF(VALUE(MID(Y$2,5,2))<=$V146,OFFSET('CCG-Prov(Amb)'!$B$1,MATCH($A146,'CCG-Prov(Amb)'!$A$2:$A$335,0)+VALUE(RIGHT(Y$2,1))-1,0),\"\")","v":""},{"$f":"IF(VALUE(MID(Z$2,5,2))<=$V146,OFFSET('CCG-Prov(Amb)'!$B$1,MATCH($A146,'CCG-Prov(Amb)'!$A$2:$A$335,0)+VALUE(RIGHT(Z$2,1))-1,0),\"\")","v":""},{"$f":"IF(VALUE(MID(AA$2,5,2))<=$V146,OFFSET('CCG-Prov(Amb)'!$B$1,MATCH($A146,'CCG-Prov(Amb)'!$A$2:$A$335,0)+VALUE(RIGHT(AA$2,1))-1,0),\"\")","v":""},null,null,null,null,null,{"$f":"SUM(IF(('CCG-Prov(Births)'!$A$2:$A$6150=A146),1,0))","v":47},{"$f":"SUM(IF(('CCG-Prov(Births)'!$A$2:$A$6150=A146)*('CCG-Prov(Births)'!$C$2:$C$6150>=Maternity!$B$7),1,0))","v":6},{"$f":"IF(VALUE(MID(AI$2,5,2))<=$V146,OFFSET('CCG-Prov(Births)'!$B$1,MATCH($A146,'CCG-Prov(Births)'!$A$2:$A$6150,0)+VALUE(RIGHT(AI$2,1))-1,0),\"\")","v":"RXK"},{"$f":"IF(VALUE(MID(AJ$2,5,2))<=$V146,OFFSET('CCG-Prov(Births)'!$B$1,MATCH($A146,'CCG-Prov(Births)'!$A$2:$A$6150,0)+VALUE(RIGHT(AJ$2,1))-1,0),\"\")","v":""},{"$f":"IF(VALUE(MID(AK$2,5,2))<=$V146,OFFSET('CCG-Prov(Births)'!$B$1,MATCH($A146,'CCG-Prov(Births)'!$A$2:$A$6150,0)+VALUE(RIGHT(AK$2,1))-1,0),\"\")","v":""},{"$f":"IF(VALUE(MID(AL$2,5,2))<=$V146,OFFSET('CCG-Prov(Births)'!$B$1,MATCH($A146,'CCG-Prov(Births)'!$A$2:$A$6150,0)+VALUE(RIGHT(AL$2,1))-1,0),\"\")","v":""},{"$f":"IF(VALUE(MID(AM$2,5,2))<=$V146,OFFSET('CCG-Prov(Births)'!$B$1,MATCH($A146,'CCG-Prov(Births)'!$A$2:$A$6150,0)+VALUE(RIGHT(AM$2,1))-1,0),\"\")","v":""},null,"RXK",{"$f":"VLOOKUP(AO146,provnames!$A$2:$B$331,2,0)","v":"Sandwell & West Birmingham Hospitals NHS Trust"},{"$f":"SUM(IF(('CCG-Prov(Births)'!$B$2:$B$6150=AO146),1,0))","v":55}]
["03M","Scarborough & Ryedale",{"$f":"SUM(IF(('CCG-Prov(Acute)'!$A$2:$A$29012=A147),1,0))","v":117},{"$f":"SUM(IF(('CCG-Prov(Acute)'!$A$2:$A$29012=A147)*('CCG-Prov(Acute)'!$C$2:$C$29012>=Acute!$B$7),1,0))","v":3},{"$f":"IF(VALUE(MID(E$2,5,2))<=$D147,OFFSET('CCG-Prov(Acute)'!$B$1,MATCH($A147,'CCG-Prov(Acute)'!$A$2:$A$29012,0)+VALUE(RIGHT(E$2,1))-1,0),\"\")","v":"RCC"},{"$f":"IF(VALUE(MID(F$2,5,2))<=$D147,OFFSET('CCG-Prov(Acute)'!$B$1,MATCH($A147,'CCG-Prov(Acute)'!$A$2:$A$29012,0)+VALUE(RIGHT(F$2,1))-1,0),\"\")","v":"RCB"},{"$f":"IF(VALUE(MID(G$2,5,2))<=$D147,OFFSET('CCG-Prov(Acute)'!$B$1,MATCH($A147,'CCG-Prov(Acute)'!$A$2:$A$29012,0)+VALUE(RIGHT(G$2,1))-1,0),\"\")","v":"RWA"},{"$f":"IF(VALUE(MID(H$2,5,2))<=$D147,OFFSET('CCG-Prov(Acute)'!$B$1,MATCH($A147,'CCG-Prov(Acute)'!$A$2:$A$29012,0)+VALUE(RIGHT(H$2,1))-1,0),\"\")","v":""},{"$f":"IF(VALUE(MID(I$2,5,2))<=$D147,OFFSET('CCG-Prov(Acute)'!$B$1,MATCH($A147,'CCG-Prov(Acute)'!$A$2:$A$29012,0)+VALUE(RIGHT(I$2,1))-1,0),\"\")","v":""},{"$f":"IF(VALUE(MID(J$2,5,2))<=$D147,OFFSET('CCG-Prov(Acute)'!$B$1,MATCH($A147,'CCG-Prov(Acute)'!$A$2:$A$29012,0)+VALUE(RIGHT(J$2,1))-1,0),\"\")","v":""},{"$f":"IF(VALUE(MID(K$2,5,2))<=$D147,OFFSET('CCG-Prov(Acute)'!$B$1,MATCH($A147,'CCG-Prov(Acute)'!$A$2:$A$29012,0)+VALUE(RIGHT(K$2,1))-1,0),\"\")","v":""},{"$f":"IF(VALUE(MID(L$2,5,2))<=$D147,OFFSET('CCG-Prov(Acute)'!$B$1,MATCH($A147,'CCG-Prov(Acute)'!$A$2:$A$29012,0)+VALUE(RIGHT(L$2,1))-1,0),\"\")","v":""},{"$f":"IF(VALUE(MID(M$2,5,2))<=$D147,OFFSET('CCG-Prov(Acute)'!$B$1,MATCH($A147,'CCG-Prov(Acute)'!$A$2:$A$29012,0)+VALUE(RIGHT(M$2,1))-1,0),\"\")","v":""},{"$f":"IF(VALUE(MID(N$2,5,2))<=$D147,OFFSET('CCG-Prov(Acute)'!$B$1,MATCH($A147,'CCG-Prov(Acute)'!$A$2:$A$29012,0)+VALUE(RIGHT(N$2,1))-1,0),\"\")","v":""},null,null,"RGD",{"$f":"VLOOKUP(Q147,provnames!$A$2:$B$331,2,0)","v":"Leeds Partnerships NHS FT"},{"$f":"SUM(IF(('CCG-Prov(Acute)'!$B$2:$B$28899=Q147),1,0))","v":21},null,{"$f":"SUM(IF(('CCG-Prov(Amb)'!$A$2:$A$335=A147),1,0))","v":1},{"$f":"SUM(IF(('CCG-Prov(Amb)'!$A$2:$A$335=A147)*('CCG-Prov(Amb)'!$C$2:$C$335>=Ambulance!$B$7),1,0))","v":1},{"$f":"IF(VALUE(MID(W$2,5,2))<=$V147,OFFSET('CCG-Prov(Amb)'!$B$1,MATCH($A147,'CCG-Prov(Amb)'!$A$2:$A$335,0)+VALUE(RIGHT(W$2,1))-1,0),\"\")","v":"RX8"},{"$f":"IF(VALUE(MID(X$2,5,2))<=$V147,OFFSET('CCG-Prov(Amb)'!$B$1,MATCH($A147,'CCG-Prov(Amb)'!$A$2:$A$335,0)+VALUE(RIGHT(X$2,1))-1,0),\"\")","v":""},{"$f":"IF(VALUE(MID(Y$2,5,2))<=$V147,OFFSET('CCG-Prov(Amb)'!$B$1,MATCH($A147,'CCG-Prov(Amb)'!$A$2:$A$335,0)+VALUE(RIGHT(Y$2,1))-1,0),\"\")","v":""},{"$f":"IF(VALUE(MID(Z$2,5,2))<=$V147,OFFSET('CCG-Prov(Amb)'!$B$1,MATCH($A147,'CCG-Prov(Amb)'!$A$2:$A$335,0)+VALUE(RIGHT(Z$2,1))-1,0),\"\")","v":""},{"$f":"IF(VALUE(MID(AA$2,5,2))<=$V147,OFFSET('CCG-Prov(Amb)'!$B$1,MATCH($A147,'CCG-Prov(Amb)'!$A$2:$A$335,0)+VALUE(RIGHT(AA$2,1))-1,0),\"\")","v":""},null,null,null,null,null,{"$f":"SUM(IF(('CCG-Prov(Births)'!$A$2:$A$6150=A147),1,0))","v":12},{"$f":"SUM(IF(('CCG-Prov(Births)'!$A$2:$A$6150=A147)*('CCG-Prov(Births)'!$C$2:$C$6150>=Maternity!$B$7),1,0))","v":2},{"$f":"IF(VALUE(MID(AI$2,5,2))<=$V147,OFFSET('CCG-Prov(Births)'!$B$1,MATCH($A147,'CCG-Prov(Births)'!$A$2:$A$6150,0)+VALUE(RIGHT(AI$2,1))-1,0),\"\")","v":"RCC"},{"$f":"IF(VALUE(MID(AJ$2,5,2))<=$V147,OFFSET('CCG-Prov(Births)'!$B$1,MATCH($A147,'CCG-Prov(Births)'!$A$2:$A$6150,0)+VALUE(RIGHT(AJ$2,1))-1,0),\"\")","v":""},{"$f":"IF(VALUE(MID(AK$2,5,2))<=$V147,OFFSET('CCG-Prov(Births)'!$B$1,MATCH($A147,'CCG-Prov(Births)'!$A$2:$A$6150,0)+VALUE(RIGHT(AK$2,1))-1,0),\"\")","v":""},{"$f":"IF(VALUE(MID(AL$2,5,2))<=$V147,OFFSET('CCG-Prov(Births)'!$B$1,MATCH($A147,'CCG-Prov(Births)'!$A$2:$A$6150,0)+VALUE(RIGHT(AL$2,1))-1,0),\"\")","v":""},{"$f":"IF(VALUE(MID(AM$2,5,2))<=$V147,OFFSET('CCG-Prov(Births)'!$B$1,MATCH($A147,'CCG-Prov(Births)'!$A$2:$A$6150,0)+VALUE(RIGHT(AM$2,1))-1,0),\"\")","v":""},null,"RXL",{"$f":"VLOOKUP(AO147,provnames!$A$2:$B$331,2,0)","v":"Blackpool Teaching Hospitals NHS FT"},{"$f":"SUM(IF(('CCG-Prov(Births)'!$B$2:$B$6150=AO147),1,0))","v":44}]
["03N","Sheffield",{"$f":"SUM(IF(('CCG-Prov(Acute)'!$A$2:$A$29012=A148),1,0))","v":171},{"$f":"SUM(IF(('CCG-Prov(Acute)'!$A$2:$A$29012=A148)*('CCG-Prov(Acute)'!$C$2:$C$29012>=Acute!$B$7),1,0))","v":5},{"$f":"IF(VALUE(MID(E$2,5,2))<=$D148,OFFSET('CCG-Prov(Acute)'!$B$1,MATCH($A148,'CCG-Prov(Acute)'!$A$2:$A$29012,0)+VALUE(RIGHT(E$2,1))-1,0),\"\")","v":"RHQ"},{"$f":"IF(VALUE(MID(F$2,5,2))<=$D148,OFFSET('CCG-Prov(Acute)'!$B$1,MATCH($A148,'CCG-Prov(Acute)'!$A$2:$A$29012,0)+VALUE(RIGHT(F$2,1))-1,0),\"\")","v":"RCU"},{"$f":"IF(VALUE(MID(G$2,5,2))<=$D148,OFFSET('CCG-Prov(Acute)'!$B$1,MATCH($A148,'CCG-Prov(Acute)'!$A$2:$A$29012,0)+VALUE(RIGHT(G$2,1))-1,0),\"\")","v":"RFR"},{"$f":"IF(VALUE(MID(H$2,5,2))<=$D148,OFFSET('CCG-Prov(Acute)'!$B$1,MATCH($A148,'CCG-Prov(Acute)'!$A$2:$A$29012,0)+VALUE(RIGHT(H$2,1))-1,0),\"\")","v":"NTE"},{"$f":"IF(VALUE(MID(I$2,5,2))<=$D148,OFFSET('CCG-Prov(Acute)'!$B$1,MATCH($A148,'CCG-Prov(Acute)'!$A$2:$A$29012,0)+VALUE(RIGHT(I$2,1))-1,0),\"\")","v":"RFS"},{"$f":"IF(VALUE(MID(J$2,5,2))<=$D148,OFFSET('CCG-Prov(Acute)'!$B$1,MATCH($A148,'CCG-Prov(Acute)'!$A$2:$A$29012,0)+VALUE(RIGHT(J$2,1))-1,0),\"\")","v":""},{"$f":"IF(VALUE(MID(K$2,5,2))<=$D148,OFFSET('CCG-Prov(Acute)'!$B$1,MATCH($A148,'CCG-Prov(Acute)'!$A$2:$A$29012,0)+VALUE(RIGHT(K$2,1))-1,0),\"\")","v":""},{"$f":"IF(VALUE(MID(L$2,5,2))<=$D148,OFFSET('CCG-Prov(Acute)'!$B$1,MATCH($A148,'CCG-Prov(Acute)'!$A$2:$A$29012,0)+VALUE(RIGHT(L$2,1))-1,0),\"\")","v":""},{"$f":"IF(VALUE(MID(M$2,5,2))<=$D148,OFFSET('CCG-Prov(Acute)'!$B$1,MATCH($A148,'CCG-Prov(Acute)'!$A$2:$A$29012,0)+VALUE(RIGHT(M$2,1))-1,0),\"\")","v":""},{"$f":"IF(VALUE(MID(N$2,5,2))<=$D148,OFFSET('CCG-Prov(Acute)'!$B$1,MATCH($A148,'CCG-Prov(Acute)'!$A$2:$A$29012,0)+VALUE(RIGHT(N$2,1))-1,0),\"\")","v":""},null,null,"RGM",{"$f":"VLOOKUP(Q148,provnames!$A$2:$B$331,2,0)","v":"Papworth Hospital NHS FT"},{"$f":"SUM(IF(('CCG-Prov(Acute)'!$B$2:$B$28899=Q148),1,0))","v":200},null,{"$f":"SUM(IF(('CCG-Prov(Amb)'!$A$2:$A$335=A148),1,0))","v":2},{"$f":"SUM(IF(('CCG-Prov(Amb)'!$A$2:$A$335=A148)*('CCG-Prov(Amb)'!$C$2:$C$335>=Ambulance!$B$7),1,0))","v":2},{"$f":"IF(VALUE(MID(W$2,5,2))<=$V148,OFFSET('CCG-Prov(Amb)'!$B$1,MATCH($A148,'CCG-Prov(Amb)'!$A$2:$A$335,0)+VALUE(RIGHT(W$2,1))-1,0),\"\")","v":"RX8"},{"$f":"IF(VALUE(MID(X$2,5,2))<=$V148,OFFSET('CCG-Prov(Amb)'!$B$1,MATCH($A148,'CCG-Prov(Amb)'!$A$2:$A$335,0)+VALUE(RIGHT(X$2,1))-1,0),\"\")","v":"RX9"},{"$f":"IF(VALUE(MID(Y$2,5,2))<=$V148,OFFSET('CCG-Prov(Amb)'!$B$1,MATCH($A148,'CCG-Prov(Amb)'!$A$2:$A$335,0)+VALUE(RIGHT(Y$2,1))-1,0),\"\")","v":""},{"$f":"IF(VALUE(MID(Z$2,5,2))<=$V148,OFFSET('CCG-Prov(Amb)'!$B$1,MATCH($A148,'CCG-Prov(Amb)'!$A$2:$A$335,0)+VALUE(RIGHT(Z$2,1))-1,0),\"\")","v":""},{"$f":"IF(VALUE(MID(AA$2,5,2))<=$V148,OFFSET('CCG-Prov(Amb)'!$B$1,MATCH($A148,'CCG-Prov(Amb)'!$A$2:$A$335,0)+VALUE(RIGHT(AA$2,1))-1,0),\"\")","v":""},null,null,null,null,null,{"$f":"SUM(IF(('CCG-Prov(Births)'!$A$2:$A$6150=A148),1,0))","v":47},{"$f":"SUM(IF(('CCG-Prov(Births)'!$A$2:$A$6150=A148)*('CCG-Prov(Births)'!$C$2:$C$6150>=Maternity!$B$7),1,0))","v":3},{"$f":"IF(VALUE(MID(AI$2,5,2))<=$V148,OFFSET('CCG-Prov(Births)'!$B$1,MATCH($A148,'CCG-Prov(Births)'!$A$2:$A$6150,0)+VALUE(RIGHT(AI$2,1))-1,0),\"\")","v":"RHQ"},{"$f":"IF(VALUE(MID(AJ$2,5,2))<=$V148,OFFSET('CCG-Prov(Births)'!$B$1,MATCH($A148,'CCG-Prov(Births)'!$A$2:$A$6150,0)+VALUE(RIGHT(AJ$2,1))-1,0),\"\")","v":"RFR"},{"$f":"IF(VALUE(MID(AK$2,5,2))<=$V148,OFFSET('CCG-Prov(Births)'!$B$1,MATCH($A148,'CCG-Prov(Births)'!$A$2:$A$6150,0)+VALUE(RIGHT(AK$2,1))-1,0),\"\")","v":""},{"$f":"IF(VALUE(MID(AL$2,5,2))<=$V148,OFFSET('CCG-Prov(Births)'!$B$1,MATCH($A148,'CCG-Prov(Births)'!$A$2:$A$6150,0)+VALUE(RIGHT(AL$2,1))-1,0),\"\")","v":""},{"$f":"IF(VALUE(MID(AM$2,5,2))<=$V148,OFFSET('CCG-Prov(Births)'!$B$1,MATCH($A148,'CCG-Prov(Births)'!$A$2:$A$6150,0)+VALUE(RIGHT(AM$2,1))-1,0),\"\")","v":""},null,"RXN",{"$f":"VLOOKUP(AO148,provnames!$A$2:$B$331,2,0)","v":"Lancashire Teaching Hospitals NHS FT"},{"$f":"SUM(IF(('CCG-Prov(Births)'!$B$2:$B$6150=AO148),1,0))","v":29}]
["05N","Shropshire",{"$f":"SUM(IF(('CCG-Prov(Acute)'!$A$2:$A$29012=A149),1,0))","v":158},{"$f":"SUM(IF(('CCG-Prov(Acute)'!$A$2:$A$29012=A149)*('CCG-Prov(Acute)'!$C$2:$C$29012>=Acute!$B$7),1,0))","v":7},{"$f":"IF(VALUE(MID(E$2,5,2))<=$D149,OFFSET('CCG-Prov(Acute)'!$B$1,MATCH($A149,'CCG-Prov(Acute)'!$A$2:$A$29012,0)+VALUE(RIGHT(E$2,1))-1,0),\"\")","v":"RXW"},{"$f":"IF(VALUE(MID(F$2,5,2))<=$D149,OFFSET('CCG-Prov(Acute)'!$B$1,MATCH($A149,'CCG-Prov(Acute)'!$A$2:$A$29012,0)+VALUE(RIGHT(F$2,1))-1,0),\"\")","v":"RL1"},{"$f":"IF(VALUE(MID(G$2,5,2))<=$D149,OFFSET('CCG-Prov(Acute)'!$B$1,MATCH($A149,'CCG-Prov(Acute)'!$A$2:$A$29012,0)+VALUE(RIGHT(G$2,1))-1,0),\"\")","v":"RL4"},{"$f":"IF(VALUE(MID(H$2,5,2))<=$D149,OFFSET('CCG-Prov(Acute)'!$B$1,MATCH($A149,'CCG-Prov(Acute)'!$A$2:$A$29012,0)+VALUE(RIGHT(H$2,1))-1,0),\"\")","v":"5M2"},{"$f":"IF(VALUE(MID(I$2,5,2))<=$D149,OFFSET('CCG-Prov(Acute)'!$B$1,MATCH($A149,'CCG-Prov(Acute)'!$A$2:$A$29012,0)+VALUE(RIGHT(I$2,1))-1,0),\"\")","v":"RWP"},{"$f":"IF(VALUE(MID(J$2,5,2))<=$D149,OFFSET('CCG-Prov(Acute)'!$B$1,MATCH($A149,'CCG-Prov(Acute)'!$A$2:$A$29012,0)+VALUE(RIGHT(J$2,1))-1,0),\"\")","v":"RJE"},{"$f":"IF(VALUE(MID(K$2,5,2))<=$D149,OFFSET('CCG-Prov(Acute)'!$B$1,MATCH($A149,'CCG-Prov(Acute)'!$A$2:$A$29012,0)+VALUE(RIGHT(K$2,1))-1,0),\"\")","v":"RLQ"},{"$f":"IF(VALUE(MID(L$2,5,2))<=$D149,OFFSET('CCG-Prov(Acute)'!$B$1,MATCH($A149,'CCG-Prov(Acute)'!$A$2:$A$29012,0)+VALUE(RIGHT(L$2,1))-1,0),\"\")","v":""},{"$f":"IF(VALUE(MID(M$2,5,2))<=$D149,OFFSET('CCG-Prov(Acute)'!$B$1,MATCH($A149,'CCG-Prov(Acute)'!$A$2:$A$29012,0)+VALUE(RIGHT(M$2,1))-1,0),\"\")","v":""},{"$f":"IF(VALUE(MID(N$2,5,2))<=$D149,OFFSET('CCG-Prov(Acute)'!$B$1,MATCH($A149,'CCG-Prov(Acute)'!$A$2:$A$29012,0)+VALUE(RIGHT(N$2,1))-1,0),\"\")","v":""},null,null,"RGN",{"$f":"VLOOKUP(Q149,provnames!$A$2:$B$331,2,0)","v":"Peterborough & Stamford Hospitals NHS FT"},{"$f":"SUM(IF(('CCG-Prov(Acute)'!$B$2:$B$28899=Q149),1,0))","v":168},null,{"$f":"SUM(IF(('CCG-Prov(Amb)'!$A$2:$A$335=A149),1,0))","v":2},{"$f":"SUM(IF(('CCG-Prov(Amb)'!$A$2:$A$335=A149)*('CCG-Prov(Amb)'!$C$2:$C$335>=Ambulance!$B$7),1,0))","v":1},{"$f":"IF(VALUE(MID(W$2,5,2))<=$V149,OFFSET('CCG-Prov(Amb)'!$B$1,MATCH($A149,'CCG-Prov(Amb)'!$A$2:$A$335,0)+VALUE(RIGHT(W$2,1))-1,0),\"\")","v":"RYA"},{"$f":"IF(VALUE(MID(X$2,5,2))<=$V149,OFFSET('CCG-Prov(Amb)'!$B$1,MATCH($A149,'CCG-Prov(Amb)'!$A$2:$A$335,0)+VALUE(RIGHT(X$2,1))-1,0),\"\")","v":""},{"$f":"IF(VALUE(MID(Y$2,5,2))<=$V149,OFFSET('CCG-Prov(Amb)'!$B$1,MATCH($A149,'CCG-Prov(Amb)'!$A$2:$A$335,0)+VALUE(RIGHT(Y$2,1))-1,0),\"\")","v":""},{"$f":"IF(VALUE(MID(Z$2,5,2))<=$V149,OFFSET('CCG-Prov(Amb)'!$B$1,MATCH($A149,'CCG-Prov(Amb)'!$A$2:$A$335,0)+VALUE(RIGHT(Z$2,1))-1,0),\"\")","v":""},{"$f":"IF(VALUE(MID(AA$2,5,2))<=$V149,OFFSET('CCG-Prov(Amb)'!$B$1,MATCH($A149,'CCG-Prov(Amb)'!$A$2:$A$335,0)+VALUE(RIGHT(AA$2,1))-1,0),\"\")","v":""},null,null,null,null,null,{"$f":"SUM(IF(('CCG-Prov(Births)'!$A$2:$A$6150=A149),1,0))","v":32},{"$f":"SUM(IF(('CCG-Prov(Births)'!$A$2:$A$6150=A149)*('CCG-Prov(Births)'!$C$2:$C$6150>=Maternity!$B$7),1,0))","v":1},{"$f":"IF(VALUE(MID(AI$2,5,2))<=$V149,OFFSET('CCG-Prov(Births)'!$B$1,MATCH($A149,'CCG-Prov(Births)'!$A$2:$A$6150,0)+VALUE(RIGHT(AI$2,1))-1,0),\"\")","v":"RXW"},{"$f":"IF(VALUE(MID(AJ$2,5,2))<=$V149,OFFSET('CCG-Prov(Births)'!$B$1,MATCH($A149,'CCG-Prov(Births)'!$A$2:$A$6150,0)+VALUE(RIGHT(AJ$2,1))-1,0),\"\")","v":""},{"$f":"IF(VALUE(MID(AK$2,5,2))<=$V149,OFFSET('CCG-Prov(Births)'!$B$1,MATCH($A149,'CCG-Prov(Births)'!$A$2:$A$6150,0)+VALUE(RIGHT(AK$2,1))-1,0),\"\")","v":""},{"$f":"IF(VALUE(MID(AL$2,5,2))<=$V149,OFFSET('CCG-Prov(Births)'!$B$1,MATCH($A149,'CCG-Prov(Births)'!$A$2:$A$6150,0)+VALUE(RIGHT(AL$2,1))-1,0),\"\")","v":""},{"$f":"IF(VALUE(MID(AM$2,5,2))<=$V149,OFFSET('CCG-Prov(Births)'!$B$1,MATCH($A149,'CCG-Prov(Births)'!$A$2:$A$6150,0)+VALUE(RIGHT(AM$2,1))-1,0),\"\")","v":""},null,"RXP",{"$f":"VLOOKUP(AO149,provnames!$A$2:$B$331,2,0)","v":"County Durham & Darlington NHS FT"},{"$f":"SUM(IF(('CCG-Prov(Births)'!$B$2:$B$6150=AO149),1,0))","v":40}]
["10T","Slough",{"$f":"SUM(IF(('CCG-Prov(Acute)'!$A$2:$A$29012=A150),1,0))","v":117},{"$f":"SUM(IF(('CCG-Prov(Acute)'!$A$2:$A$29012=A150)*('CCG-Prov(Acute)'!$C$2:$C$29012>=Acute!$B$7),1,0))","v":2},{"$f":"IF(VALUE(MID(E$2,5,2))<=$D150,OFFSET('CCG-Prov(Acute)'!$B$1,MATCH($A150,'CCG-Prov(Acute)'!$A$2:$A$29012,0)+VALUE(RIGHT(E$2,1))-1,0),\"\")","v":"RD7"},{"$f":"IF(VALUE(MID(F$2,5,2))<=$D150,OFFSET('CCG-Prov(Acute)'!$B$1,MATCH($A150,'CCG-Prov(Acute)'!$A$2:$A$29012,0)+VALUE(RIGHT(F$2,1))-1,0),\"\")","v":"RHW"},{"$f":"IF(VALUE(MID(G$2,5,2))<=$D150,OFFSET('CCG-Prov(Acute)'!$B$1,MATCH($A150,'CCG-Prov(Acute)'!$A$2:$A$29012,0)+VALUE(RIGHT(G$2,1))-1,0),\"\")","v":""},{"$f":"IF(VALUE(MID(H$2,5,2))<=$D150,OFFSET('CCG-Prov(Acute)'!$B$1,MATCH($A150,'CCG-Prov(Acute)'!$A$2:$A$29012,0)+VALUE(RIGHT(H$2,1))-1,0),\"\")","v":""},{"$f":"IF(VALUE(MID(I$2,5,2))<=$D150,OFFSET('CCG-Prov(Acute)'!$B$1,MATCH($A150,'CCG-Prov(Acute)'!$A$2:$A$29012,0)+VALUE(RIGHT(I$2,1))-1,0),\"\")","v":""},{"$f":"IF(VALUE(MID(J$2,5,2))<=$D150,OFFSET('CCG-Prov(Acute)'!$B$1,MATCH($A150,'CCG-Prov(Acute)'!$A$2:$A$29012,0)+VALUE(RIGHT(J$2,1))-1,0),\"\")","v":""},{"$f":"IF(VALUE(MID(K$2,5,2))<=$D150,OFFSET('CCG-Prov(Acute)'!$B$1,MATCH($A150,'CCG-Prov(Acute)'!$A$2:$A$29012,0)+VALUE(RIGHT(K$2,1))-1,0),\"\")","v":""},{"$f":"IF(VALUE(MID(L$2,5,2))<=$D150,OFFSET('CCG-Prov(Acute)'!$B$1,MATCH($A150,'CCG-Prov(Acute)'!$A$2:$A$29012,0)+VALUE(RIGHT(L$2,1))-1,0),\"\")","v":""},{"$f":"IF(VALUE(MID(M$2,5,2))<=$D150,OFFSET('CCG-Prov(Acute)'!$B$1,MATCH($A150,'CCG-Prov(Acute)'!$A$2:$A$29012,0)+VALUE(RIGHT(M$2,1))-1,0),\"\")","v":""},{"$f":"IF(VALUE(MID(N$2,5,2))<=$D150,OFFSET('CCG-Prov(Acute)'!$B$1,MATCH($A150,'CCG-Prov(Acute)'!$A$2:$A$29012,0)+VALUE(RIGHT(N$2,1))-1,0),\"\")","v":""},null,null,"RGP",{"$f":"VLOOKUP(Q150,provnames!$A$2:$B$331,2,0)","v":"James Paget Univ Hospitals NHS FT"},{"$f":"SUM(IF(('CCG-Prov(Acute)'!$B$2:$B$28899=Q150),1,0))","v":174},null,{"$f":"SUM(IF(('CCG-Prov(Amb)'!$A$2:$A$335=A150),1,0))","v":1},{"$f":"SUM(IF(('CCG-Prov(Amb)'!$A$2:$A$335=A150)*('CCG-Prov(Amb)'!$C$2:$C$335>=Ambulance!$B$7),1,0))","v":1},{"$f":"IF(VALUE(MID(W$2,5,2))<=$V150,OFFSET('CCG-Prov(Amb)'!$B$1,MATCH($A150,'CCG-Prov(Amb)'!$A$2:$A$335,0)+VALUE(RIGHT(W$2,1))-1,0),\"\")","v":"RYE"},{"$f":"IF(VALUE(MID(X$2,5,2))<=$V150,OFFSET('CCG-Prov(Amb)'!$B$1,MATCH($A150,'CCG-Prov(Amb)'!$A$2:$A$335,0)+VALUE(RIGHT(X$2,1))-1,0),\"\")","v":""},{"$f":"IF(VALUE(MID(Y$2,5,2))<=$V150,OFFSET('CCG-Prov(Amb)'!$B$1,MATCH($A150,'CCG-Prov(Amb)'!$A$2:$A$335,0)+VALUE(RIGHT(Y$2,1))-1,0),\"\")","v":""},{"$f":"IF(VALUE(MID(Z$2,5,2))<=$V150,OFFSET('CCG-Prov(Amb)'!$B$1,MATCH($A150,'CCG-Prov(Amb)'!$A$2:$A$335,0)+VALUE(RIGHT(Z$2,1))-1,0),\"\")","v":""},{"$f":"IF(VALUE(MID(AA$2,5,2))<=$V150,OFFSET('CCG-Prov(Amb)'!$B$1,MATCH($A150,'CCG-Prov(Amb)'!$A$2:$A$335,0)+VALUE(RIGHT(AA$2,1))-1,0),\"\")","v":""},null,null,null,null,null,{"$f":"SUM(IF(('CCG-Prov(Births)'!$A$2:$A$6150=A150),1,0))","v":30},{"$f":"SUM(IF(('CCG-Prov(Births)'!$A$2:$A$6150=A150)*('CCG-Prov(Births)'!$C$2:$C$6150>=Maternity!$B$7),1,0))","v":1},{"$f":"IF(VALUE(MID(AI$2,5,2))<=$V150,OFFSET('CCG-Prov(Births)'!$B$1,MATCH($A150,'CCG-Prov(Births)'!$A$2:$A$6150,0)+VALUE(RIGHT(AI$2,1))-1,0),\"\")","v":"RD7"},{"$f":"IF(VALUE(MID(AJ$2,5,2))<=$V150,OFFSET('CCG-Prov(Births)'!$B$1,MATCH($A150,'CCG-Prov(Births)'!$A$2:$A$6150,0)+VALUE(RIGHT(AJ$2,1))-1,0),\"\")","v":""},{"$f":"IF(VALUE(MID(AK$2,5,2))<=$V150,OFFSET('CCG-Prov(Births)'!$B$1,MATCH($A150,'CCG-Prov(Births)'!$A$2:$A$6150,0)+VALUE(RIGHT(AK$2,1))-1,0),\"\")","v":""},{"$f":"IF(VALUE(MID(AL$2,5,2))<=$V150,OFFSET('CCG-Prov(Births)'!$B$1,MATCH($A150,'CCG-Prov(Births)'!$A$2:$A$6150,0)+VALUE(RIGHT(AL$2,1))-1,0),\"\")","v":""},{"$f":"IF(VALUE(MID(AM$2,5,2))<=$V150,OFFSET('CCG-Prov(Births)'!$B$1,MATCH($A150,'CCG-Prov(Births)'!$A$2:$A$6150,0)+VALUE(RIGHT(AM$2,1))-1,0),\"\")","v":""},null,"RXQ",{"$f":"VLOOKUP(AO150,provnames!$A$2:$B$331,2,0)","v":"Buckinghamshire Healthcare NHS Trust"},{"$f":"SUM(IF(('CCG-Prov(Births)'!$B$2:$B$6150=AO150),1,0))","v":42}]
["05P","Solihull",{"$f":"SUM(IF(('CCG-Prov(Acute)'!$A$2:$A$29012=A151),1,0))","v":140},{"$f":"SUM(IF(('CCG-Prov(Acute)'!$A$2:$A$29012=A151)*('CCG-Prov(Acute)'!$C$2:$C$29012>=Acute!$B$7),1,0))","v":7},{"$f":"IF(VALUE(MID(E$2,5,2))<=$D151,OFFSET('CCG-Prov(Acute)'!$B$1,MATCH($A151,'CCG-Prov(Acute)'!$A$2:$A$29012,0)+VALUE(RIGHT(E$2,1))-1,0),\"\")","v":"RR1"},{"$f":"IF(VALUE(MID(F$2,5,2))<=$D151,OFFSET('CCG-Prov(Acute)'!$B$1,MATCH($A151,'CCG-Prov(Acute)'!$A$2:$A$29012,0)+VALUE(RIGHT(F$2,1))-1,0),\"\")","v":"RRK"},{"$f":"IF(VALUE(MID(G$2,5,2))<=$D151,OFFSET('CCG-Prov(Acute)'!$B$1,MATCH($A151,'CCG-Prov(Acute)'!$A$2:$A$29012,0)+VALUE(RIGHT(G$2,1))-1,0),\"\")","v":"RQ3"},{"$f":"IF(VALUE(MID(H$2,5,2))<=$D151,OFFSET('CCG-Prov(Acute)'!$B$1,MATCH($A151,'CCG-Prov(Acute)'!$A$2:$A$29012,0)+VALUE(RIGHT(H$2,1))-1,0),\"\")","v":"RXK"},{"$f":"IF(VALUE(MID(I$2,5,2))<=$D151,OFFSET('CCG-Prov(Acute)'!$B$1,MATCH($A151,'CCG-Prov(Acute)'!$A$2:$A$29012,0)+VALUE(RIGHT(I$2,1))-1,0),\"\")","v":"RKB"},{"$f":"IF(VALUE(MID(J$2,5,2))<=$D151,OFFSET('CCG-Prov(Acute)'!$B$1,MATCH($A151,'CCG-Prov(Acute)'!$A$2:$A$29012,0)+VALUE(RIGHT(J$2,1))-1,0),\"\")","v":"RJC"},{"$f":"IF(VALUE(MID(K$2,5,2))<=$D151,OFFSET('CCG-Prov(Acute)'!$B$1,MATCH($A151,'CCG-Prov(Acute)'!$A$2:$A$29012,0)+VALUE(RIGHT(K$2,1))-1,0),\"\")","v":"NT3"},{"$f":"IF(VALUE(MID(L$2,5,2))<=$D151,OFFSET('CCG-Prov(Acute)'!$B$1,MATCH($A151,'CCG-Prov(Acute)'!$A$2:$A$29012,0)+VALUE(RIGHT(L$2,1))-1,0),\"\")","v":""},{"$f":"IF(VALUE(MID(M$2,5,2))<=$D151,OFFSET('CCG-Prov(Acute)'!$B$1,MATCH($A151,'CCG-Prov(Acute)'!$A$2:$A$29012,0)+VALUE(RIGHT(M$2,1))-1,0),\"\")","v":""},{"$f":"IF(VALUE(MID(N$2,5,2))<=$D151,OFFSET('CCG-Prov(Acute)'!$B$1,MATCH($A151,'CCG-Prov(Acute)'!$A$2:$A$29012,0)+VALUE(RIGHT(N$2,1))-1,0),\"\")","v":""},null,null,"RGQ",{"$f":"VLOOKUP(Q151,provnames!$A$2:$B$331,2,0)","v":"Ipswich Hospital NHS Trust"},{"$f":"SUM(IF(('CCG-Prov(Acute)'!$B$2:$B$28899=Q151),1,0))","v":165},null,{"$f":"SUM(IF(('CCG-Prov(Amb)'!$A$2:$A$335=A151),1,0))","v":1},{"$f":"SUM(IF(('CCG-Prov(Amb)'!$A$2:$A$335=A151)*('CCG-Prov(Amb)'!$C$2:$C$335>=Ambulance!$B$7),1,0))","v":1},{"$f":"IF(VALUE(MID(W$2,5,2))<=$V151,OFFSET('CCG-Prov(Amb)'!$B$1,MATCH($A151,'CCG-Prov(Amb)'!$A$2:$A$335,0)+VALUE(RIGHT(W$2,1))-1,0),\"\")","v":"RYA"},{"$f":"IF(VALUE(MID(X$2,5,2))<=$V151,OFFSET('CCG-Prov(Amb)'!$B$1,MATCH($A151,'CCG-Prov(Amb)'!$A$2:$A$335,0)+VALUE(RIGHT(X$2,1))-1,0),\"\")","v":""},{"$f":"IF(VALUE(MID(Y$2,5,2))<=$V151,OFFSET('CCG-Prov(Amb)'!$B$1,MATCH($A151,'CCG-Prov(Amb)'!$A$2:$A$335,0)+VALUE(RIGHT(Y$2,1))-1,0),\"\")","v":""},{"$f":"IF(VALUE(MID(Z$2,5,2))<=$V151,OFFSET('CCG-Prov(Amb)'!$B$1,MATCH($A151,'CCG-Prov(Amb)'!$A$2:$A$335,0)+VALUE(RIGHT(Z$2,1))-1,0),\"\")","v":""},{"$f":"IF(VALUE(MID(AA$2,5,2))<=$V151,OFFSET('CCG-Prov(Amb)'!$B$1,MATCH($A151,'CCG-Prov(Amb)'!$A$2:$A$335,0)+VALUE(RIGHT(AA$2,1))-1,0),\"\")","v":""},null,null,null,null,null,{"$f":"SUM(IF(('CCG-Prov(Births)'!$A$2:$A$6150=A151),1,0))","v":28},{"$f":"SUM(IF(('CCG-Prov(Births)'!$A$2:$A$6150=A151)*('CCG-Prov(Births)'!$C$2:$C$6150>=Maternity!$B$7),1,0))","v":4},{"$f":"IF(VALUE(MID(AI$2,5,2))<=$V151,OFFSET('CCG-Prov(Births)'!$B$1,MATCH($A151,'CCG-Prov(Births)'!$A$2:$A$6150,0)+VALUE(RIGHT(AI$2,1))-1,0),\"\")","v":"RR1"},{"$f":"IF(VALUE(MID(AJ$2,5,2))<=$V151,OFFSET('CCG-Prov(Births)'!$B$1,MATCH($A151,'CCG-Prov(Births)'!$A$2:$A$6150,0)+VALUE(RIGHT(AJ$2,1))-1,0),\"\")","v":""},{"$f":"IF(VALUE(MID(AK$2,5,2))<=$V151,OFFSET('CCG-Prov(Births)'!$B$1,MATCH($A151,'CCG-Prov(Births)'!$A$2:$A$6150,0)+VALUE(RIGHT(AK$2,1))-1,0),\"\")","v":""},{"$f":"IF(VALUE(MID(AL$2,5,2))<=$V151,OFFSET('CCG-Prov(Births)'!$B$1,MATCH($A151,'CCG-Prov(Births)'!$A$2:$A$6150,0)+VALUE(RIGHT(AL$2,1))-1,0),\"\")","v":""},{"$f":"IF(VALUE(MID(AM$2,5,2))<=$V151,OFFSET('CCG-Prov(Births)'!$B$1,MATCH($A151,'CCG-Prov(Births)'!$A$2:$A$6150,0)+VALUE(RIGHT(AM$2,1))-1,0),\"\")","v":""},null,"RXR",{"$f":"VLOOKUP(AO151,provnames!$A$2:$B$331,2,0)","v":"East Lancashire Hospitals NHS Trust"},{"$f":"SUM(IF(('CCG-Prov(Births)'!$B$2:$B$6150=AO151),1,0))","v":44}]
["11X","Somerset",{"$f":"SUM(IF(('CCG-Prov(Acute)'!$A$2:$A$29012=A152),1,0))","v":182},{"$f":"SUM(IF(('CCG-Prov(Acute)'!$A$2:$A$29012=A152)*('CCG-Prov(Acute)'!$C$2:$C$29012>=Acute!$B$7),1,0))","v":10},{"$f":"IF(VALUE(MID(E$2,5,2))<=$D152,OFFSET('CCG-Prov(Acute)'!$B$1,MATCH($A152,'CCG-Prov(Acute)'!$A$2:$A$29012,0)+VALUE(RIGHT(E$2,1))-1,0),\"\")","v":"RBA"},{"$f":"IF(VALUE(MID(F$2,5,2))<=$D152,OFFSET('CCG-Prov(Acute)'!$B$1,MATCH($A152,'CCG-Prov(Acute)'!$A$2:$A$29012,0)+VALUE(RIGHT(F$2,1))-1,0),\"\")","v":"RA4"},{"$f":"IF(VALUE(MID(G$2,5,2))<=$D152,OFFSET('CCG-Prov(Acute)'!$B$1,MATCH($A152,'CCG-Prov(Acute)'!$A$2:$A$29012,0)+VALUE(RIGHT(G$2,1))-1,0),\"\")","v":"RD1"},{"$f":"IF(VALUE(MID(H$2,5,2))<=$D152,OFFSET('CCG-Prov(Acute)'!$B$1,MATCH($A152,'CCG-Prov(Acute)'!$A$2:$A$29012,0)+VALUE(RIGHT(H$2,1))-1,0),\"\")","v":"NTC"},{"$f":"IF(VALUE(MID(I$2,5,2))<=$D152,OFFSET('CCG-Prov(Acute)'!$B$1,MATCH($A152,'CCG-Prov(Acute)'!$A$2:$A$29012,0)+VALUE(RIGHT(I$2,1))-1,0),\"\")","v":"RA3"},{"$f":"IF(VALUE(MID(J$2,5,2))<=$D152,OFFSET('CCG-Prov(Acute)'!$B$1,MATCH($A152,'CCG-Prov(Acute)'!$A$2:$A$29012,0)+VALUE(RIGHT(J$2,1))-1,0),\"\")","v":"5QL"},{"$f":"IF(VALUE(MID(K$2,5,2))<=$D152,OFFSET('CCG-Prov(Acute)'!$B$1,MATCH($A152,'CCG-Prov(Acute)'!$A$2:$A$29012,0)+VALUE(RIGHT(K$2,1))-1,0),\"\")","v":"RA7"},{"$f":"IF(VALUE(MID(L$2,5,2))<=$D152,OFFSET('CCG-Prov(Acute)'!$B$1,MATCH($A152,'CCG-Prov(Acute)'!$A$2:$A$29012,0)+VALUE(RIGHT(L$2,1))-1,0),\"\")","v":"RVJ"},{"$f":"IF(VALUE(MID(M$2,5,2))<=$D152,OFFSET('CCG-Prov(Acute)'!$B$1,MATCH($A152,'CCG-Prov(Acute)'!$A$2:$A$29012,0)+VALUE(RIGHT(M$2,1))-1,0),\"\")","v":"RH8"},{"$f":"IF(VALUE(MID(N$2,5,2))<=$D152,OFFSET('CCG-Prov(Acute)'!$B$1,MATCH($A152,'CCG-Prov(Acute)'!$A$2:$A$29012,0)+VALUE(RIGHT(N$2,1))-1,0),\"\")","v":"RTX"},null,null,"RGR",{"$f":"VLOOKUP(Q152,provnames!$A$2:$B$331,2,0)","v":"West Suffolk Hospitals NHS Trust"},{"$f":"SUM(IF(('CCG-Prov(Acute)'!$B$2:$B$28899=Q152),1,0))","v":157},null,{"$f":"SUM(IF(('CCG-Prov(Amb)'!$A$2:$A$335=A152),1,0))","v":2},{"$f":"SUM(IF(('CCG-Prov(Amb)'!$A$2:$A$335=A152)*('CCG-Prov(Amb)'!$C$2:$C$335>=Ambulance!$B$7),1,0))","v":2},{"$f":"IF(VALUE(MID(W$2,5,2))<=$V152,OFFSET('CCG-Prov(Amb)'!$B$1,MATCH($A152,'CCG-Prov(Amb)'!$A$2:$A$335,0)+VALUE(RIGHT(W$2,1))-1,0),\"\")","v":"RYF"},{"$f":"IF(VALUE(MID(X$2,5,2))<=$V152,OFFSET('CCG-Prov(Amb)'!$B$1,MATCH($A152,'CCG-Prov(Amb)'!$A$2:$A$335,0)+VALUE(RIGHT(X$2,1))-1,0),\"\")","v":"RX5"},{"$f":"IF(VALUE(MID(Y$2,5,2))<=$V152,OFFSET('CCG-Prov(Amb)'!$B$1,MATCH($A152,'CCG-Prov(Amb)'!$A$2:$A$335,0)+VALUE(RIGHT(Y$2,1))-1,0),\"\")","v":""},{"$f":"IF(VALUE(MID(Z$2,5,2))<=$V152,OFFSET('CCG-Prov(Amb)'!$B$1,MATCH($A152,'CCG-Prov(Amb)'!$A$2:$A$335,0)+VALUE(RIGHT(Z$2,1))-1,0),\"\")","v":""},{"$f":"IF(VALUE(MID(AA$2,5,2))<=$V152,OFFSET('CCG-Prov(Amb)'!$B$1,MATCH($A152,'CCG-Prov(Amb)'!$A$2:$A$335,0)+VALUE(RIGHT(AA$2,1))-1,0),\"\")","v":""},null,null,null,null,null,{"$f":"SUM(IF(('CCG-Prov(Births)'!$A$2:$A$6150=A152),1,0))","v":32},{"$f":"SUM(IF(('CCG-Prov(Births)'!$A$2:$A$6150=A152)*('CCG-Prov(Births)'!$C$2:$C$6150>=Maternity!$B$7),1,0))","v":5},{"$f":"IF(VALUE(MID(AI$2,5,2))<=$V152,OFFSET('CCG-Prov(Births)'!$B$1,MATCH($A152,'CCG-Prov(Births)'!$A$2:$A$6150,0)+VALUE(RIGHT(AI$2,1))-1,0),\"\")","v":"RBA"},{"$f":"IF(VALUE(MID(AJ$2,5,2))<=$V152,OFFSET('CCG-Prov(Births)'!$B$1,MATCH($A152,'CCG-Prov(Births)'!$A$2:$A$6150,0)+VALUE(RIGHT(AJ$2,1))-1,0),\"\")","v":"RA4"},{"$f":"IF(VALUE(MID(AK$2,5,2))<=$V152,OFFSET('CCG-Prov(Births)'!$B$1,MATCH($A152,'CCG-Prov(Births)'!$A$2:$A$6150,0)+VALUE(RIGHT(AK$2,1))-1,0),\"\")","v":""},{"$f":"IF(VALUE(MID(AL$2,5,2))<=$V152,OFFSET('CCG-Prov(Births)'!$B$1,MATCH($A152,'CCG-Prov(Births)'!$A$2:$A$6150,0)+VALUE(RIGHT(AL$2,1))-1,0),\"\")","v":""},{"$f":"IF(VALUE(MID(AM$2,5,2))<=$V152,OFFSET('CCG-Prov(Births)'!$B$1,MATCH($A152,'CCG-Prov(Births)'!$A$2:$A$6150,0)+VALUE(RIGHT(AM$2,1))-1,0),\"\")","v":""},null,"RXW",{"$f":"VLOOKUP(AO152,provnames!$A$2:$B$331,2,0)","v":"Shrewsbury & Telford Hospital NHS Trust"},{"$f":"SUM(IF(('CCG-Prov(Births)'!$B$2:$B$6150=AO152),1,0))","v":36}]
["01R","South Cheshire",{"$f":"SUM(IF(('CCG-Prov(Acute)'!$A$2:$A$29012=A153),1,0))","v":135},{"$f":"SUM(IF(('CCG-Prov(Acute)'!$A$2:$A$29012=A153)*('CCG-Prov(Acute)'!$C$2:$C$29012>=Acute!$B$7),1,0))","v":2},{"$f":"IF(VALUE(MID(E$2,5,2))<=$D153,OFFSET('CCG-Prov(Acute)'!$B$1,MATCH($A153,'CCG-Prov(Acute)'!$A$2:$A$29012,0)+VALUE(RIGHT(E$2,1))-1,0),\"\")","v":"RBT"},{"$f":"IF(VALUE(MID(F$2,5,2))<=$D153,OFFSET('CCG-Prov(Acute)'!$B$1,MATCH($A153,'CCG-Prov(Acute)'!$A$2:$A$29012,0)+VALUE(RIGHT(F$2,1))-1,0),\"\")","v":"RJE"},{"$f":"IF(VALUE(MID(G$2,5,2))<=$D153,OFFSET('CCG-Prov(Acute)'!$B$1,MATCH($A153,'CCG-Prov(Acute)'!$A$2:$A$29012,0)+VALUE(RIGHT(G$2,1))-1,0),\"\")","v":""},{"$f":"IF(VALUE(MID(H$2,5,2))<=$D153,OFFSET('CCG-Prov(Acute)'!$B$1,MATCH($A153,'CCG-Prov(Acute)'!$A$2:$A$29012,0)+VALUE(RIGHT(H$2,1))-1,0),\"\")","v":""},{"$f":"IF(VALUE(MID(I$2,5,2))<=$D153,OFFSET('CCG-Prov(Acute)'!$B$1,MATCH($A153,'CCG-Prov(Acute)'!$A$2:$A$29012,0)+VALUE(RIGHT(I$2,1))-1,0),\"\")","v":""},{"$f":"IF(VALUE(MID(J$2,5,2))<=$D153,OFFSET('CCG-Prov(Acute)'!$B$1,MATCH($A153,'CCG-Prov(Acute)'!$A$2:$A$29012,0)+VALUE(RIGHT(J$2,1))-1,0),\"\")","v":""},{"$f":"IF(VALUE(MID(K$2,5,2))<=$D153,OFFSET('CCG-Prov(Acute)'!$B$1,MATCH($A153,'CCG-Prov(Acute)'!$A$2:$A$29012,0)+VALUE(RIGHT(K$2,1))-1,0),\"\")","v":""},{"$f":"IF(VALUE(MID(L$2,5,2))<=$D153,OFFSET('CCG-Prov(Acute)'!$B$1,MATCH($A153,'CCG-Prov(Acute)'!$A$2:$A$29012,0)+VALUE(RIGHT(L$2,1))-1,0),\"\")","v":""},{"$f":"IF(VALUE(MID(M$2,5,2))<=$D153,OFFSET('CCG-Prov(Acute)'!$B$1,MATCH($A153,'CCG-Prov(Acute)'!$A$2:$A$29012,0)+VALUE(RIGHT(M$2,1))-1,0),\"\")","v":""},{"$f":"IF(VALUE(MID(N$2,5,2))<=$D153,OFFSET('CCG-Prov(Acute)'!$B$1,MATCH($A153,'CCG-Prov(Acute)'!$A$2:$A$29012,0)+VALUE(RIGHT(N$2,1))-1,0),\"\")","v":""},null,null,"RGT",{"$f":"VLOOKUP(Q153,provnames!$A$2:$B$331,2,0)","v":"Cambridge Univ Hospitals NHS FT"},{"$f":"SUM(IF(('CCG-Prov(Acute)'!$B$2:$B$28899=Q153),1,0))","v":200},null,{"$f":"SUM(IF(('CCG-Prov(Amb)'!$A$2:$A$335=A153),1,0))","v":2},{"$f":"SUM(IF(('CCG-Prov(Amb)'!$A$2:$A$335=A153)*('CCG-Prov(Amb)'!$C$2:$C$335>=Ambulance!$B$7),1,0))","v":2},{"$f":"IF(VALUE(MID(W$2,5,2))<=$V153,OFFSET('CCG-Prov(Amb)'!$B$1,MATCH($A153,'CCG-Prov(Amb)'!$A$2:$A$335,0)+VALUE(RIGHT(W$2,1))-1,0),\"\")","v":"RX7"},{"$f":"IF(VALUE(MID(X$2,5,2))<=$V153,OFFSET('CCG-Prov(Amb)'!$B$1,MATCH($A153,'CCG-Prov(Amb)'!$A$2:$A$335,0)+VALUE(RIGHT(X$2,1))-1,0),\"\")","v":"RYA"},{"$f":"IF(VALUE(MID(Y$2,5,2))<=$V153,OFFSET('CCG-Prov(Amb)'!$B$1,MATCH($A153,'CCG-Prov(Amb)'!$A$2:$A$335,0)+VALUE(RIGHT(Y$2,1))-1,0),\"\")","v":""},{"$f":"IF(VALUE(MID(Z$2,5,2))<=$V153,OFFSET('CCG-Prov(Amb)'!$B$1,MATCH($A153,'CCG-Prov(Amb)'!$A$2:$A$335,0)+VALUE(RIGHT(Z$2,1))-1,0),\"\")","v":""},{"$f":"IF(VALUE(MID(AA$2,5,2))<=$V153,OFFSET('CCG-Prov(Amb)'!$B$1,MATCH($A153,'CCG-Prov(Amb)'!$A$2:$A$335,0)+VALUE(RIGHT(AA$2,1))-1,0),\"\")","v":""},null,null,null,null,null,{"$f":"SUM(IF(('CCG-Prov(Births)'!$A$2:$A$6150=A153),1,0))","v":26},{"$f":"SUM(IF(('CCG-Prov(Births)'!$A$2:$A$6150=A153)*('CCG-Prov(Births)'!$C$2:$C$6150>=Maternity!$B$7),1,0))","v":2},{"$f":"IF(VALUE(MID(AI$2,5,2))<=$V153,OFFSET('CCG-Prov(Births)'!$B$1,MATCH($A153,'CCG-Prov(Births)'!$A$2:$A$6150,0)+VALUE(RIGHT(AI$2,1))-1,0),\"\")","v":"RBT"},{"$f":"IF(VALUE(MID(AJ$2,5,2))<=$V153,OFFSET('CCG-Prov(Births)'!$B$1,MATCH($A153,'CCG-Prov(Births)'!$A$2:$A$6150,0)+VALUE(RIGHT(AJ$2,1))-1,0),\"\")","v":"RJE"},{"$f":"IF(VALUE(MID(AK$2,5,2))<=$V153,OFFSET('CCG-Prov(Births)'!$B$1,MATCH($A153,'CCG-Prov(Births)'!$A$2:$A$6150,0)+VALUE(RIGHT(AK$2,1))-1,0),\"\")","v":""},{"$f":"IF(VALUE(MID(AL$2,5,2))<=$V153,OFFSET('CCG-Prov(Births)'!$B$1,MATCH($A153,'CCG-Prov(Births)'!$A$2:$A$6150,0)+VALUE(RIGHT(AL$2,1))-1,0),\"\")","v":""},{"$f":"IF(VALUE(MID(AM$2,5,2))<=$V153,OFFSET('CCG-Prov(Births)'!$B$1,MATCH($A153,'CCG-Prov(Births)'!$A$2:$A$6150,0)+VALUE(RIGHT(AM$2,1))-1,0),\"\")","v":""},null,"RY3",{"$f":"VLOOKUP(AO153,provnames!$A$2:$B$331,2,0)","v":"Norfolk Community Health & Care NHS Trust"},{"$f":"SUM(IF(('CCG-Prov(Births)'!$B$2:$B$6150=AO153),1,0))","v":0}]
["99Q","South Devon & Torbay",{"$f":"SUM(IF(('CCG-Prov(Acute)'!$A$2:$A$29012=A154),1,0))","v":155},{"$f":"SUM(IF(('CCG-Prov(Acute)'!$A$2:$A$29012=A154)*('CCG-Prov(Acute)'!$C$2:$C$29012>=Acute!$B$7),1,0))","v":6},{"$f":"IF(VALUE(MID(E$2,5,2))<=$D154,OFFSET('CCG-Prov(Acute)'!$B$1,MATCH($A154,'CCG-Prov(Acute)'!$A$2:$A$29012,0)+VALUE(RIGHT(E$2,1))-1,0),\"\")","v":"RA9"},{"$f":"IF(VALUE(MID(F$2,5,2))<=$D154,OFFSET('CCG-Prov(Acute)'!$B$1,MATCH($A154,'CCG-Prov(Acute)'!$A$2:$A$29012,0)+VALUE(RIGHT(F$2,1))-1,0),\"\")","v":"RH8"},{"$f":"IF(VALUE(MID(G$2,5,2))<=$D154,OFFSET('CCG-Prov(Acute)'!$B$1,MATCH($A154,'CCG-Prov(Acute)'!$A$2:$A$29012,0)+VALUE(RIGHT(G$2,1))-1,0),\"\")","v":"5QQ"},{"$f":"IF(VALUE(MID(H$2,5,2))<=$D154,OFFSET('CCG-Prov(Acute)'!$B$1,MATCH($A154,'CCG-Prov(Acute)'!$A$2:$A$29012,0)+VALUE(RIGHT(H$2,1))-1,0),\"\")","v":"NVC"},{"$f":"IF(VALUE(MID(I$2,5,2))<=$D154,OFFSET('CCG-Prov(Acute)'!$B$1,MATCH($A154,'CCG-Prov(Acute)'!$A$2:$A$29012,0)+VALUE(RIGHT(I$2,1))-1,0),\"\")","v":"RK9"},{"$f":"IF(VALUE(MID(J$2,5,2))<=$D154,OFFSET('CCG-Prov(Acute)'!$B$1,MATCH($A154,'CCG-Prov(Acute)'!$A$2:$A$29012,0)+VALUE(RIGHT(J$2,1))-1,0),\"\")","v":"TAL"},{"$f":"IF(VALUE(MID(K$2,5,2))<=$D154,OFFSET('CCG-Prov(Acute)'!$B$1,MATCH($A154,'CCG-Prov(Acute)'!$A$2:$A$29012,0)+VALUE(RIGHT(K$2,1))-1,0),\"\")","v":""},{"$f":"IF(VALUE(MID(L$2,5,2))<=$D154,OFFSET('CCG-Prov(Acute)'!$B$1,MATCH($A154,'CCG-Prov(Acute)'!$A$2:$A$29012,0)+VALUE(RIGHT(L$2,1))-1,0),\"\")","v":""},{"$f":"IF(VALUE(MID(M$2,5,2))<=$D154,OFFSET('CCG-Prov(Acute)'!$B$1,MATCH($A154,'CCG-Prov(Acute)'!$A$2:$A$29012,0)+VALUE(RIGHT(M$2,1))-1,0),\"\")","v":""},{"$f":"IF(VALUE(MID(N$2,5,2))<=$D154,OFFSET('CCG-Prov(Acute)'!$B$1,MATCH($A154,'CCG-Prov(Acute)'!$A$2:$A$29012,0)+VALUE(RIGHT(N$2,1))-1,0),\"\")","v":""},null,null,"RH8",{"$f":"VLOOKUP(Q154,provnames!$A$2:$B$331,2,0)","v":"Royal Devon & Exeter NHS FT"},{"$f":"SUM(IF(('CCG-Prov(Acute)'!$B$2:$B$28899=Q154),1,0))","v":199},null,{"$f":"SUM(IF(('CCG-Prov(Amb)'!$A$2:$A$335=A154),1,0))","v":1},{"$f":"SUM(IF(('CCG-Prov(Amb)'!$A$2:$A$335=A154)*('CCG-Prov(Amb)'!$C$2:$C$335>=Ambulance!$B$7),1,0))","v":1},{"$f":"IF(VALUE(MID(W$2,5,2))<=$V154,OFFSET('CCG-Prov(Amb)'!$B$1,MATCH($A154,'CCG-Prov(Amb)'!$A$2:$A$335,0)+VALUE(RIGHT(W$2,1))-1,0),\"\")","v":"RYF"},{"$f":"IF(VALUE(MID(X$2,5,2))<=$V154,OFFSET('CCG-Prov(Amb)'!$B$1,MATCH($A154,'CCG-Prov(Amb)'!$A$2:$A$335,0)+VALUE(RIGHT(X$2,1))-1,0),\"\")","v":""},{"$f":"IF(VALUE(MID(Y$2,5,2))<=$V154,OFFSET('CCG-Prov(Amb)'!$B$1,MATCH($A154,'CCG-Prov(Amb)'!$A$2:$A$335,0)+VALUE(RIGHT(Y$2,1))-1,0),\"\")","v":""},{"$f":"IF(VALUE(MID(Z$2,5,2))<=$V154,OFFSET('CCG-Prov(Amb)'!$B$1,MATCH($A154,'CCG-Prov(Amb)'!$A$2:$A$335,0)+VALUE(RIGHT(Z$2,1))-1,0),\"\")","v":""},{"$f":"IF(VALUE(MID(AA$2,5,2))<=$V154,OFFSET('CCG-Prov(Amb)'!$B$1,MATCH($A154,'CCG-Prov(Amb)'!$A$2:$A$335,0)+VALUE(RIGHT(AA$2,1))-1,0),\"\")","v":""},null,null,null,null,null,{"$f":"SUM(IF(('CCG-Prov(Births)'!$A$2:$A$6150=A154),1,0))","v":21},{"$f":"SUM(IF(('CCG-Prov(Births)'!$A$2:$A$6150=A154)*('CCG-Prov(Births)'!$C$2:$C$6150>=Maternity!$B$7),1,0))","v":3},{"$f":"IF(VALUE(MID(AI$2,5,2))<=$V154,OFFSET('CCG-Prov(Births)'!$B$1,MATCH($A154,'CCG-Prov(Births)'!$A$2:$A$6150,0)+VALUE(RIGHT(AI$2,1))-1,0),\"\")","v":"RA9"},{"$f":"IF(VALUE(MID(AJ$2,5,2))<=$V154,OFFSET('CCG-Prov(Births)'!$B$1,MATCH($A154,'CCG-Prov(Births)'!$A$2:$A$6150,0)+VALUE(RIGHT(AJ$2,1))-1,0),\"\")","v":""},{"$f":"IF(VALUE(MID(AK$2,5,2))<=$V154,OFFSET('CCG-Prov(Births)'!$B$1,MATCH($A154,'CCG-Prov(Births)'!$A$2:$A$6150,0)+VALUE(RIGHT(AK$2,1))-1,0),\"\")","v":""},{"$f":"IF(VALUE(MID(AL$2,5,2))<=$V154,OFFSET('CCG-Prov(Births)'!$B$1,MATCH($A154,'CCG-Prov(Births)'!$A$2:$A$6150,0)+VALUE(RIGHT(AL$2,1))-1,0),\"\")","v":""},{"$f":"IF(VALUE(MID(AM$2,5,2))<=$V154,OFFSET('CCG-Prov(Births)'!$B$1,MATCH($A154,'CCG-Prov(Births)'!$A$2:$A$6150,0)+VALUE(RIGHT(AM$2,1))-1,0),\"\")","v":""},null,"RYJ",{"$f":"VLOOKUP(AO154,provnames!$A$2:$B$331,2,0)","v":"Imperial College Healthcare NHS Trust"},{"$f":"SUM(IF(('CCG-Prov(Births)'!$B$2:$B$6150=AO154),1,0))","v":103}]
["05Q","South East Staffs & Seisdon Peninsular",{"$f":"SUM(IF(('CCG-Prov(Acute)'!$A$2:$A$29012=A155),1,0))","v":143},{"$f":"SUM(IF(('CCG-Prov(Acute)'!$A$2:$A$29012=A155)*('CCG-Prov(Acute)'!$C$2:$C$29012>=Acute!$B$7),1,0))","v":11},{"$f":"IF(VALUE(MID(E$2,5,2))<=$D155,OFFSET('CCG-Prov(Acute)'!$B$1,MATCH($A155,'CCG-Prov(Acute)'!$A$2:$A$29012,0)+VALUE(RIGHT(E$2,1))-1,0),\"\")","v":"RR1"},{"$f":"IF(VALUE(MID(F$2,5,2))<=$D155,OFFSET('CCG-Prov(Acute)'!$B$1,MATCH($A155,'CCG-Prov(Acute)'!$A$2:$A$29012,0)+VALUE(RIGHT(F$2,1))-1,0),\"\")","v":"5PK"},{"$f":"IF(VALUE(MID(G$2,5,2))<=$D155,OFFSET('CCG-Prov(Acute)'!$B$1,MATCH($A155,'CCG-Prov(Acute)'!$A$2:$A$29012,0)+VALUE(RIGHT(G$2,1))-1,0),\"\")","v":"RJF"},{"$f":"IF(VALUE(MID(H$2,5,2))<=$D155,OFFSET('CCG-Prov(Acute)'!$B$1,MATCH($A155,'CCG-Prov(Acute)'!$A$2:$A$29012,0)+VALUE(RIGHT(H$2,1))-1,0),\"\")","v":"RL4"},{"$f":"IF(VALUE(MID(I$2,5,2))<=$D155,OFFSET('CCG-Prov(Acute)'!$B$1,MATCH($A155,'CCG-Prov(Acute)'!$A$2:$A$29012,0)+VALUE(RIGHT(I$2,1))-1,0),\"\")","v":"RNA"},{"$f":"IF(VALUE(MID(J$2,5,2))<=$D155,OFFSET('CCG-Prov(Acute)'!$B$1,MATCH($A155,'CCG-Prov(Acute)'!$A$2:$A$29012,0)+VALUE(RIGHT(J$2,1))-1,0),\"\")","v":"RJD"},{"$f":"IF(VALUE(MID(K$2,5,2))<=$D155,OFFSET('CCG-Prov(Acute)'!$B$1,MATCH($A155,'CCG-Prov(Acute)'!$A$2:$A$29012,0)+VALUE(RIGHT(K$2,1))-1,0),\"\")","v":"NTA"},{"$f":"IF(VALUE(MID(L$2,5,2))<=$D155,OFFSET('CCG-Prov(Acute)'!$B$1,MATCH($A155,'CCG-Prov(Acute)'!$A$2:$A$29012,0)+VALUE(RIGHT(L$2,1))-1,0),\"\")","v":"RRK"},{"$f":"IF(VALUE(MID(M$2,5,2))<=$D155,OFFSET('CCG-Prov(Acute)'!$B$1,MATCH($A155,'CCG-Prov(Acute)'!$A$2:$A$29012,0)+VALUE(RIGHT(M$2,1))-1,0),\"\")","v":"RBK"},{"$f":"IF(VALUE(MID(N$2,5,2))<=$D155,OFFSET('CCG-Prov(Acute)'!$B$1,MATCH($A155,'CCG-Prov(Acute)'!$A$2:$A$29012,0)+VALUE(RIGHT(N$2,1))-1,0),\"\")","v":"RXF"},null,null,"RHA",{"$f":"VLOOKUP(Q155,provnames!$A$2:$B$331,2,0)","v":"Nottinghamshire Healthcare NHS Trust"},{"$f":"SUM(IF(('CCG-Prov(Acute)'!$B$2:$B$28899=Q155),1,0))","v":3},null,{"$f":"SUM(IF(('CCG-Prov(Amb)'!$A$2:$A$335=A155),1,0))","v":2},{"$f":"SUM(IF(('CCG-Prov(Amb)'!$A$2:$A$335=A155)*('CCG-Prov(Amb)'!$C$2:$C$335>=Ambulance!$B$7),1,0))","v":1},{"$f":"IF(VALUE(MID(W$2,5,2))<=$V155,OFFSET('CCG-Prov(Amb)'!$B$1,MATCH($A155,'CCG-Prov(Amb)'!$A$2:$A$335,0)+VALUE(RIGHT(W$2,1))-1,0),\"\")","v":"RYA"},{"$f":"IF(VALUE(MID(X$2,5,2))<=$V155,OFFSET('CCG-Prov(Amb)'!$B$1,MATCH($A155,'CCG-Prov(Amb)'!$A$2:$A$335,0)+VALUE(RIGHT(X$2,1))-1,0),\"\")","v":""},{"$f":"IF(VALUE(MID(Y$2,5,2))<=$V155,OFFSET('CCG-Prov(Amb)'!$B$1,MATCH($A155,'CCG-Prov(Amb)'!$A$2:$A$335,0)+VALUE(RIGHT(Y$2,1))-1,0),\"\")","v":""},{"$f":"IF(VALUE(MID(Z$2,5,2))<=$V155,OFFSET('CCG-Prov(Amb)'!$B$1,MATCH($A155,'CCG-Prov(Amb)'!$A$2:$A$335,0)+VALUE(RIGHT(Z$2,1))-1,0),\"\")","v":""},{"$f":"IF(VALUE(MID(AA$2,5,2))<=$V155,OFFSET('CCG-Prov(Amb)'!$B$1,MATCH($A155,'CCG-Prov(Amb)'!$A$2:$A$335,0)+VALUE(RIGHT(AA$2,1))-1,0),\"\")","v":""},null,null,null,null,null,{"$f":"SUM(IF(('CCG-Prov(Births)'!$A$2:$A$6150=A155),1,0))","v":24},{"$f":"SUM(IF(('CCG-Prov(Births)'!$A$2:$A$6150=A155)*('CCG-Prov(Births)'!$C$2:$C$6150>=Maternity!$B$7),1,0))","v":5},{"$f":"IF(VALUE(MID(AI$2,5,2))<=$V155,OFFSET('CCG-Prov(Births)'!$B$1,MATCH($A155,'CCG-Prov(Births)'!$A$2:$A$6150,0)+VALUE(RIGHT(AI$2,1))-1,0),\"\")","v":"RJF"},{"$f":"IF(VALUE(MID(AJ$2,5,2))<=$V155,OFFSET('CCG-Prov(Births)'!$B$1,MATCH($A155,'CCG-Prov(Births)'!$A$2:$A$6150,0)+VALUE(RIGHT(AJ$2,1))-1,0),\"\")","v":""},{"$f":"IF(VALUE(MID(AK$2,5,2))<=$V155,OFFSET('CCG-Prov(Births)'!$B$1,MATCH($A155,'CCG-Prov(Births)'!$A$2:$A$6150,0)+VALUE(RIGHT(AK$2,1))-1,0),\"\")","v":""},{"$f":"IF(VALUE(MID(AL$2,5,2))<=$V155,OFFSET('CCG-Prov(Births)'!$B$1,MATCH($A155,'CCG-Prov(Births)'!$A$2:$A$6150,0)+VALUE(RIGHT(AL$2,1))-1,0),\"\")","v":""},{"$f":"IF(VALUE(MID(AM$2,5,2))<=$V155,OFFSET('CCG-Prov(Births)'!$B$1,MATCH($A155,'CCG-Prov(Births)'!$A$2:$A$6150,0)+VALUE(RIGHT(AM$2,1))-1,0),\"\")","v":""},null,"RYQ",{"$f":"VLOOKUP(AO155,provnames!$A$2:$B$331,2,0)","v":"South London Healthcare NHS Trust"},{"$f":"SUM(IF(('CCG-Prov(Births)'!$B$2:$B$6150=AO155),1,0))","v":79}]
["10V","South Eastern Hampshire",{"$f":"SUM(IF(('CCG-Prov(Acute)'!$A$2:$A$29012=A156),1,0))","v":142},{"$f":"SUM(IF(('CCG-Prov(Acute)'!$A$2:$A$29012=A156)*('CCG-Prov(Acute)'!$C$2:$C$29012>=Acute!$B$7),1,0))","v":6},{"$f":"IF(VALUE(MID(E$2,5,2))<=$D156,OFFSET('CCG-Prov(Acute)'!$B$1,MATCH($A156,'CCG-Prov(Acute)'!$A$2:$A$29012,0)+VALUE(RIGHT(E$2,1))-1,0),\"\")","v":"RHU"},{"$f":"IF(VALUE(MID(F$2,5,2))<=$D156,OFFSET('CCG-Prov(Acute)'!$B$1,MATCH($A156,'CCG-Prov(Acute)'!$A$2:$A$29012,0)+VALUE(RIGHT(F$2,1))-1,0),\"\")","v":"RA2"},{"$f":"IF(VALUE(MID(G$2,5,2))<=$D156,OFFSET('CCG-Prov(Acute)'!$B$1,MATCH($A156,'CCG-Prov(Acute)'!$A$2:$A$29012,0)+VALUE(RIGHT(G$2,1))-1,0),\"\")","v":"NTP"},{"$f":"IF(VALUE(MID(H$2,5,2))<=$D156,OFFSET('CCG-Prov(Acute)'!$B$1,MATCH($A156,'CCG-Prov(Acute)'!$A$2:$A$29012,0)+VALUE(RIGHT(H$2,1))-1,0),\"\")","v":"RYR"},{"$f":"IF(VALUE(MID(I$2,5,2))<=$D156,OFFSET('CCG-Prov(Acute)'!$B$1,MATCH($A156,'CCG-Prov(Acute)'!$A$2:$A$29012,0)+VALUE(RIGHT(I$2,1))-1,0),\"\")","v":"RN5"},{"$f":"IF(VALUE(MID(J$2,5,2))<=$D156,OFFSET('CCG-Prov(Acute)'!$B$1,MATCH($A156,'CCG-Prov(Acute)'!$A$2:$A$29012,0)+VALUE(RIGHT(J$2,1))-1,0),\"\")","v":"RHM"},{"$f":"IF(VALUE(MID(K$2,5,2))<=$D156,OFFSET('CCG-Prov(Acute)'!$B$1,MATCH($A156,'CCG-Prov(Acute)'!$A$2:$A$29012,0)+VALUE(RIGHT(K$2,1))-1,0),\"\")","v":""},{"$f":"IF(VALUE(MID(L$2,5,2))<=$D156,OFFSET('CCG-Prov(Acute)'!$B$1,MATCH($A156,'CCG-Prov(Acute)'!$A$2:$A$29012,0)+VALUE(RIGHT(L$2,1))-1,0),\"\")","v":""},{"$f":"IF(VALUE(MID(M$2,5,2))<=$D156,OFFSET('CCG-Prov(Acute)'!$B$1,MATCH($A156,'CCG-Prov(Acute)'!$A$2:$A$29012,0)+VALUE(RIGHT(M$2,1))-1,0),\"\")","v":""},{"$f":"IF(VALUE(MID(N$2,5,2))<=$D156,OFFSET('CCG-Prov(Acute)'!$B$1,MATCH($A156,'CCG-Prov(Acute)'!$A$2:$A$29012,0)+VALUE(RIGHT(N$2,1))-1,0),\"\")","v":""},null,null,"RHM",{"$f":"VLOOKUP(Q156,provnames!$A$2:$B$331,2,0)","v":"University Hospital Southampton NHS FT"},{"$f":"SUM(IF(('CCG-Prov(Acute)'!$B$2:$B$28899=Q156),1,0))","v":195},null,{"$f":"SUM(IF(('CCG-Prov(Amb)'!$A$2:$A$335=A156),1,0))","v":2},{"$f":"SUM(IF(('CCG-Prov(Amb)'!$A$2:$A$335=A156)*('CCG-Prov(Amb)'!$C$2:$C$335>=Ambulance!$B$7),1,0))","v":2},{"$f":"IF(VALUE(MID(W$2,5,2))<=$V156,OFFSET('CCG-Prov(Amb)'!$B$1,MATCH($A156,'CCG-Prov(Amb)'!$A$2:$A$335,0)+VALUE(RIGHT(W$2,1))-1,0),\"\")","v":"RYE"},{"$f":"IF(VALUE(MID(X$2,5,2))<=$V156,OFFSET('CCG-Prov(Amb)'!$B$1,MATCH($A156,'CCG-Prov(Amb)'!$A$2:$A$335,0)+VALUE(RIGHT(X$2,1))-1,0),\"\")","v":"RYD"},{"$f":"IF(VALUE(MID(Y$2,5,2))<=$V156,OFFSET('CCG-Prov(Amb)'!$B$1,MATCH($A156,'CCG-Prov(Amb)'!$A$2:$A$335,0)+VALUE(RIGHT(Y$2,1))-1,0),\"\")","v":""},{"$f":"IF(VALUE(MID(Z$2,5,2))<=$V156,OFFSET('CCG-Prov(Amb)'!$B$1,MATCH($A156,'CCG-Prov(Amb)'!$A$2:$A$335,0)+VALUE(RIGHT(Z$2,1))-1,0),\"\")","v":""},{"$f":"IF(VALUE(MID(AA$2,5,2))<=$V156,OFFSET('CCG-Prov(Amb)'!$B$1,MATCH($A156,'CCG-Prov(Amb)'!$A$2:$A$335,0)+VALUE(RIGHT(AA$2,1))-1,0),\"\")","v":""},null,null,null,null,null,{"$f":"SUM(IF(('CCG-Prov(Births)'!$A$2:$A$6150=A156),1,0))","v":19},{"$f":"SUM(IF(('CCG-Prov(Births)'!$A$2:$A$6150=A156)*('CCG-Prov(Births)'!$C$2:$C$6150>=Maternity!$B$7),1,0))","v":3},{"$f":"IF(VALUE(MID(AI$2,5,2))<=$V156,OFFSET('CCG-Prov(Births)'!$B$1,MATCH($A156,'CCG-Prov(Births)'!$A$2:$A$6150,0)+VALUE(RIGHT(AI$2,1))-1,0),\"\")","v":"RHU"},{"$f":"IF(VALUE(MID(AJ$2,5,2))<=$V156,OFFSET('CCG-Prov(Births)'!$B$1,MATCH($A156,'CCG-Prov(Births)'!$A$2:$A$6150,0)+VALUE(RIGHT(AJ$2,1))-1,0),\"\")","v":"RYR"},{"$f":"IF(VALUE(MID(AK$2,5,2))<=$V156,OFFSET('CCG-Prov(Births)'!$B$1,MATCH($A156,'CCG-Prov(Births)'!$A$2:$A$6150,0)+VALUE(RIGHT(AK$2,1))-1,0),\"\")","v":""},{"$f":"IF(VALUE(MID(AL$2,5,2))<=$V156,OFFSET('CCG-Prov(Births)'!$B$1,MATCH($A156,'CCG-Prov(Births)'!$A$2:$A$6150,0)+VALUE(RIGHT(AL$2,1))-1,0),\"\")","v":""},{"$f":"IF(VALUE(MID(AM$2,5,2))<=$V156,OFFSET('CCG-Prov(Births)'!$B$1,MATCH($A156,'CCG-Prov(Births)'!$A$2:$A$6150,0)+VALUE(RIGHT(AM$2,1))-1,0),\"\")","v":""},null,"RYR",{"$f":"VLOOKUP(AO156,provnames!$A$2:$B$331,2,0)","v":"Western Sussex Hospitals NHS Trust"},{"$f":"SUM(IF(('CCG-Prov(Births)'!$B$2:$B$6150=AO156),1,0))","v":36}]
["12A","South Gloucestershire",{"$f":"SUM(IF(('CCG-Prov(Acute)'!$A$2:$A$29012=A157),1,0))","v":138},{"$f":"SUM(IF(('CCG-Prov(Acute)'!$A$2:$A$29012=A157)*('CCG-Prov(Acute)'!$C$2:$C$29012>=Acute!$B$7),1,0))","v":4},{"$f":"IF(VALUE(MID(E$2,5,2))<=$D157,OFFSET('CCG-Prov(Acute)'!$B$1,MATCH($A157,'CCG-Prov(Acute)'!$A$2:$A$29012,0)+VALUE(RIGHT(E$2,1))-1,0),\"\")","v":"RVJ"},{"$f":"IF(VALUE(MID(F$2,5,2))<=$D157,OFFSET('CCG-Prov(Acute)'!$B$1,MATCH($A157,'CCG-Prov(Acute)'!$A$2:$A$29012,0)+VALUE(RIGHT(F$2,1))-1,0),\"\")","v":"RA7"},{"$f":"IF(VALUE(MID(G$2,5,2))<=$D157,OFFSET('CCG-Prov(Acute)'!$B$1,MATCH($A157,'CCG-Prov(Acute)'!$A$2:$A$29012,0)+VALUE(RIGHT(G$2,1))-1,0),\"\")","v":"NTC"},{"$f":"IF(VALUE(MID(H$2,5,2))<=$D157,OFFSET('CCG-Prov(Acute)'!$B$1,MATCH($A157,'CCG-Prov(Acute)'!$A$2:$A$29012,0)+VALUE(RIGHT(H$2,1))-1,0),\"\")","v":"RD1"},{"$f":"IF(VALUE(MID(I$2,5,2))<=$D157,OFFSET('CCG-Prov(Acute)'!$B$1,MATCH($A157,'CCG-Prov(Acute)'!$A$2:$A$29012,0)+VALUE(RIGHT(I$2,1))-1,0),\"\")","v":""},{"$f":"IF(VALUE(MID(J$2,5,2))<=$D157,OFFSET('CCG-Prov(Acute)'!$B$1,MATCH($A157,'CCG-Prov(Acute)'!$A$2:$A$29012,0)+VALUE(RIGHT(J$2,1))-1,0),\"\")","v":""},{"$f":"IF(VALUE(MID(K$2,5,2))<=$D157,OFFSET('CCG-Prov(Acute)'!$B$1,MATCH($A157,'CCG-Prov(Acute)'!$A$2:$A$29012,0)+VALUE(RIGHT(K$2,1))-1,0),\"\")","v":""},{"$f":"IF(VALUE(MID(L$2,5,2))<=$D157,OFFSET('CCG-Prov(Acute)'!$B$1,MATCH($A157,'CCG-Prov(Acute)'!$A$2:$A$29012,0)+VALUE(RIGHT(L$2,1))-1,0),\"\")","v":""},{"$f":"IF(VALUE(MID(M$2,5,2))<=$D157,OFFSET('CCG-Prov(Acute)'!$B$1,MATCH($A157,'CCG-Prov(Acute)'!$A$2:$A$29012,0)+VALUE(RIGHT(M$2,1))-1,0),\"\")","v":""},{"$f":"IF(VALUE(MID(N$2,5,2))<=$D157,OFFSET('CCG-Prov(Acute)'!$B$1,MATCH($A157,'CCG-Prov(Acute)'!$A$2:$A$29012,0)+VALUE(RIGHT(N$2,1))-1,0),\"\")","v":""},null,null,"RHQ",{"$f":"VLOOKUP(Q157,provnames!$A$2:$B$331,2,0)","v":"Sheffield Teaching Hospitals NHS FT"},{"$f":"SUM(IF(('CCG-Prov(Acute)'!$B$2:$B$28899=Q157),1,0))","v":194},null,{"$f":"SUM(IF(('CCG-Prov(Amb)'!$A$2:$A$335=A157),1,0))","v":1},{"$f":"SUM(IF(('CCG-Prov(Amb)'!$A$2:$A$335=A157)*('CCG-Prov(Amb)'!$C$2:$C$335>=Ambulance!$B$7),1,0))","v":1},{"$f":"IF(VALUE(MID(W$2,5,2))<=$V157,OFFSET('CCG-Prov(Amb)'!$B$1,MATCH($A157,'CCG-Prov(Amb)'!$A$2:$A$335,0)+VALUE(RIGHT(W$2,1))-1,0),\"\")","v":"RX5"},{"$f":"IF(VALUE(MID(X$2,5,2))<=$V157,OFFSET('CCG-Prov(Amb)'!$B$1,MATCH($A157,'CCG-Prov(Amb)'!$A$2:$A$335,0)+VALUE(RIGHT(X$2,1))-1,0),\"\")","v":""},{"$f":"IF(VALUE(MID(Y$2,5,2))<=$V157,OFFSET('CCG-Prov(Amb)'!$B$1,MATCH($A157,'CCG-Prov(Amb)'!$A$2:$A$335,0)+VALUE(RIGHT(Y$2,1))-1,0),\"\")","v":""},{"$f":"IF(VALUE(MID(Z$2,5,2))<=$V157,OFFSET('CCG-Prov(Amb)'!$B$1,MATCH($A157,'CCG-Prov(Amb)'!$A$2:$A$335,0)+VALUE(RIGHT(Z$2,1))-1,0),\"\")","v":""},{"$f":"IF(VALUE(MID(AA$2,5,2))<=$V157,OFFSET('CCG-Prov(Amb)'!$B$1,MATCH($A157,'CCG-Prov(Amb)'!$A$2:$A$335,0)+VALUE(RIGHT(AA$2,1))-1,0),\"\")","v":""},null,null,null,null,null,{"$f":"SUM(IF(('CCG-Prov(Births)'!$A$2:$A$6150=A157),1,0))","v":27},{"$f":"SUM(IF(('CCG-Prov(Births)'!$A$2:$A$6150=A157)*('CCG-Prov(Births)'!$C$2:$C$6150>=Maternity!$B$7),1,0))","v":3},{"$f":"IF(VALUE(MID(AI$2,5,2))<=$V157,OFFSET('CCG-Prov(Births)'!$B$1,MATCH($A157,'CCG-Prov(Births)'!$A$2:$A$6150,0)+VALUE(RIGHT(AI$2,1))-1,0),\"\")","v":"RVJ"},{"$f":"IF(VALUE(MID(AJ$2,5,2))<=$V157,OFFSET('CCG-Prov(Births)'!$B$1,MATCH($A157,'CCG-Prov(Births)'!$A$2:$A$6150,0)+VALUE(RIGHT(AJ$2,1))-1,0),\"\")","v":""},{"$f":"IF(VALUE(MID(AK$2,5,2))<=$V157,OFFSET('CCG-Prov(Births)'!$B$1,MATCH($A157,'CCG-Prov(Births)'!$A$2:$A$6150,0)+VALUE(RIGHT(AK$2,1))-1,0),\"\")","v":""},{"$f":"IF(VALUE(MID(AL$2,5,2))<=$V157,OFFSET('CCG-Prov(Births)'!$B$1,MATCH($A157,'CCG-Prov(Births)'!$A$2:$A$6150,0)+VALUE(RIGHT(AL$2,1))-1,0),\"\")","v":""},{"$f":"IF(VALUE(MID(AM$2,5,2))<=$V157,OFFSET('CCG-Prov(Births)'!$B$1,MATCH($A157,'CCG-Prov(Births)'!$A$2:$A$6150,0)+VALUE(RIGHT(AM$2,1))-1,0),\"\")","v":""},null,"RYV",{"$f":"VLOOKUP(AO157,provnames!$A$2:$B$331,2,0)","v":"Cambridgeshire Community Services NHS Trust"},{"$f":"SUM(IF(('CCG-Prov(Births)'!$B$2:$B$6150=AO157),1,0))","v":0}]
["10A","South Kent Coast",{"$f":"SUM(IF(('CCG-Prov(Acute)'!$A$2:$A$29012=A158),1,0))","v":137},{"$f":"SUM(IF(('CCG-Prov(Acute)'!$A$2:$A$29012=A158)*('CCG-Prov(Acute)'!$C$2:$C$29012>=Acute!$B$7),1,0))","v":3},{"$f":"IF(VALUE(MID(E$2,5,2))<=$D158,OFFSET('CCG-Prov(Acute)'!$B$1,MATCH($A158,'CCG-Prov(Acute)'!$A$2:$A$29012,0)+VALUE(RIGHT(E$2,1))-1,0),\"\")","v":"RVV"},{"$f":"IF(VALUE(MID(F$2,5,2))<=$D158,OFFSET('CCG-Prov(Acute)'!$B$1,MATCH($A158,'CCG-Prov(Acute)'!$A$2:$A$29012,0)+VALUE(RIGHT(F$2,1))-1,0),\"\")","v":"NTY"},{"$f":"IF(VALUE(MID(G$2,5,2))<=$D158,OFFSET('CCG-Prov(Acute)'!$B$1,MATCH($A158,'CCG-Prov(Acute)'!$A$2:$A$29012,0)+VALUE(RIGHT(G$2,1))-1,0),\"\")","v":"RJ1"},{"$f":"IF(VALUE(MID(H$2,5,2))<=$D158,OFFSET('CCG-Prov(Acute)'!$B$1,MATCH($A158,'CCG-Prov(Acute)'!$A$2:$A$29012,0)+VALUE(RIGHT(H$2,1))-1,0),\"\")","v":""},{"$f":"IF(VALUE(MID(I$2,5,2))<=$D158,OFFSET('CCG-Prov(Acute)'!$B$1,MATCH($A158,'CCG-Prov(Acute)'!$A$2:$A$29012,0)+VALUE(RIGHT(I$2,1))-1,0),\"\")","v":""},{"$f":"IF(VALUE(MID(J$2,5,2))<=$D158,OFFSET('CCG-Prov(Acute)'!$B$1,MATCH($A158,'CCG-Prov(Acute)'!$A$2:$A$29012,0)+VALUE(RIGHT(J$2,1))-1,0),\"\")","v":""},{"$f":"IF(VALUE(MID(K$2,5,2))<=$D158,OFFSET('CCG-Prov(Acute)'!$B$1,MATCH($A158,'CCG-Prov(Acute)'!$A$2:$A$29012,0)+VALUE(RIGHT(K$2,1))-1,0),\"\")","v":""},{"$f":"IF(VALUE(MID(L$2,5,2))<=$D158,OFFSET('CCG-Prov(Acute)'!$B$1,MATCH($A158,'CCG-Prov(Acute)'!$A$2:$A$29012,0)+VALUE(RIGHT(L$2,1))-1,0),\"\")","v":""},{"$f":"IF(VALUE(MID(M$2,5,2))<=$D158,OFFSET('CCG-Prov(Acute)'!$B$1,MATCH($A158,'CCG-Prov(Acute)'!$A$2:$A$29012,0)+VALUE(RIGHT(M$2,1))-1,0),\"\")","v":""},{"$f":"IF(VALUE(MID(N$2,5,2))<=$D158,OFFSET('CCG-Prov(Acute)'!$B$1,MATCH($A158,'CCG-Prov(Acute)'!$A$2:$A$29012,0)+VALUE(RIGHT(N$2,1))-1,0),\"\")","v":""},null,null,"RHU",{"$f":"VLOOKUP(Q158,provnames!$A$2:$B$331,2,0)","v":"Portsmouth Hospitals NHS Trust"},{"$f":"SUM(IF(('CCG-Prov(Acute)'!$B$2:$B$28899=Q158),1,0))","v":183},null,{"$f":"SUM(IF(('CCG-Prov(Amb)'!$A$2:$A$335=A158),1,0))","v":1},{"$f":"SUM(IF(('CCG-Prov(Amb)'!$A$2:$A$335=A158)*('CCG-Prov(Amb)'!$C$2:$C$335>=Ambulance!$B$7),1,0))","v":1},{"$f":"IF(VALUE(MID(W$2,5,2))<=$V158,OFFSET('CCG-Prov(Amb)'!$B$1,MATCH($A158,'CCG-Prov(Amb)'!$A$2:$A$335,0)+VALUE(RIGHT(W$2,1))-1,0),\"\")","v":"RYD"},{"$f":"IF(VALUE(MID(X$2,5,2))<=$V158,OFFSET('CCG-Prov(Amb)'!$B$1,MATCH($A158,'CCG-Prov(Amb)'!$A$2:$A$335,0)+VALUE(RIGHT(X$2,1))-1,0),\"\")","v":""},{"$f":"IF(VALUE(MID(Y$2,5,2))<=$V158,OFFSET('CCG-Prov(Amb)'!$B$1,MATCH($A158,'CCG-Prov(Amb)'!$A$2:$A$335,0)+VALUE(RIGHT(Y$2,1))-1,0),\"\")","v":""},{"$f":"IF(VALUE(MID(Z$2,5,2))<=$V158,OFFSET('CCG-Prov(Amb)'!$B$1,MATCH($A158,'CCG-Prov(Amb)'!$A$2:$A$335,0)+VALUE(RIGHT(Z$2,1))-1,0),\"\")","v":""},{"$f":"IF(VALUE(MID(AA$2,5,2))<=$V158,OFFSET('CCG-Prov(Amb)'!$B$1,MATCH($A158,'CCG-Prov(Amb)'!$A$2:$A$335,0)+VALUE(RIGHT(AA$2,1))-1,0),\"\")","v":""},null,null,null,null,null,{"$f":"SUM(IF(('CCG-Prov(Births)'!$A$2:$A$6150=A158),1,0))","v":15},{"$f":"SUM(IF(('CCG-Prov(Births)'!$A$2:$A$6150=A158)*('CCG-Prov(Births)'!$C$2:$C$6150>=Maternity!$B$7),1,0))","v":1},{"$f":"IF(VALUE(MID(AI$2,5,2))<=$V158,OFFSET('CCG-Prov(Births)'!$B$1,MATCH($A158,'CCG-Prov(Births)'!$A$2:$A$6150,0)+VALUE(RIGHT(AI$2,1))-1,0),\"\")","v":"RVV"},{"$f":"IF(VALUE(MID(AJ$2,5,2))<=$V158,OFFSET('CCG-Prov(Births)'!$B$1,MATCH($A158,'CCG-Prov(Births)'!$A$2:$A$6150,0)+VALUE(RIGHT(AJ$2,1))-1,0),\"\")","v":""},{"$f":"IF(VALUE(MID(AK$2,5,2))<=$V158,OFFSET('CCG-Prov(Births)'!$B$1,MATCH($A158,'CCG-Prov(Births)'!$A$2:$A$6150,0)+VALUE(RIGHT(AK$2,1))-1,0),\"\")","v":""},{"$f":"IF(VALUE(MID(AL$2,5,2))<=$V158,OFFSET('CCG-Prov(Births)'!$B$1,MATCH($A158,'CCG-Prov(Births)'!$A$2:$A$6150,0)+VALUE(RIGHT(AL$2,1))-1,0),\"\")","v":""},{"$f":"IF(VALUE(MID(AM$2,5,2))<=$V158,OFFSET('CCG-Prov(Births)'!$B$1,MATCH($A158,'CCG-Prov(Births)'!$A$2:$A$6150,0)+VALUE(RIGHT(AM$2,1))-1,0),\"\")","v":""}]
["99D","South Lincolnshire",{"$f":"SUM(IF(('CCG-Prov(Acute)'!$A$2:$A$29012=A159),1,0))","v":133},{"$f":"SUM(IF(('CCG-Prov(Acute)'!$A$2:$A$29012=A159)*('CCG-Prov(Acute)'!$C$2:$C$29012>=Acute!$B$7),1,0))","v":6},{"$f":"IF(VALUE(MID(E$2,5,2))<=$D159,OFFSET('CCG-Prov(Acute)'!$B$1,MATCH($A159,'CCG-Prov(Acute)'!$A$2:$A$29012,0)+VALUE(RIGHT(E$2,1))-1,0),\"\")","v":"RGN"},{"$f":"IF(VALUE(MID(F$2,5,2))<=$D159,OFFSET('CCG-Prov(Acute)'!$B$1,MATCH($A159,'CCG-Prov(Acute)'!$A$2:$A$29012,0)+VALUE(RIGHT(F$2,1))-1,0),\"\")","v":"RWD"},{"$f":"IF(VALUE(MID(G$2,5,2))<=$D159,OFFSET('CCG-Prov(Acute)'!$B$1,MATCH($A159,'CCG-Prov(Acute)'!$A$2:$A$29012,0)+VALUE(RIGHT(G$2,1))-1,0),\"\")","v":"RCX"},{"$f":"IF(VALUE(MID(H$2,5,2))<=$D159,OFFSET('CCG-Prov(Acute)'!$B$1,MATCH($A159,'CCG-Prov(Acute)'!$A$2:$A$29012,0)+VALUE(RIGHT(H$2,1))-1,0),\"\")","v":"NVC"},{"$f":"IF(VALUE(MID(I$2,5,2))<=$D159,OFFSET('CCG-Prov(Acute)'!$B$1,MATCH($A159,'CCG-Prov(Acute)'!$A$2:$A$29012,0)+VALUE(RIGHT(I$2,1))-1,0),\"\")","v":"RGT"},{"$f":"IF(VALUE(MID(J$2,5,2))<=$D159,OFFSET('CCG-Prov(Acute)'!$B$1,MATCH($A159,'CCG-Prov(Acute)'!$A$2:$A$29012,0)+VALUE(RIGHT(J$2,1))-1,0),\"\")","v":"RGM"},{"$f":"IF(VALUE(MID(K$2,5,2))<=$D159,OFFSET('CCG-Prov(Acute)'!$B$1,MATCH($A159,'CCG-Prov(Acute)'!$A$2:$A$29012,0)+VALUE(RIGHT(K$2,1))-1,0),\"\")","v":""},{"$f":"IF(VALUE(MID(L$2,5,2))<=$D159,OFFSET('CCG-Prov(Acute)'!$B$1,MATCH($A159,'CCG-Prov(Acute)'!$A$2:$A$29012,0)+VALUE(RIGHT(L$2,1))-1,0),\"\")","v":""},{"$f":"IF(VALUE(MID(M$2,5,2))<=$D159,OFFSET('CCG-Prov(Acute)'!$B$1,MATCH($A159,'CCG-Prov(Acute)'!$A$2:$A$29012,0)+VALUE(RIGHT(M$2,1))-1,0),\"\")","v":""},{"$f":"IF(VALUE(MID(N$2,5,2))<=$D159,OFFSET('CCG-Prov(Acute)'!$B$1,MATCH($A159,'CCG-Prov(Acute)'!$A$2:$A$29012,0)+VALUE(RIGHT(N$2,1))-1,0),\"\")","v":""},null,null,"RHW",{"$f":"VLOOKUP(Q159,provnames!$A$2:$B$331,2,0)","v":"Royal Berkshire NHS FT"},{"$f":"SUM(IF(('CCG-Prov(Acute)'!$B$2:$B$28899=Q159),1,0))","v":172},null,{"$f":"SUM(IF(('CCG-Prov(Amb)'!$A$2:$A$335=A159),1,0))","v":2},{"$f":"SUM(IF(('CCG-Prov(Amb)'!$A$2:$A$335=A159)*('CCG-Prov(Amb)'!$C$2:$C$335>=Ambulance!$B$7),1,0))","v":2},{"$f":"IF(VALUE(MID(W$2,5,2))<=$V159,OFFSET('CCG-Prov(Amb)'!$B$1,MATCH($A159,'CCG-Prov(Amb)'!$A$2:$A$335,0)+VALUE(RIGHT(W$2,1))-1,0),\"\")","v":"RX9"},{"$f":"IF(VALUE(MID(X$2,5,2))<=$V159,OFFSET('CCG-Prov(Amb)'!$B$1,MATCH($A159,'CCG-Prov(Amb)'!$A$2:$A$335,0)+VALUE(RIGHT(X$2,1))-1,0),\"\")","v":"RYC"},{"$f":"IF(VALUE(MID(Y$2,5,2))<=$V159,OFFSET('CCG-Prov(Amb)'!$B$1,MATCH($A159,'CCG-Prov(Amb)'!$A$2:$A$335,0)+VALUE(RIGHT(Y$2,1))-1,0),\"\")","v":""},{"$f":"IF(VALUE(MID(Z$2,5,2))<=$V159,OFFSET('CCG-Prov(Amb)'!$B$1,MATCH($A159,'CCG-Prov(Amb)'!$A$2:$A$335,0)+VALUE(RIGHT(Z$2,1))-1,0),\"\")","v":""},{"$f":"IF(VALUE(MID(AA$2,5,2))<=$V159,OFFSET('CCG-Prov(Amb)'!$B$1,MATCH($A159,'CCG-Prov(Amb)'!$A$2:$A$335,0)+VALUE(RIGHT(AA$2,1))-1,0),\"\")","v":""},null,null,null,null,null,{"$f":"SUM(IF(('CCG-Prov(Births)'!$A$2:$A$6150=A159),1,0))","v":23},{"$f":"SUM(IF(('CCG-Prov(Births)'!$A$2:$A$6150=A159)*('CCG-Prov(Births)'!$C$2:$C$6150>=Maternity!$B$7),1,0))","v":3},{"$f":"IF(VALUE(MID(AI$2,5,2))<=$V159,OFFSET('CCG-Prov(Births)'!$B$1,MATCH($A159,'CCG-Prov(Births)'!$A$2:$A$6150,0)+VALUE(RIGHT(AI$2,1))-1,0),\"\")","v":"RGN"},{"$f":"IF(VALUE(MID(AJ$2,5,2))<=$V159,OFFSET('CCG-Prov(Births)'!$B$1,MATCH($A159,'CCG-Prov(Births)'!$A$2:$A$6150,0)+VALUE(RIGHT(AJ$2,1))-1,0),\"\")","v":"RWD"},{"$f":"IF(VALUE(MID(AK$2,5,2))<=$V159,OFFSET('CCG-Prov(Births)'!$B$1,MATCH($A159,'CCG-Prov(Births)'!$A$2:$A$6150,0)+VALUE(RIGHT(AK$2,1))-1,0),\"\")","v":""},{"$f":"IF(VALUE(MID(AL$2,5,2))<=$V159,OFFSET('CCG-Prov(Births)'!$B$1,MATCH($A159,'CCG-Prov(Births)'!$A$2:$A$6150,0)+VALUE(RIGHT(AL$2,1))-1,0),\"\")","v":""},{"$f":"IF(VALUE(MID(AM$2,5,2))<=$V159,OFFSET('CCG-Prov(Births)'!$B$1,MATCH($A159,'CCG-Prov(Births)'!$A$2:$A$6150,0)+VALUE(RIGHT(AM$2,1))-1,0),\"\")","v":""}]
["01N","South Manchester",{"$f":"SUM(IF(('CCG-Prov(Acute)'!$A$2:$A$29012=A160),1,0))","v":128},{"$f":"SUM(IF(('CCG-Prov(Acute)'!$A$2:$A$29012=A160)*('CCG-Prov(Acute)'!$C$2:$C$29012>=Acute!$B$7),1,0))","v":5},{"$f":"IF(VALUE(MID(E$2,5,2))<=$D160,OFFSET('CCG-Prov(Acute)'!$B$1,MATCH($A160,'CCG-Prov(Acute)'!$A$2:$A$29012,0)+VALUE(RIGHT(E$2,1))-1,0),\"\")","v":"RM2"},{"$f":"IF(VALUE(MID(F$2,5,2))<=$D160,OFFSET('CCG-Prov(Acute)'!$B$1,MATCH($A160,'CCG-Prov(Acute)'!$A$2:$A$29012,0)+VALUE(RIGHT(F$2,1))-1,0),\"\")","v":"RW3"},{"$f":"IF(VALUE(MID(G$2,5,2))<=$D160,OFFSET('CCG-Prov(Acute)'!$B$1,MATCH($A160,'CCG-Prov(Acute)'!$A$2:$A$29012,0)+VALUE(RIGHT(G$2,1))-1,0),\"\")","v":"RBV"},{"$f":"IF(VALUE(MID(H$2,5,2))<=$D160,OFFSET('CCG-Prov(Acute)'!$B$1,MATCH($A160,'CCG-Prov(Acute)'!$A$2:$A$29012,0)+VALUE(RIGHT(H$2,1))-1,0),\"\")","v":"RM3"},{"$f":"IF(VALUE(MID(I$2,5,2))<=$D160,OFFSET('CCG-Prov(Acute)'!$B$1,MATCH($A160,'CCG-Prov(Acute)'!$A$2:$A$29012,0)+VALUE(RIGHT(I$2,1))-1,0),\"\")","v":"RWJ"},{"$f":"IF(VALUE(MID(J$2,5,2))<=$D160,OFFSET('CCG-Prov(Acute)'!$B$1,MATCH($A160,'CCG-Prov(Acute)'!$A$2:$A$29012,0)+VALUE(RIGHT(J$2,1))-1,0),\"\")","v":""},{"$f":"IF(VALUE(MID(K$2,5,2))<=$D160,OFFSET('CCG-Prov(Acute)'!$B$1,MATCH($A160,'CCG-Prov(Acute)'!$A$2:$A$29012,0)+VALUE(RIGHT(K$2,1))-1,0),\"\")","v":""},{"$f":"IF(VALUE(MID(L$2,5,2))<=$D160,OFFSET('CCG-Prov(Acute)'!$B$1,MATCH($A160,'CCG-Prov(Acute)'!$A$2:$A$29012,0)+VALUE(RIGHT(L$2,1))-1,0),\"\")","v":""},{"$f":"IF(VALUE(MID(M$2,5,2))<=$D160,OFFSET('CCG-Prov(Acute)'!$B$1,MATCH($A160,'CCG-Prov(Acute)'!$A$2:$A$29012,0)+VALUE(RIGHT(M$2,1))-1,0),\"\")","v":""},{"$f":"IF(VALUE(MID(N$2,5,2))<=$D160,OFFSET('CCG-Prov(Acute)'!$B$1,MATCH($A160,'CCG-Prov(Acute)'!$A$2:$A$29012,0)+VALUE(RIGHT(N$2,1))-1,0),\"\")","v":""},null,null,"RJ1",{"$f":"VLOOKUP(Q160,provnames!$A$2:$B$331,2,0)","v":"Guy's & St Thomas' NHS FT"},{"$f":"SUM(IF(('CCG-Prov(Acute)'!$B$2:$B$28899=Q160),1,0))","v":210},null,{"$f":"SUM(IF(('CCG-Prov(Amb)'!$A$2:$A$335=A160),1,0))","v":1},{"$f":"SUM(IF(('CCG-Prov(Amb)'!$A$2:$A$335=A160)*('CCG-Prov(Amb)'!$C$2:$C$335>=Ambulance!$B$7),1,0))","v":1},{"$f":"IF(VALUE(MID(W$2,5,2))<=$V160,OFFSET('CCG-Prov(Amb)'!$B$1,MATCH($A160,'CCG-Prov(Amb)'!$A$2:$A$335,0)+VALUE(RIGHT(W$2,1))-1,0),\"\")","v":"RX7"},{"$f":"IF(VALUE(MID(X$2,5,2))<=$V160,OFFSET('CCG-Prov(Amb)'!$B$1,MATCH($A160,'CCG-Prov(Amb)'!$A$2:$A$335,0)+VALUE(RIGHT(X$2,1))-1,0),\"\")","v":""},{"$f":"IF(VALUE(MID(Y$2,5,2))<=$V160,OFFSET('CCG-Prov(Amb)'!$B$1,MATCH($A160,'CCG-Prov(Amb)'!$A$2:$A$335,0)+VALUE(RIGHT(Y$2,1))-1,0),\"\")","v":""},{"$f":"IF(VALUE(MID(Z$2,5,2))<=$V160,OFFSET('CCG-Prov(Amb)'!$B$1,MATCH($A160,'CCG-Prov(Amb)'!$A$2:$A$335,0)+VALUE(RIGHT(Z$2,1))-1,0),\"\")","v":""},{"$f":"IF(VALUE(MID(AA$2,5,2))<=$V160,OFFSET('CCG-Prov(Amb)'!$B$1,MATCH($A160,'CCG-Prov(Amb)'!$A$2:$A$335,0)+VALUE(RIGHT(AA$2,1))-1,0),\"\")","v":""},null,null,null,null,null,{"$f":"SUM(IF(('CCG-Prov(Births)'!$A$2:$A$6150=A160),1,0))","v":22},{"$f":"SUM(IF(('CCG-Prov(Births)'!$A$2:$A$6150=A160)*('CCG-Prov(Births)'!$C$2:$C$6150>=Maternity!$B$7),1,0))","v":3},{"$f":"IF(VALUE(MID(AI$2,5,2))<=$V160,OFFSET('CCG-Prov(Births)'!$B$1,MATCH($A160,'CCG-Prov(Births)'!$A$2:$A$6150,0)+VALUE(RIGHT(AI$2,1))-1,0),\"\")","v":"RM2"},{"$f":"IF(VALUE(MID(AJ$2,5,2))<=$V160,OFFSET('CCG-Prov(Births)'!$B$1,MATCH($A160,'CCG-Prov(Births)'!$A$2:$A$6150,0)+VALUE(RIGHT(AJ$2,1))-1,0),\"\")","v":""},{"$f":"IF(VALUE(MID(AK$2,5,2))<=$V160,OFFSET('CCG-Prov(Births)'!$B$1,MATCH($A160,'CCG-Prov(Births)'!$A$2:$A$6150,0)+VALUE(RIGHT(AK$2,1))-1,0),\"\")","v":""},{"$f":"IF(VALUE(MID(AL$2,5,2))<=$V160,OFFSET('CCG-Prov(Births)'!$B$1,MATCH($A160,'CCG-Prov(Births)'!$A$2:$A$6150,0)+VALUE(RIGHT(AL$2,1))-1,0),\"\")","v":""},{"$f":"IF(VALUE(MID(AM$2,5,2))<=$V160,OFFSET('CCG-Prov(Births)'!$B$1,MATCH($A160,'CCG-Prov(Births)'!$A$2:$A$6150,0)+VALUE(RIGHT(AM$2,1))-1,0),\"\")","v":""}]
["06Y","South Norfolk",{"$f":"SUM(IF(('CCG-Prov(Acute)'!$A$2:$A$29012=A161),1,0))","v":129},{"$f":"SUM(IF(('CCG-Prov(Acute)'!$A$2:$A$29012=A161)*('CCG-Prov(Acute)'!$C$2:$C$29012>=Acute!$B$7),1,0))","v":3},{"$f":"IF(VALUE(MID(E$2,5,2))<=$D161,OFFSET('CCG-Prov(Acute)'!$B$1,MATCH($A161,'CCG-Prov(Acute)'!$A$2:$A$29012,0)+VALUE(RIGHT(E$2,1))-1,0),\"\")","v":"RM1"},{"$f":"IF(VALUE(MID(F$2,5,2))<=$D161,OFFSET('CCG-Prov(Acute)'!$B$1,MATCH($A161,'CCG-Prov(Acute)'!$A$2:$A$29012,0)+VALUE(RIGHT(F$2,1))-1,0),\"\")","v":"RGR"},{"$f":"IF(VALUE(MID(G$2,5,2))<=$D161,OFFSET('CCG-Prov(Acute)'!$B$1,MATCH($A161,'CCG-Prov(Acute)'!$A$2:$A$29012,0)+VALUE(RIGHT(G$2,1))-1,0),\"\")","v":"RGT"},{"$f":"IF(VALUE(MID(H$2,5,2))<=$D161,OFFSET('CCG-Prov(Acute)'!$B$1,MATCH($A161,'CCG-Prov(Acute)'!$A$2:$A$29012,0)+VALUE(RIGHT(H$2,1))-1,0),\"\")","v":""},{"$f":"IF(VALUE(MID(I$2,5,2))<=$D161,OFFSET('CCG-Prov(Acute)'!$B$1,MATCH($A161,'CCG-Prov(Acute)'!$A$2:$A$29012,0)+VALUE(RIGHT(I$2,1))-1,0),\"\")","v":""},{"$f":"IF(VALUE(MID(J$2,5,2))<=$D161,OFFSET('CCG-Prov(Acute)'!$B$1,MATCH($A161,'CCG-Prov(Acute)'!$A$2:$A$29012,0)+VALUE(RIGHT(J$2,1))-1,0),\"\")","v":""},{"$f":"IF(VALUE(MID(K$2,5,2))<=$D161,OFFSET('CCG-Prov(Acute)'!$B$1,MATCH($A161,'CCG-Prov(Acute)'!$A$2:$A$29012,0)+VALUE(RIGHT(K$2,1))-1,0),\"\")","v":""},{"$f":"IF(VALUE(MID(L$2,5,2))<=$D161,OFFSET('CCG-Prov(Acute)'!$B$1,MATCH($A161,'CCG-Prov(Acute)'!$A$2:$A$29012,0)+VALUE(RIGHT(L$2,1))-1,0),\"\")","v":""},{"$f":"IF(VALUE(MID(M$2,5,2))<=$D161,OFFSET('CCG-Prov(Acute)'!$B$1,MATCH($A161,'CCG-Prov(Acute)'!$A$2:$A$29012,0)+VALUE(RIGHT(M$2,1))-1,0),\"\")","v":""},{"$f":"IF(VALUE(MID(N$2,5,2))<=$D161,OFFSET('CCG-Prov(Acute)'!$B$1,MATCH($A161,'CCG-Prov(Acute)'!$A$2:$A$29012,0)+VALUE(RIGHT(N$2,1))-1,0),\"\")","v":""},null,null,"RJ2",{"$f":"VLOOKUP(Q161,provnames!$A$2:$B$331,2,0)","v":"Lewisham Healthcare NHS Trust"},{"$f":"SUM(IF(('CCG-Prov(Acute)'!$B$2:$B$28899=Q161),1,0))","v":139},null,{"$f":"SUM(IF(('CCG-Prov(Amb)'!$A$2:$A$335=A161),1,0))","v":1},{"$f":"SUM(IF(('CCG-Prov(Amb)'!$A$2:$A$335=A161)*('CCG-Prov(Amb)'!$C$2:$C$335>=Ambulance!$B$7),1,0))","v":1},{"$f":"IF(VALUE(MID(W$2,5,2))<=$V161,OFFSET('CCG-Prov(Amb)'!$B$1,MATCH($A161,'CCG-Prov(Amb)'!$A$2:$A$335,0)+VALUE(RIGHT(W$2,1))-1,0),\"\")","v":"RYC"},{"$f":"IF(VALUE(MID(X$2,5,2))<=$V161,OFFSET('CCG-Prov(Amb)'!$B$1,MATCH($A161,'CCG-Prov(Amb)'!$A$2:$A$335,0)+VALUE(RIGHT(X$2,1))-1,0),\"\")","v":""},{"$f":"IF(VALUE(MID(Y$2,5,2))<=$V161,OFFSET('CCG-Prov(Amb)'!$B$1,MATCH($A161,'CCG-Prov(Amb)'!$A$2:$A$335,0)+VALUE(RIGHT(Y$2,1))-1,0),\"\")","v":""},{"$f":"IF(VALUE(MID(Z$2,5,2))<=$V161,OFFSET('CCG-Prov(Amb)'!$B$1,MATCH($A161,'CCG-Prov(Amb)'!$A$2:$A$335,0)+VALUE(RIGHT(Z$2,1))-1,0),\"\")","v":""},{"$f":"IF(VALUE(MID(AA$2,5,2))<=$V161,OFFSET('CCG-Prov(Amb)'!$B$1,MATCH($A161,'CCG-Prov(Amb)'!$A$2:$A$335,0)+VALUE(RIGHT(AA$2,1))-1,0),\"\")","v":""},null,null,null,null,null,{"$f":"SUM(IF(('CCG-Prov(Births)'!$A$2:$A$6150=A161),1,0))","v":22},{"$f":"SUM(IF(('CCG-Prov(Births)'!$A$2:$A$6150=A161)*('CCG-Prov(Births)'!$C$2:$C$6150>=Maternity!$B$7),1,0))","v":2},{"$f":"IF(VALUE(MID(AI$2,5,2))<=$V161,OFFSET('CCG-Prov(Births)'!$B$1,MATCH($A161,'CCG-Prov(Births)'!$A$2:$A$6150,0)+VALUE(RIGHT(AI$2,1))-1,0),\"\")","v":"RM1"},{"$f":"IF(VALUE(MID(AJ$2,5,2))<=$V161,OFFSET('CCG-Prov(Births)'!$B$1,MATCH($A161,'CCG-Prov(Births)'!$A$2:$A$6150,0)+VALUE(RIGHT(AJ$2,1))-1,0),\"\")","v":""},{"$f":"IF(VALUE(MID(AK$2,5,2))<=$V161,OFFSET('CCG-Prov(Births)'!$B$1,MATCH($A161,'CCG-Prov(Births)'!$A$2:$A$6150,0)+VALUE(RIGHT(AK$2,1))-1,0),\"\")","v":""},{"$f":"IF(VALUE(MID(AL$2,5,2))<=$V161,OFFSET('CCG-Prov(Births)'!$B$1,MATCH($A161,'CCG-Prov(Births)'!$A$2:$A$6150,0)+VALUE(RIGHT(AL$2,1))-1,0),\"\")","v":""},{"$f":"IF(VALUE(MID(AM$2,5,2))<=$V161,OFFSET('CCG-Prov(Births)'!$B$1,MATCH($A161,'CCG-Prov(Births)'!$A$2:$A$6150,0)+VALUE(RIGHT(AM$2,1))-1,0),\"\")","v":""}]
["10W","South Reading",{"$f":"SUM(IF(('CCG-Prov(Acute)'!$A$2:$A$29012=A162),1,0))","v":131},{"$f":"SUM(IF(('CCG-Prov(Acute)'!$A$2:$A$29012=A162)*('CCG-Prov(Acute)'!$C$2:$C$29012>=Acute!$B$7),1,0))","v":2},{"$f":"IF(VALUE(MID(E$2,5,2))<=$D162,OFFSET('CCG-Prov(Acute)'!$B$1,MATCH($A162,'CCG-Prov(Acute)'!$A$2:$A$29012,0)+VALUE(RIGHT(E$2,1))-1,0),\"\")","v":"RHW"},{"$f":"IF(VALUE(MID(F$2,5,2))<=$D162,OFFSET('CCG-Prov(Acute)'!$B$1,MATCH($A162,'CCG-Prov(Acute)'!$A$2:$A$29012,0)+VALUE(RIGHT(F$2,1))-1,0),\"\")","v":"RTH"},{"$f":"IF(VALUE(MID(G$2,5,2))<=$D162,OFFSET('CCG-Prov(Acute)'!$B$1,MATCH($A162,'CCG-Prov(Acute)'!$A$2:$A$29012,0)+VALUE(RIGHT(G$2,1))-1,0),\"\")","v":""},{"$f":"IF(VALUE(MID(H$2,5,2))<=$D162,OFFSET('CCG-Prov(Acute)'!$B$1,MATCH($A162,'CCG-Prov(Acute)'!$A$2:$A$29012,0)+VALUE(RIGHT(H$2,1))-1,0),\"\")","v":""},{"$f":"IF(VALUE(MID(I$2,5,2))<=$D162,OFFSET('CCG-Prov(Acute)'!$B$1,MATCH($A162,'CCG-Prov(Acute)'!$A$2:$A$29012,0)+VALUE(RIGHT(I$2,1))-1,0),\"\")","v":""},{"$f":"IF(VALUE(MID(J$2,5,2))<=$D162,OFFSET('CCG-Prov(Acute)'!$B$1,MATCH($A162,'CCG-Prov(Acute)'!$A$2:$A$29012,0)+VALUE(RIGHT(J$2,1))-1,0),\"\")","v":""},{"$f":"IF(VALUE(MID(K$2,5,2))<=$D162,OFFSET('CCG-Prov(Acute)'!$B$1,MATCH($A162,'CCG-Prov(Acute)'!$A$2:$A$29012,0)+VALUE(RIGHT(K$2,1))-1,0),\"\")","v":""},{"$f":"IF(VALUE(MID(L$2,5,2))<=$D162,OFFSET('CCG-Prov(Acute)'!$B$1,MATCH($A162,'CCG-Prov(Acute)'!$A$2:$A$29012,0)+VALUE(RIGHT(L$2,1))-1,0),\"\")","v":""},{"$f":"IF(VALUE(MID(M$2,5,2))<=$D162,OFFSET('CCG-Prov(Acute)'!$B$1,MATCH($A162,'CCG-Prov(Acute)'!$A$2:$A$29012,0)+VALUE(RIGHT(M$2,1))-1,0),\"\")","v":""},{"$f":"IF(VALUE(MID(N$2,5,2))<=$D162,OFFSET('CCG-Prov(Acute)'!$B$1,MATCH($A162,'CCG-Prov(Acute)'!$A$2:$A$29012,0)+VALUE(RIGHT(N$2,1))-1,0),\"\")","v":""},null,null,"RJ6",{"$f":"VLOOKUP(Q162,provnames!$A$2:$B$331,2,0)","v":"Croydon Health Services NHS Trust"},{"$f":"SUM(IF(('CCG-Prov(Acute)'!$B$2:$B$28899=Q162),1,0))","v":156},null,{"$f":"SUM(IF(('CCG-Prov(Amb)'!$A$2:$A$335=A162),1,0))","v":1},{"$f":"SUM(IF(('CCG-Prov(Amb)'!$A$2:$A$335=A162)*('CCG-Prov(Amb)'!$C$2:$C$335>=Ambulance!$B$7),1,0))","v":1},{"$f":"IF(VALUE(MID(W$2,5,2))<=$V162,OFFSET('CCG-Prov(Amb)'!$B$1,MATCH($A162,'CCG-Prov(Amb)'!$A$2:$A$335,0)+VALUE(RIGHT(W$2,1))-1,0),\"\")","v":"RYE"},{"$f":"IF(VALUE(MID(X$2,5,2))<=$V162,OFFSET('CCG-Prov(Amb)'!$B$1,MATCH($A162,'CCG-Prov(Amb)'!$A$2:$A$335,0)+VALUE(RIGHT(X$2,1))-1,0),\"\")","v":""},{"$f":"IF(VALUE(MID(Y$2,5,2))<=$V162,OFFSET('CCG-Prov(Amb)'!$B$1,MATCH($A162,'CCG-Prov(Amb)'!$A$2:$A$335,0)+VALUE(RIGHT(Y$2,1))-1,0),\"\")","v":""},{"$f":"IF(VALUE(MID(Z$2,5,2))<=$V162,OFFSET('CCG-Prov(Amb)'!$B$1,MATCH($A162,'CCG-Prov(Amb)'!$A$2:$A$335,0)+VALUE(RIGHT(Z$2,1))-1,0),\"\")","v":""},{"$f":"IF(VALUE(MID(AA$2,5,2))<=$V162,OFFSET('CCG-Prov(Amb)'!$B$1,MATCH($A162,'CCG-Prov(Amb)'!$A$2:$A$335,0)+VALUE(RIGHT(AA$2,1))-1,0),\"\")","v":""},null,null,null,null,null,{"$f":"SUM(IF(('CCG-Prov(Births)'!$A$2:$A$6150=A162),1,0))","v":25},{"$f":"SUM(IF(('CCG-Prov(Births)'!$A$2:$A$6150=A162)*('CCG-Prov(Births)'!$C$2:$C$6150>=Maternity!$B$7),1,0))","v":1},{"$f":"IF(VALUE(MID(AI$2,5,2))<=$V162,OFFSET('CCG-Prov(Births)'!$B$1,MATCH($A162,'CCG-Prov(Births)'!$A$2:$A$6150,0)+VALUE(RIGHT(AI$2,1))-1,0),\"\")","v":"RHW"},{"$f":"IF(VALUE(MID(AJ$2,5,2))<=$V162,OFFSET('CCG-Prov(Births)'!$B$1,MATCH($A162,'CCG-Prov(Births)'!$A$2:$A$6150,0)+VALUE(RIGHT(AJ$2,1))-1,0),\"\")","v":""},{"$f":"IF(VALUE(MID(AK$2,5,2))<=$V162,OFFSET('CCG-Prov(Births)'!$B$1,MATCH($A162,'CCG-Prov(Births)'!$A$2:$A$6150,0)+VALUE(RIGHT(AK$2,1))-1,0),\"\")","v":""},{"$f":"IF(VALUE(MID(AL$2,5,2))<=$V162,OFFSET('CCG-Prov(Births)'!$B$1,MATCH($A162,'CCG-Prov(Births)'!$A$2:$A$6150,0)+VALUE(RIGHT(AL$2,1))-1,0),\"\")","v":""},{"$f":"IF(VALUE(MID(AM$2,5,2))<=$V162,OFFSET('CCG-Prov(Births)'!$B$1,MATCH($A162,'CCG-Prov(Births)'!$A$2:$A$6150,0)+VALUE(RIGHT(AM$2,1))-1,0),\"\")","v":""}]
["01T","South Sefton",{"$f":"SUM(IF(('CCG-Prov(Acute)'!$A$2:$A$29012=A163),1,0))","v":105},{"$f":"SUM(IF(('CCG-Prov(Acute)'!$A$2:$A$29012=A163)*('CCG-Prov(Acute)'!$C$2:$C$29012>=Acute!$B$7),1,0))","v":6},{"$f":"IF(VALUE(MID(E$2,5,2))<=$D163,OFFSET('CCG-Prov(Acute)'!$B$1,MATCH($A163,'CCG-Prov(Acute)'!$A$2:$A$29012,0)+VALUE(RIGHT(E$2,1))-1,0),\"\")","v":"REM"},{"$f":"IF(VALUE(MID(F$2,5,2))<=$D163,OFFSET('CCG-Prov(Acute)'!$B$1,MATCH($A163,'CCG-Prov(Acute)'!$A$2:$A$29012,0)+VALUE(RIGHT(F$2,1))-1,0),\"\")","v":"RBS"},{"$f":"IF(VALUE(MID(G$2,5,2))<=$D163,OFFSET('CCG-Prov(Acute)'!$B$1,MATCH($A163,'CCG-Prov(Acute)'!$A$2:$A$29012,0)+VALUE(RIGHT(G$2,1))-1,0),\"\")","v":"RQ6"},{"$f":"IF(VALUE(MID(H$2,5,2))<=$D163,OFFSET('CCG-Prov(Acute)'!$B$1,MATCH($A163,'CCG-Prov(Acute)'!$A$2:$A$29012,0)+VALUE(RIGHT(H$2,1))-1,0),\"\")","v":"RVY"},{"$f":"IF(VALUE(MID(I$2,5,2))<=$D163,OFFSET('CCG-Prov(Acute)'!$B$1,MATCH($A163,'CCG-Prov(Acute)'!$A$2:$A$29012,0)+VALUE(RIGHT(I$2,1))-1,0),\"\")","v":"REP"},{"$f":"IF(VALUE(MID(J$2,5,2))<=$D163,OFFSET('CCG-Prov(Acute)'!$B$1,MATCH($A163,'CCG-Prov(Acute)'!$A$2:$A$29012,0)+VALUE(RIGHT(J$2,1))-1,0),\"\")","v":"RBN"},{"$f":"IF(VALUE(MID(K$2,5,2))<=$D163,OFFSET('CCG-Prov(Acute)'!$B$1,MATCH($A163,'CCG-Prov(Acute)'!$A$2:$A$29012,0)+VALUE(RIGHT(K$2,1))-1,0),\"\")","v":""},{"$f":"IF(VALUE(MID(L$2,5,2))<=$D163,OFFSET('CCG-Prov(Acute)'!$B$1,MATCH($A163,'CCG-Prov(Acute)'!$A$2:$A$29012,0)+VALUE(RIGHT(L$2,1))-1,0),\"\")","v":""},{"$f":"IF(VALUE(MID(M$2,5,2))<=$D163,OFFSET('CCG-Prov(Acute)'!$B$1,MATCH($A163,'CCG-Prov(Acute)'!$A$2:$A$29012,0)+VALUE(RIGHT(M$2,1))-1,0),\"\")","v":""},{"$f":"IF(VALUE(MID(N$2,5,2))<=$D163,OFFSET('CCG-Prov(Acute)'!$B$1,MATCH($A163,'CCG-Prov(Acute)'!$A$2:$A$29012,0)+VALUE(RIGHT(N$2,1))-1,0),\"\")","v":""},null,null,"RJ7",{"$f":"VLOOKUP(Q163,provnames!$A$2:$B$331,2,0)","v":"St George's Healthcare NHS Trust"},{"$f":"SUM(IF(('CCG-Prov(Acute)'!$B$2:$B$28899=Q163),1,0))","v":193},null,{"$f":"SUM(IF(('CCG-Prov(Amb)'!$A$2:$A$335=A163),1,0))","v":1},{"$f":"SUM(IF(('CCG-Prov(Amb)'!$A$2:$A$335=A163)*('CCG-Prov(Amb)'!$C$2:$C$335>=Ambulance!$B$7),1,0))","v":1},{"$f":"IF(VALUE(MID(W$2,5,2))<=$V163,OFFSET('CCG-Prov(Amb)'!$B$1,MATCH($A163,'CCG-Prov(Amb)'!$A$2:$A$335,0)+VALUE(RIGHT(W$2,1))-1,0),\"\")","v":"RX7"},{"$f":"IF(VALUE(MID(X$2,5,2))<=$V163,OFFSET('CCG-Prov(Amb)'!$B$1,MATCH($A163,'CCG-Prov(Amb)'!$A$2:$A$335,0)+VALUE(RIGHT(X$2,1))-1,0),\"\")","v":""},{"$f":"IF(VALUE(MID(Y$2,5,2))<=$V163,OFFSET('CCG-Prov(Amb)'!$B$1,MATCH($A163,'CCG-Prov(Amb)'!$A$2:$A$335,0)+VALUE(RIGHT(Y$2,1))-1,0),\"\")","v":""},{"$f":"IF(VALUE(MID(Z$2,5,2))<=$V163,OFFSET('CCG-Prov(Amb)'!$B$1,MATCH($A163,'CCG-Prov(Amb)'!$A$2:$A$335,0)+VALUE(RIGHT(Z$2,1))-1,0),\"\")","v":""},{"$f":"IF(VALUE(MID(AA$2,5,2))<=$V163,OFFSET('CCG-Prov(Amb)'!$B$1,MATCH($A163,'CCG-Prov(Amb)'!$A$2:$A$335,0)+VALUE(RIGHT(AA$2,1))-1,0),\"\")","v":""},null,null,null,null,null,{"$f":"SUM(IF(('CCG-Prov(Births)'!$A$2:$A$6150=A163),1,0))","v":9},{"$f":"SUM(IF(('CCG-Prov(Births)'!$A$2:$A$6150=A163)*('CCG-Prov(Births)'!$C$2:$C$6150>=Maternity!$B$7),1,0))","v":2},{"$f":"IF(VALUE(MID(AI$2,5,2))<=$V163,OFFSET('CCG-Prov(Births)'!$B$1,MATCH($A163,'CCG-Prov(Births)'!$A$2:$A$6150,0)+VALUE(RIGHT(AI$2,1))-1,0),\"\")","v":"REP"},{"$f":"IF(VALUE(MID(AJ$2,5,2))<=$V163,OFFSET('CCG-Prov(Births)'!$B$1,MATCH($A163,'CCG-Prov(Births)'!$A$2:$A$6150,0)+VALUE(RIGHT(AJ$2,1))-1,0),\"\")","v":""},{"$f":"IF(VALUE(MID(AK$2,5,2))<=$V163,OFFSET('CCG-Prov(Births)'!$B$1,MATCH($A163,'CCG-Prov(Births)'!$A$2:$A$6150,0)+VALUE(RIGHT(AK$2,1))-1,0),\"\")","v":""},{"$f":"IF(VALUE(MID(AL$2,5,2))<=$V163,OFFSET('CCG-Prov(Births)'!$B$1,MATCH($A163,'CCG-Prov(Births)'!$A$2:$A$6150,0)+VALUE(RIGHT(AL$2,1))-1,0),\"\")","v":""},{"$f":"IF(VALUE(MID(AM$2,5,2))<=$V163,OFFSET('CCG-Prov(Births)'!$B$1,MATCH($A163,'CCG-Prov(Births)'!$A$2:$A$6150,0)+VALUE(RIGHT(AM$2,1))-1,0),\"\")","v":""}]
["00M","South Tees",{"$f":"SUM(IF(('CCG-Prov(Acute)'!$A$2:$A$29012=A164),1,0))","v":143},{"$f":"SUM(IF(('CCG-Prov(Acute)'!$A$2:$A$29012=A164)*('CCG-Prov(Acute)'!$C$2:$C$29012>=Acute!$B$7),1,0))","v":5},{"$f":"IF(VALUE(MID(E$2,5,2))<=$D164,OFFSET('CCG-Prov(Acute)'!$B$1,MATCH($A164,'CCG-Prov(Acute)'!$A$2:$A$29012,0)+VALUE(RIGHT(E$2,1))-1,0),\"\")","v":"RTR"},{"$f":"IF(VALUE(MID(F$2,5,2))<=$D164,OFFSET('CCG-Prov(Acute)'!$B$1,MATCH($A164,'CCG-Prov(Acute)'!$A$2:$A$29012,0)+VALUE(RIGHT(F$2,1))-1,0),\"\")","v":"NVC"},{"$f":"IF(VALUE(MID(G$2,5,2))<=$D164,OFFSET('CCG-Prov(Acute)'!$B$1,MATCH($A164,'CCG-Prov(Acute)'!$A$2:$A$29012,0)+VALUE(RIGHT(G$2,1))-1,0),\"\")","v":"5QR"},{"$f":"IF(VALUE(MID(H$2,5,2))<=$D164,OFFSET('CCG-Prov(Acute)'!$B$1,MATCH($A164,'CCG-Prov(Acute)'!$A$2:$A$29012,0)+VALUE(RIGHT(H$2,1))-1,0),\"\")","v":"RVW"},{"$f":"IF(VALUE(MID(I$2,5,2))<=$D164,OFFSET('CCG-Prov(Acute)'!$B$1,MATCH($A164,'CCG-Prov(Acute)'!$A$2:$A$29012,0)+VALUE(RIGHT(I$2,1))-1,0),\"\")","v":"RTD"},{"$f":"IF(VALUE(MID(J$2,5,2))<=$D164,OFFSET('CCG-Prov(Acute)'!$B$1,MATCH($A164,'CCG-Prov(Acute)'!$A$2:$A$29012,0)+VALUE(RIGHT(J$2,1))-1,0),\"\")","v":""},{"$f":"IF(VALUE(MID(K$2,5,2))<=$D164,OFFSET('CCG-Prov(Acute)'!$B$1,MATCH($A164,'CCG-Prov(Acute)'!$A$2:$A$29012,0)+VALUE(RIGHT(K$2,1))-1,0),\"\")","v":""},{"$f":"IF(VALUE(MID(L$2,5,2))<=$D164,OFFSET('CCG-Prov(Acute)'!$B$1,MATCH($A164,'CCG-Prov(Acute)'!$A$2:$A$29012,0)+VALUE(RIGHT(L$2,1))-1,0),\"\")","v":""},{"$f":"IF(VALUE(MID(M$2,5,2))<=$D164,OFFSET('CCG-Prov(Acute)'!$B$1,MATCH($A164,'CCG-Prov(Acute)'!$A$2:$A$29012,0)+VALUE(RIGHT(M$2,1))-1,0),\"\")","v":""},{"$f":"IF(VALUE(MID(N$2,5,2))<=$D164,OFFSET('CCG-Prov(Acute)'!$B$1,MATCH($A164,'CCG-Prov(Acute)'!$A$2:$A$29012,0)+VALUE(RIGHT(N$2,1))-1,0),\"\")","v":""},null,null,"RJC",{"$f":"VLOOKUP(Q164,provnames!$A$2:$B$331,2,0)","v":"South Warwickshire NHS FT"},{"$f":"SUM(IF(('CCG-Prov(Acute)'!$B$2:$B$28899=Q164),1,0))","v":165},null,{"$f":"SUM(IF(('CCG-Prov(Amb)'!$A$2:$A$335=A164),1,0))","v":2},{"$f":"SUM(IF(('CCG-Prov(Amb)'!$A$2:$A$335=A164)*('CCG-Prov(Amb)'!$C$2:$C$335>=Ambulance!$B$7),1,0))","v":1},{"$f":"IF(VALUE(MID(W$2,5,2))<=$V164,OFFSET('CCG-Prov(Amb)'!$B$1,MATCH($A164,'CCG-Prov(Amb)'!$A$2:$A$335,0)+VALUE(RIGHT(W$2,1))-1,0),\"\")","v":"RX6"},{"$f":"IF(VALUE(MID(X$2,5,2))<=$V164,OFFSET('CCG-Prov(Amb)'!$B$1,MATCH($A164,'CCG-Prov(Amb)'!$A$2:$A$335,0)+VALUE(RIGHT(X$2,1))-1,0),\"\")","v":""},{"$f":"IF(VALUE(MID(Y$2,5,2))<=$V164,OFFSET('CCG-Prov(Amb)'!$B$1,MATCH($A164,'CCG-Prov(Amb)'!$A$2:$A$335,0)+VALUE(RIGHT(Y$2,1))-1,0),\"\")","v":""},{"$f":"IF(VALUE(MID(Z$2,5,2))<=$V164,OFFSET('CCG-Prov(Amb)'!$B$1,MATCH($A164,'CCG-Prov(Amb)'!$A$2:$A$335,0)+VALUE(RIGHT(Z$2,1))-1,0),\"\")","v":""},{"$f":"IF(VALUE(MID(AA$2,5,2))<=$V164,OFFSET('CCG-Prov(Amb)'!$B$1,MATCH($A164,'CCG-Prov(Amb)'!$A$2:$A$335,0)+VALUE(RIGHT(AA$2,1))-1,0),\"\")","v":""},null,null,null,null,null,{"$f":"SUM(IF(('CCG-Prov(Births)'!$A$2:$A$6150=A164),1,0))","v":16},{"$f":"SUM(IF(('CCG-Prov(Births)'!$A$2:$A$6150=A164)*('CCG-Prov(Births)'!$C$2:$C$6150>=Maternity!$B$7),1,0))","v":1},{"$f":"IF(VALUE(MID(AI$2,5,2))<=$V164,OFFSET('CCG-Prov(Births)'!$B$1,MATCH($A164,'CCG-Prov(Births)'!$A$2:$A$6150,0)+VALUE(RIGHT(AI$2,1))-1,0),\"\")","v":"RTR"},{"$f":"IF(VALUE(MID(AJ$2,5,2))<=$V164,OFFSET('CCG-Prov(Births)'!$B$1,MATCH($A164,'CCG-Prov(Births)'!$A$2:$A$6150,0)+VALUE(RIGHT(AJ$2,1))-1,0),\"\")","v":""},{"$f":"IF(VALUE(MID(AK$2,5,2))<=$V164,OFFSET('CCG-Prov(Births)'!$B$1,MATCH($A164,'CCG-Prov(Births)'!$A$2:$A$6150,0)+VALUE(RIGHT(AK$2,1))-1,0),\"\")","v":""},{"$f":"IF(VALUE(MID(AL$2,5,2))<=$V164,OFFSET('CCG-Prov(Births)'!$B$1,MATCH($A164,'CCG-Prov(Births)'!$A$2:$A$6150,0)+VALUE(RIGHT(AL$2,1))-1,0),\"\")","v":""},{"$f":"IF(VALUE(MID(AM$2,5,2))<=$V164,OFFSET('CCG-Prov(Births)'!$B$1,MATCH($A164,'CCG-Prov(Births)'!$A$2:$A$6150,0)+VALUE(RIGHT(AM$2,1))-1,0),\"\")","v":""}]
["00N","South Tyneside",{"$f":"SUM(IF(('CCG-Prov(Acute)'!$A$2:$A$29012=A165),1,0))","v":86},{"$f":"SUM(IF(('CCG-Prov(Acute)'!$A$2:$A$29012=A165)*('CCG-Prov(Acute)'!$C$2:$C$29012>=Acute!$B$7),1,0))","v":5},{"$f":"IF(VALUE(MID(E$2,5,2))<=$D165,OFFSET('CCG-Prov(Acute)'!$B$1,MATCH($A165,'CCG-Prov(Acute)'!$A$2:$A$29012,0)+VALUE(RIGHT(E$2,1))-1,0),\"\")","v":"RE9"},{"$f":"IF(VALUE(MID(F$2,5,2))<=$D165,OFFSET('CCG-Prov(Acute)'!$B$1,MATCH($A165,'CCG-Prov(Acute)'!$A$2:$A$29012,0)+VALUE(RIGHT(F$2,1))-1,0),\"\")","v":"RLN"},{"$f":"IF(VALUE(MID(G$2,5,2))<=$D165,OFFSET('CCG-Prov(Acute)'!$B$1,MATCH($A165,'CCG-Prov(Acute)'!$A$2:$A$29012,0)+VALUE(RIGHT(G$2,1))-1,0),\"\")","v":"RTD"},{"$f":"IF(VALUE(MID(H$2,5,2))<=$D165,OFFSET('CCG-Prov(Acute)'!$B$1,MATCH($A165,'CCG-Prov(Acute)'!$A$2:$A$29012,0)+VALUE(RIGHT(H$2,1))-1,0),\"\")","v":"RXP"},{"$f":"IF(VALUE(MID(I$2,5,2))<=$D165,OFFSET('CCG-Prov(Acute)'!$B$1,MATCH($A165,'CCG-Prov(Acute)'!$A$2:$A$29012,0)+VALUE(RIGHT(I$2,1))-1,0),\"\")","v":"RR7"},{"$f":"IF(VALUE(MID(J$2,5,2))<=$D165,OFFSET('CCG-Prov(Acute)'!$B$1,MATCH($A165,'CCG-Prov(Acute)'!$A$2:$A$29012,0)+VALUE(RIGHT(J$2,1))-1,0),\"\")","v":""},{"$f":"IF(VALUE(MID(K$2,5,2))<=$D165,OFFSET('CCG-Prov(Acute)'!$B$1,MATCH($A165,'CCG-Prov(Acute)'!$A$2:$A$29012,0)+VALUE(RIGHT(K$2,1))-1,0),\"\")","v":""},{"$f":"IF(VALUE(MID(L$2,5,2))<=$D165,OFFSET('CCG-Prov(Acute)'!$B$1,MATCH($A165,'CCG-Prov(Acute)'!$A$2:$A$29012,0)+VALUE(RIGHT(L$2,1))-1,0),\"\")","v":""},{"$f":"IF(VALUE(MID(M$2,5,2))<=$D165,OFFSET('CCG-Prov(Acute)'!$B$1,MATCH($A165,'CCG-Prov(Acute)'!$A$2:$A$29012,0)+VALUE(RIGHT(M$2,1))-1,0),\"\")","v":""},{"$f":"IF(VALUE(MID(N$2,5,2))<=$D165,OFFSET('CCG-Prov(Acute)'!$B$1,MATCH($A165,'CCG-Prov(Acute)'!$A$2:$A$29012,0)+VALUE(RIGHT(N$2,1))-1,0),\"\")","v":""},null,null,"RJD",{"$f":"VLOOKUP(Q165,provnames!$A$2:$B$331,2,0)","v":"Mid Staffordshire NHS FT"},{"$f":"SUM(IF(('CCG-Prov(Acute)'!$B$2:$B$28899=Q165),1,0))","v":143},null,{"$f":"SUM(IF(('CCG-Prov(Amb)'!$A$2:$A$335=A165),1,0))","v":1},{"$f":"SUM(IF(('CCG-Prov(Amb)'!$A$2:$A$335=A165)*('CCG-Prov(Amb)'!$C$2:$C$335>=Ambulance!$B$7),1,0))","v":1},{"$f":"IF(VALUE(MID(W$2,5,2))<=$V165,OFFSET('CCG-Prov(Amb)'!$B$1,MATCH($A165,'CCG-Prov(Amb)'!$A$2:$A$335,0)+VALUE(RIGHT(W$2,1))-1,0),\"\")","v":"RX6"},{"$f":"IF(VALUE(MID(X$2,5,2))<=$V165,OFFSET('CCG-Prov(Amb)'!$B$1,MATCH($A165,'CCG-Prov(Amb)'!$A$2:$A$335,0)+VALUE(RIGHT(X$2,1))-1,0),\"\")","v":""},{"$f":"IF(VALUE(MID(Y$2,5,2))<=$V165,OFFSET('CCG-Prov(Amb)'!$B$1,MATCH($A165,'CCG-Prov(Amb)'!$A$2:$A$335,0)+VALUE(RIGHT(Y$2,1))-1,0),\"\")","v":""},{"$f":"IF(VALUE(MID(Z$2,5,2))<=$V165,OFFSET('CCG-Prov(Amb)'!$B$1,MATCH($A165,'CCG-Prov(Amb)'!$A$2:$A$335,0)+VALUE(RIGHT(Z$2,1))-1,0),\"\")","v":""},{"$f":"IF(VALUE(MID(AA$2,5,2))<=$V165,OFFSET('CCG-Prov(Amb)'!$B$1,MATCH($A165,'CCG-Prov(Amb)'!$A$2:$A$335,0)+VALUE(RIGHT(AA$2,1))-1,0),\"\")","v":""},null,null,null,null,null,{"$f":"SUM(IF(('CCG-Prov(Births)'!$A$2:$A$6150=A165),1,0))","v":15},{"$f":"SUM(IF(('CCG-Prov(Births)'!$A$2:$A$6150=A165)*('CCG-Prov(Births)'!$C$2:$C$6150>=Maternity!$B$7),1,0))","v":3},{"$f":"IF(VALUE(MID(AI$2,5,2))<=$V165,OFFSET('CCG-Prov(Births)'!$B$1,MATCH($A165,'CCG-Prov(Births)'!$A$2:$A$6150,0)+VALUE(RIGHT(AI$2,1))-1,0),\"\")","v":"RE9"},{"$f":"IF(VALUE(MID(AJ$2,5,2))<=$V165,OFFSET('CCG-Prov(Births)'!$B$1,MATCH($A165,'CCG-Prov(Births)'!$A$2:$A$6150,0)+VALUE(RIGHT(AJ$2,1))-1,0),\"\")","v":""},{"$f":"IF(VALUE(MID(AK$2,5,2))<=$V165,OFFSET('CCG-Prov(Births)'!$B$1,MATCH($A165,'CCG-Prov(Births)'!$A$2:$A$6150,0)+VALUE(RIGHT(AK$2,1))-1,0),\"\")","v":""},{"$f":"IF(VALUE(MID(AL$2,5,2))<=$V165,OFFSET('CCG-Prov(Births)'!$B$1,MATCH($A165,'CCG-Prov(Births)'!$A$2:$A$6150,0)+VALUE(RIGHT(AL$2,1))-1,0),\"\")","v":""},{"$f":"IF(VALUE(MID(AM$2,5,2))<=$V165,OFFSET('CCG-Prov(Births)'!$B$1,MATCH($A165,'CCG-Prov(Births)'!$A$2:$A$6150,0)+VALUE(RIGHT(AM$2,1))-1,0),\"\")","v":""}]
["05R","South Warwickshire",{"$f":"SUM(IF(('CCG-Prov(Acute)'!$A$2:$A$29012=A166),1,0))","v":155},{"$f":"SUM(IF(('CCG-Prov(Acute)'!$A$2:$A$29012=A166)*('CCG-Prov(Acute)'!$C$2:$C$29012>=Acute!$B$7),1,0))","v":6},{"$f":"IF(VALUE(MID(E$2,5,2))<=$D166,OFFSET('CCG-Prov(Acute)'!$B$1,MATCH($A166,'CCG-Prov(Acute)'!$A$2:$A$29012,0)+VALUE(RIGHT(E$2,1))-1,0),\"\")","v":"RJC"},{"$f":"IF(VALUE(MID(F$2,5,2))<=$D166,OFFSET('CCG-Prov(Acute)'!$B$1,MATCH($A166,'CCG-Prov(Acute)'!$A$2:$A$29012,0)+VALUE(RIGHT(F$2,1))-1,0),\"\")","v":"RKB"},{"$f":"IF(VALUE(MID(G$2,5,2))<=$D166,OFFSET('CCG-Prov(Acute)'!$B$1,MATCH($A166,'CCG-Prov(Acute)'!$A$2:$A$29012,0)+VALUE(RIGHT(G$2,1))-1,0),\"\")","v":"RWP"},{"$f":"IF(VALUE(MID(H$2,5,2))<=$D166,OFFSET('CCG-Prov(Acute)'!$B$1,MATCH($A166,'CCG-Prov(Acute)'!$A$2:$A$29012,0)+VALUE(RIGHT(H$2,1))-1,0),\"\")","v":"RTH"},{"$f":"IF(VALUE(MID(I$2,5,2))<=$D166,OFFSET('CCG-Prov(Acute)'!$B$1,MATCH($A166,'CCG-Prov(Acute)'!$A$2:$A$29012,0)+VALUE(RIGHT(I$2,1))-1,0),\"\")","v":"RR1"},{"$f":"IF(VALUE(MID(J$2,5,2))<=$D166,OFFSET('CCG-Prov(Acute)'!$B$1,MATCH($A166,'CCG-Prov(Acute)'!$A$2:$A$29012,0)+VALUE(RIGHT(J$2,1))-1,0),\"\")","v":"5PM"},{"$f":"IF(VALUE(MID(K$2,5,2))<=$D166,OFFSET('CCG-Prov(Acute)'!$B$1,MATCH($A166,'CCG-Prov(Acute)'!$A$2:$A$29012,0)+VALUE(RIGHT(K$2,1))-1,0),\"\")","v":""},{"$f":"IF(VALUE(MID(L$2,5,2))<=$D166,OFFSET('CCG-Prov(Acute)'!$B$1,MATCH($A166,'CCG-Prov(Acute)'!$A$2:$A$29012,0)+VALUE(RIGHT(L$2,1))-1,0),\"\")","v":""},{"$f":"IF(VALUE(MID(M$2,5,2))<=$D166,OFFSET('CCG-Prov(Acute)'!$B$1,MATCH($A166,'CCG-Prov(Acute)'!$A$2:$A$29012,0)+VALUE(RIGHT(M$2,1))-1,0),\"\")","v":""},{"$f":"IF(VALUE(MID(N$2,5,2))<=$D166,OFFSET('CCG-Prov(Acute)'!$B$1,MATCH($A166,'CCG-Prov(Acute)'!$A$2:$A$29012,0)+VALUE(RIGHT(N$2,1))-1,0),\"\")","v":""},null,null,"RJE",{"$f":"VLOOKUP(Q166,provnames!$A$2:$B$331,2,0)","v":"University Hospital of North Staffordshire NHS Trust"},{"$f":"SUM(IF(('CCG-Prov(Acute)'!$B$2:$B$28899=Q166),1,0))","v":195},null,{"$f":"SUM(IF(('CCG-Prov(Amb)'!$A$2:$A$335=A166),1,0))","v":4},{"$f":"SUM(IF(('CCG-Prov(Amb)'!$A$2:$A$335=A166)*('CCG-Prov(Amb)'!$C$2:$C$335>=Ambulance!$B$7),1,0))","v":3},{"$f":"IF(VALUE(MID(W$2,5,2))<=$V166,OFFSET('CCG-Prov(Amb)'!$B$1,MATCH($A166,'CCG-Prov(Amb)'!$A$2:$A$335,0)+VALUE(RIGHT(W$2,1))-1,0),\"\")","v":"RYA"},{"$f":"IF(VALUE(MID(X$2,5,2))<=$V166,OFFSET('CCG-Prov(Amb)'!$B$1,MATCH($A166,'CCG-Prov(Amb)'!$A$2:$A$335,0)+VALUE(RIGHT(X$2,1))-1,0),\"\")","v":"RYE"},{"$f":"IF(VALUE(MID(Y$2,5,2))<=$V166,OFFSET('CCG-Prov(Amb)'!$B$1,MATCH($A166,'CCG-Prov(Amb)'!$A$2:$A$335,0)+VALUE(RIGHT(Y$2,1))-1,0),\"\")","v":"RX5"},{"$f":"IF(VALUE(MID(Z$2,5,2))<=$V166,OFFSET('CCG-Prov(Amb)'!$B$1,MATCH($A166,'CCG-Prov(Amb)'!$A$2:$A$335,0)+VALUE(RIGHT(Z$2,1))-1,0),\"\")","v":""},{"$f":"IF(VALUE(MID(AA$2,5,2))<=$V166,OFFSET('CCG-Prov(Amb)'!$B$1,MATCH($A166,'CCG-Prov(Amb)'!$A$2:$A$335,0)+VALUE(RIGHT(AA$2,1))-1,0),\"\")","v":""},null,null,null,null,null,{"$f":"SUM(IF(('CCG-Prov(Births)'!$A$2:$A$6150=A166),1,0))","v":30},{"$f":"SUM(IF(('CCG-Prov(Births)'!$A$2:$A$6150=A166)*('CCG-Prov(Births)'!$C$2:$C$6150>=Maternity!$B$7),1,0))","v":4},{"$f":"IF(VALUE(MID(AI$2,5,2))<=$V166,OFFSET('CCG-Prov(Births)'!$B$1,MATCH($A166,'CCG-Prov(Births)'!$A$2:$A$6150,0)+VALUE(RIGHT(AI$2,1))-1,0),\"\")","v":"RJC"},{"$f":"IF(VALUE(MID(AJ$2,5,2))<=$V166,OFFSET('CCG-Prov(Births)'!$B$1,MATCH($A166,'CCG-Prov(Births)'!$A$2:$A$6150,0)+VALUE(RIGHT(AJ$2,1))-1,0),\"\")","v":"RWP"},{"$f":"IF(VALUE(MID(AK$2,5,2))<=$V166,OFFSET('CCG-Prov(Births)'!$B$1,MATCH($A166,'CCG-Prov(Births)'!$A$2:$A$6150,0)+VALUE(RIGHT(AK$2,1))-1,0),\"\")","v":"RTH"},{"$f":"IF(VALUE(MID(AL$2,5,2))<=$V166,OFFSET('CCG-Prov(Births)'!$B$1,MATCH($A166,'CCG-Prov(Births)'!$A$2:$A$6150,0)+VALUE(RIGHT(AL$2,1))-1,0),\"\")","v":""},{"$f":"IF(VALUE(MID(AM$2,5,2))<=$V166,OFFSET('CCG-Prov(Births)'!$B$1,MATCH($A166,'CCG-Prov(Births)'!$A$2:$A$6150,0)+VALUE(RIGHT(AM$2,1))-1,0),\"\")","v":""}]
["04Q","South West Lincolnshire ",{"$f":"SUM(IF(('CCG-Prov(Acute)'!$A$2:$A$29012=A167),1,0))","v":125},{"$f":"SUM(IF(('CCG-Prov(Acute)'!$A$2:$A$29012=A167)*('CCG-Prov(Acute)'!$C$2:$C$29012>=Acute!$B$7),1,0))","v":4},{"$f":"IF(VALUE(MID(E$2,5,2))<=$D167,OFFSET('CCG-Prov(Acute)'!$B$1,MATCH($A167,'CCG-Prov(Acute)'!$A$2:$A$29012,0)+VALUE(RIGHT(E$2,1))-1,0),\"\")","v":"RWD"},{"$f":"IF(VALUE(MID(F$2,5,2))<=$D167,OFFSET('CCG-Prov(Acute)'!$B$1,MATCH($A167,'CCG-Prov(Acute)'!$A$2:$A$29012,0)+VALUE(RIGHT(F$2,1))-1,0),\"\")","v":"RX1"},{"$f":"IF(VALUE(MID(G$2,5,2))<=$D167,OFFSET('CCG-Prov(Acute)'!$B$1,MATCH($A167,'CCG-Prov(Acute)'!$A$2:$A$29012,0)+VALUE(RIGHT(G$2,1))-1,0),\"\")","v":"RGN"},{"$f":"IF(VALUE(MID(H$2,5,2))<=$D167,OFFSET('CCG-Prov(Acute)'!$B$1,MATCH($A167,'CCG-Prov(Acute)'!$A$2:$A$29012,0)+VALUE(RIGHT(H$2,1))-1,0),\"\")","v":"RWE"},{"$f":"IF(VALUE(MID(I$2,5,2))<=$D167,OFFSET('CCG-Prov(Acute)'!$B$1,MATCH($A167,'CCG-Prov(Acute)'!$A$2:$A$29012,0)+VALUE(RIGHT(I$2,1))-1,0),\"\")","v":""},{"$f":"IF(VALUE(MID(J$2,5,2))<=$D167,OFFSET('CCG-Prov(Acute)'!$B$1,MATCH($A167,'CCG-Prov(Acute)'!$A$2:$A$29012,0)+VALUE(RIGHT(J$2,1))-1,0),\"\")","v":""},{"$f":"IF(VALUE(MID(K$2,5,2))<=$D167,OFFSET('CCG-Prov(Acute)'!$B$1,MATCH($A167,'CCG-Prov(Acute)'!$A$2:$A$29012,0)+VALUE(RIGHT(K$2,1))-1,0),\"\")","v":""},{"$f":"IF(VALUE(MID(L$2,5,2))<=$D167,OFFSET('CCG-Prov(Acute)'!$B$1,MATCH($A167,'CCG-Prov(Acute)'!$A$2:$A$29012,0)+VALUE(RIGHT(L$2,1))-1,0),\"\")","v":""},{"$f":"IF(VALUE(MID(M$2,5,2))<=$D167,OFFSET('CCG-Prov(Acute)'!$B$1,MATCH($A167,'CCG-Prov(Acute)'!$A$2:$A$29012,0)+VALUE(RIGHT(M$2,1))-1,0),\"\")","v":""},{"$f":"IF(VALUE(MID(N$2,5,2))<=$D167,OFFSET('CCG-Prov(Acute)'!$B$1,MATCH($A167,'CCG-Prov(Acute)'!$A$2:$A$29012,0)+VALUE(RIGHT(N$2,1))-1,0),\"\")","v":""},null,null,"RJF",{"$f":"VLOOKUP(Q167,provnames!$A$2:$B$331,2,0)","v":"Burton Hospitals NHS FT"},{"$f":"SUM(IF(('CCG-Prov(Acute)'!$B$2:$B$28899=Q167),1,0))","v":117},null,{"$f":"SUM(IF(('CCG-Prov(Amb)'!$A$2:$A$335=A167),1,0))","v":1},{"$f":"SUM(IF(('CCG-Prov(Amb)'!$A$2:$A$335=A167)*('CCG-Prov(Amb)'!$C$2:$C$335>=Ambulance!$B$7),1,0))","v":1},{"$f":"IF(VALUE(MID(W$2,5,2))<=$V167,OFFSET('CCG-Prov(Amb)'!$B$1,MATCH($A167,'CCG-Prov(Amb)'!$A$2:$A$335,0)+VALUE(RIGHT(W$2,1))-1,0),\"\")","v":"RX9"},{"$f":"IF(VALUE(MID(X$2,5,2))<=$V167,OFFSET('CCG-Prov(Amb)'!$B$1,MATCH($A167,'CCG-Prov(Amb)'!$A$2:$A$335,0)+VALUE(RIGHT(X$2,1))-1,0),\"\")","v":""},{"$f":"IF(VALUE(MID(Y$2,5,2))<=$V167,OFFSET('CCG-Prov(Amb)'!$B$1,MATCH($A167,'CCG-Prov(Amb)'!$A$2:$A$335,0)+VALUE(RIGHT(Y$2,1))-1,0),\"\")","v":""},{"$f":"IF(VALUE(MID(Z$2,5,2))<=$V167,OFFSET('CCG-Prov(Amb)'!$B$1,MATCH($A167,'CCG-Prov(Amb)'!$A$2:$A$335,0)+VALUE(RIGHT(Z$2,1))-1,0),\"\")","v":""},{"$f":"IF(VALUE(MID(AA$2,5,2))<=$V167,OFFSET('CCG-Prov(Amb)'!$B$1,MATCH($A167,'CCG-Prov(Amb)'!$A$2:$A$335,0)+VALUE(RIGHT(AA$2,1))-1,0),\"\")","v":""},null,null,null,null,null,{"$f":"SUM(IF(('CCG-Prov(Births)'!$A$2:$A$6150=A167),1,0))","v":22},{"$f":"SUM(IF(('CCG-Prov(Births)'!$A$2:$A$6150=A167)*('CCG-Prov(Births)'!$C$2:$C$6150>=Maternity!$B$7),1,0))","v":3},{"$f":"IF(VALUE(MID(AI$2,5,2))<=$V167,OFFSET('CCG-Prov(Births)'!$B$1,MATCH($A167,'CCG-Prov(Births)'!$A$2:$A$6150,0)+VALUE(RIGHT(AI$2,1))-1,0),\"\")","v":"RWD"},{"$f":"IF(VALUE(MID(AJ$2,5,2))<=$V167,OFFSET('CCG-Prov(Births)'!$B$1,MATCH($A167,'CCG-Prov(Births)'!$A$2:$A$6150,0)+VALUE(RIGHT(AJ$2,1))-1,0),\"\")","v":""},{"$f":"IF(VALUE(MID(AK$2,5,2))<=$V167,OFFSET('CCG-Prov(Births)'!$B$1,MATCH($A167,'CCG-Prov(Births)'!$A$2:$A$6150,0)+VALUE(RIGHT(AK$2,1))-1,0),\"\")","v":""},{"$f":"IF(VALUE(MID(AL$2,5,2))<=$V167,OFFSET('CCG-Prov(Births)'!$B$1,MATCH($A167,'CCG-Prov(Births)'!$A$2:$A$6150,0)+VALUE(RIGHT(AL$2,1))-1,0),\"\")","v":""},{"$f":"IF(VALUE(MID(AM$2,5,2))<=$V167,OFFSET('CCG-Prov(Births)'!$B$1,MATCH($A167,'CCG-Prov(Births)'!$A$2:$A$6150,0)+VALUE(RIGHT(AM$2,1))-1,0),\"\")","v":""}]
["05T","South Worcestershire",{"$f":"SUM(IF(('CCG-Prov(Acute)'!$A$2:$A$29012=A168),1,0))","v":161},{"$f":"SUM(IF(('CCG-Prov(Acute)'!$A$2:$A$29012=A168)*('CCG-Prov(Acute)'!$C$2:$C$29012>=Acute!$B$7),1,0))","v":7},{"$f":"IF(VALUE(MID(E$2,5,2))<=$D168,OFFSET('CCG-Prov(Acute)'!$B$1,MATCH($A168,'CCG-Prov(Acute)'!$A$2:$A$29012,0)+VALUE(RIGHT(E$2,1))-1,0),\"\")","v":"RWP"},{"$f":"IF(VALUE(MID(F$2,5,2))<=$D168,OFFSET('CCG-Prov(Acute)'!$B$1,MATCH($A168,'CCG-Prov(Acute)'!$A$2:$A$29012,0)+VALUE(RIGHT(F$2,1))-1,0),\"\")","v":"RTE"},{"$f":"IF(VALUE(MID(G$2,5,2))<=$D168,OFFSET('CCG-Prov(Acute)'!$B$1,MATCH($A168,'CCG-Prov(Acute)'!$A$2:$A$29012,0)+VALUE(RIGHT(G$2,1))-1,0),\"\")","v":"5PL"},{"$f":"IF(VALUE(MID(H$2,5,2))<=$D168,OFFSET('CCG-Prov(Acute)'!$B$1,MATCH($A168,'CCG-Prov(Acute)'!$A$2:$A$29012,0)+VALUE(RIGHT(H$2,1))-1,0),\"\")","v":"RRK"},{"$f":"IF(VALUE(MID(I$2,5,2))<=$D168,OFFSET('CCG-Prov(Acute)'!$B$1,MATCH($A168,'CCG-Prov(Acute)'!$A$2:$A$29012,0)+VALUE(RIGHT(I$2,1))-1,0),\"\")","v":"NT3"},{"$f":"IF(VALUE(MID(J$2,5,2))<=$D168,OFFSET('CCG-Prov(Acute)'!$B$1,MATCH($A168,'CCG-Prov(Acute)'!$A$2:$A$29012,0)+VALUE(RIGHT(J$2,1))-1,0),\"\")","v":"NT4"},{"$f":"IF(VALUE(MID(K$2,5,2))<=$D168,OFFSET('CCG-Prov(Acute)'!$B$1,MATCH($A168,'CCG-Prov(Acute)'!$A$2:$A$29012,0)+VALUE(RIGHT(K$2,1))-1,0),\"\")","v":"RQ3"},{"$f":"IF(VALUE(MID(L$2,5,2))<=$D168,OFFSET('CCG-Prov(Acute)'!$B$1,MATCH($A168,'CCG-Prov(Acute)'!$A$2:$A$29012,0)+VALUE(RIGHT(L$2,1))-1,0),\"\")","v":""},{"$f":"IF(VALUE(MID(M$2,5,2))<=$D168,OFFSET('CCG-Prov(Acute)'!$B$1,MATCH($A168,'CCG-Prov(Acute)'!$A$2:$A$29012,0)+VALUE(RIGHT(M$2,1))-1,0),\"\")","v":""},{"$f":"IF(VALUE(MID(N$2,5,2))<=$D168,OFFSET('CCG-Prov(Acute)'!$B$1,MATCH($A168,'CCG-Prov(Acute)'!$A$2:$A$29012,0)+VALUE(RIGHT(N$2,1))-1,0),\"\")","v":""},null,null,"RJL",{"$f":"VLOOKUP(Q168,provnames!$A$2:$B$331,2,0)","v":"Northern Lincolnshire & Goole Hospitals NHS FT"},{"$f":"SUM(IF(('CCG-Prov(Acute)'!$B$2:$B$28899=Q168),1,0))","v":166},null,{"$f":"SUM(IF(('CCG-Prov(Amb)'!$A$2:$A$335=A168),1,0))","v":2},{"$f":"SUM(IF(('CCG-Prov(Amb)'!$A$2:$A$335=A168)*('CCG-Prov(Amb)'!$C$2:$C$335>=Ambulance!$B$7),1,0))","v":2},{"$f":"IF(VALUE(MID(W$2,5,2))<=$V168,OFFSET('CCG-Prov(Amb)'!$B$1,MATCH($A168,'CCG-Prov(Amb)'!$A$2:$A$335,0)+VALUE(RIGHT(W$2,1))-1,0),\"\")","v":"RYA"},{"$f":"IF(VALUE(MID(X$2,5,2))<=$V168,OFFSET('CCG-Prov(Amb)'!$B$1,MATCH($A168,'CCG-Prov(Amb)'!$A$2:$A$335,0)+VALUE(RIGHT(X$2,1))-1,0),\"\")","v":"RX5"},{"$f":"IF(VALUE(MID(Y$2,5,2))<=$V168,OFFSET('CCG-Prov(Amb)'!$B$1,MATCH($A168,'CCG-Prov(Amb)'!$A$2:$A$335,0)+VALUE(RIGHT(Y$2,1))-1,0),\"\")","v":""},{"$f":"IF(VALUE(MID(Z$2,5,2))<=$V168,OFFSET('CCG-Prov(Amb)'!$B$1,MATCH($A168,'CCG-Prov(Amb)'!$A$2:$A$335,0)+VALUE(RIGHT(Z$2,1))-1,0),\"\")","v":""},{"$f":"IF(VALUE(MID(AA$2,5,2))<=$V168,OFFSET('CCG-Prov(Amb)'!$B$1,MATCH($A168,'CCG-Prov(Amb)'!$A$2:$A$335,0)+VALUE(RIGHT(AA$2,1))-1,0),\"\")","v":""},null,null,null,null,null,{"$f":"SUM(IF(('CCG-Prov(Births)'!$A$2:$A$6150=A168),1,0))","v":27},{"$f":"SUM(IF(('CCG-Prov(Births)'!$A$2:$A$6150=A168)*('CCG-Prov(Births)'!$C$2:$C$6150>=Maternity!$B$7),1,0))","v":2},{"$f":"IF(VALUE(MID(AI$2,5,2))<=$V168,OFFSET('CCG-Prov(Births)'!$B$1,MATCH($A168,'CCG-Prov(Births)'!$A$2:$A$6150,0)+VALUE(RIGHT(AI$2,1))-1,0),\"\")","v":"RWP"},{"$f":"IF(VALUE(MID(AJ$2,5,2))<=$V168,OFFSET('CCG-Prov(Births)'!$B$1,MATCH($A168,'CCG-Prov(Births)'!$A$2:$A$6150,0)+VALUE(RIGHT(AJ$2,1))-1,0),\"\")","v":"RTE"},{"$f":"IF(VALUE(MID(AK$2,5,2))<=$V168,OFFSET('CCG-Prov(Births)'!$B$1,MATCH($A168,'CCG-Prov(Births)'!$A$2:$A$6150,0)+VALUE(RIGHT(AK$2,1))-1,0),\"\")","v":""},{"$f":"IF(VALUE(MID(AL$2,5,2))<=$V168,OFFSET('CCG-Prov(Births)'!$B$1,MATCH($A168,'CCG-Prov(Births)'!$A$2:$A$6150,0)+VALUE(RIGHT(AL$2,1))-1,0),\"\")","v":""},{"$f":"IF(VALUE(MID(AM$2,5,2))<=$V168,OFFSET('CCG-Prov(Births)'!$B$1,MATCH($A168,'CCG-Prov(Births)'!$A$2:$A$6150,0)+VALUE(RIGHT(AM$2,1))-1,0),\"\")","v":""}]
["10X","Southampton",{"$f":"SUM(IF(('CCG-Prov(Acute)'!$A$2:$A$29012=A169),1,0))","v":144},{"$f":"SUM(IF(('CCG-Prov(Acute)'!$A$2:$A$29012=A169)*('CCG-Prov(Acute)'!$C$2:$C$29012>=Acute!$B$7),1,0))","v":4},{"$f":"IF(VALUE(MID(E$2,5,2))<=$D169,OFFSET('CCG-Prov(Acute)'!$B$1,MATCH($A169,'CCG-Prov(Acute)'!$A$2:$A$29012,0)+VALUE(RIGHT(E$2,1))-1,0),\"\")","v":"RHM"},{"$f":"IF(VALUE(MID(F$2,5,2))<=$D169,OFFSET('CCG-Prov(Acute)'!$B$1,MATCH($A169,'CCG-Prov(Acute)'!$A$2:$A$29012,0)+VALUE(RIGHT(F$2,1))-1,0),\"\")","v":"NTP"},{"$f":"IF(VALUE(MID(G$2,5,2))<=$D169,OFFSET('CCG-Prov(Acute)'!$B$1,MATCH($A169,'CCG-Prov(Acute)'!$A$2:$A$29012,0)+VALUE(RIGHT(G$2,1))-1,0),\"\")","v":"5L1"},{"$f":"IF(VALUE(MID(H$2,5,2))<=$D169,OFFSET('CCG-Prov(Acute)'!$B$1,MATCH($A169,'CCG-Prov(Acute)'!$A$2:$A$29012,0)+VALUE(RIGHT(H$2,1))-1,0),\"\")","v":"RHU"},{"$f":"IF(VALUE(MID(I$2,5,2))<=$D169,OFFSET('CCG-Prov(Acute)'!$B$1,MATCH($A169,'CCG-Prov(Acute)'!$A$2:$A$29012,0)+VALUE(RIGHT(I$2,1))-1,0),\"\")","v":""},{"$f":"IF(VALUE(MID(J$2,5,2))<=$D169,OFFSET('CCG-Prov(Acute)'!$B$1,MATCH($A169,'CCG-Prov(Acute)'!$A$2:$A$29012,0)+VALUE(RIGHT(J$2,1))-1,0),\"\")","v":""},{"$f":"IF(VALUE(MID(K$2,5,2))<=$D169,OFFSET('CCG-Prov(Acute)'!$B$1,MATCH($A169,'CCG-Prov(Acute)'!$A$2:$A$29012,0)+VALUE(RIGHT(K$2,1))-1,0),\"\")","v":""},{"$f":"IF(VALUE(MID(L$2,5,2))<=$D169,OFFSET('CCG-Prov(Acute)'!$B$1,MATCH($A169,'CCG-Prov(Acute)'!$A$2:$A$29012,0)+VALUE(RIGHT(L$2,1))-1,0),\"\")","v":""},{"$f":"IF(VALUE(MID(M$2,5,2))<=$D169,OFFSET('CCG-Prov(Acute)'!$B$1,MATCH($A169,'CCG-Prov(Acute)'!$A$2:$A$29012,0)+VALUE(RIGHT(M$2,1))-1,0),\"\")","v":""},{"$f":"IF(VALUE(MID(N$2,5,2))<=$D169,OFFSET('CCG-Prov(Acute)'!$B$1,MATCH($A169,'CCG-Prov(Acute)'!$A$2:$A$29012,0)+VALUE(RIGHT(N$2,1))-1,0),\"\")","v":""},null,null,"RJN",{"$f":"VLOOKUP(Q169,provnames!$A$2:$B$331,2,0)","v":"East Cheshire NHS Trust"},{"$f":"SUM(IF(('CCG-Prov(Acute)'!$B$2:$B$28899=Q169),1,0))","v":131},null,{"$f":"SUM(IF(('CCG-Prov(Amb)'!$A$2:$A$335=A169),1,0))","v":1},{"$f":"SUM(IF(('CCG-Prov(Amb)'!$A$2:$A$335=A169)*('CCG-Prov(Amb)'!$C$2:$C$335>=Ambulance!$B$7),1,0))","v":1},{"$f":"IF(VALUE(MID(W$2,5,2))<=$V169,OFFSET('CCG-Prov(Amb)'!$B$1,MATCH($A169,'CCG-Prov(Amb)'!$A$2:$A$335,0)+VALUE(RIGHT(W$2,1))-1,0),\"\")","v":"RYE"},{"$f":"IF(VALUE(MID(X$2,5,2))<=$V169,OFFSET('CCG-Prov(Amb)'!$B$1,MATCH($A169,'CCG-Prov(Amb)'!$A$2:$A$335,0)+VALUE(RIGHT(X$2,1))-1,0),\"\")","v":""},{"$f":"IF(VALUE(MID(Y$2,5,2))<=$V169,OFFSET('CCG-Prov(Amb)'!$B$1,MATCH($A169,'CCG-Prov(Amb)'!$A$2:$A$335,0)+VALUE(RIGHT(Y$2,1))-1,0),\"\")","v":""},{"$f":"IF(VALUE(MID(Z$2,5,2))<=$V169,OFFSET('CCG-Prov(Amb)'!$B$1,MATCH($A169,'CCG-Prov(Amb)'!$A$2:$A$335,0)+VALUE(RIGHT(Z$2,1))-1,0),\"\")","v":""},{"$f":"IF(VALUE(MID(AA$2,5,2))<=$V169,OFFSET('CCG-Prov(Amb)'!$B$1,MATCH($A169,'CCG-Prov(Amb)'!$A$2:$A$335,0)+VALUE(RIGHT(AA$2,1))-1,0),\"\")","v":""},null,null,null,null,null,{"$f":"SUM(IF(('CCG-Prov(Births)'!$A$2:$A$6150=A169),1,0))","v":35},{"$f":"SUM(IF(('CCG-Prov(Births)'!$A$2:$A$6150=A169)*('CCG-Prov(Births)'!$C$2:$C$6150>=Maternity!$B$7),1,0))","v":1},{"$f":"IF(VALUE(MID(AI$2,5,2))<=$V169,OFFSET('CCG-Prov(Births)'!$B$1,MATCH($A169,'CCG-Prov(Births)'!$A$2:$A$6150,0)+VALUE(RIGHT(AI$2,1))-1,0),\"\")","v":"RHM"},{"$f":"IF(VALUE(MID(AJ$2,5,2))<=$V169,OFFSET('CCG-Prov(Births)'!$B$1,MATCH($A169,'CCG-Prov(Births)'!$A$2:$A$6150,0)+VALUE(RIGHT(AJ$2,1))-1,0),\"\")","v":""},{"$f":"IF(VALUE(MID(AK$2,5,2))<=$V169,OFFSET('CCG-Prov(Births)'!$B$1,MATCH($A169,'CCG-Prov(Births)'!$A$2:$A$6150,0)+VALUE(RIGHT(AK$2,1))-1,0),\"\")","v":""},{"$f":"IF(VALUE(MID(AL$2,5,2))<=$V169,OFFSET('CCG-Prov(Births)'!$B$1,MATCH($A169,'CCG-Prov(Births)'!$A$2:$A$6150,0)+VALUE(RIGHT(AL$2,1))-1,0),\"\")","v":""},{"$f":"IF(VALUE(MID(AM$2,5,2))<=$V169,OFFSET('CCG-Prov(Births)'!$B$1,MATCH($A169,'CCG-Prov(Births)'!$A$2:$A$6150,0)+VALUE(RIGHT(AM$2,1))-1,0),\"\")","v":""}]
["99G","Southend",{"$f":"SUM(IF(('CCG-Prov(Acute)'!$A$2:$A$29012=A170),1,0))","v":128},{"$f":"SUM(IF(('CCG-Prov(Acute)'!$A$2:$A$29012=A170)*('CCG-Prov(Acute)'!$C$2:$C$29012>=Acute!$B$7),1,0))","v":3},{"$f":"IF(VALUE(MID(E$2,5,2))<=$D170,OFFSET('CCG-Prov(Acute)'!$B$1,MATCH($A170,'CCG-Prov(Acute)'!$A$2:$A$29012,0)+VALUE(RIGHT(E$2,1))-1,0),\"\")","v":"RAJ"},{"$f":"IF(VALUE(MID(F$2,5,2))<=$D170,OFFSET('CCG-Prov(Acute)'!$B$1,MATCH($A170,'CCG-Prov(Acute)'!$A$2:$A$29012,0)+VALUE(RIGHT(F$2,1))-1,0),\"\")","v":"RQ8"},{"$f":"IF(VALUE(MID(G$2,5,2))<=$D170,OFFSET('CCG-Prov(Acute)'!$B$1,MATCH($A170,'CCG-Prov(Acute)'!$A$2:$A$29012,0)+VALUE(RIGHT(G$2,1))-1,0),\"\")","v":"NT3"},{"$f":"IF(VALUE(MID(H$2,5,2))<=$D170,OFFSET('CCG-Prov(Acute)'!$B$1,MATCH($A170,'CCG-Prov(Acute)'!$A$2:$A$29012,0)+VALUE(RIGHT(H$2,1))-1,0),\"\")","v":""},{"$f":"IF(VALUE(MID(I$2,5,2))<=$D170,OFFSET('CCG-Prov(Acute)'!$B$1,MATCH($A170,'CCG-Prov(Acute)'!$A$2:$A$29012,0)+VALUE(RIGHT(I$2,1))-1,0),\"\")","v":""},{"$f":"IF(VALUE(MID(J$2,5,2))<=$D170,OFFSET('CCG-Prov(Acute)'!$B$1,MATCH($A170,'CCG-Prov(Acute)'!$A$2:$A$29012,0)+VALUE(RIGHT(J$2,1))-1,0),\"\")","v":""},{"$f":"IF(VALUE(MID(K$2,5,2))<=$D170,OFFSET('CCG-Prov(Acute)'!$B$1,MATCH($A170,'CCG-Prov(Acute)'!$A$2:$A$29012,0)+VALUE(RIGHT(K$2,1))-1,0),\"\")","v":""},{"$f":"IF(VALUE(MID(L$2,5,2))<=$D170,OFFSET('CCG-Prov(Acute)'!$B$1,MATCH($A170,'CCG-Prov(Acute)'!$A$2:$A$29012,0)+VALUE(RIGHT(L$2,1))-1,0),\"\")","v":""},{"$f":"IF(VALUE(MID(M$2,5,2))<=$D170,OFFSET('CCG-Prov(Acute)'!$B$1,MATCH($A170,'CCG-Prov(Acute)'!$A$2:$A$29012,0)+VALUE(RIGHT(M$2,1))-1,0),\"\")","v":""},{"$f":"IF(VALUE(MID(N$2,5,2))<=$D170,OFFSET('CCG-Prov(Acute)'!$B$1,MATCH($A170,'CCG-Prov(Acute)'!$A$2:$A$29012,0)+VALUE(RIGHT(N$2,1))-1,0),\"\")","v":""},null,null,"RJR",{"$f":"VLOOKUP(Q170,provnames!$A$2:$B$331,2,0)","v":"Countess of Chester Hospital NHS FT"},{"$f":"SUM(IF(('CCG-Prov(Acute)'!$B$2:$B$28899=Q170),1,0))","v":147},null,{"$f":"SUM(IF(('CCG-Prov(Amb)'!$A$2:$A$335=A170),1,0))","v":1},{"$f":"SUM(IF(('CCG-Prov(Amb)'!$A$2:$A$335=A170)*('CCG-Prov(Amb)'!$C$2:$C$335>=Ambulance!$B$7),1,0))","v":1},{"$f":"IF(VALUE(MID(W$2,5,2))<=$V170,OFFSET('CCG-Prov(Amb)'!$B$1,MATCH($A170,'CCG-Prov(Amb)'!$A$2:$A$335,0)+VALUE(RIGHT(W$2,1))-1,0),\"\")","v":"RYC"},{"$f":"IF(VALUE(MID(X$2,5,2))<=$V170,OFFSET('CCG-Prov(Amb)'!$B$1,MATCH($A170,'CCG-Prov(Amb)'!$A$2:$A$335,0)+VALUE(RIGHT(X$2,1))-1,0),\"\")","v":""},{"$f":"IF(VALUE(MID(Y$2,5,2))<=$V170,OFFSET('CCG-Prov(Amb)'!$B$1,MATCH($A170,'CCG-Prov(Amb)'!$A$2:$A$335,0)+VALUE(RIGHT(Y$2,1))-1,0),\"\")","v":""},{"$f":"IF(VALUE(MID(Z$2,5,2))<=$V170,OFFSET('CCG-Prov(Amb)'!$B$1,MATCH($A170,'CCG-Prov(Amb)'!$A$2:$A$335,0)+VALUE(RIGHT(Z$2,1))-1,0),\"\")","v":""},{"$f":"IF(VALUE(MID(AA$2,5,2))<=$V170,OFFSET('CCG-Prov(Amb)'!$B$1,MATCH($A170,'CCG-Prov(Amb)'!$A$2:$A$335,0)+VALUE(RIGHT(AA$2,1))-1,0),\"\")","v":""},null,null,null,null,null,{"$f":"SUM(IF(('CCG-Prov(Births)'!$A$2:$A$6150=A170),1,0))","v":22},{"$f":"SUM(IF(('CCG-Prov(Births)'!$A$2:$A$6150=A170)*('CCG-Prov(Births)'!$C$2:$C$6150>=Maternity!$B$7),1,0))","v":1},{"$f":"IF(VALUE(MID(AI$2,5,2))<=$V170,OFFSET('CCG-Prov(Births)'!$B$1,MATCH($A170,'CCG-Prov(Births)'!$A$2:$A$6150,0)+VALUE(RIGHT(AI$2,1))-1,0),\"\")","v":"RAJ"},{"$f":"IF(VALUE(MID(AJ$2,5,2))<=$V170,OFFSET('CCG-Prov(Births)'!$B$1,MATCH($A170,'CCG-Prov(Births)'!$A$2:$A$6150,0)+VALUE(RIGHT(AJ$2,1))-1,0),\"\")","v":""},{"$f":"IF(VALUE(MID(AK$2,5,2))<=$V170,OFFSET('CCG-Prov(Births)'!$B$1,MATCH($A170,'CCG-Prov(Births)'!$A$2:$A$6150,0)+VALUE(RIGHT(AK$2,1))-1,0),\"\")","v":""},{"$f":"IF(VALUE(MID(AL$2,5,2))<=$V170,OFFSET('CCG-Prov(Births)'!$B$1,MATCH($A170,'CCG-Prov(Births)'!$A$2:$A$6150,0)+VALUE(RIGHT(AL$2,1))-1,0),\"\")","v":""},{"$f":"IF(VALUE(MID(AM$2,5,2))<=$V170,OFFSET('CCG-Prov(Births)'!$B$1,MATCH($A170,'CCG-Prov(Births)'!$A$2:$A$6150,0)+VALUE(RIGHT(AM$2,1))-1,0),\"\")","v":""}]
["04R","Southern Derbyshire",{"$f":"SUM(IF(('CCG-Prov(Acute)'!$A$2:$A$29012=A171),1,0))","v":178},{"$f":"SUM(IF(('CCG-Prov(Acute)'!$A$2:$A$29012=A171)*('CCG-Prov(Acute)'!$C$2:$C$29012>=Acute!$B$7),1,0))","v":7},{"$f":"IF(VALUE(MID(E$2,5,2))<=$D171,OFFSET('CCG-Prov(Acute)'!$B$1,MATCH($A171,'CCG-Prov(Acute)'!$A$2:$A$29012,0)+VALUE(RIGHT(E$2,1))-1,0),\"\")","v":"RTG"},{"$f":"IF(VALUE(MID(F$2,5,2))<=$D171,OFFSET('CCG-Prov(Acute)'!$B$1,MATCH($A171,'CCG-Prov(Acute)'!$A$2:$A$29012,0)+VALUE(RIGHT(F$2,1))-1,0),\"\")","v":"RJF"},{"$f":"IF(VALUE(MID(G$2,5,2))<=$D171,OFFSET('CCG-Prov(Acute)'!$B$1,MATCH($A171,'CCG-Prov(Acute)'!$A$2:$A$29012,0)+VALUE(RIGHT(G$2,1))-1,0),\"\")","v":"RX1"},{"$f":"IF(VALUE(MID(H$2,5,2))<=$D171,OFFSET('CCG-Prov(Acute)'!$B$1,MATCH($A171,'CCG-Prov(Acute)'!$A$2:$A$29012,0)+VALUE(RIGHT(H$2,1))-1,0),\"\")","v":"RK5"},{"$f":"IF(VALUE(MID(I$2,5,2))<=$D171,OFFSET('CCG-Prov(Acute)'!$B$1,MATCH($A171,'CCG-Prov(Acute)'!$A$2:$A$29012,0)+VALUE(RIGHT(I$2,1))-1,0),\"\")","v":"NTA"},{"$f":"IF(VALUE(MID(J$2,5,2))<=$D171,OFFSET('CCG-Prov(Acute)'!$B$1,MATCH($A171,'CCG-Prov(Acute)'!$A$2:$A$29012,0)+VALUE(RIGHT(J$2,1))-1,0),\"\")","v":"5N6"},{"$f":"IF(VALUE(MID(K$2,5,2))<=$D171,OFFSET('CCG-Prov(Acute)'!$B$1,MATCH($A171,'CCG-Prov(Acute)'!$A$2:$A$29012,0)+VALUE(RIGHT(K$2,1))-1,0),\"\")","v":"RFS"},{"$f":"IF(VALUE(MID(L$2,5,2))<=$D171,OFFSET('CCG-Prov(Acute)'!$B$1,MATCH($A171,'CCG-Prov(Acute)'!$A$2:$A$29012,0)+VALUE(RIGHT(L$2,1))-1,0),\"\")","v":""},{"$f":"IF(VALUE(MID(M$2,5,2))<=$D171,OFFSET('CCG-Prov(Acute)'!$B$1,MATCH($A171,'CCG-Prov(Acute)'!$A$2:$A$29012,0)+VALUE(RIGHT(M$2,1))-1,0),\"\")","v":""},{"$f":"IF(VALUE(MID(N$2,5,2))<=$D171,OFFSET('CCG-Prov(Acute)'!$B$1,MATCH($A171,'CCG-Prov(Acute)'!$A$2:$A$29012,0)+VALUE(RIGHT(N$2,1))-1,0),\"\")","v":""},null,null,"RJZ",{"$f":"VLOOKUP(Q171,provnames!$A$2:$B$331,2,0)","v":"King's College Hospital NHS FT"},{"$f":"SUM(IF(('CCG-Prov(Acute)'!$B$2:$B$28899=Q171),1,0))","v":202},null,{"$f":"SUM(IF(('CCG-Prov(Amb)'!$A$2:$A$335=A171),1,0))","v":2},{"$f":"SUM(IF(('CCG-Prov(Amb)'!$A$2:$A$335=A171)*('CCG-Prov(Amb)'!$C$2:$C$335>=Ambulance!$B$7),1,0))","v":2},{"$f":"IF(VALUE(MID(W$2,5,2))<=$V171,OFFSET('CCG-Prov(Amb)'!$B$1,MATCH($A171,'CCG-Prov(Amb)'!$A$2:$A$335,0)+VALUE(RIGHT(W$2,1))-1,0),\"\")","v":"RX9"},{"$f":"IF(VALUE(MID(X$2,5,2))<=$V171,OFFSET('CCG-Prov(Amb)'!$B$1,MATCH($A171,'CCG-Prov(Amb)'!$A$2:$A$335,0)+VALUE(RIGHT(X$2,1))-1,0),\"\")","v":"RYA"},{"$f":"IF(VALUE(MID(Y$2,5,2))<=$V171,OFFSET('CCG-Prov(Amb)'!$B$1,MATCH($A171,'CCG-Prov(Amb)'!$A$2:$A$335,0)+VALUE(RIGHT(Y$2,1))-1,0),\"\")","v":""},{"$f":"IF(VALUE(MID(Z$2,5,2))<=$V171,OFFSET('CCG-Prov(Amb)'!$B$1,MATCH($A171,'CCG-Prov(Amb)'!$A$2:$A$335,0)+VALUE(RIGHT(Z$2,1))-1,0),\"\")","v":""},{"$f":"IF(VALUE(MID(AA$2,5,2))<=$V171,OFFSET('CCG-Prov(Amb)'!$B$1,MATCH($A171,'CCG-Prov(Amb)'!$A$2:$A$335,0)+VALUE(RIGHT(AA$2,1))-1,0),\"\")","v":""},null,null,null,null,null,{"$f":"SUM(IF(('CCG-Prov(Births)'!$A$2:$A$6150=A171),1,0))","v":41},{"$f":"SUM(IF(('CCG-Prov(Births)'!$A$2:$A$6150=A171)*('CCG-Prov(Births)'!$C$2:$C$6150>=Maternity!$B$7),1,0))","v":5},{"$f":"IF(VALUE(MID(AI$2,5,2))<=$V171,OFFSET('CCG-Prov(Births)'!$B$1,MATCH($A171,'CCG-Prov(Births)'!$A$2:$A$6150,0)+VALUE(RIGHT(AI$2,1))-1,0),\"\")","v":"RTG"},{"$f":"IF(VALUE(MID(AJ$2,5,2))<=$V171,OFFSET('CCG-Prov(Births)'!$B$1,MATCH($A171,'CCG-Prov(Births)'!$A$2:$A$6150,0)+VALUE(RIGHT(AJ$2,1))-1,0),\"\")","v":"RJF"},{"$f":"IF(VALUE(MID(AK$2,5,2))<=$V171,OFFSET('CCG-Prov(Births)'!$B$1,MATCH($A171,'CCG-Prov(Births)'!$A$2:$A$6150,0)+VALUE(RIGHT(AK$2,1))-1,0),\"\")","v":""},{"$f":"IF(VALUE(MID(AL$2,5,2))<=$V171,OFFSET('CCG-Prov(Births)'!$B$1,MATCH($A171,'CCG-Prov(Births)'!$A$2:$A$6150,0)+VALUE(RIGHT(AL$2,1))-1,0),\"\")","v":""},{"$f":"IF(VALUE(MID(AM$2,5,2))<=$V171,OFFSET('CCG-Prov(Births)'!$B$1,MATCH($A171,'CCG-Prov(Births)'!$A$2:$A$6150,0)+VALUE(RIGHT(AM$2,1))-1,0),\"\")","v":""}]
["01V","Southport & Formby",{"$f":"SUM(IF(('CCG-Prov(Acute)'!$A$2:$A$29012=A172),1,0))","v":117},{"$f":"SUM(IF(('CCG-Prov(Acute)'!$A$2:$A$29012=A172)*('CCG-Prov(Acute)'!$C$2:$C$29012>=Acute!$B$7),1,0))","v":5},{"$f":"IF(VALUE(MID(E$2,5,2))<=$D172,OFFSET('CCG-Prov(Acute)'!$B$1,MATCH($A172,'CCG-Prov(Acute)'!$A$2:$A$29012,0)+VALUE(RIGHT(E$2,1))-1,0),\"\")","v":"RVY"},{"$f":"IF(VALUE(MID(F$2,5,2))<=$D172,OFFSET('CCG-Prov(Acute)'!$B$1,MATCH($A172,'CCG-Prov(Acute)'!$A$2:$A$29012,0)+VALUE(RIGHT(F$2,1))-1,0),\"\")","v":"REM"},{"$f":"IF(VALUE(MID(G$2,5,2))<=$D172,OFFSET('CCG-Prov(Acute)'!$B$1,MATCH($A172,'CCG-Prov(Acute)'!$A$2:$A$29012,0)+VALUE(RIGHT(G$2,1))-1,0),\"\")","v":"NVC"},{"$f":"IF(VALUE(MID(H$2,5,2))<=$D172,OFFSET('CCG-Prov(Acute)'!$B$1,MATCH($A172,'CCG-Prov(Acute)'!$A$2:$A$29012,0)+VALUE(RIGHT(H$2,1))-1,0),\"\")","v":"RBS"},{"$f":"IF(VALUE(MID(I$2,5,2))<=$D172,OFFSET('CCG-Prov(Acute)'!$B$1,MATCH($A172,'CCG-Prov(Acute)'!$A$2:$A$29012,0)+VALUE(RIGHT(I$2,1))-1,0),\"\")","v":"RQ6"},{"$f":"IF(VALUE(MID(J$2,5,2))<=$D172,OFFSET('CCG-Prov(Acute)'!$B$1,MATCH($A172,'CCG-Prov(Acute)'!$A$2:$A$29012,0)+VALUE(RIGHT(J$2,1))-1,0),\"\")","v":""},{"$f":"IF(VALUE(MID(K$2,5,2))<=$D172,OFFSET('CCG-Prov(Acute)'!$B$1,MATCH($A172,'CCG-Prov(Acute)'!$A$2:$A$29012,0)+VALUE(RIGHT(K$2,1))-1,0),\"\")","v":""},{"$f":"IF(VALUE(MID(L$2,5,2))<=$D172,OFFSET('CCG-Prov(Acute)'!$B$1,MATCH($A172,'CCG-Prov(Acute)'!$A$2:$A$29012,0)+VALUE(RIGHT(L$2,1))-1,0),\"\")","v":""},{"$f":"IF(VALUE(MID(M$2,5,2))<=$D172,OFFSET('CCG-Prov(Acute)'!$B$1,MATCH($A172,'CCG-Prov(Acute)'!$A$2:$A$29012,0)+VALUE(RIGHT(M$2,1))-1,0),\"\")","v":""},{"$f":"IF(VALUE(MID(N$2,5,2))<=$D172,OFFSET('CCG-Prov(Acute)'!$B$1,MATCH($A172,'CCG-Prov(Acute)'!$A$2:$A$29012,0)+VALUE(RIGHT(N$2,1))-1,0),\"\")","v":""},null,null,"RK5",{"$f":"VLOOKUP(Q172,provnames!$A$2:$B$331,2,0)","v":"Sherwood Forest Hospitals NHS FT"},{"$f":"SUM(IF(('CCG-Prov(Acute)'!$B$2:$B$28899=Q172),1,0))","v":141},null,{"$f":"SUM(IF(('CCG-Prov(Amb)'!$A$2:$A$335=A172),1,0))","v":1},{"$f":"SUM(IF(('CCG-Prov(Amb)'!$A$2:$A$335=A172)*('CCG-Prov(Amb)'!$C$2:$C$335>=Ambulance!$B$7),1,0))","v":1},{"$f":"IF(VALUE(MID(W$2,5,2))<=$V172,OFFSET('CCG-Prov(Amb)'!$B$1,MATCH($A172,'CCG-Prov(Amb)'!$A$2:$A$335,0)+VALUE(RIGHT(W$2,1))-1,0),\"\")","v":"RX7"},{"$f":"IF(VALUE(MID(X$2,5,2))<=$V172,OFFSET('CCG-Prov(Amb)'!$B$1,MATCH($A172,'CCG-Prov(Amb)'!$A$2:$A$335,0)+VALUE(RIGHT(X$2,1))-1,0),\"\")","v":""},{"$f":"IF(VALUE(MID(Y$2,5,2))<=$V172,OFFSET('CCG-Prov(Amb)'!$B$1,MATCH($A172,'CCG-Prov(Amb)'!$A$2:$A$335,0)+VALUE(RIGHT(Y$2,1))-1,0),\"\")","v":""},{"$f":"IF(VALUE(MID(Z$2,5,2))<=$V172,OFFSET('CCG-Prov(Amb)'!$B$1,MATCH($A172,'CCG-Prov(Amb)'!$A$2:$A$335,0)+VALUE(RIGHT(Z$2,1))-1,0),\"\")","v":""},{"$f":"IF(VALUE(MID(AA$2,5,2))<=$V172,OFFSET('CCG-Prov(Amb)'!$B$1,MATCH($A172,'CCG-Prov(Amb)'!$A$2:$A$335,0)+VALUE(RIGHT(AA$2,1))-1,0),\"\")","v":""},null,null,null,null,null,{"$f":"SUM(IF(('CCG-Prov(Births)'!$A$2:$A$6150=A172),1,0))","v":10},{"$f":"SUM(IF(('CCG-Prov(Births)'!$A$2:$A$6150=A172)*('CCG-Prov(Births)'!$C$2:$C$6150>=Maternity!$B$7),1,0))","v":2},{"$f":"IF(VALUE(MID(AI$2,5,2))<=$V172,OFFSET('CCG-Prov(Births)'!$B$1,MATCH($A172,'CCG-Prov(Births)'!$A$2:$A$6150,0)+VALUE(RIGHT(AI$2,1))-1,0),\"\")","v":"RVY"},{"$f":"IF(VALUE(MID(AJ$2,5,2))<=$V172,OFFSET('CCG-Prov(Births)'!$B$1,MATCH($A172,'CCG-Prov(Births)'!$A$2:$A$6150,0)+VALUE(RIGHT(AJ$2,1))-1,0),\"\")","v":""},{"$f":"IF(VALUE(MID(AK$2,5,2))<=$V172,OFFSET('CCG-Prov(Births)'!$B$1,MATCH($A172,'CCG-Prov(Births)'!$A$2:$A$6150,0)+VALUE(RIGHT(AK$2,1))-1,0),\"\")","v":""},{"$f":"IF(VALUE(MID(AL$2,5,2))<=$V172,OFFSET('CCG-Prov(Births)'!$B$1,MATCH($A172,'CCG-Prov(Births)'!$A$2:$A$6150,0)+VALUE(RIGHT(AL$2,1))-1,0),\"\")","v":""},{"$f":"IF(VALUE(MID(AM$2,5,2))<=$V172,OFFSET('CCG-Prov(Births)'!$B$1,MATCH($A172,'CCG-Prov(Births)'!$A$2:$A$6150,0)+VALUE(RIGHT(AM$2,1))-1,0),\"\")","v":""}]
["08Q","Southwark",{"$f":"SUM(IF(('CCG-Prov(Acute)'!$A$2:$A$29012=A173),1,0))","v":147},{"$f":"SUM(IF(('CCG-Prov(Acute)'!$A$2:$A$29012=A173)*('CCG-Prov(Acute)'!$C$2:$C$29012>=Acute!$B$7),1,0))","v":3},{"$f":"IF(VALUE(MID(E$2,5,2))<=$D173,OFFSET('CCG-Prov(Acute)'!$B$1,MATCH($A173,'CCG-Prov(Acute)'!$A$2:$A$29012,0)+VALUE(RIGHT(E$2,1))-1,0),\"\")","v":"RJZ"},{"$f":"IF(VALUE(MID(F$2,5,2))<=$D173,OFFSET('CCG-Prov(Acute)'!$B$1,MATCH($A173,'CCG-Prov(Acute)'!$A$2:$A$29012,0)+VALUE(RIGHT(F$2,1))-1,0),\"\")","v":"RJ1"},{"$f":"IF(VALUE(MID(G$2,5,2))<=$D173,OFFSET('CCG-Prov(Acute)'!$B$1,MATCH($A173,'CCG-Prov(Acute)'!$A$2:$A$29012,0)+VALUE(RIGHT(G$2,1))-1,0),\"\")","v":"RJ2"},{"$f":"IF(VALUE(MID(H$2,5,2))<=$D173,OFFSET('CCG-Prov(Acute)'!$B$1,MATCH($A173,'CCG-Prov(Acute)'!$A$2:$A$29012,0)+VALUE(RIGHT(H$2,1))-1,0),\"\")","v":""},{"$f":"IF(VALUE(MID(I$2,5,2))<=$D173,OFFSET('CCG-Prov(Acute)'!$B$1,MATCH($A173,'CCG-Prov(Acute)'!$A$2:$A$29012,0)+VALUE(RIGHT(I$2,1))-1,0),\"\")","v":""},{"$f":"IF(VALUE(MID(J$2,5,2))<=$D173,OFFSET('CCG-Prov(Acute)'!$B$1,MATCH($A173,'CCG-Prov(Acute)'!$A$2:$A$29012,0)+VALUE(RIGHT(J$2,1))-1,0),\"\")","v":""},{"$f":"IF(VALUE(MID(K$2,5,2))<=$D173,OFFSET('CCG-Prov(Acute)'!$B$1,MATCH($A173,'CCG-Prov(Acute)'!$A$2:$A$29012,0)+VALUE(RIGHT(K$2,1))-1,0),\"\")","v":""},{"$f":"IF(VALUE(MID(L$2,5,2))<=$D173,OFFSET('CCG-Prov(Acute)'!$B$1,MATCH($A173,'CCG-Prov(Acute)'!$A$2:$A$29012,0)+VALUE(RIGHT(L$2,1))-1,0),\"\")","v":""},{"$f":"IF(VALUE(MID(M$2,5,2))<=$D173,OFFSET('CCG-Prov(Acute)'!$B$1,MATCH($A173,'CCG-Prov(Acute)'!$A$2:$A$29012,0)+VALUE(RIGHT(M$2,1))-1,0),\"\")","v":""},{"$f":"IF(VALUE(MID(N$2,5,2))<=$D173,OFFSET('CCG-Prov(Acute)'!$B$1,MATCH($A173,'CCG-Prov(Acute)'!$A$2:$A$29012,0)+VALUE(RIGHT(N$2,1))-1,0),\"\")","v":""},null,null,"RK9",{"$f":"VLOOKUP(Q173,provnames!$A$2:$B$331,2,0)","v":"Plymouth Hospitals NHS Trust"},{"$f":"SUM(IF(('CCG-Prov(Acute)'!$B$2:$B$28899=Q173),1,0))","v":182},null,{"$f":"SUM(IF(('CCG-Prov(Amb)'!$A$2:$A$335=A173),1,0))","v":1},{"$f":"SUM(IF(('CCG-Prov(Amb)'!$A$2:$A$335=A173)*('CCG-Prov(Amb)'!$C$2:$C$335>=Ambulance!$B$7),1,0))","v":1},{"$f":"IF(VALUE(MID(W$2,5,2))<=$V173,OFFSET('CCG-Prov(Amb)'!$B$1,MATCH($A173,'CCG-Prov(Amb)'!$A$2:$A$335,0)+VALUE(RIGHT(W$2,1))-1,0),\"\")","v":"RRY"},{"$f":"IF(VALUE(MID(X$2,5,2))<=$V173,OFFSET('CCG-Prov(Amb)'!$B$1,MATCH($A173,'CCG-Prov(Amb)'!$A$2:$A$335,0)+VALUE(RIGHT(X$2,1))-1,0),\"\")","v":""},{"$f":"IF(VALUE(MID(Y$2,5,2))<=$V173,OFFSET('CCG-Prov(Amb)'!$B$1,MATCH($A173,'CCG-Prov(Amb)'!$A$2:$A$335,0)+VALUE(RIGHT(Y$2,1))-1,0),\"\")","v":""},{"$f":"IF(VALUE(MID(Z$2,5,2))<=$V173,OFFSET('CCG-Prov(Amb)'!$B$1,MATCH($A173,'CCG-Prov(Amb)'!$A$2:$A$335,0)+VALUE(RIGHT(Z$2,1))-1,0),\"\")","v":""},{"$f":"IF(VALUE(MID(AA$2,5,2))<=$V173,OFFSET('CCG-Prov(Amb)'!$B$1,MATCH($A173,'CCG-Prov(Amb)'!$A$2:$A$335,0)+VALUE(RIGHT(AA$2,1))-1,0),\"\")","v":""},null,null,null,null,null,{"$f":"SUM(IF(('CCG-Prov(Births)'!$A$2:$A$6150=A173),1,0))","v":53},{"$f":"SUM(IF(('CCG-Prov(Births)'!$A$2:$A$6150=A173)*('CCG-Prov(Births)'!$C$2:$C$6150>=Maternity!$B$7),1,0))","v":2},{"$f":"IF(VALUE(MID(AI$2,5,2))<=$V173,OFFSET('CCG-Prov(Births)'!$B$1,MATCH($A173,'CCG-Prov(Births)'!$A$2:$A$6150,0)+VALUE(RIGHT(AI$2,1))-1,0),\"\")","v":"RJZ"},{"$f":"IF(VALUE(MID(AJ$2,5,2))<=$V173,OFFSET('CCG-Prov(Births)'!$B$1,MATCH($A173,'CCG-Prov(Births)'!$A$2:$A$6150,0)+VALUE(RIGHT(AJ$2,1))-1,0),\"\")","v":""},{"$f":"IF(VALUE(MID(AK$2,5,2))<=$V173,OFFSET('CCG-Prov(Births)'!$B$1,MATCH($A173,'CCG-Prov(Births)'!$A$2:$A$6150,0)+VALUE(RIGHT(AK$2,1))-1,0),\"\")","v":""},{"$f":"IF(VALUE(MID(AL$2,5,2))<=$V173,OFFSET('CCG-Prov(Births)'!$B$1,MATCH($A173,'CCG-Prov(Births)'!$A$2:$A$6150,0)+VALUE(RIGHT(AL$2,1))-1,0),\"\")","v":""},{"$f":"IF(VALUE(MID(AM$2,5,2))<=$V173,OFFSET('CCG-Prov(Births)'!$B$1,MATCH($A173,'CCG-Prov(Births)'!$A$2:$A$6150,0)+VALUE(RIGHT(AM$2,1))-1,0),\"\")","v":""}]
["01X","St Helens",{"$f":"SUM(IF(('CCG-Prov(Acute)'!$A$2:$A$29012=A174),1,0))","v":110},{"$f":"SUM(IF(('CCG-Prov(Acute)'!$A$2:$A$29012=A174)*('CCG-Prov(Acute)'!$C$2:$C$29012>=Acute!$B$7),1,0))","v":7},{"$f":"IF(VALUE(MID(E$2,5,2))<=$D174,OFFSET('CCG-Prov(Acute)'!$B$1,MATCH($A174,'CCG-Prov(Acute)'!$A$2:$A$29012,0)+VALUE(RIGHT(E$2,1))-1,0),\"\")","v":"RBN"},{"$f":"IF(VALUE(MID(F$2,5,2))<=$D174,OFFSET('CCG-Prov(Acute)'!$B$1,MATCH($A174,'CCG-Prov(Acute)'!$A$2:$A$29012,0)+VALUE(RIGHT(F$2,1))-1,0),\"\")","v":"RWW"},{"$f":"IF(VALUE(MID(G$2,5,2))<=$D174,OFFSET('CCG-Prov(Acute)'!$B$1,MATCH($A174,'CCG-Prov(Acute)'!$A$2:$A$29012,0)+VALUE(RIGHT(G$2,1))-1,0),\"\")","v":"RRF"},{"$f":"IF(VALUE(MID(H$2,5,2))<=$D174,OFFSET('CCG-Prov(Acute)'!$B$1,MATCH($A174,'CCG-Prov(Acute)'!$A$2:$A$29012,0)+VALUE(RIGHT(H$2,1))-1,0),\"\")","v":"RQ6"},{"$f":"IF(VALUE(MID(I$2,5,2))<=$D174,OFFSET('CCG-Prov(Acute)'!$B$1,MATCH($A174,'CCG-Prov(Acute)'!$A$2:$A$29012,0)+VALUE(RIGHT(I$2,1))-1,0),\"\")","v":"RBS"},{"$f":"IF(VALUE(MID(J$2,5,2))<=$D174,OFFSET('CCG-Prov(Acute)'!$B$1,MATCH($A174,'CCG-Prov(Acute)'!$A$2:$A$29012,0)+VALUE(RIGHT(J$2,1))-1,0),\"\")","v":"NVG"},{"$f":"IF(VALUE(MID(K$2,5,2))<=$D174,OFFSET('CCG-Prov(Acute)'!$B$1,MATCH($A174,'CCG-Prov(Acute)'!$A$2:$A$29012,0)+VALUE(RIGHT(K$2,1))-1,0),\"\")","v":"REM"},{"$f":"IF(VALUE(MID(L$2,5,2))<=$D174,OFFSET('CCG-Prov(Acute)'!$B$1,MATCH($A174,'CCG-Prov(Acute)'!$A$2:$A$29012,0)+VALUE(RIGHT(L$2,1))-1,0),\"\")","v":""},{"$f":"IF(VALUE(MID(M$2,5,2))<=$D174,OFFSET('CCG-Prov(Acute)'!$B$1,MATCH($A174,'CCG-Prov(Acute)'!$A$2:$A$29012,0)+VALUE(RIGHT(M$2,1))-1,0),\"\")","v":""},{"$f":"IF(VALUE(MID(N$2,5,2))<=$D174,OFFSET('CCG-Prov(Acute)'!$B$1,MATCH($A174,'CCG-Prov(Acute)'!$A$2:$A$29012,0)+VALUE(RIGHT(N$2,1))-1,0),\"\")","v":""},null,null,"RKB",{"$f":"VLOOKUP(Q174,provnames!$A$2:$B$331,2,0)","v":"University Hospitals Coventry & Warwickshire NHS Trust"},{"$f":"SUM(IF(('CCG-Prov(Acute)'!$B$2:$B$28899=Q174),1,0))","v":201},null,{"$f":"SUM(IF(('CCG-Prov(Amb)'!$A$2:$A$335=A174),1,0))","v":1},{"$f":"SUM(IF(('CCG-Prov(Amb)'!$A$2:$A$335=A174)*('CCG-Prov(Amb)'!$C$2:$C$335>=Ambulance!$B$7),1,0))","v":1},{"$f":"IF(VALUE(MID(W$2,5,2))<=$V174,OFFSET('CCG-Prov(Amb)'!$B$1,MATCH($A174,'CCG-Prov(Amb)'!$A$2:$A$335,0)+VALUE(RIGHT(W$2,1))-1,0),\"\")","v":"RX7"},{"$f":"IF(VALUE(MID(X$2,5,2))<=$V174,OFFSET('CCG-Prov(Amb)'!$B$1,MATCH($A174,'CCG-Prov(Amb)'!$A$2:$A$335,0)+VALUE(RIGHT(X$2,1))-1,0),\"\")","v":""},{"$f":"IF(VALUE(MID(Y$2,5,2))<=$V174,OFFSET('CCG-Prov(Amb)'!$B$1,MATCH($A174,'CCG-Prov(Amb)'!$A$2:$A$335,0)+VALUE(RIGHT(Y$2,1))-1,0),\"\")","v":""},{"$f":"IF(VALUE(MID(Z$2,5,2))<=$V174,OFFSET('CCG-Prov(Amb)'!$B$1,MATCH($A174,'CCG-Prov(Amb)'!$A$2:$A$335,0)+VALUE(RIGHT(Z$2,1))-1,0),\"\")","v":""},{"$f":"IF(VALUE(MID(AA$2,5,2))<=$V174,OFFSET('CCG-Prov(Amb)'!$B$1,MATCH($A174,'CCG-Prov(Amb)'!$A$2:$A$335,0)+VALUE(RIGHT(AA$2,1))-1,0),\"\")","v":""},null,null,null,null,null,{"$f":"SUM(IF(('CCG-Prov(Births)'!$A$2:$A$6150=A174),1,0))","v":20},{"$f":"SUM(IF(('CCG-Prov(Births)'!$A$2:$A$6150=A174)*('CCG-Prov(Births)'!$C$2:$C$6150>=Maternity!$B$7),1,0))","v":5},{"$f":"IF(VALUE(MID(AI$2,5,2))<=$V174,OFFSET('CCG-Prov(Births)'!$B$1,MATCH($A174,'CCG-Prov(Births)'!$A$2:$A$6150,0)+VALUE(RIGHT(AI$2,1))-1,0),\"\")","v":"RBN"},{"$f":"IF(VALUE(MID(AJ$2,5,2))<=$V174,OFFSET('CCG-Prov(Births)'!$B$1,MATCH($A174,'CCG-Prov(Births)'!$A$2:$A$6150,0)+VALUE(RIGHT(AJ$2,1))-1,0),\"\")","v":""},{"$f":"IF(VALUE(MID(AK$2,5,2))<=$V174,OFFSET('CCG-Prov(Births)'!$B$1,MATCH($A174,'CCG-Prov(Births)'!$A$2:$A$6150,0)+VALUE(RIGHT(AK$2,1))-1,0),\"\")","v":""},{"$f":"IF(VALUE(MID(AL$2,5,2))<=$V174,OFFSET('CCG-Prov(Births)'!$B$1,MATCH($A174,'CCG-Prov(Births)'!$A$2:$A$6150,0)+VALUE(RIGHT(AL$2,1))-1,0),\"\")","v":""},{"$f":"IF(VALUE(MID(AM$2,5,2))<=$V174,OFFSET('CCG-Prov(Births)'!$B$1,MATCH($A174,'CCG-Prov(Births)'!$A$2:$A$6150,0)+VALUE(RIGHT(AM$2,1))-1,0),\"\")","v":""}]
["05V","Stafford & Surrounds",{"$f":"SUM(IF(('CCG-Prov(Acute)'!$A$2:$A$29012=A175),1,0))","v":137},{"$f":"SUM(IF(('CCG-Prov(Acute)'!$A$2:$A$29012=A175)*('CCG-Prov(Acute)'!$C$2:$C$29012>=Acute!$B$7),1,0))","v":4},{"$f":"IF(VALUE(MID(E$2,5,2))<=$D175,OFFSET('CCG-Prov(Acute)'!$B$1,MATCH($A175,'CCG-Prov(Acute)'!$A$2:$A$29012,0)+VALUE(RIGHT(E$2,1))-1,0),\"\")","v":"RJD"},{"$f":"IF(VALUE(MID(F$2,5,2))<=$D175,OFFSET('CCG-Prov(Acute)'!$B$1,MATCH($A175,'CCG-Prov(Acute)'!$A$2:$A$29012,0)+VALUE(RIGHT(F$2,1))-1,0),\"\")","v":"RJE"},{"$f":"IF(VALUE(MID(G$2,5,2))<=$D175,OFFSET('CCG-Prov(Acute)'!$B$1,MATCH($A175,'CCG-Prov(Acute)'!$A$2:$A$29012,0)+VALUE(RIGHT(G$2,1))-1,0),\"\")","v":"RL4"},{"$f":"IF(VALUE(MID(H$2,5,2))<=$D175,OFFSET('CCG-Prov(Acute)'!$B$1,MATCH($A175,'CCG-Prov(Acute)'!$A$2:$A$29012,0)+VALUE(RIGHT(H$2,1))-1,0),\"\")","v":"NVC"},{"$f":"IF(VALUE(MID(I$2,5,2))<=$D175,OFFSET('CCG-Prov(Acute)'!$B$1,MATCH($A175,'CCG-Prov(Acute)'!$A$2:$A$29012,0)+VALUE(RIGHT(I$2,1))-1,0),\"\")","v":""},{"$f":"IF(VALUE(MID(J$2,5,2))<=$D175,OFFSET('CCG-Prov(Acute)'!$B$1,MATCH($A175,'CCG-Prov(Acute)'!$A$2:$A$29012,0)+VALUE(RIGHT(J$2,1))-1,0),\"\")","v":""},{"$f":"IF(VALUE(MID(K$2,5,2))<=$D175,OFFSET('CCG-Prov(Acute)'!$B$1,MATCH($A175,'CCG-Prov(Acute)'!$A$2:$A$29012,0)+VALUE(RIGHT(K$2,1))-1,0),\"\")","v":""},{"$f":"IF(VALUE(MID(L$2,5,2))<=$D175,OFFSET('CCG-Prov(Acute)'!$B$1,MATCH($A175,'CCG-Prov(Acute)'!$A$2:$A$29012,0)+VALUE(RIGHT(L$2,1))-1,0),\"\")","v":""},{"$f":"IF(VALUE(MID(M$2,5,2))<=$D175,OFFSET('CCG-Prov(Acute)'!$B$1,MATCH($A175,'CCG-Prov(Acute)'!$A$2:$A$29012,0)+VALUE(RIGHT(M$2,1))-1,0),\"\")","v":""},{"$f":"IF(VALUE(MID(N$2,5,2))<=$D175,OFFSET('CCG-Prov(Acute)'!$B$1,MATCH($A175,'CCG-Prov(Acute)'!$A$2:$A$29012,0)+VALUE(RIGHT(N$2,1))-1,0),\"\")","v":""},null,null,"RKE",{"$f":"VLOOKUP(Q175,provnames!$A$2:$B$331,2,0)","v":"The Whittington Hospital NHS Trust"},{"$f":"SUM(IF(('CCG-Prov(Acute)'!$B$2:$B$28899=Q175),1,0))","v":166},null,{"$f":"SUM(IF(('CCG-Prov(Amb)'!$A$2:$A$335=A175),1,0))","v":1},{"$f":"SUM(IF(('CCG-Prov(Amb)'!$A$2:$A$335=A175)*('CCG-Prov(Amb)'!$C$2:$C$335>=Ambulance!$B$7),1,0))","v":1},{"$f":"IF(VALUE(MID(W$2,5,2))<=$V175,OFFSET('CCG-Prov(Amb)'!$B$1,MATCH($A175,'CCG-Prov(Amb)'!$A$2:$A$335,0)+VALUE(RIGHT(W$2,1))-1,0),\"\")","v":"RYA"},{"$f":"IF(VALUE(MID(X$2,5,2))<=$V175,OFFSET('CCG-Prov(Amb)'!$B$1,MATCH($A175,'CCG-Prov(Amb)'!$A$2:$A$335,0)+VALUE(RIGHT(X$2,1))-1,0),\"\")","v":""},{"$f":"IF(VALUE(MID(Y$2,5,2))<=$V175,OFFSET('CCG-Prov(Amb)'!$B$1,MATCH($A175,'CCG-Prov(Amb)'!$A$2:$A$335,0)+VALUE(RIGHT(Y$2,1))-1,0),\"\")","v":""},{"$f":"IF(VALUE(MID(Z$2,5,2))<=$V175,OFFSET('CCG-Prov(Amb)'!$B$1,MATCH($A175,'CCG-Prov(Amb)'!$A$2:$A$335,0)+VALUE(RIGHT(Z$2,1))-1,0),\"\")","v":""},{"$f":"IF(VALUE(MID(AA$2,5,2))<=$V175,OFFSET('CCG-Prov(Amb)'!$B$1,MATCH($A175,'CCG-Prov(Amb)'!$A$2:$A$335,0)+VALUE(RIGHT(AA$2,1))-1,0),\"\")","v":""},null,null,null,null,null,{"$f":"SUM(IF(('CCG-Prov(Births)'!$A$2:$A$6150=A175),1,0))","v":20},{"$f":"SUM(IF(('CCG-Prov(Births)'!$A$2:$A$6150=A175)*('CCG-Prov(Births)'!$C$2:$C$6150>=Maternity!$B$7),1,0))","v":3},{"$f":"IF(VALUE(MID(AI$2,5,2))<=$V175,OFFSET('CCG-Prov(Births)'!$B$1,MATCH($A175,'CCG-Prov(Births)'!$A$2:$A$6150,0)+VALUE(RIGHT(AI$2,1))-1,0),\"\")","v":"RJD"},{"$f":"IF(VALUE(MID(AJ$2,5,2))<=$V175,OFFSET('CCG-Prov(Births)'!$B$1,MATCH($A175,'CCG-Prov(Births)'!$A$2:$A$6150,0)+VALUE(RIGHT(AJ$2,1))-1,0),\"\")","v":""},{"$f":"IF(VALUE(MID(AK$2,5,2))<=$V175,OFFSET('CCG-Prov(Births)'!$B$1,MATCH($A175,'CCG-Prov(Births)'!$A$2:$A$6150,0)+VALUE(RIGHT(AK$2,1))-1,0),\"\")","v":""},{"$f":"IF(VALUE(MID(AL$2,5,2))<=$V175,OFFSET('CCG-Prov(Births)'!$B$1,MATCH($A175,'CCG-Prov(Births)'!$A$2:$A$6150,0)+VALUE(RIGHT(AL$2,1))-1,0),\"\")","v":""},{"$f":"IF(VALUE(MID(AM$2,5,2))<=$V175,OFFSET('CCG-Prov(Births)'!$B$1,MATCH($A175,'CCG-Prov(Births)'!$A$2:$A$6150,0)+VALUE(RIGHT(AM$2,1))-1,0),\"\")","v":""}]
["01W","Stockport",{"$f":"SUM(IF(('CCG-Prov(Acute)'!$A$2:$A$29012=A176),1,0))","v":141},{"$f":"SUM(IF(('CCG-Prov(Acute)'!$A$2:$A$29012=A176)*('CCG-Prov(Acute)'!$C$2:$C$29012>=Acute!$B$7),1,0))","v":6},{"$f":"IF(VALUE(MID(E$2,5,2))<=$D176,OFFSET('CCG-Prov(Acute)'!$B$1,MATCH($A176,'CCG-Prov(Acute)'!$A$2:$A$29012,0)+VALUE(RIGHT(E$2,1))-1,0),\"\")","v":"RWJ"},{"$f":"IF(VALUE(MID(F$2,5,2))<=$D176,OFFSET('CCG-Prov(Acute)'!$B$1,MATCH($A176,'CCG-Prov(Acute)'!$A$2:$A$29012,0)+VALUE(RIGHT(F$2,1))-1,0),\"\")","v":"RM2"},{"$f":"IF(VALUE(MID(G$2,5,2))<=$D176,OFFSET('CCG-Prov(Acute)'!$B$1,MATCH($A176,'CCG-Prov(Acute)'!$A$2:$A$29012,0)+VALUE(RIGHT(G$2,1))-1,0),\"\")","v":"RW3"},{"$f":"IF(VALUE(MID(H$2,5,2))<=$D176,OFFSET('CCG-Prov(Acute)'!$B$1,MATCH($A176,'CCG-Prov(Acute)'!$A$2:$A$29012,0)+VALUE(RIGHT(H$2,1))-1,0),\"\")","v":"RM3"},{"$f":"IF(VALUE(MID(I$2,5,2))<=$D176,OFFSET('CCG-Prov(Acute)'!$B$1,MATCH($A176,'CCG-Prov(Acute)'!$A$2:$A$29012,0)+VALUE(RIGHT(I$2,1))-1,0),\"\")","v":"RBV"},{"$f":"IF(VALUE(MID(J$2,5,2))<=$D176,OFFSET('CCG-Prov(Acute)'!$B$1,MATCH($A176,'CCG-Prov(Acute)'!$A$2:$A$29012,0)+VALUE(RIGHT(J$2,1))-1,0),\"\")","v":"RJN"},{"$f":"IF(VALUE(MID(K$2,5,2))<=$D176,OFFSET('CCG-Prov(Acute)'!$B$1,MATCH($A176,'CCG-Prov(Acute)'!$A$2:$A$29012,0)+VALUE(RIGHT(K$2,1))-1,0),\"\")","v":""},{"$f":"IF(VALUE(MID(L$2,5,2))<=$D176,OFFSET('CCG-Prov(Acute)'!$B$1,MATCH($A176,'CCG-Prov(Acute)'!$A$2:$A$29012,0)+VALUE(RIGHT(L$2,1))-1,0),\"\")","v":""},{"$f":"IF(VALUE(MID(M$2,5,2))<=$D176,OFFSET('CCG-Prov(Acute)'!$B$1,MATCH($A176,'CCG-Prov(Acute)'!$A$2:$A$29012,0)+VALUE(RIGHT(M$2,1))-1,0),\"\")","v":""},{"$f":"IF(VALUE(MID(N$2,5,2))<=$D176,OFFSET('CCG-Prov(Acute)'!$B$1,MATCH($A176,'CCG-Prov(Acute)'!$A$2:$A$29012,0)+VALUE(RIGHT(N$2,1))-1,0),\"\")","v":""},null,null,"RL1",{"$f":"VLOOKUP(Q176,provnames!$A$2:$B$331,2,0)","v":"Robert Jones & Agnes Hunt Orthopaedic Hospital NHS FT"},{"$f":"SUM(IF(('CCG-Prov(Acute)'!$B$2:$B$28899=Q176),1,0))","v":138},null,{"$f":"SUM(IF(('CCG-Prov(Amb)'!$A$2:$A$335=A176),1,0))","v":2},{"$f":"SUM(IF(('CCG-Prov(Amb)'!$A$2:$A$335=A176)*('CCG-Prov(Amb)'!$C$2:$C$335>=Ambulance!$B$7),1,0))","v":1},{"$f":"IF(VALUE(MID(W$2,5,2))<=$V176,OFFSET('CCG-Prov(Amb)'!$B$1,MATCH($A176,'CCG-Prov(Amb)'!$A$2:$A$335,0)+VALUE(RIGHT(W$2,1))-1,0),\"\")","v":"RX7"},{"$f":"IF(VALUE(MID(X$2,5,2))<=$V176,OFFSET('CCG-Prov(Amb)'!$B$1,MATCH($A176,'CCG-Prov(Amb)'!$A$2:$A$335,0)+VALUE(RIGHT(X$2,1))-1,0),\"\")","v":""},{"$f":"IF(VALUE(MID(Y$2,5,2))<=$V176,OFFSET('CCG-Prov(Amb)'!$B$1,MATCH($A176,'CCG-Prov(Amb)'!$A$2:$A$335,0)+VALUE(RIGHT(Y$2,1))-1,0),\"\")","v":""},{"$f":"IF(VALUE(MID(Z$2,5,2))<=$V176,OFFSET('CCG-Prov(Amb)'!$B$1,MATCH($A176,'CCG-Prov(Amb)'!$A$2:$A$335,0)+VALUE(RIGHT(Z$2,1))-1,0),\"\")","v":""},{"$f":"IF(VALUE(MID(AA$2,5,2))<=$V176,OFFSET('CCG-Prov(Amb)'!$B$1,MATCH($A176,'CCG-Prov(Amb)'!$A$2:$A$335,0)+VALUE(RIGHT(AA$2,1))-1,0),\"\")","v":""},null,null,null,null,null,{"$f":"SUM(IF(('CCG-Prov(Births)'!$A$2:$A$6150=A176),1,0))","v":28},{"$f":"SUM(IF(('CCG-Prov(Births)'!$A$2:$A$6150=A176)*('CCG-Prov(Births)'!$C$2:$C$6150>=Maternity!$B$7),1,0))","v":3},{"$f":"IF(VALUE(MID(AI$2,5,2))<=$V176,OFFSET('CCG-Prov(Births)'!$B$1,MATCH($A176,'CCG-Prov(Births)'!$A$2:$A$6150,0)+VALUE(RIGHT(AI$2,1))-1,0),\"\")","v":"RWJ"},{"$f":"IF(VALUE(MID(AJ$2,5,2))<=$V176,OFFSET('CCG-Prov(Births)'!$B$1,MATCH($A176,'CCG-Prov(Births)'!$A$2:$A$6150,0)+VALUE(RIGHT(AJ$2,1))-1,0),\"\")","v":""},{"$f":"IF(VALUE(MID(AK$2,5,2))<=$V176,OFFSET('CCG-Prov(Births)'!$B$1,MATCH($A176,'CCG-Prov(Births)'!$A$2:$A$6150,0)+VALUE(RIGHT(AK$2,1))-1,0),\"\")","v":""},{"$f":"IF(VALUE(MID(AL$2,5,2))<=$V176,OFFSET('CCG-Prov(Births)'!$B$1,MATCH($A176,'CCG-Prov(Births)'!$A$2:$A$6150,0)+VALUE(RIGHT(AL$2,1))-1,0),\"\")","v":""},{"$f":"IF(VALUE(MID(AM$2,5,2))<=$V176,OFFSET('CCG-Prov(Births)'!$B$1,MATCH($A176,'CCG-Prov(Births)'!$A$2:$A$6150,0)+VALUE(RIGHT(AM$2,1))-1,0),\"\")","v":""}]
["05W","Stoke on Trent",{"$f":"SUM(IF(('CCG-Prov(Acute)'!$A$2:$A$29012=A177),1,0))","v":151},{"$f":"SUM(IF(('CCG-Prov(Acute)'!$A$2:$A$29012=A177)*('CCG-Prov(Acute)'!$C$2:$C$29012>=Acute!$B$7),1,0))","v":2},{"$f":"IF(VALUE(MID(E$2,5,2))<=$D177,OFFSET('CCG-Prov(Acute)'!$B$1,MATCH($A177,'CCG-Prov(Acute)'!$A$2:$A$29012,0)+VALUE(RIGHT(E$2,1))-1,0),\"\")","v":"RJE"},{"$f":"IF(VALUE(MID(F$2,5,2))<=$D177,OFFSET('CCG-Prov(Acute)'!$B$1,MATCH($A177,'CCG-Prov(Acute)'!$A$2:$A$29012,0)+VALUE(RIGHT(F$2,1))-1,0),\"\")","v":"5PJ"},{"$f":"IF(VALUE(MID(G$2,5,2))<=$D177,OFFSET('CCG-Prov(Acute)'!$B$1,MATCH($A177,'CCG-Prov(Acute)'!$A$2:$A$29012,0)+VALUE(RIGHT(G$2,1))-1,0),\"\")","v":""},{"$f":"IF(VALUE(MID(H$2,5,2))<=$D177,OFFSET('CCG-Prov(Acute)'!$B$1,MATCH($A177,'CCG-Prov(Acute)'!$A$2:$A$29012,0)+VALUE(RIGHT(H$2,1))-1,0),\"\")","v":""},{"$f":"IF(VALUE(MID(I$2,5,2))<=$D177,OFFSET('CCG-Prov(Acute)'!$B$1,MATCH($A177,'CCG-Prov(Acute)'!$A$2:$A$29012,0)+VALUE(RIGHT(I$2,1))-1,0),\"\")","v":""},{"$f":"IF(VALUE(MID(J$2,5,2))<=$D177,OFFSET('CCG-Prov(Acute)'!$B$1,MATCH($A177,'CCG-Prov(Acute)'!$A$2:$A$29012,0)+VALUE(RIGHT(J$2,1))-1,0),\"\")","v":""},{"$f":"IF(VALUE(MID(K$2,5,2))<=$D177,OFFSET('CCG-Prov(Acute)'!$B$1,MATCH($A177,'CCG-Prov(Acute)'!$A$2:$A$29012,0)+VALUE(RIGHT(K$2,1))-1,0),\"\")","v":""},{"$f":"IF(VALUE(MID(L$2,5,2))<=$D177,OFFSET('CCG-Prov(Acute)'!$B$1,MATCH($A177,'CCG-Prov(Acute)'!$A$2:$A$29012,0)+VALUE(RIGHT(L$2,1))-1,0),\"\")","v":""},{"$f":"IF(VALUE(MID(M$2,5,2))<=$D177,OFFSET('CCG-Prov(Acute)'!$B$1,MATCH($A177,'CCG-Prov(Acute)'!$A$2:$A$29012,0)+VALUE(RIGHT(M$2,1))-1,0),\"\")","v":""},{"$f":"IF(VALUE(MID(N$2,5,2))<=$D177,OFFSET('CCG-Prov(Acute)'!$B$1,MATCH($A177,'CCG-Prov(Acute)'!$A$2:$A$29012,0)+VALUE(RIGHT(N$2,1))-1,0),\"\")","v":""},null,null,"RL4",{"$f":"VLOOKUP(Q177,provnames!$A$2:$B$331,2,0)","v":"The Royal Wolverhampton Hospitals NHS Trust"},{"$f":"SUM(IF(('CCG-Prov(Acute)'!$B$2:$B$28899=Q177),1,0))","v":151},null,{"$f":"SUM(IF(('CCG-Prov(Amb)'!$A$2:$A$335=A177),1,0))","v":2},{"$f":"SUM(IF(('CCG-Prov(Amb)'!$A$2:$A$335=A177)*('CCG-Prov(Amb)'!$C$2:$C$335>=Ambulance!$B$7),1,0))","v":1},{"$f":"IF(VALUE(MID(W$2,5,2))<=$V177,OFFSET('CCG-Prov(Amb)'!$B$1,MATCH($A177,'CCG-Prov(Amb)'!$A$2:$A$335,0)+VALUE(RIGHT(W$2,1))-1,0),\"\")","v":"RYA"},{"$f":"IF(VALUE(MID(X$2,5,2))<=$V177,OFFSET('CCG-Prov(Amb)'!$B$1,MATCH($A177,'CCG-Prov(Amb)'!$A$2:$A$335,0)+VALUE(RIGHT(X$2,1))-1,0),\"\")","v":""},{"$f":"IF(VALUE(MID(Y$2,5,2))<=$V177,OFFSET('CCG-Prov(Amb)'!$B$1,MATCH($A177,'CCG-Prov(Amb)'!$A$2:$A$335,0)+VALUE(RIGHT(Y$2,1))-1,0),\"\")","v":""},{"$f":"IF(VALUE(MID(Z$2,5,2))<=$V177,OFFSET('CCG-Prov(Amb)'!$B$1,MATCH($A177,'CCG-Prov(Amb)'!$A$2:$A$335,0)+VALUE(RIGHT(Z$2,1))-1,0),\"\")","v":""},{"$f":"IF(VALUE(MID(AA$2,5,2))<=$V177,OFFSET('CCG-Prov(Amb)'!$B$1,MATCH($A177,'CCG-Prov(Amb)'!$A$2:$A$335,0)+VALUE(RIGHT(AA$2,1))-1,0),\"\")","v":""},null,null,null,null,null,{"$f":"SUM(IF(('CCG-Prov(Births)'!$A$2:$A$6150=A177),1,0))","v":35},{"$f":"SUM(IF(('CCG-Prov(Births)'!$A$2:$A$6150=A177)*('CCG-Prov(Births)'!$C$2:$C$6150>=Maternity!$B$7),1,0))","v":1},{"$f":"IF(VALUE(MID(AI$2,5,2))<=$V177,OFFSET('CCG-Prov(Births)'!$B$1,MATCH($A177,'CCG-Prov(Births)'!$A$2:$A$6150,0)+VALUE(RIGHT(AI$2,1))-1,0),\"\")","v":"RJE"},{"$f":"IF(VALUE(MID(AJ$2,5,2))<=$V177,OFFSET('CCG-Prov(Births)'!$B$1,MATCH($A177,'CCG-Prov(Births)'!$A$2:$A$6150,0)+VALUE(RIGHT(AJ$2,1))-1,0),\"\")","v":""},{"$f":"IF(VALUE(MID(AK$2,5,2))<=$V177,OFFSET('CCG-Prov(Births)'!$B$1,MATCH($A177,'CCG-Prov(Births)'!$A$2:$A$6150,0)+VALUE(RIGHT(AK$2,1))-1,0),\"\")","v":""},{"$f":"IF(VALUE(MID(AL$2,5,2))<=$V177,OFFSET('CCG-Prov(Births)'!$B$1,MATCH($A177,'CCG-Prov(Births)'!$A$2:$A$6150,0)+VALUE(RIGHT(AL$2,1))-1,0),\"\")","v":""},{"$f":"IF(VALUE(MID(AM$2,5,2))<=$V177,OFFSET('CCG-Prov(Births)'!$B$1,MATCH($A177,'CCG-Prov(Births)'!$A$2:$A$6150,0)+VALUE(RIGHT(AM$2,1))-1,0),\"\")","v":""}]
["00P","Sunderland",{"$f":"SUM(IF(('CCG-Prov(Acute)'!$A$2:$A$29012=A178),1,0))","v":122},{"$f":"SUM(IF(('CCG-Prov(Acute)'!$A$2:$A$29012=A178)*('CCG-Prov(Acute)'!$C$2:$C$29012>=Acute!$B$7),1,0))","v":6},{"$f":"IF(VALUE(MID(E$2,5,2))<=$D178,OFFSET('CCG-Prov(Acute)'!$B$1,MATCH($A178,'CCG-Prov(Acute)'!$A$2:$A$29012,0)+VALUE(RIGHT(E$2,1))-1,0),\"\")","v":"RLN"},{"$f":"IF(VALUE(MID(F$2,5,2))<=$D178,OFFSET('CCG-Prov(Acute)'!$B$1,MATCH($A178,'CCG-Prov(Acute)'!$A$2:$A$29012,0)+VALUE(RIGHT(F$2,1))-1,0),\"\")","v":"RTD"},{"$f":"IF(VALUE(MID(G$2,5,2))<=$D178,OFFSET('CCG-Prov(Acute)'!$B$1,MATCH($A178,'CCG-Prov(Acute)'!$A$2:$A$29012,0)+VALUE(RIGHT(G$2,1))-1,0),\"\")","v":"RR7"},{"$f":"IF(VALUE(MID(H$2,5,2))<=$D178,OFFSET('CCG-Prov(Acute)'!$B$1,MATCH($A178,'CCG-Prov(Acute)'!$A$2:$A$29012,0)+VALUE(RIGHT(H$2,1))-1,0),\"\")","v":"RXP"},{"$f":"IF(VALUE(MID(I$2,5,2))<=$D178,OFFSET('CCG-Prov(Acute)'!$B$1,MATCH($A178,'CCG-Prov(Acute)'!$A$2:$A$29012,0)+VALUE(RIGHT(I$2,1))-1,0),\"\")","v":"NT3"},{"$f":"IF(VALUE(MID(J$2,5,2))<=$D178,OFFSET('CCG-Prov(Acute)'!$B$1,MATCH($A178,'CCG-Prov(Acute)'!$A$2:$A$29012,0)+VALUE(RIGHT(J$2,1))-1,0),\"\")","v":"RE9"},{"$f":"IF(VALUE(MID(K$2,5,2))<=$D178,OFFSET('CCG-Prov(Acute)'!$B$1,MATCH($A178,'CCG-Prov(Acute)'!$A$2:$A$29012,0)+VALUE(RIGHT(K$2,1))-1,0),\"\")","v":""},{"$f":"IF(VALUE(MID(L$2,5,2))<=$D178,OFFSET('CCG-Prov(Acute)'!$B$1,MATCH($A178,'CCG-Prov(Acute)'!$A$2:$A$29012,0)+VALUE(RIGHT(L$2,1))-1,0),\"\")","v":""},{"$f":"IF(VALUE(MID(M$2,5,2))<=$D178,OFFSET('CCG-Prov(Acute)'!$B$1,MATCH($A178,'CCG-Prov(Acute)'!$A$2:$A$29012,0)+VALUE(RIGHT(M$2,1))-1,0),\"\")","v":""},{"$f":"IF(VALUE(MID(N$2,5,2))<=$D178,OFFSET('CCG-Prov(Acute)'!$B$1,MATCH($A178,'CCG-Prov(Acute)'!$A$2:$A$29012,0)+VALUE(RIGHT(N$2,1))-1,0),\"\")","v":""},null,null,"RLN",{"$f":"VLOOKUP(Q178,provnames!$A$2:$B$331,2,0)","v":"City Hospitals Sunderland NHS FT"},{"$f":"SUM(IF(('CCG-Prov(Acute)'!$B$2:$B$28899=Q178),1,0))","v":105},null,{"$f":"SUM(IF(('CCG-Prov(Amb)'!$A$2:$A$335=A178),1,0))","v":1},{"$f":"SUM(IF(('CCG-Prov(Amb)'!$A$2:$A$335=A178)*('CCG-Prov(Amb)'!$C$2:$C$335>=Ambulance!$B$7),1,0))","v":1},{"$f":"IF(VALUE(MID(W$2,5,2))<=$V178,OFFSET('CCG-Prov(Amb)'!$B$1,MATCH($A178,'CCG-Prov(Amb)'!$A$2:$A$335,0)+VALUE(RIGHT(W$2,1))-1,0),\"\")","v":"RX6"},{"$f":"IF(VALUE(MID(X$2,5,2))<=$V178,OFFSET('CCG-Prov(Amb)'!$B$1,MATCH($A178,'CCG-Prov(Amb)'!$A$2:$A$335,0)+VALUE(RIGHT(X$2,1))-1,0),\"\")","v":""},{"$f":"IF(VALUE(MID(Y$2,5,2))<=$V178,OFFSET('CCG-Prov(Amb)'!$B$1,MATCH($A178,'CCG-Prov(Amb)'!$A$2:$A$335,0)+VALUE(RIGHT(Y$2,1))-1,0),\"\")","v":""},{"$f":"IF(VALUE(MID(Z$2,5,2))<=$V178,OFFSET('CCG-Prov(Amb)'!$B$1,MATCH($A178,'CCG-Prov(Amb)'!$A$2:$A$335,0)+VALUE(RIGHT(Z$2,1))-1,0),\"\")","v":""},{"$f":"IF(VALUE(MID(AA$2,5,2))<=$V178,OFFSET('CCG-Prov(Amb)'!$B$1,MATCH($A178,'CCG-Prov(Amb)'!$A$2:$A$335,0)+VALUE(RIGHT(AA$2,1))-1,0),\"\")","v":""},null,null,null,null,null,{"$f":"SUM(IF(('CCG-Prov(Births)'!$A$2:$A$6150=A178),1,0))","v":16},{"$f":"SUM(IF(('CCG-Prov(Births)'!$A$2:$A$6150=A178)*('CCG-Prov(Births)'!$C$2:$C$6150>=Maternity!$B$7),1,0))","v":4},{"$f":"IF(VALUE(MID(AI$2,5,2))<=$V178,OFFSET('CCG-Prov(Births)'!$B$1,MATCH($A178,'CCG-Prov(Births)'!$A$2:$A$6150,0)+VALUE(RIGHT(AI$2,1))-1,0),\"\")","v":"RLN"},{"$f":"IF(VALUE(MID(AJ$2,5,2))<=$V178,OFFSET('CCG-Prov(Births)'!$B$1,MATCH($A178,'CCG-Prov(Births)'!$A$2:$A$6150,0)+VALUE(RIGHT(AJ$2,1))-1,0),\"\")","v":""},{"$f":"IF(VALUE(MID(AK$2,5,2))<=$V178,OFFSET('CCG-Prov(Births)'!$B$1,MATCH($A178,'CCG-Prov(Births)'!$A$2:$A$6150,0)+VALUE(RIGHT(AK$2,1))-1,0),\"\")","v":""},{"$f":"IF(VALUE(MID(AL$2,5,2))<=$V178,OFFSET('CCG-Prov(Births)'!$B$1,MATCH($A178,'CCG-Prov(Births)'!$A$2:$A$6150,0)+VALUE(RIGHT(AL$2,1))-1,0),\"\")","v":""},{"$f":"IF(VALUE(MID(AM$2,5,2))<=$V178,OFFSET('CCG-Prov(Births)'!$B$1,MATCH($A178,'CCG-Prov(Births)'!$A$2:$A$6150,0)+VALUE(RIGHT(AM$2,1))-1,0),\"\")","v":""}]
["99H","Surrey Downs",{"$f":"SUM(IF(('CCG-Prov(Acute)'!$A$2:$A$29012=A179),1,0))","v":151},{"$f":"SUM(IF(('CCG-Prov(Acute)'!$A$2:$A$29012=A179)*('CCG-Prov(Acute)'!$C$2:$C$29012>=Acute!$B$7),1,0))","v":9},{"$f":"IF(VALUE(MID(E$2,5,2))<=$D179,OFFSET('CCG-Prov(Acute)'!$B$1,MATCH($A179,'CCG-Prov(Acute)'!$A$2:$A$29012,0)+VALUE(RIGHT(E$2,1))-1,0),\"\")","v":"RVR"},{"$f":"IF(VALUE(MID(F$2,5,2))<=$D179,OFFSET('CCG-Prov(Acute)'!$B$1,MATCH($A179,'CCG-Prov(Acute)'!$A$2:$A$29012,0)+VALUE(RIGHT(F$2,1))-1,0),\"\")","v":"RAX"},{"$f":"IF(VALUE(MID(G$2,5,2))<=$D179,OFFSET('CCG-Prov(Acute)'!$B$1,MATCH($A179,'CCG-Prov(Acute)'!$A$2:$A$29012,0)+VALUE(RIGHT(G$2,1))-1,0),\"\")","v":"RTP"},{"$f":"IF(VALUE(MID(H$2,5,2))<=$D179,OFFSET('CCG-Prov(Acute)'!$B$1,MATCH($A179,'CCG-Prov(Acute)'!$A$2:$A$29012,0)+VALUE(RIGHT(H$2,1))-1,0),\"\")","v":"RJ7"},{"$f":"IF(VALUE(MID(I$2,5,2))<=$D179,OFFSET('CCG-Prov(Acute)'!$B$1,MATCH($A179,'CCG-Prov(Acute)'!$A$2:$A$29012,0)+VALUE(RIGHT(I$2,1))-1,0),\"\")","v":"RA2"},{"$f":"IF(VALUE(MID(J$2,5,2))<=$D179,OFFSET('CCG-Prov(Acute)'!$B$1,MATCH($A179,'CCG-Prov(Acute)'!$A$2:$A$29012,0)+VALUE(RIGHT(J$2,1))-1,0),\"\")","v":"NVC"},{"$f":"IF(VALUE(MID(K$2,5,2))<=$D179,OFFSET('CCG-Prov(Acute)'!$B$1,MATCH($A179,'CCG-Prov(Acute)'!$A$2:$A$29012,0)+VALUE(RIGHT(K$2,1))-1,0),\"\")","v":"RPY"},{"$f":"IF(VALUE(MID(L$2,5,2))<=$D179,OFFSET('CCG-Prov(Acute)'!$B$1,MATCH($A179,'CCG-Prov(Acute)'!$A$2:$A$29012,0)+VALUE(RIGHT(L$2,1))-1,0),\"\")","v":"RTK"},{"$f":"IF(VALUE(MID(M$2,5,2))<=$D179,OFFSET('CCG-Prov(Acute)'!$B$1,MATCH($A179,'CCG-Prov(Acute)'!$A$2:$A$29012,0)+VALUE(RIGHT(M$2,1))-1,0),\"\")","v":"NT3"},{"$f":"IF(VALUE(MID(N$2,5,2))<=$D179,OFFSET('CCG-Prov(Acute)'!$B$1,MATCH($A179,'CCG-Prov(Acute)'!$A$2:$A$29012,0)+VALUE(RIGHT(N$2,1))-1,0),\"\")","v":""},null,null,"RLQ",{"$f":"VLOOKUP(Q179,provnames!$A$2:$B$331,2,0)","v":"Wye Valley NHS Trust"},{"$f":"SUM(IF(('CCG-Prov(Acute)'!$B$2:$B$28899=Q179),1,0))","v":155},null,{"$f":"SUM(IF(('CCG-Prov(Amb)'!$A$2:$A$335=A179),1,0))","v":2},{"$f":"SUM(IF(('CCG-Prov(Amb)'!$A$2:$A$335=A179)*('CCG-Prov(Amb)'!$C$2:$C$335>=Ambulance!$B$7),1,0))","v":2},{"$f":"IF(VALUE(MID(W$2,5,2))<=$V179,OFFSET('CCG-Prov(Amb)'!$B$1,MATCH($A179,'CCG-Prov(Amb)'!$A$2:$A$335,0)+VALUE(RIGHT(W$2,1))-1,0),\"\")","v":"RYD"},{"$f":"IF(VALUE(MID(X$2,5,2))<=$V179,OFFSET('CCG-Prov(Amb)'!$B$1,MATCH($A179,'CCG-Prov(Amb)'!$A$2:$A$335,0)+VALUE(RIGHT(X$2,1))-1,0),\"\")","v":"RRY"},{"$f":"IF(VALUE(MID(Y$2,5,2))<=$V179,OFFSET('CCG-Prov(Amb)'!$B$1,MATCH($A179,'CCG-Prov(Amb)'!$A$2:$A$335,0)+VALUE(RIGHT(Y$2,1))-1,0),\"\")","v":""},{"$f":"IF(VALUE(MID(Z$2,5,2))<=$V179,OFFSET('CCG-Prov(Amb)'!$B$1,MATCH($A179,'CCG-Prov(Amb)'!$A$2:$A$335,0)+VALUE(RIGHT(Z$2,1))-1,0),\"\")","v":""},{"$f":"IF(VALUE(MID(AA$2,5,2))<=$V179,OFFSET('CCG-Prov(Amb)'!$B$1,MATCH($A179,'CCG-Prov(Amb)'!$A$2:$A$335,0)+VALUE(RIGHT(AA$2,1))-1,0),\"\")","v":""},null,null,null,null,null,{"$f":"SUM(IF(('CCG-Prov(Births)'!$A$2:$A$6150=A179),1,0))","v":45},{"$f":"SUM(IF(('CCG-Prov(Births)'!$A$2:$A$6150=A179)*('CCG-Prov(Births)'!$C$2:$C$6150>=Maternity!$B$7),1,0))","v":5},{"$f":"IF(VALUE(MID(AI$2,5,2))<=$V179,OFFSET('CCG-Prov(Births)'!$B$1,MATCH($A179,'CCG-Prov(Births)'!$A$2:$A$6150,0)+VALUE(RIGHT(AI$2,1))-1,0),\"\")","v":"RVR"},{"$f":"IF(VALUE(MID(AJ$2,5,2))<=$V179,OFFSET('CCG-Prov(Births)'!$B$1,MATCH($A179,'CCG-Prov(Births)'!$A$2:$A$6150,0)+VALUE(RIGHT(AJ$2,1))-1,0),\"\")","v":"RAX"},{"$f":"IF(VALUE(MID(AK$2,5,2))<=$V179,OFFSET('CCG-Prov(Births)'!$B$1,MATCH($A179,'CCG-Prov(Births)'!$A$2:$A$6150,0)+VALUE(RIGHT(AK$2,1))-1,0),\"\")","v":""},{"$f":"IF(VALUE(MID(AL$2,5,2))<=$V179,OFFSET('CCG-Prov(Births)'!$B$1,MATCH($A179,'CCG-Prov(Births)'!$A$2:$A$6150,0)+VALUE(RIGHT(AL$2,1))-1,0),\"\")","v":""},{"$f":"IF(VALUE(MID(AM$2,5,2))<=$V179,OFFSET('CCG-Prov(Births)'!$B$1,MATCH($A179,'CCG-Prov(Births)'!$A$2:$A$6150,0)+VALUE(RIGHT(AM$2,1))-1,0),\"\")","v":""}]
["10C","Surrey Heath",{"$f":"SUM(IF(('CCG-Prov(Acute)'!$A$2:$A$29012=A180),1,0))","v":106},{"$f":"SUM(IF(('CCG-Prov(Acute)'!$A$2:$A$29012=A180)*('CCG-Prov(Acute)'!$C$2:$C$29012>=Acute!$B$7),1,0))","v":2},{"$f":"IF(VALUE(MID(E$2,5,2))<=$D180,OFFSET('CCG-Prov(Acute)'!$B$1,MATCH($A180,'CCG-Prov(Acute)'!$A$2:$A$29012,0)+VALUE(RIGHT(E$2,1))-1,0),\"\")","v":"RDU"},{"$f":"IF(VALUE(MID(F$2,5,2))<=$D180,OFFSET('CCG-Prov(Acute)'!$B$1,MATCH($A180,'CCG-Prov(Acute)'!$A$2:$A$29012,0)+VALUE(RIGHT(F$2,1))-1,0),\"\")","v":"RA2"},{"$f":"IF(VALUE(MID(G$2,5,2))<=$D180,OFFSET('CCG-Prov(Acute)'!$B$1,MATCH($A180,'CCG-Prov(Acute)'!$A$2:$A$29012,0)+VALUE(RIGHT(G$2,1))-1,0),\"\")","v":""},{"$f":"IF(VALUE(MID(H$2,5,2))<=$D180,OFFSET('CCG-Prov(Acute)'!$B$1,MATCH($A180,'CCG-Prov(Acute)'!$A$2:$A$29012,0)+VALUE(RIGHT(H$2,1))-1,0),\"\")","v":""},{"$f":"IF(VALUE(MID(I$2,5,2))<=$D180,OFFSET('CCG-Prov(Acute)'!$B$1,MATCH($A180,'CCG-Prov(Acute)'!$A$2:$A$29012,0)+VALUE(RIGHT(I$2,1))-1,0),\"\")","v":""},{"$f":"IF(VALUE(MID(J$2,5,2))<=$D180,OFFSET('CCG-Prov(Acute)'!$B$1,MATCH($A180,'CCG-Prov(Acute)'!$A$2:$A$29012,0)+VALUE(RIGHT(J$2,1))-1,0),\"\")","v":""},{"$f":"IF(VALUE(MID(K$2,5,2))<=$D180,OFFSET('CCG-Prov(Acute)'!$B$1,MATCH($A180,'CCG-Prov(Acute)'!$A$2:$A$29012,0)+VALUE(RIGHT(K$2,1))-1,0),\"\")","v":""},{"$f":"IF(VALUE(MID(L$2,5,2))<=$D180,OFFSET('CCG-Prov(Acute)'!$B$1,MATCH($A180,'CCG-Prov(Acute)'!$A$2:$A$29012,0)+VALUE(RIGHT(L$2,1))-1,0),\"\")","v":""},{"$f":"IF(VALUE(MID(M$2,5,2))<=$D180,OFFSET('CCG-Prov(Acute)'!$B$1,MATCH($A180,'CCG-Prov(Acute)'!$A$2:$A$29012,0)+VALUE(RIGHT(M$2,1))-1,0),\"\")","v":""},{"$f":"IF(VALUE(MID(N$2,5,2))<=$D180,OFFSET('CCG-Prov(Acute)'!$B$1,MATCH($A180,'CCG-Prov(Acute)'!$A$2:$A$29012,0)+VALUE(RIGHT(N$2,1))-1,0),\"\")","v":""},null,null,"RLT",{"$f":"VLOOKUP(Q180,provnames!$A$2:$B$331,2,0)","v":"George Eliot Hospital NHS Trust"},{"$f":"SUM(IF(('CCG-Prov(Acute)'!$B$2:$B$28899=Q180),1,0))","v":107},null,{"$f":"SUM(IF(('CCG-Prov(Amb)'!$A$2:$A$335=A180),1,0))","v":2},{"$f":"SUM(IF(('CCG-Prov(Amb)'!$A$2:$A$335=A180)*('CCG-Prov(Amb)'!$C$2:$C$335>=Ambulance!$B$7),1,0))","v":1},{"$f":"IF(VALUE(MID(W$2,5,2))<=$V180,OFFSET('CCG-Prov(Amb)'!$B$1,MATCH($A180,'CCG-Prov(Amb)'!$A$2:$A$335,0)+VALUE(RIGHT(W$2,1))-1,0),\"\")","v":"RYD"},{"$f":"IF(VALUE(MID(X$2,5,2))<=$V180,OFFSET('CCG-Prov(Amb)'!$B$1,MATCH($A180,'CCG-Prov(Amb)'!$A$2:$A$335,0)+VALUE(RIGHT(X$2,1))-1,0),\"\")","v":""},{"$f":"IF(VALUE(MID(Y$2,5,2))<=$V180,OFFSET('CCG-Prov(Amb)'!$B$1,MATCH($A180,'CCG-Prov(Amb)'!$A$2:$A$335,0)+VALUE(RIGHT(Y$2,1))-1,0),\"\")","v":""},{"$f":"IF(VALUE(MID(Z$2,5,2))<=$V180,OFFSET('CCG-Prov(Amb)'!$B$1,MATCH($A180,'CCG-Prov(Amb)'!$A$2:$A$335,0)+VALUE(RIGHT(Z$2,1))-1,0),\"\")","v":""},{"$f":"IF(VALUE(MID(AA$2,5,2))<=$V180,OFFSET('CCG-Prov(Amb)'!$B$1,MATCH($A180,'CCG-Prov(Amb)'!$A$2:$A$335,0)+VALUE(RIGHT(AA$2,1))-1,0),\"\")","v":""},null,null,null,null,null,{"$f":"SUM(IF(('CCG-Prov(Births)'!$A$2:$A$6150=A180),1,0))","v":17},{"$f":"SUM(IF(('CCG-Prov(Births)'!$A$2:$A$6150=A180)*('CCG-Prov(Births)'!$C$2:$C$6150>=Maternity!$B$7),1,0))","v":2},{"$f":"IF(VALUE(MID(AI$2,5,2))<=$V180,OFFSET('CCG-Prov(Births)'!$B$1,MATCH($A180,'CCG-Prov(Births)'!$A$2:$A$6150,0)+VALUE(RIGHT(AI$2,1))-1,0),\"\")","v":"RDU"},{"$f":"IF(VALUE(MID(AJ$2,5,2))<=$V180,OFFSET('CCG-Prov(Births)'!$B$1,MATCH($A180,'CCG-Prov(Births)'!$A$2:$A$6150,0)+VALUE(RIGHT(AJ$2,1))-1,0),\"\")","v":""},{"$f":"IF(VALUE(MID(AK$2,5,2))<=$V180,OFFSET('CCG-Prov(Births)'!$B$1,MATCH($A180,'CCG-Prov(Births)'!$A$2:$A$6150,0)+VALUE(RIGHT(AK$2,1))-1,0),\"\")","v":""},{"$f":"IF(VALUE(MID(AL$2,5,2))<=$V180,OFFSET('CCG-Prov(Births)'!$B$1,MATCH($A180,'CCG-Prov(Births)'!$A$2:$A$6150,0)+VALUE(RIGHT(AL$2,1))-1,0),\"\")","v":""},{"$f":"IF(VALUE(MID(AM$2,5,2))<=$V180,OFFSET('CCG-Prov(Births)'!$B$1,MATCH($A180,'CCG-Prov(Births)'!$A$2:$A$6150,0)+VALUE(RIGHT(AM$2,1))-1,0),\"\")","v":""}]
["08T","Sutton",{"$f":"SUM(IF(('CCG-Prov(Acute)'!$A$2:$A$29012=A181),1,0))","v":120},{"$f":"SUM(IF(('CCG-Prov(Acute)'!$A$2:$A$29012=A181)*('CCG-Prov(Acute)'!$C$2:$C$29012>=Acute!$B$7),1,0))","v":4},{"$f":"IF(VALUE(MID(E$2,5,2))<=$D181,OFFSET('CCG-Prov(Acute)'!$B$1,MATCH($A181,'CCG-Prov(Acute)'!$A$2:$A$29012,0)+VALUE(RIGHT(E$2,1))-1,0),\"\")","v":"RVR"},{"$f":"IF(VALUE(MID(F$2,5,2))<=$D181,OFFSET('CCG-Prov(Acute)'!$B$1,MATCH($A181,'CCG-Prov(Acute)'!$A$2:$A$29012,0)+VALUE(RIGHT(F$2,1))-1,0),\"\")","v":"RJ7"},{"$f":"IF(VALUE(MID(G$2,5,2))<=$D181,OFFSET('CCG-Prov(Acute)'!$B$1,MATCH($A181,'CCG-Prov(Acute)'!$A$2:$A$29012,0)+VALUE(RIGHT(G$2,1))-1,0),\"\")","v":"RPY"},{"$f":"IF(VALUE(MID(H$2,5,2))<=$D181,OFFSET('CCG-Prov(Acute)'!$B$1,MATCH($A181,'CCG-Prov(Acute)'!$A$2:$A$29012,0)+VALUE(RIGHT(H$2,1))-1,0),\"\")","v":"RJ6"},{"$f":"IF(VALUE(MID(I$2,5,2))<=$D181,OFFSET('CCG-Prov(Acute)'!$B$1,MATCH($A181,'CCG-Prov(Acute)'!$A$2:$A$29012,0)+VALUE(RIGHT(I$2,1))-1,0),\"\")","v":""},{"$f":"IF(VALUE(MID(J$2,5,2))<=$D181,OFFSET('CCG-Prov(Acute)'!$B$1,MATCH($A181,'CCG-Prov(Acute)'!$A$2:$A$29012,0)+VALUE(RIGHT(J$2,1))-1,0),\"\")","v":""},{"$f":"IF(VALUE(MID(K$2,5,2))<=$D181,OFFSET('CCG-Prov(Acute)'!$B$1,MATCH($A181,'CCG-Prov(Acute)'!$A$2:$A$29012,0)+VALUE(RIGHT(K$2,1))-1,0),\"\")","v":""},{"$f":"IF(VALUE(MID(L$2,5,2))<=$D181,OFFSET('CCG-Prov(Acute)'!$B$1,MATCH($A181,'CCG-Prov(Acute)'!$A$2:$A$29012,0)+VALUE(RIGHT(L$2,1))-1,0),\"\")","v":""},{"$f":"IF(VALUE(MID(M$2,5,2))<=$D181,OFFSET('CCG-Prov(Acute)'!$B$1,MATCH($A181,'CCG-Prov(Acute)'!$A$2:$A$29012,0)+VALUE(RIGHT(M$2,1))-1,0),\"\")","v":""},{"$f":"IF(VALUE(MID(N$2,5,2))<=$D181,OFFSET('CCG-Prov(Acute)'!$B$1,MATCH($A181,'CCG-Prov(Acute)'!$A$2:$A$29012,0)+VALUE(RIGHT(N$2,1))-1,0),\"\")","v":""},null,null,"RLU",{"$f":"VLOOKUP(Q181,provnames!$A$2:$B$331,2,0)","v":"Birmingham Women's NHS FT"},{"$f":"SUM(IF(('CCG-Prov(Acute)'!$B$2:$B$28899=Q181),1,0))","v":57},null,{"$f":"SUM(IF(('CCG-Prov(Amb)'!$A$2:$A$335=A181),1,0))","v":2},{"$f":"SUM(IF(('CCG-Prov(Amb)'!$A$2:$A$335=A181)*('CCG-Prov(Amb)'!$C$2:$C$335>=Ambulance!$B$7),1,0))","v":2},{"$f":"IF(VALUE(MID(W$2,5,2))<=$V181,OFFSET('CCG-Prov(Amb)'!$B$1,MATCH($A181,'CCG-Prov(Amb)'!$A$2:$A$335,0)+VALUE(RIGHT(W$2,1))-1,0),\"\")","v":"RRY"},{"$f":"IF(VALUE(MID(X$2,5,2))<=$V181,OFFSET('CCG-Prov(Amb)'!$B$1,MATCH($A181,'CCG-Prov(Amb)'!$A$2:$A$335,0)+VALUE(RIGHT(X$2,1))-1,0),\"\")","v":"RYD"},{"$f":"IF(VALUE(MID(Y$2,5,2))<=$V181,OFFSET('CCG-Prov(Amb)'!$B$1,MATCH($A181,'CCG-Prov(Amb)'!$A$2:$A$335,0)+VALUE(RIGHT(Y$2,1))-1,0),\"\")","v":""},{"$f":"IF(VALUE(MID(Z$2,5,2))<=$V181,OFFSET('CCG-Prov(Amb)'!$B$1,MATCH($A181,'CCG-Prov(Amb)'!$A$2:$A$335,0)+VALUE(RIGHT(Z$2,1))-1,0),\"\")","v":""},{"$f":"IF(VALUE(MID(AA$2,5,2))<=$V181,OFFSET('CCG-Prov(Amb)'!$B$1,MATCH($A181,'CCG-Prov(Amb)'!$A$2:$A$335,0)+VALUE(RIGHT(AA$2,1))-1,0),\"\")","v":""},null,null,null,null,null,{"$f":"SUM(IF(('CCG-Prov(Births)'!$A$2:$A$6150=A181),1,0))","v":22},{"$f":"SUM(IF(('CCG-Prov(Births)'!$A$2:$A$6150=A181)*('CCG-Prov(Births)'!$C$2:$C$6150>=Maternity!$B$7),1,0))","v":3},{"$f":"IF(VALUE(MID(AI$2,5,2))<=$V181,OFFSET('CCG-Prov(Births)'!$B$1,MATCH($A181,'CCG-Prov(Births)'!$A$2:$A$6150,0)+VALUE(RIGHT(AI$2,1))-1,0),\"\")","v":"RVR"},{"$f":"IF(VALUE(MID(AJ$2,5,2))<=$V181,OFFSET('CCG-Prov(Births)'!$B$1,MATCH($A181,'CCG-Prov(Births)'!$A$2:$A$6150,0)+VALUE(RIGHT(AJ$2,1))-1,0),\"\")","v":"RJ7"},{"$f":"IF(VALUE(MID(AK$2,5,2))<=$V181,OFFSET('CCG-Prov(Births)'!$B$1,MATCH($A181,'CCG-Prov(Births)'!$A$2:$A$6150,0)+VALUE(RIGHT(AK$2,1))-1,0),\"\")","v":""},{"$f":"IF(VALUE(MID(AL$2,5,2))<=$V181,OFFSET('CCG-Prov(Births)'!$B$1,MATCH($A181,'CCG-Prov(Births)'!$A$2:$A$6150,0)+VALUE(RIGHT(AL$2,1))-1,0),\"\")","v":""},{"$f":"IF(VALUE(MID(AM$2,5,2))<=$V181,OFFSET('CCG-Prov(Births)'!$B$1,MATCH($A181,'CCG-Prov(Births)'!$A$2:$A$6150,0)+VALUE(RIGHT(AM$2,1))-1,0),\"\")","v":""}]
["10D","Swale",{"$f":"SUM(IF(('CCG-Prov(Acute)'!$A$2:$A$29012=A182),1,0))","v":106},{"$f":"SUM(IF(('CCG-Prov(Acute)'!$A$2:$A$29012=A182)*('CCG-Prov(Acute)'!$C$2:$C$29012>=Acute!$B$7),1,0))","v":5},{"$f":"IF(VALUE(MID(E$2,5,2))<=$D182,OFFSET('CCG-Prov(Acute)'!$B$1,MATCH($A182,'CCG-Prov(Acute)'!$A$2:$A$29012,0)+VALUE(RIGHT(E$2,1))-1,0),\"\")","v":"RPA"},{"$f":"IF(VALUE(MID(F$2,5,2))<=$D182,OFFSET('CCG-Prov(Acute)'!$B$1,MATCH($A182,'CCG-Prov(Acute)'!$A$2:$A$29012,0)+VALUE(RIGHT(F$2,1))-1,0),\"\")","v":"RVV"},{"$f":"IF(VALUE(MID(G$2,5,2))<=$D182,OFFSET('CCG-Prov(Acute)'!$B$1,MATCH($A182,'CCG-Prov(Acute)'!$A$2:$A$29012,0)+VALUE(RIGHT(G$2,1))-1,0),\"\")","v":"RWF"},{"$f":"IF(VALUE(MID(H$2,5,2))<=$D182,OFFSET('CCG-Prov(Acute)'!$B$1,MATCH($A182,'CCG-Prov(Acute)'!$A$2:$A$29012,0)+VALUE(RIGHT(H$2,1))-1,0),\"\")","v":"NTP"},{"$f":"IF(VALUE(MID(I$2,5,2))<=$D182,OFFSET('CCG-Prov(Acute)'!$B$1,MATCH($A182,'CCG-Prov(Acute)'!$A$2:$A$29012,0)+VALUE(RIGHT(I$2,1))-1,0),\"\")","v":"RPC"},{"$f":"IF(VALUE(MID(J$2,5,2))<=$D182,OFFSET('CCG-Prov(Acute)'!$B$1,MATCH($A182,'CCG-Prov(Acute)'!$A$2:$A$29012,0)+VALUE(RIGHT(J$2,1))-1,0),\"\")","v":""},{"$f":"IF(VALUE(MID(K$2,5,2))<=$D182,OFFSET('CCG-Prov(Acute)'!$B$1,MATCH($A182,'CCG-Prov(Acute)'!$A$2:$A$29012,0)+VALUE(RIGHT(K$2,1))-1,0),\"\")","v":""},{"$f":"IF(VALUE(MID(L$2,5,2))<=$D182,OFFSET('CCG-Prov(Acute)'!$B$1,MATCH($A182,'CCG-Prov(Acute)'!$A$2:$A$29012,0)+VALUE(RIGHT(L$2,1))-1,0),\"\")","v":""},{"$f":"IF(VALUE(MID(M$2,5,2))<=$D182,OFFSET('CCG-Prov(Acute)'!$B$1,MATCH($A182,'CCG-Prov(Acute)'!$A$2:$A$29012,0)+VALUE(RIGHT(M$2,1))-1,0),\"\")","v":""},{"$f":"IF(VALUE(MID(N$2,5,2))<=$D182,OFFSET('CCG-Prov(Acute)'!$B$1,MATCH($A182,'CCG-Prov(Acute)'!$A$2:$A$29012,0)+VALUE(RIGHT(N$2,1))-1,0),\"\")","v":""},null,null,"RM1",{"$f":"VLOOKUP(Q182,provnames!$A$2:$B$331,2,0)","v":"Norfolk & Norwich Univ Hospitals NHS FT"},{"$f":"SUM(IF(('CCG-Prov(Acute)'!$B$2:$B$28899=Q182),1,0))","v":195},null,{"$f":"SUM(IF(('CCG-Prov(Amb)'!$A$2:$A$335=A182),1,0))","v":1},{"$f":"SUM(IF(('CCG-Prov(Amb)'!$A$2:$A$335=A182)*('CCG-Prov(Amb)'!$C$2:$C$335>=Ambulance!$B$7),1,0))","v":1},{"$f":"IF(VALUE(MID(W$2,5,2))<=$V182,OFFSET('CCG-Prov(Amb)'!$B$1,MATCH($A182,'CCG-Prov(Amb)'!$A$2:$A$335,0)+VALUE(RIGHT(W$2,1))-1,0),\"\")","v":"RYD"},{"$f":"IF(VALUE(MID(X$2,5,2))<=$V182,OFFSET('CCG-Prov(Amb)'!$B$1,MATCH($A182,'CCG-Prov(Amb)'!$A$2:$A$335,0)+VALUE(RIGHT(X$2,1))-1,0),\"\")","v":""},{"$f":"IF(VALUE(MID(Y$2,5,2))<=$V182,OFFSET('CCG-Prov(Amb)'!$B$1,MATCH($A182,'CCG-Prov(Amb)'!$A$2:$A$335,0)+VALUE(RIGHT(Y$2,1))-1,0),\"\")","v":""},{"$f":"IF(VALUE(MID(Z$2,5,2))<=$V182,OFFSET('CCG-Prov(Amb)'!$B$1,MATCH($A182,'CCG-Prov(Amb)'!$A$2:$A$335,0)+VALUE(RIGHT(Z$2,1))-1,0),\"\")","v":""},{"$f":"IF(VALUE(MID(AA$2,5,2))<=$V182,OFFSET('CCG-Prov(Amb)'!$B$1,MATCH($A182,'CCG-Prov(Amb)'!$A$2:$A$335,0)+VALUE(RIGHT(AA$2,1))-1,0),\"\")","v":""},null,null,null,null,null,{"$f":"SUM(IF(('CCG-Prov(Births)'!$A$2:$A$6150=A182),1,0))","v":14},{"$f":"SUM(IF(('CCG-Prov(Births)'!$A$2:$A$6150=A182)*('CCG-Prov(Births)'!$C$2:$C$6150>=Maternity!$B$7),1,0))","v":2},{"$f":"IF(VALUE(MID(AI$2,5,2))<=$V182,OFFSET('CCG-Prov(Births)'!$B$1,MATCH($A182,'CCG-Prov(Births)'!$A$2:$A$6150,0)+VALUE(RIGHT(AI$2,1))-1,0),\"\")","v":"RPA"},{"$f":"IF(VALUE(MID(AJ$2,5,2))<=$V182,OFFSET('CCG-Prov(Births)'!$B$1,MATCH($A182,'CCG-Prov(Births)'!$A$2:$A$6150,0)+VALUE(RIGHT(AJ$2,1))-1,0),\"\")","v":""},{"$f":"IF(VALUE(MID(AK$2,5,2))<=$V182,OFFSET('CCG-Prov(Births)'!$B$1,MATCH($A182,'CCG-Prov(Births)'!$A$2:$A$6150,0)+VALUE(RIGHT(AK$2,1))-1,0),\"\")","v":""},{"$f":"IF(VALUE(MID(AL$2,5,2))<=$V182,OFFSET('CCG-Prov(Births)'!$B$1,MATCH($A182,'CCG-Prov(Births)'!$A$2:$A$6150,0)+VALUE(RIGHT(AL$2,1))-1,0),\"\")","v":""},{"$f":"IF(VALUE(MID(AM$2,5,2))<=$V182,OFFSET('CCG-Prov(Births)'!$B$1,MATCH($A182,'CCG-Prov(Births)'!$A$2:$A$6150,0)+VALUE(RIGHT(AM$2,1))-1,0),\"\")","v":""}]
["12D","Swindon",{"$f":"SUM(IF(('CCG-Prov(Acute)'!$A$2:$A$29012=A183),1,0))","v":133},{"$f":"SUM(IF(('CCG-Prov(Acute)'!$A$2:$A$29012=A183)*('CCG-Prov(Acute)'!$C$2:$C$29012>=Acute!$B$7),1,0))","v":5},{"$f":"IF(VALUE(MID(E$2,5,2))<=$D183,OFFSET('CCG-Prov(Acute)'!$B$1,MATCH($A183,'CCG-Prov(Acute)'!$A$2:$A$29012,0)+VALUE(RIGHT(E$2,1))-1,0),\"\")","v":"RN3"},{"$f":"IF(VALUE(MID(F$2,5,2))<=$D183,OFFSET('CCG-Prov(Acute)'!$B$1,MATCH($A183,'CCG-Prov(Acute)'!$A$2:$A$29012,0)+VALUE(RIGHT(F$2,1))-1,0),\"\")","v":"RTH"},{"$f":"IF(VALUE(MID(G$2,5,2))<=$D183,OFFSET('CCG-Prov(Acute)'!$B$1,MATCH($A183,'CCG-Prov(Acute)'!$A$2:$A$29012,0)+VALUE(RIGHT(G$2,1))-1,0),\"\")","v":"NTC"},{"$f":"IF(VALUE(MID(H$2,5,2))<=$D183,OFFSET('CCG-Prov(Acute)'!$B$1,MATCH($A183,'CCG-Prov(Acute)'!$A$2:$A$29012,0)+VALUE(RIGHT(H$2,1))-1,0),\"\")","v":"NT4"},{"$f":"IF(VALUE(MID(I$2,5,2))<=$D183,OFFSET('CCG-Prov(Acute)'!$B$1,MATCH($A183,'CCG-Prov(Acute)'!$A$2:$A$29012,0)+VALUE(RIGHT(I$2,1))-1,0),\"\")","v":"5K3"},{"$f":"IF(VALUE(MID(J$2,5,2))<=$D183,OFFSET('CCG-Prov(Acute)'!$B$1,MATCH($A183,'CCG-Prov(Acute)'!$A$2:$A$29012,0)+VALUE(RIGHT(J$2,1))-1,0),\"\")","v":""},{"$f":"IF(VALUE(MID(K$2,5,2))<=$D183,OFFSET('CCG-Prov(Acute)'!$B$1,MATCH($A183,'CCG-Prov(Acute)'!$A$2:$A$29012,0)+VALUE(RIGHT(K$2,1))-1,0),\"\")","v":""},{"$f":"IF(VALUE(MID(L$2,5,2))<=$D183,OFFSET('CCG-Prov(Acute)'!$B$1,MATCH($A183,'CCG-Prov(Acute)'!$A$2:$A$29012,0)+VALUE(RIGHT(L$2,1))-1,0),\"\")","v":""},{"$f":"IF(VALUE(MID(M$2,5,2))<=$D183,OFFSET('CCG-Prov(Acute)'!$B$1,MATCH($A183,'CCG-Prov(Acute)'!$A$2:$A$29012,0)+VALUE(RIGHT(M$2,1))-1,0),\"\")","v":""},{"$f":"IF(VALUE(MID(N$2,5,2))<=$D183,OFFSET('CCG-Prov(Acute)'!$B$1,MATCH($A183,'CCG-Prov(Acute)'!$A$2:$A$29012,0)+VALUE(RIGHT(N$2,1))-1,0),\"\")","v":""},null,null,"RM2",{"$f":"VLOOKUP(Q183,provnames!$A$2:$B$331,2,0)","v":"University Hospital of South Manchester NHS FT"},{"$f":"SUM(IF(('CCG-Prov(Acute)'!$B$2:$B$28899=Q183),1,0))","v":189},null,{"$f":"SUM(IF(('CCG-Prov(Amb)'!$A$2:$A$335=A183),1,0))","v":2},{"$f":"SUM(IF(('CCG-Prov(Amb)'!$A$2:$A$335=A183)*('CCG-Prov(Amb)'!$C$2:$C$335>=Ambulance!$B$7),1,0))","v":2},{"$f":"IF(VALUE(MID(W$2,5,2))<=$V183,OFFSET('CCG-Prov(Amb)'!$B$1,MATCH($A183,'CCG-Prov(Amb)'!$A$2:$A$335,0)+VALUE(RIGHT(W$2,1))-1,0),\"\")","v":"RX5"},{"$f":"IF(VALUE(MID(X$2,5,2))<=$V183,OFFSET('CCG-Prov(Amb)'!$B$1,MATCH($A183,'CCG-Prov(Amb)'!$A$2:$A$335,0)+VALUE(RIGHT(X$2,1))-1,0),\"\")","v":"RYE"},{"$f":"IF(VALUE(MID(Y$2,5,2))<=$V183,OFFSET('CCG-Prov(Amb)'!$B$1,MATCH($A183,'CCG-Prov(Amb)'!$A$2:$A$335,0)+VALUE(RIGHT(Y$2,1))-1,0),\"\")","v":""},{"$f":"IF(VALUE(MID(Z$2,5,2))<=$V183,OFFSET('CCG-Prov(Amb)'!$B$1,MATCH($A183,'CCG-Prov(Amb)'!$A$2:$A$335,0)+VALUE(RIGHT(Z$2,1))-1,0),\"\")","v":""},{"$f":"IF(VALUE(MID(AA$2,5,2))<=$V183,OFFSET('CCG-Prov(Amb)'!$B$1,MATCH($A183,'CCG-Prov(Amb)'!$A$2:$A$335,0)+VALUE(RIGHT(AA$2,1))-1,0),\"\")","v":""},null,null,null,null,null,{"$f":"SUM(IF(('CCG-Prov(Births)'!$A$2:$A$6150=A183),1,0))","v":35},{"$f":"SUM(IF(('CCG-Prov(Births)'!$A$2:$A$6150=A183)*('CCG-Prov(Births)'!$C$2:$C$6150>=Maternity!$B$7),1,0))","v":1},{"$f":"IF(VALUE(MID(AI$2,5,2))<=$V183,OFFSET('CCG-Prov(Births)'!$B$1,MATCH($A183,'CCG-Prov(Births)'!$A$2:$A$6150,0)+VALUE(RIGHT(AI$2,1))-1,0),\"\")","v":"RN3"},{"$f":"IF(VALUE(MID(AJ$2,5,2))<=$V183,OFFSET('CCG-Prov(Births)'!$B$1,MATCH($A183,'CCG-Prov(Births)'!$A$2:$A$6150,0)+VALUE(RIGHT(AJ$2,1))-1,0),\"\")","v":"RTH"},{"$f":"IF(VALUE(MID(AK$2,5,2))<=$V183,OFFSET('CCG-Prov(Births)'!$B$1,MATCH($A183,'CCG-Prov(Births)'!$A$2:$A$6150,0)+VALUE(RIGHT(AK$2,1))-1,0),\"\")","v":""},{"$f":"IF(VALUE(MID(AL$2,5,2))<=$V183,OFFSET('CCG-Prov(Births)'!$B$1,MATCH($A183,'CCG-Prov(Births)'!$A$2:$A$6150,0)+VALUE(RIGHT(AL$2,1))-1,0),\"\")","v":""},{"$f":"IF(VALUE(MID(AM$2,5,2))<=$V183,OFFSET('CCG-Prov(Births)'!$B$1,MATCH($A183,'CCG-Prov(Births)'!$A$2:$A$6150,0)+VALUE(RIGHT(AM$2,1))-1,0),\"\")","v":""}]
["01Y","Tameside & Glossop",{"$f":"SUM(IF(('CCG-Prov(Acute)'!$A$2:$A$29012=A184),1,0))","v":133},{"$f":"SUM(IF(('CCG-Prov(Acute)'!$A$2:$A$29012=A184)*('CCG-Prov(Acute)'!$C$2:$C$29012>=Acute!$B$7),1,0))","v":7},{"$f":"IF(VALUE(MID(E$2,5,2))<=$D184,OFFSET('CCG-Prov(Acute)'!$B$1,MATCH($A184,'CCG-Prov(Acute)'!$A$2:$A$29012,0)+VALUE(RIGHT(E$2,1))-1,0),\"\")","v":"RMP"},{"$f":"IF(VALUE(MID(F$2,5,2))<=$D184,OFFSET('CCG-Prov(Acute)'!$B$1,MATCH($A184,'CCG-Prov(Acute)'!$A$2:$A$29012,0)+VALUE(RIGHT(F$2,1))-1,0),\"\")","v":"RW3"},{"$f":"IF(VALUE(MID(G$2,5,2))<=$D184,OFFSET('CCG-Prov(Acute)'!$B$1,MATCH($A184,'CCG-Prov(Acute)'!$A$2:$A$29012,0)+VALUE(RIGHT(G$2,1))-1,0),\"\")","v":"RWJ"},{"$f":"IF(VALUE(MID(H$2,5,2))<=$D184,OFFSET('CCG-Prov(Acute)'!$B$1,MATCH($A184,'CCG-Prov(Acute)'!$A$2:$A$29012,0)+VALUE(RIGHT(H$2,1))-1,0),\"\")","v":"RW6"},{"$f":"IF(VALUE(MID(I$2,5,2))<=$D184,OFFSET('CCG-Prov(Acute)'!$B$1,MATCH($A184,'CCG-Prov(Acute)'!$A$2:$A$29012,0)+VALUE(RIGHT(I$2,1))-1,0),\"\")","v":"RM2"},{"$f":"IF(VALUE(MID(J$2,5,2))<=$D184,OFFSET('CCG-Prov(Acute)'!$B$1,MATCH($A184,'CCG-Prov(Acute)'!$A$2:$A$29012,0)+VALUE(RIGHT(J$2,1))-1,0),\"\")","v":"RM3"},{"$f":"IF(VALUE(MID(K$2,5,2))<=$D184,OFFSET('CCG-Prov(Acute)'!$B$1,MATCH($A184,'CCG-Prov(Acute)'!$A$2:$A$29012,0)+VALUE(RIGHT(K$2,1))-1,0),\"\")","v":"RBV"},{"$f":"IF(VALUE(MID(L$2,5,2))<=$D184,OFFSET('CCG-Prov(Acute)'!$B$1,MATCH($A184,'CCG-Prov(Acute)'!$A$2:$A$29012,0)+VALUE(RIGHT(L$2,1))-1,0),\"\")","v":""},{"$f":"IF(VALUE(MID(M$2,5,2))<=$D184,OFFSET('CCG-Prov(Acute)'!$B$1,MATCH($A184,'CCG-Prov(Acute)'!$A$2:$A$29012,0)+VALUE(RIGHT(M$2,1))-1,0),\"\")","v":""},{"$f":"IF(VALUE(MID(N$2,5,2))<=$D184,OFFSET('CCG-Prov(Acute)'!$B$1,MATCH($A184,'CCG-Prov(Acute)'!$A$2:$A$29012,0)+VALUE(RIGHT(N$2,1))-1,0),\"\")","v":""},null,null,"RM3",{"$f":"VLOOKUP(Q184,provnames!$A$2:$B$331,2,0)","v":"Salford Royal NHS FT"},{"$f":"SUM(IF(('CCG-Prov(Acute)'!$B$2:$B$28899=Q184),1,0))","v":155},null,{"$f":"SUM(IF(('CCG-Prov(Amb)'!$A$2:$A$335=A184),1,0))","v":2},{"$f":"SUM(IF(('CCG-Prov(Amb)'!$A$2:$A$335=A184)*('CCG-Prov(Amb)'!$C$2:$C$335>=Ambulance!$B$7),1,0))","v":2},{"$f":"IF(VALUE(MID(W$2,5,2))<=$V184,OFFSET('CCG-Prov(Amb)'!$B$1,MATCH($A184,'CCG-Prov(Amb)'!$A$2:$A$335,0)+VALUE(RIGHT(W$2,1))-1,0),\"\")","v":"RX7"},{"$f":"IF(VALUE(MID(X$2,5,2))<=$V184,OFFSET('CCG-Prov(Amb)'!$B$1,MATCH($A184,'CCG-Prov(Amb)'!$A$2:$A$335,0)+VALUE(RIGHT(X$2,1))-1,0),\"\")","v":"RX9"},{"$f":"IF(VALUE(MID(Y$2,5,2))<=$V184,OFFSET('CCG-Prov(Amb)'!$B$1,MATCH($A184,'CCG-Prov(Amb)'!$A$2:$A$335,0)+VALUE(RIGHT(Y$2,1))-1,0),\"\")","v":""},{"$f":"IF(VALUE(MID(Z$2,5,2))<=$V184,OFFSET('CCG-Prov(Amb)'!$B$1,MATCH($A184,'CCG-Prov(Amb)'!$A$2:$A$335,0)+VALUE(RIGHT(Z$2,1))-1,0),\"\")","v":""},{"$f":"IF(VALUE(MID(AA$2,5,2))<=$V184,OFFSET('CCG-Prov(Amb)'!$B$1,MATCH($A184,'CCG-Prov(Amb)'!$A$2:$A$335,0)+VALUE(RIGHT(AA$2,1))-1,0),\"\")","v":""},null,null,null,null,null,{"$f":"SUM(IF(('CCG-Prov(Births)'!$A$2:$A$6150=A184),1,0))","v":18},{"$f":"SUM(IF(('CCG-Prov(Births)'!$A$2:$A$6150=A184)*('CCG-Prov(Births)'!$C$2:$C$6150>=Maternity!$B$7),1,0))","v":4},{"$f":"IF(VALUE(MID(AI$2,5,2))<=$V184,OFFSET('CCG-Prov(Births)'!$B$1,MATCH($A184,'CCG-Prov(Births)'!$A$2:$A$6150,0)+VALUE(RIGHT(AI$2,1))-1,0),\"\")","v":"RMP"},{"$f":"IF(VALUE(MID(AJ$2,5,2))<=$V184,OFFSET('CCG-Prov(Births)'!$B$1,MATCH($A184,'CCG-Prov(Births)'!$A$2:$A$6150,0)+VALUE(RIGHT(AJ$2,1))-1,0),\"\")","v":"RW3"},{"$f":"IF(VALUE(MID(AK$2,5,2))<=$V184,OFFSET('CCG-Prov(Births)'!$B$1,MATCH($A184,'CCG-Prov(Births)'!$A$2:$A$6150,0)+VALUE(RIGHT(AK$2,1))-1,0),\"\")","v":""},{"$f":"IF(VALUE(MID(AL$2,5,2))<=$V184,OFFSET('CCG-Prov(Births)'!$B$1,MATCH($A184,'CCG-Prov(Births)'!$A$2:$A$6150,0)+VALUE(RIGHT(AL$2,1))-1,0),\"\")","v":""},{"$f":"IF(VALUE(MID(AM$2,5,2))<=$V184,OFFSET('CCG-Prov(Births)'!$B$1,MATCH($A184,'CCG-Prov(Births)'!$A$2:$A$6150,0)+VALUE(RIGHT(AM$2,1))-1,0),\"\")","v":""}]
["05X","Telford & Wrekin",{"$f":"SUM(IF(('CCG-Prov(Acute)'!$A$2:$A$29012=A185),1,0))","v":141},{"$f":"SUM(IF(('CCG-Prov(Acute)'!$A$2:$A$29012=A185)*('CCG-Prov(Acute)'!$C$2:$C$29012>=Acute!$B$7),1,0))","v":2},{"$f":"IF(VALUE(MID(E$2,5,2))<=$D185,OFFSET('CCG-Prov(Acute)'!$B$1,MATCH($A185,'CCG-Prov(Acute)'!$A$2:$A$29012,0)+VALUE(RIGHT(E$2,1))-1,0),\"\")","v":"RXW"},{"$f":"IF(VALUE(MID(F$2,5,2))<=$D185,OFFSET('CCG-Prov(Acute)'!$B$1,MATCH($A185,'CCG-Prov(Acute)'!$A$2:$A$29012,0)+VALUE(RIGHT(F$2,1))-1,0),\"\")","v":"RL1"},{"$f":"IF(VALUE(MID(G$2,5,2))<=$D185,OFFSET('CCG-Prov(Acute)'!$B$1,MATCH($A185,'CCG-Prov(Acute)'!$A$2:$A$29012,0)+VALUE(RIGHT(G$2,1))-1,0),\"\")","v":""},{"$f":"IF(VALUE(MID(H$2,5,2))<=$D185,OFFSET('CCG-Prov(Acute)'!$B$1,MATCH($A185,'CCG-Prov(Acute)'!$A$2:$A$29012,0)+VALUE(RIGHT(H$2,1))-1,0),\"\")","v":""},{"$f":"IF(VALUE(MID(I$2,5,2))<=$D185,OFFSET('CCG-Prov(Acute)'!$B$1,MATCH($A185,'CCG-Prov(Acute)'!$A$2:$A$29012,0)+VALUE(RIGHT(I$2,1))-1,0),\"\")","v":""},{"$f":"IF(VALUE(MID(J$2,5,2))<=$D185,OFFSET('CCG-Prov(Acute)'!$B$1,MATCH($A185,'CCG-Prov(Acute)'!$A$2:$A$29012,0)+VALUE(RIGHT(J$2,1))-1,0),\"\")","v":""},{"$f":"IF(VALUE(MID(K$2,5,2))<=$D185,OFFSET('CCG-Prov(Acute)'!$B$1,MATCH($A185,'CCG-Prov(Acute)'!$A$2:$A$29012,0)+VALUE(RIGHT(K$2,1))-1,0),\"\")","v":""},{"$f":"IF(VALUE(MID(L$2,5,2))<=$D185,OFFSET('CCG-Prov(Acute)'!$B$1,MATCH($A185,'CCG-Prov(Acute)'!$A$2:$A$29012,0)+VALUE(RIGHT(L$2,1))-1,0),\"\")","v":""},{"$f":"IF(VALUE(MID(M$2,5,2))<=$D185,OFFSET('CCG-Prov(Acute)'!$B$1,MATCH($A185,'CCG-Prov(Acute)'!$A$2:$A$29012,0)+VALUE(RIGHT(M$2,1))-1,0),\"\")","v":""},{"$f":"IF(VALUE(MID(N$2,5,2))<=$D185,OFFSET('CCG-Prov(Acute)'!$B$1,MATCH($A185,'CCG-Prov(Acute)'!$A$2:$A$29012,0)+VALUE(RIGHT(N$2,1))-1,0),\"\")","v":""},null,null,"RM4",{"$f":"VLOOKUP(Q185,provnames!$A$2:$B$331,2,0)","v":"Trafford Healthcare NHS Trust"},{"$f":"SUM(IF(('CCG-Prov(Acute)'!$B$2:$B$28899=Q185),1,0))","v":74},null,{"$f":"SUM(IF(('CCG-Prov(Amb)'!$A$2:$A$335=A185),1,0))","v":1},{"$f":"SUM(IF(('CCG-Prov(Amb)'!$A$2:$A$335=A185)*('CCG-Prov(Amb)'!$C$2:$C$335>=Ambulance!$B$7),1,0))","v":1},{"$f":"IF(VALUE(MID(W$2,5,2))<=$V185,OFFSET('CCG-Prov(Amb)'!$B$1,MATCH($A185,'CCG-Prov(Amb)'!$A$2:$A$335,0)+VALUE(RIGHT(W$2,1))-1,0),\"\")","v":"RYA"},{"$f":"IF(VALUE(MID(X$2,5,2))<=$V185,OFFSET('CCG-Prov(Amb)'!$B$1,MATCH($A185,'CCG-Prov(Amb)'!$A$2:$A$335,0)+VALUE(RIGHT(X$2,1))-1,0),\"\")","v":""},{"$f":"IF(VALUE(MID(Y$2,5,2))<=$V185,OFFSET('CCG-Prov(Amb)'!$B$1,MATCH($A185,'CCG-Prov(Amb)'!$A$2:$A$335,0)+VALUE(RIGHT(Y$2,1))-1,0),\"\")","v":""},{"$f":"IF(VALUE(MID(Z$2,5,2))<=$V185,OFFSET('CCG-Prov(Amb)'!$B$1,MATCH($A185,'CCG-Prov(Amb)'!$A$2:$A$335,0)+VALUE(RIGHT(Z$2,1))-1,0),\"\")","v":""},{"$f":"IF(VALUE(MID(AA$2,5,2))<=$V185,OFFSET('CCG-Prov(Amb)'!$B$1,MATCH($A185,'CCG-Prov(Amb)'!$A$2:$A$335,0)+VALUE(RIGHT(AA$2,1))-1,0),\"\")","v":""},null,null,null,null,null,{"$f":"SUM(IF(('CCG-Prov(Births)'!$A$2:$A$6150=A185),1,0))","v":16},{"$f":"SUM(IF(('CCG-Prov(Births)'!$A$2:$A$6150=A185)*('CCG-Prov(Births)'!$C$2:$C$6150>=Maternity!$B$7),1,0))","v":1},{"$f":"IF(VALUE(MID(AI$2,5,2))<=$V185,OFFSET('CCG-Prov(Births)'!$B$1,MATCH($A185,'CCG-Prov(Births)'!$A$2:$A$6150,0)+VALUE(RIGHT(AI$2,1))-1,0),\"\")","v":"RXW"},{"$f":"IF(VALUE(MID(AJ$2,5,2))<=$V185,OFFSET('CCG-Prov(Births)'!$B$1,MATCH($A185,'CCG-Prov(Births)'!$A$2:$A$6150,0)+VALUE(RIGHT(AJ$2,1))-1,0),\"\")","v":""},{"$f":"IF(VALUE(MID(AK$2,5,2))<=$V185,OFFSET('CCG-Prov(Births)'!$B$1,MATCH($A185,'CCG-Prov(Births)'!$A$2:$A$6150,0)+VALUE(RIGHT(AK$2,1))-1,0),\"\")","v":""},{"$f":"IF(VALUE(MID(AL$2,5,2))<=$V185,OFFSET('CCG-Prov(Births)'!$B$1,MATCH($A185,'CCG-Prov(Births)'!$A$2:$A$6150,0)+VALUE(RIGHT(AL$2,1))-1,0),\"\")","v":""},{"$f":"IF(VALUE(MID(AM$2,5,2))<=$V185,OFFSET('CCG-Prov(Births)'!$B$1,MATCH($A185,'CCG-Prov(Births)'!$A$2:$A$6150,0)+VALUE(RIGHT(AM$2,1))-1,0),\"\")","v":""}]
["10E","Thanet",{"$f":"SUM(IF(('CCG-Prov(Acute)'!$A$2:$A$29012=A186),1,0))","v":114},{"$f":"SUM(IF(('CCG-Prov(Acute)'!$A$2:$A$29012=A186)*('CCG-Prov(Acute)'!$C$2:$C$29012>=Acute!$B$7),1,0))","v":2},{"$f":"IF(VALUE(MID(E$2,5,2))<=$D186,OFFSET('CCG-Prov(Acute)'!$B$1,MATCH($A186,'CCG-Prov(Acute)'!$A$2:$A$29012,0)+VALUE(RIGHT(E$2,1))-1,0),\"\")","v":"RVV"},{"$f":"IF(VALUE(MID(F$2,5,2))<=$D186,OFFSET('CCG-Prov(Acute)'!$B$1,MATCH($A186,'CCG-Prov(Acute)'!$A$2:$A$29012,0)+VALUE(RIGHT(F$2,1))-1,0),\"\")","v":"NTY"},{"$f":"IF(VALUE(MID(G$2,5,2))<=$D186,OFFSET('CCG-Prov(Acute)'!$B$1,MATCH($A186,'CCG-Prov(Acute)'!$A$2:$A$29012,0)+VALUE(RIGHT(G$2,1))-1,0),\"\")","v":""},{"$f":"IF(VALUE(MID(H$2,5,2))<=$D186,OFFSET('CCG-Prov(Acute)'!$B$1,MATCH($A186,'CCG-Prov(Acute)'!$A$2:$A$29012,0)+VALUE(RIGHT(H$2,1))-1,0),\"\")","v":""},{"$f":"IF(VALUE(MID(I$2,5,2))<=$D186,OFFSET('CCG-Prov(Acute)'!$B$1,MATCH($A186,'CCG-Prov(Acute)'!$A$2:$A$29012,0)+VALUE(RIGHT(I$2,1))-1,0),\"\")","v":""},{"$f":"IF(VALUE(MID(J$2,5,2))<=$D186,OFFSET('CCG-Prov(Acute)'!$B$1,MATCH($A186,'CCG-Prov(Acute)'!$A$2:$A$29012,0)+VALUE(RIGHT(J$2,1))-1,0),\"\")","v":""},{"$f":"IF(VALUE(MID(K$2,5,2))<=$D186,OFFSET('CCG-Prov(Acute)'!$B$1,MATCH($A186,'CCG-Prov(Acute)'!$A$2:$A$29012,0)+VALUE(RIGHT(K$2,1))-1,0),\"\")","v":""},{"$f":"IF(VALUE(MID(L$2,5,2))<=$D186,OFFSET('CCG-Prov(Acute)'!$B$1,MATCH($A186,'CCG-Prov(Acute)'!$A$2:$A$29012,0)+VALUE(RIGHT(L$2,1))-1,0),\"\")","v":""},{"$f":"IF(VALUE(MID(M$2,5,2))<=$D186,OFFSET('CCG-Prov(Acute)'!$B$1,MATCH($A186,'CCG-Prov(Acute)'!$A$2:$A$29012,0)+VALUE(RIGHT(M$2,1))-1,0),\"\")","v":""},{"$f":"IF(VALUE(MID(N$2,5,2))<=$D186,OFFSET('CCG-Prov(Acute)'!$B$1,MATCH($A186,'CCG-Prov(Acute)'!$A$2:$A$29012,0)+VALUE(RIGHT(N$2,1))-1,0),\"\")","v":""},null,null,"RMC",{"$f":"VLOOKUP(Q186,provnames!$A$2:$B$331,2,0)","v":"Bolton NHS FT"},{"$f":"SUM(IF(('CCG-Prov(Acute)'!$B$2:$B$28899=Q186),1,0))","v":141},null,{"$f":"SUM(IF(('CCG-Prov(Amb)'!$A$2:$A$335=A186),1,0))","v":1},{"$f":"SUM(IF(('CCG-Prov(Amb)'!$A$2:$A$335=A186)*('CCG-Prov(Amb)'!$C$2:$C$335>=Ambulance!$B$7),1,0))","v":1},{"$f":"IF(VALUE(MID(W$2,5,2))<=$V186,OFFSET('CCG-Prov(Amb)'!$B$1,MATCH($A186,'CCG-Prov(Amb)'!$A$2:$A$335,0)+VALUE(RIGHT(W$2,1))-1,0),\"\")","v":"RYD"},{"$f":"IF(VALUE(MID(X$2,5,2))<=$V186,OFFSET('CCG-Prov(Amb)'!$B$1,MATCH($A186,'CCG-Prov(Amb)'!$A$2:$A$335,0)+VALUE(RIGHT(X$2,1))-1,0),\"\")","v":""},{"$f":"IF(VALUE(MID(Y$2,5,2))<=$V186,OFFSET('CCG-Prov(Amb)'!$B$1,MATCH($A186,'CCG-Prov(Amb)'!$A$2:$A$335,0)+VALUE(RIGHT(Y$2,1))-1,0),\"\")","v":""},{"$f":"IF(VALUE(MID(Z$2,5,2))<=$V186,OFFSET('CCG-Prov(Amb)'!$B$1,MATCH($A186,'CCG-Prov(Amb)'!$A$2:$A$335,0)+VALUE(RIGHT(Z$2,1))-1,0),\"\")","v":""},{"$f":"IF(VALUE(MID(AA$2,5,2))<=$V186,OFFSET('CCG-Prov(Amb)'!$B$1,MATCH($A186,'CCG-Prov(Amb)'!$A$2:$A$335,0)+VALUE(RIGHT(AA$2,1))-1,0),\"\")","v":""},null,null,null,null,null,{"$f":"SUM(IF(('CCG-Prov(Births)'!$A$2:$A$6150=A186),1,0))","v":13},{"$f":"SUM(IF(('CCG-Prov(Births)'!$A$2:$A$6150=A186)*('CCG-Prov(Births)'!$C$2:$C$6150>=Maternity!$B$7),1,0))","v":1},{"$f":"IF(VALUE(MID(AI$2,5,2))<=$V186,OFFSET('CCG-Prov(Births)'!$B$1,MATCH($A186,'CCG-Prov(Births)'!$A$2:$A$6150,0)+VALUE(RIGHT(AI$2,1))-1,0),\"\")","v":"RVV"},{"$f":"IF(VALUE(MID(AJ$2,5,2))<=$V186,OFFSET('CCG-Prov(Births)'!$B$1,MATCH($A186,'CCG-Prov(Births)'!$A$2:$A$6150,0)+VALUE(RIGHT(AJ$2,1))-1,0),\"\")","v":""},{"$f":"IF(VALUE(MID(AK$2,5,2))<=$V186,OFFSET('CCG-Prov(Births)'!$B$1,MATCH($A186,'CCG-Prov(Births)'!$A$2:$A$6150,0)+VALUE(RIGHT(AK$2,1))-1,0),\"\")","v":""},{"$f":"IF(VALUE(MID(AL$2,5,2))<=$V186,OFFSET('CCG-Prov(Births)'!$B$1,MATCH($A186,'CCG-Prov(Births)'!$A$2:$A$6150,0)+VALUE(RIGHT(AL$2,1))-1,0),\"\")","v":""},{"$f":"IF(VALUE(MID(AM$2,5,2))<=$V186,OFFSET('CCG-Prov(Births)'!$B$1,MATCH($A186,'CCG-Prov(Births)'!$A$2:$A$6150,0)+VALUE(RIGHT(AM$2,1))-1,0),\"\")","v":""}]
["07G","Thurrock",{"$f":"SUM(IF(('CCG-Prov(Acute)'!$A$2:$A$29012=A187),1,0))","v":118},{"$f":"SUM(IF(('CCG-Prov(Acute)'!$A$2:$A$29012=A187)*('CCG-Prov(Acute)'!$C$2:$C$29012>=Acute!$B$7),1,0))","v":6},{"$f":"IF(VALUE(MID(E$2,5,2))<=$D187,OFFSET('CCG-Prov(Acute)'!$B$1,MATCH($A187,'CCG-Prov(Acute)'!$A$2:$A$29012,0)+VALUE(RIGHT(E$2,1))-1,0),\"\")","v":"RDD"},{"$f":"IF(VALUE(MID(F$2,5,2))<=$D187,OFFSET('CCG-Prov(Acute)'!$B$1,MATCH($A187,'CCG-Prov(Acute)'!$A$2:$A$29012,0)+VALUE(RIGHT(F$2,1))-1,0),\"\")","v":"RAJ"},{"$f":"IF(VALUE(MID(G$2,5,2))<=$D187,OFFSET('CCG-Prov(Acute)'!$B$1,MATCH($A187,'CCG-Prov(Acute)'!$A$2:$A$29012,0)+VALUE(RIGHT(G$2,1))-1,0),\"\")","v":"RQ8"},{"$f":"IF(VALUE(MID(H$2,5,2))<=$D187,OFFSET('CCG-Prov(Acute)'!$B$1,MATCH($A187,'CCG-Prov(Acute)'!$A$2:$A$29012,0)+VALUE(RIGHT(H$2,1))-1,0),\"\")","v":"RF4"},{"$f":"IF(VALUE(MID(I$2,5,2))<=$D187,OFFSET('CCG-Prov(Acute)'!$B$1,MATCH($A187,'CCG-Prov(Acute)'!$A$2:$A$29012,0)+VALUE(RIGHT(I$2,1))-1,0),\"\")","v":"RN7"},{"$f":"IF(VALUE(MID(J$2,5,2))<=$D187,OFFSET('CCG-Prov(Acute)'!$B$1,MATCH($A187,'CCG-Prov(Acute)'!$A$2:$A$29012,0)+VALUE(RIGHT(J$2,1))-1,0),\"\")","v":"RNJ"},{"$f":"IF(VALUE(MID(K$2,5,2))<=$D187,OFFSET('CCG-Prov(Acute)'!$B$1,MATCH($A187,'CCG-Prov(Acute)'!$A$2:$A$29012,0)+VALUE(RIGHT(K$2,1))-1,0),\"\")","v":""},{"$f":"IF(VALUE(MID(L$2,5,2))<=$D187,OFFSET('CCG-Prov(Acute)'!$B$1,MATCH($A187,'CCG-Prov(Acute)'!$A$2:$A$29012,0)+VALUE(RIGHT(L$2,1))-1,0),\"\")","v":""},{"$f":"IF(VALUE(MID(M$2,5,2))<=$D187,OFFSET('CCG-Prov(Acute)'!$B$1,MATCH($A187,'CCG-Prov(Acute)'!$A$2:$A$29012,0)+VALUE(RIGHT(M$2,1))-1,0),\"\")","v":""},{"$f":"IF(VALUE(MID(N$2,5,2))<=$D187,OFFSET('CCG-Prov(Acute)'!$B$1,MATCH($A187,'CCG-Prov(Acute)'!$A$2:$A$29012,0)+VALUE(RIGHT(N$2,1))-1,0),\"\")","v":""},null,null,"RMP",{"$f":"VLOOKUP(Q187,provnames!$A$2:$B$331,2,0)","v":"Tameside Hospital NHS FT"},{"$f":"SUM(IF(('CCG-Prov(Acute)'!$B$2:$B$28899=Q187),1,0))","v":95},null,{"$f":"SUM(IF(('CCG-Prov(Amb)'!$A$2:$A$335=A187),1,0))","v":2},{"$f":"SUM(IF(('CCG-Prov(Amb)'!$A$2:$A$335=A187)*('CCG-Prov(Amb)'!$C$2:$C$335>=Ambulance!$B$7),1,0))","v":1},{"$f":"IF(VALUE(MID(W$2,5,2))<=$V187,OFFSET('CCG-Prov(Amb)'!$B$1,MATCH($A187,'CCG-Prov(Amb)'!$A$2:$A$335,0)+VALUE(RIGHT(W$2,1))-1,0),\"\")","v":"RYC"},{"$f":"IF(VALUE(MID(X$2,5,2))<=$V187,OFFSET('CCG-Prov(Amb)'!$B$1,MATCH($A187,'CCG-Prov(Amb)'!$A$2:$A$335,0)+VALUE(RIGHT(X$2,1))-1,0),\"\")","v":""},{"$f":"IF(VALUE(MID(Y$2,5,2))<=$V187,OFFSET('CCG-Prov(Amb)'!$B$1,MATCH($A187,'CCG-Prov(Amb)'!$A$2:$A$335,0)+VALUE(RIGHT(Y$2,1))-1,0),\"\")","v":""},{"$f":"IF(VALUE(MID(Z$2,5,2))<=$V187,OFFSET('CCG-Prov(Amb)'!$B$1,MATCH($A187,'CCG-Prov(Amb)'!$A$2:$A$335,0)+VALUE(RIGHT(Z$2,1))-1,0),\"\")","v":""},{"$f":"IF(VALUE(MID(AA$2,5,2))<=$V187,OFFSET('CCG-Prov(Amb)'!$B$1,MATCH($A187,'CCG-Prov(Amb)'!$A$2:$A$335,0)+VALUE(RIGHT(AA$2,1))-1,0),\"\")","v":""},null,null,null,null,null,{"$f":"SUM(IF(('CCG-Prov(Births)'!$A$2:$A$6150=A187),1,0))","v":32},{"$f":"SUM(IF(('CCG-Prov(Births)'!$A$2:$A$6150=A187)*('CCG-Prov(Births)'!$C$2:$C$6150>=Maternity!$B$7),1,0))","v":3},{"$f":"IF(VALUE(MID(AI$2,5,2))<=$V187,OFFSET('CCG-Prov(Births)'!$B$1,MATCH($A187,'CCG-Prov(Births)'!$A$2:$A$6150,0)+VALUE(RIGHT(AI$2,1))-1,0),\"\")","v":"RDD"},{"$f":"IF(VALUE(MID(AJ$2,5,2))<=$V187,OFFSET('CCG-Prov(Births)'!$B$1,MATCH($A187,'CCG-Prov(Births)'!$A$2:$A$6150,0)+VALUE(RIGHT(AJ$2,1))-1,0),\"\")","v":""},{"$f":"IF(VALUE(MID(AK$2,5,2))<=$V187,OFFSET('CCG-Prov(Births)'!$B$1,MATCH($A187,'CCG-Prov(Births)'!$A$2:$A$6150,0)+VALUE(RIGHT(AK$2,1))-1,0),\"\")","v":""},{"$f":"IF(VALUE(MID(AL$2,5,2))<=$V187,OFFSET('CCG-Prov(Births)'!$B$1,MATCH($A187,'CCG-Prov(Births)'!$A$2:$A$6150,0)+VALUE(RIGHT(AL$2,1))-1,0),\"\")","v":""},{"$f":"IF(VALUE(MID(AM$2,5,2))<=$V187,OFFSET('CCG-Prov(Births)'!$B$1,MATCH($A187,'CCG-Prov(Births)'!$A$2:$A$6150,0)+VALUE(RIGHT(AM$2,1))-1,0),\"\")","v":""}]
["08V","Tower Hamlets",{"$f":"SUM(IF(('CCG-Prov(Acute)'!$A$2:$A$29012=A188),1,0))","v":138},{"$f":"SUM(IF(('CCG-Prov(Acute)'!$A$2:$A$29012=A188)*('CCG-Prov(Acute)'!$C$2:$C$29012>=Acute!$B$7),1,0))","v":5},{"$f":"IF(VALUE(MID(E$2,5,2))<=$D188,OFFSET('CCG-Prov(Acute)'!$B$1,MATCH($A188,'CCG-Prov(Acute)'!$A$2:$A$29012,0)+VALUE(RIGHT(E$2,1))-1,0),\"\")","v":"RNJ"},{"$f":"IF(VALUE(MID(F$2,5,2))<=$D188,OFFSET('CCG-Prov(Acute)'!$B$1,MATCH($A188,'CCG-Prov(Acute)'!$A$2:$A$29012,0)+VALUE(RIGHT(F$2,1))-1,0),\"\")","v":"5C4"},{"$f":"IF(VALUE(MID(G$2,5,2))<=$D188,OFFSET('CCG-Prov(Acute)'!$B$1,MATCH($A188,'CCG-Prov(Acute)'!$A$2:$A$29012,0)+VALUE(RIGHT(G$2,1))-1,0),\"\")","v":"RP6"},{"$f":"IF(VALUE(MID(H$2,5,2))<=$D188,OFFSET('CCG-Prov(Acute)'!$B$1,MATCH($A188,'CCG-Prov(Acute)'!$A$2:$A$29012,0)+VALUE(RIGHT(H$2,1))-1,0),\"\")","v":"RQX"},{"$f":"IF(VALUE(MID(I$2,5,2))<=$D188,OFFSET('CCG-Prov(Acute)'!$B$1,MATCH($A188,'CCG-Prov(Acute)'!$A$2:$A$29012,0)+VALUE(RIGHT(I$2,1))-1,0),\"\")","v":"RRV"},{"$f":"IF(VALUE(MID(J$2,5,2))<=$D188,OFFSET('CCG-Prov(Acute)'!$B$1,MATCH($A188,'CCG-Prov(Acute)'!$A$2:$A$29012,0)+VALUE(RIGHT(J$2,1))-1,0),\"\")","v":""},{"$f":"IF(VALUE(MID(K$2,5,2))<=$D188,OFFSET('CCG-Prov(Acute)'!$B$1,MATCH($A188,'CCG-Prov(Acute)'!$A$2:$A$29012,0)+VALUE(RIGHT(K$2,1))-1,0),\"\")","v":""},{"$f":"IF(VALUE(MID(L$2,5,2))<=$D188,OFFSET('CCG-Prov(Acute)'!$B$1,MATCH($A188,'CCG-Prov(Acute)'!$A$2:$A$29012,0)+VALUE(RIGHT(L$2,1))-1,0),\"\")","v":""},{"$f":"IF(VALUE(MID(M$2,5,2))<=$D188,OFFSET('CCG-Prov(Acute)'!$B$1,MATCH($A188,'CCG-Prov(Acute)'!$A$2:$A$29012,0)+VALUE(RIGHT(M$2,1))-1,0),\"\")","v":""},{"$f":"IF(VALUE(MID(N$2,5,2))<=$D188,OFFSET('CCG-Prov(Acute)'!$B$1,MATCH($A188,'CCG-Prov(Acute)'!$A$2:$A$29012,0)+VALUE(RIGHT(N$2,1))-1,0),\"\")","v":""},null,null,"RN1",{"$f":"VLOOKUP(Q188,provnames!$A$2:$B$331,2,0)","v":"Winchester & Eastleigh Healthcare NHS Trust"},{"$f":"SUM(IF(('CCG-Prov(Acute)'!$B$2:$B$28899=Q188),1,0))","v":126},null,{"$f":"SUM(IF(('CCG-Prov(Amb)'!$A$2:$A$335=A188),1,0))","v":1},{"$f":"SUM(IF(('CCG-Prov(Amb)'!$A$2:$A$335=A188)*('CCG-Prov(Amb)'!$C$2:$C$335>=Ambulance!$B$7),1,0))","v":1},{"$f":"IF(VALUE(MID(W$2,5,2))<=$V188,OFFSET('CCG-Prov(Amb)'!$B$1,MATCH($A188,'CCG-Prov(Amb)'!$A$2:$A$335,0)+VALUE(RIGHT(W$2,1))-1,0),\"\")","v":"RRY"},{"$f":"IF(VALUE(MID(X$2,5,2))<=$V188,OFFSET('CCG-Prov(Amb)'!$B$1,MATCH($A188,'CCG-Prov(Amb)'!$A$2:$A$335,0)+VALUE(RIGHT(X$2,1))-1,0),\"\")","v":""},{"$f":"IF(VALUE(MID(Y$2,5,2))<=$V188,OFFSET('CCG-Prov(Amb)'!$B$1,MATCH($A188,'CCG-Prov(Amb)'!$A$2:$A$335,0)+VALUE(RIGHT(Y$2,1))-1,0),\"\")","v":""},{"$f":"IF(VALUE(MID(Z$2,5,2))<=$V188,OFFSET('CCG-Prov(Amb)'!$B$1,MATCH($A188,'CCG-Prov(Amb)'!$A$2:$A$335,0)+VALUE(RIGHT(Z$2,1))-1,0),\"\")","v":""},{"$f":"IF(VALUE(MID(AA$2,5,2))<=$V188,OFFSET('CCG-Prov(Amb)'!$B$1,MATCH($A188,'CCG-Prov(Amb)'!$A$2:$A$335,0)+VALUE(RIGHT(AA$2,1))-1,0),\"\")","v":""},null,null,null,null,null,{"$f":"SUM(IF(('CCG-Prov(Births)'!$A$2:$A$6150=A188),1,0))","v":42},{"$f":"SUM(IF(('CCG-Prov(Births)'!$A$2:$A$6150=A188)*('CCG-Prov(Births)'!$C$2:$C$6150>=Maternity!$B$7),1,0))","v":4},{"$f":"IF(VALUE(MID(AI$2,5,2))<=$V188,OFFSET('CCG-Prov(Births)'!$B$1,MATCH($A188,'CCG-Prov(Births)'!$A$2:$A$6150,0)+VALUE(RIGHT(AI$2,1))-1,0),\"\")","v":"RNJ"},{"$f":"IF(VALUE(MID(AJ$2,5,2))<=$V188,OFFSET('CCG-Prov(Births)'!$B$1,MATCH($A188,'CCG-Prov(Births)'!$A$2:$A$6150,0)+VALUE(RIGHT(AJ$2,1))-1,0),\"\")","v":""},{"$f":"IF(VALUE(MID(AK$2,5,2))<=$V188,OFFSET('CCG-Prov(Births)'!$B$1,MATCH($A188,'CCG-Prov(Births)'!$A$2:$A$6150,0)+VALUE(RIGHT(AK$2,1))-1,0),\"\")","v":""},{"$f":"IF(VALUE(MID(AL$2,5,2))<=$V188,OFFSET('CCG-Prov(Births)'!$B$1,MATCH($A188,'CCG-Prov(Births)'!$A$2:$A$6150,0)+VALUE(RIGHT(AL$2,1))-1,0),\"\")","v":""},{"$f":"IF(VALUE(MID(AM$2,5,2))<=$V188,OFFSET('CCG-Prov(Births)'!$B$1,MATCH($A188,'CCG-Prov(Births)'!$A$2:$A$6150,0)+VALUE(RIGHT(AM$2,1))-1,0),\"\")","v":""}]
["02A","Trafford",{"$f":"SUM(IF(('CCG-Prov(Acute)'!$A$2:$A$29012=A189),1,0))","v":133},{"$f":"SUM(IF(('CCG-Prov(Acute)'!$A$2:$A$29012=A189)*('CCG-Prov(Acute)'!$C$2:$C$29012>=Acute!$B$7),1,0))","v":5},{"$f":"IF(VALUE(MID(E$2,5,2))<=$D189,OFFSET('CCG-Prov(Acute)'!$B$1,MATCH($A189,'CCG-Prov(Acute)'!$A$2:$A$29012,0)+VALUE(RIGHT(E$2,1))-1,0),\"\")","v":"RM2"},{"$f":"IF(VALUE(MID(F$2,5,2))<=$D189,OFFSET('CCG-Prov(Acute)'!$B$1,MATCH($A189,'CCG-Prov(Acute)'!$A$2:$A$29012,0)+VALUE(RIGHT(F$2,1))-1,0),\"\")","v":"RM4"},{"$f":"IF(VALUE(MID(G$2,5,2))<=$D189,OFFSET('CCG-Prov(Acute)'!$B$1,MATCH($A189,'CCG-Prov(Acute)'!$A$2:$A$29012,0)+VALUE(RIGHT(G$2,1))-1,0),\"\")","v":"RW3"},{"$f":"IF(VALUE(MID(H$2,5,2))<=$D189,OFFSET('CCG-Prov(Acute)'!$B$1,MATCH($A189,'CCG-Prov(Acute)'!$A$2:$A$29012,0)+VALUE(RIGHT(H$2,1))-1,0),\"\")","v":"RM3"},{"$f":"IF(VALUE(MID(I$2,5,2))<=$D189,OFFSET('CCG-Prov(Acute)'!$B$1,MATCH($A189,'CCG-Prov(Acute)'!$A$2:$A$29012,0)+VALUE(RIGHT(I$2,1))-1,0),\"\")","v":"RBV"},{"$f":"IF(VALUE(MID(J$2,5,2))<=$D189,OFFSET('CCG-Prov(Acute)'!$B$1,MATCH($A189,'CCG-Prov(Acute)'!$A$2:$A$29012,0)+VALUE(RIGHT(J$2,1))-1,0),\"\")","v":""},{"$f":"IF(VALUE(MID(K$2,5,2))<=$D189,OFFSET('CCG-Prov(Acute)'!$B$1,MATCH($A189,'CCG-Prov(Acute)'!$A$2:$A$29012,0)+VALUE(RIGHT(K$2,1))-1,0),\"\")","v":""},{"$f":"IF(VALUE(MID(L$2,5,2))<=$D189,OFFSET('CCG-Prov(Acute)'!$B$1,MATCH($A189,'CCG-Prov(Acute)'!$A$2:$A$29012,0)+VALUE(RIGHT(L$2,1))-1,0),\"\")","v":""},{"$f":"IF(VALUE(MID(M$2,5,2))<=$D189,OFFSET('CCG-Prov(Acute)'!$B$1,MATCH($A189,'CCG-Prov(Acute)'!$A$2:$A$29012,0)+VALUE(RIGHT(M$2,1))-1,0),\"\")","v":""},{"$f":"IF(VALUE(MID(N$2,5,2))<=$D189,OFFSET('CCG-Prov(Acute)'!$B$1,MATCH($A189,'CCG-Prov(Acute)'!$A$2:$A$29012,0)+VALUE(RIGHT(N$2,1))-1,0),\"\")","v":""},null,null,"RN3",{"$f":"VLOOKUP(Q189,provnames!$A$2:$B$331,2,0)","v":"Great Western Hospitals NHS FT"},{"$f":"SUM(IF(('CCG-Prov(Acute)'!$B$2:$B$28899=Q189),1,0))","v":148},null,{"$f":"SUM(IF(('CCG-Prov(Amb)'!$A$2:$A$335=A189),1,0))","v":1},{"$f":"SUM(IF(('CCG-Prov(Amb)'!$A$2:$A$335=A189)*('CCG-Prov(Amb)'!$C$2:$C$335>=Ambulance!$B$7),1,0))","v":1},{"$f":"IF(VALUE(MID(W$2,5,2))<=$V189,OFFSET('CCG-Prov(Amb)'!$B$1,MATCH($A189,'CCG-Prov(Amb)'!$A$2:$A$335,0)+VALUE(RIGHT(W$2,1))-1,0),\"\")","v":"RX7"},{"$f":"IF(VALUE(MID(X$2,5,2))<=$V189,OFFSET('CCG-Prov(Amb)'!$B$1,MATCH($A189,'CCG-Prov(Amb)'!$A$2:$A$335,0)+VALUE(RIGHT(X$2,1))-1,0),\"\")","v":""},{"$f":"IF(VALUE(MID(Y$2,5,2))<=$V189,OFFSET('CCG-Prov(Amb)'!$B$1,MATCH($A189,'CCG-Prov(Amb)'!$A$2:$A$335,0)+VALUE(RIGHT(Y$2,1))-1,0),\"\")","v":""},{"$f":"IF(VALUE(MID(Z$2,5,2))<=$V189,OFFSET('CCG-Prov(Amb)'!$B$1,MATCH($A189,'CCG-Prov(Amb)'!$A$2:$A$335,0)+VALUE(RIGHT(Z$2,1))-1,0),\"\")","v":""},{"$f":"IF(VALUE(MID(AA$2,5,2))<=$V189,OFFSET('CCG-Prov(Amb)'!$B$1,MATCH($A189,'CCG-Prov(Amb)'!$A$2:$A$335,0)+VALUE(RIGHT(AA$2,1))-1,0),\"\")","v":""},null,null,null,null,null,{"$f":"SUM(IF(('CCG-Prov(Births)'!$A$2:$A$6150=A189),1,0))","v":27},{"$f":"SUM(IF(('CCG-Prov(Births)'!$A$2:$A$6150=A189)*('CCG-Prov(Births)'!$C$2:$C$6150>=Maternity!$B$7),1,0))","v":3},{"$f":"IF(VALUE(MID(AI$2,5,2))<=$V189,OFFSET('CCG-Prov(Births)'!$B$1,MATCH($A189,'CCG-Prov(Births)'!$A$2:$A$6150,0)+VALUE(RIGHT(AI$2,1))-1,0),\"\")","v":"RM2"},{"$f":"IF(VALUE(MID(AJ$2,5,2))<=$V189,OFFSET('CCG-Prov(Births)'!$B$1,MATCH($A189,'CCG-Prov(Births)'!$A$2:$A$6150,0)+VALUE(RIGHT(AJ$2,1))-1,0),\"\")","v":""},{"$f":"IF(VALUE(MID(AK$2,5,2))<=$V189,OFFSET('CCG-Prov(Births)'!$B$1,MATCH($A189,'CCG-Prov(Births)'!$A$2:$A$6150,0)+VALUE(RIGHT(AK$2,1))-1,0),\"\")","v":""},{"$f":"IF(VALUE(MID(AL$2,5,2))<=$V189,OFFSET('CCG-Prov(Births)'!$B$1,MATCH($A189,'CCG-Prov(Births)'!$A$2:$A$6150,0)+VALUE(RIGHT(AL$2,1))-1,0),\"\")","v":""},{"$f":"IF(VALUE(MID(AM$2,5,2))<=$V189,OFFSET('CCG-Prov(Births)'!$B$1,MATCH($A189,'CCG-Prov(Births)'!$A$2:$A$6150,0)+VALUE(RIGHT(AM$2,1))-1,0),\"\")","v":""}]
["03Q","Vale of York",{"$f":"SUM(IF(('CCG-Prov(Acute)'!$A$2:$A$29012=A190),1,0))","v":157},{"$f":"SUM(IF(('CCG-Prov(Acute)'!$A$2:$A$29012=A190)*('CCG-Prov(Acute)'!$C$2:$C$29012>=Acute!$B$7),1,0))","v":7},{"$f":"IF(VALUE(MID(E$2,5,2))<=$D190,OFFSET('CCG-Prov(Acute)'!$B$1,MATCH($A190,'CCG-Prov(Acute)'!$A$2:$A$29012,0)+VALUE(RIGHT(E$2,1))-1,0),\"\")","v":"RCB"},{"$f":"IF(VALUE(MID(F$2,5,2))<=$D190,OFFSET('CCG-Prov(Acute)'!$B$1,MATCH($A190,'CCG-Prov(Acute)'!$A$2:$A$29012,0)+VALUE(RIGHT(F$2,1))-1,0),\"\")","v":"RR8"},{"$f":"IF(VALUE(MID(G$2,5,2))<=$D190,OFFSET('CCG-Prov(Acute)'!$B$1,MATCH($A190,'CCG-Prov(Acute)'!$A$2:$A$29012,0)+VALUE(RIGHT(G$2,1))-1,0),\"\")","v":"NVC"},{"$f":"IF(VALUE(MID(H$2,5,2))<=$D190,OFFSET('CCG-Prov(Acute)'!$B$1,MATCH($A190,'CCG-Prov(Acute)'!$A$2:$A$29012,0)+VALUE(RIGHT(H$2,1))-1,0),\"\")","v":"RCC"},{"$f":"IF(VALUE(MID(I$2,5,2))<=$D190,OFFSET('CCG-Prov(Acute)'!$B$1,MATCH($A190,'CCG-Prov(Acute)'!$A$2:$A$29012,0)+VALUE(RIGHT(I$2,1))-1,0),\"\")","v":"5NV"},{"$f":"IF(VALUE(MID(J$2,5,2))<=$D190,OFFSET('CCG-Prov(Acute)'!$B$1,MATCH($A190,'CCG-Prov(Acute)'!$A$2:$A$29012,0)+VALUE(RIGHT(J$2,1))-1,0),\"\")","v":"RXF"},{"$f":"IF(VALUE(MID(K$2,5,2))<=$D190,OFFSET('CCG-Prov(Acute)'!$B$1,MATCH($A190,'CCG-Prov(Acute)'!$A$2:$A$29012,0)+VALUE(RIGHT(K$2,1))-1,0),\"\")","v":"RWA"},{"$f":"IF(VALUE(MID(L$2,5,2))<=$D190,OFFSET('CCG-Prov(Acute)'!$B$1,MATCH($A190,'CCG-Prov(Acute)'!$A$2:$A$29012,0)+VALUE(RIGHT(L$2,1))-1,0),\"\")","v":""},{"$f":"IF(VALUE(MID(M$2,5,2))<=$D190,OFFSET('CCG-Prov(Acute)'!$B$1,MATCH($A190,'CCG-Prov(Acute)'!$A$2:$A$29012,0)+VALUE(RIGHT(M$2,1))-1,0),\"\")","v":""},{"$f":"IF(VALUE(MID(N$2,5,2))<=$D190,OFFSET('CCG-Prov(Acute)'!$B$1,MATCH($A190,'CCG-Prov(Acute)'!$A$2:$A$29012,0)+VALUE(RIGHT(N$2,1))-1,0),\"\")","v":""},null,null,"RN5",{"$f":"VLOOKUP(Q190,provnames!$A$2:$B$331,2,0)","v":"Basingstoke & North Hampshire NHS FT"},{"$f":"SUM(IF(('CCG-Prov(Acute)'!$B$2:$B$28899=Q190),1,0))","v":165},null,{"$f":"SUM(IF(('CCG-Prov(Amb)'!$A$2:$A$335=A190),1,0))","v":1},{"$f":"SUM(IF(('CCG-Prov(Amb)'!$A$2:$A$335=A190)*('CCG-Prov(Amb)'!$C$2:$C$335>=Ambulance!$B$7),1,0))","v":1},{"$f":"IF(VALUE(MID(W$2,5,2))<=$V190,OFFSET('CCG-Prov(Amb)'!$B$1,MATCH($A190,'CCG-Prov(Amb)'!$A$2:$A$335,0)+VALUE(RIGHT(W$2,1))-1,0),\"\")","v":"RX8"},{"$f":"IF(VALUE(MID(X$2,5,2))<=$V190,OFFSET('CCG-Prov(Amb)'!$B$1,MATCH($A190,'CCG-Prov(Amb)'!$A$2:$A$335,0)+VALUE(RIGHT(X$2,1))-1,0),\"\")","v":""},{"$f":"IF(VALUE(MID(Y$2,5,2))<=$V190,OFFSET('CCG-Prov(Amb)'!$B$1,MATCH($A190,'CCG-Prov(Amb)'!$A$2:$A$335,0)+VALUE(RIGHT(Y$2,1))-1,0),\"\")","v":""},{"$f":"IF(VALUE(MID(Z$2,5,2))<=$V190,OFFSET('CCG-Prov(Amb)'!$B$1,MATCH($A190,'CCG-Prov(Amb)'!$A$2:$A$335,0)+VALUE(RIGHT(Z$2,1))-1,0),\"\")","v":""},{"$f":"IF(VALUE(MID(AA$2,5,2))<=$V190,OFFSET('CCG-Prov(Amb)'!$B$1,MATCH($A190,'CCG-Prov(Amb)'!$A$2:$A$335,0)+VALUE(RIGHT(AA$2,1))-1,0),\"\")","v":""},null,null,null,null,null,{"$f":"SUM(IF(('CCG-Prov(Births)'!$A$2:$A$6150=A190),1,0))","v":24},{"$f":"SUM(IF(('CCG-Prov(Births)'!$A$2:$A$6150=A190)*('CCG-Prov(Births)'!$C$2:$C$6150>=Maternity!$B$7),1,0))","v":3},{"$f":"IF(VALUE(MID(AI$2,5,2))<=$V190,OFFSET('CCG-Prov(Births)'!$B$1,MATCH($A190,'CCG-Prov(Births)'!$A$2:$A$6150,0)+VALUE(RIGHT(AI$2,1))-1,0),\"\")","v":"RCB"},{"$f":"IF(VALUE(MID(AJ$2,5,2))<=$V190,OFFSET('CCG-Prov(Births)'!$B$1,MATCH($A190,'CCG-Prov(Births)'!$A$2:$A$6150,0)+VALUE(RIGHT(AJ$2,1))-1,0),\"\")","v":""},{"$f":"IF(VALUE(MID(AK$2,5,2))<=$V190,OFFSET('CCG-Prov(Births)'!$B$1,MATCH($A190,'CCG-Prov(Births)'!$A$2:$A$6150,0)+VALUE(RIGHT(AK$2,1))-1,0),\"\")","v":""},{"$f":"IF(VALUE(MID(AL$2,5,2))<=$V190,OFFSET('CCG-Prov(Births)'!$B$1,MATCH($A190,'CCG-Prov(Births)'!$A$2:$A$6150,0)+VALUE(RIGHT(AL$2,1))-1,0),\"\")","v":""},{"$f":"IF(VALUE(MID(AM$2,5,2))<=$V190,OFFSET('CCG-Prov(Births)'!$B$1,MATCH($A190,'CCG-Prov(Births)'!$A$2:$A$6150,0)+VALUE(RIGHT(AM$2,1))-1,0),\"\")","v":""}]
["02D","Vale Royal",{"$f":"SUM(IF(('CCG-Prov(Acute)'!$A$2:$A$29012=A191),1,0))","v":102},{"$f":"SUM(IF(('CCG-Prov(Acute)'!$A$2:$A$29012=A191)*('CCG-Prov(Acute)'!$C$2:$C$29012>=Acute!$B$7),1,0))","v":5},{"$f":"IF(VALUE(MID(E$2,5,2))<=$D191,OFFSET('CCG-Prov(Acute)'!$B$1,MATCH($A191,'CCG-Prov(Acute)'!$A$2:$A$29012,0)+VALUE(RIGHT(E$2,1))-1,0),\"\")","v":"RBT"},{"$f":"IF(VALUE(MID(F$2,5,2))<=$D191,OFFSET('CCG-Prov(Acute)'!$B$1,MATCH($A191,'CCG-Prov(Acute)'!$A$2:$A$29012,0)+VALUE(RIGHT(F$2,1))-1,0),\"\")","v":"RWW"},{"$f":"IF(VALUE(MID(G$2,5,2))<=$D191,OFFSET('CCG-Prov(Acute)'!$B$1,MATCH($A191,'CCG-Prov(Acute)'!$A$2:$A$29012,0)+VALUE(RIGHT(G$2,1))-1,0),\"\")","v":"RJR"},{"$f":"IF(VALUE(MID(H$2,5,2))<=$D191,OFFSET('CCG-Prov(Acute)'!$B$1,MATCH($A191,'CCG-Prov(Acute)'!$A$2:$A$29012,0)+VALUE(RIGHT(H$2,1))-1,0),\"\")","v":"NTD"},{"$f":"IF(VALUE(MID(I$2,5,2))<=$D191,OFFSET('CCG-Prov(Acute)'!$B$1,MATCH($A191,'CCG-Prov(Acute)'!$A$2:$A$29012,0)+VALUE(RIGHT(I$2,1))-1,0),\"\")","v":"RJE"},{"$f":"IF(VALUE(MID(J$2,5,2))<=$D191,OFFSET('CCG-Prov(Acute)'!$B$1,MATCH($A191,'CCG-Prov(Acute)'!$A$2:$A$29012,0)+VALUE(RIGHT(J$2,1))-1,0),\"\")","v":""},{"$f":"IF(VALUE(MID(K$2,5,2))<=$D191,OFFSET('CCG-Prov(Acute)'!$B$1,MATCH($A191,'CCG-Prov(Acute)'!$A$2:$A$29012,0)+VALUE(RIGHT(K$2,1))-1,0),\"\")","v":""},{"$f":"IF(VALUE(MID(L$2,5,2))<=$D191,OFFSET('CCG-Prov(Acute)'!$B$1,MATCH($A191,'CCG-Prov(Acute)'!$A$2:$A$29012,0)+VALUE(RIGHT(L$2,1))-1,0),\"\")","v":""},{"$f":"IF(VALUE(MID(M$2,5,2))<=$D191,OFFSET('CCG-Prov(Acute)'!$B$1,MATCH($A191,'CCG-Prov(Acute)'!$A$2:$A$29012,0)+VALUE(RIGHT(M$2,1))-1,0),\"\")","v":""},{"$f":"IF(VALUE(MID(N$2,5,2))<=$D191,OFFSET('CCG-Prov(Acute)'!$B$1,MATCH($A191,'CCG-Prov(Acute)'!$A$2:$A$29012,0)+VALUE(RIGHT(N$2,1))-1,0),\"\")","v":""},null,null,"RN7",{"$f":"VLOOKUP(Q191,provnames!$A$2:$B$331,2,0)","v":"Dartford & Gravesham NHS Trust"},{"$f":"SUM(IF(('CCG-Prov(Acute)'!$B$2:$B$28899=Q191),1,0))","v":138},null,{"$f":"SUM(IF(('CCG-Prov(Amb)'!$A$2:$A$335=A191),1,0))","v":1},{"$f":"SUM(IF(('CCG-Prov(Amb)'!$A$2:$A$335=A191)*('CCG-Prov(Amb)'!$C$2:$C$335>=Ambulance!$B$7),1,0))","v":1},{"$f":"IF(VALUE(MID(W$2,5,2))<=$V191,OFFSET('CCG-Prov(Amb)'!$B$1,MATCH($A191,'CCG-Prov(Amb)'!$A$2:$A$335,0)+VALUE(RIGHT(W$2,1))-1,0),\"\")","v":"RX7"},{"$f":"IF(VALUE(MID(X$2,5,2))<=$V191,OFFSET('CCG-Prov(Amb)'!$B$1,MATCH($A191,'CCG-Prov(Amb)'!$A$2:$A$335,0)+VALUE(RIGHT(X$2,1))-1,0),\"\")","v":""},{"$f":"IF(VALUE(MID(Y$2,5,2))<=$V191,OFFSET('CCG-Prov(Amb)'!$B$1,MATCH($A191,'CCG-Prov(Amb)'!$A$2:$A$335,0)+VALUE(RIGHT(Y$2,1))-1,0),\"\")","v":""},{"$f":"IF(VALUE(MID(Z$2,5,2))<=$V191,OFFSET('CCG-Prov(Amb)'!$B$1,MATCH($A191,'CCG-Prov(Amb)'!$A$2:$A$335,0)+VALUE(RIGHT(Z$2,1))-1,0),\"\")","v":""},{"$f":"IF(VALUE(MID(AA$2,5,2))<=$V191,OFFSET('CCG-Prov(Amb)'!$B$1,MATCH($A191,'CCG-Prov(Amb)'!$A$2:$A$335,0)+VALUE(RIGHT(AA$2,1))-1,0),\"\")","v":""},null,null,null,null,null,{"$f":"SUM(IF(('CCG-Prov(Births)'!$A$2:$A$6150=A191),1,0))","v":22},{"$f":"SUM(IF(('CCG-Prov(Births)'!$A$2:$A$6150=A191)*('CCG-Prov(Births)'!$C$2:$C$6150>=Maternity!$B$7),1,0))","v":3},{"$f":"IF(VALUE(MID(AI$2,5,2))<=$V191,OFFSET('CCG-Prov(Births)'!$B$1,MATCH($A191,'CCG-Prov(Births)'!$A$2:$A$6150,0)+VALUE(RIGHT(AI$2,1))-1,0),\"\")","v":"RBT"},{"$f":"IF(VALUE(MID(AJ$2,5,2))<=$V191,OFFSET('CCG-Prov(Births)'!$B$1,MATCH($A191,'CCG-Prov(Births)'!$A$2:$A$6150,0)+VALUE(RIGHT(AJ$2,1))-1,0),\"\")","v":""},{"$f":"IF(VALUE(MID(AK$2,5,2))<=$V191,OFFSET('CCG-Prov(Births)'!$B$1,MATCH($A191,'CCG-Prov(Births)'!$A$2:$A$6150,0)+VALUE(RIGHT(AK$2,1))-1,0),\"\")","v":""},{"$f":"IF(VALUE(MID(AL$2,5,2))<=$V191,OFFSET('CCG-Prov(Births)'!$B$1,MATCH($A191,'CCG-Prov(Births)'!$A$2:$A$6150,0)+VALUE(RIGHT(AL$2,1))-1,0),\"\")","v":""},{"$f":"IF(VALUE(MID(AM$2,5,2))<=$V191,OFFSET('CCG-Prov(Births)'!$B$1,MATCH($A191,'CCG-Prov(Births)'!$A$2:$A$6150,0)+VALUE(RIGHT(AM$2,1))-1,0),\"\")","v":""}]
["03R","Wakefield ",{"$f":"SUM(IF(('CCG-Prov(Acute)'!$A$2:$A$29012=A192),1,0))","v":144},{"$f":"SUM(IF(('CCG-Prov(Acute)'!$A$2:$A$29012=A192)*('CCG-Prov(Acute)'!$C$2:$C$29012>=Acute!$B$7),1,0))","v":5},{"$f":"IF(VALUE(MID(E$2,5,2))<=$D192,OFFSET('CCG-Prov(Acute)'!$B$1,MATCH($A192,'CCG-Prov(Acute)'!$A$2:$A$29012,0)+VALUE(RIGHT(E$2,1))-1,0),\"\")","v":"RXF"},{"$f":"IF(VALUE(MID(F$2,5,2))<=$D192,OFFSET('CCG-Prov(Acute)'!$B$1,MATCH($A192,'CCG-Prov(Acute)'!$A$2:$A$29012,0)+VALUE(RIGHT(F$2,1))-1,0),\"\")","v":"RR8"},{"$f":"IF(VALUE(MID(G$2,5,2))<=$D192,OFFSET('CCG-Prov(Acute)'!$B$1,MATCH($A192,'CCG-Prov(Acute)'!$A$2:$A$29012,0)+VALUE(RIGHT(G$2,1))-1,0),\"\")","v":"NT3"},{"$f":"IF(VALUE(MID(H$2,5,2))<=$D192,OFFSET('CCG-Prov(Acute)'!$B$1,MATCH($A192,'CCG-Prov(Acute)'!$A$2:$A$29012,0)+VALUE(RIGHT(H$2,1))-1,0),\"\")","v":"RFF"},{"$f":"IF(VALUE(MID(I$2,5,2))<=$D192,OFFSET('CCG-Prov(Acute)'!$B$1,MATCH($A192,'CCG-Prov(Acute)'!$A$2:$A$29012,0)+VALUE(RIGHT(I$2,1))-1,0),\"\")","v":"RP5"},{"$f":"IF(VALUE(MID(J$2,5,2))<=$D192,OFFSET('CCG-Prov(Acute)'!$B$1,MATCH($A192,'CCG-Prov(Acute)'!$A$2:$A$29012,0)+VALUE(RIGHT(J$2,1))-1,0),\"\")","v":""},{"$f":"IF(VALUE(MID(K$2,5,2))<=$D192,OFFSET('CCG-Prov(Acute)'!$B$1,MATCH($A192,'CCG-Prov(Acute)'!$A$2:$A$29012,0)+VALUE(RIGHT(K$2,1))-1,0),\"\")","v":""},{"$f":"IF(VALUE(MID(L$2,5,2))<=$D192,OFFSET('CCG-Prov(Acute)'!$B$1,MATCH($A192,'CCG-Prov(Acute)'!$A$2:$A$29012,0)+VALUE(RIGHT(L$2,1))-1,0),\"\")","v":""},{"$f":"IF(VALUE(MID(M$2,5,2))<=$D192,OFFSET('CCG-Prov(Acute)'!$B$1,MATCH($A192,'CCG-Prov(Acute)'!$A$2:$A$29012,0)+VALUE(RIGHT(M$2,1))-1,0),\"\")","v":""},{"$f":"IF(VALUE(MID(N$2,5,2))<=$D192,OFFSET('CCG-Prov(Acute)'!$B$1,MATCH($A192,'CCG-Prov(Acute)'!$A$2:$A$29012,0)+VALUE(RIGHT(N$2,1))-1,0),\"\")","v":""},null,null,"RNA",{"$f":"VLOOKUP(Q192,provnames!$A$2:$B$331,2,0)","v":"The Dudley Group of Hospitals NHS FT"},{"$f":"SUM(IF(('CCG-Prov(Acute)'!$B$2:$B$28899=Q192),1,0))","v":140},null,{"$f":"SUM(IF(('CCG-Prov(Amb)'!$A$2:$A$335=A192),1,0))","v":1},{"$f":"SUM(IF(('CCG-Prov(Amb)'!$A$2:$A$335=A192)*('CCG-Prov(Amb)'!$C$2:$C$335>=Ambulance!$B$7),1,0))","v":1},{"$f":"IF(VALUE(MID(W$2,5,2))<=$V192,OFFSET('CCG-Prov(Amb)'!$B$1,MATCH($A192,'CCG-Prov(Amb)'!$A$2:$A$335,0)+VALUE(RIGHT(W$2,1))-1,0),\"\")","v":"RX8"},{"$f":"IF(VALUE(MID(X$2,5,2))<=$V192,OFFSET('CCG-Prov(Amb)'!$B$1,MATCH($A192,'CCG-Prov(Amb)'!$A$2:$A$335,0)+VALUE(RIGHT(X$2,1))-1,0),\"\")","v":""},{"$f":"IF(VALUE(MID(Y$2,5,2))<=$V192,OFFSET('CCG-Prov(Amb)'!$B$1,MATCH($A192,'CCG-Prov(Amb)'!$A$2:$A$335,0)+VALUE(RIGHT(Y$2,1))-1,0),\"\")","v":""},{"$f":"IF(VALUE(MID(Z$2,5,2))<=$V192,OFFSET('CCG-Prov(Amb)'!$B$1,MATCH($A192,'CCG-Prov(Amb)'!$A$2:$A$335,0)+VALUE(RIGHT(Z$2,1))-1,0),\"\")","v":""},{"$f":"IF(VALUE(MID(AA$2,5,2))<=$V192,OFFSET('CCG-Prov(Amb)'!$B$1,MATCH($A192,'CCG-Prov(Amb)'!$A$2:$A$335,0)+VALUE(RIGHT(AA$2,1))-1,0),\"\")","v":""},null,null,null,null,null,{"$f":"SUM(IF(('CCG-Prov(Births)'!$A$2:$A$6150=A192),1,0))","v":27},{"$f":"SUM(IF(('CCG-Prov(Births)'!$A$2:$A$6150=A192)*('CCG-Prov(Births)'!$C$2:$C$6150>=Maternity!$B$7),1,0))","v":3},{"$f":"IF(VALUE(MID(AI$2,5,2))<=$V192,OFFSET('CCG-Prov(Births)'!$B$1,MATCH($A192,'CCG-Prov(Births)'!$A$2:$A$6150,0)+VALUE(RIGHT(AI$2,1))-1,0),\"\")","v":"RXF"},{"$f":"IF(VALUE(MID(AJ$2,5,2))<=$V192,OFFSET('CCG-Prov(Births)'!$B$1,MATCH($A192,'CCG-Prov(Births)'!$A$2:$A$6150,0)+VALUE(RIGHT(AJ$2,1))-1,0),\"\")","v":""},{"$f":"IF(VALUE(MID(AK$2,5,2))<=$V192,OFFSET('CCG-Prov(Births)'!$B$1,MATCH($A192,'CCG-Prov(Births)'!$A$2:$A$6150,0)+VALUE(RIGHT(AK$2,1))-1,0),\"\")","v":""},{"$f":"IF(VALUE(MID(AL$2,5,2))<=$V192,OFFSET('CCG-Prov(Births)'!$B$1,MATCH($A192,'CCG-Prov(Births)'!$A$2:$A$6150,0)+VALUE(RIGHT(AL$2,1))-1,0),\"\")","v":""},{"$f":"IF(VALUE(MID(AM$2,5,2))<=$V192,OFFSET('CCG-Prov(Births)'!$B$1,MATCH($A192,'CCG-Prov(Births)'!$A$2:$A$6150,0)+VALUE(RIGHT(AM$2,1))-1,0),\"\")","v":""}]
["05Y","Walsall",{"$f":"SUM(IF(('CCG-Prov(Acute)'!$A$2:$A$29012=A193),1,0))","v":145},{"$f":"SUM(IF(('CCG-Prov(Acute)'!$A$2:$A$29012=A193)*('CCG-Prov(Acute)'!$C$2:$C$29012>=Acute!$B$7),1,0))","v":6},{"$f":"IF(VALUE(MID(E$2,5,2))<=$D193,OFFSET('CCG-Prov(Acute)'!$B$1,MATCH($A193,'CCG-Prov(Acute)'!$A$2:$A$29012,0)+VALUE(RIGHT(E$2,1))-1,0),\"\")","v":"RBK"},{"$f":"IF(VALUE(MID(F$2,5,2))<=$D193,OFFSET('CCG-Prov(Acute)'!$B$1,MATCH($A193,'CCG-Prov(Acute)'!$A$2:$A$29012,0)+VALUE(RIGHT(F$2,1))-1,0),\"\")","v":"RL4"},{"$f":"IF(VALUE(MID(G$2,5,2))<=$D193,OFFSET('CCG-Prov(Acute)'!$B$1,MATCH($A193,'CCG-Prov(Acute)'!$A$2:$A$29012,0)+VALUE(RIGHT(G$2,1))-1,0),\"\")","v":"RR1"},{"$f":"IF(VALUE(MID(H$2,5,2))<=$D193,OFFSET('CCG-Prov(Acute)'!$B$1,MATCH($A193,'CCG-Prov(Acute)'!$A$2:$A$29012,0)+VALUE(RIGHT(H$2,1))-1,0),\"\")","v":"RXK"},{"$f":"IF(VALUE(MID(I$2,5,2))<=$D193,OFFSET('CCG-Prov(Acute)'!$B$1,MATCH($A193,'CCG-Prov(Acute)'!$A$2:$A$29012,0)+VALUE(RIGHT(I$2,1))-1,0),\"\")","v":"RRK"},{"$f":"IF(VALUE(MID(J$2,5,2))<=$D193,OFFSET('CCG-Prov(Acute)'!$B$1,MATCH($A193,'CCG-Prov(Acute)'!$A$2:$A$29012,0)+VALUE(RIGHT(J$2,1))-1,0),\"\")","v":"RQ3"},{"$f":"IF(VALUE(MID(K$2,5,2))<=$D193,OFFSET('CCG-Prov(Acute)'!$B$1,MATCH($A193,'CCG-Prov(Acute)'!$A$2:$A$29012,0)+VALUE(RIGHT(K$2,1))-1,0),\"\")","v":""},{"$f":"IF(VALUE(MID(L$2,5,2))<=$D193,OFFSET('CCG-Prov(Acute)'!$B$1,MATCH($A193,'CCG-Prov(Acute)'!$A$2:$A$29012,0)+VALUE(RIGHT(L$2,1))-1,0),\"\")","v":""},{"$f":"IF(VALUE(MID(M$2,5,2))<=$D193,OFFSET('CCG-Prov(Acute)'!$B$1,MATCH($A193,'CCG-Prov(Acute)'!$A$2:$A$29012,0)+VALUE(RIGHT(M$2,1))-1,0),\"\")","v":""},{"$f":"IF(VALUE(MID(N$2,5,2))<=$D193,OFFSET('CCG-Prov(Acute)'!$B$1,MATCH($A193,'CCG-Prov(Acute)'!$A$2:$A$29012,0)+VALUE(RIGHT(N$2,1))-1,0),\"\")","v":""},null,null,"RNH",{"$f":"VLOOKUP(Q193,provnames!$A$2:$B$331,2,0)","v":"Newham Univ Hospital NHS Trust"},{"$f":"SUM(IF(('CCG-Prov(Acute)'!$B$2:$B$28899=Q193),1,0))","v":160},null,{"$f":"SUM(IF(('CCG-Prov(Amb)'!$A$2:$A$335=A193),1,0))","v":1},{"$f":"SUM(IF(('CCG-Prov(Amb)'!$A$2:$A$335=A193)*('CCG-Prov(Amb)'!$C$2:$C$335>=Ambulance!$B$7),1,0))","v":1},{"$f":"IF(VALUE(MID(W$2,5,2))<=$V193,OFFSET('CCG-Prov(Amb)'!$B$1,MATCH($A193,'CCG-Prov(Amb)'!$A$2:$A$335,0)+VALUE(RIGHT(W$2,1))-1,0),\"\")","v":"RYA"},{"$f":"IF(VALUE(MID(X$2,5,2))<=$V193,OFFSET('CCG-Prov(Amb)'!$B$1,MATCH($A193,'CCG-Prov(Amb)'!$A$2:$A$335,0)+VALUE(RIGHT(X$2,1))-1,0),\"\")","v":""},{"$f":"IF(VALUE(MID(Y$2,5,2))<=$V193,OFFSET('CCG-Prov(Amb)'!$B$1,MATCH($A193,'CCG-Prov(Amb)'!$A$2:$A$335,0)+VALUE(RIGHT(Y$2,1))-1,0),\"\")","v":""},{"$f":"IF(VALUE(MID(Z$2,5,2))<=$V193,OFFSET('CCG-Prov(Amb)'!$B$1,MATCH($A193,'CCG-Prov(Amb)'!$A$2:$A$335,0)+VALUE(RIGHT(Z$2,1))-1,0),\"\")","v":""},{"$f":"IF(VALUE(MID(AA$2,5,2))<=$V193,OFFSET('CCG-Prov(Amb)'!$B$1,MATCH($A193,'CCG-Prov(Amb)'!$A$2:$A$335,0)+VALUE(RIGHT(AA$2,1))-1,0),\"\")","v":""},null,null,null,null,null,{"$f":"SUM(IF(('CCG-Prov(Births)'!$A$2:$A$6150=A193),1,0))","v":32},{"$f":"SUM(IF(('CCG-Prov(Births)'!$A$2:$A$6150=A193)*('CCG-Prov(Births)'!$C$2:$C$6150>=Maternity!$B$7),1,0))","v":3},{"$f":"IF(VALUE(MID(AI$2,5,2))<=$V193,OFFSET('CCG-Prov(Births)'!$B$1,MATCH($A193,'CCG-Prov(Births)'!$A$2:$A$6150,0)+VALUE(RIGHT(AI$2,1))-1,0),\"\")","v":"RBK"},{"$f":"IF(VALUE(MID(AJ$2,5,2))<=$V193,OFFSET('CCG-Prov(Births)'!$B$1,MATCH($A193,'CCG-Prov(Births)'!$A$2:$A$6150,0)+VALUE(RIGHT(AJ$2,1))-1,0),\"\")","v":""},{"$f":"IF(VALUE(MID(AK$2,5,2))<=$V193,OFFSET('CCG-Prov(Births)'!$B$1,MATCH($A193,'CCG-Prov(Births)'!$A$2:$A$6150,0)+VALUE(RIGHT(AK$2,1))-1,0),\"\")","v":""},{"$f":"IF(VALUE(MID(AL$2,5,2))<=$V193,OFFSET('CCG-Prov(Births)'!$B$1,MATCH($A193,'CCG-Prov(Births)'!$A$2:$A$6150,0)+VALUE(RIGHT(AL$2,1))-1,0),\"\")","v":""},{"$f":"IF(VALUE(MID(AM$2,5,2))<=$V193,OFFSET('CCG-Prov(Births)'!$B$1,MATCH($A193,'CCG-Prov(Births)'!$A$2:$A$6150,0)+VALUE(RIGHT(AM$2,1))-1,0),\"\")","v":""}]
["08W","Waltham Forest",{"$f":"SUM(IF(('CCG-Prov(Acute)'!$A$2:$A$29012=A194),1,0))","v":138},{"$f":"SUM(IF(('CCG-Prov(Acute)'!$A$2:$A$29012=A194)*('CCG-Prov(Acute)'!$C$2:$C$29012>=Acute!$B$7),1,0))","v":8},{"$f":"IF(VALUE(MID(E$2,5,2))<=$D194,OFFSET('CCG-Prov(Acute)'!$B$1,MATCH($A194,'CCG-Prov(Acute)'!$A$2:$A$29012,0)+VALUE(RIGHT(E$2,1))-1,0),\"\")","v":"RGC"},{"$f":"IF(VALUE(MID(F$2,5,2))<=$D194,OFFSET('CCG-Prov(Acute)'!$B$1,MATCH($A194,'CCG-Prov(Acute)'!$A$2:$A$29012,0)+VALUE(RIGHT(F$2,1))-1,0),\"\")","v":"RNJ"},{"$f":"IF(VALUE(MID(G$2,5,2))<=$D194,OFFSET('CCG-Prov(Acute)'!$B$1,MATCH($A194,'CCG-Prov(Acute)'!$A$2:$A$29012,0)+VALUE(RIGHT(G$2,1))-1,0),\"\")","v":"RQX"},{"$f":"IF(VALUE(MID(H$2,5,2))<=$D194,OFFSET('CCG-Prov(Acute)'!$B$1,MATCH($A194,'CCG-Prov(Acute)'!$A$2:$A$29012,0)+VALUE(RIGHT(H$2,1))-1,0),\"\")","v":"RRV"},{"$f":"IF(VALUE(MID(I$2,5,2))<=$D194,OFFSET('CCG-Prov(Acute)'!$B$1,MATCH($A194,'CCG-Prov(Acute)'!$A$2:$A$29012,0)+VALUE(RIGHT(I$2,1))-1,0),\"\")","v":"RAL"},{"$f":"IF(VALUE(MID(J$2,5,2))<=$D194,OFFSET('CCG-Prov(Acute)'!$B$1,MATCH($A194,'CCG-Prov(Acute)'!$A$2:$A$29012,0)+VALUE(RIGHT(J$2,1))-1,0),\"\")","v":"RAP"},{"$f":"IF(VALUE(MID(K$2,5,2))<=$D194,OFFSET('CCG-Prov(Acute)'!$B$1,MATCH($A194,'CCG-Prov(Acute)'!$A$2:$A$29012,0)+VALUE(RIGHT(K$2,1))-1,0),\"\")","v":"RF4"},{"$f":"IF(VALUE(MID(L$2,5,2))<=$D194,OFFSET('CCG-Prov(Acute)'!$B$1,MATCH($A194,'CCG-Prov(Acute)'!$A$2:$A$29012,0)+VALUE(RIGHT(L$2,1))-1,0),\"\")","v":"RP6"},{"$f":"IF(VALUE(MID(M$2,5,2))<=$D194,OFFSET('CCG-Prov(Acute)'!$B$1,MATCH($A194,'CCG-Prov(Acute)'!$A$2:$A$29012,0)+VALUE(RIGHT(M$2,1))-1,0),\"\")","v":""},{"$f":"IF(VALUE(MID(N$2,5,2))<=$D194,OFFSET('CCG-Prov(Acute)'!$B$1,MATCH($A194,'CCG-Prov(Acute)'!$A$2:$A$29012,0)+VALUE(RIGHT(N$2,1))-1,0),\"\")","v":""},null,null,"RNJ",{"$f":"VLOOKUP(Q194,provnames!$A$2:$B$331,2,0)","v":"Barts & The London NHS Trust"},{"$f":"SUM(IF(('CCG-Prov(Acute)'!$B$2:$B$28899=Q194),1,0))","v":204},null,{"$f":"SUM(IF(('CCG-Prov(Amb)'!$A$2:$A$335=A194),1,0))","v":2},{"$f":"SUM(IF(('CCG-Prov(Amb)'!$A$2:$A$335=A194)*('CCG-Prov(Amb)'!$C$2:$C$335>=Ambulance!$B$7),1,0))","v":2},{"$f":"IF(VALUE(MID(W$2,5,2))<=$V194,OFFSET('CCG-Prov(Amb)'!$B$1,MATCH($A194,'CCG-Prov(Amb)'!$A$2:$A$335,0)+VALUE(RIGHT(W$2,1))-1,0),\"\")","v":"RRY"},{"$f":"IF(VALUE(MID(X$2,5,2))<=$V194,OFFSET('CCG-Prov(Amb)'!$B$1,MATCH($A194,'CCG-Prov(Amb)'!$A$2:$A$335,0)+VALUE(RIGHT(X$2,1))-1,0),\"\")","v":"RYC"},{"$f":"IF(VALUE(MID(Y$2,5,2))<=$V194,OFFSET('CCG-Prov(Amb)'!$B$1,MATCH($A194,'CCG-Prov(Amb)'!$A$2:$A$335,0)+VALUE(RIGHT(Y$2,1))-1,0),\"\")","v":""},{"$f":"IF(VALUE(MID(Z$2,5,2))<=$V194,OFFSET('CCG-Prov(Amb)'!$B$1,MATCH($A194,'CCG-Prov(Amb)'!$A$2:$A$335,0)+VALUE(RIGHT(Z$2,1))-1,0),\"\")","v":""},{"$f":"IF(VALUE(MID(AA$2,5,2))<=$V194,OFFSET('CCG-Prov(Amb)'!$B$1,MATCH($A194,'CCG-Prov(Amb)'!$A$2:$A$335,0)+VALUE(RIGHT(AA$2,1))-1,0),\"\")","v":""},null,null,null,null,null,{"$f":"SUM(IF(('CCG-Prov(Births)'!$A$2:$A$6150=A194),1,0))","v":45},{"$f":"SUM(IF(('CCG-Prov(Births)'!$A$2:$A$6150=A194)*('CCG-Prov(Births)'!$C$2:$C$6150>=Maternity!$B$7),1,0))","v":4},{"$f":"IF(VALUE(MID(AI$2,5,2))<=$V194,OFFSET('CCG-Prov(Births)'!$B$1,MATCH($A194,'CCG-Prov(Births)'!$A$2:$A$6150,0)+VALUE(RIGHT(AI$2,1))-1,0),\"\")","v":"RGC"},{"$f":"IF(VALUE(MID(AJ$2,5,2))<=$V194,OFFSET('CCG-Prov(Births)'!$B$1,MATCH($A194,'CCG-Prov(Births)'!$A$2:$A$6150,0)+VALUE(RIGHT(AJ$2,1))-1,0),\"\")","v":"RQX"},{"$f":"IF(VALUE(MID(AK$2,5,2))<=$V194,OFFSET('CCG-Prov(Births)'!$B$1,MATCH($A194,'CCG-Prov(Births)'!$A$2:$A$6150,0)+VALUE(RIGHT(AK$2,1))-1,0),\"\")","v":""},{"$f":"IF(VALUE(MID(AL$2,5,2))<=$V194,OFFSET('CCG-Prov(Births)'!$B$1,MATCH($A194,'CCG-Prov(Births)'!$A$2:$A$6150,0)+VALUE(RIGHT(AL$2,1))-1,0),\"\")","v":""},{"$f":"IF(VALUE(MID(AM$2,5,2))<=$V194,OFFSET('CCG-Prov(Births)'!$B$1,MATCH($A194,'CCG-Prov(Births)'!$A$2:$A$6150,0)+VALUE(RIGHT(AM$2,1))-1,0),\"\")","v":""}]
["08X","Wandsworth",{"$f":"SUM(IF(('CCG-Prov(Acute)'!$A$2:$A$29012=A195),1,0))","v":152},{"$f":"SUM(IF(('CCG-Prov(Acute)'!$A$2:$A$29012=A195)*('CCG-Prov(Acute)'!$C$2:$C$29012>=Acute!$B$7),1,0))","v":8},{"$f":"IF(VALUE(MID(E$2,5,2))<=$D195,OFFSET('CCG-Prov(Acute)'!$B$1,MATCH($A195,'CCG-Prov(Acute)'!$A$2:$A$29012,0)+VALUE(RIGHT(E$2,1))-1,0),\"\")","v":"RJ7"},{"$f":"IF(VALUE(MID(F$2,5,2))<=$D195,OFFSET('CCG-Prov(Acute)'!$B$1,MATCH($A195,'CCG-Prov(Acute)'!$A$2:$A$29012,0)+VALUE(RIGHT(F$2,1))-1,0),\"\")","v":"RQM"},{"$f":"IF(VALUE(MID(G$2,5,2))<=$D195,OFFSET('CCG-Prov(Acute)'!$B$1,MATCH($A195,'CCG-Prov(Acute)'!$A$2:$A$29012,0)+VALUE(RIGHT(G$2,1))-1,0),\"\")","v":"RAX"},{"$f":"IF(VALUE(MID(H$2,5,2))<=$D195,OFFSET('CCG-Prov(Acute)'!$B$1,MATCH($A195,'CCG-Prov(Acute)'!$A$2:$A$29012,0)+VALUE(RIGHT(H$2,1))-1,0),\"\")","v":"RJ1"},{"$f":"IF(VALUE(MID(I$2,5,2))<=$D195,OFFSET('CCG-Prov(Acute)'!$B$1,MATCH($A195,'CCG-Prov(Acute)'!$A$2:$A$29012,0)+VALUE(RIGHT(I$2,1))-1,0),\"\")","v":"RYJ"},{"$f":"IF(VALUE(MID(J$2,5,2))<=$D195,OFFSET('CCG-Prov(Acute)'!$B$1,MATCH($A195,'CCG-Prov(Acute)'!$A$2:$A$29012,0)+VALUE(RIGHT(J$2,1))-1,0),\"\")","v":"RP6"},{"$f":"IF(VALUE(MID(K$2,5,2))<=$D195,OFFSET('CCG-Prov(Acute)'!$B$1,MATCH($A195,'CCG-Prov(Acute)'!$A$2:$A$29012,0)+VALUE(RIGHT(K$2,1))-1,0),\"\")","v":"RJZ"},{"$f":"IF(VALUE(MID(L$2,5,2))<=$D195,OFFSET('CCG-Prov(Acute)'!$B$1,MATCH($A195,'CCG-Prov(Acute)'!$A$2:$A$29012,0)+VALUE(RIGHT(L$2,1))-1,0),\"\")","v":"RVR"},{"$f":"IF(VALUE(MID(M$2,5,2))<=$D195,OFFSET('CCG-Prov(Acute)'!$B$1,MATCH($A195,'CCG-Prov(Acute)'!$A$2:$A$29012,0)+VALUE(RIGHT(M$2,1))-1,0),\"\")","v":""},{"$f":"IF(VALUE(MID(N$2,5,2))<=$D195,OFFSET('CCG-Prov(Acute)'!$B$1,MATCH($A195,'CCG-Prov(Acute)'!$A$2:$A$29012,0)+VALUE(RIGHT(N$2,1))-1,0),\"\")","v":""},null,null,"RNL",{"$f":"VLOOKUP(Q195,provnames!$A$2:$B$331,2,0)","v":"North Cumbria Univ Hospitals NHS Trust"},{"$f":"SUM(IF(('CCG-Prov(Acute)'!$B$2:$B$28899=Q195),1,0))","v":184},null,{"$f":"SUM(IF(('CCG-Prov(Amb)'!$A$2:$A$335=A195),1,0))","v":2},{"$f":"SUM(IF(('CCG-Prov(Amb)'!$A$2:$A$335=A195)*('CCG-Prov(Amb)'!$C$2:$C$335>=Ambulance!$B$7),1,0))","v":1},{"$f":"IF(VALUE(MID(W$2,5,2))<=$V195,OFFSET('CCG-Prov(Amb)'!$B$1,MATCH($A195,'CCG-Prov(Amb)'!$A$2:$A$335,0)+VALUE(RIGHT(W$2,1))-1,0),\"\")","v":"RRY"},{"$f":"IF(VALUE(MID(X$2,5,2))<=$V195,OFFSET('CCG-Prov(Amb)'!$B$1,MATCH($A195,'CCG-Prov(Amb)'!$A$2:$A$335,0)+VALUE(RIGHT(X$2,1))-1,0),\"\")","v":""},{"$f":"IF(VALUE(MID(Y$2,5,2))<=$V195,OFFSET('CCG-Prov(Amb)'!$B$1,MATCH($A195,'CCG-Prov(Amb)'!$A$2:$A$335,0)+VALUE(RIGHT(Y$2,1))-1,0),\"\")","v":""},{"$f":"IF(VALUE(MID(Z$2,5,2))<=$V195,OFFSET('CCG-Prov(Amb)'!$B$1,MATCH($A195,'CCG-Prov(Amb)'!$A$2:$A$335,0)+VALUE(RIGHT(Z$2,1))-1,0),\"\")","v":""},{"$f":"IF(VALUE(MID(AA$2,5,2))<=$V195,OFFSET('CCG-Prov(Amb)'!$B$1,MATCH($A195,'CCG-Prov(Amb)'!$A$2:$A$335,0)+VALUE(RIGHT(AA$2,1))-1,0),\"\")","v":""},null,null,null,null,null,{"$f":"SUM(IF(('CCG-Prov(Births)'!$A$2:$A$6150=A195),1,0))","v":52},{"$f":"SUM(IF(('CCG-Prov(Births)'!$A$2:$A$6150=A195)*('CCG-Prov(Births)'!$C$2:$C$6150>=Maternity!$B$7),1,0))","v":6},{"$f":"IF(VALUE(MID(AI$2,5,2))<=$V195,OFFSET('CCG-Prov(Births)'!$B$1,MATCH($A195,'CCG-Prov(Births)'!$A$2:$A$6150,0)+VALUE(RIGHT(AI$2,1))-1,0),\"\")","v":"RJ7"},{"$f":"IF(VALUE(MID(AJ$2,5,2))<=$V195,OFFSET('CCG-Prov(Births)'!$B$1,MATCH($A195,'CCG-Prov(Births)'!$A$2:$A$6150,0)+VALUE(RIGHT(AJ$2,1))-1,0),\"\")","v":""},{"$f":"IF(VALUE(MID(AK$2,5,2))<=$V195,OFFSET('CCG-Prov(Births)'!$B$1,MATCH($A195,'CCG-Prov(Births)'!$A$2:$A$6150,0)+VALUE(RIGHT(AK$2,1))-1,0),\"\")","v":""},{"$f":"IF(VALUE(MID(AL$2,5,2))<=$V195,OFFSET('CCG-Prov(Births)'!$B$1,MATCH($A195,'CCG-Prov(Births)'!$A$2:$A$6150,0)+VALUE(RIGHT(AL$2,1))-1,0),\"\")","v":""},{"$f":"IF(VALUE(MID(AM$2,5,2))<=$V195,OFFSET('CCG-Prov(Births)'!$B$1,MATCH($A195,'CCG-Prov(Births)'!$A$2:$A$6150,0)+VALUE(RIGHT(AM$2,1))-1,0),\"\")","v":""}]
["02E","Warrington",{"$f":"SUM(IF(('CCG-Prov(Acute)'!$A$2:$A$29012=A196),1,0))","v":132},{"$f":"SUM(IF(('CCG-Prov(Acute)'!$A$2:$A$29012=A196)*('CCG-Prov(Acute)'!$C$2:$C$29012>=Acute!$B$7),1,0))","v":8},{"$f":"IF(VALUE(MID(E$2,5,2))<=$D196,OFFSET('CCG-Prov(Acute)'!$B$1,MATCH($A196,'CCG-Prov(Acute)'!$A$2:$A$29012,0)+VALUE(RIGHT(E$2,1))-1,0),\"\")","v":"RWW"},{"$f":"IF(VALUE(MID(F$2,5,2))<=$D196,OFFSET('CCG-Prov(Acute)'!$B$1,MATCH($A196,'CCG-Prov(Acute)'!$A$2:$A$29012,0)+VALUE(RIGHT(F$2,1))-1,0),\"\")","v":"RBN"},{"$f":"IF(VALUE(MID(G$2,5,2))<=$D196,OFFSET('CCG-Prov(Acute)'!$B$1,MATCH($A196,'CCG-Prov(Acute)'!$A$2:$A$29012,0)+VALUE(RIGHT(G$2,1))-1,0),\"\")","v":"RQ6"},{"$f":"IF(VALUE(MID(H$2,5,2))<=$D196,OFFSET('CCG-Prov(Acute)'!$B$1,MATCH($A196,'CCG-Prov(Acute)'!$A$2:$A$29012,0)+VALUE(RIGHT(H$2,1))-1,0),\"\")","v":"NTD"},{"$f":"IF(VALUE(MID(I$2,5,2))<=$D196,OFFSET('CCG-Prov(Acute)'!$B$1,MATCH($A196,'CCG-Prov(Acute)'!$A$2:$A$29012,0)+VALUE(RIGHT(I$2,1))-1,0),\"\")","v":"RBS"},{"$f":"IF(VALUE(MID(J$2,5,2))<=$D196,OFFSET('CCG-Prov(Acute)'!$B$1,MATCH($A196,'CCG-Prov(Acute)'!$A$2:$A$29012,0)+VALUE(RIGHT(J$2,1))-1,0),\"\")","v":"5J2"},{"$f":"IF(VALUE(MID(K$2,5,2))<=$D196,OFFSET('CCG-Prov(Acute)'!$B$1,MATCH($A196,'CCG-Prov(Acute)'!$A$2:$A$29012,0)+VALUE(RIGHT(K$2,1))-1,0),\"\")","v":"REM"},{"$f":"IF(VALUE(MID(L$2,5,2))<=$D196,OFFSET('CCG-Prov(Acute)'!$B$1,MATCH($A196,'CCG-Prov(Acute)'!$A$2:$A$29012,0)+VALUE(RIGHT(L$2,1))-1,0),\"\")","v":"NT3"},{"$f":"IF(VALUE(MID(M$2,5,2))<=$D196,OFFSET('CCG-Prov(Acute)'!$B$1,MATCH($A196,'CCG-Prov(Acute)'!$A$2:$A$29012,0)+VALUE(RIGHT(M$2,1))-1,0),\"\")","v":""},{"$f":"IF(VALUE(MID(N$2,5,2))<=$D196,OFFSET('CCG-Prov(Acute)'!$B$1,MATCH($A196,'CCG-Prov(Acute)'!$A$2:$A$29012,0)+VALUE(RIGHT(N$2,1))-1,0),\"\")","v":""},null,null,"RNN",{"$f":"VLOOKUP(Q196,provnames!$A$2:$B$331,2,0)","v":"Cumbria Partnership NHS FT"},{"$f":"SUM(IF(('CCG-Prov(Acute)'!$B$2:$B$28899=Q196),1,0))","v":3},null,{"$f":"SUM(IF(('CCG-Prov(Amb)'!$A$2:$A$335=A196),1,0))","v":1},{"$f":"SUM(IF(('CCG-Prov(Amb)'!$A$2:$A$335=A196)*('CCG-Prov(Amb)'!$C$2:$C$335>=Ambulance!$B$7),1,0))","v":1},{"$f":"IF(VALUE(MID(W$2,5,2))<=$V196,OFFSET('CCG-Prov(Amb)'!$B$1,MATCH($A196,'CCG-Prov(Amb)'!$A$2:$A$335,0)+VALUE(RIGHT(W$2,1))-1,0),\"\")","v":"RX7"},{"$f":"IF(VALUE(MID(X$2,5,2))<=$V196,OFFSET('CCG-Prov(Amb)'!$B$1,MATCH($A196,'CCG-Prov(Amb)'!$A$2:$A$335,0)+VALUE(RIGHT(X$2,1))-1,0),\"\")","v":""},{"$f":"IF(VALUE(MID(Y$2,5,2))<=$V196,OFFSET('CCG-Prov(Amb)'!$B$1,MATCH($A196,'CCG-Prov(Amb)'!$A$2:$A$335,0)+VALUE(RIGHT(Y$2,1))-1,0),\"\")","v":""},{"$f":"IF(VALUE(MID(Z$2,5,2))<=$V196,OFFSET('CCG-Prov(Amb)'!$B$1,MATCH($A196,'CCG-Prov(Amb)'!$A$2:$A$335,0)+VALUE(RIGHT(Z$2,1))-1,0),\"\")","v":""},{"$f":"IF(VALUE(MID(AA$2,5,2))<=$V196,OFFSET('CCG-Prov(Amb)'!$B$1,MATCH($A196,'CCG-Prov(Amb)'!$A$2:$A$335,0)+VALUE(RIGHT(AA$2,1))-1,0),\"\")","v":""},null,null,null,null,null,{"$f":"SUM(IF(('CCG-Prov(Births)'!$A$2:$A$6150=A196),1,0))","v":27},{"$f":"SUM(IF(('CCG-Prov(Births)'!$A$2:$A$6150=A196)*('CCG-Prov(Births)'!$C$2:$C$6150>=Maternity!$B$7),1,0))","v":2},{"$f":"IF(VALUE(MID(AI$2,5,2))<=$V196,OFFSET('CCG-Prov(Births)'!$B$1,MATCH($A196,'CCG-Prov(Births)'!$A$2:$A$6150,0)+VALUE(RIGHT(AI$2,1))-1,0),\"\")","v":"RWW"},{"$f":"IF(VALUE(MID(AJ$2,5,2))<=$V196,OFFSET('CCG-Prov(Births)'!$B$1,MATCH($A196,'CCG-Prov(Births)'!$A$2:$A$6150,0)+VALUE(RIGHT(AJ$2,1))-1,0),\"\")","v":""},{"$f":"IF(VALUE(MID(AK$2,5,2))<=$V196,OFFSET('CCG-Prov(Births)'!$B$1,MATCH($A196,'CCG-Prov(Births)'!$A$2:$A$6150,0)+VALUE(RIGHT(AK$2,1))-1,0),\"\")","v":""},{"$f":"IF(VALUE(MID(AL$2,5,2))<=$V196,OFFSET('CCG-Prov(Births)'!$B$1,MATCH($A196,'CCG-Prov(Births)'!$A$2:$A$6150,0)+VALUE(RIGHT(AL$2,1))-1,0),\"\")","v":""},{"$f":"IF(VALUE(MID(AM$2,5,2))<=$V196,OFFSET('CCG-Prov(Births)'!$B$1,MATCH($A196,'CCG-Prov(Births)'!$A$2:$A$6150,0)+VALUE(RIGHT(AM$2,1))-1,0),\"\")","v":""}]
["05H","Warwickshire North",{"$f":"SUM(IF(('CCG-Prov(Acute)'!$A$2:$A$29012=A197),1,0))","v":127},{"$f":"SUM(IF(('CCG-Prov(Acute)'!$A$2:$A$29012=A197)*('CCG-Prov(Acute)'!$C$2:$C$29012>=Acute!$B$7),1,0))","v":3},{"$f":"IF(VALUE(MID(E$2,5,2))<=$D197,OFFSET('CCG-Prov(Acute)'!$B$1,MATCH($A197,'CCG-Prov(Acute)'!$A$2:$A$29012,0)+VALUE(RIGHT(E$2,1))-1,0),\"\")","v":"RLT"},{"$f":"IF(VALUE(MID(F$2,5,2))<=$D197,OFFSET('CCG-Prov(Acute)'!$B$1,MATCH($A197,'CCG-Prov(Acute)'!$A$2:$A$29012,0)+VALUE(RIGHT(F$2,1))-1,0),\"\")","v":"RKB"},{"$f":"IF(VALUE(MID(G$2,5,2))<=$D197,OFFSET('CCG-Prov(Acute)'!$B$1,MATCH($A197,'CCG-Prov(Acute)'!$A$2:$A$29012,0)+VALUE(RIGHT(G$2,1))-1,0),\"\")","v":"RR1"},{"$f":"IF(VALUE(MID(H$2,5,2))<=$D197,OFFSET('CCG-Prov(Acute)'!$B$1,MATCH($A197,'CCG-Prov(Acute)'!$A$2:$A$29012,0)+VALUE(RIGHT(H$2,1))-1,0),\"\")","v":""},{"$f":"IF(VALUE(MID(I$2,5,2))<=$D197,OFFSET('CCG-Prov(Acute)'!$B$1,MATCH($A197,'CCG-Prov(Acute)'!$A$2:$A$29012,0)+VALUE(RIGHT(I$2,1))-1,0),\"\")","v":""},{"$f":"IF(VALUE(MID(J$2,5,2))<=$D197,OFFSET('CCG-Prov(Acute)'!$B$1,MATCH($A197,'CCG-Prov(Acute)'!$A$2:$A$29012,0)+VALUE(RIGHT(J$2,1))-1,0),\"\")","v":""},{"$f":"IF(VALUE(MID(K$2,5,2))<=$D197,OFFSET('CCG-Prov(Acute)'!$B$1,MATCH($A197,'CCG-Prov(Acute)'!$A$2:$A$29012,0)+VALUE(RIGHT(K$2,1))-1,0),\"\")","v":""},{"$f":"IF(VALUE(MID(L$2,5,2))<=$D197,OFFSET('CCG-Prov(Acute)'!$B$1,MATCH($A197,'CCG-Prov(Acute)'!$A$2:$A$29012,0)+VALUE(RIGHT(L$2,1))-1,0),\"\")","v":""},{"$f":"IF(VALUE(MID(M$2,5,2))<=$D197,OFFSET('CCG-Prov(Acute)'!$B$1,MATCH($A197,'CCG-Prov(Acute)'!$A$2:$A$29012,0)+VALUE(RIGHT(M$2,1))-1,0),\"\")","v":""},{"$f":"IF(VALUE(MID(N$2,5,2))<=$D197,OFFSET('CCG-Prov(Acute)'!$B$1,MATCH($A197,'CCG-Prov(Acute)'!$A$2:$A$29012,0)+VALUE(RIGHT(N$2,1))-1,0),\"\")","v":""},null,null,"RNQ",{"$f":"VLOOKUP(Q197,provnames!$A$2:$B$331,2,0)","v":"Kettering General Hospital NHS FT"},{"$f":"SUM(IF(('CCG-Prov(Acute)'!$B$2:$B$28899=Q197),1,0))","v":161},null,{"$f":"SUM(IF(('CCG-Prov(Amb)'!$A$2:$A$335=A197),1,0))","v":2},{"$f":"SUM(IF(('CCG-Prov(Amb)'!$A$2:$A$335=A197)*('CCG-Prov(Amb)'!$C$2:$C$335>=Ambulance!$B$7),1,0))","v":2},{"$f":"IF(VALUE(MID(W$2,5,2))<=$V197,OFFSET('CCG-Prov(Amb)'!$B$1,MATCH($A197,'CCG-Prov(Amb)'!$A$2:$A$335,0)+VALUE(RIGHT(W$2,1))-1,0),\"\")","v":"RYA"},{"$f":"IF(VALUE(MID(X$2,5,2))<=$V197,OFFSET('CCG-Prov(Amb)'!$B$1,MATCH($A197,'CCG-Prov(Amb)'!$A$2:$A$335,0)+VALUE(RIGHT(X$2,1))-1,0),\"\")","v":"RX9"},{"$f":"IF(VALUE(MID(Y$2,5,2))<=$V197,OFFSET('CCG-Prov(Amb)'!$B$1,MATCH($A197,'CCG-Prov(Amb)'!$A$2:$A$335,0)+VALUE(RIGHT(Y$2,1))-1,0),\"\")","v":""},{"$f":"IF(VALUE(MID(Z$2,5,2))<=$V197,OFFSET('CCG-Prov(Amb)'!$B$1,MATCH($A197,'CCG-Prov(Amb)'!$A$2:$A$335,0)+VALUE(RIGHT(Z$2,1))-1,0),\"\")","v":""},{"$f":"IF(VALUE(MID(AA$2,5,2))<=$V197,OFFSET('CCG-Prov(Amb)'!$B$1,MATCH($A197,'CCG-Prov(Amb)'!$A$2:$A$335,0)+VALUE(RIGHT(AA$2,1))-1,0),\"\")","v":""},null,null,null,null,null,{"$f":"SUM(IF(('CCG-Prov(Births)'!$A$2:$A$6150=A197),1,0))","v":24},{"$f":"SUM(IF(('CCG-Prov(Births)'!$A$2:$A$6150=A197)*('CCG-Prov(Births)'!$C$2:$C$6150>=Maternity!$B$7),1,0))","v":3},{"$f":"IF(VALUE(MID(AI$2,5,2))<=$V197,OFFSET('CCG-Prov(Births)'!$B$1,MATCH($A197,'CCG-Prov(Births)'!$A$2:$A$6150,0)+VALUE(RIGHT(AI$2,1))-1,0),\"\")","v":"RLT"},{"$f":"IF(VALUE(MID(AJ$2,5,2))<=$V197,OFFSET('CCG-Prov(Births)'!$B$1,MATCH($A197,'CCG-Prov(Births)'!$A$2:$A$6150,0)+VALUE(RIGHT(AJ$2,1))-1,0),\"\")","v":"RKB"},{"$f":"IF(VALUE(MID(AK$2,5,2))<=$V197,OFFSET('CCG-Prov(Births)'!$B$1,MATCH($A197,'CCG-Prov(Births)'!$A$2:$A$6150,0)+VALUE(RIGHT(AK$2,1))-1,0),\"\")","v":""},{"$f":"IF(VALUE(MID(AL$2,5,2))<=$V197,OFFSET('CCG-Prov(Births)'!$B$1,MATCH($A197,'CCG-Prov(Births)'!$A$2:$A$6150,0)+VALUE(RIGHT(AL$2,1))-1,0),\"\")","v":""},{"$f":"IF(VALUE(MID(AM$2,5,2))<=$V197,OFFSET('CCG-Prov(Births)'!$B$1,MATCH($A197,'CCG-Prov(Births)'!$A$2:$A$6150,0)+VALUE(RIGHT(AM$2,1))-1,0),\"\")","v":""}]
["02F","West Cheshire",{"$f":"SUM(IF(('CCG-Prov(Acute)'!$A$2:$A$29012=A198),1,0))","v":147},{"$f":"SUM(IF(('CCG-Prov(Acute)'!$A$2:$A$29012=A198)*('CCG-Prov(Acute)'!$C$2:$C$29012>=Acute!$B$7),1,0))","v":8},{"$f":"IF(VALUE(MID(E$2,5,2))<=$D198,OFFSET('CCG-Prov(Acute)'!$B$1,MATCH($A198,'CCG-Prov(Acute)'!$A$2:$A$29012,0)+VALUE(RIGHT(E$2,1))-1,0),\"\")","v":"RJR"},{"$f":"IF(VALUE(MID(F$2,5,2))<=$D198,OFFSET('CCG-Prov(Acute)'!$B$1,MATCH($A198,'CCG-Prov(Acute)'!$A$2:$A$29012,0)+VALUE(RIGHT(F$2,1))-1,0),\"\")","v":"RBL"},{"$f":"IF(VALUE(MID(G$2,5,2))<=$D198,OFFSET('CCG-Prov(Acute)'!$B$1,MATCH($A198,'CCG-Prov(Acute)'!$A$2:$A$29012,0)+VALUE(RIGHT(G$2,1))-1,0),\"\")","v":"RWW"},{"$f":"IF(VALUE(MID(H$2,5,2))<=$D198,OFFSET('CCG-Prov(Acute)'!$B$1,MATCH($A198,'CCG-Prov(Acute)'!$A$2:$A$29012,0)+VALUE(RIGHT(H$2,1))-1,0),\"\")","v":"NTD"},{"$f":"IF(VALUE(MID(I$2,5,2))<=$D198,OFFSET('CCG-Prov(Acute)'!$B$1,MATCH($A198,'CCG-Prov(Acute)'!$A$2:$A$29012,0)+VALUE(RIGHT(I$2,1))-1,0),\"\")","v":"RBT"},{"$f":"IF(VALUE(MID(J$2,5,2))<=$D198,OFFSET('CCG-Prov(Acute)'!$B$1,MATCH($A198,'CCG-Prov(Acute)'!$A$2:$A$29012,0)+VALUE(RIGHT(J$2,1))-1,0),\"\")","v":"5NN"},{"$f":"IF(VALUE(MID(K$2,5,2))<=$D198,OFFSET('CCG-Prov(Acute)'!$B$1,MATCH($A198,'CCG-Prov(Acute)'!$A$2:$A$29012,0)+VALUE(RIGHT(K$2,1))-1,0),\"\")","v":"RQ6"},{"$f":"IF(VALUE(MID(L$2,5,2))<=$D198,OFFSET('CCG-Prov(Acute)'!$B$1,MATCH($A198,'CCG-Prov(Acute)'!$A$2:$A$29012,0)+VALUE(RIGHT(L$2,1))-1,0),\"\")","v":"RBS"},{"$f":"IF(VALUE(MID(M$2,5,2))<=$D198,OFFSET('CCG-Prov(Acute)'!$B$1,MATCH($A198,'CCG-Prov(Acute)'!$A$2:$A$29012,0)+VALUE(RIGHT(M$2,1))-1,0),\"\")","v":""},{"$f":"IF(VALUE(MID(N$2,5,2))<=$D198,OFFSET('CCG-Prov(Acute)'!$B$1,MATCH($A198,'CCG-Prov(Acute)'!$A$2:$A$29012,0)+VALUE(RIGHT(N$2,1))-1,0),\"\")","v":""},null,null,"RNS",{"$f":"VLOOKUP(Q198,provnames!$A$2:$B$331,2,0)","v":"Northampton General Hospital NHS Trust"},{"$f":"SUM(IF(('CCG-Prov(Acute)'!$B$2:$B$28899=Q198),1,0))","v":182},null,{"$f":"SUM(IF(('CCG-Prov(Amb)'!$A$2:$A$335=A198),1,0))","v":2},{"$f":"SUM(IF(('CCG-Prov(Amb)'!$A$2:$A$335=A198)*('CCG-Prov(Amb)'!$C$2:$C$335>=Ambulance!$B$7),1,0))","v":1},{"$f":"IF(VALUE(MID(W$2,5,2))<=$V198,OFFSET('CCG-Prov(Amb)'!$B$1,MATCH($A198,'CCG-Prov(Amb)'!$A$2:$A$335,0)+VALUE(RIGHT(W$2,1))-1,0),\"\")","v":"RX7"},{"$f":"IF(VALUE(MID(X$2,5,2))<=$V198,OFFSET('CCG-Prov(Amb)'!$B$1,MATCH($A198,'CCG-Prov(Amb)'!$A$2:$A$335,0)+VALUE(RIGHT(X$2,1))-1,0),\"\")","v":""},{"$f":"IF(VALUE(MID(Y$2,5,2))<=$V198,OFFSET('CCG-Prov(Amb)'!$B$1,MATCH($A198,'CCG-Prov(Amb)'!$A$2:$A$335,0)+VALUE(RIGHT(Y$2,1))-1,0),\"\")","v":""},{"$f":"IF(VALUE(MID(Z$2,5,2))<=$V198,OFFSET('CCG-Prov(Amb)'!$B$1,MATCH($A198,'CCG-Prov(Amb)'!$A$2:$A$335,0)+VALUE(RIGHT(Z$2,1))-1,0),\"\")","v":""},{"$f":"IF(VALUE(MID(AA$2,5,2))<=$V198,OFFSET('CCG-Prov(Amb)'!$B$1,MATCH($A198,'CCG-Prov(Amb)'!$A$2:$A$335,0)+VALUE(RIGHT(AA$2,1))-1,0),\"\")","v":""},null,null,null,null,null,{"$f":"SUM(IF(('CCG-Prov(Births)'!$A$2:$A$6150=A198),1,0))","v":25},{"$f":"SUM(IF(('CCG-Prov(Births)'!$A$2:$A$6150=A198)*('CCG-Prov(Births)'!$C$2:$C$6150>=Maternity!$B$7),1,0))","v":2},{"$f":"IF(VALUE(MID(AI$2,5,2))<=$V198,OFFSET('CCG-Prov(Births)'!$B$1,MATCH($A198,'CCG-Prov(Births)'!$A$2:$A$6150,0)+VALUE(RIGHT(AI$2,1))-1,0),\"\")","v":"RJR"},{"$f":"IF(VALUE(MID(AJ$2,5,2))<=$V198,OFFSET('CCG-Prov(Births)'!$B$1,MATCH($A198,'CCG-Prov(Births)'!$A$2:$A$6150,0)+VALUE(RIGHT(AJ$2,1))-1,0),\"\")","v":""},{"$f":"IF(VALUE(MID(AK$2,5,2))<=$V198,OFFSET('CCG-Prov(Births)'!$B$1,MATCH($A198,'CCG-Prov(Births)'!$A$2:$A$6150,0)+VALUE(RIGHT(AK$2,1))-1,0),\"\")","v":""},{"$f":"IF(VALUE(MID(AL$2,5,2))<=$V198,OFFSET('CCG-Prov(Births)'!$B$1,MATCH($A198,'CCG-Prov(Births)'!$A$2:$A$6150,0)+VALUE(RIGHT(AL$2,1))-1,0),\"\")","v":""},{"$f":"IF(VALUE(MID(AM$2,5,2))<=$V198,OFFSET('CCG-Prov(Births)'!$B$1,MATCH($A198,'CCG-Prov(Births)'!$A$2:$A$6150,0)+VALUE(RIGHT(AM$2,1))-1,0),\"\")","v":""}]
["07H","West Essex",{"$f":"SUM(IF(('CCG-Prov(Acute)'!$A$2:$A$29012=A199),1,0))","v":143},{"$f":"SUM(IF(('CCG-Prov(Acute)'!$A$2:$A$29012=A199)*('CCG-Prov(Acute)'!$C$2:$C$29012>=Acute!$B$7),1,0))","v":10},{"$f":"IF(VALUE(MID(E$2,5,2))<=$D199,OFFSET('CCG-Prov(Acute)'!$B$1,MATCH($A199,'CCG-Prov(Acute)'!$A$2:$A$29012,0)+VALUE(RIGHT(E$2,1))-1,0),\"\")","v":"RQW"},{"$f":"IF(VALUE(MID(F$2,5,2))<=$D199,OFFSET('CCG-Prov(Acute)'!$B$1,MATCH($A199,'CCG-Prov(Acute)'!$A$2:$A$29012,0)+VALUE(RIGHT(F$2,1))-1,0),\"\")","v":"RGT"},{"$f":"IF(VALUE(MID(G$2,5,2))<=$D199,OFFSET('CCG-Prov(Acute)'!$B$1,MATCH($A199,'CCG-Prov(Acute)'!$A$2:$A$29012,0)+VALUE(RIGHT(G$2,1))-1,0),\"\")","v":"RGC"},{"$f":"IF(VALUE(MID(H$2,5,2))<=$D199,OFFSET('CCG-Prov(Acute)'!$B$1,MATCH($A199,'CCG-Prov(Acute)'!$A$2:$A$29012,0)+VALUE(RIGHT(H$2,1))-1,0),\"\")","v":"RQ8"},{"$f":"IF(VALUE(MID(I$2,5,2))<=$D199,OFFSET('CCG-Prov(Acute)'!$B$1,MATCH($A199,'CCG-Prov(Acute)'!$A$2:$A$29012,0)+VALUE(RIGHT(I$2,1))-1,0),\"\")","v":"NVC"},{"$f":"IF(VALUE(MID(J$2,5,2))<=$D199,OFFSET('CCG-Prov(Acute)'!$B$1,MATCH($A199,'CCG-Prov(Acute)'!$A$2:$A$29012,0)+VALUE(RIGHT(J$2,1))-1,0),\"\")","v":"5PV"},{"$f":"IF(VALUE(MID(K$2,5,2))<=$D199,OFFSET('CCG-Prov(Acute)'!$B$1,MATCH($A199,'CCG-Prov(Acute)'!$A$2:$A$29012,0)+VALUE(RIGHT(K$2,1))-1,0),\"\")","v":"RF4"},{"$f":"IF(VALUE(MID(L$2,5,2))<=$D199,OFFSET('CCG-Prov(Acute)'!$B$1,MATCH($A199,'CCG-Prov(Acute)'!$A$2:$A$29012,0)+VALUE(RIGHT(L$2,1))-1,0),\"\")","v":"RNJ"},{"$f":"IF(VALUE(MID(M$2,5,2))<=$D199,OFFSET('CCG-Prov(Acute)'!$B$1,MATCH($A199,'CCG-Prov(Acute)'!$A$2:$A$29012,0)+VALUE(RIGHT(M$2,1))-1,0),\"\")","v":"RRV"},{"$f":"IF(VALUE(MID(N$2,5,2))<=$D199,OFFSET('CCG-Prov(Acute)'!$B$1,MATCH($A199,'CCG-Prov(Acute)'!$A$2:$A$29012,0)+VALUE(RIGHT(N$2,1))-1,0),\"\")","v":"RXW"},null,null,"RNZ",{"$f":"VLOOKUP(Q199,provnames!$A$2:$B$331,2,0)","v":"Salisbury NHS FT"},{"$f":"SUM(IF(('CCG-Prov(Acute)'!$B$2:$B$28899=Q199),1,0))","v":154},null,{"$f":"SUM(IF(('CCG-Prov(Amb)'!$A$2:$A$335=A199),1,0))","v":2},{"$f":"SUM(IF(('CCG-Prov(Amb)'!$A$2:$A$335=A199)*('CCG-Prov(Amb)'!$C$2:$C$335>=Ambulance!$B$7),1,0))","v":2},{"$f":"IF(VALUE(MID(W$2,5,2))<=$V199,OFFSET('CCG-Prov(Amb)'!$B$1,MATCH($A199,'CCG-Prov(Amb)'!$A$2:$A$335,0)+VALUE(RIGHT(W$2,1))-1,0),\"\")","v":"RYC"},{"$f":"IF(VALUE(MID(X$2,5,2))<=$V199,OFFSET('CCG-Prov(Amb)'!$B$1,MATCH($A199,'CCG-Prov(Amb)'!$A$2:$A$335,0)+VALUE(RIGHT(X$2,1))-1,0),\"\")","v":"RRY"},{"$f":"IF(VALUE(MID(Y$2,5,2))<=$V199,OFFSET('CCG-Prov(Amb)'!$B$1,MATCH($A199,'CCG-Prov(Amb)'!$A$2:$A$335,0)+VALUE(RIGHT(Y$2,1))-1,0),\"\")","v":""},{"$f":"IF(VALUE(MID(Z$2,5,2))<=$V199,OFFSET('CCG-Prov(Amb)'!$B$1,MATCH($A199,'CCG-Prov(Amb)'!$A$2:$A$335,0)+VALUE(RIGHT(Z$2,1))-1,0),\"\")","v":""},{"$f":"IF(VALUE(MID(AA$2,5,2))<=$V199,OFFSET('CCG-Prov(Amb)'!$B$1,MATCH($A199,'CCG-Prov(Amb)'!$A$2:$A$335,0)+VALUE(RIGHT(AA$2,1))-1,0),\"\")","v":""},null,null,null,null,null,{"$f":"SUM(IF(('CCG-Prov(Births)'!$A$2:$A$6150=A199),1,0))","v":39},{"$f":"SUM(IF(('CCG-Prov(Births)'!$A$2:$A$6150=A199)*('CCG-Prov(Births)'!$C$2:$C$6150>=Maternity!$B$7),1,0))","v":5},{"$f":"IF(VALUE(MID(AI$2,5,2))<=$V199,OFFSET('CCG-Prov(Births)'!$B$1,MATCH($A199,'CCG-Prov(Births)'!$A$2:$A$6150,0)+VALUE(RIGHT(AI$2,1))-1,0),\"\")","v":"RQW"},{"$f":"IF(VALUE(MID(AJ$2,5,2))<=$V199,OFFSET('CCG-Prov(Births)'!$B$1,MATCH($A199,'CCG-Prov(Births)'!$A$2:$A$6150,0)+VALUE(RIGHT(AJ$2,1))-1,0),\"\")","v":"RGT"},{"$f":"IF(VALUE(MID(AK$2,5,2))<=$V199,OFFSET('CCG-Prov(Births)'!$B$1,MATCH($A199,'CCG-Prov(Births)'!$A$2:$A$6150,0)+VALUE(RIGHT(AK$2,1))-1,0),\"\")","v":""},{"$f":"IF(VALUE(MID(AL$2,5,2))<=$V199,OFFSET('CCG-Prov(Births)'!$B$1,MATCH($A199,'CCG-Prov(Births)'!$A$2:$A$6150,0)+VALUE(RIGHT(AL$2,1))-1,0),\"\")","v":""},{"$f":"IF(VALUE(MID(AM$2,5,2))<=$V199,OFFSET('CCG-Prov(Births)'!$B$1,MATCH($A199,'CCG-Prov(Births)'!$A$2:$A$6150,0)+VALUE(RIGHT(AM$2,1))-1,0),\"\")","v":""}]
["11A","West Hampshire",{"$f":"SUM(IF(('CCG-Prov(Acute)'!$A$2:$A$29012=A200),1,0))","v":163},{"$f":"SUM(IF(('CCG-Prov(Acute)'!$A$2:$A$29012=A200)*('CCG-Prov(Acute)'!$C$2:$C$29012>=Acute!$B$7),1,0))","v":9},{"$f":"IF(VALUE(MID(E$2,5,2))<=$D200,OFFSET('CCG-Prov(Acute)'!$B$1,MATCH($A200,'CCG-Prov(Acute)'!$A$2:$A$29012,0)+VALUE(RIGHT(E$2,1))-1,0),\"\")","v":"RHM"},{"$f":"IF(VALUE(MID(F$2,5,2))<=$D200,OFFSET('CCG-Prov(Acute)'!$B$1,MATCH($A200,'CCG-Prov(Acute)'!$A$2:$A$29012,0)+VALUE(RIGHT(F$2,1))-1,0),\"\")","v":"RN1"},{"$f":"IF(VALUE(MID(G$2,5,2))<=$D200,OFFSET('CCG-Prov(Acute)'!$B$1,MATCH($A200,'CCG-Prov(Acute)'!$A$2:$A$29012,0)+VALUE(RIGHT(G$2,1))-1,0),\"\")","v":"RDZ"},{"$f":"IF(VALUE(MID(H$2,5,2))<=$D200,OFFSET('CCG-Prov(Acute)'!$B$1,MATCH($A200,'CCG-Prov(Acute)'!$A$2:$A$29012,0)+VALUE(RIGHT(H$2,1))-1,0),\"\")","v":"5QC"},{"$f":"IF(VALUE(MID(I$2,5,2))<=$D200,OFFSET('CCG-Prov(Acute)'!$B$1,MATCH($A200,'CCG-Prov(Acute)'!$A$2:$A$29012,0)+VALUE(RIGHT(I$2,1))-1,0),\"\")","v":"RNZ"},{"$f":"IF(VALUE(MID(J$2,5,2))<=$D200,OFFSET('CCG-Prov(Acute)'!$B$1,MATCH($A200,'CCG-Prov(Acute)'!$A$2:$A$29012,0)+VALUE(RIGHT(J$2,1))-1,0),\"\")","v":"NTP"},{"$f":"IF(VALUE(MID(K$2,5,2))<=$D200,OFFSET('CCG-Prov(Acute)'!$B$1,MATCH($A200,'CCG-Prov(Acute)'!$A$2:$A$29012,0)+VALUE(RIGHT(K$2,1))-1,0),\"\")","v":"RHU"},{"$f":"IF(VALUE(MID(L$2,5,2))<=$D200,OFFSET('CCG-Prov(Acute)'!$B$1,MATCH($A200,'CCG-Prov(Acute)'!$A$2:$A$29012,0)+VALUE(RIGHT(L$2,1))-1,0),\"\")","v":"RN5"},{"$f":"IF(VALUE(MID(M$2,5,2))<=$D200,OFFSET('CCG-Prov(Acute)'!$B$1,MATCH($A200,'CCG-Prov(Acute)'!$A$2:$A$29012,0)+VALUE(RIGHT(M$2,1))-1,0),\"\")","v":"RD3"},{"$f":"IF(VALUE(MID(N$2,5,2))<=$D200,OFFSET('CCG-Prov(Acute)'!$B$1,MATCH($A200,'CCG-Prov(Acute)'!$A$2:$A$29012,0)+VALUE(RIGHT(N$2,1))-1,0),\"\")","v":""},null,null,"RP1",{"$f":"VLOOKUP(Q200,provnames!$A$2:$B$331,2,0)","v":"Northamptonshire Healthcare NHS FT"},{"$f":"SUM(IF(('CCG-Prov(Acute)'!$B$2:$B$28899=Q200),1,0))","v":19},null,{"$f":"SUM(IF(('CCG-Prov(Amb)'!$A$2:$A$335=A200),1,0))","v":3},{"$f":"SUM(IF(('CCG-Prov(Amb)'!$A$2:$A$335=A200)*('CCG-Prov(Amb)'!$C$2:$C$335>=Ambulance!$B$7),1,0))","v":2},{"$f":"IF(VALUE(MID(W$2,5,2))<=$V200,OFFSET('CCG-Prov(Amb)'!$B$1,MATCH($A200,'CCG-Prov(Amb)'!$A$2:$A$335,0)+VALUE(RIGHT(W$2,1))-1,0),\"\")","v":"RYE"},{"$f":"IF(VALUE(MID(X$2,5,2))<=$V200,OFFSET('CCG-Prov(Amb)'!$B$1,MATCH($A200,'CCG-Prov(Amb)'!$A$2:$A$335,0)+VALUE(RIGHT(X$2,1))-1,0),\"\")","v":"RYF"},{"$f":"IF(VALUE(MID(Y$2,5,2))<=$V200,OFFSET('CCG-Prov(Amb)'!$B$1,MATCH($A200,'CCG-Prov(Amb)'!$A$2:$A$335,0)+VALUE(RIGHT(Y$2,1))-1,0),\"\")","v":""},{"$f":"IF(VALUE(MID(Z$2,5,2))<=$V200,OFFSET('CCG-Prov(Amb)'!$B$1,MATCH($A200,'CCG-Prov(Amb)'!$A$2:$A$335,0)+VALUE(RIGHT(Z$2,1))-1,0),\"\")","v":""},{"$f":"IF(VALUE(MID(AA$2,5,2))<=$V200,OFFSET('CCG-Prov(Amb)'!$B$1,MATCH($A200,'CCG-Prov(Amb)'!$A$2:$A$335,0)+VALUE(RIGHT(AA$2,1))-1,0),\"\")","v":""},null,null,null,null,null,{"$f":"SUM(IF(('CCG-Prov(Births)'!$A$2:$A$6150=A200),1,0))","v":42},{"$f":"SUM(IF(('CCG-Prov(Births)'!$A$2:$A$6150=A200)*('CCG-Prov(Births)'!$C$2:$C$6150>=Maternity!$B$7),1,0))","v":6},{"$f":"IF(VALUE(MID(AI$2,5,2))<=$V200,OFFSET('CCG-Prov(Births)'!$B$1,MATCH($A200,'CCG-Prov(Births)'!$A$2:$A$6150,0)+VALUE(RIGHT(AI$2,1))-1,0),\"\")","v":"RN1"},{"$f":"IF(VALUE(MID(AJ$2,5,2))<=$V200,OFFSET('CCG-Prov(Births)'!$B$1,MATCH($A200,'CCG-Prov(Births)'!$A$2:$A$6150,0)+VALUE(RIGHT(AJ$2,1))-1,0),\"\")","v":"RHM"},{"$f":"IF(VALUE(MID(AK$2,5,2))<=$V200,OFFSET('CCG-Prov(Births)'!$B$1,MATCH($A200,'CCG-Prov(Births)'!$A$2:$A$6150,0)+VALUE(RIGHT(AK$2,1))-1,0),\"\")","v":""},{"$f":"IF(VALUE(MID(AL$2,5,2))<=$V200,OFFSET('CCG-Prov(Births)'!$B$1,MATCH($A200,'CCG-Prov(Births)'!$A$2:$A$6150,0)+VALUE(RIGHT(AL$2,1))-1,0),\"\")","v":""},{"$f":"IF(VALUE(MID(AM$2,5,2))<=$V200,OFFSET('CCG-Prov(Births)'!$B$1,MATCH($A200,'CCG-Prov(Births)'!$A$2:$A$6150,0)+VALUE(RIGHT(AM$2,1))-1,0),\"\")","v":""}]
["99J","West Kent",{"$f":"SUM(IF(('CCG-Prov(Acute)'!$A$2:$A$29012=A201),1,0))","v":154},{"$f":"SUM(IF(('CCG-Prov(Acute)'!$A$2:$A$29012=A201)*('CCG-Prov(Acute)'!$C$2:$C$29012>=Acute!$B$7),1,0))","v":13},{"$f":"IF(VALUE(MID(E$2,5,2))<=$D201,OFFSET('CCG-Prov(Acute)'!$B$1,MATCH($A201,'CCG-Prov(Acute)'!$A$2:$A$29012,0)+VALUE(RIGHT(E$2,1))-1,0),\"\")","v":"RWF"},{"$f":"IF(VALUE(MID(F$2,5,2))<=$D201,OFFSET('CCG-Prov(Acute)'!$B$1,MATCH($A201,'CCG-Prov(Acute)'!$A$2:$A$29012,0)+VALUE(RIGHT(F$2,1))-1,0),\"\")","v":"NTP"},{"$f":"IF(VALUE(MID(G$2,5,2))<=$D201,OFFSET('CCG-Prov(Acute)'!$B$1,MATCH($A201,'CCG-Prov(Acute)'!$A$2:$A$29012,0)+VALUE(RIGHT(G$2,1))-1,0),\"\")","v":"RYQ"},{"$f":"IF(VALUE(MID(H$2,5,2))<=$D201,OFFSET('CCG-Prov(Acute)'!$B$1,MATCH($A201,'CCG-Prov(Acute)'!$A$2:$A$29012,0)+VALUE(RIGHT(H$2,1))-1,0),\"\")","v":"RPC"},{"$f":"IF(VALUE(MID(I$2,5,2))<=$D201,OFFSET('CCG-Prov(Acute)'!$B$1,MATCH($A201,'CCG-Prov(Acute)'!$A$2:$A$29012,0)+VALUE(RIGHT(I$2,1))-1,0),\"\")","v":"RJ1"},{"$f":"IF(VALUE(MID(J$2,5,2))<=$D201,OFFSET('CCG-Prov(Acute)'!$B$1,MATCH($A201,'CCG-Prov(Acute)'!$A$2:$A$29012,0)+VALUE(RIGHT(J$2,1))-1,0),\"\")","v":"RVV"},{"$f":"IF(VALUE(MID(K$2,5,2))<=$D201,OFFSET('CCG-Prov(Acute)'!$B$1,MATCH($A201,'CCG-Prov(Acute)'!$A$2:$A$29012,0)+VALUE(RIGHT(K$2,1))-1,0),\"\")","v":"NXM"},{"$f":"IF(VALUE(MID(L$2,5,2))<=$D201,OFFSET('CCG-Prov(Acute)'!$B$1,MATCH($A201,'CCG-Prov(Acute)'!$A$2:$A$29012,0)+VALUE(RIGHT(L$2,1))-1,0),\"\")","v":"RJZ"},{"$f":"IF(VALUE(MID(M$2,5,2))<=$D201,OFFSET('CCG-Prov(Acute)'!$B$1,MATCH($A201,'CCG-Prov(Acute)'!$A$2:$A$29012,0)+VALUE(RIGHT(M$2,1))-1,0),\"\")","v":"RPA"},{"$f":"IF(VALUE(MID(N$2,5,2))<=$D201,OFFSET('CCG-Prov(Acute)'!$B$1,MATCH($A201,'CCG-Prov(Acute)'!$A$2:$A$29012,0)+VALUE(RIGHT(N$2,1))-1,0),\"\")","v":"RXL"},null,null,"RP4",{"$f":"VLOOKUP(Q201,provnames!$A$2:$B$331,2,0)","v":"Great Ormond Street Hospital NHS Trust"},{"$f":"SUM(IF(('CCG-Prov(Acute)'!$B$2:$B$28899=Q201),1,0))","v":208},null,{"$f":"SUM(IF(('CCG-Prov(Amb)'!$A$2:$A$335=A201),1,0))","v":2},{"$f":"SUM(IF(('CCG-Prov(Amb)'!$A$2:$A$335=A201)*('CCG-Prov(Amb)'!$C$2:$C$335>=Ambulance!$B$7),1,0))","v":1},{"$f":"IF(VALUE(MID(W$2,5,2))<=$V201,OFFSET('CCG-Prov(Amb)'!$B$1,MATCH($A201,'CCG-Prov(Amb)'!$A$2:$A$335,0)+VALUE(RIGHT(W$2,1))-1,0),\"\")","v":"RYD"},{"$f":"IF(VALUE(MID(X$2,5,2))<=$V201,OFFSET('CCG-Prov(Amb)'!$B$1,MATCH($A201,'CCG-Prov(Amb)'!$A$2:$A$335,0)+VALUE(RIGHT(X$2,1))-1,0),\"\")","v":""},{"$f":"IF(VALUE(MID(Y$2,5,2))<=$V201,OFFSET('CCG-Prov(Amb)'!$B$1,MATCH($A201,'CCG-Prov(Amb)'!$A$2:$A$335,0)+VALUE(RIGHT(Y$2,1))-1,0),\"\")","v":""},{"$f":"IF(VALUE(MID(Z$2,5,2))<=$V201,OFFSET('CCG-Prov(Amb)'!$B$1,MATCH($A201,'CCG-Prov(Amb)'!$A$2:$A$335,0)+VALUE(RIGHT(Z$2,1))-1,0),\"\")","v":""},{"$f":"IF(VALUE(MID(AA$2,5,2))<=$V201,OFFSET('CCG-Prov(Amb)'!$B$1,MATCH($A201,'CCG-Prov(Amb)'!$A$2:$A$335,0)+VALUE(RIGHT(AA$2,1))-1,0),\"\")","v":""},null,null,null,null,null,{"$f":"SUM(IF(('CCG-Prov(Births)'!$A$2:$A$6150=A201),1,0))","v":37},{"$f":"SUM(IF(('CCG-Prov(Births)'!$A$2:$A$6150=A201)*('CCG-Prov(Births)'!$C$2:$C$6150>=Maternity!$B$7),1,0))","v":6},{"$f":"IF(VALUE(MID(AI$2,5,2))<=$V201,OFFSET('CCG-Prov(Births)'!$B$1,MATCH($A201,'CCG-Prov(Births)'!$A$2:$A$6150,0)+VALUE(RIGHT(AI$2,1))-1,0),\"\")","v":"RWF"},{"$f":"IF(VALUE(MID(AJ$2,5,2))<=$V201,OFFSET('CCG-Prov(Births)'!$B$1,MATCH($A201,'CCG-Prov(Births)'!$A$2:$A$6150,0)+VALUE(RIGHT(AJ$2,1))-1,0),\"\")","v":""},{"$f":"IF(VALUE(MID(AK$2,5,2))<=$V201,OFFSET('CCG-Prov(Births)'!$B$1,MATCH($A201,'CCG-Prov(Births)'!$A$2:$A$6150,0)+VALUE(RIGHT(AK$2,1))-1,0),\"\")","v":""},{"$f":"IF(VALUE(MID(AL$2,5,2))<=$V201,OFFSET('CCG-Prov(Births)'!$B$1,MATCH($A201,'CCG-Prov(Births)'!$A$2:$A$6150,0)+VALUE(RIGHT(AL$2,1))-1,0),\"\")","v":""},{"$f":"IF(VALUE(MID(AM$2,5,2))<=$V201,OFFSET('CCG-Prov(Births)'!$B$1,MATCH($A201,'CCG-Prov(Births)'!$A$2:$A$6150,0)+VALUE(RIGHT(AM$2,1))-1,0),\"\")","v":""}]
["02G","West Lancashire",{"$f":"SUM(IF(('CCG-Prov(Acute)'!$A$2:$A$29012=A202),1,0))","v":107},{"$f":"SUM(IF(('CCG-Prov(Acute)'!$A$2:$A$29012=A202)*('CCG-Prov(Acute)'!$C$2:$C$29012>=Acute!$B$7),1,0))","v":8},{"$f":"IF(VALUE(MID(E$2,5,2))<=$D202,OFFSET('CCG-Prov(Acute)'!$B$1,MATCH($A202,'CCG-Prov(Acute)'!$A$2:$A$29012,0)+VALUE(RIGHT(E$2,1))-1,0),\"\")","v":"RVY"},{"$f":"IF(VALUE(MID(F$2,5,2))<=$D202,OFFSET('CCG-Prov(Acute)'!$B$1,MATCH($A202,'CCG-Prov(Acute)'!$A$2:$A$29012,0)+VALUE(RIGHT(F$2,1))-1,0),\"\")","v":"RRF"},{"$f":"IF(VALUE(MID(G$2,5,2))<=$D202,OFFSET('CCG-Prov(Acute)'!$B$1,MATCH($A202,'CCG-Prov(Acute)'!$A$2:$A$29012,0)+VALUE(RIGHT(G$2,1))-1,0),\"\")","v":"REM"},{"$f":"IF(VALUE(MID(H$2,5,2))<=$D202,OFFSET('CCG-Prov(Acute)'!$B$1,MATCH($A202,'CCG-Prov(Acute)'!$A$2:$A$29012,0)+VALUE(RIGHT(H$2,1))-1,0),\"\")","v":"NVC"},{"$f":"IF(VALUE(MID(I$2,5,2))<=$D202,OFFSET('CCG-Prov(Acute)'!$B$1,MATCH($A202,'CCG-Prov(Acute)'!$A$2:$A$29012,0)+VALUE(RIGHT(I$2,1))-1,0),\"\")","v":"RXN"},{"$f":"IF(VALUE(MID(J$2,5,2))<=$D202,OFFSET('CCG-Prov(Acute)'!$B$1,MATCH($A202,'CCG-Prov(Acute)'!$A$2:$A$29012,0)+VALUE(RIGHT(J$2,1))-1,0),\"\")","v":"RBS"},{"$f":"IF(VALUE(MID(K$2,5,2))<=$D202,OFFSET('CCG-Prov(Acute)'!$B$1,MATCH($A202,'CCG-Prov(Acute)'!$A$2:$A$29012,0)+VALUE(RIGHT(K$2,1))-1,0),\"\")","v":"RQ6"},{"$f":"IF(VALUE(MID(L$2,5,2))<=$D202,OFFSET('CCG-Prov(Acute)'!$B$1,MATCH($A202,'CCG-Prov(Acute)'!$A$2:$A$29012,0)+VALUE(RIGHT(L$2,1))-1,0),\"\")","v":"RBN"},{"$f":"IF(VALUE(MID(M$2,5,2))<=$D202,OFFSET('CCG-Prov(Acute)'!$B$1,MATCH($A202,'CCG-Prov(Acute)'!$A$2:$A$29012,0)+VALUE(RIGHT(M$2,1))-1,0),\"\")","v":""},{"$f":"IF(VALUE(MID(N$2,5,2))<=$D202,OFFSET('CCG-Prov(Acute)'!$B$1,MATCH($A202,'CCG-Prov(Acute)'!$A$2:$A$29012,0)+VALUE(RIGHT(N$2,1))-1,0),\"\")","v":""},null,null,"RP5",{"$f":"VLOOKUP(Q202,provnames!$A$2:$B$331,2,0)","v":"Doncaster & Bassetlaw Hospitals NHS FT"},{"$f":"SUM(IF(('CCG-Prov(Acute)'!$B$2:$B$28899=Q202),1,0))","v":156},null,{"$f":"SUM(IF(('CCG-Prov(Amb)'!$A$2:$A$335=A202),1,0))","v":1},{"$f":"SUM(IF(('CCG-Prov(Amb)'!$A$2:$A$335=A202)*('CCG-Prov(Amb)'!$C$2:$C$335>=Ambulance!$B$7),1,0))","v":1},{"$f":"IF(VALUE(MID(W$2,5,2))<=$V202,OFFSET('CCG-Prov(Amb)'!$B$1,MATCH($A202,'CCG-Prov(Amb)'!$A$2:$A$335,0)+VALUE(RIGHT(W$2,1))-1,0),\"\")","v":"RX7"},{"$f":"IF(VALUE(MID(X$2,5,2))<=$V202,OFFSET('CCG-Prov(Amb)'!$B$1,MATCH($A202,'CCG-Prov(Amb)'!$A$2:$A$335,0)+VALUE(RIGHT(X$2,1))-1,0),\"\")","v":""},{"$f":"IF(VALUE(MID(Y$2,5,2))<=$V202,OFFSET('CCG-Prov(Amb)'!$B$1,MATCH($A202,'CCG-Prov(Amb)'!$A$2:$A$335,0)+VALUE(RIGHT(Y$2,1))-1,0),\"\")","v":""},{"$f":"IF(VALUE(MID(Z$2,5,2))<=$V202,OFFSET('CCG-Prov(Amb)'!$B$1,MATCH($A202,'CCG-Prov(Amb)'!$A$2:$A$335,0)+VALUE(RIGHT(Z$2,1))-1,0),\"\")","v":""},{"$f":"IF(VALUE(MID(AA$2,5,2))<=$V202,OFFSET('CCG-Prov(Amb)'!$B$1,MATCH($A202,'CCG-Prov(Amb)'!$A$2:$A$335,0)+VALUE(RIGHT(AA$2,1))-1,0),\"\")","v":""},null,null,null,null,null,{"$f":"SUM(IF(('CCG-Prov(Births)'!$A$2:$A$6150=A202),1,0))","v":12},{"$f":"SUM(IF(('CCG-Prov(Births)'!$A$2:$A$6150=A202)*('CCG-Prov(Births)'!$C$2:$C$6150>=Maternity!$B$7),1,0))","v":1},{"$f":"IF(VALUE(MID(AI$2,5,2))<=$V202,OFFSET('CCG-Prov(Births)'!$B$1,MATCH($A202,'CCG-Prov(Births)'!$A$2:$A$6150,0)+VALUE(RIGHT(AI$2,1))-1,0),\"\")","v":"RVY"},{"$f":"IF(VALUE(MID(AJ$2,5,2))<=$V202,OFFSET('CCG-Prov(Births)'!$B$1,MATCH($A202,'CCG-Prov(Births)'!$A$2:$A$6150,0)+VALUE(RIGHT(AJ$2,1))-1,0),\"\")","v":""},{"$f":"IF(VALUE(MID(AK$2,5,2))<=$V202,OFFSET('CCG-Prov(Births)'!$B$1,MATCH($A202,'CCG-Prov(Births)'!$A$2:$A$6150,0)+VALUE(RIGHT(AK$2,1))-1,0),\"\")","v":""},{"$f":"IF(VALUE(MID(AL$2,5,2))<=$V202,OFFSET('CCG-Prov(Births)'!$B$1,MATCH($A202,'CCG-Prov(Births)'!$A$2:$A$6150,0)+VALUE(RIGHT(AL$2,1))-1,0),\"\")","v":""},{"$f":"IF(VALUE(MID(AM$2,5,2))<=$V202,OFFSET('CCG-Prov(Births)'!$B$1,MATCH($A202,'CCG-Prov(Births)'!$A$2:$A$6150,0)+VALUE(RIGHT(AM$2,1))-1,0),\"\")","v":""}]
["04V","West Leicestershire",{"$f":"SUM(IF(('CCG-Prov(Acute)'!$A$2:$A$29012=A203),1,0))","v":177},{"$f":"SUM(IF(('CCG-Prov(Acute)'!$A$2:$A$29012=A203)*('CCG-Prov(Acute)'!$C$2:$C$29012>=Acute!$B$7),1,0))","v":8},{"$f":"IF(VALUE(MID(E$2,5,2))<=$D203,OFFSET('CCG-Prov(Acute)'!$B$1,MATCH($A203,'CCG-Prov(Acute)'!$A$2:$A$29012,0)+VALUE(RIGHT(E$2,1))-1,0),\"\")","v":"RWE"},{"$f":"IF(VALUE(MID(F$2,5,2))<=$D203,OFFSET('CCG-Prov(Acute)'!$B$1,MATCH($A203,'CCG-Prov(Acute)'!$A$2:$A$29012,0)+VALUE(RIGHT(F$2,1))-1,0),\"\")","v":"5PA"},{"$f":"IF(VALUE(MID(G$2,5,2))<=$D203,OFFSET('CCG-Prov(Acute)'!$B$1,MATCH($A203,'CCG-Prov(Acute)'!$A$2:$A$29012,0)+VALUE(RIGHT(G$2,1))-1,0),\"\")","v":"RLT"},{"$f":"IF(VALUE(MID(H$2,5,2))<=$D203,OFFSET('CCG-Prov(Acute)'!$B$1,MATCH($A203,'CCG-Prov(Acute)'!$A$2:$A$29012,0)+VALUE(RIGHT(H$2,1))-1,0),\"\")","v":"RJF"},{"$f":"IF(VALUE(MID(I$2,5,2))<=$D203,OFFSET('CCG-Prov(Acute)'!$B$1,MATCH($A203,'CCG-Prov(Acute)'!$A$2:$A$29012,0)+VALUE(RIGHT(I$2,1))-1,0),\"\")","v":"RTG"},{"$f":"IF(VALUE(MID(J$2,5,2))<=$D203,OFFSET('CCG-Prov(Acute)'!$B$1,MATCH($A203,'CCG-Prov(Acute)'!$A$2:$A$29012,0)+VALUE(RIGHT(J$2,1))-1,0),\"\")","v":"RKB"},{"$f":"IF(VALUE(MID(K$2,5,2))<=$D203,OFFSET('CCG-Prov(Acute)'!$B$1,MATCH($A203,'CCG-Prov(Acute)'!$A$2:$A$29012,0)+VALUE(RIGHT(K$2,1))-1,0),\"\")","v":"RX1"},{"$f":"IF(VALUE(MID(L$2,5,2))<=$D203,OFFSET('CCG-Prov(Acute)'!$B$1,MATCH($A203,'CCG-Prov(Acute)'!$A$2:$A$29012,0)+VALUE(RIGHT(L$2,1))-1,0),\"\")","v":"NTA"},{"$f":"IF(VALUE(MID(M$2,5,2))<=$D203,OFFSET('CCG-Prov(Acute)'!$B$1,MATCH($A203,'CCG-Prov(Acute)'!$A$2:$A$29012,0)+VALUE(RIGHT(M$2,1))-1,0),\"\")","v":""},{"$f":"IF(VALUE(MID(N$2,5,2))<=$D203,OFFSET('CCG-Prov(Acute)'!$B$1,MATCH($A203,'CCG-Prov(Acute)'!$A$2:$A$29012,0)+VALUE(RIGHT(N$2,1))-1,0),\"\")","v":""},null,null,"RP6",{"$f":"VLOOKUP(Q203,provnames!$A$2:$B$331,2,0)","v":"Moorfields Eye Hospital NHS FT"},{"$f":"SUM(IF(('CCG-Prov(Acute)'!$B$2:$B$28899=Q203),1,0))","v":181},null,{"$f":"SUM(IF(('CCG-Prov(Amb)'!$A$2:$A$335=A203),1,0))","v":2},{"$f":"SUM(IF(('CCG-Prov(Amb)'!$A$2:$A$335=A203)*('CCG-Prov(Amb)'!$C$2:$C$335>=Ambulance!$B$7),1,0))","v":2},{"$f":"IF(VALUE(MID(W$2,5,2))<=$V203,OFFSET('CCG-Prov(Amb)'!$B$1,MATCH($A203,'CCG-Prov(Amb)'!$A$2:$A$335,0)+VALUE(RIGHT(W$2,1))-1,0),\"\")","v":"RX9"},{"$f":"IF(VALUE(MID(X$2,5,2))<=$V203,OFFSET('CCG-Prov(Amb)'!$B$1,MATCH($A203,'CCG-Prov(Amb)'!$A$2:$A$335,0)+VALUE(RIGHT(X$2,1))-1,0),\"\")","v":"RYA"},{"$f":"IF(VALUE(MID(Y$2,5,2))<=$V203,OFFSET('CCG-Prov(Amb)'!$B$1,MATCH($A203,'CCG-Prov(Amb)'!$A$2:$A$335,0)+VALUE(RIGHT(Y$2,1))-1,0),\"\")","v":""},{"$f":"IF(VALUE(MID(Z$2,5,2))<=$V203,OFFSET('CCG-Prov(Amb)'!$B$1,MATCH($A203,'CCG-Prov(Amb)'!$A$2:$A$335,0)+VALUE(RIGHT(Z$2,1))-1,0),\"\")","v":""},{"$f":"IF(VALUE(MID(AA$2,5,2))<=$V203,OFFSET('CCG-Prov(Amb)'!$B$1,MATCH($A203,'CCG-Prov(Amb)'!$A$2:$A$335,0)+VALUE(RIGHT(AA$2,1))-1,0),\"\")","v":""},null,null,null,null,null,{"$f":"SUM(IF(('CCG-Prov(Births)'!$A$2:$A$6150=A203),1,0))","v":37},{"$f":"SUM(IF(('CCG-Prov(Births)'!$A$2:$A$6150=A203)*('CCG-Prov(Births)'!$C$2:$C$6150>=Maternity!$B$7),1,0))","v":6},{"$f":"IF(VALUE(MID(AI$2,5,2))<=$V203,OFFSET('CCG-Prov(Births)'!$B$1,MATCH($A203,'CCG-Prov(Births)'!$A$2:$A$6150,0)+VALUE(RIGHT(AI$2,1))-1,0),\"\")","v":"RWE"},{"$f":"IF(VALUE(MID(AJ$2,5,2))<=$V203,OFFSET('CCG-Prov(Births)'!$B$1,MATCH($A203,'CCG-Prov(Births)'!$A$2:$A$6150,0)+VALUE(RIGHT(AJ$2,1))-1,0),\"\")","v":"RJF"},{"$f":"IF(VALUE(MID(AK$2,5,2))<=$V203,OFFSET('CCG-Prov(Births)'!$B$1,MATCH($A203,'CCG-Prov(Births)'!$A$2:$A$6150,0)+VALUE(RIGHT(AK$2,1))-1,0),\"\")","v":""},{"$f":"IF(VALUE(MID(AL$2,5,2))<=$V203,OFFSET('CCG-Prov(Births)'!$B$1,MATCH($A203,'CCG-Prov(Births)'!$A$2:$A$6150,0)+VALUE(RIGHT(AL$2,1))-1,0),\"\")","v":""},{"$f":"IF(VALUE(MID(AM$2,5,2))<=$V203,OFFSET('CCG-Prov(Births)'!$B$1,MATCH($A203,'CCG-Prov(Births)'!$A$2:$A$6150,0)+VALUE(RIGHT(AM$2,1))-1,0),\"\")","v":""}]
["08Y","West London (Kensington & Chelsea, Queen's P",{"$f":"SUM(IF(('CCG-Prov(Acute)'!$A$2:$A$29012=A204),1,0))","v":138},{"$f":"SUM(IF(('CCG-Prov(Acute)'!$A$2:$A$29012=A204)*('CCG-Prov(Acute)'!$C$2:$C$29012>=Acute!$B$7),1,0))","v":6},{"$f":"IF(VALUE(MID(E$2,5,2))<=$D204,OFFSET('CCG-Prov(Acute)'!$B$1,MATCH($A204,'CCG-Prov(Acute)'!$A$2:$A$29012,0)+VALUE(RIGHT(E$2,1))-1,0),\"\")","v":"RYJ"},{"$f":"IF(VALUE(MID(F$2,5,2))<=$D204,OFFSET('CCG-Prov(Acute)'!$B$1,MATCH($A204,'CCG-Prov(Acute)'!$A$2:$A$29012,0)+VALUE(RIGHT(F$2,1))-1,0),\"\")","v":"RQM"},{"$f":"IF(VALUE(MID(G$2,5,2))<=$D204,OFFSET('CCG-Prov(Acute)'!$B$1,MATCH($A204,'CCG-Prov(Acute)'!$A$2:$A$29012,0)+VALUE(RIGHT(G$2,1))-1,0),\"\")","v":"RRV"},{"$f":"IF(VALUE(MID(H$2,5,2))<=$D204,OFFSET('CCG-Prov(Acute)'!$B$1,MATCH($A204,'CCG-Prov(Acute)'!$A$2:$A$29012,0)+VALUE(RIGHT(H$2,1))-1,0),\"\")","v":"RJ1"},{"$f":"IF(VALUE(MID(I$2,5,2))<=$D204,OFFSET('CCG-Prov(Acute)'!$B$1,MATCH($A204,'CCG-Prov(Acute)'!$A$2:$A$29012,0)+VALUE(RIGHT(I$2,1))-1,0),\"\")","v":"RAL"},{"$f":"IF(VALUE(MID(J$2,5,2))<=$D204,OFFSET('CCG-Prov(Acute)'!$B$1,MATCH($A204,'CCG-Prov(Acute)'!$A$2:$A$29012,0)+VALUE(RIGHT(J$2,1))-1,0),\"\")","v":"RT3"},{"$f":"IF(VALUE(MID(K$2,5,2))<=$D204,OFFSET('CCG-Prov(Acute)'!$B$1,MATCH($A204,'CCG-Prov(Acute)'!$A$2:$A$29012,0)+VALUE(RIGHT(K$2,1))-1,0),\"\")","v":""},{"$f":"IF(VALUE(MID(L$2,5,2))<=$D204,OFFSET('CCG-Prov(Acute)'!$B$1,MATCH($A204,'CCG-Prov(Acute)'!$A$2:$A$29012,0)+VALUE(RIGHT(L$2,1))-1,0),\"\")","v":""},{"$f":"IF(VALUE(MID(M$2,5,2))<=$D204,OFFSET('CCG-Prov(Acute)'!$B$1,MATCH($A204,'CCG-Prov(Acute)'!$A$2:$A$29012,0)+VALUE(RIGHT(M$2,1))-1,0),\"\")","v":""},{"$f":"IF(VALUE(MID(N$2,5,2))<=$D204,OFFSET('CCG-Prov(Acute)'!$B$1,MATCH($A204,'CCG-Prov(Acute)'!$A$2:$A$29012,0)+VALUE(RIGHT(N$2,1))-1,0),\"\")","v":""},null,null,"RP7",{"$f":"VLOOKUP(Q204,provnames!$A$2:$B$331,2,0)","v":"Lincolnshire Partnership NHS FT"},{"$f":"SUM(IF(('CCG-Prov(Acute)'!$B$2:$B$28899=Q204),1,0))","v":1},null,{"$f":"SUM(IF(('CCG-Prov(Amb)'!$A$2:$A$335=A204),1,0))","v":1},{"$f":"SUM(IF(('CCG-Prov(Amb)'!$A$2:$A$335=A204)*('CCG-Prov(Amb)'!$C$2:$C$335>=Ambulance!$B$7),1,0))","v":1},{"$f":"IF(VALUE(MID(W$2,5,2))<=$V204,OFFSET('CCG-Prov(Amb)'!$B$1,MATCH($A204,'CCG-Prov(Amb)'!$A$2:$A$335,0)+VALUE(RIGHT(W$2,1))-1,0),\"\")","v":"RRY"},{"$f":"IF(VALUE(MID(X$2,5,2))<=$V204,OFFSET('CCG-Prov(Amb)'!$B$1,MATCH($A204,'CCG-Prov(Amb)'!$A$2:$A$335,0)+VALUE(RIGHT(X$2,1))-1,0),\"\")","v":""},{"$f":"IF(VALUE(MID(Y$2,5,2))<=$V204,OFFSET('CCG-Prov(Amb)'!$B$1,MATCH($A204,'CCG-Prov(Amb)'!$A$2:$A$335,0)+VALUE(RIGHT(Y$2,1))-1,0),\"\")","v":""},{"$f":"IF(VALUE(MID(Z$2,5,2))<=$V204,OFFSET('CCG-Prov(Amb)'!$B$1,MATCH($A204,'CCG-Prov(Amb)'!$A$2:$A$335,0)+VALUE(RIGHT(Z$2,1))-1,0),\"\")","v":""},{"$f":"IF(VALUE(MID(AA$2,5,2))<=$V204,OFFSET('CCG-Prov(Amb)'!$B$1,MATCH($A204,'CCG-Prov(Amb)'!$A$2:$A$335,0)+VALUE(RIGHT(AA$2,1))-1,0),\"\")","v":""},null,null,null,null,null,{"$f":"SUM(IF(('CCG-Prov(Births)'!$A$2:$A$6150=A204),1,0))","v":39},{"$f":"SUM(IF(('CCG-Prov(Births)'!$A$2:$A$6150=A204)*('CCG-Prov(Births)'!$C$2:$C$6150>=Maternity!$B$7),1,0))","v":2},{"$f":"IF(VALUE(MID(AI$2,5,2))<=$V204,OFFSET('CCG-Prov(Births)'!$B$1,MATCH($A204,'CCG-Prov(Births)'!$A$2:$A$6150,0)+VALUE(RIGHT(AI$2,1))-1,0),\"\")","v":"RYJ"},{"$f":"IF(VALUE(MID(AJ$2,5,2))<=$V204,OFFSET('CCG-Prov(Births)'!$B$1,MATCH($A204,'CCG-Prov(Births)'!$A$2:$A$6150,0)+VALUE(RIGHT(AJ$2,1))-1,0),\"\")","v":""},{"$f":"IF(VALUE(MID(AK$2,5,2))<=$V204,OFFSET('CCG-Prov(Births)'!$B$1,MATCH($A204,'CCG-Prov(Births)'!$A$2:$A$6150,0)+VALUE(RIGHT(AK$2,1))-1,0),\"\")","v":""},{"$f":"IF(VALUE(MID(AL$2,5,2))<=$V204,OFFSET('CCG-Prov(Births)'!$B$1,MATCH($A204,'CCG-Prov(Births)'!$A$2:$A$6150,0)+VALUE(RIGHT(AL$2,1))-1,0),\"\")","v":""},{"$f":"IF(VALUE(MID(AM$2,5,2))<=$V204,OFFSET('CCG-Prov(Births)'!$B$1,MATCH($A204,'CCG-Prov(Births)'!$A$2:$A$6150,0)+VALUE(RIGHT(AM$2,1))-1,0),\"\")","v":""}]
["07J","West Norfolk",{"$f":"SUM(IF(('CCG-Prov(Acute)'!$A$2:$A$29012=A205),1,0))","v":139},{"$f":"SUM(IF(('CCG-Prov(Acute)'!$A$2:$A$29012=A205)*('CCG-Prov(Acute)'!$C$2:$C$29012>=Acute!$B$7),1,0))","v":4},{"$f":"IF(VALUE(MID(E$2,5,2))<=$D205,OFFSET('CCG-Prov(Acute)'!$B$1,MATCH($A205,'CCG-Prov(Acute)'!$A$2:$A$29012,0)+VALUE(RIGHT(E$2,1))-1,0),\"\")","v":"RCX"},{"$f":"IF(VALUE(MID(F$2,5,2))<=$D205,OFFSET('CCG-Prov(Acute)'!$B$1,MATCH($A205,'CCG-Prov(Acute)'!$A$2:$A$29012,0)+VALUE(RIGHT(F$2,1))-1,0),\"\")","v":"RM1"},{"$f":"IF(VALUE(MID(G$2,5,2))<=$D205,OFFSET('CCG-Prov(Acute)'!$B$1,MATCH($A205,'CCG-Prov(Acute)'!$A$2:$A$29012,0)+VALUE(RIGHT(G$2,1))-1,0),\"\")","v":"RGT"},{"$f":"IF(VALUE(MID(H$2,5,2))<=$D205,OFFSET('CCG-Prov(Acute)'!$B$1,MATCH($A205,'CCG-Prov(Acute)'!$A$2:$A$29012,0)+VALUE(RIGHT(H$2,1))-1,0),\"\")","v":"RGM"},{"$f":"IF(VALUE(MID(I$2,5,2))<=$D205,OFFSET('CCG-Prov(Acute)'!$B$1,MATCH($A205,'CCG-Prov(Acute)'!$A$2:$A$29012,0)+VALUE(RIGHT(I$2,1))-1,0),\"\")","v":""},{"$f":"IF(VALUE(MID(J$2,5,2))<=$D205,OFFSET('CCG-Prov(Acute)'!$B$1,MATCH($A205,'CCG-Prov(Acute)'!$A$2:$A$29012,0)+VALUE(RIGHT(J$2,1))-1,0),\"\")","v":""},{"$f":"IF(VALUE(MID(K$2,5,2))<=$D205,OFFSET('CCG-Prov(Acute)'!$B$1,MATCH($A205,'CCG-Prov(Acute)'!$A$2:$A$29012,0)+VALUE(RIGHT(K$2,1))-1,0),\"\")","v":""},{"$f":"IF(VALUE(MID(L$2,5,2))<=$D205,OFFSET('CCG-Prov(Acute)'!$B$1,MATCH($A205,'CCG-Prov(Acute)'!$A$2:$A$29012,0)+VALUE(RIGHT(L$2,1))-1,0),\"\")","v":""},{"$f":"IF(VALUE(MID(M$2,5,2))<=$D205,OFFSET('CCG-Prov(Acute)'!$B$1,MATCH($A205,'CCG-Prov(Acute)'!$A$2:$A$29012,0)+VALUE(RIGHT(M$2,1))-1,0),\"\")","v":""},{"$f":"IF(VALUE(MID(N$2,5,2))<=$D205,OFFSET('CCG-Prov(Acute)'!$B$1,MATCH($A205,'CCG-Prov(Acute)'!$A$2:$A$29012,0)+VALUE(RIGHT(N$2,1))-1,0),\"\")","v":""},null,null,"RPA",{"$f":"VLOOKUP(Q205,provnames!$A$2:$B$331,2,0)","v":"Medway NHS FT"},{"$f":"SUM(IF(('CCG-Prov(Acute)'!$B$2:$B$28899=Q205),1,0))","v":146},null,{"$f":"SUM(IF(('CCG-Prov(Amb)'!$A$2:$A$335=A205),1,0))","v":2},{"$f":"SUM(IF(('CCG-Prov(Amb)'!$A$2:$A$335=A205)*('CCG-Prov(Amb)'!$C$2:$C$335>=Ambulance!$B$7),1,0))","v":1},{"$f":"IF(VALUE(MID(W$2,5,2))<=$V205,OFFSET('CCG-Prov(Amb)'!$B$1,MATCH($A205,'CCG-Prov(Amb)'!$A$2:$A$335,0)+VALUE(RIGHT(W$2,1))-1,0),\"\")","v":"RYC"},{"$f":"IF(VALUE(MID(X$2,5,2))<=$V205,OFFSET('CCG-Prov(Amb)'!$B$1,MATCH($A205,'CCG-Prov(Amb)'!$A$2:$A$335,0)+VALUE(RIGHT(X$2,1))-1,0),\"\")","v":""},{"$f":"IF(VALUE(MID(Y$2,5,2))<=$V205,OFFSET('CCG-Prov(Amb)'!$B$1,MATCH($A205,'CCG-Prov(Amb)'!$A$2:$A$335,0)+VALUE(RIGHT(Y$2,1))-1,0),\"\")","v":""},{"$f":"IF(VALUE(MID(Z$2,5,2))<=$V205,OFFSET('CCG-Prov(Amb)'!$B$1,MATCH($A205,'CCG-Prov(Amb)'!$A$2:$A$335,0)+VALUE(RIGHT(Z$2,1))-1,0),\"\")","v":""},{"$f":"IF(VALUE(MID(AA$2,5,2))<=$V205,OFFSET('CCG-Prov(Amb)'!$B$1,MATCH($A205,'CCG-Prov(Amb)'!$A$2:$A$335,0)+VALUE(RIGHT(AA$2,1))-1,0),\"\")","v":""},null,null,null,null,null,{"$f":"SUM(IF(('CCG-Prov(Births)'!$A$2:$A$6150=A205),1,0))","v":15},{"$f":"SUM(IF(('CCG-Prov(Births)'!$A$2:$A$6150=A205)*('CCG-Prov(Births)'!$C$2:$C$6150>=Maternity!$B$7),1,0))","v":2},{"$f":"IF(VALUE(MID(AI$2,5,2))<=$V205,OFFSET('CCG-Prov(Births)'!$B$1,MATCH($A205,'CCG-Prov(Births)'!$A$2:$A$6150,0)+VALUE(RIGHT(AI$2,1))-1,0),\"\")","v":"RCX"},{"$f":"IF(VALUE(MID(AJ$2,5,2))<=$V205,OFFSET('CCG-Prov(Births)'!$B$1,MATCH($A205,'CCG-Prov(Births)'!$A$2:$A$6150,0)+VALUE(RIGHT(AJ$2,1))-1,0),\"\")","v":""},{"$f":"IF(VALUE(MID(AK$2,5,2))<=$V205,OFFSET('CCG-Prov(Births)'!$B$1,MATCH($A205,'CCG-Prov(Births)'!$A$2:$A$6150,0)+VALUE(RIGHT(AK$2,1))-1,0),\"\")","v":""},{"$f":"IF(VALUE(MID(AL$2,5,2))<=$V205,OFFSET('CCG-Prov(Births)'!$B$1,MATCH($A205,'CCG-Prov(Births)'!$A$2:$A$6150,0)+VALUE(RIGHT(AL$2,1))-1,0),\"\")","v":""},{"$f":"IF(VALUE(MID(AM$2,5,2))<=$V205,OFFSET('CCG-Prov(Births)'!$B$1,MATCH($A205,'CCG-Prov(Births)'!$A$2:$A$6150,0)+VALUE(RIGHT(AM$2,1))-1,0),\"\")","v":""}]
["07K","West Suffolk",{"$f":"SUM(IF(('CCG-Prov(Acute)'!$A$2:$A$29012=A206),1,0))","v":151},{"$f":"SUM(IF(('CCG-Prov(Acute)'!$A$2:$A$29012=A206)*('CCG-Prov(Acute)'!$C$2:$C$29012>=Acute!$B$7),1,0))","v":5},{"$f":"IF(VALUE(MID(E$2,5,2))<=$D206,OFFSET('CCG-Prov(Acute)'!$B$1,MATCH($A206,'CCG-Prov(Acute)'!$A$2:$A$29012,0)+VALUE(RIGHT(E$2,1))-1,0),\"\")","v":"RGR"},{"$f":"IF(VALUE(MID(F$2,5,2))<=$D206,OFFSET('CCG-Prov(Acute)'!$B$1,MATCH($A206,'CCG-Prov(Acute)'!$A$2:$A$29012,0)+VALUE(RIGHT(F$2,1))-1,0),\"\")","v":"RGT"},{"$f":"IF(VALUE(MID(G$2,5,2))<=$D206,OFFSET('CCG-Prov(Acute)'!$B$1,MATCH($A206,'CCG-Prov(Acute)'!$A$2:$A$29012,0)+VALUE(RIGHT(G$2,1))-1,0),\"\")","v":"RGM"},{"$f":"IF(VALUE(MID(H$2,5,2))<=$D206,OFFSET('CCG-Prov(Acute)'!$B$1,MATCH($A206,'CCG-Prov(Acute)'!$A$2:$A$29012,0)+VALUE(RIGHT(H$2,1))-1,0),\"\")","v":"RDE"},{"$f":"IF(VALUE(MID(I$2,5,2))<=$D206,OFFSET('CCG-Prov(Acute)'!$B$1,MATCH($A206,'CCG-Prov(Acute)'!$A$2:$A$29012,0)+VALUE(RIGHT(I$2,1))-1,0),\"\")","v":"RM1"},{"$f":"IF(VALUE(MID(J$2,5,2))<=$D206,OFFSET('CCG-Prov(Acute)'!$B$1,MATCH($A206,'CCG-Prov(Acute)'!$A$2:$A$29012,0)+VALUE(RIGHT(J$2,1))-1,0),\"\")","v":""},{"$f":"IF(VALUE(MID(K$2,5,2))<=$D206,OFFSET('CCG-Prov(Acute)'!$B$1,MATCH($A206,'CCG-Prov(Acute)'!$A$2:$A$29012,0)+VALUE(RIGHT(K$2,1))-1,0),\"\")","v":""},{"$f":"IF(VALUE(MID(L$2,5,2))<=$D206,OFFSET('CCG-Prov(Acute)'!$B$1,MATCH($A206,'CCG-Prov(Acute)'!$A$2:$A$29012,0)+VALUE(RIGHT(L$2,1))-1,0),\"\")","v":""},{"$f":"IF(VALUE(MID(M$2,5,2))<=$D206,OFFSET('CCG-Prov(Acute)'!$B$1,MATCH($A206,'CCG-Prov(Acute)'!$A$2:$A$29012,0)+VALUE(RIGHT(M$2,1))-1,0),\"\")","v":""},{"$f":"IF(VALUE(MID(N$2,5,2))<=$D206,OFFSET('CCG-Prov(Acute)'!$B$1,MATCH($A206,'CCG-Prov(Acute)'!$A$2:$A$29012,0)+VALUE(RIGHT(N$2,1))-1,0),\"\")","v":""},null,null,"RPC",{"$f":"VLOOKUP(Q206,provnames!$A$2:$B$331,2,0)","v":"Queen Victoria Hospital NHS FT"},{"$f":"SUM(IF(('CCG-Prov(Acute)'!$B$2:$B$28899=Q206),1,0))","v":138},null,{"$f":"SUM(IF(('CCG-Prov(Amb)'!$A$2:$A$335=A206),1,0))","v":1},{"$f":"SUM(IF(('CCG-Prov(Amb)'!$A$2:$A$335=A206)*('CCG-Prov(Amb)'!$C$2:$C$335>=Ambulance!$B$7),1,0))","v":1},{"$f":"IF(VALUE(MID(W$2,5,2))<=$V206,OFFSET('CCG-Prov(Amb)'!$B$1,MATCH($A206,'CCG-Prov(Amb)'!$A$2:$A$335,0)+VALUE(RIGHT(W$2,1))-1,0),\"\")","v":"RYC"},{"$f":"IF(VALUE(MID(X$2,5,2))<=$V206,OFFSET('CCG-Prov(Amb)'!$B$1,MATCH($A206,'CCG-Prov(Amb)'!$A$2:$A$335,0)+VALUE(RIGHT(X$2,1))-1,0),\"\")","v":""},{"$f":"IF(VALUE(MID(Y$2,5,2))<=$V206,OFFSET('CCG-Prov(Amb)'!$B$1,MATCH($A206,'CCG-Prov(Amb)'!$A$2:$A$335,0)+VALUE(RIGHT(Y$2,1))-1,0),\"\")","v":""},{"$f":"IF(VALUE(MID(Z$2,5,2))<=$V206,OFFSET('CCG-Prov(Amb)'!$B$1,MATCH($A206,'CCG-Prov(Amb)'!$A$2:$A$335,0)+VALUE(RIGHT(Z$2,1))-1,0),\"\")","v":""},{"$f":"IF(VALUE(MID(AA$2,5,2))<=$V206,OFFSET('CCG-Prov(Amb)'!$B$1,MATCH($A206,'CCG-Prov(Amb)'!$A$2:$A$335,0)+VALUE(RIGHT(AA$2,1))-1,0),\"\")","v":""},null,null,null,null,null,{"$f":"SUM(IF(('CCG-Prov(Births)'!$A$2:$A$6150=A206),1,0))","v":23},{"$f":"SUM(IF(('CCG-Prov(Births)'!$A$2:$A$6150=A206)*('CCG-Prov(Births)'!$C$2:$C$6150>=Maternity!$B$7),1,0))","v":2},{"$f":"IF(VALUE(MID(AI$2,5,2))<=$V206,OFFSET('CCG-Prov(Births)'!$B$1,MATCH($A206,'CCG-Prov(Births)'!$A$2:$A$6150,0)+VALUE(RIGHT(AI$2,1))-1,0),\"\")","v":"RGR"},{"$f":"IF(VALUE(MID(AJ$2,5,2))<=$V206,OFFSET('CCG-Prov(Births)'!$B$1,MATCH($A206,'CCG-Prov(Births)'!$A$2:$A$6150,0)+VALUE(RIGHT(AJ$2,1))-1,0),\"\")","v":""},{"$f":"IF(VALUE(MID(AK$2,5,2))<=$V206,OFFSET('CCG-Prov(Births)'!$B$1,MATCH($A206,'CCG-Prov(Births)'!$A$2:$A$6150,0)+VALUE(RIGHT(AK$2,1))-1,0),\"\")","v":""},{"$f":"IF(VALUE(MID(AL$2,5,2))<=$V206,OFFSET('CCG-Prov(Births)'!$B$1,MATCH($A206,'CCG-Prov(Births)'!$A$2:$A$6150,0)+VALUE(RIGHT(AL$2,1))-1,0),\"\")","v":""},{"$f":"IF(VALUE(MID(AM$2,5,2))<=$V206,OFFSET('CCG-Prov(Births)'!$B$1,MATCH($A206,'CCG-Prov(Births)'!$A$2:$A$6150,0)+VALUE(RIGHT(AM$2,1))-1,0),\"\")","v":""}]
["02H","Wigan Borough",{"$f":"SUM(IF(('CCG-Prov(Acute)'!$A$2:$A$29012=A207),1,0))","v":135},{"$f":"SUM(IF(('CCG-Prov(Acute)'!$A$2:$A$29012=A207)*('CCG-Prov(Acute)'!$C$2:$C$29012>=Acute!$B$7),1,0))","v":12},{"$f":"IF(VALUE(MID(E$2,5,2))<=$D207,OFFSET('CCG-Prov(Acute)'!$B$1,MATCH($A207,'CCG-Prov(Acute)'!$A$2:$A$29012,0)+VALUE(RIGHT(E$2,1))-1,0),\"\")","v":"RRF"},{"$f":"IF(VALUE(MID(F$2,5,2))<=$D207,OFFSET('CCG-Prov(Acute)'!$B$1,MATCH($A207,'CCG-Prov(Acute)'!$A$2:$A$29012,0)+VALUE(RIGHT(F$2,1))-1,0),\"\")","v":"RMC"},{"$f":"IF(VALUE(MID(G$2,5,2))<=$D207,OFFSET('CCG-Prov(Acute)'!$B$1,MATCH($A207,'CCG-Prov(Acute)'!$A$2:$A$29012,0)+VALUE(RIGHT(G$2,1))-1,0),\"\")","v":"RM3"},{"$f":"IF(VALUE(MID(H$2,5,2))<=$D207,OFFSET('CCG-Prov(Acute)'!$B$1,MATCH($A207,'CCG-Prov(Acute)'!$A$2:$A$29012,0)+VALUE(RIGHT(H$2,1))-1,0),\"\")","v":"RW3"},{"$f":"IF(VALUE(MID(I$2,5,2))<=$D207,OFFSET('CCG-Prov(Acute)'!$B$1,MATCH($A207,'CCG-Prov(Acute)'!$A$2:$A$29012,0)+VALUE(RIGHT(I$2,1))-1,0),\"\")","v":"RWW"},{"$f":"IF(VALUE(MID(J$2,5,2))<=$D207,OFFSET('CCG-Prov(Acute)'!$B$1,MATCH($A207,'CCG-Prov(Acute)'!$A$2:$A$29012,0)+VALUE(RIGHT(J$2,1))-1,0),\"\")","v":"RBN"},{"$f":"IF(VALUE(MID(K$2,5,2))<=$D207,OFFSET('CCG-Prov(Acute)'!$B$1,MATCH($A207,'CCG-Prov(Acute)'!$A$2:$A$29012,0)+VALUE(RIGHT(K$2,1))-1,0),\"\")","v":"RBV"},{"$f":"IF(VALUE(MID(L$2,5,2))<=$D207,OFFSET('CCG-Prov(Acute)'!$B$1,MATCH($A207,'CCG-Prov(Acute)'!$A$2:$A$29012,0)+VALUE(RIGHT(L$2,1))-1,0),\"\")","v":"RM2"},{"$f":"IF(VALUE(MID(M$2,5,2))<=$D207,OFFSET('CCG-Prov(Acute)'!$B$1,MATCH($A207,'CCG-Prov(Acute)'!$A$2:$A$29012,0)+VALUE(RIGHT(M$2,1))-1,0),\"\")","v":"NVG"},{"$f":"IF(VALUE(MID(N$2,5,2))<=$D207,OFFSET('CCG-Prov(Acute)'!$B$1,MATCH($A207,'CCG-Prov(Acute)'!$A$2:$A$29012,0)+VALUE(RIGHT(N$2,1))-1,0),\"\")","v":"RP4"},null,null,"RPG",{"$f":"VLOOKUP(Q207,provnames!$A$2:$B$331,2,0)","v":"Oxleas NHS FT"},{"$f":"SUM(IF(('CCG-Prov(Acute)'!$B$2:$B$28899=Q207),1,0))","v":1},null,{"$f":"SUM(IF(('CCG-Prov(Amb)'!$A$2:$A$335=A207),1,0))","v":1},{"$f":"SUM(IF(('CCG-Prov(Amb)'!$A$2:$A$335=A207)*('CCG-Prov(Amb)'!$C$2:$C$335>=Ambulance!$B$7),1,0))","v":1},{"$f":"IF(VALUE(MID(W$2,5,2))<=$V207,OFFSET('CCG-Prov(Amb)'!$B$1,MATCH($A207,'CCG-Prov(Amb)'!$A$2:$A$335,0)+VALUE(RIGHT(W$2,1))-1,0),\"\")","v":"RX7"},{"$f":"IF(VALUE(MID(X$2,5,2))<=$V207,OFFSET('CCG-Prov(Amb)'!$B$1,MATCH($A207,'CCG-Prov(Amb)'!$A$2:$A$335,0)+VALUE(RIGHT(X$2,1))-1,0),\"\")","v":""},{"$f":"IF(VALUE(MID(Y$2,5,2))<=$V207,OFFSET('CCG-Prov(Amb)'!$B$1,MATCH($A207,'CCG-Prov(Amb)'!$A$2:$A$335,0)+VALUE(RIGHT(Y$2,1))-1,0),\"\")","v":""},{"$f":"IF(VALUE(MID(Z$2,5,2))<=$V207,OFFSET('CCG-Prov(Amb)'!$B$1,MATCH($A207,'CCG-Prov(Amb)'!$A$2:$A$335,0)+VALUE(RIGHT(Z$2,1))-1,0),\"\")","v":""},{"$f":"IF(VALUE(MID(AA$2,5,2))<=$V207,OFFSET('CCG-Prov(Amb)'!$B$1,MATCH($A207,'CCG-Prov(Amb)'!$A$2:$A$335,0)+VALUE(RIGHT(AA$2,1))-1,0),\"\")","v":""},null,null,null,null,null,{"$f":"SUM(IF(('CCG-Prov(Births)'!$A$2:$A$6150=A207),1,0))","v":23},{"$f":"SUM(IF(('CCG-Prov(Births)'!$A$2:$A$6150=A207)*('CCG-Prov(Births)'!$C$2:$C$6150>=Maternity!$B$7),1,0))","v":4},{"$f":"IF(VALUE(MID(AI$2,5,2))<=$V207,OFFSET('CCG-Prov(Births)'!$B$1,MATCH($A207,'CCG-Prov(Births)'!$A$2:$A$6150,0)+VALUE(RIGHT(AI$2,1))-1,0),\"\")","v":"RRF"},{"$f":"IF(VALUE(MID(AJ$2,5,2))<=$V207,OFFSET('CCG-Prov(Births)'!$B$1,MATCH($A207,'CCG-Prov(Births)'!$A$2:$A$6150,0)+VALUE(RIGHT(AJ$2,1))-1,0),\"\")","v":""},{"$f":"IF(VALUE(MID(AK$2,5,2))<=$V207,OFFSET('CCG-Prov(Births)'!$B$1,MATCH($A207,'CCG-Prov(Births)'!$A$2:$A$6150,0)+VALUE(RIGHT(AK$2,1))-1,0),\"\")","v":""},{"$f":"IF(VALUE(MID(AL$2,5,2))<=$V207,OFFSET('CCG-Prov(Births)'!$B$1,MATCH($A207,'CCG-Prov(Births)'!$A$2:$A$6150,0)+VALUE(RIGHT(AL$2,1))-1,0),\"\")","v":""},{"$f":"IF(VALUE(MID(AM$2,5,2))<=$V207,OFFSET('CCG-Prov(Births)'!$B$1,MATCH($A207,'CCG-Prov(Births)'!$A$2:$A$6150,0)+VALUE(RIGHT(AM$2,1))-1,0),\"\")","v":""}]
["99N","Wiltshire",{"$f":"SUM(IF(('CCG-Prov(Acute)'!$A$2:$A$29012=A208),1,0))","v":168},{"$f":"SUM(IF(('CCG-Prov(Acute)'!$A$2:$A$29012=A208)*('CCG-Prov(Acute)'!$C$2:$C$29012>=Acute!$B$7),1,0))","v":14},{"$f":"IF(VALUE(MID(E$2,5,2))<=$D208,OFFSET('CCG-Prov(Acute)'!$B$1,MATCH($A208,'CCG-Prov(Acute)'!$A$2:$A$29012,0)+VALUE(RIGHT(E$2,1))-1,0),\"\")","v":"RNZ"},{"$f":"IF(VALUE(MID(F$2,5,2))<=$D208,OFFSET('CCG-Prov(Acute)'!$B$1,MATCH($A208,'CCG-Prov(Acute)'!$A$2:$A$29012,0)+VALUE(RIGHT(F$2,1))-1,0),\"\")","v":"RD1"},{"$f":"IF(VALUE(MID(G$2,5,2))<=$D208,OFFSET('CCG-Prov(Acute)'!$B$1,MATCH($A208,'CCG-Prov(Acute)'!$A$2:$A$29012,0)+VALUE(RIGHT(G$2,1))-1,0),\"\")","v":"RN3"},{"$f":"IF(VALUE(MID(H$2,5,2))<=$D208,OFFSET('CCG-Prov(Acute)'!$B$1,MATCH($A208,'CCG-Prov(Acute)'!$A$2:$A$29012,0)+VALUE(RIGHT(H$2,1))-1,0),\"\")","v":"NTC"},{"$f":"IF(VALUE(MID(I$2,5,2))<=$D208,OFFSET('CCG-Prov(Acute)'!$B$1,MATCH($A208,'CCG-Prov(Acute)'!$A$2:$A$29012,0)+VALUE(RIGHT(I$2,1))-1,0),\"\")","v":"5QK"},{"$f":"IF(VALUE(MID(J$2,5,2))<=$D208,OFFSET('CCG-Prov(Acute)'!$B$1,MATCH($A208,'CCG-Prov(Acute)'!$A$2:$A$29012,0)+VALUE(RIGHT(J$2,1))-1,0),\"\")","v":"RVJ"},{"$f":"IF(VALUE(MID(K$2,5,2))<=$D208,OFFSET('CCG-Prov(Acute)'!$B$1,MATCH($A208,'CCG-Prov(Acute)'!$A$2:$A$29012,0)+VALUE(RIGHT(K$2,1))-1,0),\"\")","v":"RHM"},{"$f":"IF(VALUE(MID(L$2,5,2))<=$D208,OFFSET('CCG-Prov(Acute)'!$B$1,MATCH($A208,'CCG-Prov(Acute)'!$A$2:$A$29012,0)+VALUE(RIGHT(L$2,1))-1,0),\"\")","v":"RA7"},{"$f":"IF(VALUE(MID(M$2,5,2))<=$D208,OFFSET('CCG-Prov(Acute)'!$B$1,MATCH($A208,'CCG-Prov(Acute)'!$A$2:$A$29012,0)+VALUE(RIGHT(M$2,1))-1,0),\"\")","v":"RBB"},{"$f":"IF(VALUE(MID(N$2,5,2))<=$D208,OFFSET('CCG-Prov(Acute)'!$B$1,MATCH($A208,'CCG-Prov(Acute)'!$A$2:$A$29012,0)+VALUE(RIGHT(N$2,1))-1,0),\"\")","v":"RXW"},null,null,"RPY",{"$f":"VLOOKUP(Q208,provnames!$A$2:$B$331,2,0)","v":"The Royal Marsden NHS FT"},{"$f":"SUM(IF(('CCG-Prov(Acute)'!$B$2:$B$28899=Q208),1,0))","v":159},null,{"$f":"SUM(IF(('CCG-Prov(Amb)'!$A$2:$A$335=A208),1,0))","v":3},{"$f":"SUM(IF(('CCG-Prov(Amb)'!$A$2:$A$335=A208)*('CCG-Prov(Amb)'!$C$2:$C$335>=Ambulance!$B$7),1,0))","v":3},{"$f":"IF(VALUE(MID(W$2,5,2))<=$V208,OFFSET('CCG-Prov(Amb)'!$B$1,MATCH($A208,'CCG-Prov(Amb)'!$A$2:$A$335,0)+VALUE(RIGHT(W$2,1))-1,0),\"\")","v":"RX5"},{"$f":"IF(VALUE(MID(X$2,5,2))<=$V208,OFFSET('CCG-Prov(Amb)'!$B$1,MATCH($A208,'CCG-Prov(Amb)'!$A$2:$A$335,0)+VALUE(RIGHT(X$2,1))-1,0),\"\")","v":"RYE"},{"$f":"IF(VALUE(MID(Y$2,5,2))<=$V208,OFFSET('CCG-Prov(Amb)'!$B$1,MATCH($A208,'CCG-Prov(Amb)'!$A$2:$A$335,0)+VALUE(RIGHT(Y$2,1))-1,0),\"\")","v":"RYF"},{"$f":"IF(VALUE(MID(Z$2,5,2))<=$V208,OFFSET('CCG-Prov(Amb)'!$B$1,MATCH($A208,'CCG-Prov(Amb)'!$A$2:$A$335,0)+VALUE(RIGHT(Z$2,1))-1,0),\"\")","v":""},{"$f":"IF(VALUE(MID(AA$2,5,2))<=$V208,OFFSET('CCG-Prov(Amb)'!$B$1,MATCH($A208,'CCG-Prov(Amb)'!$A$2:$A$335,0)+VALUE(RIGHT(AA$2,1))-1,0),\"\")","v":""},null,null,null,null,null,{"$f":"SUM(IF(('CCG-Prov(Births)'!$A$2:$A$6150=A208),1,0))","v":52},{"$f":"SUM(IF(('CCG-Prov(Births)'!$A$2:$A$6150=A208)*('CCG-Prov(Births)'!$C$2:$C$6150>=Maternity!$B$7),1,0))","v":4},{"$f":"IF(VALUE(MID(AI$2,5,2))<=$V208,OFFSET('CCG-Prov(Births)'!$B$1,MATCH($A208,'CCG-Prov(Births)'!$A$2:$A$6150,0)+VALUE(RIGHT(AI$2,1))-1,0),\"\")","v":"5QK"},{"$f":"IF(VALUE(MID(AJ$2,5,2))<=$V208,OFFSET('CCG-Prov(Births)'!$B$1,MATCH($A208,'CCG-Prov(Births)'!$A$2:$A$6150,0)+VALUE(RIGHT(AJ$2,1))-1,0),\"\")","v":"RNZ"},{"$f":"IF(VALUE(MID(AK$2,5,2))<=$V208,OFFSET('CCG-Prov(Births)'!$B$1,MATCH($A208,'CCG-Prov(Births)'!$A$2:$A$6150,0)+VALUE(RIGHT(AK$2,1))-1,0),\"\")","v":"RN3"},{"$f":"IF(VALUE(MID(AL$2,5,2))<=$V208,OFFSET('CCG-Prov(Births)'!$B$1,MATCH($A208,'CCG-Prov(Births)'!$A$2:$A$6150,0)+VALUE(RIGHT(AL$2,1))-1,0),\"\")","v":""},{"$f":"IF(VALUE(MID(AM$2,5,2))<=$V208,OFFSET('CCG-Prov(Births)'!$B$1,MATCH($A208,'CCG-Prov(Births)'!$A$2:$A$6150,0)+VALUE(RIGHT(AM$2,1))-1,0),\"\")","v":""}]
["11C","Windsor, Ascot & Maidenhead",{"$f":"SUM(IF(('CCG-Prov(Acute)'!$A$2:$A$29012=A209),1,0))","v":132},{"$f":"SUM(IF(('CCG-Prov(Acute)'!$A$2:$A$29012=A209)*('CCG-Prov(Acute)'!$C$2:$C$29012>=Acute!$B$7),1,0))","v":4},{"$f":"IF(VALUE(MID(E$2,5,2))<=$D209,OFFSET('CCG-Prov(Acute)'!$B$1,MATCH($A209,'CCG-Prov(Acute)'!$A$2:$A$29012,0)+VALUE(RIGHT(E$2,1))-1,0),\"\")","v":"RD7"},{"$f":"IF(VALUE(MID(F$2,5,2))<=$D209,OFFSET('CCG-Prov(Acute)'!$B$1,MATCH($A209,'CCG-Prov(Acute)'!$A$2:$A$29012,0)+VALUE(RIGHT(F$2,1))-1,0),\"\")","v":"RHW"},{"$f":"IF(VALUE(MID(G$2,5,2))<=$D209,OFFSET('CCG-Prov(Acute)'!$B$1,MATCH($A209,'CCG-Prov(Acute)'!$A$2:$A$29012,0)+VALUE(RIGHT(G$2,1))-1,0),\"\")","v":"RTK"},{"$f":"IF(VALUE(MID(H$2,5,2))<=$D209,OFFSET('CCG-Prov(Acute)'!$B$1,MATCH($A209,'CCG-Prov(Acute)'!$A$2:$A$29012,0)+VALUE(RIGHT(H$2,1))-1,0),\"\")","v":"RYJ"},{"$f":"IF(VALUE(MID(I$2,5,2))<=$D209,OFFSET('CCG-Prov(Acute)'!$B$1,MATCH($A209,'CCG-Prov(Acute)'!$A$2:$A$29012,0)+VALUE(RIGHT(I$2,1))-1,0),\"\")","v":""},{"$f":"IF(VALUE(MID(J$2,5,2))<=$D209,OFFSET('CCG-Prov(Acute)'!$B$1,MATCH($A209,'CCG-Prov(Acute)'!$A$2:$A$29012,0)+VALUE(RIGHT(J$2,1))-1,0),\"\")","v":""},{"$f":"IF(VALUE(MID(K$2,5,2))<=$D209,OFFSET('CCG-Prov(Acute)'!$B$1,MATCH($A209,'CCG-Prov(Acute)'!$A$2:$A$29012,0)+VALUE(RIGHT(K$2,1))-1,0),\"\")","v":""},{"$f":"IF(VALUE(MID(L$2,5,2))<=$D209,OFFSET('CCG-Prov(Acute)'!$B$1,MATCH($A209,'CCG-Prov(Acute)'!$A$2:$A$29012,0)+VALUE(RIGHT(L$2,1))-1,0),\"\")","v":""},{"$f":"IF(VALUE(MID(M$2,5,2))<=$D209,OFFSET('CCG-Prov(Acute)'!$B$1,MATCH($A209,'CCG-Prov(Acute)'!$A$2:$A$29012,0)+VALUE(RIGHT(M$2,1))-1,0),\"\")","v":""},{"$f":"IF(VALUE(MID(N$2,5,2))<=$D209,OFFSET('CCG-Prov(Acute)'!$B$1,MATCH($A209,'CCG-Prov(Acute)'!$A$2:$A$29012,0)+VALUE(RIGHT(N$2,1))-1,0),\"\")","v":""},null,null,"RQ3",{"$f":"VLOOKUP(Q209,provnames!$A$2:$B$331,2,0)","v":"Birmingham Children's Hospital NHS FT"},{"$f":"SUM(IF(('CCG-Prov(Acute)'!$B$2:$B$28899=Q209),1,0))","v":169},null,{"$f":"SUM(IF(('CCG-Prov(Amb)'!$A$2:$A$335=A209),1,0))","v":2},{"$f":"SUM(IF(('CCG-Prov(Amb)'!$A$2:$A$335=A209)*('CCG-Prov(Amb)'!$C$2:$C$335>=Ambulance!$B$7),1,0))","v":2},{"$f":"IF(VALUE(MID(W$2,5,2))<=$V209,OFFSET('CCG-Prov(Amb)'!$B$1,MATCH($A209,'CCG-Prov(Amb)'!$A$2:$A$335,0)+VALUE(RIGHT(W$2,1))-1,0),\"\")","v":"RYE"},{"$f":"IF(VALUE(MID(X$2,5,2))<=$V209,OFFSET('CCG-Prov(Amb)'!$B$1,MATCH($A209,'CCG-Prov(Amb)'!$A$2:$A$335,0)+VALUE(RIGHT(X$2,1))-1,0),\"\")","v":"RYD"},{"$f":"IF(VALUE(MID(Y$2,5,2))<=$V209,OFFSET('CCG-Prov(Amb)'!$B$1,MATCH($A209,'CCG-Prov(Amb)'!$A$2:$A$335,0)+VALUE(RIGHT(Y$2,1))-1,0),\"\")","v":""},{"$f":"IF(VALUE(MID(Z$2,5,2))<=$V209,OFFSET('CCG-Prov(Amb)'!$B$1,MATCH($A209,'CCG-Prov(Amb)'!$A$2:$A$335,0)+VALUE(RIGHT(Z$2,1))-1,0),\"\")","v":""},{"$f":"IF(VALUE(MID(AA$2,5,2))<=$V209,OFFSET('CCG-Prov(Amb)'!$B$1,MATCH($A209,'CCG-Prov(Amb)'!$A$2:$A$335,0)+VALUE(RIGHT(AA$2,1))-1,0),\"\")","v":""},null,null,null,null,null,{"$f":"SUM(IF(('CCG-Prov(Births)'!$A$2:$A$6150=A209),1,0))","v":32},{"$f":"SUM(IF(('CCG-Prov(Births)'!$A$2:$A$6150=A209)*('CCG-Prov(Births)'!$C$2:$C$6150>=Maternity!$B$7),1,0))","v":4},{"$f":"IF(VALUE(MID(AI$2,5,2))<=$V209,OFFSET('CCG-Prov(Births)'!$B$1,MATCH($A209,'CCG-Prov(Births)'!$A$2:$A$6150,0)+VALUE(RIGHT(AI$2,1))-1,0),\"\")","v":"RD7"},{"$f":"IF(VALUE(MID(AJ$2,5,2))<=$V209,OFFSET('CCG-Prov(Births)'!$B$1,MATCH($A209,'CCG-Prov(Births)'!$A$2:$A$6150,0)+VALUE(RIGHT(AJ$2,1))-1,0),\"\")","v":"RHW"},{"$f":"IF(VALUE(MID(AK$2,5,2))<=$V209,OFFSET('CCG-Prov(Births)'!$B$1,MATCH($A209,'CCG-Prov(Births)'!$A$2:$A$6150,0)+VALUE(RIGHT(AK$2,1))-1,0),\"\")","v":""},{"$f":"IF(VALUE(MID(AL$2,5,2))<=$V209,OFFSET('CCG-Prov(Births)'!$B$1,MATCH($A209,'CCG-Prov(Births)'!$A$2:$A$6150,0)+VALUE(RIGHT(AL$2,1))-1,0),\"\")","v":""},{"$f":"IF(VALUE(MID(AM$2,5,2))<=$V209,OFFSET('CCG-Prov(Births)'!$B$1,MATCH($A209,'CCG-Prov(Births)'!$A$2:$A$6150,0)+VALUE(RIGHT(AM$2,1))-1,0),\"\")","v":""}]
["12F","Wirral",{"$f":"SUM(IF(('CCG-Prov(Acute)'!$A$2:$A$29012=A210),1,0))","v":144},{"$f":"SUM(IF(('CCG-Prov(Acute)'!$A$2:$A$29012=A210)*('CCG-Prov(Acute)'!$C$2:$C$29012>=Acute!$B$7),1,0))","v":9},{"$f":"IF(VALUE(MID(E$2,5,2))<=$D210,OFFSET('CCG-Prov(Acute)'!$B$1,MATCH($A210,'CCG-Prov(Acute)'!$A$2:$A$29012,0)+VALUE(RIGHT(E$2,1))-1,0),\"\")","v":"RBL"},{"$f":"IF(VALUE(MID(F$2,5,2))<=$D210,OFFSET('CCG-Prov(Acute)'!$B$1,MATCH($A210,'CCG-Prov(Acute)'!$A$2:$A$29012,0)+VALUE(RIGHT(F$2,1))-1,0),\"\")","v":"RQ6"},{"$f":"IF(VALUE(MID(G$2,5,2))<=$D210,OFFSET('CCG-Prov(Acute)'!$B$1,MATCH($A210,'CCG-Prov(Acute)'!$A$2:$A$29012,0)+VALUE(RIGHT(G$2,1))-1,0),\"\")","v":"RBS"},{"$f":"IF(VALUE(MID(H$2,5,2))<=$D210,OFFSET('CCG-Prov(Acute)'!$B$1,MATCH($A210,'CCG-Prov(Acute)'!$A$2:$A$29012,0)+VALUE(RIGHT(H$2,1))-1,0),\"\")","v":"NT3"},{"$f":"IF(VALUE(MID(I$2,5,2))<=$D210,OFFSET('CCG-Prov(Acute)'!$B$1,MATCH($A210,'CCG-Prov(Acute)'!$A$2:$A$29012,0)+VALUE(RIGHT(I$2,1))-1,0),\"\")","v":"REM"},{"$f":"IF(VALUE(MID(J$2,5,2))<=$D210,OFFSET('CCG-Prov(Acute)'!$B$1,MATCH($A210,'CCG-Prov(Acute)'!$A$2:$A$29012,0)+VALUE(RIGHT(J$2,1))-1,0),\"\")","v":"NTD"},{"$f":"IF(VALUE(MID(K$2,5,2))<=$D210,OFFSET('CCG-Prov(Acute)'!$B$1,MATCH($A210,'CCG-Prov(Acute)'!$A$2:$A$29012,0)+VALUE(RIGHT(K$2,1))-1,0),\"\")","v":"RJR"},{"$f":"IF(VALUE(MID(L$2,5,2))<=$D210,OFFSET('CCG-Prov(Acute)'!$B$1,MATCH($A210,'CCG-Prov(Acute)'!$A$2:$A$29012,0)+VALUE(RIGHT(L$2,1))-1,0),\"\")","v":"REN"},{"$f":"IF(VALUE(MID(M$2,5,2))<=$D210,OFFSET('CCG-Prov(Acute)'!$B$1,MATCH($A210,'CCG-Prov(Acute)'!$A$2:$A$29012,0)+VALUE(RIGHT(M$2,1))-1,0),\"\")","v":"RET"},{"$f":"IF(VALUE(MID(N$2,5,2))<=$D210,OFFSET('CCG-Prov(Acute)'!$B$1,MATCH($A210,'CCG-Prov(Acute)'!$A$2:$A$29012,0)+VALUE(RIGHT(N$2,1))-1,0),\"\")","v":""},null,null,"RQ6",{"$f":"VLOOKUP(Q210,provnames!$A$2:$B$331,2,0)","v":"Royal Liverpool & Broadgreen Univ Hospitals NHS Trust"},{"$f":"SUM(IF(('CCG-Prov(Acute)'!$B$2:$B$28899=Q210),1,0))","v":191},null,{"$f":"SUM(IF(('CCG-Prov(Amb)'!$A$2:$A$335=A210),1,0))","v":1},{"$f":"SUM(IF(('CCG-Prov(Amb)'!$A$2:$A$335=A210)*('CCG-Prov(Amb)'!$C$2:$C$335>=Ambulance!$B$7),1,0))","v":1},{"$f":"IF(VALUE(MID(W$2,5,2))<=$V210,OFFSET('CCG-Prov(Amb)'!$B$1,MATCH($A210,'CCG-Prov(Amb)'!$A$2:$A$335,0)+VALUE(RIGHT(W$2,1))-1,0),\"\")","v":"RX7"},{"$f":"IF(VALUE(MID(X$2,5,2))<=$V210,OFFSET('CCG-Prov(Amb)'!$B$1,MATCH($A210,'CCG-Prov(Amb)'!$A$2:$A$335,0)+VALUE(RIGHT(X$2,1))-1,0),\"\")","v":""},{"$f":"IF(VALUE(MID(Y$2,5,2))<=$V210,OFFSET('CCG-Prov(Amb)'!$B$1,MATCH($A210,'CCG-Prov(Amb)'!$A$2:$A$335,0)+VALUE(RIGHT(Y$2,1))-1,0),\"\")","v":""},{"$f":"IF(VALUE(MID(Z$2,5,2))<=$V210,OFFSET('CCG-Prov(Amb)'!$B$1,MATCH($A210,'CCG-Prov(Amb)'!$A$2:$A$335,0)+VALUE(RIGHT(Z$2,1))-1,0),\"\")","v":""},{"$f":"IF(VALUE(MID(AA$2,5,2))<=$V210,OFFSET('CCG-Prov(Amb)'!$B$1,MATCH($A210,'CCG-Prov(Amb)'!$A$2:$A$335,0)+VALUE(RIGHT(AA$2,1))-1,0),\"\")","v":""},null,null,null,null,null,{"$f":"SUM(IF(('CCG-Prov(Births)'!$A$2:$A$6150=A210),1,0))","v":22},{"$f":"SUM(IF(('CCG-Prov(Births)'!$A$2:$A$6150=A210)*('CCG-Prov(Births)'!$C$2:$C$6150>=Maternity!$B$7),1,0))","v":2},{"$f":"IF(VALUE(MID(AI$2,5,2))<=$V210,OFFSET('CCG-Prov(Births)'!$B$1,MATCH($A210,'CCG-Prov(Births)'!$A$2:$A$6150,0)+VALUE(RIGHT(AI$2,1))-1,0),\"\")","v":"RBL"},{"$f":"IF(VALUE(MID(AJ$2,5,2))<=$V210,OFFSET('CCG-Prov(Births)'!$B$1,MATCH($A210,'CCG-Prov(Births)'!$A$2:$A$6150,0)+VALUE(RIGHT(AJ$2,1))-1,0),\"\")","v":""},{"$f":"IF(VALUE(MID(AK$2,5,2))<=$V210,OFFSET('CCG-Prov(Births)'!$B$1,MATCH($A210,'CCG-Prov(Births)'!$A$2:$A$6150,0)+VALUE(RIGHT(AK$2,1))-1,0),\"\")","v":""},{"$f":"IF(VALUE(MID(AL$2,5,2))<=$V210,OFFSET('CCG-Prov(Births)'!$B$1,MATCH($A210,'CCG-Prov(Births)'!$A$2:$A$6150,0)+VALUE(RIGHT(AL$2,1))-1,0),\"\")","v":""},{"$f":"IF(VALUE(MID(AM$2,5,2))<=$V210,OFFSET('CCG-Prov(Births)'!$B$1,MATCH($A210,'CCG-Prov(Births)'!$A$2:$A$6150,0)+VALUE(RIGHT(AM$2,1))-1,0),\"\")","v":""}]
["11D","Wokingham",{"$f":"SUM(IF(('CCG-Prov(Acute)'!$A$2:$A$29012=A211),1,0))","v":124},{"$f":"SUM(IF(('CCG-Prov(Acute)'!$A$2:$A$29012=A211)*('CCG-Prov(Acute)'!$C$2:$C$29012>=Acute!$B$7),1,0))","v":4},{"$f":"IF(VALUE(MID(E$2,5,2))<=$D211,OFFSET('CCG-Prov(Acute)'!$B$1,MATCH($A211,'CCG-Prov(Acute)'!$A$2:$A$29012,0)+VALUE(RIGHT(E$2,1))-1,0),\"\")","v":"RHW"},{"$f":"IF(VALUE(MID(F$2,5,2))<=$D211,OFFSET('CCG-Prov(Acute)'!$B$1,MATCH($A211,'CCG-Prov(Acute)'!$A$2:$A$29012,0)+VALUE(RIGHT(F$2,1))-1,0),\"\")","v":"RDU"},{"$f":"IF(VALUE(MID(G$2,5,2))<=$D211,OFFSET('CCG-Prov(Acute)'!$B$1,MATCH($A211,'CCG-Prov(Acute)'!$A$2:$A$29012,0)+VALUE(RIGHT(G$2,1))-1,0),\"\")","v":"RTH"},{"$f":"IF(VALUE(MID(H$2,5,2))<=$D211,OFFSET('CCG-Prov(Acute)'!$B$1,MATCH($A211,'CCG-Prov(Acute)'!$A$2:$A$29012,0)+VALUE(RIGHT(H$2,1))-1,0),\"\")","v":"RD7"},{"$f":"IF(VALUE(MID(I$2,5,2))<=$D211,OFFSET('CCG-Prov(Acute)'!$B$1,MATCH($A211,'CCG-Prov(Acute)'!$A$2:$A$29012,0)+VALUE(RIGHT(I$2,1))-1,0),\"\")","v":""},{"$f":"IF(VALUE(MID(J$2,5,2))<=$D211,OFFSET('CCG-Prov(Acute)'!$B$1,MATCH($A211,'CCG-Prov(Acute)'!$A$2:$A$29012,0)+VALUE(RIGHT(J$2,1))-1,0),\"\")","v":""},{"$f":"IF(VALUE(MID(K$2,5,2))<=$D211,OFFSET('CCG-Prov(Acute)'!$B$1,MATCH($A211,'CCG-Prov(Acute)'!$A$2:$A$29012,0)+VALUE(RIGHT(K$2,1))-1,0),\"\")","v":""},{"$f":"IF(VALUE(MID(L$2,5,2))<=$D211,OFFSET('CCG-Prov(Acute)'!$B$1,MATCH($A211,'CCG-Prov(Acute)'!$A$2:$A$29012,0)+VALUE(RIGHT(L$2,1))-1,0),\"\")","v":""},{"$f":"IF(VALUE(MID(M$2,5,2))<=$D211,OFFSET('CCG-Prov(Acute)'!$B$1,MATCH($A211,'CCG-Prov(Acute)'!$A$2:$A$29012,0)+VALUE(RIGHT(M$2,1))-1,0),\"\")","v":""},{"$f":"IF(VALUE(MID(N$2,5,2))<=$D211,OFFSET('CCG-Prov(Acute)'!$B$1,MATCH($A211,'CCG-Prov(Acute)'!$A$2:$A$29012,0)+VALUE(RIGHT(N$2,1))-1,0),\"\")","v":""},null,null,"RQ8",{"$f":"VLOOKUP(Q211,provnames!$A$2:$B$331,2,0)","v":"Mid Essex Hospital Services NHS Trust"},{"$f":"SUM(IF(('CCG-Prov(Acute)'!$B$2:$B$28899=Q211),1,0))","v":159},null,{"$f":"SUM(IF(('CCG-Prov(Amb)'!$A$2:$A$335=A211),1,0))","v":2},{"$f":"SUM(IF(('CCG-Prov(Amb)'!$A$2:$A$335=A211)*('CCG-Prov(Amb)'!$C$2:$C$335>=Ambulance!$B$7),1,0))","v":1},{"$f":"IF(VALUE(MID(W$2,5,2))<=$V211,OFFSET('CCG-Prov(Amb)'!$B$1,MATCH($A211,'CCG-Prov(Amb)'!$A$2:$A$335,0)+VALUE(RIGHT(W$2,1))-1,0),\"\")","v":"RYE"},{"$f":"IF(VALUE(MID(X$2,5,2))<=$V211,OFFSET('CCG-Prov(Amb)'!$B$1,MATCH($A211,'CCG-Prov(Amb)'!$A$2:$A$335,0)+VALUE(RIGHT(X$2,1))-1,0),\"\")","v":""},{"$f":"IF(VALUE(MID(Y$2,5,2))<=$V211,OFFSET('CCG-Prov(Amb)'!$B$1,MATCH($A211,'CCG-Prov(Amb)'!$A$2:$A$335,0)+VALUE(RIGHT(Y$2,1))-1,0),\"\")","v":""},{"$f":"IF(VALUE(MID(Z$2,5,2))<=$V211,OFFSET('CCG-Prov(Amb)'!$B$1,MATCH($A211,'CCG-Prov(Amb)'!$A$2:$A$335,0)+VALUE(RIGHT(Z$2,1))-1,0),\"\")","v":""},{"$f":"IF(VALUE(MID(AA$2,5,2))<=$V211,OFFSET('CCG-Prov(Amb)'!$B$1,MATCH($A211,'CCG-Prov(Amb)'!$A$2:$A$335,0)+VALUE(RIGHT(AA$2,1))-1,0),\"\")","v":""},null,null,null,null,null,{"$f":"SUM(IF(('CCG-Prov(Births)'!$A$2:$A$6150=A211),1,0))","v":25},{"$f":"SUM(IF(('CCG-Prov(Births)'!$A$2:$A$6150=A211)*('CCG-Prov(Births)'!$C$2:$C$6150>=Maternity!$B$7),1,0))","v":2},{"$f":"IF(VALUE(MID(AI$2,5,2))<=$V211,OFFSET('CCG-Prov(Births)'!$B$1,MATCH($A211,'CCG-Prov(Births)'!$A$2:$A$6150,0)+VALUE(RIGHT(AI$2,1))-1,0),\"\")","v":"RHW"},{"$f":"IF(VALUE(MID(AJ$2,5,2))<=$V211,OFFSET('CCG-Prov(Births)'!$B$1,MATCH($A211,'CCG-Prov(Births)'!$A$2:$A$6150,0)+VALUE(RIGHT(AJ$2,1))-1,0),\"\")","v":""},{"$f":"IF(VALUE(MID(AK$2,5,2))<=$V211,OFFSET('CCG-Prov(Births)'!$B$1,MATCH($A211,'CCG-Prov(Births)'!$A$2:$A$6150,0)+VALUE(RIGHT(AK$2,1))-1,0),\"\")","v":""},{"$f":"IF(VALUE(MID(AL$2,5,2))<=$V211,OFFSET('CCG-Prov(Births)'!$B$1,MATCH($A211,'CCG-Prov(Births)'!$A$2:$A$6150,0)+VALUE(RIGHT(AL$2,1))-1,0),\"\")","v":""},{"$f":"IF(VALUE(MID(AM$2,5,2))<=$V211,OFFSET('CCG-Prov(Births)'!$B$1,MATCH($A211,'CCG-Prov(Births)'!$A$2:$A$6150,0)+VALUE(RIGHT(AM$2,1))-1,0),\"\")","v":""}]
["06A","Wolverhampton",{"$f":"SUM(IF(('CCG-Prov(Acute)'!$A$2:$A$29012=A212),1,0))","v":151},{"$f":"SUM(IF(('CCG-Prov(Acute)'!$A$2:$A$29012=A212)*('CCG-Prov(Acute)'!$C$2:$C$29012>=Acute!$B$7),1,0))","v":6},{"$f":"IF(VALUE(MID(E$2,5,2))<=$D212,OFFSET('CCG-Prov(Acute)'!$B$1,MATCH($A212,'CCG-Prov(Acute)'!$A$2:$A$29012,0)+VALUE(RIGHT(E$2,1))-1,0),\"\")","v":"RL4"},{"$f":"IF(VALUE(MID(F$2,5,2))<=$D212,OFFSET('CCG-Prov(Acute)'!$B$1,MATCH($A212,'CCG-Prov(Acute)'!$A$2:$A$29012,0)+VALUE(RIGHT(F$2,1))-1,0),\"\")","v":"RNA"},{"$f":"IF(VALUE(MID(G$2,5,2))<=$D212,OFFSET('CCG-Prov(Acute)'!$B$1,MATCH($A212,'CCG-Prov(Acute)'!$A$2:$A$29012,0)+VALUE(RIGHT(G$2,1))-1,0),\"\")","v":"RRK"},{"$f":"IF(VALUE(MID(H$2,5,2))<=$D212,OFFSET('CCG-Prov(Acute)'!$B$1,MATCH($A212,'CCG-Prov(Acute)'!$A$2:$A$29012,0)+VALUE(RIGHT(H$2,1))-1,0),\"\")","v":"RBK"},{"$f":"IF(VALUE(MID(I$2,5,2))<=$D212,OFFSET('CCG-Prov(Acute)'!$B$1,MATCH($A212,'CCG-Prov(Acute)'!$A$2:$A$29012,0)+VALUE(RIGHT(I$2,1))-1,0),\"\")","v":"5MV"},{"$f":"IF(VALUE(MID(J$2,5,2))<=$D212,OFFSET('CCG-Prov(Acute)'!$B$1,MATCH($A212,'CCG-Prov(Acute)'!$A$2:$A$29012,0)+VALUE(RIGHT(J$2,1))-1,0),\"\")","v":"RQ3"},{"$f":"IF(VALUE(MID(K$2,5,2))<=$D212,OFFSET('CCG-Prov(Acute)'!$B$1,MATCH($A212,'CCG-Prov(Acute)'!$A$2:$A$29012,0)+VALUE(RIGHT(K$2,1))-1,0),\"\")","v":""},{"$f":"IF(VALUE(MID(L$2,5,2))<=$D212,OFFSET('CCG-Prov(Acute)'!$B$1,MATCH($A212,'CCG-Prov(Acute)'!$A$2:$A$29012,0)+VALUE(RIGHT(L$2,1))-1,0),\"\")","v":""},{"$f":"IF(VALUE(MID(M$2,5,2))<=$D212,OFFSET('CCG-Prov(Acute)'!$B$1,MATCH($A212,'CCG-Prov(Acute)'!$A$2:$A$29012,0)+VALUE(RIGHT(M$2,1))-1,0),\"\")","v":""},{"$f":"IF(VALUE(MID(N$2,5,2))<=$D212,OFFSET('CCG-Prov(Acute)'!$B$1,MATCH($A212,'CCG-Prov(Acute)'!$A$2:$A$29012,0)+VALUE(RIGHT(N$2,1))-1,0),\"\")","v":""},null,null,"RQM",{"$f":"VLOOKUP(Q212,provnames!$A$2:$B$331,2,0)","v":"Chelsea & Westminster Hospital NHS FT"},{"$f":"SUM(IF(('CCG-Prov(Acute)'!$B$2:$B$28899=Q212),1,0))","v":182},null,{"$f":"SUM(IF(('CCG-Prov(Amb)'!$A$2:$A$335=A212),1,0))","v":1},{"$f":"SUM(IF(('CCG-Prov(Amb)'!$A$2:$A$335=A212)*('CCG-Prov(Amb)'!$C$2:$C$335>=Ambulance!$B$7),1,0))","v":1},{"$f":"IF(VALUE(MID(W$2,5,2))<=$V212,OFFSET('CCG-Prov(Amb)'!$B$1,MATCH($A212,'CCG-Prov(Amb)'!$A$2:$A$335,0)+VALUE(RIGHT(W$2,1))-1,0),\"\")","v":"RYA"},{"$f":"IF(VALUE(MID(X$2,5,2))<=$V212,OFFSET('CCG-Prov(Amb)'!$B$1,MATCH($A212,'CCG-Prov(Amb)'!$A$2:$A$335,0)+VALUE(RIGHT(X$2,1))-1,0),\"\")","v":""},{"$f":"IF(VALUE(MID(Y$2,5,2))<=$V212,OFFSET('CCG-Prov(Amb)'!$B$1,MATCH($A212,'CCG-Prov(Amb)'!$A$2:$A$335,0)+VALUE(RIGHT(Y$2,1))-1,0),\"\")","v":""},{"$f":"IF(VALUE(MID(Z$2,5,2))<=$V212,OFFSET('CCG-Prov(Amb)'!$B$1,MATCH($A212,'CCG-Prov(Amb)'!$A$2:$A$335,0)+VALUE(RIGHT(Z$2,1))-1,0),\"\")","v":""},{"$f":"IF(VALUE(MID(AA$2,5,2))<=$V212,OFFSET('CCG-Prov(Amb)'!$B$1,MATCH($A212,'CCG-Prov(Amb)'!$A$2:$A$335,0)+VALUE(RIGHT(AA$2,1))-1,0),\"\")","v":""},null,null,null,null,null,{"$f":"SUM(IF(('CCG-Prov(Births)'!$A$2:$A$6150=A212),1,0))","v":31},{"$f":"SUM(IF(('CCG-Prov(Births)'!$A$2:$A$6150=A212)*('CCG-Prov(Births)'!$C$2:$C$6150>=Maternity!$B$7),1,0))","v":3},{"$f":"IF(VALUE(MID(AI$2,5,2))<=$V212,OFFSET('CCG-Prov(Births)'!$B$1,MATCH($A212,'CCG-Prov(Births)'!$A$2:$A$6150,0)+VALUE(RIGHT(AI$2,1))-1,0),\"\")","v":"RL4"},{"$f":"IF(VALUE(MID(AJ$2,5,2))<=$V212,OFFSET('CCG-Prov(Births)'!$B$1,MATCH($A212,'CCG-Prov(Births)'!$A$2:$A$6150,0)+VALUE(RIGHT(AJ$2,1))-1,0),\"\")","v":""},{"$f":"IF(VALUE(MID(AK$2,5,2))<=$V212,OFFSET('CCG-Prov(Births)'!$B$1,MATCH($A212,'CCG-Prov(Births)'!$A$2:$A$6150,0)+VALUE(RIGHT(AK$2,1))-1,0),\"\")","v":""},{"$f":"IF(VALUE(MID(AL$2,5,2))<=$V212,OFFSET('CCG-Prov(Births)'!$B$1,MATCH($A212,'CCG-Prov(Births)'!$A$2:$A$6150,0)+VALUE(RIGHT(AL$2,1))-1,0),\"\")","v":""},{"$f":"IF(VALUE(MID(AM$2,5,2))<=$V212,OFFSET('CCG-Prov(Births)'!$B$1,MATCH($A212,'CCG-Prov(Births)'!$A$2:$A$6150,0)+VALUE(RIGHT(AM$2,1))-1,0),\"\")","v":""}]
["06D","Wyre Forest",{"$f":"SUM(IF(('CCG-Prov(Acute)'!$A$2:$A$29012=A213),1,0))","v":97},{"$f":"SUM(IF(('CCG-Prov(Acute)'!$A$2:$A$29012=A213)*('CCG-Prov(Acute)'!$C$2:$C$29012>=Acute!$B$7),1,0))","v":3},{"$f":"IF(VALUE(MID(E$2,5,2))<=$D213,OFFSET('CCG-Prov(Acute)'!$B$1,MATCH($A213,'CCG-Prov(Acute)'!$A$2:$A$29012,0)+VALUE(RIGHT(E$2,1))-1,0),\"\")","v":"RWP"},{"$f":"IF(VALUE(MID(F$2,5,2))<=$D213,OFFSET('CCG-Prov(Acute)'!$B$1,MATCH($A213,'CCG-Prov(Acute)'!$A$2:$A$29012,0)+VALUE(RIGHT(F$2,1))-1,0),\"\")","v":"RNA"},{"$f":"IF(VALUE(MID(G$2,5,2))<=$D213,OFFSET('CCG-Prov(Acute)'!$B$1,MATCH($A213,'CCG-Prov(Acute)'!$A$2:$A$29012,0)+VALUE(RIGHT(G$2,1))-1,0),\"\")","v":"RRK"},{"$f":"IF(VALUE(MID(H$2,5,2))<=$D213,OFFSET('CCG-Prov(Acute)'!$B$1,MATCH($A213,'CCG-Prov(Acute)'!$A$2:$A$29012,0)+VALUE(RIGHT(H$2,1))-1,0),\"\")","v":""},{"$f":"IF(VALUE(MID(I$2,5,2))<=$D213,OFFSET('CCG-Prov(Acute)'!$B$1,MATCH($A213,'CCG-Prov(Acute)'!$A$2:$A$29012,0)+VALUE(RIGHT(I$2,1))-1,0),\"\")","v":""},{"$f":"IF(VALUE(MID(J$2,5,2))<=$D213,OFFSET('CCG-Prov(Acute)'!$B$1,MATCH($A213,'CCG-Prov(Acute)'!$A$2:$A$29012,0)+VALUE(RIGHT(J$2,1))-1,0),\"\")","v":""},{"$f":"IF(VALUE(MID(K$2,5,2))<=$D213,OFFSET('CCG-Prov(Acute)'!$B$1,MATCH($A213,'CCG-Prov(Acute)'!$A$2:$A$29012,0)+VALUE(RIGHT(K$2,1))-1,0),\"\")","v":""},{"$f":"IF(VALUE(MID(L$2,5,2))<=$D213,OFFSET('CCG-Prov(Acute)'!$B$1,MATCH($A213,'CCG-Prov(Acute)'!$A$2:$A$29012,0)+VALUE(RIGHT(L$2,1))-1,0),\"\")","v":""},{"$f":"IF(VALUE(MID(M$2,5,2))<=$D213,OFFSET('CCG-Prov(Acute)'!$B$1,MATCH($A213,'CCG-Prov(Acute)'!$A$2:$A$29012,0)+VALUE(RIGHT(M$2,1))-1,0),\"\")","v":""},{"$f":"IF(VALUE(MID(N$2,5,2))<=$D213,OFFSET('CCG-Prov(Acute)'!$B$1,MATCH($A213,'CCG-Prov(Acute)'!$A$2:$A$29012,0)+VALUE(RIGHT(N$2,1))-1,0),\"\")","v":""},null,null,"RQQ",{"$f":"VLOOKUP(Q213,provnames!$A$2:$B$331,2,0)","v":"Hinchingbrooke Health Care NHS Trust"},{"$f":"SUM(IF(('CCG-Prov(Acute)'!$B$2:$B$28899=Q213),1,0))","v":127},null,{"$f":"SUM(IF(('CCG-Prov(Amb)'!$A$2:$A$335=A213),1,0))","v":1},{"$f":"SUM(IF(('CCG-Prov(Amb)'!$A$2:$A$335=A213)*('CCG-Prov(Amb)'!$C$2:$C$335>=Ambulance!$B$7),1,0))","v":1},{"$f":"IF(VALUE(MID(W$2,5,2))<=$V213,OFFSET('CCG-Prov(Amb)'!$B$1,MATCH($A213,'CCG-Prov(Amb)'!$A$2:$A$335,0)+VALUE(RIGHT(W$2,1))-1,0),\"\")","v":"RYA"},{"$f":"IF(VALUE(MID(X$2,5,2))<=$V213,OFFSET('CCG-Prov(Amb)'!$B$1,MATCH($A213,'CCG-Prov(Amb)'!$A$2:$A$335,0)+VALUE(RIGHT(X$2,1))-1,0),\"\")","v":""},{"$f":"IF(VALUE(MID(Y$2,5,2))<=$V213,OFFSET('CCG-Prov(Amb)'!$B$1,MATCH($A213,'CCG-Prov(Amb)'!$A$2:$A$335,0)+VALUE(RIGHT(Y$2,1))-1,0),\"\")","v":""},{"$f":"IF(VALUE(MID(Z$2,5,2))<=$V213,OFFSET('CCG-Prov(Amb)'!$B$1,MATCH($A213,'CCG-Prov(Amb)'!$A$2:$A$335,0)+VALUE(RIGHT(Z$2,1))-1,0),\"\")","v":""},{"$f":"IF(VALUE(MID(AA$2,5,2))<=$V213,OFFSET('CCG-Prov(Amb)'!$B$1,MATCH($A213,'CCG-Prov(Amb)'!$A$2:$A$335,0)+VALUE(RIGHT(AA$2,1))-1,0),\"\")","v":""},null,null,null,null,null,{"$f":"SUM(IF(('CCG-Prov(Births)'!$A$2:$A$6150=A213),1,0))","v":12},{"$f":"SUM(IF(('CCG-Prov(Births)'!$A$2:$A$6150=A213)*('CCG-Prov(Births)'!$C$2:$C$6150>=Maternity!$B$7),1,0))","v":2},{"$f":"IF(VALUE(MID(AI$2,5,2))<=$V213,OFFSET('CCG-Prov(Births)'!$B$1,MATCH($A213,'CCG-Prov(Births)'!$A$2:$A$6150,0)+VALUE(RIGHT(AI$2,1))-1,0),\"\")","v":"RWP"},{"$f":"IF(VALUE(MID(AJ$2,5,2))<=$V213,OFFSET('CCG-Prov(Births)'!$B$1,MATCH($A213,'CCG-Prov(Births)'!$A$2:$A$6150,0)+VALUE(RIGHT(AJ$2,1))-1,0),\"\")","v":""},{"$f":"IF(VALUE(MID(AK$2,5,2))<=$V213,OFFSET('CCG-Prov(Births)'!$B$1,MATCH($A213,'CCG-Prov(Births)'!$A$2:$A$6150,0)+VALUE(RIGHT(AK$2,1))-1,0),\"\")","v":""},{"$f":"IF(VALUE(MID(AL$2,5,2))<=$V213,OFFSET('CCG-Prov(Births)'!$B$1,MATCH($A213,'CCG-Prov(Births)'!$A$2:$A$6150,0)+VALUE(RIGHT(AL$2,1))-1,0),\"\")","v":""},{"$f":"IF(VALUE(MID(AM$2,5,2))<=$V213,OFFSET('CCG-Prov(Births)'!$B$1,MATCH($A213,'CCG-Prov(Births)'!$A$2:$A$6150,0)+VALUE(RIGHT(AM$2,1))-1,0),\"\")","v":""}]
[null,null,null,null,null,null,null,null,null,null,null,null,null,null,null,null,"RQW",{"$f":"VLOOKUP(Q214,provnames!$A$2:$B$331,2,0)","v":"The Princess Alexandra Hospital NHS Trust"},{"$f":"SUM(IF(('CCG-Prov(Acute)'!$B$2:$B$28899=Q214),1,0))","v":139}]
[null,null,null,null,null,null,null,null,null,null,null,null,null,null,null,null,"RQX",{"$f":"VLOOKUP(Q215,provnames!$A$2:$B$331,2,0)","v":"Homerton Univ Hospital NHS FT"},{"$f":"SUM(IF(('CCG-Prov(Acute)'!$B$2:$B$28899=Q215),1,0))","v":158}]
[null,null,null,null,null,null,null,null,null,null,null,null,null,null,null,null,"RR1",{"$f":"VLOOKUP(Q216,provnames!$A$2:$B$331,2,0)","v":"Heart of England NHS FT"},{"$f":"SUM(IF(('CCG-Prov(Acute)'!$B$2:$B$28899=Q216),1,0))","v":192}]
[null,null,null,null,null,null,null,null,null,null,null,null,null,null,null,null,"RR7",{"$f":"VLOOKUP(Q217,provnames!$A$2:$B$331,2,0)","v":"Gateshead Health NHS FT"},{"$f":"SUM(IF(('CCG-Prov(Acute)'!$B$2:$B$28899=Q217),1,0))","v":82}]
[null,null,null,null,null,null,null,null,null,null,null,null,null,null,null,null,"RR8",{"$f":"VLOOKUP(Q218,provnames!$A$2:$B$331,2,0)","v":"Leeds Teaching Hospitals NHS Trust"},{"$f":"SUM(IF(('CCG-Prov(Acute)'!$B$2:$B$28899=Q218),1,0))","v":204}]
[null,null,null,null,null,null,null,null,null,null,null,null,null,null,null,null,"RRF",{"$f":"VLOOKUP(Q219,provnames!$A$2:$B$331,2,0)","v":"Wrightington, Wigan & Leigh NHS FT"},{"$f":"SUM(IF(('CCG-Prov(Acute)'!$B$2:$B$28899=Q219),1,0))","v":147}]
[null,null,null,null,null,null,null,null,null,null,null,null,null,null,null,null,"RRJ",{"$f":"VLOOKUP(Q220,provnames!$A$2:$B$331,2,0)","v":"The Royal Orthopaedic Hospital NHS FT"},{"$f":"SUM(IF(('CCG-Prov(Acute)'!$B$2:$B$28899=Q220),1,0))","v":142}]
[null,null,null,null,null,null,null,null,null,null,null,null,null,null,null,null,"RRK",{"$f":"VLOOKUP(Q221,provnames!$A$2:$B$331,2,0)","v":"University Hospitals Birmingham NHS FT"},{"$f":"SUM(IF(('CCG-Prov(Acute)'!$B$2:$B$28899=Q221),1,0))","v":194}]
[null,null,null,null,null,null,null,null,null,null,null,null,null,null,null,null,"RRV",{"$f":"VLOOKUP(Q222,provnames!$A$2:$B$331,2,0)","v":"University College London Hospitals NHS FT"},{"$f":"SUM(IF(('CCG-Prov(Acute)'!$B$2:$B$28899=Q222),1,0))","v":211}]
[null,null,null,null,null,null,null,null,null,null,null,null,null,null,null,null,"RT1",{"$f":"VLOOKUP(Q223,provnames!$A$2:$B$331,2,0)","v":"Cambridgeshire & Peterborough NHS FT"},{"$f":"SUM(IF(('CCG-Prov(Acute)'!$B$2:$B$28899=Q223),1,0))","v":11}]
[null,null,null,null,null,null,null,null,null,null,null,null,null,null,null,null,"RT3",{"$f":"VLOOKUP(Q224,provnames!$A$2:$B$331,2,0)","v":"Royal Brompton & Harefield NHS FT"},{"$f":"SUM(IF(('CCG-Prov(Acute)'!$B$2:$B$28899=Q224),1,0))","v":186}]
[null,null,null,null,null,null,null,null,null,null,null,null,null,null,null,null,"RTD",{"$f":"VLOOKUP(Q225,provnames!$A$2:$B$331,2,0)","v":"The Newcastle Upon Tyne Hospitals NHS FT"},{"$f":"SUM(IF(('CCG-Prov(Acute)'!$B$2:$B$28899=Q225),1,0))","v":199}]
[null,null,null,null,null,null,null,null,null,null,null,null,null,null,null,null,"RTE",{"$f":"VLOOKUP(Q226,provnames!$A$2:$B$331,2,0)","v":"Gloucestershire Hospitals NHS FT"},{"$f":"SUM(IF(('CCG-Prov(Acute)'!$B$2:$B$28899=Q226),1,0))","v":197}]
[null,null,null,null,null,null,null,null,null,null,null,null,null,null,null,null,"RTF",{"$f":"VLOOKUP(Q227,provnames!$A$2:$B$331,2,0)","v":"Northumbria Healthcare NHS FT"},{"$f":"SUM(IF(('CCG-Prov(Acute)'!$B$2:$B$28899=Q227),1,0))","v":176}]
[null,null,null,null,null,null,null,null,null,null,null,null,null,null,null,null,"RTG",{"$f":"VLOOKUP(Q228,provnames!$A$2:$B$331,2,0)","v":"Derby Hospitals NHS FT"},{"$f":"SUM(IF(('CCG-Prov(Acute)'!$B$2:$B$28899=Q228),1,0))","v":191}]
[null,null,null,null,null,null,null,null,null,null,null,null,null,null,null,null,"RTH",{"$f":"VLOOKUP(Q229,provnames!$A$2:$B$331,2,0)","v":"Oxford Univ Hospitals NHS Trust"},{"$f":"SUM(IF(('CCG-Prov(Acute)'!$B$2:$B$28899=Q229),1,0))","v":206}]
[null,null,null,null,null,null,null,null,null,null,null,null,null,null,null,null,"RTK",{"$f":"VLOOKUP(Q230,provnames!$A$2:$B$331,2,0)","v":"Ashford & St Peter's Hospitals NHS FT"},{"$f":"SUM(IF(('CCG-Prov(Acute)'!$B$2:$B$28899=Q230),1,0))","v":162}]
[null,null,null,null,null,null,null,null,null,null,null,null,null,null,null,null,"RTP",{"$f":"VLOOKUP(Q231,provnames!$A$2:$B$331,2,0)","v":"Surrey & Sussex Healthcare NHS Trust"},{"$f":"SUM(IF(('CCG-Prov(Acute)'!$B$2:$B$28899=Q231),1,0))","v":183}]
[null,null,null,null,null,null,null,null,null,null,null,null,null,null,null,null,"RTQ",{"$f":"VLOOKUP(Q232,provnames!$A$2:$B$331,2,0)","v":"2Gether NHS FT"},{"$f":"SUM(IF(('CCG-Prov(Acute)'!$B$2:$B$28899=Q232),1,0))","v":9}]
[null,null,null,null,null,null,null,null,null,null,null,null,null,null,null,null,"RTR",{"$f":"VLOOKUP(Q233,provnames!$A$2:$B$331,2,0)","v":"South Tees Hospitals NHS FT"},{"$f":"SUM(IF(('CCG-Prov(Acute)'!$B$2:$B$28899=Q233),1,0))","v":192}]
[null,null,null,null,null,null,null,null,null,null,null,null,null,null,null,null,"RTX",{"$f":"VLOOKUP(Q234,provnames!$A$2:$B$331,2,0)","v":"University Hospitals of Morecambe Bay NHS FT"},{"$f":"SUM(IF(('CCG-Prov(Acute)'!$B$2:$B$28899=Q234),1,0))","v":189}]
[null,null,null,null,null,null,null,null,null,null,null,null,null,null,null,null,"RV8",{"$f":"VLOOKUP(Q235,provnames!$A$2:$B$331,2,0)","v":"North West London Hospitals NHS Trust"},{"$f":"SUM(IF(('CCG-Prov(Acute)'!$B$2:$B$28899=Q235),1,0))","v":199}]
[null,null,null,null,null,null,null,null,null,null,null,null,null,null,null,null,"RV9",{"$f":"VLOOKUP(Q236,provnames!$A$2:$B$331,2,0)","v":"Humber NHS FT"},{"$f":"SUM(IF(('CCG-Prov(Acute)'!$B$2:$B$28899=Q236),1,0))","v":4}]
[null,null,null,null,null,null,null,null,null,null,null,null,null,null,null,null,"RVJ",{"$f":"VLOOKUP(Q237,provnames!$A$2:$B$331,2,0)","v":"North Bristol NHS Trust"},{"$f":"SUM(IF(('CCG-Prov(Acute)'!$B$2:$B$28899=Q237),1,0))","v":169}]
[null,null,null,null,null,null,null,null,null,null,null,null,null,null,null,null,"RVL",{"$f":"VLOOKUP(Q238,provnames!$A$2:$B$331,2,0)","v":"Barnet & Chase Farm Hospitals NHS Trust"},{"$f":"SUM(IF(('CCG-Prov(Acute)'!$B$2:$B$28899=Q238),1,0))","v":176}]
[null,null,null,null,null,null,null,null,null,null,null,null,null,null,null,null,"RVN",{"$f":"VLOOKUP(Q239,provnames!$A$2:$B$331,2,0)","v":"Avon & Wiltshire Mental Health Partnership NHS Trust"},{"$f":"SUM(IF(('CCG-Prov(Acute)'!$B$2:$B$28899=Q239),1,0))","v":52}]
[null,null,null,null,null,null,null,null,null,null,null,null,null,null,null,null,"RVR",{"$f":"VLOOKUP(Q240,provnames!$A$2:$B$331,2,0)","v":"Epsom & St Helier Univ Hospitals NHS Trust"},{"$f":"SUM(IF(('CCG-Prov(Acute)'!$B$2:$B$28899=Q240),1,0))","v":167}]
[null,null,null,null,null,null,null,null,null,null,null,null,null,null,null,null,"RVV",{"$f":"VLOOKUP(Q241,provnames!$A$2:$B$331,2,0)","v":"East Kent Hospitals Univ NHS FT"},{"$f":"SUM(IF(('CCG-Prov(Acute)'!$B$2:$B$28899=Q241),1,0))","v":190}]
[null,null,null,null,null,null,null,null,null,null,null,null,null,null,null,null,"RVW",{"$f":"VLOOKUP(Q242,provnames!$A$2:$B$331,2,0)","v":"North Tees & Hartlepool NHS FT"},{"$f":"SUM(IF(('CCG-Prov(Acute)'!$B$2:$B$28899=Q242),1,0))","v":131}]
[null,null,null,null,null,null,null,null,null,null,null,null,null,null,null,null,"RVY",{"$f":"VLOOKUP(Q243,provnames!$A$2:$B$331,2,0)","v":"Southport & Ormskirk Hospital NHS Trust"},{"$f":"SUM(IF(('CCG-Prov(Acute)'!$B$2:$B$28899=Q243),1,0))","v":135}]
[null,null,null,null,null,null,null,null,null,null,null,null,null,null,null,null,"RW1",{"$f":"VLOOKUP(Q244,provnames!$A$2:$B$331,2,0)","v":"Southern Health NHS FT"},{"$f":"SUM(IF(('CCG-Prov(Acute)'!$B$2:$B$28899=Q244),1,0))","v":14}]
[null,null,null,null,null,null,null,null,null,null,null,null,null,null,null,null,"RW3",{"$f":"VLOOKUP(Q245,provnames!$A$2:$B$331,2,0)","v":"Central Manchester Univ Hospitals NHS FT"},{"$f":"SUM(IF(('CCG-Prov(Acute)'!$B$2:$B$28899=Q245),1,0))","v":193}]
[null,null,null,null,null,null,null,null,null,null,null,null,null,null,null,null,"RW4",{"$f":"VLOOKUP(Q246,provnames!$A$2:$B$331,2,0)","v":"Mersey Care NHS Trust"},{"$f":"SUM(IF(('CCG-Prov(Acute)'!$B$2:$B$28899=Q246),1,0))","v":10}]
[null,null,null,null,null,null,null,null,null,null,null,null,null,null,null,null,"RW6",{"$f":"VLOOKUP(Q247,provnames!$A$2:$B$331,2,0)","v":"Pennine Acute Hospitals NHS Trust"},{"$f":"SUM(IF(('CCG-Prov(Acute)'!$B$2:$B$28899=Q247),1,0))","v":185}]
[null,null,null,null,null,null,null,null,null,null,null,null,null,null,null,null,"RWA",{"$f":"VLOOKUP(Q248,provnames!$A$2:$B$331,2,0)","v":"Hull & East Yorkshire Hospitals NHS Trust"},{"$f":"SUM(IF(('CCG-Prov(Acute)'!$B$2:$B$28899=Q248),1,0))","v":173}]
[null,null,null,null,null,null,null,null,null,null,null,null,null,null,null,null,"RWD",{"$f":"VLOOKUP(Q249,provnames!$A$2:$B$331,2,0)","v":"United Lincolnshire Hospitals NHS Trust"},{"$f":"SUM(IF(('CCG-Prov(Acute)'!$B$2:$B$28899=Q249),1,0))","v":194}]
[null,null,null,null,null,null,null,null,null,null,null,null,null,null,null,null,"RWE",{"$f":"VLOOKUP(Q250,provnames!$A$2:$B$331,2,0)","v":"University Hospitals of Leicester NHS Trust"},{"$f":"SUM(IF(('CCG-Prov(Acute)'!$B$2:$B$28899=Q250),1,0))","v":201}]
[null,null,null,null,null,null,null,null,null,null,null,null,null,null,null,null,"RWF",{"$f":"VLOOKUP(Q251,provnames!$A$2:$B$331,2,0)","v":"Maidstone & Tunbridge Wells NHS Trust"},{"$f":"SUM(IF(('CCG-Prov(Acute)'!$B$2:$B$28899=Q251),1,0))","v":165}]
[null,null,null,null,null,null,null,null,null,null,null,null,null,null,null,null,"RWG",{"$f":"VLOOKUP(Q252,provnames!$A$2:$B$331,2,0)","v":"West Hertfordshire Hospitals NHS Trust"},{"$f":"SUM(IF(('CCG-Prov(Acute)'!$B$2:$B$28899=Q252),1,0))","v":156}]
[null,null,null,null,null,null,null,null,null,null,null,null,null,null,null,null,"RWH",{"$f":"VLOOKUP(Q253,provnames!$A$2:$B$331,2,0)","v":"East & North Hertfordshire NHS Trust"},{"$f":"SUM(IF(('CCG-Prov(Acute)'!$B$2:$B$28899=Q253),1,0))","v":178}]
[null,null,null,null,null,null,null,null,null,null,null,null,null,null,null,null,"RWJ",{"$f":"VLOOKUP(Q254,provnames!$A$2:$B$331,2,0)","v":"Stockport NHS FT"},{"$f":"SUM(IF(('CCG-Prov(Acute)'!$B$2:$B$28899=Q254),1,0))","v":150}]
[null,null,null,null,null,null,null,null,null,null,null,null,null,null,null,null,"RWK",{"$f":"VLOOKUP(Q255,provnames!$A$2:$B$331,2,0)","v":"East London NHS FT"},{"$f":"SUM(IF(('CCG-Prov(Acute)'!$B$2:$B$28899=Q255),1,0))","v":1}]
[null,null,null,null,null,null,null,null,null,null,null,null,null,null,null,null,"RWP",{"$f":"VLOOKUP(Q256,provnames!$A$2:$B$331,2,0)","v":"Worcestershire Acute Hospitals NHS Trust"},{"$f":"SUM(IF(('CCG-Prov(Acute)'!$B$2:$B$28899=Q256),1,0))","v":178}]
[null,null,null,null,null,null,null,null,null,null,null,null,null,null,null,null,"RWR",{"$f":"VLOOKUP(Q257,provnames!$A$2:$B$331,2,0)","v":"Hertfordshire Partnership NHS FT"},{"$f":"SUM(IF(('CCG-Prov(Acute)'!$B$2:$B$28899=Q257),1,0))","v":3}]
[null,null,null,null,null,null,null,null,null,null,null,null,null,null,null,null,"RWV",{"$f":"VLOOKUP(Q258,provnames!$A$2:$B$331,2,0)","v":"Devon Partnership NHS Trust"},{"$f":"SUM(IF(('CCG-Prov(Acute)'!$B$2:$B$28899=Q258),1,0))","v":2}]
[null,null,null,null,null,null,null,null,null,null,null,null,null,null,null,null,"RWW",{"$f":"VLOOKUP(Q259,provnames!$A$2:$B$331,2,0)","v":"Warrington & Halton Hospitals NHS FT"},{"$f":"SUM(IF(('CCG-Prov(Acute)'!$B$2:$B$28899=Q259),1,0))","v":154}]
[null,null,null,null,null,null,null,null,null,null,null,null,null,null,null,null,"RWY",{"$f":"VLOOKUP(Q260,provnames!$A$2:$B$331,2,0)","v":"Calderdale & Huddersfield NHS FT"},{"$f":"SUM(IF(('CCG-Prov(Acute)'!$B$2:$B$28899=Q260),1,0))","v":135}]
[null,null,null,null,null,null,null,null,null,null,null,null,null,null,null,null,"RX1",{"$f":"VLOOKUP(Q261,provnames!$A$2:$B$331,2,0)","v":"Nottingham Univ Hospitals NHS Trust"},{"$f":"SUM(IF(('CCG-Prov(Acute)'!$B$2:$B$28899=Q261),1,0))","v":202}]
[null,null,null,null,null,null,null,null,null,null,null,null,null,null,null,null,"RX2",{"$f":"VLOOKUP(Q262,provnames!$A$2:$B$331,2,0)","v":"Sussex Partnership NHS FT"},{"$f":"SUM(IF(('CCG-Prov(Acute)'!$B$2:$B$28899=Q262),1,0))","v":11}]
[null,null,null,null,null,null,null,null,null,null,null,null,null,null,null,null,"RX4",{"$f":"VLOOKUP(Q263,provnames!$A$2:$B$331,2,0)","v":"Northumberland, Tyne & Wear NHS FT"},{"$f":"SUM(IF(('CCG-Prov(Acute)'!$B$2:$B$28899=Q263),1,0))","v":16}]
[null,null,null,null,null,null,null,null,null,null,null,null,null,null,null,null,"RXC",{"$f":"VLOOKUP(Q264,provnames!$A$2:$B$331,2,0)","v":"East Sussex Healthcare NHS Trust"},{"$f":"SUM(IF(('CCG-Prov(Acute)'!$B$2:$B$28899=Q264),1,0))","v":187}]
[null,null,null,null,null,null,null,null,null,null,null,null,null,null,null,null,"RXF",{"$f":"VLOOKUP(Q265,provnames!$A$2:$B$331,2,0)","v":"Mid Yorkshire Hospitals NHS Trust"},{"$f":"SUM(IF(('CCG-Prov(Acute)'!$B$2:$B$28899=Q265),1,0))","v":153}]
[null,null,null,null,null,null,null,null,null,null,null,null,null,null,null,null,"RXH",{"$f":"VLOOKUP(Q266,provnames!$A$2:$B$331,2,0)","v":"Brighton & Sussex Univ Hospitals NHS Trust"},{"$f":"SUM(IF(('CCG-Prov(Acute)'!$B$2:$B$28899=Q266),1,0))","v":186}]
[null,null,null,null,null,null,null,null,null,null,null,null,null,null,null,null,"RXK",{"$f":"VLOOKUP(Q267,provnames!$A$2:$B$331,2,0)","v":"Sandwell & West Birmingham Hospitals NHS Trust"},{"$f":"SUM(IF(('CCG-Prov(Acute)'!$B$2:$B$28899=Q267),1,0))","v":198}]
[null,null,null,null,null,null,null,null,null,null,null,null,null,null,null,null,"RXL",{"$f":"VLOOKUP(Q268,provnames!$A$2:$B$331,2,0)","v":"Blackpool Teaching Hospitals NHS FT"},{"$f":"SUM(IF(('CCG-Prov(Acute)'!$B$2:$B$28899=Q268),1,0))","v":188}]
[null,null,null,null,null,null,null,null,null,null,null,null,null,null,null,null,"RXM",{"$f":"VLOOKUP(Q269,provnames!$A$2:$B$331,2,0)","v":"Derbyshire Healthcare NHS FT"},{"$f":"SUM(IF(('CCG-Prov(Acute)'!$B$2:$B$28899=Q269),1,0))","v":8}]
[null,null,null,null,null,null,null,null,null,null,null,null,null,null,null,null,"RXN",{"$f":"VLOOKUP(Q270,provnames!$A$2:$B$331,2,0)","v":"Lancashire Teaching Hospitals NHS FT"},{"$f":"SUM(IF(('CCG-Prov(Acute)'!$B$2:$B$28899=Q270),1,0))","v":154}]
[null,null,null,null,null,null,null,null,null,null,null,null,null,null,null,null,"RXP",{"$f":"VLOOKUP(Q271,provnames!$A$2:$B$331,2,0)","v":"County Durham & Darlington NHS FT"},{"$f":"SUM(IF(('CCG-Prov(Acute)'!$B$2:$B$28899=Q271),1,0))","v":174}]
[null,null,null,null,null,null,null,null,null,null,null,null,null,null,null,null,"RXQ",{"$f":"VLOOKUP(Q272,provnames!$A$2:$B$331,2,0)","v":"Buckinghamshire Healthcare NHS Trust"},{"$f":"SUM(IF(('CCG-Prov(Acute)'!$B$2:$B$28899=Q272),1,0))","v":178}]
[null,null,null,null,null,null,null,null,null,null,null,null,null,null,null,null,"RXR",{"$f":"VLOOKUP(Q273,provnames!$A$2:$B$331,2,0)","v":"East Lancashire Hospitals NHS Trust"},{"$f":"SUM(IF(('CCG-Prov(Acute)'!$B$2:$B$28899=Q273),1,0))","v":166}]
[null,null,null,null,null,null,null,null,null,null,null,null,null,null,null,null,"RXT",{"$f":"VLOOKUP(Q274,provnames!$A$2:$B$331,2,0)","v":"Birmingham & Solihull Mental Health NHS FT"},{"$f":"SUM(IF(('CCG-Prov(Acute)'!$B$2:$B$28899=Q274),1,0))","v":14}]
[null,null,null,null,null,null,null,null,null,null,null,null,null,null,null,null,"RXV",{"$f":"VLOOKUP(Q275,provnames!$A$2:$B$331,2,0)","v":"Greater Manchester West Mental Health NHS FT"},{"$f":"SUM(IF(('CCG-Prov(Acute)'!$B$2:$B$28899=Q275),1,0))","v":3}]
[null,null,null,null,null,null,null,null,null,null,null,null,null,null,null,null,"RXW",{"$f":"VLOOKUP(Q276,provnames!$A$2:$B$331,2,0)","v":"Shrewsbury & Telford Hospital NHS Trust"},{"$f":"SUM(IF(('CCG-Prov(Acute)'!$B$2:$B$28899=Q276),1,0))","v":163}]
[null,null,null,null,null,null,null,null,null,null,null,null,null,null,null,null,"RXX",{"$f":"VLOOKUP(Q277,provnames!$A$2:$B$331,2,0)","v":"Surrey & Borders Partnership NHS FT"},{"$f":"SUM(IF(('CCG-Prov(Acute)'!$B$2:$B$28899=Q277),1,0))","v":3}]
[null,null,null,null,null,null,null,null,null,null,null,null,null,null,null,null,"RXY",{"$f":"VLOOKUP(Q278,provnames!$A$2:$B$331,2,0)","v":"Kent & Medway NHS & Social Care Partnership Trust"},{"$f":"SUM(IF(('CCG-Prov(Acute)'!$B$2:$B$28899=Q278),1,0))","v":14}]
[null,null,null,null,null,null,null,null,null,null,null,null,null,null,null,null,"RY3",{"$f":"VLOOKUP(Q279,provnames!$A$2:$B$331,2,0)","v":"Norfolk Community Health & Care NHS Trust"},{"$f":"SUM(IF(('CCG-Prov(Acute)'!$B$2:$B$28899=Q279),1,0))","v":10}]
[null,null,null,null,null,null,null,null,null,null,null,null,null,null,null,null,"RY4",{"$f":"VLOOKUP(Q280,provnames!$A$2:$B$331,2,0)","v":"Hertfordshire Community NHS Trust"},{"$f":"SUM(IF(('CCG-Prov(Acute)'!$B$2:$B$28899=Q280),1,0))","v":12}]
[null,null,null,null,null,null,null,null,null,null,null,null,null,null,null,null,"RYJ",{"$f":"VLOOKUP(Q281,provnames!$A$2:$B$331,2,0)","v":"Imperial College Healthcare NHS Trust"},{"$f":"SUM(IF(('CCG-Prov(Acute)'!$B$2:$B$28899=Q281),1,0))","v":209}]
[null,null,null,null,null,null,null,null,null,null,null,null,null,null,null,null,"RYK",{"$f":"VLOOKUP(Q282,provnames!$A$2:$B$331,2,0)","v":"Dudley & Walsall Mental Health Partnership NHS Trust"},{"$f":"SUM(IF(('CCG-Prov(Acute)'!$B$2:$B$28899=Q282),1,0))","v":4}]
[null,null,null,null,null,null,null,null,null,null,null,null,null,null,null,null,"RYQ",{"$f":"VLOOKUP(Q283,provnames!$A$2:$B$331,2,0)","v":"South London Healthcare NHS Trust"},{"$f":"SUM(IF(('CCG-Prov(Acute)'!$B$2:$B$28899=Q283),1,0))","v":186}]
[null,null,null,null,null,null,null,null,null,null,null,null,null,null,null,null,"RYR",{"$f":"VLOOKUP(Q284,provnames!$A$2:$B$331,2,0)","v":"Western Sussex Hospitals NHS Trust"},{"$f":"SUM(IF(('CCG-Prov(Acute)'!$B$2:$B$28899=Q284),1,0))","v":175}]
[null,null,null,null,null,null,null,null,null,null,null,null,null,null,null,null,"RYV",{"$f":"VLOOKUP(Q285,provnames!$A$2:$B$331,2,0)","v":"Cambridgeshire Community Services NHS Trust"},{"$f":"SUM(IF(('CCG-Prov(Acute)'!$B$2:$B$28899=Q285),1,0))","v":36}]
[null,null,null,null,null,null,null,null,null,null,null,null,null,null,null,null,"RYW",{"$f":"VLOOKUP(Q286,provnames!$A$2:$B$331,2,0)","v":"Birmingham Community Healthcare NHS Trust"},{"$f":"SUM(IF(('CCG-Prov(Acute)'!$B$2:$B$28899=Q286),1,0))","v":30}]
[null,null,null,null,null,null,null,null,null,null,null,null,null,null,null,null,"TAH",{"$f":"VLOOKUP(Q287,provnames!$A$2:$B$331,2,0)","v":"Sheffield Health & Social Care NHS FT"},{"$f":"SUM(IF(('CCG-Prov(Acute)'!$B$2:$B$28899=Q287),1,0))","v":3}]
[null,null,null,null,null,null,null,null,null,null,null,null,null,null,null,null,"TAL",{"$f":"VLOOKUP(Q288,provnames!$A$2:$B$331,2,0)","v":"Torbay Care Trust"},{"$f":"SUM(IF(('CCG-Prov(Acute)'!$B$2:$B$28899=Q288),1,0))","v":3}]
[null,null,null,null,null,null,null,null,null,null,null,null,null,null,null,null,"Grand Total",{"$f":"VLOOKUP(Q289,provnames!$A$2:$B$331,2,0)","v":{"$error":"#N/A"}},{"$f":"SUM(IF(('CCG-Prov(Acute)'!$B$2:$B$28899=Q289),1,0))","v":0}]

{"sheet":"CCG-Prov(Amb)","index":5,"n_rows":335,"n_cols":8,"rows_kept":335,"cut":false,"hidden":true,"merged":[]}
["CCG_Code","Prov_Code","First_Episodes",null,null,"Prov_Code","CCG_Code","First_Episodes"]
["00C","RX6",104656,null,null,"5QT","10L",141052]
["00C","RX8",1423,null,null,"RRY","07W",398956]
["00D","RX6",287306,null,null,"RRY","08K",384582]
["00D","RX8",627,null,null,"RRY","07M",379039]
["00F","RX6",206320,null,null,"RRY","07V",373336]
["00G","RX6",150114,null,null,"RRY","08M",371322]
["00H","RX6",130363,null,null,"RRY","08X",355931]
["00J","RX6",247437,null,null,"RRY","07P",340120]
["00K","RX6",288975,null,null,"RRY","08Q",328380]
["00K","RX8",470,null,null,"RRY","07Q",325000]
["00L","RX6",321253,null,null,"RRY","08L",308762]
["00L","RX7",123,null,null,"RRY","07X",306194]
["00M","RX6",290276,null,null,"RRY","08W",294736]
["00M","RX8",140,null,null,"RRY","07T",289035]
["00N","RX6",154535,null,null,"RRY","08D",283523]
["00P","RX6",284706,null,null,"RRY","08V",280770]
["00Q","RX7",169187,null,null,"RRY","08N",280400]
["00R","RX7",172375,null,null,"RRY","07Y",279843]
["00T","RX7",296802,null,null,"RRY","08A",277585]
["00V","RX7",196281,null,null,"RRY","08G",274405]
["00W","RX7",214744,null,null,"RRY","08F",257598]
["00X","RX7",173686,null,null,"RRY","07R",256865]
["00Y","RX7",241018,null,null,"RRY","08E",236773]
["01A","RX7",370999,null,null,"RRY","07N",225824]
["01A","RX8",436,null,null,"RRY","08Y",225385]
["01C","RX7",200298,null,null,"RRY","08H",222015]
["01C","RYA",1278,null,null,"RRY","08R",213762]
["01C","RX9",680,null,null,"RRY","07L",202835]
["01D","RX7",224318,null,null,"RRY","08C",200010]
["01D","RX8",254,null,null,"RRY","08P",198857]
["01E","RX7",212462,null,null,"RRY","09A",194600]
["01F","RX7",128264,null,null,"RRY","08T",182927]
["01G","RX7",250125,null,null,"RRY","08J",182119]
["01H","RX7",518500,null,null,"RRY","99H",6917]
["01H","RX8",6471,null,null,"RRY","07H",5273]
["01H","RX6",396,null,null,"RRY","09L",5196]
["01J","RX7",161096,null,null,"RRY","09J",4067]
["01K","RX7",160536,null,null,"RRY","06N",2166]
["01M","RX7",187565,null,null,"RRY","06K",1751]
["01N","RX7",166928,null,null,"RRY","09Y",1176]
["01R","RX7",173082,null,null,"RRY","99J",552]
["01R","RYA",1523,null,null,"RRY","10H",329]
["01T","RX7",153503,null,null,"RRY","07G",198]
["01V","RX7",124029,null,null,"RRY","99E",36]
["01W","RX7",298828,null,null,"RX5","11M",608794]
["01W","RX9",309,null,null,"RX5","11H",477497]
["01X","RX7",193191,null,null,"RX5","99N",461092]
["01Y","RX7",236869,null,null,"RX5","12A",257450]
["01Y","RX9",4154,null,null,"RX5","12D",220930]
["02A","RX7",234822,null,null,"RX5","11T",209724]
["02D","RX7",102219,null,null,"RX5","11E",191215]
["02E","RX7",209117,null,null,"RX5","11X",3423]
["02F","RX7",246564,null,null,"RX5","05T",3381]
["02F","RYA",403,null,null,"RX5","11J",2329]
["02G","RX7",111842,null,null,"RX5","10Q",1572]
["02H","RX7",320637,null,null,"RX5","05R",1554]
["02M","RX7",151372,null,null,"RX5","10M",1147]
["02N","RX8",155511,null,null,"RX5","05F",878]
["02N","RX7",282,null,null,"RX5","11A",726]
["02P","RX8",248775,null,null,"RX6","00L",321253]
["02Q","RX9",109648,null,null,"RX6","00M",290276]
["02Q","RX8",2268,null,null,"RX6","00K",288975]
["02R","RX8",330759,null,null,"RX6","00D",287306]
["02T","RX8",213311,null,null,"RX6","00P",284706]
["02T","RX7",20,null,null,"RX6","00J",247437]
["02V","RX8",202299,null,null,"RX6","99C",215011]
["02W","RX8",118921,null,null,"RX6","00F",206320]
["02X","RX8",303495,null,null,"RX6","00N",154535]
["02X","RX9",5646,null,null,"RX6","00G",150114]
["02Y","RX8",301188,null,null,"RX6","00H",130363]
["02Y","RX9",187,null,null,"RX6","00C",104656]
["03A","RX8",239429,null,null,"RX6","03D",1965]
["03C","RX8",358511,null,null,"RX6","01H",396]
["03D","RX8",139654,null,null,"RX7","01H",518500]
["03D","RX6",1965,null,null,"RX7","99A",493964]
["03D","RX7",117,null,null,"RX7","01A",370999]
["03E","RX8",159534,null,null,"RX7","12F",331261]
["03F","RX8",290596,null,null,"RX7","02H",320637]
["03F","RX9",14,null,null,"RX7","01W",298828]
["03G","RX8",260500,null,null,"RX7","00T",296802]
["03H","RX9",167988,null,null,"RX7","01G",250125]
["03J","RX8",185425,null,null,"RX7","02F",246564]
["03K","RX9",169201,null,null,"RX7","00Y",241018]
["03K","RX8",78,null,null,"RX7","01Y",236869]
["03L","RX8",255198,null,null,"RX7","02A",234822]
["03L","RX9",91,null,null,"RX7","01D",224318]
["03M","RX8",118024,null,null,"RX7","00W",214744]
["03N","RX8",567243,null,null,"RX7","01E",212462]
["03N","RX9",3549,null,null,"RX7","02E",209117]
["03Q","RX8",340681,null,null,"RX7","01C",200298]
["03R","RX8",354669,null,null,"RX7","00V",196281]
["03T","RX9",241325,null,null,"RX7","01X",193191]
["03V","RX9",68172,null,null,"RX7","01M",187565]
["03V","RYC",1629,null,null,"RX7","00X",173686]
["03W","RX9",315260,null,null,"RX7","01R",173082]
["03W","RYC",471,null,null,"RX7","00R",172375]
["03W","RYA",126,null,null,"RX7","00Q",169187]
["03X","RX9",97346,null,null,"RX7","01N",166928]
["03Y","RX9",101940,null,null,"RX7","01J",161096]
["03Y","RX8",356,null,null,"RX7","01K",160536]
["04C","RX9",374348,null,null,"RX7","01T",153503]
["04D","RX9",226054,null,null,"RX7","02M",151372]
["04E","RX9",184149,null,null,"RX7","01F",128264]
["04F","RYE",257272,null,null,"RX7","01V",124029]
["04F","RX9",8950,null,null,"RX7","02G",111842]
["04F","RYC",426,null,null,"RX7","02D",102219]
["04G","RX9",554557,null,null,"RX7","05G",2371]
["04G","RYC",72707,null,null,"RX7","04J",1196]
["04G","RYE",5170,null,null,"RX7","05N",542]
["04G","RYA",1290,null,null,"RX7","02N",282]
["04H","RX9",128048,null,null,"RX7","00L",123]
["04J","RX9",283924,null,null,"RX7","03D",117]
["04J","RYA",2047,null,null,"RX7","05W",52]
["04J","RX8",1779,null,null,"RX7","02T",20]
["04J","RX7",1196,null,null,"RX8","03N",567243]
["04K","RX9",347746,null,null,"RX8","03C",358511]
["04L","RX9",144886,null,null,"RX8","03R",354669]
["04M","RX9",93521,null,null,"RX8","03Q",340681]
["04N","RX9",121910,null,null,"RX8","02R",330759]
["04Q","RX9",129235,null,null,"RX8","02X",303495]
["04R","RX9",527323,null,null,"RX8","02Y",301188]
["04R","RYA",2604,null,null,"RX8","03F",290596]
["04V","RX9",366855,null,null,"RX8","03G",260500]
["04V","RYA",2384,null,null,"RX8","03L",255198]
["13P","RYA",730436,null,null,"RX8","02P",248775]
["04X","RYA",244544,null,null,"RX8","03A",239429]
["04Y","RYA",131900,null,null,"RX8","02T",213311]
["05A","RYA",462800,null,null,"RX8","02V",202299]
["05A","RX9",1796,null,null,"RX8","03J",185425]
["05C","RYA",314258,null,null,"RX8","03E",159534]
["05D","RYA",122826,null,null,"RX8","02N",155511]
["05D","RX9",11359,null,null,"RX8","03D",139654]
["05F","RYA",179039,null,null,"RX8","02W",118921]
["05F","RX5",878,null,null,"RX8","03M",118024]
["05G","RYA",210562,null,null,"RX8","01H",6471]
["05G","RX7",2371,null,null,"RX8","02Q",2268]
["05G","RX9",16,null,null,"RX8","04J",1779]
["05H","RYA",180993,null,null,"RX8","00C",1423]
["05H","RX9",2859,null,null,"RX8","00D",627]
["05J","RYA",171776,null,null,"RX8","00K",470]
["05L","RYA",534785,null,null,"RX8","01A",436]
["05N","RYA",291906,null,null,"RX8","03Y",356]
["05N","RX7",542,null,null,"RX8","01D",254]
["05P","RYA",236044,null,null,"RX8","00M",140]
["05Q","RYA",211306,null,null,"RX8","03K",78]
["05Q","RX9",25,null,null,"RX9","04G",554557]
["05R","RYA",268175,null,null,"RX9","04R",527323]
["05R","RYE",1942,null,null,"RX9","04C",374348]
["05R","RX5",1554,null,null,"RX9","04V",366855]
["05R","RX9",138,null,null,"RX9","04K",347746]
["05T","RYA",289355,null,null,"RX9","03W",315260]
["05T","RX5",3381,null,null,"RX9","04J",283924]
["05V","RYA",144598,null,null,"RX9","03T",241325]
["05W","RYA",278867,null,null,"RX9","04D",226054]
["05W","RX7",52,null,null,"RX9","04E",184149]
["05X","RYA",172239,null,null,"RX9","03K",169201]
["05Y","RYA",270924,null,null,"RX9","03H",167988]
["06A","RYA",261600,null,null,"RX9","99D",146105]
["06D","RYA",112205,null,null,"RX9","04L",144886]
["06F","RYC",428327,null,null,"RX9","04Q",129235]
["06F","RYE",9205,null,null,"RX9","04H",128048]
["06F","RX9",285,null,null,"RX9","04N",121910]
["06H","RYC",862990,null,null,"RX9","02Q",109648]
["06H","RX9",1829,null,null,"RX9","03Y",101940]
["06K","RYC",566604,null,null,"RX9","03X",97346]
["06K","RRY",1751,null,null,"RX9","04M",93521]
["06L","RYC",387924,null,null,"RX9","03V",68172]
["06M","RYC",231016,null,null,"RX9","05D",11359]
["06N","RYC",593170,null,null,"RX9","04F",8950]
["06N","RYE",7158,null,null,"RX9","10Q",8229]
["06N","RRY",2166,null,null,"RX9","02X",5646]
["06P","RYC",213864,null,null,"RX9","01Y",4154]
["06Q","RYC",379483,null,null,"RX9","03N",3549]
["06T","RYC",327754,null,null,"RX9","05H",2859]
["06V","RYC",167620,null,null,"RX9","06H",1829]
["06W","RYC",208662,null,null,"RX9","05A",1796]
["06Y","RYC",223981,null,null,"RX9","01C",680]
["07G","RYC",161727,null,null,"RX9","01W",309]
["07G","RRY",198,null,null,"RX9","10Y",303]
["07H","RYC",286973,null,null,"RX9","06F",285]
["07H","RRY",5273,null,null,"RX9","02Y",187]
["07J","RYC",164902,null,null,"RX9","05R",138]
["07J","RX9",68,null,null,"RX9","03L",91]
["07K","RYC",237031,null,null,"RX9","07J",68]
["07L","RRY",202835,null,null,"RX9","05Q",25]
["07L","RYC",217,null,null,"RX9","05G",16]
["07M","RRY",379039,null,null,"RX9","03F",14]
["07M","RYC",397,null,null,"RYA","13P",730436]
["07N","RRY",225824,null,null,"RYA","05L",534785]
["07N","RYD",2564,null,null,"RYA","05A",462800]
["07P","RRY",340120,null,null,"RYA","05C",314258]
["07Q","RRY",325000,null,null,"RYA","05N",291906]
["07Q","RYD",4136,null,null,"RYA","05T",289355]
["07R","RRY",256865,null,null,"RYA","05W",278867]
["07T","RRY",289035,null,null,"RYA","05Y",270924]
["07V","RRY",373336,null,null,"RYA","05R",268175]
["07V","RYD",4233,null,null,"RYA","06A",261600]
["07W","RRY",398956,null,null,"RYA","04X",244544]
["07W","RYE",68,null,null,"RYA","05P",236044]
["07W","RYC",12,null,null,"RYA","05Q",211306]
["07X","RRY",306194,null,null,"RYA","05G",210562]
["07X","RYC",670,null,null,"RYA","05H",180993]
["07Y","RRY",279843,null,null,"RYA","05F",179039]
["07Y","RYD",1399,null,null,"RYA","05X",172239]
["08A","RRY",277585,null,null,"RYA","05J",171776]
["08A","RYD",125,null,null,"RYA","05V",144598]
["08C","RRY",200010,null,null,"RYA","04Y",131900]
["08D","RRY",283523,null,null,"RYA","05D",122826]
["08D","RYC",18,null,null,"RYA","06D",112205]
["08E","RRY",236773,null,null,"RYA","11M",6414]
["08E","RYC",1440,null,null,"RYA","04R",2604]
["08F","RRY",257598,null,null,"RYA","04V",2384]
["08F","RYC",467,null,null,"RYA","04J",2047]
["08G","RRY",274405,null,null,"RYA","10Q",1806]
["08G","RYC",6626,null,null,"RYA","01R",1523]
["08G","RYE",2591,null,null,"RYA","04G",1290]
["08G","RYD",25,null,null,"RYA","01C",1278]
["08H","RRY",222015,null,null,"RYA","02F",403]
["08J","RRY",182119,null,null,"RYA","03W",126]
["08J","RYD",7970,null,null,"RYC","06H",862990]
["08K","RRY",384582,null,null,"RYC","06N",593170]
["08L","RRY",308762,null,null,"RYC","06K",566604]
["08M","RRY",371322,null,null,"RYC","06F",428327]
["08M","RYC",45,null,null,"RYC","06L",387924]
["08N","RRY",280400,null,null,"RYC","06Q",379483]
["08N","RYC",9079,null,null,"RYC","06T",327754]
["08P","RRY",198857,null,null,"RYC","07H",286973]
["08P","RYD",678,null,null,"RYC","99E",261911]
["08Q","RRY",328380,null,null,"RYC","07K",237031]
["08R","RRY",213762,null,null,"RYC","06M",231016]
["08R","RYD",441,null,null,"RYC","06Y",223981]
["08T","RRY",182927,null,null,"RYC","06P",213864]
["08T","RYD",2241,null,null,"RYC","06W",208662]
["08V","RRY",280770,null,null,"RYC","99G",186464]
["08W","RRY",294736,null,null,"RYC","99F",178018]
["08W","RYC",1185,null,null,"RYC","06V",167620]
["08X","RRY",355931,null,null,"RYC","07J",164902]
["08X","RYD",27,null,null,"RYC","07G",161727]
["08Y","RRY",225385,null,null,"RYC","04G",72707]
["09A","RRY",194600,null,null,"RYC","99D",10551]
["09C","RYD",123536,null,null,"RYC","08N",9079]
["09D","RYD",296206,null,null,"RYC","08G",6626]
["09E","RYD",212388,null,null,"RYC","10Y",4916]
["09F","RYD",185957,null,null,"RYC","03V",1629]
["09G","RYD",486349,null,null,"RYC","08E",1440]
["09G","RYE",1005,null,null,"RYC","08W",1185]
["09H","RYD",126264,null,null,"RYC","07X",670]
["09J","RYD",244845,null,null,"RYC","03W",471]
["09J","RRY",4067,null,null,"RYC","08F",467]
["09L","RYD",165035,null,null,"RYC","04F",426]
["09L","RRY",5196,null,null,"RYC","07M",397]
["09N","RYD",206148,null,null,"RYC","10H",290]
["09N","RYE",6476,null,null,"RYC","07L",217]
["09P","RYD",183677,null,null,"RYC","08M",45]
["09W","RYD",282120,null,null,"RYC","08D",18]
["09X","RYD",225075,null,null,"RYC","07W",12]
["09Y","RYD",346569,null,null,"RYD","09G",486349]
["09Y","RRY",1176,null,null,"RYD","99J",465693]
["09Y","RYE",783,null,null,"RYD","09Y",346569]
["10A","RYD",200403,null,null,"RYD","09D",296206]
["10C","RYD",90163,null,null,"RYD","99H",282123]
["10C","RYE",154,null,null,"RYD","09W",282120]
["10D","RYD",108377,null,null,"RYD","09J",244845]
["10E","RYD",139545,null,null,"RYD","09X",225075]
["10G","RYE",132441,null,null,"RYD","99M",214773]
["10G","RYD",3493,null,null,"RYD","09E",212388]
["10H","RYE",325597,null,null,"RYD","09N",206148]
["10H","RRY",329,null,null,"RYD","10A",200403]
["10H","RYC",290,null,null,"RYD","09F",185957]
["10J","RYE",192515,null,null,"RYD","09P",183677]
["10J","RYD",22954,null,null,"RYD","99K",165190]
["10K","RYE",199959,null,null,"RYD","09L",165035]
["10L","5QT",141052,null,null,"RYD","10E",139545]
["10M","RYE",112989,null,null,"RYD","09H",126264]
["10M","RX5",1147,null,null,"RYD","09C",123536]
["10N","RYE",107093,null,null,"RYD","10D",108377]
["10Q","RYE",676946,null,null,"RYD","10C",90163]
["10Q","RX9",8229,null,null,"RYD","10J",22954]
["10Q","RYA",1806,null,null,"RYD","11C",11241]
["10Q","RX5",1572,null,null,"RYD","10V",9317]
["10R","RYE",216688,null,null,"RYD","08J",7970]
["10T","RYE",143975,null,null,"RYD","07V",4233]
["10V","RYE",199680,null,null,"RYD","07Q",4136]
["10V","RYD",9317,null,null,"RYD","10G",3493]
["10W","RYE",128030,null,null,"RYD","07N",2564]
["10X","RYE",266596,null,null,"RYD","08T",2241]
["10Y","RYE",192918,null,null,"RYD","07Y",1399]
["10Y","RYC",4916,null,null,"RYD","11D",823]
["10Y","RX9",303,null,null,"RYD","08P",678]
["11A","RYE",528617,null,null,"RYD","08R",441]
["11A","RYF",10881,null,null,"RYD","08A",125]
["11A","RX5",726,null,null,"RYD","08X",27]
["11C","RYE",139123,null,null,"RYD","08G",25]
["11C","RYD",11241,null,null,"RYE","10Q",676946]
["11D","RYE",153674,null,null,"RYE","11A",528617]
["11D","RYD",823,null,null,"RYE","10H",325597]
["11E","RX5",191215,null,null,"RYE","10X",266596]
["11E","RYF",6123,null,null,"RYE","04F",257272]
["11H","RX5",477497,null,null,"RYE","10R",216688]
["11J","RYF",760158,null,null,"RYE","10K",199959]
["11J","RYE",4262,null,null,"RYE","10V",199680]
["11J","RX5",2329,null,null,"RYE","10Y",192918]
["11M","RX5",608794,null,null,"RYE","10J",192515]
["11M","RYA",6414,null,null,"RYE","11D",153674]
["11M","RYE",1128,null,null,"RYE","10T",143975]
["11N","RYF",553580,null,null,"RYE","11C",139123]
["11T","RX5",209724,null,null,"RYE","10G",132441]
["11T","RYF",1869,null,null,"RYE","10W",128030]
["11X","RYF",541138,null,null,"RYE","10M",112989]
["11X","RX5",3423,null,null,"RYE","10N",107093]
["12A","RX5",257450,null,null,"RYE","06F",9205]
["12D","RX5",220930,null,null,"RYE","06N",7158]
["12D","RYE",1204,null,null,"RYE","99N",6921]
["99A","RX7",493964,null,null,"RYE","09N",6476]
["12F","RX7",331261,null,null,"RYE","04G",5170]
["99C","RX6",215011,null,null,"RYE","11J",4262]
["99D","RX9",146105,null,null,"RYE","08G",2591]
["99D","RYC",10551,null,null,"RYE","99M",2509]
["99E","RYC",261911,null,null,"RYE","05R",1942]
["99E","RRY",36,null,null,"RYE","12D",1204]
["99F","RYC",178018,null,null,"RYE","11M",1128]
["99G","RYC",186464,null,null,"RYE","09G",1005]
["99H","RYD",282123,null,null,"RYE","09Y",783]
["99H","RRY",6917,null,null,"RYE","10C",154]
["99J","RYD",465693,null,null,"RYE","07W",68]
["99J","RRY",552,null,null,"RYF","99P",903233]
["99K","RYD",165190,null,null,"RYF","11J",760158]
["99M","RYD",214773,null,null,"RYF","11N",553580]
["99M","RYE",2509,null,null,"RYF","11X",541138]
["99N","RX5",461092,null,null,"RYF","99Q",281761]
["99N","RYE",6921,null,null,"RYF","11A",10881]
["99N","RYF",4123,null,null,"RYF","11E",6123]
["99P","RYF",903233,null,null,"RYF","99N",4123]
["99Q","RYF",281761,null,null,"RYF","11T",1869]

{"sheet":"Sheet3","index":6,"n_rows":336,"n_cols":8,"rows_kept":336,"cut":false,"hidden":true,"merged":[]}
["CCG code","ambcode","SumOfpop",null,null,"ambcode","CCG code","SumOfpop"]
["00C","RX6",104656,null,null,"5QT","10L",141052]
["00C","RX8",1423,null,null,"RRY","07W",398956]
["00D","RX6",287306,null,null,"RRY","08K",384582]
["00D","RX8",627,null,null,"RRY","07M",379039]
["00F","RX6",206320,null,null,"RRY","07V",373336]
["00G","RX6",150114,null,null,"RRY","08M",371322]
["00H","RX6",130363,null,null,"RRY","08X",355931]
["00J","RX6",247437,null,null,"RRY","07P",340120]
["00K","RX6",288975,null,null,"RRY","08Q",328380]
["00K","RX8",470,null,null,"RRY","07Q",325000]
["00L","RX6",321253,null,null,"RRY","08L",308762]
["00L","RX7",123,null,null,"RRY","07X",306194]
["00M","RX6",290276,null,null,"RRY","08W",294736]
["00M","RX8",140,null,null,"RRY","07T",289035]
["00N","RX6",154535,null,null,"RRY","08D",283523]
["00P","RX6",284706,null,null,"RRY","08V",280770]
["00Q","RX7",169187,null,null,"RRY","08N",280400]
["00R","RX7",172375,null,null,"RRY","07Y",279843]
["00T","RX7",296802,null,null,"RRY","08A",277585]
["00V","RX7",196281,null,null,"RRY","08G",274405]
["00W","RX7",214744,null,null,"RRY","08F",257598]
["00X","RX7",173686,null,null,"RRY","07R",256865]
["00Y","RX7",241018,null,null,"RRY","08E",236773]
["01A","RX7",370999,null,null,"RRY","07N",225824]
["01A","RX8",436,null,null,"RRY","08Y",225385]
["01C","RX7",200298,null,null,"RRY","08H",222015]
["01C","RYA",1278,null,null,"RRY","08R",213762]
["01C","RX9",680,null,null,"RRY","07L",202835]
["01D","RX7",224318,null,null,"RRY","08C",200010]
["01D","RX8",254,null,null,"RRY","08P",198857]
["01E","RX7",212462,null,null,"RRY","09A",194600]
["01F","RX7",128264,null,null,"RRY","08T",182927]
["01G","RX7",250125,null,null,"RRY","08J",182119]
["01H","RX7",518500,null,null,"RRY","99H",6917]
["01H","RX8",6471,null,null,"RRY","07H",5273]
["01H","RX6",396,null,null,"RRY","09L",5196]
["01J","RX7",161096,null,null,"RRY","09J",4067]
["01K","RX7",160536,null,null,"RRY","06N",2166]
["01M","RX7",187565,null,null,"RRY","06K",1751]
["01N","RX7",166928,null,null,"RRY","09Y",1176]
["01R","RX7",173082,null,null,"RRY","99J",552]
["01R","RYA",1523,null,null,"RRY","10H",329]
["01T","RX7",153503,null,null,"RRY","07G",198]
["01V","RX7",124029,null,null,"RRY","99E",36]
["01W","RX7",298828,null,null,"RX5","11M",608794]
["01W","RX9",309,null,null,"RX5","11H",477497]
["01X","RX7",193191,null,null,"RX5","99N",461092]
["01Y","RX7",236869,null,null,"RX5","12A",257450]
["01Y","RX9",4154,null,null,"RX5","12D",220930]
["02A","RX7",234822,null,null,"RX5","11T",209724]
["02D","RX7",102219,null,null,"RX5","11E",191215]
["02E","RX7",209117,null,null,"RX5","11X",3423]
["02F","RX7",246564,null,null,"RX5","05T",3381]
["02F","RYA",403,null,null,"RX5","11J",2329]
["02G","RX7",111842,null,null,"RX5","10Q",1572]
["02H","RX7",320637,null,null,"RX5","05R",1554]
["02M","RX7",151372,null,null,"RX5","10M",1147]
["02N","RX8",155511,null,null,"RX5","05F",878]
["02N","RX7",282,null,null,"RX5","11A",726]
["02P","RX8",248775,null,null,"RX6","00L",321253]
["02Q","RX9",109648,null,null,"RX6","00M",290276]
["02Q","RX8",2268,null,null,"RX6","00K",288975]
["02R","RX8",330759,null,null,"RX6","00D",287306]
["02T","RX8",213311,null,null,"RX6","00P",284706]
["02T","RX7",20,null,null,"RX6","00J",247437]
["02V","RX8",202299,null,null,"RX6","99C",215011]
["02W","RX8",118921,null,null,"RX6","00F",206320]
["02X","RX8",303495,null,null,"RX6","00N",154535]
["02X","RX9",5646,null,null,"RX6","00G",150114]
["02Y","RX8",301188,null,null,"RX6","00H",130363]
["02Y","RX9",187,null,null,"RX6","00C",104656]
["03A","RX8",239429,null,null,"RX6","03D",1965]
["03C","RX8",358511,null,null,"RX6","01H",396]
["03D","RX8",139654,null,null,"RX7","01H",518500]
["03D","RX6",1965,null,null,"RX7","99A",493964]
["03D","RX7",117,null,null,"RX7","01A",370999]
["03E","RX8",159534,null,null,"RX7","99B",331261]
["03F","RX8",290596,null,null,"RX7","02H",320637]
["03F","RX9",14,null,null,"RX7","01W",298828]
["03G","RX8",260500,null,null,"RX7","00T",296802]
["03H","RX9",167988,null,null,"RX7","01G",250125]
["03J","RX8",185425,null,null,"RX7","02F",246564]
["03K","RX9",169201,null,null,"RX7","00Y",241018]
["03K","RX8",78,null,null,"RX7","01Y",236869]
["03L","RX8",255198,null,null,"RX7","02A",234822]
["03L","RX9",91,null,null,"RX7","01D",224318]
["03M","RX8",118024,null,null,"RX7","00W",214744]
["03N","RX8",567243,null,null,"RX7","01E",212462]
["03N","RX9",3549,null,null,"RX7","02E",209117]
["03Q","RX8",340681,null,null,"RX7","01C",200298]
["03R","RX8",354669,null,null,"RX7","00V",196281]
["03T","RX9",241325,null,null,"RX7","01X",193191]
["03V","RX9",68172,null,null,"RX7","01M",187565]
["03V","RYC",1629,null,null,"RX7","00X",173686]
["03W","RX9",315260,null,null,"RX7","01R",173082]
["03W","RYC",471,null,null,"RX7","00R",172375]
["03W","RYA",126,null,null,"RX7","00Q",169187]
["03X","RX9",97346,null,null,"RX7","01N",166928]
["03Y","RX9",101940,null,null,"RX7","01J",161096]
["03Y","RX8",356,null,null,"RX7","01K",160536]
["04C","RX9",374348,null,null,"RX7","01T",153503]
["04D","RX9",226054,null,null,"RX7","02M",151372]
["04E","RX9",184149,null,null,"RX7","01F",128264]
["04F","RYE",257272,null,null,"RX7","01V",124029]
["04F","RX9",8950,null,null,"RX7","02G",111842]
["04F","RYC",426,null,null,"RX7","02D",102219]
["04G","RX9",554557,null,null,"RX7","05G",2371]
["04G","RYC",72707,null,null,"RX7","04J",1196]
["04G","RYE",5170,null,null,"RX7","05N",542]
["04G","RYA",1290,null,null,"RX7","02N",282]
["04H","RX9",128048,null,null,"RX7","00L",123]
["04J","RX9",283924,null,null,"RX7","03D",117]
["04J","RYA",2047,null,null,"RX7","05W",52]
["04J","RX8",1779,null,null,"RX7","02T",20]
["04J","RX7",1196,null,null,"RX8","03N",567243]
["04K","RX9",347746,null,null,"RX8","03C",358511]
["04L","RX9",144886,null,null,"RX8","03R",354669]
["04M","RX9",93521,null,null,"RX8","03Q",340681]
["04N","RX9",121910,null,null,"RX8","02R",330759]
["04Q","RX9",129235,null,null,"RX8","02X",303495]
["04R","RX9",527323,null,null,"RX8","02Y",301188]
["04R","RYA",2604,null,null,"RX8","03F",290596]
["04V","RX9",366855,null,null,"RX8","03G",260500]
["04V","RYA",2384,null,null,"RX8","03L",255198]
["04W","RYA",597872,null,null,"RX8","02P",248775]
["04X","RYA",244544,null,null,"RX8","03A",239429]
["04Y","RYA",131900,null,null,"RX8","02T",213311]
["05A","RYA",462800,null,null,"RX8","02V",202299]
["05A","RX9",1796,null,null,"RX8","03J",185425]
["05C","RYA",314258,null,null,"RX8","03E",159534]
["05D","RYA",122826,null,null,"RX8","02N",155511]
["05D","RX9",11359,null,null,"RX8","03D",139654]
["05E","RYA",132564,null,null,"RX8","02W",118921]
["05F","RYA",179039,null,null,"RX8","03M",118024]
["05F","RX5",878,null,null,"RX8","01H",6471]
["05G","RYA",210562,null,null,"RX8","02Q",2268]
["05G","RX7",2371,null,null,"RX8","04J",1779]
["05G","RX9",16,null,null,"RX8","00C",1423]
["05H","RYA",180993,null,null,"RX8","00D",627]
["05H","RX9",2859,null,null,"RX8","00K",470]
["05J","RYA",171776,null,null,"RX8","01A",436]
["05L","RYA",534785,null,null,"RX8","03Y",356]
["05N","RYA",291906,null,null,"RX8","01D",254]
["05N","RX7",542,null,null,"RX8","00M",140]
["05P","RYA",236044,null,null,"RX8","03K",78]
["05Q","RYA",211306,null,null,"RX9","04G",554557]
["05Q","RX9",25,null,null,"RX9","04R",527323]
["05R","RYA",268175,null,null,"RX9","04C",374348]
["05R","RYE",1942,null,null,"RX9","04V",366855]
["05R","RX5",1554,null,null,"RX9","04K",347746]
["05R","RX9",138,null,null,"RX9","03W",315260]
["05T","RYA",289355,null,null,"RX9","04J",283924]
["05T","RX5",3381,null,null,"RX9","03T",241325]
["05V","RYA",144598,null,null,"RX9","04D",226054]
["05W","RYA",278867,null,null,"RX9","04E",184149]
["05W","RX7",52,null,null,"RX9","03K",169201]
["05X","RYA",172239,null,null,"RX9","03H",167988]
["05Y","RYA",270924,null,null,"RX9","99D",146105]
["06A","RYA",261600,null,null,"RX9","04L",144886]
["06D","RYA",112205,null,null,"RX9","04Q",129235]
["06F","RYC",428327,null,null,"RX9","04H",128048]
["06F","RYE",9205,null,null,"RX9","04N",121910]
["06F","RX9",285,null,null,"RX9","02Q",109648]
["06H","RYC",862990,null,null,"RX9","03Y",101940]
["06H","RX9",1829,null,null,"RX9","03X",97346]
["06K","RYC",566604,null,null,"RX9","04M",93521]
["06K","RRY",1751,null,null,"RX9","03V",68172]
["06L","RYC",387924,null,null,"RX9","05D",11359]
["06M","RYC",231016,null,null,"RX9","04F",8950]
["06N","RYC",593170,null,null,"RX9","10Q",8229]
["06N","RYE",7158,null,null,"RX9","02X",5646]
["06N","RRY",2166,null,null,"RX9","01Y",4154]
["06P","RYC",213864,null,null,"RX9","03N",3549]
["06Q","RYC",379483,null,null,"RX9","05H",2859]
["06T","RYC",327754,null,null,"RX9","06H",1829]
["06V","RYC",167620,null,null,"RX9","05A",1796]
["06W","RYC",208662,null,null,"RX9","01C",680]
["06Y","RYC",223981,null,null,"RX9","01W",309]
["07G","RYC",161727,null,null,"RX9","10Y",303]
["07G","RRY",198,null,null,"RX9","06F",285]
["07H","RYC",286973,null,null,"RX9","02Y",187]
["07H","RRY",5273,null,null,"RX9","05R",138]
["07J","RYC",164902,null,null,"RX9","03L",91]
["07J","RX9",68,null,null,"RX9","07J",68]
["07K","RYC",237031,null,null,"RX9","05Q",25]
["07L","RRY",202835,null,null,"RX9","05G",16]
["07L","RYC",217,null,null,"RX9","03F",14]
["07M","RRY",379039,null,null,"RYA","04W",597872]
["07M","RYC",397,null,null,"RYA","05L",534785]
["07N","RRY",225824,null,null,"RYA","05A",462800]
["07N","RYD",2564,null,null,"RYA","05C",314258]
["07P","RRY",340120,null,null,"RYA","05N",291906]
["07Q","RRY",325000,null,null,"RYA","05T",289355]
["07Q","RYD",4136,null,null,"RYA","05W",278867]
["07R","RRY",256865,null,null,"RYA","05Y",270924]
["07T","RRY",289035,null,null,"RYA","05R",268175]
["07V","RRY",373336,null,null,"RYA","06A",261600]
["07V","RYD",4233,null,null,"RYA","04X",244544]
["07W","RRY",398956,null,null,"RYA","05P",236044]
["07W","RYE",68,null,null,"RYA","05Q",211306]
["07W","RYC",12,null,null,"RYA","05G",210562]
["07X","RRY",306194,null,null,"RYA","05H",180993]
["07X","RYC",670,null,null,"RYA","05F",179039]
["07Y","RRY",279843,null,null,"RYA","05X",172239]
["07Y","RYD",1399,null,null,"RYA","05J",171776]
["08A","RRY",277585,null,null,"RYA","05V",144598]
["08A","RYD",125,null,null,"RYA","05E",132564]
["08C","RRY",200010,null,null,"RYA","04Y",131900]
["08D","RRY",283523,null,null,"RYA","05D",122826]
["08D","RYC",18,null,null,"RYA","06D",112205]
["08E","RRY",236773,null,null,"RYA","11M",6414]
["08E","RYC",1440,null,null,"RYA","04R",2604]
["08F","RRY",257598,null,null,"RYA","04V",2384]
["08F","RYC",467,null,null,"RYA","04J",2047]
["08G","RRY",274405,null,null,"RYA","10Q",1806]
["08G","RYC",6626,null,null,"RYA","01R",1523]
["08G","RYE",2591,null,null,"RYA","04G",1290]
["08G","RYD",25,null,null,"RYA","01C",1278]
["08H","RRY",222015,null,null,"RYA","02F",403]
["08J","RRY",182119,null,null,"RYA","03W",126]
["08J","RYD",7970,null,null,"RYC","06H",862990]
["08K","RRY",384582,null,null,"RYC","06N",593170]
["08L","RRY",308762,null,null,"RYC","06K",566604]
["08M","RRY",371322,null,null,"RYC","06F",428327]
["08M","RYC",45,null,null,"RYC","06L",387924]
["08N","RRY",280400,null,null,"RYC","06Q",379483]
["08N","RYC",9079,null,null,"RYC","06T",327754]
["08P","RRY",198857,null,null,"RYC","07H",286973]
["08P","RYD",678,null,null,"RYC","99E",261911]
["08Q","RRY",328380,null,null,"RYC","07K",237031]
["08R","RRY",213762,null,null,"RYC","06M",231016]
["08R","RYD",441,null,null,"RYC","06Y",223981]
["08T","RRY",182927,null,null,"RYC","06P",213864]
["08T","RYD",2241,null,null,"RYC","06W",208662]
["08V","RRY",280770,null,null,"RYC","99G",186464]
["08W","RRY",294736,null,null,"RYC","99F",178018]
["08W","RYC",1185,null,null,"RYC","06V",167620]
["08X","RRY",355931,null,null,"RYC","07J",164902]
["08X","RYD",27,null,null,"RYC","07G",161727]
["08Y","RRY",225385,null,null,"RYC","04G",72707]
["09A","RRY",194600,null,null,"RYC","99D",10551]
["09C","RYD",123536,null,null,"RYC","08N",9079]
["09D","RYD",296206,null,null,"RYC","08G",6626]
["09E","RYD",212388,null,null,"RYC","10Y",4916]
["09F","RYD",185957,null,null,"RYC","03V",1629]
["09G","RYD",486349,null,null,"RYC","08E",1440]
["09G","RYE",1005,null,null,"RYC","08W",1185]
["09H","RYD",126264,null,null,"RYC","07X",670]
["09J","RYD",244845,null,null,"RYC","03W",471]
["09J","RRY",4067,null,null,"RYC","08F",467]
["09L","RYD",165035,null,null,"RYC","04F",426]
["09L","RRY",5196,null,null,"RYC","07M",397]
["09N","RYD",206148,null,null,"RYC","10H",290]
["09N","RYE",6476,null,null,"RYC","07L",217]
["09P","RYD",183677,null,null,"RYC","08M",45]
["09W","RYD",282120,null,null,"RYC","08D",18]
["09X","RYD",225075,null,null,"RYC","07W",12]
["09Y","RYD",346569,null,null,"RYD","09G",486349]
["09Y","RRY",1176,null,null,"RYD","99J",465693]
["09Y","RYE",783,null,null,"RYD","09Y",346569]
["10A","RYD",200403,null,null,"RYD","09D",296206]
["10C","RYD",90163,null,null,"RYD","99H",282123]
["10C","RYE",154,null,null,"RYD","09W",282120]
["10D","RYD",108377,null,null,"RYD","09J",244845]
["10E","RYD",139545,null,null,"RYD","09X",225075]
["10G","RYE",132441,null,null,"RYD","99M",214773]
["10G","RYD",3493,null,null,"RYD","09E",212388]
["10H","RYE",325597,null,null,"RYD","09N",206148]
["10H","RRY",329,null,null,"RYD","10A",200403]
["10H","RYC",290,null,null,"RYD","09F",185957]
["10J","RYE",192515,null,null,"RYD","09P",183677]
["10J","RYD",22954,null,null,"RYD","99K",165190]
["10K","RYE",199959,null,null,"RYD","09L",165035]
["10L","5QT",141052,null,null,"RYD","10E",139545]
["10M","RYE",112989,null,null,"RYD","09H",126264]
["10M","RX5",1147,null,null,"RYD","09C",123536]
["10N","RYE",107093,null,null,"RYD","10D",108377]
["10Q","RYE",676946,null,null,"RYD","10C",90163]
["10Q","RX9",8229,null,null,"RYD","10J",22954]
["10Q","RYA",1806,null,null,"RYD","11C",11241]
["10Q","RX5",1572,null,null,"RYD","10V",9317]
["10R","RYE",216688,null,null,"RYD","08J",7970]
["10T","RYE",143975,null,null,"RYD","07V",4233]
["10V","RYE",199680,null,null,"RYD","07Q",4136]
["10V","RYD",9317,null,null,"RYD","10G",3493]
["10W","RYE",128030,null,null,"RYD","07N",2564]
["10X","RYE",266596,null,null,"RYD","08T",2241]
["10Y","RYE",192918,null,null,"RYD","07Y",1399]
["10Y","RYC",4916,null,null,"RYD","11D",823]
["10Y","RX9",303,null,null,"RYD","08P",678]
["11A","RYE",528617,null,null,"RYD","08R",441]
["11A","RYF",10881,null,null,"RYD","08A",125]
["11A","RX5",726,null,null,"RYD","08X",27]
["11C","RYE",139123,null,null,"RYD","08G",25]
["11C","RYD",11241,null,null,"RYE","10Q",676946]
["11D","RYE",153674,null,null,"RYE","11A",528617]
["11D","RYD",823,null,null,"RYE","10H",325597]
["11E","RX5",191215,null,null,"RYE","10X",266596]
["11E","RYF",6123,null,null,"RYE","04F",257272]
["11H","RX5",477497,null,null,"RYE","10R",216688]
["11J","RYF",760158,null,null,"RYE","10K",199959]
["11J","RYE",4262,null,null,"RYE","10V",199680]
["11J","RX5",2329,null,null,"RYE","10Y",192918]
["11M","RX5",608794,null,null,"RYE","10J",192515]
["11M","RYA",6414,null,null,"RYE","11D",153674]
["11M","RYE",1128,null,null,"RYE","10T",143975]
["11N","RYF",553580,null,null,"RYE","11C",139123]
["11T","RX5",209724,null,null,"RYE","10G",132441]
["11T","RYF",1869,null,null,"RYE","10W",128030]
["11X","RYF",541138,null,null,"RYE","10M",112989]
["11X","RX5",3423,null,null,"RYE","10N",107093]
["12A","RX5",257450,null,null,"RYE","06F",9205]
["12D","RX5",220930,null,null,"RYE","06N",7158]
["12D","RYE",1204,null,null,"RYE","99N",6921]
["99A","RX7",493964,null,null,"RYE","09N",6476]
["99B","RX7",331261,null,null,"RYE","04G",5170]
["99C","RX6",215011,null,null,"RYE","11J",4262]
["99D","RX9",146105,null,null,"RYE","08G",2591]
["99D","RYC",10551,null,null,"RYE","99M",2509]
["99E","RYC",261911,null,null,"RYE","05R",1942]
["99E","RRY",36,null,null,"RYE","12D",1204]
["99F","RYC",178018,null,null,"RYE","11M",1128]
["99G","RYC",186464,null,null,"RYE","09G",1005]
["99H","RYD",282123,null,null,"RYE","09Y",783]
["99H","RRY",6917,null,null,"RYE","10C",154]
["99J","RYD",465693,null,null,"RYE","07W",68]
["99J","RRY",552,null,null,"RYF","99P",903233]
["99K","RYD",165190,null,null,"RYF","11J",760158]
["99M","RYD",214773,null,null,"RYF","11N",553580]
["99M","RYE",2509,null,null,"RYF","11X",541138]
["99N","RX5",461092,null,null,"RYF","99Q",281761]
["99N","RYE",6921,null,null,"RYF","11A",10881]
["99N","RYF",4123,null,null,"RYF","11E",6123]
["99P","RYF",903233,null,null,"RYF","99N",4123]
["99Q","RYF",281761,null,null,"RYF","11T",1869]

{"sheet":"CCG-Prov(Births)","index":7,"n_rows":6150,"n_cols":9,"rows_kept":6150,"cut":false,"hidden":true,"merged":[]}
["CCG Code","Prov. Code","Sum of Total Births",null,null,null,"Prov. Code","CCG Code","Sum of Total Births"]
["00C","RXP",1364,null,null,null,"5CN","05F",1]
["00C","RTR",33,null,null,null,"5FE","10J",1]
["00C","RVW",6,null,null,null,"5N8","04N",1]
["00C","RTD",4,null,null,null,"5N9","03T",1]
["00C","RC1",1,null,null,null,"5NV","02Y",1]
["00C","RDU",1,null,null,null,"5NV","03D",1]
["00C","RGN",1,null,null,null,"5NV","03M",1]
["00C","RNS",1,null,null,null,"5NV","03Q",1]
["00C","RQX",1,null,null,null,"5PJ","05W",1]
["00C","RWD",1,null,null,null,"5PK","05Q",11]
["00D","RXP",2337,null,null,null,"5PK","05D",2]
["00D","RVW",576,null,null,null,"5PK","04Y",1]
["00D","RLN",575,null,null,null,"5PX","06Q",1]
["00D","RTD",31,null,null,null,"5QH","11M",1131]
["00D","RTR",29,null,null,null,"5QH","11H",3]
["00D","RE9",5,null,null,null,"5QH","12A",2]
["00D","RR7",2,null,null,null,"5QH","99N",2]
["00D","RGP",1,null,null,null,"5QH","05D",1]
["00D","RK9",1,null,null,null,"5QH","05F",1]
["00D","RNL",1,null,null,null,"5QH","11E",1]
["00D","RTE",1,null,null,null,"5QH","12D",1]
["00D","RTF",1,null,null,null,"5QK","99N",2280]
["00D","RW6",1,null,null,null,"5QK","11E",1689]
["00D","RXK",1,null,null,null,"5QK","11X",647]
["00D","RXR",1,null,null,null,"5QK","12A",179]
["00F","RR7",1680,null,null,null,"5QK","11H",20]
["00F","RTD",748,null,null,null,"5QK","11M",11]
["00F","RTF",45,null,null,null,"5QK","11T",6]
["00F","RXP",22,null,null,null,"5QK","12D",4]
["00F","RLN",10,null,null,null,"5QK","Wales",3]
["00F","RVW",5,null,null,null,"5QK","11N",2]
["00F","RTR",3,null,null,null,"5QK","05N",1]
["00F","RCC",1,null,null,null,"5QK","10Q",1]
["00F","RCF",1,null,null,null,"5QK","11J",1]
["00F","RE9",1,null,null,null,"5QK","99H",1]
["00F","RHQ",1,null,null,null,"5QL","11X",18]
["00F","RJ2",1,null,null,null,"5QP","11N",2]
["00F","RJZ",1,null,null,null,"5QQ","99P",1]
["00F","RR8",1,null,null,null,"5QT","10L",1284]
["00F","RTX",1,null,null,null,"5QT","06K",2]
["00F","RWD",1,null,null,null,"5QT","06N",2]
["00F","RXL",1,null,null,null,"5QT","08H",2]
["00G","RTD",1614,null,null,null,"5QT","99J",2]
["00G","RTF",18,null,null,null,"5QT","99N",2]
["00G","RR7",10,null,null,null,"5QT","08A",1]
["00G","RVW",3,null,null,null,"5QT","09X",1]
["00G","RXP",3,null,null,null,"5QT","10H",1]
["00G","RAP",1,null,null,null,"5QT","10K",1]
["00G","RLN",1,null,null,null,"5QT","10Q",1]
["00G","RMC",1,null,null,null,"5QT","11A",1]
["00G","RQM",1,null,null,null,"5QT","11D",1]
["00G","RTH",1,null,null,null,"5QT","11M",1]
["00G","RTR",1,null,null,null,"5QT","Wales",1]
["00G","RV8",1,null,null,null,"RA2","09N",2299]
["00G","RVR",1,null,null,null,"RA2","09Y",316]
["00G","RWH",1,null,null,null,"RA2","99M",274]
["00H","RTD",1920,null,null,null,"RA2","10V",193]
["00H","RTF",12,null,null,null,"RA2","99H",173]
["00H","RR7",7,null,null,null,"RA2","10C",51]
["00H","RXP",3,null,null,null,"RA2","09G",36]
["00H","RTR",2,null,null,null,"RA2","10J",33]
["00H","RVW",2,null,null,null,"RA2","09X",32]
["00H","RAX",1,null,null,null,"RA2","08R",4]
["00H","RCF",1,null,null,null,"RA2","09L",4]
["00H","RE9",1,null,null,null,"RA2","08J",3]
["00H","RJ2",1,null,null,null,"RA2","11D",3]
["00H","RKB",1,null,null,null,"RA2","07V",2]
["00H","RLN",1,null,null,null,"RA2","10T",2]
["00H","RR8",1,null,null,null,"RA2","05Q",1]
["00H","RV8",1,null,null,null,"RA2","06N",1]
["00H","RXK",1,null,null,null,"RA2","07P",1]
["00J","RXP",2452,null,null,null,"RA2","08K",1]
["00J","RTD",135,null,null,null,"RA2","08L",1]
["00J","RR7",72,null,null,null,"RA2","08M",1]
["00J","RLN",40,null,null,null,"RA2","08Q",1]
["00J","RTF",24,null,null,null,"RA2","09D",1]
["00J","RVW",9,null,null,null,"RA2","09H",1]
["00J","RTR",8,null,null,null,"RA2","10G",1]
["00J","RE9",2,null,null,null,"RA2","10H",1]
["00J","RBZ",1,null,null,null,"RA2","10M",1]
["00J","RCC",1,null,null,null,"RA2","10Q",1]
["00J","RJ2",1,null,null,null,"RA2","10W",1]
["00J","RR8",1,null,null,null,"RA2","11A",1]
["00J","RTH",1,null,null,null,"RA2","11C",1]
["00J","RW6",1,null,null,null,"RA2","99Q",1]
["00J","RWY",1,null,null,null,"RA2","Wales",1]
["00J","RX1",1,null,null,null,"RA3","11T",1584]
["00K","RVW",3182,null,null,null,"RA3","11X",61]
["00K","RTR",550,null,null,null,"RA3","11H",5]
["00K","RTD",10,null,null,null,"RA3","99P",2]
["00K","RXP",10,null,null,null,"RA3","Wales",2]
["00K","RLN",5,null,null,null,"RA3","05C",1]
["00K","RR7",2,null,null,null,"RA3","05T",1]
["00K","RTX",2,null,null,null,"RA3","09D",1]
["00K","RC3",1,null,null,null,"RA3","11E",1]
["00K","RCD",1,null,null,null,"RA4","11X",1466]
["00K","RE9",1,null,null,null,"RA4","11J",149]
["00K","REF",1,null,null,null,"RA4","99N",8]
["00K","RHQ",1,null,null,null,"RA4","99P",2]
["00K","RJ1",1,null,null,null,"RA4","05N",1]
["00K","RJ2",1,null,null,null,"RA4","06N",1]
["00K","RJ6",1,null,null,null,"RA4","07Q",1]
["00K","RJC",1,null,null,null,"RA4","08C",1]
["00K","RM1",1,null,null,null,"RA4","08X",1]
["00K","RRV",1,null,null,null,"RA4","09H",1]
["00K","RXC",1,null,null,null,"RA4","10L",1]
["00K","RXK",1,null,null,null,"RA4","11H",1]
["00K","RXN",1,null,null,null,"RA4","12A",1]
["00L","RTF",2679,null,null,null,"RA4","Wales",1]
["00L","RTD",868,null,null,null,"RA7","11H",4202]
["00L","RNL",15,null,null,null,"RA7","11T",1540]
["00L","RR7",9,null,null,null,"RA7","12A",331]
["00L","RXP",6,null,null,null,"RA7","11E",188]
["00L","RLN",4,null,null,null,"RA7","11X",182]
["00L","RTR",3,null,null,null,"RA7","Wales",127]
["00L","RR8",2,null,null,null,"RA7","99N",76]
["00L","RVW",2,null,null,null,"RA7","99P",71]
["00L","RC3",1,null,null,null,"RA7","11M",64]
["00L","RE9",1,null,null,null,"RA7","11N",30]
["00L","RKB",1,null,null,null,"RA7","99Q",15]
["00L","RWA",1,null,null,null,"RA7","11J",12]
["00L","RXF",1,null,null,null,"RA7","05T",2]
["00L","RXL",1,null,null,null,"RA7","12D",2]
["00M","RTR",4622,null,null,null,"RA7","04C",1]
["00M","RTD",15,null,null,null,"RA7","05F",1]
["00M","RVW",13,null,null,null,"RA7","06N",1]
["00M","RXP",7,null,null,null,"RA7","06T",1]
["00M","RYQ",3,null,null,null,"RA7","08C",1]
["00M","RCC",2,null,null,null,"RA7","09D",1]
["00M","RR8",2,null,null,null,"RA7","99J",1]
["00M","RCB",1,null,null,null,"RA9","99Q",2495]
["00M","RFF",1,null,null,null,"RA9","99P",76]
["00M","RMC",1,null,null,null,"RA9","11N",5]
["00M","RR7",1,null,null,null,"RA9","11E",2]
["00M","RTH",1,null,null,null,"RA9","11H",2]
["00M","RW3",1,null,null,null,"RA9","Wales",2]
["00M","RW6",1,null,null,null,"RA9","02X",1]
["00M","RWA",1,null,null,null,"RA9","03A",1]
["00M","RXF",1,null,null,null,"RA9","03E",1]
["00N","RE9",1583,null,null,null,"RA9","03J",1]
["00N","RTD",66,null,null,null,"RA9","03N",1]
["00N","RR7",55,null,null,null,"RA9","05A",1]
["00N","RLN",41,null,null,null,"RA9","05F",1]
["00N","RXP",4,null,null,null,"RA9","05G",1]
["00N","RBL",2,null,null,null,"RA9","05P",1]
["00N","RTR",2,null,null,null,"RA9","05Q",1]
["00N","RBN",1,null,null,null,"RA9","05X",1]
["00N","RBZ",1,null,null,null,"RA9","05Y",1]
["00N","RCB",1,null,null,null,"RA9","07H",1]
["00N","RCC",1,null,null,null,"RA9","08K",1]
["00N","RCF",1,null,null,null,"RA9","08V",1]
["00N","RKE",1,null,null,null,"RA9","09C",1]
["00N","RTF",1,null,null,null,"RA9","09J",1]
["00N","RVW",1,null,null,null,"RA9","10H",1]
["00P","RLN",2957,null,null,null,"RA9","10Q",1]
["00P","RR7",221,null,null,null,"RA9","10W",1]
["00P","RXP",84,null,null,null,"RA9","11J",1]
["00P","RTD",75,null,null,null,"RA9","11M",1]
["00P","RE9",27,null,null,null,"RA9","11T",1]
["00P","RCC",2,null,null,null,"RA9","99H",1]
["00P","RF4",2,null,null,null,"RA9","99N",1]
["00P","RVW",2,null,null,null,"RAE","02R",3531]
["00P","RAL",1,null,null,null,"RAE","02W",2241]
["00P","RBD",1,null,null,null,"RAE","03C",41]
["00P","RFF",1,null,null,null,"RAE","02N",18]
["00P","RJZ",1,null,null,null,"RAE","03J",8]
["00P","RTX",1,null,null,null,"RAE","02T",7]
["00P","RW3",1,null,null,null,"RAE","03A",7]
["00P","RXH",1,null,null,null,"RAE","01A",4]
["00P","RYQ",1,null,null,null,"RAE","03R",3]
["00Q","RXR",2344,null,null,null,"RAE","04C",3]
["00Q","RXN",32,null,null,null,"RAE","05L",3]
["00Q","RW3",6,null,null,null,"RAE","01M",2]
["00Q","RXL",4,null,null,null,"RAE","02V",2]
["00Q","RM3",3,null,null,null,"RAE","03N",2]
["00Q","RMC",3,null,null,null,"RAE","03Q",2]
["00Q","RCF",2,null,null,null,"RAE","06P",2]
["00Q","RF4",2,null,null,null,"RAE","12D",2]
["00Q","RW6",2,null,null,null,"RAE","Wales",2]
["00Q","RAE",1,null,null,null,"RAE","00Q",1]
["00Q","REP",1,null,null,null,"RAE","01E",1]
["00Q","RGN",1,null,null,null,"RAE","01F",1]
["00Q","RHU",1,null,null,null,"RAE","02P",1]
["00Q","RJ1",1,null,null,null,"RAE","02X",1]
["00Q","RJ6",1,null,null,null,"RAE","02Y",1]
["00Q","RKB",1,null,null,null,"RAE","03G",1]
["00Q","RM2",1,null,null,null,"RAE","03L",1]
["00Q","RQX",1,null,null,null,"RAE","03M",1]
["00Q","RR8",1,null,null,null,"RAE","04G",1]
["00Q","RRV",1,null,null,null,"RAE","04J",1]
["00Q","RTX",1,null,null,null,"RAE","04K",1]
["00Q","RV8",1,null,null,null,"RAE","04V",1]
["00Q","RWA",1,null,null,null,"RAE","05W",1]
["00R","RXL",1924,null,null,null,"RAE","06H",1]
["00R","RXN",11,null,null,null,"RAE","06K",1]
["00R","RW3",9,null,null,null,"RAE","07V",1]
["00R","REP",4,null,null,null,"RAE","07X",1]
["00R","RTX",4,null,null,null,"RAE","08W",1]
["00R","RM3",3,null,null,null,"RAE","09W",1]
["00R","RXR",3,null,null,null,"RAE","10E",1]
["00R","RKB",2,null,null,null,"RAE","10W",1]
["00R","RWJ",2,null,null,null,"RAE","99D",1]
["00R","RDD",1,null,null,null,"RAE","99P",1]
["00R","RL4",1,null,null,null,"RAJ","99G",2348]
["00R","RLT",1,null,null,null,"RAJ","99F",1725]
["00R","RMP",1,null,null,null,"RAJ","99E",85]
["00R","RNZ",1,null,null,null,"RAJ","07G",27]
["00R","RR8",1,null,null,null,"RAJ","06Q",11]
["00R","RXW",1,null,null,null,"RAJ","07L",4]
["00T","RMC",4222,null,null,null,"RAJ","07H",2]
["00T","RM3",49,null,null,null,"RAJ","08T",2]
["00T","RW3",31,null,null,null,"RAJ","06L",1]
["00T","RRF",25,null,null,null,"RAJ","06N",1]
["00T","RXR",20,null,null,null,"RAJ","06T",1]
["00T","RW6",18,null,null,null,"RAJ","07P",1]
["00T","RXN",7,null,null,null,"RAJ","07Q",1]
["00T","RM2",5,null,null,null,"RAJ","07T",1]
["00T","RWJ",5,null,null,null,"RAJ","07X",1]
["00T","REP",3,null,null,null,"RAJ","07Y",1]
["00T","RFF",2,null,null,null,"RAJ","08A",1]
["00T","RQX",2,null,null,null,"RAJ","08R",1]
["00T","RXL",2,null,null,null,"RAJ","08Y",1]
["00T","RYQ",2,null,null,null,"RAJ","09A",1]
["00T","RAP",1,null,null,null,"RAJ","09J",1]
["00T","RBA",1,null,null,null,"RAJ","10A",1]
["00T","RBL",1,null,null,null,"RAJ","11D",1]
["00T","RCB",1,null,null,null,"RAJ","99M",1]
["00T","REF",1,null,null,null,"RAL","07M",1401]
["00T","RGN",1,null,null,null,"RAL","07R",919]
["00T","RJF",1,null,null,null,"RAL","07P",364]
["00T","RJL",1,null,null,null,"RAL","08D",175]
["00T","RNH",1,null,null,null,"RAL","07X",81]
["00T","RP5",1,null,null,null,"RAL","08H",73]
["00T","RR1",1,null,null,null,"RAL","08E",72]
["00T","RTR",1,null,null,null,"RAL","09A",39]
["00T","RWW",1,null,null,null,"RAL","06N",26]
["00T","RYJ",1,null,null,null,"RAL","08W",15]
["00V","RW6",2090,null,null,null,"RAL","07T",14]
["00V","RM3",210,null,null,null,"RAL","06K",12]
["00V","RW3",189,null,null,null,"RAL","08Y",10]
["00V","RMC",136,null,null,null,"RAL","07W",5]
["00V","RWJ",7,null,null,null,"RAL","08N",5]
["00V","RXR",7,null,null,null,"RAL","08V",4]
["00V","REP",4,null,null,null,"RAL","06P",3]
["00V","RXN",4,null,null,null,"RAL","08K",3]
["00V","RM2",3,null,null,null,"RAL","Wales",3]
["00V","RHQ",2,null,null,null,"RAL","05A",2]
["00V","RL4",2,null,null,null,"RAL","07H",2]
["00V","RMP",2,null,null,null,"RAL","07L",2]
["00V","RR1",2,null,null,null,"RAL","07N",2]
["00V","RCD",1,null,null,null,"RAL","07Y",2]
["00V","RGQ",1,null,null,null,"RAL","08C",2]
["00V","RJ6",1,null,null,null,"RAL","08L",2]
["00V","RJN",1,null,null,null,"RAL","08M",2]
["00V","RJZ",1,null,null,null,"RAL","08P",2]
["00V","RLU",1,null,null,null,"RAL","09W",2]
["00V","RR8",1,null,null,null,"RAL","11C",2]
["00V","RRV",1,null,null,null,"RAL","99G",2]
["00V","RWW",1,null,null,null,"RAL","00P",1]
["00V","RXK",1,null,null,null,"RAL","01M",1]
["00V","RXL",1,null,null,null,"RAL","02A",1]
["00W","RW3",3121,null,null,null,"RAL","02F",1]
["00W","RM2",195,null,null,null,"RAL","03J",1]
["00W","RWJ",53,null,null,null,"RAL","04F",1]
["00W","RM3",39,null,null,null,"RAL","04V",1]
["00W","RW6",14,null,null,null,"RAL","06F",1]
["00W","RMP",4,null,null,null,"RAL","06Q",1]
["00W","RR8",2,null,null,null,"RAL","07Q",1]
["00W","RXL",2,null,null,null,"RAL","08F",1]
["00W","RXR",2,null,null,null,"RAL","08G",1]
["00W","RYQ",2,null,null,null,"RAL","08R",1]
["00W","RC3",1,null,null,null,"RAL","09D",1]
["00W","RCF",1,null,null,null,"RAL","09F",1]
["00W","RHQ",1,null,null,null,"RAL","09N",1]
["00W","RJR",1,null,null,null,"RAL","09P",1]
["00W","RKB",1,null,null,null,"RAL","09Y",1]
["00W","RLU",1,null,null,null,"RAL","10H",1]
["00W","RMC",1,null,null,null,"RAL","10J",1]
["00W","RQX",1,null,null,null,"RAL","10T",1]
["00W","RRF",1,null,null,null,"RAL","11N",1]
["00W","RTH",1,null,null,null,"RAL","13P",1]
["00W","RTX",1,null,null,null,"RAL","99P",1]
["00W","RWA",1,null,null,null,"RAP","07X",1681]
["00W","RXK",1,null,null,null,"RAP","08D",1660]
["00W","RXN",1,null,null,null,"RAP","08W",82]
["00W","RXP",1,null,null,null,"RAP","07T",22]
["00X","RXN",1973,null,null,null,"RAP","07M",17]
["00X","RRF",58,null,null,null,"RAP","06K",15]
["00X","RMC",25,null,null,null,"RAP","07P",9]
["00X","RVY",16,null,null,null,"RAP","08H",8]
["00X","RXR",11,null,null,null,"RAP","08M",7]
["00X","RW3",8,null,null,null,"RAP","08K",5]
["00X","RM3",6,null,null,null,"RAP","08L",5]
["00X","REP",5,null,null,null,"RAP","08N",4]
["00X","RXL",4,null,null,null,"RAP","07H",3]
["00X","RW6",2,null,null,null,"RAP","05D",2]
["00X","RBN",1,null,null,null,"RAP","07L",2]
["00X","REF",1,null,null,null,"RAP","08F",2]
["00X","RRV",1,null,null,null,"RAP","08G",2]
["00X","RTX",1,null,null,null,"RAP","09D",2]
["00X","RVJ",1,null,null,null,"RAP","99A",2]
["00Y","RW6",3092,null,null,null,"RAP","00G",1]
["00Y","RMP",179,null,null,null,"RAP","00T",1]
["00Y","RW3",113,null,null,null,"RAP","02R",1]
["00Y","RM3",20,null,null,null,"RAP","03N",1]
["00Y","RWJ",8,null,null,null,"RAP","04V",1]
["00Y","RM2",5,null,null,null,"RAP","04X",1]
["00Y","REP",4,null,null,null,"RAP","05A",1]
["00Y","RWY",3,null,null,null,"RAP","05L",1]
["00Y","RR1",2,null,null,null,"RAP","06H",1]
["00Y","RR8",2,null,null,null,"RAP","06Q",1]
["00Y","RVJ",2,null,null,null,"RAP","06T",1]
["00Y","RXL",2,null,null,null,"RAP","07G",1]
["00Y","RXR",2,null,null,null,"RAP","07R",1]
["00Y","RBK",1,null,null,null,"RAP","07V",1]
["00Y","RCF",1,null,null,null,"RAP","07W",1]
["00Y","RGC",1,null,null,null,"RAP","07Y",1]
["00Y","RKB",1,null,null,null,"RAP","08A",1]
["00Y","RQW",1,null,null,null,"RAP","08C",1]
["00Y","RRF",1,null,null,null,"RAP","08E",1]
["00Y","RVW",1,null,null,null,"RAP","08Q",1]
["00Y","RX1",1,null,null,null,"RAP","08V",1]
["00Y","RXN",1,null,null,null,"RAP","08X",1]
["01A","RXR",4171,null,null,null,"RAP","08Y",1]
["01A","RW6",344,null,null,null,"RAP","10H",1]
["01A","RCF",258,null,null,null,"RAS","08G",3374]
["01A","RW3",18,null,null,null,"RAS","07W",471]
["01A","RXN",16,null,null,null,"RAS","08E",134]
["01A","RM3",7,null,null,null,"RAS","07Y",61]
["01A","RXL",5,null,null,null,"RAS","10H",54]
["01A","RAE",4,null,null,null,"RAS","10T",22]
["01A","REP",4,null,null,null,"RAS","06N",12]
["01A","RTX",3,null,null,null,"RAS","07P",10]
["01A","RR8",2,null,null,null,"RAS","08C",4]
["01A","RXC",2,null,null,null,"RAS","11C",4]
["01A","RCD",1,null,null,null,"RAS","08L",3]
["01A","REF",1,null,null,null,"RAS","09Y",3]
["01A","RM2",1,null,null,null,"RAS","06F",2]
["01A","RMC",1,null,null,null,"RAS","06H",2]
["01A","RNH",1,null,null,null,"RAS","07T",2]
["01A","RNL",1,null,null,null,"RAS","07X",2]
["01A","RR1",1,null,null,null,"RAS","08P",2]
["01A","RTE",1,null,null,null,"RAS","08X",2]
["01A","RTR",1,null,null,null,"RAS","08Y",2]
["01A","RWA",1,null,null,null,"RAS","09A",2]
["01A","RWD",1,null,null,null,"RAS","11A",2]
["01A","RWE",1,null,null,null,"RAS","11D",2]
["01A","RWJ",1,null,null,null,"RAS","11H",2]
["01A","RWY",1,null,null,null,"RAS","Wales",2]
["01A","RXF",1,null,null,null,"RAS","01M",1]
["01C","RJN",1674,null,null,null,"RAS","03G",1]
["01C","RWJ",150,null,null,null,"RAS","04F",1]
["01C","RM2",138,null,null,null,"RAS","05N",1]
["01C","RW3",44,null,null,null,"RAS","05P",1]
["01C","RBT",40,null,null,null,"RAS","06A",1]
["01C","REP",12,null,null,null,"RAS","06P",1]
["01C","RJE",10,null,null,null,"RAS","07K",1]
["01C","RM3",4,null,null,null,"RAS","07Q",1]
["01C","RWW",4,null,null,null,"RAS","08A",1]
["01C","RBL",2,null,null,null,"RAS","08J",1]
["01C","RVJ",2,null,null,null,"RAS","08M",1]
["01C","RAX",1,null,null,null,"RAS","08N",1]
["01C","RGR",1,null,null,null,"RAS","08Q",1]
["01C","RHQ",1,null,null,null,"RAS","08W",1]
["01C","RLQ",1,null,null,null,"RAS","09L",1]
["01C","RMP",1,null,null,null,"RAS","10K",1]
["01C","RNJ",1,null,null,null,"RAS","10X",1]
["01C","RNQ",1,null,null,null,"RAS","12D",1]
["01C","RTG",1,null,null,null,"RAS","99A",1]
["01C","RTH",1,null,null,null,"RAS","99E",1]
["01C","RTP",1,null,null,null,"RAS","99H",1]
["01C","RVR",1,null,null,null,"RAX","08J",2562]
["01C","RW6",1,null,null,null,"RAX","08P",1591]
["01C","RWY",1,null,null,null,"RAX","99H",792]
["01C","RXL",1,null,null,null,"RAX","08X",699]
["01C","RXN",1,null,null,null,"RAX","08R",690]
["01D","RW6",3117,null,null,null,"RAX","09Y",93]
["01D","RW3",73,null,null,null,"RAX","08T",72]
["01D","RM3",19,null,null,null,"RAX","07Y",39]
["01D","RMC",5,null,null,null,"RAX","07V",10]
["01D","RM2",4,null,null,null,"RAX","07W",10]
["01D","REP",3,null,null,null,"RAX","08K",7]
["01D","RMP",3,null,null,null,"RAX","08Q",4]
["01D","RWJ",3,null,null,null,"RAX","07M",3]
["01D","RR8",2,null,null,null,"RAX","08W",3]
["01D","RWY",2,null,null,null,"RAX","10G",3]
["01D","RXN",2,null,null,null,"RAX","11C",3]
["01D","RBD",1,null,null,null,"RAX","11N",3]
["01D","RBZ",1,null,null,null,"RAX","04V",2]
["01D","RF4",1,null,null,null,"RAX","05C",2]
["01D","RFS",1,null,null,null,"RAX","05L",2]
["01D","RHQ",1,null,null,null,"RAX","08C",2]
["01D","RJ1",1,null,null,null,"RAX","08F",2]
["01D","RJ7",1,null,null,null,"RAX","08H",2]
["01D","RL4",1,null,null,null,"RAX","08M",2]
["01D","RNL",1,null,null,null,"RAX","09G",2]
["01D","RXL",1,null,null,null,"RAX","09H",2]
["01D","RXR",1,null,null,null,"RAX","09L",2]
["01E","RXN",2814,null,null,null,"RAX","09N",2]
["01E","RXL",22,null,null,null,"RAX","10H",2]
["01E","RW3",15,null,null,null,"RAX","10V",2]
["01E","RTX",7,null,null,null,"RAX","11A",2]
["01E","REP",4,null,null,null,"RAX","11J",2]
["01E","RXR",4,null,null,null,"RAX","99J",2]
["01E","RBL",2,null,null,null,"RAX","00H",1]
["01E","RCF",2,null,null,null,"RAX","01C",1]
["01E","RNH",2,null,null,null,"RAX","02A",1]
["01E","RVY",2,null,null,null,"RAX","02Q",1]
["01E","RWJ",2,null,null,null,"RAX","03F",1]
["01E","RAE",1,null,null,null,"RAX","03H",1]
["01E","RCB",1,null,null,null,"RAX","03R",1]
["01E","RD3",1,null,null,null,"RAX","03W",1]
["01E","RF4",1,null,null,null,"RAX","04F",1]
["01E","RGQ",1,null,null,null,"RAX","04K",1]
["01E","RJ2",1,null,null,null,"RAX","04X",1]
["01E","RM2",1,null,null,null,"RAX","05A",1]
["01E","RMC",1,null,null,null,"RAX","05N",1]
["01E","RQ8",1,null,null,null,"RAX","05R",1]
["01E","RWE",1,null,null,null,"RAX","07L",1]
["01E","RWF",1,null,null,null,"RAX","07P",1]
["01E","RWW",1,null,null,null,"RAX","07R",1]
["01E","RX1",1,null,null,null,"RAX","07T",1]
["01F","RBN",807,null,null,null,"RAX","07X",1]
["01F","RWW",432,null,null,null,"RAX","08A",1]
["01F","REP",251,null,null,null,"RAX","08E",1]
["01F","RJR",198,null,null,null,"RAX","08Y",1]
["01F","RBL",3,null,null,null,"RAX","09D",1]
["01F","RM2",2,null,null,null,"RAX","09X",1]
["01F","RVY",2,null,null,null,"RAX","10J",1]
["01F","RW3",2,null,null,null,"RAX","10N",1]
["01F","RAE",1,null,null,null,"RAX","10Q",1]
["01F","RBK",1,null,null,null,"RAX","11D",1]
["01F","RHQ",1,null,null,null,"RAX","11E",1]
["01F","RJ7",1,null,null,null,"RAX","13P",1]
["01F","RNH",1,null,null,null,"RAX","99A",1]
["01F","RPA",1,null,null,null,"RAX","99K",1]
["01F","RRF",1,null,null,null,"RAX","99M",1]
["01F","RWF",1,null,null,null,"RAX","Wales",1]
["01F","RWJ",1,null,null,null,"RBA","11X",3812]
["01G","RM3",4019,null,null,null,"RBA","99P",83]
["01G","RW3",317,null,null,null,"RBA","11T",33]
["01G","RMC",290,null,null,null,"RBA","Wales",13]
["01G","RW6",191,null,null,null,"RBA","11H",8]
["01G","RWW",23,null,null,null,"RBA","11M",4]
["01G","RM2",20,null,null,null,"RBA","99Q",4]
["01G","RRF",5,null,null,null,"RBA","11J",3]
["01G","RWJ",5,null,null,null,"RBA","12A",3]
["01G","RXL",4,null,null,null,"RBA","05T",2]
["01G","REP",3,null,null,null,"RBA","00T",1]
["01G","RMP",3,null,null,null,"RBA","01X",1]
["01G","RWE",2,null,null,null,"RBA","04R",1]
["01G","RC3",1,null,null,null,"RBA","04V",1]
["01G","RCB",1,null,null,null,"RBA","06A",1]
["01G","RDD",1,null,null,null,"RBA","07M",1]
["01G","RF4",1,null,null,null,"RBA","07R",1]
["01G","RGC",1,null,null,null,"RBA","08C",1]
["01G","RJ6",1,null,null,null,"RBA","08D",1]
["01G","RJE",1,null,null,null,"RBA","08L",1]
["01G","RJL",1,null,null,null,"RBA","08N",1]
["01G","RJN",1,null,null,null,"RBA","08Q",1]
["01G","RJZ",1,null,null,null,"RBA","09C",1]
["01G","RKE",1,null,null,null,"RBA","09F",1]
["01G","RL4",1,null,null,null,"RBA","09G",1]
["01G","RLU",1,null,null,null,"RBA","09J",1]
["01G","RQX",1,null,null,null,"RBA","10Q",1]
["01G","RTD",1,null,null,null,"RBA","10X",1]
["01G","RTG",1,null,null,null,"RBA","10Y",1]
["01G","RTP",1,null,null,null,"RBA","11A",1]
["01G","RTR",1,null,null,null,"RBA","11E",1]
["01G","RTX",1,null,null,null,"RBA","11N",1]
["01G","RXP",1,null,null,null,"RBA","12D",1]
["01G","RXR",1,null,null,null,"RBA","99N",1]
["01H","RNL",3320,null,null,null,"RBD","11J",2161]
["01H","RTX",1846,null,null,null,"RBD","11X",48]
["01H","RTD",41,null,null,null,"RBD","99N",3]
["01H","RTF",7,null,null,null,"RBD","99P",3]
["01H","RVW",6,null,null,null,"RBD","Wales",3]
["01H","RTR",5,null,null,null,"RBD","06H",2]
["01H","RXN",5,null,null,null,"RBD","08X",2]
["01H","RCF",3,null,null,null,"RBD","09Y",2]
["01H","REP",3,null,null,null,"RBD","10Q",2]
["01H","RM3",3,null,null,null,"RBD","00P",1]
["01H","RLN",2,null,null,null,"RBD","01D",1]
["01H","RTE",2,null,null,null,"RBD","02D",1]
["01H","RW3",2,null,null,null,"RBD","03M",1]
["01H","RXL",2,null,null,null,"RBD","04G",1]
["01H","RXP",2,null,null,null,"RBD","04K",1]
["01H","RXR",2,null,null,null,"RBD","04X",1]
["01H","RC1",1,null,null,null,"RBD","05N",1]
["01H","RCC",1,null,null,null,"RBD","06K",1]
["01H","RCD",1,null,null,null,"RBD","07N",1]
["01H","RFF",1,null,null,null,"RBD","07Y",1]
["01H","RGN",1,null,null,null,"RBD","08G",1]
["01H","RGT",1,null,null,null,"RBD","08P",1]
["01H","RMC",1,null,null,null,"RBD","08T",1]
["01H","RNA",1,null,null,null,"RBD","08Y",1]
["01H","RR7",1,null,null,null,"RBD","09G",1]
["01H","RR8",1,null,null,null,"RBD","09L",1]
["01H","RRF",1,null,null,null,"RBD","09N",1]
["01H","RTG",1,null,null,null,"RBD","10H",1]
["01H","RWE",1,null,null,null,"RBD","10M",1]
["01H","RWJ",1,null,null,null,"RBD","11H",1]
["01J","RBN",951,null,null,null,"RBD","11M",1]
["01J","REP",764,null,null,null,"RBD","11N",1]
["01J","RVY",303,null,null,null,"RBD","12D",1]
["01J","RBL",3,null,null,null,"RBD","13P",1]
["01J","RW3",3,null,null,null,"RBD","99H",1]
["01J","RWW",2,null,null,null,"RBD","99K",1]
["01J","RCB",1,null,null,null,"RBD","99Q",1]
["01J","RL4",1,null,null,null,"RBF","10Q",1]
["01J","RR8",1,null,null,null,"RBK","05Y",3297]
["01J","RTX",1,null,null,null,"RBK","05L",336]
["01J","RW6",1,null,null,null,"RBK","04Y",222]
["01J","RWJ",1,null,null,null,"RBK","06A",82]
["01J","RXL",1,null,null,null,"RBK","05Q",52]
["01J","RXP",1,null,null,null,"RBK","13P",33]
["01K","RTX",1576,null,null,null,"RBK","05C",5]
["01K","RXN",56,null,null,null,"RBK","05V",4]
["01K","RXL",17,null,null,null,"RBK","04X",3]
["01K","RW3",5,null,null,null,"RBK","Wales",3]
["01K","RM2",2,null,null,null,"RBK","05D",2]
["01K","RXR",2,null,null,null,"RBK","05G",2]
["01K","RCB",1,null,null,null,"RBK","05X",2]
["01K","RCX",1,null,null,null,"RBK","00Y",1]
["01K","REP",1,null,null,null,"RBK","01F",1]
["01K","RGP",1,null,null,null,"RBK","01X",1]
["01K","RR8",1,null,null,null,"RBK","04C",1]
["01K","RRF",1,null,null,null,"RBK","04N",1]
["01K","RW6",1,null,null,null,"RBK","04R",1]
["01M","RW6",2048,null,null,null,"RBK","04V",1]
["01M","RW3",999,null,null,null,"RBK","05W",1]
["01M","RM3",88,null,null,null,"RBK","06D",1]
["01M","RMP",83,null,null,null,"RBK","06F",1]
["01M","RM2",9,null,null,null,"RBK","07L",1]
["01M","RWJ",9,null,null,null,"RBK","07T",1]
["01M","RXL",3,null,null,null,"RBK","08G",1]
["01M","RAE",2,null,null,null,"RBK","08V",1]
["01M","RFF",2,null,null,null,"RBK","09W",1]
["01M","RQX",2,null,null,null,"RBK","11M",1]
["01M","RRF",2,null,null,null,"RBK","11X",1]
["01M","RXR",2,null,null,null,"RBK","99A",1]
["01M","RAL",1,null,null,null,"RBK","99G",1]
["01M","RAS",1,null,null,null,"RBL","12F",3770]
["01M","RC3",1,null,null,null,"RBL","02F",204]
["01M","RDD",1,null,null,null,"RBL","Wales",37]
["01M","RDE",1,null,null,null,"RBL","99A",12]
["01M","REP",1,null,null,null,"RBL","01X",6]
["01M","RF4",1,null,null,null,"RBL","02E",4]
["01M","RJE",1,null,null,null,"RBL","01F",3]
["01M","RKE",1,null,null,null,"RBL","01J",3]
["01M","RLN",1,null,null,null,"RBL","01R",3]
["01M","RMC",1,null,null,null,"RBL","02D",3]
["01M","RP5",1,null,null,null,"RBL","02M",3]
["01M","RR7",1,null,null,null,"RBL","13P",3]
["01M","RR8",1,null,null,null,"RBL","00N",2]
["01M","RTX",1,null,null,null,"RBL","01C",2]
["01M","RWY",1,null,null,null,"RBL","01E",2]
["01M","RXK",1,null,null,null,"RBL","01T",2]
["01M","RXN",1,null,null,null,"RBL","05L",2]
["01N","RM2",1545,null,null,null,"RBL","05W",2]
["01N","RW3",711,null,null,null,"RBL","05Y",2]
["01N","RWJ",51,null,null,null,"RBL","00T",1]
["01N","RM3",16,null,null,null,"RBL","01V",1]
["01N","RW6",7,null,null,null,"RBL","02G",1]
["01N","RXR",3,null,null,null,"RBL","02R",1]
["01N","RJN",2,null,null,null,"RBL","03J",1]
["01N","RJR",2,null,null,null,"RBL","03N",1]
["01N","RMP",2,null,null,null,"RBL","04D",1]
["01N","RBN",1,null,null,null,"RBL","04V",1]
["01N","RD8",1,null,null,null,"RBL","05N",1]
["01N","REP",1,null,null,null,"RBL","05X",1]
["01N","RJZ",1,null,null,null,"RBL","06D",1]
["01N","RKE",1,null,null,null,"RBL","07M",1]
["01N","RL4",1,null,null,null,"RBL","07P",1]
["01N","RLU",1,null,null,null,"RBL","10Y",1]
["01N","RMC",1,null,null,null,"RBN","01X",1849]
["01N","RNJ",1,null,null,null,"RBN","01J",951]
["01N","RNS",1,null,null,null,"RBN","01F",807]
["01N","RQX",1,null,null,null,"RBN","99A",186]
["01N","RTD",1,null,null,null,"RBN","02E",25]
["01N","RVW",1,null,null,null,"RBN","02H",19]
["01R","RBT",2006,null,null,null,"RBN","01T",7]
["01R","RJE",66,null,null,null,"RBN","01V",3]
["01R","REP",12,null,null,null,"RBN","02G",3]
["01R","RJR",12,null,null,null,"RBN","12F",2]
["01R","RJN",11,null,null,null,"RBN","00N",1]
["01R","RW3",5,null,null,null,"RBN","00X",1]
["01R","RBL",3,null,null,null,"RBN","01N",1]
["01R","RM2",3,null,null,null,"RBN","02A",1]
["01R","RWW",3,null,null,null,"RBN","02D",1]
["01R","RM3",2,null,null,null,"RBN","02F",1]
["01R","RW6",2,null,null,null,"RBN","02M",1]
["01R","RD7",1,null,null,null,"RBN","03R",1]
["01R","RJD",1,null,null,null,"RBN","09D",1]
["01R","RKB",1,null,null,null,"RBN","99D",1]
["01R","RQM",1,null,null,null,"RBT","01R",2006]
["01R","RR1",1,null,null,null,"RBT","02D",1160]
["01R","RTX",1,null,null,null,"RBT","01C",40]
["01R","RVY",1,null,null,null,"RBT","02F",33]
["01R","RWA",1,null,null,null,"RBT","05G",22]
["01R","RWJ",1,null,null,null,"RBT","05N",12]
["01R","RX1",1,null,null,null,"RBT","05W",12]
["01R","RXK",1,null,null,null,"RBT","02A",2]
["01R","RXQ",1,null,null,null,"RBT","04Y",2]
["01R","RXR",1,null,null,null,"RBT","05V",2]
["01R","RXW",1,null,null,null,"RBT","12F",2]
["01R","RYJ",1,null,null,null,"RBT","99D",2]
["01T","REP",1315,null,null,null,"RBT","01V",1]
["01T","RVY",460,null,null,null,"RBT","01W",1]
["01T","RBN",7,null,null,null,"RBT","01X",1]
["01T","RBL",2,null,null,null,"RBT","02E",1]
["01T","REM",1,null,null,null,"RBT","02H",1]
["01T","RJ6",1,null,null,null,"RBT","02X",1]
["01T","RJR",1,null,null,null,"RBT","04V",1]
["01T","RRF",1,null,null,null,"RBT","05Q",1]
["01T","RXN",1,null,null,null,"RBT","08F",1]
["01V","RVY",1048,null,null,null,"RBT","08K",1]
["01V","REP",85,null,null,null,"RBT","09L",1]
["01V","RBN",3,null,null,null,"RBT","11N",1]
["01V","RBL",1,null,null,null,"RBT","13P",1]
["01V","RBT",1,null,null,null,"RBT","99N",1]
["01V","RCC",1,null,null,null,"RBZ","99P",1729]
["01V","RK9",1,null,null,null,"RBZ","11N",74]
["01V","RXL",1,null,null,null,"RBZ","05L",7]
["01V","RXQ",1,null,null,null,"RBZ","11X",4]
["01V","RXW",1,null,null,null,"RBZ","11M",3]
["01W","RWJ",3342,null,null,null,"RBZ","99N",3]
["01W","RM2",263,null,null,null,"RBZ","05T",2]
["01W","RW3",219,null,null,null,"RBZ","10K",2]
["01W","RJN",32,null,null,null,"RBZ","10Q",2]
["01W","RMP",8,null,null,null,"RBZ","10V",2]
["01W","RM3",7,null,null,null,"RBZ","12A",2]
["01W","RW6",7,null,null,null,"RBZ","13P",2]
["01W","RRF",3,null,null,null,"RBZ","Wales",2]
["01W","REP",2,null,null,null,"RBZ","00J",1]
["01W","RLU",2,null,null,null,"RBZ","00N",1]
["01W","RNZ",2,null,null,null,"RBZ","01D",1]
["01W","RXL",2,null,null,null,"RBZ","03A",1]
["01W","RBT",1,null,null,null,"RBZ","03W",1]
["01W","RCB",1,null,null,null,"RBZ","03X",1]
["01W","RCX",1,null,null,null,"RBZ","04F",1]
["01W","RDE",1,null,null,null,"RBZ","04G",1]
["01W","REF",1,null,null,null,"RBZ","04R",1]
["01W","RH8",1,null,null,null,"RBZ","04X",1]
["01W","RJD",1,null,null,null,"RBZ","05A",1]
["01W","RJE",1,null,null,null,"RBZ","05J",1]
["01W","RK9",1,null,null,null,"RBZ","05N",1]
["01W","RMC",1,null,null,null,"RBZ","06F",1]
["01W","RP5",1,null,null,null,"RBZ","06L",1]
["01W","RTD",1,null,null,null,"RBZ","07P",1]
["01W","RV8",1,null,null,null,"RBZ","07Y",1]
["01W","RWW",1,null,null,null,"RBZ","08Y",1]
["01W","RXP",1,null,null,null,"RBZ","09D",1]
["01W","RXR",1,null,null,null,"RBZ","10X",1]
["01X","RBN",1849,null,null,null,"RBZ","10Y",1]
["01X","RWW",338,null,null,null,"RBZ","11A",1]
["01X","RRF",110,null,null,null,"RBZ","11E",1]
["01X","REP",103,null,null,null,"RBZ","11H",1]
["01X","RVY",76,null,null,null,"RBZ","11J",1]
["01X","RBL",6,null,null,null,"RBZ","11T",1]
["01X","RM3",6,null,null,null,"RBZ","12D",1]
["01X","RW3",5,null,null,null,"RBZ","99C",1]
["01X","RMC",3,null,null,null,"RBZ","99J",1]
["01X","RKE",2,null,null,null,"RBZ","99Q",1]
["01X","RBA",1,null,null,null,"RC1","06F",3136]
["01X","RBK",1,null,null,null,"RC1","04F",61]
["01X","RBT",1,null,null,null,"RC1","04G",58]
["01X","RGP",1,null,null,null,"RC1","06P",11]
["01X","RLU",1,null,null,null,"RC1","06H",10]
["01X","RM2",1,null,null,null,"RC1","06K",10]
["01X","RR8",1,null,null,null,"RC1","06N",2]
["01X","RTR",1,null,null,null,"RC1","00C",1]
["01X","RWP",1,null,null,null,"RC1","01H",1]
["01X","RXN",1,null,null,null,"RC1","03X",1]
["01Y","RMP",2535,null,null,null,"RC1","05A",1]
["01Y","RW3",346,null,null,null,"RC1","06A",1]
["01Y","RWJ",342,null,null,null,"RC1","06M",1]
["01Y","RW6",52,null,null,null,"RC1","06Y",1]
["01Y","RM2",17,null,null,null,"RC1","08H",1]
["01Y","RM3",13,null,null,null,"RC1","08X",1]
["01Y","REP",5,null,null,null,"RC1","09F",1]
["01Y","RXN",3,null,null,null,"RC1","09G",1]
["01Y","RXR",3,null,null,null,"RC1","10Y",1]
["01Y","RMC",2,null,null,null,"RC1","99J",1]
["01Y","REF",1,null,null,null,"RC1","99Q",1]
["01Y","RFF",1,null,null,null,"RC3","07W",2897]
["01Y","RHQ",1,null,null,null,"RC3","07Y",75]
["01Y","RJ7",1,null,null,null,"RC3","08G",57]
["01Y","RRF",1,null,null,null,"RC3","07P",47]
["01Y","RTG",1,null,null,null,"RC3","08E",35]
["01Y","RTX",1,null,null,null,"RC3","08C",9]
["01Y","RXL",1,null,null,null,"RC3","10H",5]
["02A","RM2",1911,null,null,null,"RC3","07V",4]
["02A","RW3",921,null,null,null,"RC3","08D",4]
["02A","RM3",118,null,null,null,"RC3","08R",4]
["02A","RWJ",27,null,null,null,"RC3","08Q",3]
["02A","RW6",8,null,null,null,"RC3","06N",2]
["02A","REP",5,null,null,null,"RC3","06P",2]
["02A","RMC",5,null,null,null,"RC3","07M",2]
["02A","RJN",4,null,null,null,"RC3","07R",2]
["02A","RMP",3,null,null,null,"RC3","08A",2]
["02A","RWW",3,null,null,null,"RC3","08L",2]
["02A","RBT",2,null,null,null,"RC3","08Y",2]
["02A","RRF",2,null,null,null,"RC3","10Q",2]
["02A","RTH",2,null,null,null,"RC3","10T",2]
["02A","RAL",1,null,null,null,"RC3","00K",1]
["02A","RAX",1,null,null,null,"RC3","00L",1]
["02A","RBN",1,null,null,null,"RC3","00W",1]
["02A","RCD",1,null,null,null,"RC3","01G",1]
["02A","RGT",1,null,null,null,"RC3","01M",1]
["02A","RHQ",1,null,null,null,"RC3","02R",1]
["02A","RHU",1,null,null,null,"RC3","04G",1]
["02A","RJ6",1,null,null,null,"RC3","04X",1]
["02A","RJ7",1,null,null,null,"RC3","05A",1]
["02A","RNJ",1,null,null,null,"RC3","05R",1]
["02A","RR1",1,null,null,null,"RC3","07X",1]
["02A","RR8",1,null,null,null,"RC3","08F",1]
["02A","RXK",1,null,null,null,"RC3","08H",1]
["02A","RXR",1,null,null,null,"RC3","08K",1]
["02D","RBT",1160,null,null,null,"RC3","08M",1]
["02D","RJR",94,null,null,null,"RC3","08N",1]
["02D","RWW",59,null,null,null,"RC3","08W",1]
["02D","REP",14,null,null,null,"RC3","08X",1]
["02D","RM2",14,null,null,null,"RC3","09Y",1]
["02D","RJN",8,null,null,null,"RC3","10G",1]
["02D","RBL",3,null,null,null,"RC3","11H",1]
["02D","RLU",2,null,null,null,"RC3","11M",1]
["02D","RTH",2,null,null,null,"RC3","99Q",1]
["02D","RW3",2,null,null,null,"RC9","06P",3723]
["02D","RBD",1,null,null,null,"RC9","06F",1269]
["02D","RBN",1,null,null,null,"RC9","06N",586]
["02D","RJE",1,null,null,null,"RC9","06K",30]
["02D","RJZ",1,null,null,null,"RC9","10Y",24]
["02D","RKE",1,null,null,null,"RC9","04F",19]
["02D","RLN",1,null,null,null,"RC9","06Q",7]
["02D","RNL",1,null,null,null,"RC9","06H",6]
["02D","RNQ",1,null,null,null,"RC9","07H",6]
["02D","RRF",1,null,null,null,"RC9","07X",5]
["02D","RVY",1,null,null,null,"RC9","06M",4]
["02D","RWE",1,null,null,null,"RC9","08D",4]
["02D","RXW",1,null,null,null,"RC9","08E",4]
["02E","RWW",2420,null,null,null,"RC9","08N",4]
["02E","REP",76,null,null,null,"RC9","08V",4]
["02E","RBN",25,null,null,null,"RC9","04G",3]
["02E","RM2",20,null,null,null,"RC9","06T",3]
["02E","RM3",19,null,null,null,"RC9","07R",3]
["02E","RRF",12,null,null,null,"RC9","08W",3]
["02E","RW3",12,null,null,null,"RC9","10H",3]
["02E","RBL",4,null,null,null,"RC9","99F",3]
["02E","RJR",3,null,null,null,"RC9","99G",3]
["02E","RWJ",2,null,null,null,"RC9","07G",2]
["02E","RBT",1,null,null,null,"RC9","07L",2]
["02E","RCC",1,null,null,null,"RC9","07P",2]
["02E","RDD",1,null,null,null,"RC9","07Q",2]
["02E","REF",1,null,null,null,"RC9","07T",2]
["02E","RJE",1,null,null,null,"RC9","07W",2]
["02E","RJZ",1,null,null,null,"RC9","08M",2]
["02E","RK5",1,null,null,null,"RC9","13P",2]
["02E","RLU",1,null,null,null,"RC9","99D",2]
["02E","RMC",1,null,null,null,"RC9","03R",1]
["02E","RQX",1,null,null,null,"RC9","03W",1]
["02E","RVY",1,null,null,null,"RC9","04C",1]
["02E","RWA",1,null,null,null,"RC9","04J",1]
["02E","RWP",1,null,null,null,"RC9","04K",1]
["02E","RX1",1,null,null,null,"RC9","04X",1]
["02E","RXK",1,null,null,null,"RC9","05A",1]
["02E","RXL",1,null,null,null,"RC9","05L",1]
["02E","RYJ",1,null,null,null,"RC9","05R",1]
["02F","RJR",2661,null,null,null,"RC9","05T",1]
["02F","RBL",204,null,null,null,"RC9","05W",1]
["02F","REP",35,null,null,null,"RC9","05Y",1]
["02F","RBT",33,null,null,null,"RC9","06L",1]
["02F","RXW",7,null,null,null,"RC9","06Y",1]
["02F","RWW",6,null,null,null,"RC9","07M",1]
["02F","RW3",2,null,null,null,"RC9","07N",1]
["02F","RAL",1,null,null,null,"RC9","07V",1]
["02F","RBN",1,null,null,null,"RC9","07Y",1]
["02F","RDE",1,null,null,null,"RC9","08A",1]
["02F","RFR",1,null,null,null,"RC9","08F",1]
["02F","RGN",1,null,null,null,"RC9","08G",1]
["02F","RH8",1,null,null,null,"RC9","08K",1]
["02F","RJ7",1,null,null,null,"RC9","08L",1]
["02F","RJC",1,null,null,null,"RC9","08Q",1]
["02F","RL4",1,null,null,null,"RC9","09F",1]
["02F","RLU",1,null,null,null,"RC9","09X",1]
["02F","RM2",1,null,null,null,"RC9","10E",1]
["02F","RQM",1,null,null,null,"RC9","10Q",1]
["02F","RQW",1,null,null,null,"RC9","99E",1]
["02F","RV8",1,null,null,null,"RC9","99J",1]
["02F","RWD",1,null,null,null,"RC9","99Q",1]
["02F","RWY",1,null,null,null,"RCB","03Q",3304]
["02F","RXA",1,null,null,null,"RCB","02Y",128]
["02F","RXP",1,null,null,null,"RCB","03M",86]
["02G","RVY",1098,null,null,null,"RCB","02V",18]
["02G","REP",46,null,null,null,"RCB","03E",16]
["02G","RRF",31,null,null,null,"RCB","03G",12]
["02G","RXN",14,null,null,null,"RCB","03R",6]
["02G","RBN",3,null,null,null,"RCB","03F",5]
["02G","RM3",2,null,null,null,"RCB","03D",3]
["02G","RWW",2,null,null,null,"RCB","02R",2]
["02G","RBL",1,null,null,null,"RCB","03C",2]
["02G","RP5",1,null,null,null,"RCB","03T",2]
["02G","RTF",1,null,null,null,"RCB","04N",2]
["02G","RTX",1,null,null,null,"RCB","00M",1]
["02G","RW3",1,null,null,null,"RCB","00N",1]
["02H","RRF",3076,null,null,null,"RCB","00T",1]
["02H","RMC",603,null,null,null,"RCB","01E",1]
["02H","RM3",288,null,null,null,"RCB","01G",1]
["02H","RWW",166,null,null,null,"RCB","01J",1]
["02H","RW3",35,null,null,null,"RCB","01K",1]
["02H","RVY",21,null,null,null,"RCB","01W",1]
["02H","RBN",19,null,null,null,"RCB","02X",1]
["02H","REP",19,null,null,null,"RCB","03J",1]
["02H","RW6",6,null,null,null,"RCB","03N",1]
["02H","RM2",5,null,null,null,"RCB","03Y",1]
["02H","RXN",4,null,null,null,"RCB","04G",1]
["02H","RXR",4,null,null,null,"RCB","04M",1]
["02H","RR1",2,null,null,null,"RCB","05C",1]
["02H","RXL",2,null,null,null,"RCB","06H",1]
["02H","RBT",1,null,null,null,"RCB","07K",1]
["02H","RJ6",1,null,null,null,"RCB","07V",1]
["02H","RJC",1,null,null,null,"RCB","08C",1]
["02H","RJF",1,null,null,null,"RCB","08P",1]
["02H","RJN",1,null,null,null,"RCB","08Q",1]
["02H","RLU",1,null,null,null,"RCB","08R",1]
["02H","RNJ",1,null,null,null,"RCB","09G",1]
["02H","RWE",1,null,null,null,"RCB","09Y",1]
["02H","RXK",1,null,null,null,"RCB","11M",1]
["02M","RXL",1274,null,null,null,"RCB","12A",1]
["02M","RXN",148,null,null,null,"RCB","99N",1]
["02M","RTX",44,null,null,null,"RCC","03M",1123]
["02M","RW3",6,null,null,null,"RCC","02Y",440]
["02M","RBL",3,null,null,null,"RCC","03D",109]
["02M","RBN",1,null,null,null,"RCC","03Q",91]
["02M","REP",1,null,null,null,"RCC","03C",3]
["02M","RFF",1,null,null,null,"RCC","03H",3]
["02M","RKB",1,null,null,null,"RCC","00M",2]
["02M","RM2",1,null,null,null,"RCC","00P",2]
["02M","RM3",1,null,null,null,"RCC","02R",2]
["02M","RMC",1,null,null,null,"RCC","02X",2]
["02M","RRF",1,null,null,null,"RCC","03R",2]
["02M","RTD",1,null,null,null,"RCC","00F",1]
["02M","RWP",1,null,null,null,"RCC","00J",1]
["02M","RXF",1,null,null,null,"RCC","00N",1]
["02M","RXR",1,null,null,null,"RCC","01H",1]
["02N","RCF",1795,null,null,null,"RCC","01V",1]
["02N","RR8",29,null,null,null,"RCC","02E",1]
["02N","RCD",28,null,null,null,"RCC","02P",1]
["02N","RAE",18,null,null,null,"RCC","02T",1]
["02N","RWY",10,null,null,null,"RCC","03A",1]
["02N","RTX",5,null,null,null,"RCC","03F",1]
["02N","RXR",3,null,null,null,"RCC","03G",1]
["02N","RW3",2,null,null,null,"RCC","03K",1]
["02N","RHQ",1,null,null,null,"RCC","03N",1]
["02N","RJL",1,null,null,null,"RCC","04E",1]
["02N","RNL",1,null,null,null,"RCC","04J",1]
["02N","RTD",1,null,null,null,"RCC","04L",1]
["02N","RW6",1,null,null,null,"RCC","04R",1]
["02P","RFF",3806,null,null,null,"RCC","05H",1]
["02P","RHQ",163,null,null,null,"RCC","05Q",1]
["02P","RFR",102,null,null,null,"RCC","06H",1]
["02P","RP5",94,null,null,null,"RCC","06N",1]
["02P","RXF",14,null,null,null,"RCC","07M",1]
["02P","RR8",4,null,null,null,"RCC","08P",1]
["02P","RWD",4,null,null,null,"RCC","99C",1]
["02P","RAE",1,null,null,null,"RCD","03E",1324]
["02P","RCC",1,null,null,null,"RCD","02V",409]
["02P","RD7",1,null,null,null,"RCD","03C",190]
["02P","REP",1,null,null,null,"RCD","03Q",29]
["02P","RFS",1,null,null,null,"RCD","02N",28]
["02P","RJ7",1,null,null,null,"RCD","03G",14]
["02P","RLN",1,null,null,null,"RCD","02R",11]
["02P","RLU",1,null,null,null,"RCD","03D",5]
["02P","RTD",1,null,null,null,"RCD","03R",2]
["02P","RTK",1,null,null,null,"RCD","00K",1]
["02P","RVV",1,null,null,null,"RCD","00V",1]
["02P","RW6",1,null,null,null,"RCD","01A",1]
["02P","RX1",1,null,null,null,"RCD","01H",1]
["02Q","RP5",1267,null,null,null,"RCD","02A",1]
["02Q","RHQ",26,null,null,null,"RCD","02W",1]
["02Q","RWD",11,null,null,null,"RCD","02Y",1]
["02Q","RFR",7,null,null,null,"RCD","04C",1]
["02Q","RX1",5,null,null,null,"RCD","04D",1]
["02Q","RFS",4,null,null,null,"RCD","06F",1]
["02Q","RXF",2,null,null,null,"RCD","06Q",1]
["02Q","RAX",1,null,null,null,"RCD","08P",1]
["02Q","RFF",1,null,null,null,"RCD","08X",1]
["02Q","RGP",1,null,null,null,"RCD","10X",1]
["02Q","RJF",1,null,null,null,"RCD","12D",1]
["02Q","RK5",1,null,null,null,"RCD","12F",1]
["02Q","RR8",1,null,null,null,"RCF","02N",1795]
["02Q","RTG",1,null,null,null,"RCF","02R",601]
["02Q","RTH",1,null,null,null,"RCF","01A",258]
["02Q","RVV",1,null,null,null,"RCF","03C",52]
["02R","RAE",3531,null,null,null,"RCF","02W",15]
["02R","RCF",601,null,null,null,"RCF","02V",14]
["02R","RWY",478,null,null,null,"RCF","02T",4]
["02R","RR8",115,null,null,null,"RCF","03E",4]
["02R","RXF",43,null,null,null,"RCF","01H",3]
["02R","RCD",11,null,null,null,"RCF","03A",3]
["02R","RHQ",5,null,null,null,"RCF","00Q",2]
["02R","RLU",3,null,null,null,"RCF","01E",2]
["02R","RCB",2,null,null,null,"RCF","03J",2]
["02R","RCC",2,null,null,null,"RCF","00F",1]
["02R","RFF",2,null,null,null,"RCF","00H",1]
["02R","RM3",2,null,null,null,"RCF","00N",1]
["02R","RNS",2,null,null,null,"RCF","00W",1]
["02R","RQM",2,null,null,null,"RCF","00Y",1]
["02R","RW6",2,null,null,null,"RCF","02X",1]
["02R","RX1",2,null,null,null,"RCF","03F",1]
["02R","RAP",1,null,null,null,"RCF","03N",1]
["02R","RBL",1,null,null,null,"RCF","03X",1]
["02R","RC3",1,null,null,null,"RCF","05A",1]
["02R","RFR",1,null,null,null,"RCF","06H",1]
["02R","RGN",1,null,null,null,"RCF","06N",1]
["02R","RH8",1,null,null,null,"RCF","07P",1]
["02R","RJ1",1,null,null,null,"RCF","08K",1]
["02R","RJL",1,null,null,null,"RCF","09A",1]
["02R","RKE",1,null,null,null,"RCF","09E",1]
["02R","RLT",1,null,null,null,"RCF","09W",1]
["02R","RM1",1,null,null,null,"RCF","10L",1]
["02R","RP5",1,null,null,null,"RCF","11N",1]
["02R","RR1",1,null,null,null,"RCF","99H",1]
["02R","RTE",1,null,null,null,"RCF","99N",1]
["02R","RTH",1,null,null,null,"RCF","Wales",1]
["02R","RTX",1,null,null,null,"RCX","07J",1655]
["02R","RW3",1,null,null,null,"RCX","06H",576]
["02R","RWA",1,null,null,null,"RCX","99D",158]
["02R","RWD",1,null,null,null,"RCX","06V",96]
["02R","RWE",1,null,null,null,"RCX","06Y",23]
["02R","RWJ",1,null,null,null,"RCX","03T",16]
["02R","RYQ",1,null,null,null,"RCX","06M",7]
["02T","RWY",2929,null,null,null,"RCX","06W",5]
["02T","RW6",23,null,null,null,"RCX","07K",3]
["02T","RR8",16,null,null,null,"RCX","03W",2]
["02T","RXR",16,null,null,null,"RCX","05A",2]
["02T","RAE",7,null,null,null,"RCX","06L",2]
["02T","RCF",4,null,null,null,"RCX","06N",2]
["02T","RM3",4,null,null,null,"RCX","06Q",2]
["02T","RXF",4,null,null,null,"RCX","06T",2]
["02T","RHQ",2,null,null,null,"RCX","07W",2]
["02T","RW3",2,null,null,null,"RCX","08F",2]
["02T","RCC",1,null,null,null,"RCX","09Y",2]
["02T","RD8",1,null,null,null,"RCX","01K",1]
["02T","RFR",1,null,null,null,"RCX","01W",1]
["02T","RFS",1,null,null,null,"RCX","02V",1]
["02T","RL4",1,null,null,null,"RCX","03A",1]
["02T","RM1",1,null,null,null,"RCX","03D",1]
["02T","RM2",1,null,null,null,"RCX","04C",1]
["02T","RNJ",1,null,null,null,"RCX","04F",1]
["02T","RNL",1,null,null,null,"RCX","04G",1]
["02T","RP5",1,null,null,null,"RCX","04Q",1]
["02T","RR1",1,null,null,null,"RCX","05F",1]
["02T","RTK",1,null,null,null,"RCX","05P",1]
["02T","RWD",1,null,null,null,"RCX","06F",1]
["02V","RR8",2201,null,null,null,"RCX","06K",1]
["02V","RCD",409,null,null,null,"RCX","07N",1]
["02V","RCB",18,null,null,null,"RCX","07V",1]
["02V","RCF",14,null,null,null,"RCX","07X",1]
["02V","RWY",7,null,null,null,"RCX","08C",1]
["02V","RHQ",3,null,null,null,"RCX","08N",1]
["02V","RAE",2,null,null,null,"RCX","08Q",1]
["02V","RJ1",2,null,null,null,"RCX","09N",1]
["02V","RKB",2,null,null,null,"RCX","10G",1]
["02V","RLU",2,null,null,null,"RCX","99C",1]
["02V","RW3",2,null,null,null,"RCX","99H",1]
["02V","RWE",2,null,null,null,"RD3","11J",5289]
["02V","RCX",1,null,null,null,"RD3","11A",130]
["02V","REF",1,null,null,null,"RD3","10Q",5]
["02V","RFF",1,null,null,null,"RD3","10X",5]
["02V","RJL",1,null,null,null,"RD3","99N",5]
["02V","RKE",1,null,null,null,"RD3","99P",5]
["02V","RM1",1,null,null,null,"RD3","08G",3]
["02V","RM3",1,null,null,null,"RD3","11M",3]
["02V","RNL",1,null,null,null,"RD3","Wales",3]
["02V","RR1",1,null,null,null,"RD3","04R",2]
["02V","RV8",1,null,null,null,"RD3","06N",2]
["02V","RW6",1,null,null,null,"RD3","08C",2]
["02V","RWJ",1,null,null,null,"RD3","08H",2]
["02V","RX1",1,null,null,null,"RD3","08J",2]
["02V","RXK",1,null,null,null,"RD3","12D",2]
["02V","RXR",1,null,null,null,"RD3","01E",1]
["02W","RAE",2241,null,null,null,"RD3","03G",1]
["02W","RR8",24,null,null,null,"RD3","03W",1]
["02W","RWY",18,null,null,null,"RD3","03Y",1]
["02W","RCF",15,null,null,null,"RD3","04V",1]
["02W","RXF",7,null,null,null,"RD3","05L",1]
["02W","RHQ",2,null,null,null,"RD3","06F",1]
["02W","RW6",2,null,null,null,"RD3","06H",1]
["02W","RCD",1,null,null,null,"RD3","06K",1]
["02W","RD8",1,null,null,null,"RD3","07P",1]
["02W","RFR",1,null,null,null,"RD3","07Q",1]
["02W","RFW",1,null,null,null,"RD3","07R",1]
["02W","RJ2",1,null,null,null,"RD3","07T",1]
["02W","RJ6",1,null,null,null,"RD3","07W",1]
["02W","RJE",1,null,null,null,"RD3","07X",1]
["02W","RJL",1,null,null,null,"RD3","08X",1]
["02W","RKB",1,null,null,null,"RD3","09A",1]
["02W","RL4",1,null,null,null,"RD3","09G",1]
["02W","RLU",1,null,null,null,"RD3","09X",1]
["02W","RNH",1,null,null,null,"RD3","10G",1]
["02W","RP5",1,null,null,null,"RD3","10H",1]
["02W","RQX",1,null,null,null,"RD3","10J",1]
["02W","RTH",1,null,null,null,"RD3","10K",1]
["02W","RW3",1,null,null,null,"RD3","10N",1]
["02W","RXK",1,null,null,null,"RD3","10R",1]
["02W","RYQ",1,null,null,null,"RD3","10T",1]
["02X","RP5",3922,null,null,null,"RD3","11C",1]
["02X","RFR",105,null,null,null,"RD3","11E",1]
["02X","RHQ",58,null,null,null,"RD3","11H",1]
["02X","RJL",12,null,null,null,"RD3","11N",1]
["02X","RR8",9,null,null,null,"RD3","12A",1]
["02X","RFF",7,null,null,null,"RD3","99J",1]
["02X","RXF",6,null,null,null,"RD3","99Q",1]
["02X","RCC",2,null,null,null,"RD7","10T",2541]
["02X","RNA",2,null,null,null,"RD7","11C",1490]
["02X","RX1",2,null,null,null,"RD7","10H",946]
["02X","RXP",2,null,null,null,"RD7","10G",402]
["02X","RXR",2,null,null,null,"RD7","08G",32]
["02X","RA9",1,null,null,null,"RD7","11D",24]
["02X","RAE",1,null,null,null,"RD7","09Y",16]
["02X","RBT",1,null,null,null,"RD7","10W",7]
["02X","RCB",1,null,null,null,"RD7","06N",6]
["02X","RCF",1,null,null,null,"RD7","10Q",6]
["02X","RFS",1,null,null,null,"RD7","07W",4]
["02X","RJ1",1,null,null,null,"RD7","06F",2]
["02X","RJ7",1,null,null,null,"RD7","07Y",2]
["02X","RL4",1,null,null,null,"RD7","99M",2]
["02X","RLT",1,null,null,null,"RD7","01R",1]
["02X","RM3",1,null,null,null,"RD7","02P",1]
["02X","RNL",1,null,null,null,"RD7","02Y",1]
["02X","RQX",1,null,null,null,"RD7","03T",1]
["02X","RTD",1,null,null,null,"RD7","04F",1]
["02X","RTF",1,null,null,null,"RD7","04X",1]
["02X","RTG",1,null,null,null,"RD7","05A",1]
["02X","RTH",1,null,null,null,"RD7","06Y",1]
["02X","RTX",1,null,null,null,"RD7","07P",1]
["02X","RVV",1,null,null,null,"RD7","07X",1]
["02X","RVW",1,null,null,null,"RD7","08A",1]
["02X","RWD",1,null,null,null,"RD7","08C",1]
["02Y","RWA",1902,null,null,null,"RD7","08K",1]
["02Y","RCC",440,null,null,null,"RD7","08V",1]
["02Y","RJL",304,null,null,null,"RD7","08Y",1]
["02Y","RCB",128,null,null,null,"RD7","09H",1]
["02Y","RXF",30,null,null,null,"RD7","09N",1]
["02Y","RP5",22,null,null,null,"RD7","10C",1]
["02Y","RR8",13,null,null,null,"RD7","10M",1]
["02Y","RTR",3,null,null,null,"RD7","11A",1]
["02Y","RFS",2,null,null,null,"RD7","99Q",1]
["02Y","RHQ",2,null,null,null,"RD7","Wales",1]
["02Y","5NV",1,null,null,null,"RD8","04F",4000]
["02Y","RAE",1,null,null,null,"RD8","06F",195]
["02Y","RCD",1,null,null,null,"RD8","10Y",32]
["02Y","RD7",1,null,null,null,"RD8","04G",26]
["02Y","RFF",1,null,null,null,"RD8","10Q",4]
["02Y","RFR",1,null,null,null,"RD8","07M",3]
["02Y","RGQ",1,null,null,null,"RD8","05A",2]
["02Y","RLU",1,null,null,null,"RD8","06P",2]
["02Y","RMC",1,null,null,null,"RD8","07H",2]
["02Y","RTH",1,null,null,null,"RD8","08A",2]
["03A","RWY",3071,null,null,null,"RD8","10M",2]
["03A","RFF",219,null,null,null,"RD8","01N",1]
["03A","RR8",21,null,null,null,"RD8","02T",1]
["03A","RXF",13,null,null,null,"RD8","02W",1]
["03A","RHQ",12,null,null,null,"RD8","03J",1]
["03A","RAE",7,null,null,null,"RD8","06H",1]
["03A","RW3",4,null,null,null,"RD8","06K",1]
["03A","RCF",3,null,null,null,"RD8","06Q",1]
["03A","RW6",3,null,null,null,"RD8","07K",1]
["03A","RFR",2,null,null,null,"RD8","07L",1]
["03A","RM3",2,null,null,null,"RD8","07P",1]
["03A","RA9",1,null,null,null,"RD8","07R",1]
["03A","RBZ",1,null,null,null,"RD8","07W",1]
["03A","RCC",1,null,null,null,"RD8","07Y",1]
["03A","RCX",1,null,null,null,"RD8","08G",1]
["03A","RDD",1,null,null,null,"RD8","08K",1]
["03A","REP",1,null,null,null,"RD8","08M",1]
["03A","RJ7",1,null,null,null,"RD8","08Q",1]
["03A","RJL",1,null,null,null,"RD8","08R",1]
["03A","RMC",1,null,null,null,"RD8","08X",1]
["03A","RMP",1,null,null,null,"RD8","09A",1]
["03A","RP5",1,null,null,null,"RD8","12D",1]
["03A","RQX",1,null,null,null,"RD8","13P",1]
["03A","RR1",1,null,null,null,"RD8","99J",1]
["03A","RRF",1,null,null,null,"RDD","99E",2385]
["03A","RXR",1,null,null,null,"RDD","07G",2181]
["03A","RYQ",1,null,null,null,"RDD","99F",59]
["03C","RR8",4000,null,null,null,"RDD","08F",27]
["03C","RXF",222,null,null,null,"RDD","07L",17]
["03C","RCD",190,null,null,null,"RDD","06Q",15]
["03C","RCF",52,null,null,null,"RDD","08M",8]
["03C","RAE",41,null,null,null,"RDD","99G",8]
["03C","RFF",4,null,null,null,"RDD","06T",6]
["03C","RCC",3,null,null,null,"RDD","07H",6]
["03C","RW3",3,null,null,null,"RDD","09W",4]
["03C","RWY",3,null,null,null,"RDD","07T",3]
["03C","RCB",2,null,null,null,"RDD","06H",2]
["03C","RHQ",2,null,null,null,"RDD","06L",2]
["03C","RK5",2,null,null,null,"RDD","06M",2]
["03C","RTF",2,null,null,null,"RDD","07K",2]
["03C","RYJ",2,null,null,null,"RDD","07V",2]
["03C","REF",1,null,null,null,"RDD","08A",2]
["03C","REP",1,null,null,null,"RDD","08H",2]
["03C","RGD",1,null,null,null,"RDD","00R",1]
["03C","RGT",1,null,null,null,"RDD","01G",1]
["03C","RJ6",1,null,null,null,"RDD","01M",1]
["03C","RJR",1,null,null,null,"RDD","02E",1]
["03C","RKB",1,null,null,null,"RDD","03A",1]
["03C","RM3",1,null,null,null,"RDD","04H",1]
["03C","RNJ",1,null,null,null,"RDD","05L",1]
["03C","RTP",1,null,null,null,"RDD","06F",1]
["03C","RV8",1,null,null,null,"RDD","06W",1]
["03C","RVL",1,null,null,null,"RDD","06Y",1]
["03C","RVW",1,null,null,null,"RDD","07X",1]
["03C","RWA",1,null,null,null,"RDD","08K",1]
["03C","RWW",1,null,null,null,"RDD","08L",1]
["03C","RXL",1,null,null,null,"RDD","08N",1]
["03C","RXP",1,null,null,null,"RDD","08Q",1]
["03C","RXR",1,null,null,null,"RDD","08V",1]
["03D","RTR",1337,null,null,null,"RDD","08W",1]
["03D","RCC",109,null,null,null,"RDD","09C",1]
["03D","RXP",45,null,null,null,"RDD","10T",1]
["03D","RVW",6,null,null,null,"RDD","11M",1]
["03D","RCD",5,null,null,null,"RDD","12D",1]
["03D","RR8",4,null,null,null,"RDE","06T",3720]
["03D","RCB",3,null,null,null,"RDE","06Q",458]
["03D","RTD",2,null,null,null,"RDE","07K",44]
["03D","RXR",2,null,null,null,"RDE","06L",28]
["03D","5NV",1,null,null,null,"RDE","07H",8]
["03D","RCX",1,null,null,null,"RDE","06M",3]
["03D","RGN",1,null,null,null,"RDE","99E",3]
["03D","RGP",1,null,null,null,"RDE","03H",2]
["03D","RGR",1,null,null,null,"RDE","06K",2]
["03D","RHQ",1,null,null,null,"RDE","06N",2]
["03D","RJC",1,null,null,null,"RDE","07X",2]
["03D","RNQ",1,null,null,null,"RDE","08F",2]
["03D","RRF",1,null,null,null,"RDE","01M",1]
["03D","RTG",1,null,null,null,"RDE","01W",1]
["03D","RTH",1,null,null,null,"RDE","02F",1]
["03D","RTX",1,null,null,null,"RDE","03N",1]
["03D","RVV",1,null,null,null,"RDE","03T",1]
["03D","RW6",1,null,null,null,"RDE","04X",1]
["03D","RWA",1,null,null,null,"RDE","06F",1]
["03D","RX1",1,null,null,null,"RDE","06H",1]
["03D","RXF",1,null,null,null,"RDE","06W",1]
["03D","RXN",1,null,null,null,"RDE","07L",1]
["03E","RCD",1324,null,null,null,"RDE","07V",1]
["03E","RTR",100,null,null,null,"RDE","08A",1]
["03E","RR8",20,null,null,null,"RDE","08H",1]
["03E","RCB",16,null,null,null,"RDE","08Q",1]
["03E","RCF",4,null,null,null,"RDE","08T",1]
["03E","RHQ",2,null,null,null,"RDE","08W",1]
["03E","RJL",2,null,null,null,"RDE","10M",1]
["03E","RP5",2,null,null,null,"RDE","99F",1]
["03E","RA9",1,null,null,null,"RDR","09H",4]
["03E","REP",1,null,null,null,"RDU","99M",2375]
["03E","RFF",1,null,null,null,"RDU","10G",983]
["03E","RFR",1,null,null,null,"RDU","10C",938]
["03E","RH8",1,null,null,null,"RDU","09Y",273]
["03E","RLQ",1,null,null,null,"RDU","11D",174]
["03E","RLU",1,null,null,null,"RDU","10J",112]
["03E","RM3",1,null,null,null,"RDU","11C",71]
["03E","RNL",1,null,null,null,"RDU","10V",38]
["03E","RTD",1,null,null,null,"RDU","09N",21]
["03E","RTF",1,null,null,null,"RDU","10W",4]
["03E","RTH",1,null,null,null,"RDU","08P",3]
["03E","RW3",1,null,null,null,"RDU","99H",3]
["03E","RWE",1,null,null,null,"RDU","08G",2]
["03E","RWY",1,null,null,null,"RDU","10H",2]
["03E","RXW",1,null,null,null,"RDU","10Q",2]
["03F","RWA",4021,null,null,null,"RDU","11A",2]
["03F","RJL",9,null,null,null,"RDU","11J",2]
["03F","RR8",7,null,null,null,"RDU","99N",2]
["03F","RCB",5,null,null,null,"RDU","00C",1]
["03F","RHQ",5,null,null,null,"RDU","03L",1]
["03F","RP5",3,null,null,null,"RDU","03Q",1]
["03F","RFR",2,null,null,null,"RDU","03T",1]
["03F","RAX",1,null,null,null,"RDU","04G",1]
["03F","RCC",1,null,null,null,"RDU","06H",1]
["03F","RCF",1,null,null,null,"RDU","06Y",1]
["03F","RFS",1,null,null,null,"RDU","07M",1]
["03F","RGN",1,null,null,null,"RDU","07P",1]
["03F","RJ1",1,null,null,null,"RDU","07T",1]
["03F","RKB",1,null,null,null,"RDU","08E",1]
["03F","RM3",1,null,null,null,"RDU","08J",1]
["03F","RMC",1,null,null,null,"RDU","08X",1]
["03F","RNH",1,null,null,null,"RDU","09G",1]
["03F","RTX",1,null,null,null,"RDU","10N",1]
["03F","RVV",1,null,null,null,"RDU","10R",1]
["03F","RWD",1,null,null,null,"RDU","10T",1]
["03F","RWY",1,null,null,null,"RDU","99K",1]
["03F","RX1",1,null,null,null,"RDU","Wales",1]
["03F","RXF",1,null,null,null,"RDZ","11J",642]
["03F","RXK",1,null,null,null,"RDZ","11A",15]
["03G","RR8",3793,null,null,null,"RDZ","10X",2]
["03G","RXF",140,null,null,null,"RDZ","08G",1]
["03G","RCD",14,null,null,null,"RDZ","11C",1]
["03G","RCB",12,null,null,null,"RE9","00N",1583]
["03G","RFF",4,null,null,null,"RE9","00P",27]
["03G","RWY",3,null,null,null,"RE9","99C",7]
["03G","RP5",2,null,null,null,"RE9","00D",5]
["03G","RAE",1,null,null,null,"RE9","00J",2]
["03G","RAS",1,null,null,null,"RE9","00F",1]
["03G","RCC",1,null,null,null,"RE9","00H",1]
["03G","RD3",1,null,null,null,"RE9","00K",1]
["03G","RE9",1,null,null,null,"RE9","00L",1]
["03G","RF4",1,null,null,null,"RE9","03G",1]
["03G","RFR",1,null,null,null,"RE9","10L",1]
["03G","RJL",1,null,null,null,"RE9","11M",1]
["03G","RK5",1,null,null,null,"RE9","11N",1]
["03G","RLN",1,null,null,null,"REF","11N",4805]
["03G","RM2",1,null,null,null,"REF","11A",6]
["03G","RM3",1,null,null,null,"REF","11H",6]
["03G","RQX",1,null,null,null,"REF","99P",6]
["03G","RVW",1,null,null,null,"REF","06N",5]
["03G","RW3",1,null,null,null,"REF","99J",4]
["03G","RWA",1,null,null,null,"REF","05R",3]
["03G","RX1",1,null,null,null,"REF","11C",3]
["03G","RXL",1,null,null,null,"REF","11J",3]
["03G","RXP",1,null,null,null,"REF","11T",3]
["03G","RXQ",1,null,null,null,"REF","11X",3]
["03G","RYJ",1,null,null,null,"REF","03L",2]
["03H","RJL",2215,null,null,null,"REF","05L",2]
["03H","RHQ",5,null,null,null,"REF","05N",2]
["03H","RCC",3,null,null,null,"REF","06Q",2]
["03H","RR8",3,null,null,null,"REF","08X",2]
["03H","RWD",3,null,null,null,"REF","10N",2]
["03H","RDE",2,null,null,null,"REF","10Q",2]
["03H","RWA",2,null,null,null,"REF","10X",2]
["03H","RAX",1,null,null,null,"REF","10Y",2]
["03H","RFF",1,null,null,null,"REF","12A",2]
["03H","RLU",1,null,null,null,"REF","99H",2]
["03H","RM2",1,null,null,null,"REF","99N",2]
["03H","RVL",1,null,null,null,"REF","00K",1]
["03H","RVW",1,null,null,null,"REF","00T",1]
["03H","RWY",1,null,null,null,"REF","00X",1]
["03H","RX1",1,null,null,null,"REF","01A",1]
["03H","RYJ",1,null,null,null,"REF","01W",1]
["03J","RXF",2615,null,null,null,"REF","01Y",1]
["03J","RWY",161,null,null,null,"REF","02E",1]
["03J","RR8",75,null,null,null,"REF","02V",1]
["03J","RHQ",11,null,null,null,"REF","03C",1]
["03J","RAE",8,null,null,null,"REF","03N",1]
["03J","RXR",4,null,null,null,"REF","03Q",1]
["03J","RJL",3,null,null,null,"REF","03W",1]
["03J","RCF",2,null,null,null,"REF","03Y",1]
["03J","RFF",2,null,null,null,"REF","04D",1]
["03J","RFR",2,null,null,null,"REF","04E",1]
["03J","RGN",2,null,null,null,"REF","04K",1]
["03J","RX1",2,null,null,null,"REF","04V",1]
["03J","RXK",2,null,null,null,"REF","04X",1]
["03J","RA9",1,null,null,null,"REF","05J",1]
["03J","RAL",1,null,null,null,"REF","05P",1]
["03J","RBL",1,null,null,null,"REF","05T",1]
["03J","RCB",1,null,null,null,"REF","05V",1]
["03J","RD8",1,null,null,null,"REF","06H",1]
["03J","RH8",1,null,null,null,"REF","07H",1]
["03J","RKB",1,null,null,null,"REF","08A",1]
["03J","RLQ",1,null,null,null,"REF","08C",1]
["03J","RLU",1,null,null,null,"REF","08H",1]
["03J","RM3",1,null,null,null,"REF","08R",1]
["03J","RP5",1,null,null,null,"REF","08T",1]
["03J","RQX",1,null,null,null,"REF","08Y",1]
["03J","RR1",1,null,null,null,"REF","09H",1]
["03J","RTE",1,null,null,null,"REF","09Y",1]
["03J","RTG",1,null,null,null,"REF","10C",1]
["03J","RW6",1,null,null,null,"REF","10H",1]
["03J","RWA",1,null,null,null,"REF","10J",1]
["03J","RWE",1,null,null,null,"REF","10M",1]
["03J","RXL",1,null,null,null,"REF","11M",1]
["03J","RXN",1,null,null,null,"REF","99K",1]
["03J","RYQ",1,null,null,null,"REF","99Q",1]
["03K","RJL",1836,null,null,null,"REM","01T",1]
["03K","RP5",58,null,null,null,"REP","99A",5960]
["03K","RWA",47,null,null,null,"REP","01T",1315]
["03K","RWD",20,null,null,null,"REP","01J",764]
["03K","RHQ",9,null,null,null,"REP","12F",328]
["03K","RR8",4,null,null,null,"REP","01F",251]
["03K","RM1",2,null,null,null,"REP","01X",103]
["03K","RCC",1,null,null,null,"REP","01V",85]
["03K","RFF",1,null,null,null,"REP","02E",76]
["03K","RFR",1,null,null,null,"REP","02G",46]
["03K","RJ7",1,null,null,null,"REP","Wales",45]
["03K","RN3",1,null,null,null,"REP","02F",35]
["03K","RW3",1,null,null,null,"REP","02H",19]
["03K","RX1",1,null,null,null,"REP","02D",14]
["03K","RXF",1,null,null,null,"REP","01C",12]
["03K","RXP",1,null,null,null,"REP","01R",12]
["03K","RXR",1,null,null,null,"REP","00X",5]
["03L","RFR",2845,null,null,null,"REP","01Y",5]
["03L","RHQ",231,null,null,null,"REP","02A",5]
["03L","RP5",204,null,null,null,"REP","05G",5]
["03L","RFF",36,null,null,null,"REP","05N",5]
["03L","RFS",12,null,null,null,"REP","13P",5]
["03L","RR8",3,null,null,null,"REP","00R",4]
["03L","REF",2,null,null,null,"REP","00V",4]
["03L","RJL",2,null,null,null,"REP","00Y",4]
["03L","RWD",2,null,null,null,"REP","01A",4]
["03L","RX1",2,null,null,null,"REP","01E",4]
["03L","RAE",1,null,null,null,"REP","05L",4]
["03L","RDU",1,null,null,null,"REP","00T",3]
["03L","RK5",1,null,null,null,"REP","01D",3]
["03L","RMC",1,null,null,null,"REP","01G",3]
["03L","RVY",1,null,null,null,"REP","01H",3]
["03L","RXL",1,null,null,null,"REP","04Y",3]
["03L","RXP",1,null,null,null,"REP","05Y",3]
["03M","RCC",1123,null,null,null,"REP","01W",2]
["03M","RCB",86,null,null,null,"REP","03R",2]
["03M","RR8",13,null,null,null,"REP","05W",2]
["03M","RTR",13,null,null,null,"REP","06L",2]
["03M","RHQ",2,null,null,null,"REP","99H",2]
["03M","RJL",2,null,null,null,"REP","00Q",1]
["03M","5NV",1,null,null,null,"REP","01K",1]
["03M","RAE",1,null,null,null,"REP","01M",1]
["03M","RBD",1,null,null,null,"REP","01N",1]
["03M","RFR",1,null,null,null,"REP","02M",1]
["03M","RVW",1,null,null,null,"REP","02P",1]
["03M","RWP",1,null,null,null,"REP","03A",1]
["03N","RHQ",6171,null,null,null,"REP","03C",1]
["03N","RFR",101,null,null,null,"REP","03E",1]
["03N","RFS",86,null,null,null,"REP","03N",1]
["03N","RFF",17,null,null,null,"REP","03X",1]
["03N","RR8",8,null,null,null,"REP","04F",1]
["03N","RP5",6,null,null,null,"REP","04L",1]
["03N","RX1",4,null,null,null,"REP","05C",1]
["03N","RRV",3,null,null,null,"REP","05D",1]
["03N","RW3",3,null,null,null,"REP","05F",1]
["03N","RWD",3,null,null,null,"REP","05X",1]
["03N","RAE",2,null,null,null,"REP","06Q",1]
["03N","RV8",2,null,null,null,"REP","07K",1]
["03N","RA9",1,null,null,null,"REP","07T",1]
["03N","RAP",1,null,null,null,"REP","07V",1]
["03N","RBL",1,null,null,null,"REP","07Y",1]
["03N","RCB",1,null,null,null,"REP","08A",1]
["03N","RCC",1,null,null,null,"REP","08P",1]
["03N","RCF",1,null,null,null,"REP","08W",1]
["03N","RDE",1,null,null,null,"REP","09A",1]
["03N","REF",1,null,null,null,"REP","09L",1]
["03N","REP",1,null,null,null,"REP","10Q",1]
["03N","RGC",1,null,null,null,"RET","12F",1]
["03N","RGQ",1,null,null,null,"RF4","07L",3167]
["03N","RH8",1,null,null,null,"RF4","08N",2983]
["03N","RHU",1,null,null,null,"RF4","08F",2670]
["03N","RJ2",1,null,null,null,"RF4","99E",233]
["03N","RJ7",1,null,null,null,"RF4","08M",205]
["03N","RJL",1,null,null,null,"RF4","07G",113]
["03N","RJN",1,null,null,null,"RF4","07H",79]
["03N","RK5",1,null,null,null,"RF4","08W",44]
["03N","RK9",1,null,null,null,"RF4","08V",16]
["03N","RKE",1,null,null,null,"RF4","07X",9]
["03N","RM1",1,null,null,null,"RF4","08Q",9]
["03N","RM2",1,null,null,null,"RF4","07T",6]
["03N","RNL",1,null,null,null,"RF4","99G",6]
["03N","RR1",1,null,null,null,"RF4","07V",5]
["03N","RTE",1,null,null,null,"RF4","06Q",4]
["03N","RTR",1,null,null,null,"RF4","07P",4]
["03N","RTX",1,null,null,null,"RF4","08K",4]
["03N","RVW",1,null,null,null,"RF4","08X",4]
["03N","RW6",1,null,null,null,"RF4","06K",3]
["03N","RWA",1,null,null,null,"RF4","08A",3]
["03N","RWE",1,null,null,null,"RF4","08H",3]
["03N","RWH",1,null,null,null,"RF4","10T",3]
["03N","RXF",1,null,null,null,"RF4","99F",3]
["03N","RXK",1,null,null,null,"RF4","00P",2]
["03N","RXL",1,null,null,null,"RF4","00Q",2]
["03Q","RCB",3304,null,null,null,"RF4","04G",2]
["03Q","RCC",91,null,null,null,"RF4","06L",2]
["03Q","RR8",82,null,null,null,"RF4","08L",2]
["03Q","RWA",48,null,null,null,"RF4","08Y",2]
["03Q","RXF",38,null,null,null,"RF4","09A",2]
["03Q","RTR",35,null,null,null,"RF4","01D",1]
["03Q","RCD",29,null,null,null,"RF4","01E",1]
["03Q","RP5",7,null,null,null,"RF4","01G",1]
["03Q","RHQ",5,null,null,null,"RF4","01M",1]
["03Q","RJL",3,null,null,null,"RF4","03G",1]
["03Q","RVW",3,null,null,null,"RF4","03V",1]
["03Q","RAE",2,null,null,null,"RF4","04F",1]
["03Q","RWY",2,null,null,null,"RF4","04X",1]
["03Q","5NV",1,null,null,null,"RF4","05L",1]
["03Q","RDU",1,null,null,null,"RF4","05Y",1]
["03Q","REF",1,null,null,null,"RF4","06A",1]
["03Q","RGR",1,null,null,null,"RF4","06F",1]
["03Q","RJZ",1,null,null,null,"RF4","06N",1]
["03Q","RN3",1,null,null,null,"RF4","06Y",1]
["03Q","RW3",1,null,null,null,"RF4","07M",1]
["03Q","RWD",1,null,null,null,"RF4","07R",1]
["03Q","RWW",1,null,null,null,"RF4","08D",1]
["03Q","RXL",1,null,null,null,"RF4","08G",1]
["03Q","RXP",1,null,null,null,"RF4","08J",1]
["03R","RXF",4139,null,null,null,"RF4","08T",1]
["03R","RR8",185,null,null,null,"RF4","09F",1]
["03R","RFF",137,null,null,null,"RF4","09W",1]
["03R","RP5",35,null,null,null,"RF4","13P",1]
["03R","RWY",12,null,null,null,"RF4","Wales",1]
["03R","RHQ",7,null,null,null,"RFF","02P",3806]
["03R","RCB",6,null,null,null,"RFF","03A",219]
["03R","RFR",4,null,null,null,"RFF","03R",137]
["03R","RAE",3,null,null,null,"RFF","03L",36]
["03R","RCC",2,null,null,null,"RFF","03N",17]
["03R","RCD",2,null,null,null,"RFF","02X",7]
["03R","REP",2,null,null,null,"RFF","03C",4]
["03R","RAX",1,null,null,null,"RFF","03G",4]
["03R","RBN",1,null,null,null,"RFF","00T",2]
["03R","RC9",1,null,null,null,"RFF","01M",2]
["03R","RJD",1,null,null,null,"RFF","02R",2]
["03R","RJL",1,null,null,null,"RFF","03J",2]
["03R","RKB",1,null,null,null,"RFF","04J",2]
["03R","RM1",1,null,null,null,"RFF","04R",2]
["03R","RMC",1,null,null,null,"RFF","00M",1]
["03R","RRF",1,null,null,null,"RFF","00P",1]
["03R","RTD",1,null,null,null,"RFF","01H",1]
["03R","RVR",1,null,null,null,"RFF","01Y",1]
["03R","RW3",1,null,null,null,"RFF","02M",1]
["03R","RW6",1,null,null,null,"RFF","02Q",1]
["03R","RWD",1,null,null,null,"RFF","02V",1]
["03R","RX1",1,null,null,null,"RFF","02Y",1]
["03T","RWD",2025,null,null,null,"RFF","03E",1]
["03T","RJL",645,null,null,null,"RFF","03H",1]
["03T","RX1",30,null,null,null,"RFF","03K",1]
["03T","RWE",17,null,null,null,"RFF","04C",1]
["03T","RCX",16,null,null,null,"RFF","04F",1]
["03T","RP7",11,null,null,null,"RFF","04N",1]
["03T","RHQ",6,null,null,null,"RFF","04X",1]
["03T","RGN",3,null,null,null,"RFF","05L",1]
["03T","RTG",3,null,null,null,"RFF","06N",1]
["03T","RCB",2,null,null,null,"RFF","06T",1]
["03T","RR1",2,null,null,null,"RFF","07G",1]
["03T","RR8",2,null,null,null,"RFF","08G",1]
["03T","RWG",2,null,null,null,"RFF","08T",1]
["03T","5N9",1,null,null,null,"RFF","10H",1]
["03T","RD7",1,null,null,null,"RFF","99A",1]
["03T","RDE",1,null,null,null,"RFF","99P",1]
["03T","RDU",1,null,null,null,"RFF","Wales",1]
["03T","RFR",1,null,null,null,"RFR","03L",2845]
["03T","RGT",1,null,null,null,"RFR","02X",105]
["03T","RJR",1,null,null,null,"RFR","02P",102]
["03T","RK5",1,null,null,null,"RFR","03N",101]
["03T","RM1",1,null,null,null,"RFR","02Q",7]
["03T","RNA",1,null,null,null,"RFR","03R",4]
["03T","RNH",1,null,null,null,"RFR","04J",4]
["03T","RNL",1,null,null,null,"RFR","03A",2]
["03T","RNQ",1,null,null,null,"RFR","03F",2]
["03T","RNS",1,null,null,null,"RFR","03J",2]
["03T","RTE",1,null,null,null,"RFR","02F",1]
["03T","RTH",1,null,null,null,"RFR","02R",1]
["03T","RTR",1,null,null,null,"RFR","02T",1]
["03T","RVJ",1,null,null,null,"RFR","02W",1]
["03T","RW3",1,null,null,null,"RFR","02Y",1]
["03T","RWH",1,null,null,null,"RFR","03E",1]
["03V","RNQ",1034,null,null,null,"RFR","03G",1]
["03V","RNS",6,null,null,null,"RFR","03K",1]
["03V","RTH",4,null,null,null,"RFR","03M",1]
["03V","RWE",4,null,null,null,"RFR","03T",1]
["03V","RF4",1,null,null,null,"RFR","03Y",1]
["03V","RH8",1,null,null,null,"RFR","04R",1]
["03V","RKB",1,null,null,null,"RFR","05A",1]
["03V","RQQ",1,null,null,null,"RFR","06T",1]
["03V","RVL",1,null,null,null,"RFR","08P",1]
["03V","RWD",1,null,null,null,"RFR","10H",1]
["03V","RYJ",1,null,null,null,"RFR","13P",1]
["03W","RWE",3017,null,null,null,"RFS","04J",2194]
["03W","RNQ",338,null,null,null,"RFS","03Y",790]
["03W","RGN",89,null,null,null,"RFS","04R",149]
["03W","RX1",88,null,null,null,"RFS","03N",86]
["03W","RKB",34,null,null,null,"RFS","04E",28]
["03W","RLT",12,null,null,null,"RFS","03L",12]
["03W","RWD",7,null,null,null,"RFS","02Q",4]
["03W","RHQ",5,null,null,null,"RFS","02Y",2]
["03W","RTH",5,null,null,null,"RFS","04C",2]
["03W","RNS",4,null,null,null,"RFS","04H",2]
["03W","RQQ",4,null,null,null,"RFS","05A",2]
["03W","RTG",3,null,null,null,"RFS","01D",1]
["03W","RWH",3,null,null,null,"RFS","02P",1]
["03W","RYJ",3,null,null,null,"RFS","02T",1]
["03W","RCX",2,null,null,null,"RFS","02X",1]
["03W","RGT",2,null,null,null,"RFS","03F",1]
["03W","RJF",2,null,null,null,"RFS","04D",1]
["03W","RL4",2,null,null,null,"RFS","04K",1]
["03W","RR1",2,null,null,null,"RFS","06N",1]
["03W","RT5",2,null,null,null,"RFS","07M",1]
["03W","RAX",1,null,null,null,"RFS","08H",1]
["03W","RBZ",1,null,null,null,"RFS","08Q",1]
["03W","RC9",1,null,null,null,"RFS","09A",1]
["03W","RD3",1,null,null,null,"RFS","10Q",1]
["03W","REF",1,null,null,null,"RFS","11M",1]
["03W","RJE",1,null,null,null,"RFS","12D",1]
["03W","RJR",1,null,null,null,"RFS","99J",1]
["03W","RK5",1,null,null,null,"RFS","99N",1]
["03W","RQM",1,null,null,null,"RFW","07Y",3383]
["03W","RV8",1,null,null,null,"RFW","08P",888]
["03W","RWF",1,null,null,null,"RFW","07W",305]
["03X","RX1",795,null,null,null,"RFW","09Y",63]
["03X","RTG",367,null,null,null,"RFW","08G",21]
["03X","RWE",3,null,null,null,"RFW","08C",8]
["03X","RBZ",1,null,null,null,"RFW","08J",4]
["03X","RC1",1,null,null,null,"RFW","08X",3]
["03X","RCF",1,null,null,null,"RFW","11C",3]
["03X","REP",1,null,null,null,"RFW","08E",2]
["03X","RGQ",1,null,null,null,"RFW","10C",2]
["03X","RHQ",1,null,null,null,"RFW","99H",2]
["03X","RJL",1,null,null,null,"RFW","02W",1]
["03X","RLQ",1,null,null,null,"RFW","05L",1]
["03X","RWD",1,null,null,null,"RFW","05R",1]
["03X","RXW",1,null,null,null,"RFW","06P",1]
["03Y","RFS",790,null,null,null,"RFW","07G",1]
["03Y","RK5",245,null,null,null,"RFW","07M",1]
["03Y","RP5",92,null,null,null,"RFW","07P",1]
["03Y","RTG",38,null,null,null,"RFW","07V",1]
["03Y","RX1",17,null,null,null,"RFW","07X",1]
["03Y","RHQ",15,null,null,null,"RFW","08D",1]
["03Y","RR8",3,null,null,null,"RFW","08K",1]
["03Y","RWE",3,null,null,null,"RFW","08M",1]
["03Y","RWD",2,null,null,null,"RFW","08R",1]
["03Y","RCB",1,null,null,null,"RFW","08W",1]
["03Y","RD3",1,null,null,null,"RFW","09F",1]
["03Y","REF",1,null,null,null,"RFW","09G",1]
["03Y","RFR",1,null,null,null,"RFW","10H",1]
["03Y","RNQ",1,null,null,null,"RFW","10T",1]
["04C","RWE",6227,null,null,null,"RFW","99M",1]
["04C","RX1",10,null,null,null,"RGC","08W",4418]
["04C","RT5",8,null,null,null,"RGC","08N",779]
["04C","RKB",6,null,null,null,"RGC","08M",355]
["04C","RXK",6,null,null,null,"RGC","07H",159]
["04C","RTG",4,null,null,null,"RGC","07X",25]
["04C","RAE",3,null,null,null,"RGC","07T",18]
["04C","RLT",3,null,null,null,"RGC","07L",14]
["04C","RNQ",3,null,null,null,"RGC","08V",14]
["04C","RV8",3,null,null,null,"RGC","08D",13]
["04C","RWD",3,null,null,null,"RGC","08H",12]
["04C","RFS",2,null,null,null,"RGC","08Q",6]
["04C","RJZ",2,null,null,null,"RGC","06K",5]
["04C","RK9",2,null,null,null,"RGC","08F",5]
["04C","RNH",2,null,null,null,"RGC","07M",3]
["04C","RR1",2,null,null,null,"RGC","08C",3]
["04C","RR8",2,null,null,null,"RGC","08L",3]
["04C","RA7",1,null,null,null,"RGC","07G",2]
["04C","RBK",1,null,null,null,"RGC","07W",2]
["04C","RC9",1,null,null,null,"RGC","07Y",2]
["04C","RCD",1,null,null,null,"RGC","08E",2]
["04C","RCX",1,null,null,null,"RGC","09A",2]
["04C","RFF",1,null,null,null,"RGC","10X",2]
["04C","RGP",1,null,null,null,"RGC","99E",2]
["04C","RGT",1,null,null,null,"RGC","00Y",1]
["04C","RHW",1,null,null,null,"RGC","01G",1]
["04C","RJ2",1,null,null,null,"RGC","03N",1]
["04C","RJ6",1,null,null,null,"RGC","04F",1]
["04C","RJL",1,null,null,null,"RGC","06A",1]
["04C","RM1",1,null,null,null,"RGC","06N",1]
["04C","RQQ",1,null,null,null,"RGC","06Q",1]
["04C","RQX",1,null,null,null,"RGC","06T",1]
["04C","RTD",1,null,null,null,"RGC","07N",1]
["04C","RTK",1,null,null,null,"RGC","07P",1]
["04C","RVV",1,null,null,null,"RGC","07Q",1]
["04C","RWH",1,null,null,null,"RGC","07R",1]
["04C","RXC",1,null,null,null,"RGC","07V",1]
["04C","RXN",1,null,null,null,"RGC","08A",1]
["04D","RWD",2704,null,null,null,"RGC","08K",1]
["04D","RJL",76,null,null,null,"RGC","08R",1]
["04D","RX1",39,null,null,null,"RGC","08X",1]
["04D","RWE",25,null,null,null,"RGC","10H",1]
["04D","RHQ",10,null,null,null,"RGC","10K",1]
["04D","RP5",7,null,null,null,"RGC","10Q",1]
["04D","RKB",3,null,null,null,"RGC","10T",1]
["04D","RNQ",3,null,null,null,"RGC","10W",1]
["04D","RK5",2,null,null,null,"RGC","10Y",1]
["04D","RLU",2,null,null,null,"RGC","11H",1]
["04D","RRV",2,null,null,null,"RGC","11M",1]
["04D","RBL",1,null,null,null,"RGC","13P",1]
["04D","RCD",1,null,null,null,"RGC","99A",1]
["04D","REF",1,null,null,null,"RGC","99G",1]
["04D","RFS",1,null,null,null,"RGC","99N",1]
["04D","RGP",1,null,null,null,"RGC","99P",1]
["04D","RGQ",1,null,null,null,"RGC","Wales",1]
["04D","RGT",1,null,null,null,"RGD","03C",1]
["04D","RH8",1,null,null,null,"RGN","06H",3461]
["04D","RL4",1,null,null,null,"RGN","99D",852]
["04D","RM2",1,null,null,null,"RGN","03W",89]
["04D","RMP",1,null,null,null,"RGN","04Q",79]
["04D","RNJ",1,null,null,null,"RGN","04G",4]
["04D","RP7",1,null,null,null,"RGN","03T",3]
["04D","RR1",1,null,null,null,"RGN","10Q",3]
["04D","RWJ",1,null,null,null,"RGN","03J",2]
["04D","RWP",1,null,null,null,"RGN","06V",2]
["04D","RWY",1,null,null,null,"RGN","07J",2]
["04D","RXP",1,null,null,null,"RGN","00C",1]
["04E","RK5",2509,null,null,null,"RGN","00Q",1]
["04E","RX1",96,null,null,null,"RGN","00T",1]
["04E","RFS",28,null,null,null,"RGN","01H",1]
["04E","RWE",17,null,null,null,"RGN","02F",1]
["04E","RP5",11,null,null,null,"RGN","02R",1]
["04E","RHQ",8,null,null,null,"RGN","03D",1]
["04E","RTG",6,null,null,null,"RGN","03F",1]
["04E","RWD",3,null,null,null,"RGN","04K",1]
["04E","RCC",1,null,null,null,"RGN","04V",1]
["04E","REF",1,null,null,null,"RGN","05N",1]
["04E","RJ1",1,null,null,null,"RGN","06K",1]
["04E","RKB",1,null,null,null,"RGN","06M",1]
["04E","RL4",1,null,null,null,"RGN","06N",1]
["04E","RLU",1,null,null,null,"RGN","06Y",1]
["04E","RM1",1,null,null,null,"RGN","07K",1]
["04E","RNS",1,null,null,null,"RGN","07V",1]
["04E","RR8",1,null,null,null,"RGN","07W",1]
["04E","RTX",1,null,null,null,"RGN","08C",1]
["04E","RVV",1,null,null,null,"RGN","08K",1]
["04F","RD8",4000,null,null,null,"RGN","08Q",1]
["04F","RC1",61,null,null,null,"RGN","09A",1]
["04F","RNS",56,null,null,null,"RGN","09D",1]
["04F","RTH",37,null,null,null,"RGN","09G",1]
["04F","RXQ",34,null,null,null,"RGN","09P",1]
["04F","RC9",19,null,null,null,"RGN","09Y",1]
["04F","RNQ",8,null,null,null,"RGN","10C",1]
["04F","RRV",5,null,null,null,"RGN","10E",1]
["04F","RWG",3,null,null,null,"RGN","10Y",1]
["04F","RJ1",2,null,null,null,"RGP","06M",2372]
["04F","RKB",2,null,null,null,"RGP","06V",29]
["04F","RM1",2,null,null,null,"RGP","06Y",15]
["04F","RNH",2,null,null,null,"RGP","06W",13]
["04F","RQM",2,null,null,null,"RGP","06L",6]
["04F","RYQ",2,null,null,null,"RGP","06H",4]
["04F","RAL",1,null,null,null,"RGP","06K",4]
["04F","RAS",1,null,null,null,"RGP","07K",3]
["04F","RAX",1,null,null,null,"RGP","05A",2]
["04F","RBZ",1,null,null,null,"RGP","06F",2]
["04F","RCX",1,null,null,null,"RGP","09W",2]
["04F","RD7",1,null,null,null,"RGP","00D",1]
["04F","REP",1,null,null,null,"RGP","01K",1]
["04F","RF4",1,null,null,null,"RGP","01X",1]
["04F","RFF",1,null,null,null,"RGP","02Q",1]
["04F","RGC",1,null,null,null,"RGP","03D",1]
["04F","RGQ",1,null,null,null,"RGP","04C",1]
["04F","RH8",1,null,null,null,"RGP","04D",1]
["04F","RJ6",1,null,null,null,"RGP","04Q",1]
["04F","RKE",1,null,null,null,"RGP","04V",1]
["04F","RLU",1,null,null,null,"RGP","05H",1]
["04F","RN1",1,null,null,null,"RGP","05J",1]
["04F","RNJ",1,null,null,null,"RGP","06P",1]
["04F","RNL",1,null,null,null,"RGP","06Q",1]
["04F","RPA",1,null,null,null,"RGP","06T",1]
["04F","RQQ",1,null,null,null,"RGP","07G",1]
["04F","RQX",1,null,null,null,"RGP","07H",1]
["04F","RTG",1,null,null,null,"RGP","07J",1]
["04F","RV8",1,null,null,null,"RGP","07P",1]
["04F","RVR",1,null,null,null,"RGP","08C",1]
["04F","RWD",1,null,null,null,"RGP","08K",1]
["04F","RWH",1,null,null,null,"RGP","08M",1]
["04F","RXF",1,null,null,null,"RGP","08Q",1]
["04F","RYJ",1,null,null,null,"RGP","09G",1]
["04F","RYR",1,null,null,null,"RGP","09L",1]
["04G","RNS",4929,null,null,null,"RGP","10K",1]
["04G","RNQ",3503,null,null,null,"RGP","10Q",1]
["04G","RTH",382,null,null,null,"RGP","10Y",1]
["04G","RC1",58,null,null,null,"RGP","11X",1]
["04G","RKB",47,null,null,null,"RGP","99D",1]
["04G","RQQ",44,null,null,null,"RGQ","06L",3872]
["04G","RWE",27,null,null,null,"RGQ","06T",31]
["04G","RD8",26,null,null,null,"RGQ","06M",22]
["04G","RJC",9,null,null,null,"RGQ","07K",8]
["04G","RLU",7,null,null,null,"RGQ","06Y",5]
["04G","RWD",6,null,null,null,"RGQ","06H",4]
["04G","RX1",5,null,null,null,"RGQ","08V",3]
["04G","RGN",4,null,null,null,"RGQ","06F",2]
["04G","RWG",4,null,null,null,"RGQ","06N",2]
["04G","RC9",3,null,null,null,"RGQ","06Q",2]
["04G","RGT",3,null,null,null,"RGQ","08F",2]
["04G","RHQ",3,null,null,null,"RGQ","Wales",2]
["04G","RJF",3,null,null,null,"RGQ","00V",1]
["04G","RLT",3,null,null,null,"RGQ","01E",1]
["04G","RR8",3,null,null,null,"RGQ","02Y",1]
["04G","RF4",2,null,null,null,"RGQ","03N",1]
["04G","RJ7",2,null,null,null,"RGQ","03X",1]
["04G","RK5",2,null,null,null,"RGQ","04D",1]
["04G","RM1",2,null,null,null,"RGQ","04F",1]
["04G","RRV",2,null,null,null,"RGQ","04G",1]
["04G","RXQ",2,null,null,null,"RGQ","04Q",1]
["04G","RYJ",2,null,null,null,"RGQ","05R",1]
["04G","RYQ",2,null,null,null,"RGQ","06K",1]
["04G","RAE",1,null,null,null,"RGQ","06V",1]
["04G","RBD",1,null,null,null,"RGQ","06W",1]
["04G","RBZ",1,null,null,null,"RGQ","07G",1]
["04G","RC3",1,null,null,null,"RGQ","07J",1]
["04G","RCB",1,null,null,null,"RGQ","07P",1]
["04G","RCX",1,null,null,null,"RGQ","07R",1]
["04G","RDU",1,null,null,null,"RGQ","07V",1]
["04G","RGQ",1,null,null,null,"RGQ","07X",1]
["04G","RHM",1,null,null,null,"RGQ","07Y",1]
["04G","RJE",1,null,null,null,"RGQ","08C",1]
["04G","RJL",1,null,null,null,"RGQ","08L",1]
["04G","RL4",1,null,null,null,"RGQ","08P",1]
["04G","RLQ",1,null,null,null,"RGQ","08W",1]
["04G","RN1",1,null,null,null,"RGQ","08Y",1]
["04G","RPA",1,null,null,null,"RGQ","09E",1]
["04G","RR1",1,null,null,null,"RGQ","09G",1]
["04G","RTR",1,null,null,null,"RGQ","09W",1]
["04G","RV8",1,null,null,null,"RGQ","09Y",1]
["04G","RVL",1,null,null,null,"RGQ","10H",1]
["04G","RWA",1,null,null,null,"RGQ","10K",1]
["04G","RWF",1,null,null,null,"RGQ","99M",1]
["04G","RWH",1,null,null,null,"RGQ","99P",1]
["04G","RXF",1,null,null,null,"RGR","07K",1821]
["04G","RXK",1,null,null,null,"RGR","06Y",389]
["04G","RXW",1,null,null,null,"RGR","06L",337]
["04H","RK5",747,null,null,null,"RGR","06H",51]
["04H","RX1",426,null,null,null,"RGR","07J",25]
["04H","RWD",165,null,null,null,"RGR","06Q",7]
["04H","RP5",85,null,null,null,"RGR","06T",5]
["04H","RWE",5,null,null,null,"RGR","06K",3]
["04H","RHQ",3,null,null,null,"RGR","06M",3]
["04H","RFS",2,null,null,null,"RGR","06W",2]
["04H","RJL",2,null,null,null,"RGR","07H",2]
["04H","RL4",2,null,null,null,"RGR","08V",2]
["04H","RTG",2,null,null,null,"RGR","01C",1]
["04H","RDD",1,null,null,null,"RGR","03D",1]
["04H","RNQ",1,null,null,null,"RGR","03Q",1]
["04H","RXL",1,null,null,null,"RGR","06P",1]
["04J","RFS",2194,null,null,null,"RGR","07N",1]
["04J","RWJ",546,null,null,null,"RGR","07X",1]
["04J","RHQ",203,null,null,null,"RGR","08C",1]
["04J","RJN",123,null,null,null,"RGR","08Y",1]
["04J","RP5",18,null,null,null,"RGR","10Y",1]
["04J","RX1",7,null,null,null,"RGR","11D",1]
["04J","RK5",6,null,null,null,"RGR","99D",1]
["04J","RTG",6,null,null,null,"RGR","99E",1]
["04J","RFR",4,null,null,null,"RGR","99F",1]
["04J","RW3",4,null,null,null,"RGR","99J",1]
["04J","RFF",2,null,null,null,"RGT","06H",4289]
["04J","RM3",2,null,null,null,"RGT","07K",606]
["04J","RWD",2,null,null,null,"RGT","07H",477]
["04J","RXR",2,null,null,null,"RGT","06K",370]
["04J","RAE",1,null,null,null,"RGT","06F",114]
["04J","RC9",1,null,null,null,"RGT","06Q",32]
["04J","RCC",1,null,null,null,"RGT","06L",21]
["04J","RJE",1,null,null,null,"RGT","07J",16]
["04J","RJF",1,null,null,null,"RGT","06N",11]
["04J","RJL",1,null,null,null,"RGT","06T",5]
["04J","RM2",1,null,null,null,"RGT","06Y",5]
["04J","RNJ",1,null,null,null,"RGT","99D",5]
["04J","RR8",1,null,null,null,"RGT","99E",4]
["04J","RTR",1,null,null,null,"RGT","04G",3]
["04J","RVV",1,null,null,null,"RGT","06W",3]
["04J","RYQ",1,null,null,null,"RGT","03W",2]
["04K","RX1",4935,null,null,null,"RGT","06M",2]
["04K","RWE",19,null,null,null,"RGT","07P",2]
["04K","RK5",7,null,null,null,"RGT","08A",2]
["04K","RTG",7,null,null,null,"RGT","08V",2]
["04K","RNH",4,null,null,null,"RGT","09A",2]
["04K","RHQ",3,null,null,null,"RGT","09J",2]
["04K","RNQ",3,null,null,null,"RGT","Wales",2]
["04K","RWD",3,null,null,null,"RGT","01H",1]
["04K","RJF",2,null,null,null,"RGT","02A",1]
["04K","RLU",2,null,null,null,"RGT","03C",1]
["04K","RQX",2,null,null,null,"RGT","03T",1]
["04K","RWA",2,null,null,null,"RGT","04C",1]
["04K","RAE",1,null,null,null,"RGT","04D",1]
["04K","RAX",1,null,null,null,"RGT","05J",1]
["04K","RBD",1,null,null,null,"RGT","05N",1]
["04K","RC9",1,null,null,null,"RGT","06P",1]
["04K","REF",1,null,null,null,"RGT","06V",1]
["04K","RFS",1,null,null,null,"RGT","07G",1]
["04K","RGN",1,null,null,null,"RGT","07Q",1]
["04K","RJ1",1,null,null,null,"RGT","07R",1]
["04K","RJ7",1,null,null,null,"RGT","07T",1]
["04K","RJE",1,null,null,null,"RGT","08H",1]
["04K","RJL",1,null,null,null,"RGT","08K",1]
["04K","RKB",1,null,null,null,"RGT","08R",1]
["04K","RL4",1,null,null,null,"RGT","08W",1]
["04K","RLT",1,null,null,null,"RGT","09W",1]
["04K","RM2",1,null,null,null,"RGT","09X",1]
["04K","RQM",1,null,null,null,"RGT","09Y",1]
["04K","RR1",1,null,null,null,"RGT","10J",1]
["04K","RR8",1,null,null,null,"RGT","10Q",1]
["04K","RTH",1,null,null,null,"RGT","10X",1]
["04K","RTR",1,null,null,null,"RGT","11A",1]
["04K","RVL",1,null,null,null,"RGT","11H",1]
["04K","RWP",1,null,null,null,"RGT","11M",1]
["04K","RXH",1,null,null,null,"RGT","99F",1]
["04K","RXQ",1,null,null,null,"RH8","99P",4168]
["04L","RX1",1656,null,null,null,"RH8","99Q",234]
["04L","RK5",14,null,null,null,"RH8","11N",138]
["04L","RWE",3,null,null,null,"RH8","11X",17]
["04L","RQX",2,null,null,null,"RH8","Wales",7]
["04L","RCC",1,null,null,null,"RH8","11J",6]
["04L","REP",1,null,null,null,"RH8","04R",4]
["04L","RHU",1,null,null,null,"RH8","11H",4]
["04L","RJ7",1,null,null,null,"RH8","12A",3]
["04L","RKE",1,null,null,null,"RH8","09Y",2]
["04L","RL4",1,null,null,null,"RH8","10R",2]
["04L","RR8",1,null,null,null,"RH8","99N",2]
["04L","RW3",1,null,null,null,"RH8","01W",1]
["04L","RXW",1,null,null,null,"RH8","02F",1]
["04M","RX1",1095,null,null,null,"RH8","02R",1]
["04M","RTG",26,null,null,null,"RH8","03E",1]
["04M","RK5",10,null,null,null,"RH8","03J",1]
["04M","RWE",2,null,null,null,"RH8","03N",1]
["04M","RCB",1,null,null,null,"RH8","03V",1]
["04M","RHQ",1,null,null,null,"RH8","04D",1]
["04M","RJE",1,null,null,null,"RH8","04F",1]
["04M","RJL",1,null,null,null,"RH8","05D",1]
["04M","RKE",1,null,null,null,"RH8","05F",1]
["04M","RLU",1,null,null,null,"RH8","05G",1]
["04M","RNS",1,null,null,null,"RH8","05H",1]
["04M","RP5",1,null,null,null,"RH8","05P",1]
["04M","RQ8",1,null,null,null,"RH8","05T",1]
["04M","RVR",1,null,null,null,"RH8","05V",1]
["04M","RXC",1,null,null,null,"RH8","06A",1]
["04N","RX1",1286,null,null,null,"RH8","06D",1]
["04N","RWE",21,null,null,null,"RH8","06H",1]
["04N","RTG",7,null,null,null,"RH8","06Q",1]
["04N","RCB",2,null,null,null,"RH8","07Q",1]
["04N","5N8",1,null,null,null,"RH8","08D",1]
["04N","RBK",1,null,null,null,"RH8","08G",1]
["04N","RFF",1,null,null,null,"RH8","08K",1]
["04N","RHQ",1,null,null,null,"RH8","08N",1]
["04N","RLU",1,null,null,null,"RH8","08R",1]
["04N","RNS",1,null,null,null,"RH8","08T",1]
["04N","RR1",1,null,null,null,"RH8","09D",1]
["04N","RRV",1,null,null,null,"RH8","09G",1]
["04N","RTR",1,null,null,null,"RH8","10H",1]
["04N","RTX",1,null,null,null,"RH8","10N",1]
["04N","RWD",1,null,null,null,"RH8","10V",1]
["04N","RXH",1,null,null,null,"RH8","10X",1]
["04N","RXK",1,null,null,null,"RH8","11D",1]
["04N","RXP",1,null,null,null,"RH8","11E",1]
["04Q","RWD",1163,null,null,null,"RH8","11M",1]
["04Q","RX1",167,null,null,null,"RH8","11T",1]
["04Q","RGN",79,null,null,null,"RH8","99K",1]
["04Q","RWE",20,null,null,null,"RHM","10X",3650]
["04Q","RQQ",4,null,null,null,"RHM","11A",2211]
["04Q","RK5",2,null,null,null,"RHM","10K",221]
["04Q","RP7",2,null,null,null,"RHM","11J",75]
["04Q","RR1",2,null,null,null,"RHM","10J",32]
["04Q","RCX",1,null,null,null,"RHM","99N",27]
["04Q","RGP",1,null,null,null,"RHM","10R",17]
["04Q","RGQ",1,null,null,null,"RHM","09G",9]
["04Q","RHQ",1,null,null,null,"RHM","10V",8]
["04Q","RJ1",1,null,null,null,"RHM","10M",4]
["04Q","RJ7",1,null,null,null,"RHM","10L",3]
["04Q","RKE",1,null,null,null,"RHM","11X",3]
["04Q","RN7",1,null,null,null,"RHM","99P",3]
["04Q","RNA",1,null,null,null,"RHM","09H",2]
["04Q","RNQ",1,null,null,null,"RHM","10Q",2]
["04Q","RNS",1,null,null,null,"RHM","10W",2]
["04Q","RVW",1,null,null,null,"RHM","Wales",2]
["04Q","RW6",1,null,null,null,"RHM","04G",1]
["04Q","RXL",1,null,null,null,"RHM","05F",1]
["04R","RTG",5884,null,null,null,"RHM","05R",1]
["04R","RJF",596,null,null,null,"RHM","05V",1]
["04R","RX1",258,null,null,null,"RHM","06F",1]
["04R","RFS",149,null,null,null,"RHM","06K",1]
["04R","RK5",132,null,null,null,"RHM","06L",1]
["04R","RHQ",14,null,null,null,"RHM","06W",1]
["04R","RWE",14,null,null,null,"RHM","08K",1]
["04R","RR1",12,null,null,null,"RHM","10G",1]
["04R","RLU",6,null,null,null,"RHM","11N",1]
["04R","RH8",4,null,null,null,"RHM","12D",1]
["04R","RKB",3,null,null,null,"RHM","99M",1]
["04R","RXK",3,null,null,null,"RHQ","03N",6171]
["04R","RD3",2,null,null,null,"RHQ","03L",231]
["04R","RFF",2,null,null,null,"RHQ","04J",203]
["04R","RJ2",2,null,null,null,"RHQ","02P",163]
["04R","RJL",2,null,null,null,"RHQ","02X",58]
["04R","RNQ",2,null,null,null,"RHQ","02Q",26]
["04R","RTH",2,null,null,null,"RHQ","03Y",15]
["04R","RWD",2,null,null,null,"RHQ","04R",14]
["04R","RWP",2,null,null,null,"RHQ","03A",12]
["04R","RYJ",2,null,null,null,"RHQ","03J",11]
["04R","RBA",1,null,null,null,"RHQ","04D",10]
["04R","RBK",1,null,null,null,"RHQ","03K",9]
["04R","RBZ",1,null,null,null,"RHQ","04E",8]
["04R","RCC",1,null,null,null,"RHQ","03R",7]
["04R","RFR",1,null,null,null,"RHQ","03T",6]
["04R","RK9",1,null,null,null,"RHQ","02R",5]
["04R","RKE",1,null,null,null,"RHQ","03F",5]
["04R","RL4",1,null,null,null,"RHQ","03H",5]
["04R","RLQ",1,null,null,null,"RHQ","03Q",5]
["04R","RLT",1,null,null,null,"RHQ","03W",5]
["04R","RNH",1,null,null,null,"RHQ","02V",3]
["04R","RNS",1,null,null,null,"RHQ","04G",3]
["04R","RQX",1,null,null,null,"RHQ","04H",3]
["04R","RR8",1,null,null,null,"RHQ","04K",3]
["04R","RTD",1,null,null,null,"RHQ","00V",2]
["04R","RVY",1,null,null,null,"RHQ","02T",2]
["04R","RW6",1,null,null,null,"RHQ","02W",2]
["04R","RWA",1,null,null,null,"RHQ","02Y",2]
["04R","RWH",1,null,null,null,"RHQ","03C",2]
["04R","RXP",1,null,null,null,"RHQ","03E",2]
["04V","RWE",3016,null,null,null,"RHQ","03M",2]
["04V","RJF",449,null,null,null,"RHQ","04V",2]
["04V","RLT",374,null,null,null,"RHQ","05R",2]
["04V","RX1",300,null,null,null,"RHQ","07W",2]
["04V","RTG",137,null,null,null,"RHQ","00F",1]
["04V","RKB",74,null,null,null,"RHQ","00K",1]
["04V","RLU",5,null,null,null,"RHQ","00W",1]
["04V","RNQ",4,null,null,null,"RHQ","01C",1]
["04V","RAX",2,null,null,null,"RHQ","01D",1]
["04V","RHQ",2,null,null,null,"RHQ","01F",1]
["04V","RK9",2,null,null,null,"RHQ","01Y",1]
["04V","RNA",2,null,null,null,"RHQ","02A",1]
["04V","RR1",2,null,null,null,"RHQ","02N",1]
["04V","RW6",2,null,null,null,"RHQ","03D",1]
["04V","RXK",2,null,null,null,"RHQ","03X",1]
["04V","RAE",1,null,null,null,"RHQ","04M",1]
["04V","RAL",1,null,null,null,"RHQ","04N",1]
["04V","RAP",1,null,null,null,"RHQ","04Q",1]
["04V","RBA",1,null,null,null,"RHQ","05D",1]
["04V","RBK",1,null,null,null,"RHQ","05H",1]
["04V","RBL",1,null,null,null,"RHQ","05W",1]
["04V","RBT",1,null,null,null,"RHQ","06N",1]
["04V","RD3",1,null,null,null,"RHQ","06V",1]
["04V","REF",1,null,null,null,"RHQ","07P",1]
["04V","RGN",1,null,null,null,"RHQ","07R",1]
["04V","RGP",1,null,null,null,"RHQ","07X",1]
["04V","RJ2",1,null,null,null,"RHQ","08J",1]
["04V","RJC",1,null,null,null,"RHQ","08K",1]
["04V","RK5",1,null,null,null,"RHQ","08N",1]
["04V","RL4",1,null,null,null,"RHQ","09W",1]
["04V","RM2",1,null,null,null,"RHQ","10D",1]
["04V","RM3",1,null,null,null,"RHQ","10G",1]
["04V","RQQ",1,null,null,null,"RHQ","10L",1]
["04V","RQX",1,null,null,null,"RHQ","11C",1]
["04V","RRF",1,null,null,null,"RHQ","13P",1]
["04V","RT5",1,null,null,null,"RHQ","99A",1]
["04V","RWP",1,null,null,null,"RHQ","99C",1]
["04X","RLU",3008,null,null,null,"RHQ","99D",1]
["04X","RR1",690,null,null,null,"RHQ","99E",1]
["04X","RXK",271,null,null,null,"RHQ","99P",1]
["04X","RWP",69,null,null,null,"RHQ","Wales",1]
["04X","RNA",7,null,null,null,"RHU","10R",2757]
["04X","RBK",3,null,null,null,"RHU","10K",1937]
["04X","RJC",3,null,null,null,"RHU","10V",1487]
["04X","RL4",3,null,null,null,"RHU","11A",55]
["04X","RW3",3,null,null,null,"RHU","09G",33]
["04X","RWE",3,null,null,null,"RHU","11J",25]
["04X","RRK",2,null,null,null,"RHU","10X",24]
["04X","RAP",1,null,null,null,"RHU","10J",19]
["04X","RAX",1,null,null,null,"RHU","09N",16]
["04X","RBD",1,null,null,null,"RHU","99N",9]
["04X","RBZ",1,null,null,null,"RHU","10L",6]
["04X","RC3",1,null,null,null,"RHU","07V",3]
["04X","RC9",1,null,null,null,"RHU","09F",3]
["04X","RD7",1,null,null,null,"RHU","99P",3]
["04X","RDE",1,null,null,null,"RHU","09P",2]
["04X","REF",1,null,null,null,"RHU","09X",2]
["04X","RF4",1,null,null,null,"RHU","99H",2]
["04X","RFF",1,null,null,null,"RHU","00Q",1]
["04X","RJ1",1,null,null,null,"RHU","02A",1]
["04X","RJ2",1,null,null,null,"RHU","03N",1]
["04X","RKB",1,null,null,null,"RHU","04L",1]
["04X","RLQ",1,null,null,null,"RHU","04Y",1]
["04X","RNL",1,null,null,null,"RHU","05D",1]
["04X","RNQ",1,null,null,null,"RHU","05J",1]
["04X","RPA",1,null,null,null,"RHU","05T",1]
["04X","RQX",1,null,null,null,"RHU","06F",1]
["04X","RR8",1,null,null,null,"RHU","06L",1]
["04X","RTE",1,null,null,null,"RHU","07Y",1]
["04X","RW6",1,null,null,null,"RHU","08F",1]
["04X","RYJ",1,null,null,null,"RHU","08G",1]
["04Y","RJD",895,null,null,null,"RHU","08N",1]
["04Y","RJF",280,null,null,null,"RHU","08Q",1]
["04Y","RBK",222,null,null,null,"RHU","08V",1]
["04Y","RL4",92,null,null,null,"RHU","09D",1]
["04Y","RR1",21,null,null,null,"RHU","09E",1]
["04Y","RLU",13,null,null,null,"RHU","10C",1]
["04Y","RJE",7,null,null,null,"RHU","10Q",1]
["04Y","RXK",5,null,null,null,"RHU","11C",1]
["04Y","REP",3,null,null,null,"RHU","11E",1]
["04Y","RNA",3,null,null,null,"RHU","11X",1]
["04Y","RBT",2,null,null,null,"RHU","12A",1]
["04Y","5PK",1,null,null,null,"RHU","99M",1]
["04Y","RHU",1,null,null,null,"RHW","10W",1990]
["04Y","RNQ",1,null,null,null,"RHW","11D",1626]
["04Y","RRV",1,null,null,null,"RHW","10N",1326]
["04Y","RXW",1,null,null,null,"RHW","10M",607]
["05A","RKB",6154,null,null,null,"RHW","10Q",250]
["05A","RJC",262,null,null,null,"RHW","10G",185]
["05A","RLT",210,null,null,null,"RHW","11C",129]
["05A","RR1",14,null,null,null,"RHW","10H",26]
["05A","RWE",12,null,null,null,"RHW","10J",8]
["05A","RLU",9,null,null,null,"RHW","10T",6]
["05A","RNS",8,null,null,null,"RHW","08D",3]
["05A","RTH",7,null,null,null,"RHW","99M",3]
["05A","RNQ",5,null,null,null,"RHW","07W",2]
["05A","RXK",5,null,null,null,"RHW","08C",2]
["05A","RWD",3,null,null,null,"RHW","08Q",2]
["05A","RX1",3,null,null,null,"RHW","09Y",2]
["05A","RAL",2,null,null,null,"RHW","11A",2]
["05A","RCX",2,null,null,null,"RHW","12D",2]
["05A","RD8",2,null,null,null,"RHW","Wales",2]
["05A","RFS",2,null,null,null,"RHW","04C",1]
["05A","RGP",2,null,null,null,"RHW","05Y",1]
["05A","RJF",2,null,null,null,"RHW","06T",1]
["05A","RK5",2,null,null,null,"RHW","07H",1]
["05A","RP5",2,null,null,null,"RHW","07L",1]
["05A","RXQ",2,null,null,null,"RHW","07N",1]
["05A","RA9",1,null,null,null,"RHW","07Q",1]
["05A","RAP",1,null,null,null,"RHW","08F",1]
["05A","RAX",1,null,null,null,"RHW","08G",1]
["05A","RBZ",1,null,null,null,"RHW","08K",1]
["05A","RC1",1,null,null,null,"RHW","08L",1]
["05A","RC3",1,null,null,null,"RHW","08N",1]
["05A","RC9",1,null,null,null,"RHW","08P",1]
["05A","RCF",1,null,null,null,"RHW","08Y",1]
["05A","RD7",1,null,null,null,"RHW","09D",1]
["05A","RFR",1,null,null,null,"RHW","09H",1]
["05A","RJ2",1,null,null,null,"RHW","10C",1]
["05A","RL4",1,null,null,null,"RHW","10K",1]
["05A","RQM",1,null,null,null,"RHW","11J",1]
["05A","RR8",1,null,null,null,"RHW","11T",1]
["05A","RRV",1,null,null,null,"RHW","99C",1]
["05A","RTE",1,null,null,null,"RHW","99E",1]
["05A","RTG",1,null,null,null,"RHW","99J",1]
["05A","RTP",1,null,null,null,"RHW","99N",1]
["05A","RTX",1,null,null,null,"RJ1","08K",2680]
["05A","RV8",1,null,null,null,"RJ1","08Q",2459]
["05A","RW6",1,null,null,null,"RJ1","08L",790]
["05A","RWF",1,null,null,null,"RJ1","08X",562]
["05A","RXW",1,null,null,null,"RJ1","08A",119]
["05A","RYJ",1,null,null,null,"RJ1","09A",115]
["05A","RYQ",1,null,null,null,"RJ1","08V",60]
["05C","RNA",3754,null,null,null,"RJ1","07Q",53]
["05C","RLU",131,null,null,null,"RJ1","07V",48]
["05C","RL4",86,null,null,null,"RJ1","08R",37]
["05C","RXK",37,null,null,null,"RJ1","08H",30]
["05C","RWP",10,null,null,null,"RJ1","08Y",30]
["05C","RR1",9,null,null,null,"RJ1","08M",27]
["05C","RBK",5,null,null,null,"RJ1","07M",22]
["05C","RTE",3,null,null,null,"RJ1","99J",19]
["05C","RAX",2,null,null,null,"RJ1","07R",17]
["05C","RA3",1,null,null,null,"RJ1","07T",17]
["05C","RCB",1,null,null,null,"RJ1","08N",17]
["05C","REP",1,null,null,null,"RJ1","07N",16]
["05C","RJD",1,null,null,null,"RJ1","08C",16]
["05C","RJE",1,null,null,null,"RJ1","09J",15]
["05C","RKB",1,null,null,null,"RJ1","07P",14]
["05C","RLQ",1,null,null,null,"RJ1","08P",14]
["05C","RNL",1,null,null,null,"RJ1","08D",13]
["05C","RNQ",1,null,null,null,"RJ1","07L",11]
["05C","RRV",1,null,null,null,"RJ1","08W",10]
["05C","RTG",1,null,null,null,"RJ1","99E",10]
["05C","RTK",1,null,null,null,"RJ1","07X",9]
["05C","RVV",1,null,null,null,"RJ1","08E",9]
["05C","RXL",1,null,null,null,"RJ1","09L",9]
["05C","RXP",1,null,null,null,"RJ1","09W",9]
["05C","RXW",1,null,null,null,"RJ1","06N",8]
["05D","RJF",1601,null,null,null,"RJ1","08F",8]
["05D","RTG",117,null,null,null,"RJ1","08J",8]
["05D","RR1",16,null,null,null,"RJ1","99H",8]
["05D","RJE",11,null,null,null,"RJ1","10H",7]
["05D","RJD",8,null,null,null,"RJ1","07W",6]
["05D","RLU",5,null,null,null,"RJ1","07Y",6]
["05D","RWE",3,null,null,null,"RJ1","09C",6]
["05D","5PK",2,null,null,null,"RJ1","09E",6]
["05D","RAP",2,null,null,null,"RJ1","09F",6]
["05D","RBK",2,null,null,null,"RJ1","09P",6]
["05D","5QH",1,null,null,null,"RJ1","09Y",6]
["05D","REP",1,null,null,null,"RJ1","11C",6]
["05D","RH8",1,null,null,null,"RJ1","99M",6]
["05D","RHQ",1,null,null,null,"RJ1","06L",5]
["05D","RHU",1,null,null,null,"RJ1","07G",5]
["05D","RL4",1,null,null,null,"RJ1","08T",5]
["05D","RLQ",1,null,null,null,"RJ1","09D",5]
["05D","RPA",1,null,null,null,"RJ1","09X",4]
["05D","RWY",1,null,null,null,"RJ1","06F",3]
["05D","RXF",1,null,null,null,"RJ1","06K",3]
["05D","RXK",1,null,null,null,"RJ1","06P",3]
["05D","RXP",1,null,null,null,"RJ1","07H",3]
["05D","RYJ",1,null,null,null,"RJ1","09H",3]
["05F","RLQ",1978,null,null,null,"RJ1","10A",3]
["05F","RXW",52,null,null,null,"RJ1","10C",3]
["05F","RWP",39,null,null,null,"RJ1","11A",3]
["05F","RTE",31,null,null,null,"RJ1","99G",3]
["05F","RLU",8,null,null,null,"RJ1","02V",2]
["05F","RL4",2,null,null,null,"RJ1","04F",2]
["05F","RXK",2,null,null,null,"RJ1","06T",2]
["05F","5CN",1,null,null,null,"RJ1","08G",2]
["05F","5QH",1,null,null,null,"RJ1","09N",2]
["05F","RA7",1,null,null,null,"RJ1","10D",2]
["05F","RA9",1,null,null,null,"RJ1","10E",2]
["05F","RCX",1,null,null,null,"RJ1","10T",2]
["05F","REP",1,null,null,null,"RJ1","11D",2]
["05F","RH8",1,null,null,null,"RJ1","99K",2]
["05F","RHM",1,null,null,null,"RJ1","Wales",2]
["05F","RJ1",1,null,null,null,"RJ1","00K",1]
["05F","RR1",1,null,null,null,"RJ1","00Q",1]
["05F","RVJ",1,null,null,null,"RJ1","01D",1]
["05G","RJE",1733,null,null,null,"RJ1","02R",1]
["05G","RJN",214,null,null,null,"RJ1","02X",1]
["05G","RBT",22,null,null,null,"RJ1","03F",1]
["05G","RTG",13,null,null,null,"RJ1","04E",1]
["05G","RJD",7,null,null,null,"RJ1","04K",1]
["05G","REP",5,null,null,null,"RJ1","04Q",1]
["05G","RJF",4,null,null,null,"RJ1","04X",1]
["05G","RR1",4,null,null,null,"RJ1","05F",1]
["05G","RL4",3,null,null,null,"RJ1","05W",1]
["05G","RLU",3,null,null,null,"RJ1","06A",1]
["05G","RBK",2,null,null,null,"RJ1","06H",1]
["05G","RW3",2,null,null,null,"RJ1","06V",1]
["05G","RA9",1,null,null,null,"RJ1","07J",1]
["05G","RH8",1,null,null,null,"RJ1","07K",1]
["05G","RKB",1,null,null,null,"RJ1","09G",1]
["05G","RV8",1,null,null,null,"RJ1","10G",1]
["05G","RWJ",1,null,null,null,"RJ1","10W",1]
["05G","RWP",1,null,null,null,"RJ1","11M",1]
["05G","RXQ",1,null,null,null,"RJ1","12A",1]
["05G","RXW",1,null,null,null,"RJ1","99F",1]
["05H","RLT",1911,null,null,null,"RJ1","99N",1]
["05H","RKB",164,null,null,null,"RJ2","08L",3527]
["05H","RR1",160,null,null,null,"RJ2","08A",251]
["05H","RJF",45,null,null,null,"RJ2","07Q",114]
["05H","RLU",16,null,null,null,"RJ2","08Q",47]
["05H","RWE",10,null,null,null,"RJ2","07N",32]
["05H","RJC",3,null,null,null,"RJ2","07V",30]
["05H","RK5",2,null,null,null,"RJ2","08K",12]
["05H","RL4",2,null,null,null,"RJ2","07M",4]
["05H","RNA",2,null,null,null,"RJ2","07P",4]
["05H","RNQ",2,null,null,null,"RJ2","07T",4]
["05H","RWP",2,null,null,null,"RJ2","08W",4]
["05H","RX1",2,null,null,null,"RJ2","09J",4]
["05H","RXK",2,null,null,null,"RJ2","99J",4]
["05H","RCC",1,null,null,null,"RJ2","07L",3]
["05H","RGP",1,null,null,null,"RJ2","08H",3]
["05H","RH8",1,null,null,null,"RJ2","08M",3]
["05H","RHQ",1,null,null,null,"RJ2","09C",3]
["05H","RK9",1,null,null,null,"RJ2","09W",3]
["05H","RLQ",1,null,null,null,"RJ2","04R",2]
["05H","RP7",1,null,null,null,"RJ2","06K",2]
["05H","RVJ",1,null,null,null,"RJ2","07R",2]
["05H","RVW",1,null,null,null,"RJ2","08G",2]
["05H","RXW",1,null,null,null,"RJ2","08N",2]
["05J","RWP",1944,null,null,null,"RJ2","08R",2]
["05J","RLU",193,null,null,null,"RJ2","08T",2]
["05J","RR1",22,null,null,null,"RJ2","08V",2]
["05J","RNA",10,null,null,null,"RJ2","09E",2]
["05J","RL4",3,null,null,null,"RJ2","99A",2]
["05J","RJC",2,null,null,null,"RJ2","99E",2]
["05J","RJF",2,null,null,null,"RJ2","99H",2]
["05J","RXK",2,null,null,null,"RJ2","00F",1]
["05J","RBZ",1,null,null,null,"RJ2","00H",1]
["05J","REF",1,null,null,null,"RJ2","00J",1]
["05J","RGP",1,null,null,null,"RJ2","00K",1]
["05J","RGT",1,null,null,null,"RJ2","01E",1]
["05J","RHU",1,null,null,null,"RJ2","02W",1]
["05J","RJE",1,null,null,null,"RJ2","03N",1]
["05J","RK9",1,null,null,null,"RJ2","04C",1]
["05J","RM1",1,null,null,null,"RJ2","04V",1]
["05J","RTE",1,null,null,null,"RJ2","04X",1]
["05J","RVJ",1,null,null,null,"RJ2","05A",1]
["05J","RX1",1,null,null,null,"RJ2","06N",1]
["05J","RYQ",1,null,null,null,"RJ2","06V",1]
["05L","RXK",5135,null,null,null,"RJ2","06W",1]
["05L","RNA",1250,null,null,null,"RJ2","07G",1]
["05L","RLU",1002,null,null,null,"RJ2","07Y",1]
["05L","RR1",447,null,null,null,"RJ2","08C",1]
["05L","RBK",336,null,null,null,"RJ2","08D",1]
["05L","RL4",55,null,null,null,"RJ2","08X",1]
["05L","RBZ",7,null,null,null,"RJ2","09A",1]
["05L","RWP",5,null,null,null,"RJ2","09D",1]
["05L","REP",4,null,null,null,"RJ2","09G",1]
["05L","RJF",4,null,null,null,"RJ2","09L",1]
["05L","RWE",4,null,null,null,"RJ2","09P",1]
["05L","RXW",4,null,null,null,"RJ2","10E",1]
["05L","RAE",3,null,null,null,"RJ2","10H",1]
["05L","RTG",3,null,null,null,"RJ2","10W",1]
["05L","RV8",3,null,null,null,"RJ2","11A",1]
["05L","RX1",3,null,null,null,"RJ2","11E",1]
["05L","RYQ",3,null,null,null,"RJ2","11J",1]
["05L","RAX",2,null,null,null,"RJ2","11M",1]
["05L","RBL",2,null,null,null,"RJ2","11N",1]
["05L","REF",2,null,null,null,"RJ2","12D",1]
["05L","RVJ",2,null,null,null,"RJ2","13P",1]
["05L","RAP",1,null,null,null,"RJ6","07V",4472]
["05L","RC9",1,null,null,null,"RJ6","08K",95]
["05L","RD3",1,null,null,null,"RJ6","08R",63]
["05L","RDD",1,null,null,null,"RJ6","09L",43]
["05L","RF4",1,null,null,null,"RJ6","07Q",34]
["05L","RFF",1,null,null,null,"RJ6","08T",24]
["05L","RFW",1,null,null,null,"RJ6","08X",18]
["05L","RJ6",1,null,null,null,"RJ6","08Q",10]
["05L","RJC",1,null,null,null,"RJ6","08L",9]
["05L","RJD",1,null,null,null,"RJ6","08J",4]
["05L","RJE",1,null,null,null,"RJ6","99J",4]
["05L","RJZ",1,null,null,null,"RJ6","07X",3]
["05L","RKB",1,null,null,null,"RJ6","99H",3]
["05L","RLQ",1,null,null,null,"RJ6","07L",2]
["05L","RM3",1,null,null,null,"RJ6","07M",2]
["05L","RN5",1,null,null,null,"RJ6","08C",2]
["05L","RNH",1,null,null,null,"RJ6","08D",2]
["05L","RNQ",1,null,null,null,"RJ6","08M",2]
["05L","RQM",1,null,null,null,"RJ6","08N",2]
["05L","RQX",1,null,null,null,"RJ6","09H",2]
["05L","RRK",1,null,null,null,"RJ6","09P",2]
["05L","RTP",1,null,null,null,"RJ6","09Y",2]
["05L","RTR",1,null,null,null,"RJ6","10E",2]
["05L","RW6",1,null,null,null,"RJ6","10X",2]
["05L","RXQ",1,null,null,null,"RJ6","00K",1]
["05L","RYJ",1,null,null,null,"RJ6","00Q",1]
["05N","RXW",2652,null,null,null,"RJ6","00V",1]
["05N","RWP",42,null,null,null,"RJ6","01G",1]
["05N","RJE",38,null,null,null,"RJ6","01T",1]
["05N","RLQ",34,null,null,null,"RJ6","02A",1]
["05N","RL4",18,null,null,null,"RJ6","02H",1]
["05N","RBT",12,null,null,null,"RJ6","02W",1]
["05N","RJR",12,null,null,null,"RJ6","03C",1]
["05N","RNA",9,null,null,null,"RJ6","04C",1]
["05N","REP",5,null,null,null,"RJ6","04F",1]
["05N","RLU",4,null,null,null,"RJ6","05L",1]
["05N","RJD",3,null,null,null,"RJ6","06F",1]
["05N","REF",2,null,null,null,"RJ6","06H",1]
["05N","RR1",2,null,null,null,"RJ6","06L",1]
["05N","5QK",1,null,null,null,"RJ6","06P",1]
["05N","RA4",1,null,null,null,"RJ6","06T",1]
["05N","RAS",1,null,null,null,"RJ6","07N",1]
["05N","RAX",1,null,null,null,"RJ6","07P",1]
["05N","RBD",1,null,null,null,"RJ6","07T",1]
["05N","RBL",1,null,null,null,"RJ6","07Y",1]
["05N","RBZ",1,null,null,null,"RJ6","08E",1]
["05N","RGN",1,null,null,null,"RJ6","08G",1]
["05N","RGT",1,null,null,null,"RJ6","08P",1]
["05N","RJC",1,null,null,null,"RJ6","08V",1]
["05N","RKB",1,null,null,null,"RJ6","09D",1]
["05N","RQM",1,null,null,null,"RJ6","09G",1]
["05N","RTR",1,null,null,null,"RJ6","09J",1]
["05N","RW3",1,null,null,null,"RJ6","09N",1]
["05N","RWD",1,null,null,null,"RJ6","09X",1]
["05N","RWE",1,null,null,null,"RJ6","10D",1]
["05N","RWJ",1,null,null,null,"RJ6","10G",1]
["05N","RWW",1,null,null,null,"RJ6","10Q",1]
["05N","RX1",1,null,null,null,"RJ6","10W",1]
["05P","RR1",2337,null,null,null,"RJ6","11J",1]
["05P","RJC",242,null,null,null,"RJ6","12D",1]
["05P","RLU",138,null,null,null,"RJ6","99G",1]
["05P","RWP",105,null,null,null,"RJ6","99P",1]
["05P","RKB",42,null,null,null,"RJ6","Wales",1]
["05P","RXK",11,null,null,null,"RJ7","08X",2956]
["05P","RLT",4,null,null,null,"RJ7","08R",1736]
["05P","RL4",2,null,null,null,"RJ7","08K",547]
["05P","RLQ",2,null,null,null,"RJ7","07V",288]
["05P","RNA",2,null,null,null,"RJ7","08T",97]
["05P","RXL",2,null,null,null,"RJ7","08J",52]
["05P","RA9",1,null,null,null,"RJ7","99H",30]
["05P","RAS",1,null,null,null,"RJ7","08P",16]
["05P","RCX",1,null,null,null,"RJ7","07Q",13]
["05P","REF",1,null,null,null,"RJ7","08Q",11]
["05P","RH8",1,null,null,null,"RJ7","09L",11]
["05P","RJE",1,null,null,null,"RJ7","09Y",9]
["05P","RKE",1,null,null,null,"RJ7","08L",8]
["05P","RNQ",1,null,null,null,"RJ7","09G",6]
["05P","RQM",1,null,null,null,"RJ7","08C",5]
["05P","RRV",1,null,null,null,"RJ7","09H",5]
["05P","RTH",1,null,null,null,"RJ7","99M",5]
["05P","RVV",1,null,null,null,"RJ7","07W",4]
["05P","RW3",1,null,null,null,"RJ7","08D",4]
["05P","RWH",1,null,null,null,"RJ7","08G",4]
["05P","RX1",1,null,null,null,"RJ7","08M",4]
["05P","RXW",1,null,null,null,"RJ7","08W",4]
["05P","RYJ",1,null,null,null,"RJ7","09N",4]
["05Q","RJF",965,null,null,null,"RJ7","07Y",3]
["05Q","RR1",808,null,null,null,"RJ7","08A",3]
["05Q","RL4",289,null,null,null,"RJ7","08Y",3]
["05Q","RNA",179,null,null,null,"RJ7","09A",3]
["05Q","RBK",52,null,null,null,"RJ7","09J",3]
["05Q","RXW",32,null,null,null,"RJ7","09P",3]
["05Q","RJD",30,null,null,null,"RJ7","10G",3]
["05Q","RLT",24,null,null,null,"RJ7","10Q",3]
["05Q","RLU",16,null,null,null,"RJ7","99J",3]
["05Q","5PK",11,null,null,null,"RJ7","04G",2]
["05Q","RTG",7,null,null,null,"RJ7","07P",2]
["05Q","RXK",6,null,null,null,"RJ7","07R",2]
["05Q","RKB",2,null,null,null,"RJ7","08H",2]
["05Q","RTE",2,null,null,null,"RJ7","08N",2]
["05Q","RWE",2,null,null,null,"RJ7","08V",2]
["05Q","RA2",1,null,null,null,"RJ7","09W",2]
["05Q","RA9",1,null,null,null,"RJ7","10H",2]
["05Q","RBT",1,null,null,null,"RJ7","01D",1]
["05Q","RCC",1,null,null,null,"RJ7","01F",1]
["05Q","RJC",1,null,null,null,"RJ7","01Y",1]
["05Q","RJE",1,null,null,null,"RJ7","02A",1]
["05Q","RNS",1,null,null,null,"RJ7","02F",1]
["05Q","RWP",1,null,null,null,"RJ7","02P",1]
["05Q","RX1",1,null,null,null,"RJ7","02X",1]
["05R","RJC",2526,null,null,null,"RJ7","03A",1]
["05R","RWP",174,null,null,null,"RJ7","03K",1]
["05R","RTH",98,null,null,null,"RJ7","03N",1]
["05R","RKB",61,null,null,null,"RJ7","04K",1]
["05R","RLU",24,null,null,null,"RJ7","04L",1]
["05R","RR1",24,null,null,null,"RJ7","04Q",1]
["05R","RNQ",5,null,null,null,"RJ7","05V",1]
["05R","RL4",4,null,null,null,"RJ7","06K",1]
["05R","RXK",4,null,null,null,"RJ7","06L",1]
["05R","REF",3,null,null,null,"RJ7","06N",1]
["05R","RWE",3,null,null,null,"RJ7","06Q",1]
["05R","RHQ",2,null,null,null,"RJ7","06Y",1]
["05R","RX1",2,null,null,null,"RJ7","07G",1]
["05R","RAX",1,null,null,null,"RJ7","07H",1]
["05R","RC3",1,null,null,null,"RJ7","07K",1]
["05R","RC9",1,null,null,null,"RJ7","07M",1]
["05R","RFW",1,null,null,null,"RJ7","07N",1]
["05R","RGQ",1,null,null,null,"RJ7","07T",1]
["05R","RHM",1,null,null,null,"RJ7","07X",1]
["05R","RJE",1,null,null,null,"RJ7","08F",1]
["05R","RNA",1,null,null,null,"RJ7","09X",1]
["05R","RNH",1,null,null,null,"RJ7","10A",1]
["05R","RNS",1,null,null,null,"RJ7","10C",1]
["05R","RNZ",1,null,null,null,"RJ7","10T",1]
["05R","RQQ",1,null,null,null,"RJ7","10X",1]
["05R","RTE",1,null,null,null,"RJ7","11J",1]
["05R","RWD",1,null,null,null,"RJ7","11M",1]
["05R","RXQ",1,null,null,null,"RJ7","11X",1]
["05R","RXW",1,null,null,null,"RJ7","12F",1]
["05R","RYJ",1,null,null,null,"RJ7","13P",1]
["05T","RWP",2937,null,null,null,"RJ7","99G",1]
["05T","RTE",185,null,null,null,"RJ7","99P",1]
["05T","RLQ",35,null,null,null,"RJC","05R",2526]
["05T","RXW",24,null,null,null,"RJC","05A",262]
["05T","RLU",15,null,null,null,"RJC","05P",242]
["05T","RR1",6,null,null,null,"RJC","04G",9]
["05T","RJC",4,null,null,null,"RJC","13P",8]
["05T","RVJ",4,null,null,null,"RJC","05T",4]
["05T","RA7",2,null,null,null,"RJC","08X",4]
["05T","RBA",2,null,null,null,"RJC","10Q",4]
["05T","RBZ",2,null,null,null,"RJC","04X",3]
["05T","RL4",2,null,null,null,"RJC","05H",3]
["05T","RQM",2,null,null,null,"RJC","05W",3]
["05T","RTH",2,null,null,null,"RJC","11M",3]
["05T","RXK",2,null,null,null,"RJC","05J",2]
["05T","RA3",1,null,null,null,"RJC","06D",2]
["05T","RC9",1,null,null,null,"RJC","06K",2]
["05T","REF",1,null,null,null,"RJC","00K",1]
["05T","RH8",1,null,null,null,"RJC","02F",1]
["05T","RHU",1,null,null,null,"RJC","02H",1]
["05T","RNA",1,null,null,null,"RJC","03D",1]
["05T","RNS",1,null,null,null,"RJC","04V",1]
["05T","RTK",1,null,null,null,"RJC","05L",1]
["05T","RVL",1,null,null,null,"RJC","05N",1]
["05T","RVR",1,null,null,null,"RJC","05Q",1]
["05T","RWA",1,null,null,null,"RJC","06F",1]
["05T","RWQ",1,null,null,null,"RJC","07H",1]
["05V","RJD",1194,null,null,null,"RJC","08F",1]
["05V","RJE",173,null,null,null,"RJC","08K",1]
["05V","RL4",75,null,null,null,"RJC","09N",1]
["05V","RJF",11,null,null,null,"RJC","09P",1]
["05V","RXW",9,null,null,null,"RJC","10N",1]
["05V","RLU",6,null,null,null,"RJC","11H",1]
["05V","RBK",4,null,null,null,"RJC","11X",1]
["05V","RBT",2,null,null,null,"RJC","12D",1]
["05V","RNA",2,null,null,null,"RJC","99H",1]
["05V","REF",1,null,null,null,"RJC","99P",1]
["05V","RH8",1,null,null,null,"RJC","Wales",1]
["05V","RHM",1,null,null,null,"RJD","05V",1194]
["05V","RJ7",1,null,null,null,"RJD","04Y",895]
["05V","RK9",1,null,null,null,"RJD","05Q",30]
["05V","RM2",1,null,null,null,"RJD","05X",14]
["05V","RR1",1,null,null,null,"RJD","05W",13]
["05V","RTG",1,null,null,null,"RJD","05D",8]
["05V","RWD",1,null,null,null,"RJD","05G",7]
["05V","RWJ",1,null,null,null,"RJD","06A",4]
["05V","RXK",1,null,null,null,"RJD","05N",3]
["05W","RJE",3925,null,null,null,"RJD","05Y",2]
["05W","RJD",13,null,null,null,"RJD","13P",2]
["05W","RBT",12,null,null,null,"RJD","Wales",2]
["05W","RL4",9,null,null,null,"RJD","01R",1]
["05W","RLU",8,null,null,null,"RJD","01W",1]
["05W","RJN",6,null,null,null,"RJD","03R",1]
["05W","RM2",4,null,null,null,"RJD","05C",1]
["05W","RTG",4,null,null,null,"RJD","05L",1]
["05W","RJC",3,null,null,null,"RJD","09Y",1]
["05W","RJF",3,null,null,null,"RJD","10Q",1]
["05W","RBL",2,null,null,null,"RJD","11A",1]
["05W","REP",2,null,null,null,"RJD","11T",1]
["05W","RLQ",2,null,null,null,"RJD","99C",1]
["05W","RR1",2,null,null,null,"RJD","99E",1]
["05W","RVV",2,null,null,null,"RJE","05W",3925]
["05W","RXL",2,null,null,null,"RJE","05G",1733]
["05W","RXW",2,null,null,null,"RJE","05V",173]
["05W","5PJ",1,null,null,null,"RJE","01R",66]
["05W","RAE",1,null,null,null,"RJE","05N",38]
["05W","RBK",1,null,null,null,"RJE","05D",11]
["05W","RC9",1,null,null,null,"RJE","01C",10]
["05W","RHQ",1,null,null,null,"RJE","04Y",7]
["05W","RJ1",1,null,null,null,"RJE","05Y",2]
["05W","RKB",1,null,null,null,"RJE","08W",2]
["05W","RM3",1,null,null,null,"RJE","11N",2]
["05W","RNH",1,null,null,null,"RJE","13P",2]
["05W","RQ8",1,null,null,null,"RJE","01G",1]
["05W","RRV",1,null,null,null,"RJE","01M",1]
["05W","RTE",1,null,null,null,"RJE","01W",1]
["05W","RVJ",1,null,null,null,"RJE","02D",1]
["05W","RW3",1,null,null,null,"RJE","02E",1]
["05W","RW6",1,null,null,null,"RJE","02W",1]
["05W","RWE",1,null,null,null,"RJE","03W",1]
["05W","RWP",1,null,null,null,"RJE","04G",1]
["05W","RYQ",1,null,null,null,"RJE","04J",1]
["05X","RXW",2242,null,null,null,"RJE","04K",1]
["05X","RJD",14,null,null,null,"RJE","04M",1]
["05X","RL4",13,null,null,null,"RJE","05C",1]
["05X","RLU",3,null,null,null,"RJE","05J",1]
["05X","RNA",3,null,null,null,"RJE","05L",1]
["05X","RBK",2,null,null,null,"RJE","05P",1]
["05X","RA9",1,null,null,null,"RJE","05Q",1]
["05X","RBL",1,null,null,null,"RJE","05R",1]
["05X","REP",1,null,null,null,"RJE","05X",1]
["05X","RJE",1,null,null,null,"RJE","06A",1]
["05X","RKB",1,null,null,null,"RJE","06F",1]
["05X","RLQ",1,null,null,null,"RJE","07H",1]
["05X","RTE",1,null,null,null,"RJE","07P",1]
["05X","RWJ",1,null,null,null,"RJE","07Y",1]
["05X","RWP",1,null,null,null,"RJE","08C",1]
["05X","RXL",1,null,null,null,"RJE","08D",1]
["05Y","RBK",3297,null,null,null,"RJE","08G",1]
["05Y","RL4",319,null,null,null,"RJE","08N",1]
["05Y","RR1",142,null,null,null,"RJE","08P",1]
["05Y","RXK",47,null,null,null,"RJE","08Q",1]
["05Y","RLU",39,null,null,null,"RJE","09W",1]
["05Y","RJF",25,null,null,null,"RJE","99Q",1]
["05Y","RNA",8,null,null,null,"RJF","05D",1601]
["05Y","RWP",5,null,null,null,"RJF","05Q",965]
["05Y","REP",3,null,null,null,"RJF","04R",596]
["05Y","RNJ",3,null,null,null,"RJF","04V",449]
["05Y","RTG",3,null,null,null,"RJF","04Y",280]
["05Y","RBL",2,null,null,null,"RJF","05H",45]
["05Y","RJD",2,null,null,null,"RJF","05Y",25]
["05Y","RJE",2,null,null,null,"RJF","05V",11]
["05Y","RRV",2,null,null,null,"RJF","13P",11]
["05Y","RTH",2,null,null,null,"RJF","05G",4]
["05Y","RWE",2,null,null,null,"RJF","05L",4]
["05Y","RA9",1,null,null,null,"RJF","04G",3]
["05Y","RC9",1,null,null,null,"RJF","05W",3]
["05Y","RF4",1,null,null,null,"RJF","03W",2]
["05Y","RHW",1,null,null,null,"RJF","04K",2]
["05Y","RJZ",1,null,null,null,"RJF","05A",2]
["05Y","RKB",1,null,null,null,"RJF","05J",2]
["05Y","RKE",1,null,null,null,"RJF","Wales",2]
["05Y","RLN",1,null,null,null,"RJF","00T",1]
["05Y","RMC",1,null,null,null,"RJF","02H",1]
["05Y","RN3",1,null,null,null,"RJF","02Q",1]
["05Y","RNH",1,null,null,null,"RJF","04J",1]
["05Y","RNQ",1,null,null,null,"RJF","06Y",1]
["05Y","RNS",1,null,null,null,"RJF","07Q",1]
["05Y","RV8",1,null,null,null,"RJF","08F",1]
["05Y","RWJ",1,null,null,null,"RJF","09J",1]
["06A","RL4",3619,null,null,null,"RJF","99K",1]
["06A","RNA",156,null,null,null,"RJL","03H",2215]
["06A","RBK",82,null,null,null,"RJL","03K",1836]
["06A","RXK",13,null,null,null,"RJL","03T",645]
["06A","RLU",9,null,null,null,"RJL","02Y",304]
["06A","RR1",5,null,null,null,"RJL","04D",76]
["06A","RJD",4,null,null,null,"RJL","02X",12]
["06A","RXW",4,null,null,null,"RJL","03F",9]
["06A","RJZ",2,null,null,null,"RJL","03J",3]
["06A","RNQ",2,null,null,null,"RJL","03Q",3]
["06A","RAS",1,null,null,null,"RJL","03E",2]
["06A","RBA",1,null,null,null,"RJL","03L",2]
["06A","RC1",1,null,null,null,"RJL","03M",2]
["06A","RF4",1,null,null,null,"RJL","04H",2]
["06A","RGC",1,null,null,null,"RJL","04R",2]
["06A","RH8",1,null,null,null,"RJL","08D",2]
["06A","RJ1",1,null,null,null,"RJL","08K",2]
["06A","RJE",1,null,null,null,"RJL","00T",1]
["06A","RK9",1,null,null,null,"RJL","01G",1]
["06A","RM3",1,null,null,null,"RJL","02N",1]
["06A","RN1",1,null,null,null,"RJL","02R",1]
["06A","RP5",1,null,null,null,"RJL","02V",1]
["06A","RQ8",1,null,null,null,"RJL","02W",1]
["06A","RQX",1,null,null,null,"RJL","03A",1]
["06A","RTH",1,null,null,null,"RJL","03G",1]
["06A","RVJ",1,null,null,null,"RJL","03N",1]
["06A","RVL",1,null,null,null,"RJL","03R",1]
["06A","RWY",1,null,null,null,"RJL","03X",1]
["06A","RXC",1,null,null,null,"RJL","04C",1]
["06A","RYJ",1,null,null,null,"RJL","04G",1]
["06A","RYQ",1,null,null,null,"RJL","04J",1]
["06D","RWP",1117,null,null,null,"RJL","04K",1]
["06D","RNA",76,null,null,null,"RJL","04M",1]
["06D","RLU",20,null,null,null,"RJL","08G",1]
["06D","RR1",3,null,null,null,"RJL","08V",1]
["06D","RJC",2,null,null,null,"RJL","09P",1]
["06D","RXW",2,null,null,null,"RJL","11A",1]
["06D","RBK",1,null,null,null,"RJL","11J",1]
["06D","RBL",1,null,null,null,"RJL","11N",1]
["06D","RH8",1,null,null,null,"RJL","99A",1]
["06D","RL4",1,null,null,null,"RJL","99N",1]
["06D","RLQ",1,null,null,null,"RJN","01C",1674]
["06D","RTE",1,null,null,null,"RJN","05G",214]
["06F","RC1",3136,null,null,null,"RJN","04J",123]
["06F","RC9",1269,null,null,null,"RJN","01W",32]
["06F","RXQ",397,null,null,null,"RJN","01R",11]
["06F","RWH",387,null,null,null,"RJN","02D",8]
["06F","RD8",195,null,null,null,"RJN","05W",6]
["06F","RGT",114,null,null,null,"RJN","02A",4]
["06F","RQQ",20,null,null,null,"RJN","01N",2]
["06F","RWG",11,null,null,null,"RJN","00V",1]
["06F","RNS",7,null,null,null,"RJN","01G",1]
["06F","RTH",5,null,null,null,"RJN","02H",1]
["06F","RVL",5,null,null,null,"RJN","03N",1]
["06F","RM1",4,null,null,null,"RJN","07R",1]
["06F","RRV",4,null,null,null,"RJN","07Y",1]
["06F","RYJ",4,null,null,null,"RJR","02F",2661]
["06F","RJ1",3,null,null,null,"RJR","Wales",657]
["06F","RQX",3,null,null,null,"RJR","01F",198]
["06F","RWE",3,null,null,null,"RJR","02D",94]
["06F","RAS",2,null,null,null,"RJR","12F",46]
["06F","RD7",2,null,null,null,"RJR","01R",12]
["06F","RGP",2,null,null,null,"RJR","05N",12]
["06F","RGQ",2,null,null,null,"RJR","02E",3]
["06F","RKE",2,null,null,null,"RJR","99A",3]
["06F","RR1",2,null,null,null,"RJR","01N",2]
["06F","RV8",2,null,null,null,"RJR","00W",1]
["06F","RVV",2,null,null,null,"RJR","01T",1]
["06F","RWD",2,null,null,null,"RJR","03C",1]
["06F","RAL",1,null,null,null,"RJR","03T",1]
["06F","RBK",1,null,null,null,"RJR","03W",1]
["06F","RBZ",1,null,null,null,"RJR","07W",1]
["06F","RCD",1,null,null,null,"RJR","09D",1]
["06F","RCX",1,null,null,null,"RJR","99P",1]
["06F","RD3",1,null,null,null,"RJZ","08Q",2946]
["06F","RDD",1,null,null,null,"RJZ","08K",2252]
["06F","RDE",1,null,null,null,"RJZ","08L",702]
["06F","RF4",1,null,null,null,"RJZ","07V",300]
["06F","RHM",1,null,null,null,"RJZ","07Q",135]
["06F","RHU",1,null,null,null,"RJZ","08A",89]
["06F","RJ6",1,null,null,null,"RJZ","08X",50]
["06F","RJC",1,null,null,null,"RJZ","08M",17]
["06F","RJE",1,null,null,null,"RJZ","08R",15]
["06F","RJZ",1,null,null,null,"RJZ","07N",12]
["06F","RLN",1,null,null,null,"RJZ","99J",12]
["06F","RLT",1,null,null,null,"RJZ","08W",10]
["06F","RNJ",1,null,null,null,"RJZ","09W",10]
["06F","RNQ",1,null,null,null,"RJZ","99E",10]
["06F","RP5",1,null,null,null,"RJZ","09J",9]
["06F","RQM",1,null,null,null,"RJZ","07T",8]
["06F","RR8",1,null,null,null,"RJZ","07G",7]
["06F","RTE",1,null,null,null,"RJZ","07X",7]
["06F","RTP",1,null,null,null,"RJZ","07P",6]
["06F","RVR",1,null,null,null,"RJZ","08H",6]
["06F","RWF",1,null,null,null,"RJZ","08V",6]
["06F","RXL",1,null,null,null,"RJZ","08Y",6]
["06F","RXR",1,null,null,null,"RJZ","09A",6]
["06H","RGT",4289,null,null,null,"RJZ","07L",5]
["06H","RGN",3461,null,null,null,"RJZ","08J",5]
["06H","RQQ",2456,null,null,null,"RJZ","09F",5]
["06H","RCX",576,null,null,null,"RJZ","10D",5]
["06H","RGR",51,null,null,null,"RJZ","07M",4]
["06H","RWH",25,null,null,null,"RJZ","07R",4]
["06H","RNQ",21,null,null,null,"RJZ","08C",4]
["06H","RWE",16,null,null,null,"RJZ","08G",4]
["06H","RWD",14,null,null,null,"RJZ","08P",4]
["06H","RX1",11,null,null,null,"RJZ","06K",3]
["06H","RC1",10,null,null,null,"RJZ","06N",3]
["06H","RM1",8,null,null,null,"RJZ","06P",3]
["06H","RRV",8,null,null,null,"RJZ","06Q",3]
["06H","RC9",6,null,null,null,"RJZ","07Y",3]
["06H","RQW",6,null,null,null,"RJZ","08T",3]
["06H","RGP",4,null,null,null,"RJZ","10T",3]
["06H","RGQ",4,null,null,null,"RJZ","99G",3]
["06H","RK5",3,null,null,null,"RJZ","99H",3]
["06H","RVL",3,null,null,null,"RJZ","04C",2]
["06H","RAS",2,null,null,null,"RJZ","06A",2]
["06H","RBD",2,null,null,null,"RJZ","06T",2]
["06H","RDD",2,null,null,null,"RJZ","07H",2]
["06H","RKB",2,null,null,null,"RJZ","07W",2]
["06H","RNH",2,null,null,null,"RJZ","08D",2]
["06H","RPA",2,null,null,null,"RJZ","08F",2]
["06H","RQM",2,null,null,null,"RJZ","09D",2]
["06H","RQX",2,null,null,null,"RJZ","09H",2]
["06H","RTR",2,null,null,null,"RJZ","09L",2]
["06H","RYR",2,null,null,null,"RJZ","09X",2]
["06H","RAE",1,null,null,null,"RJZ","10E",2]
["06H","RAP",1,null,null,null,"RJZ","13P",2]
["06H","RCB",1,null,null,null,"RJZ","99A",2]
["06H","RCC",1,null,null,null,"RJZ","99N",2]
["06H","RCF",1,null,null,null,"RJZ","Wales",2]
["06H","RD3",1,null,null,null,"RJZ","00F",1]
["06H","RD8",1,null,null,null,"RJZ","00P",1]
["06H","RDE",1,null,null,null,"RJZ","00V",1]
["06H","RDU",1,null,null,null,"RJZ","01G",1]
["06H","REF",1,null,null,null,"RJZ","01N",1]
["06H","RH8",1,null,null,null,"RJZ","02D",1]
["06H","RJ1",1,null,null,null,"RJZ","02E",1]
["06H","RJ6",1,null,null,null,"RJZ","03Q",1]
["06H","RKE",1,null,null,null,"RJZ","05L",1]
["06H","RL4",1,null,null,null,"RJZ","05Y",1]
["06H","RM3",1,null,null,null,"RJZ","06F",1]
["06H","RN3",1,null,null,null,"RJZ","06L",1]
["06H","RNJ",1,null,null,null,"RJZ","08E",1]
["06H","RQ8",1,null,null,null,"RJZ","08N",1]
["06H","RR1",1,null,null,null,"RJZ","09G",1]
["06H","RRF",1,null,null,null,"RJZ","09P",1]
["06H","RV8",1,null,null,null,"RJZ","09Y",1]
["06H","RVR",1,null,null,null,"RJZ","10A",1]
["06H","RVW",1,null,null,null,"RJZ","10G",1]
["06H","RW3",1,null,null,null,"RJZ","10J",1]
["06H","RW6",1,null,null,null,"RJZ","10M",1]
["06H","RWA",1,null,null,null,"RJZ","10X",1]
["06H","RWJ",1,null,null,null,"RJZ","11C",1]
["06H","RWP",1,null,null,null,"RJZ","11H",1]
["06H","RXH",1,null,null,null,"RJZ","11M",1]
["06H","RXK",1,null,null,null,"RJZ","11T",1]
["06H","RXW",1,null,null,null,"RK5","04E",2509]
["06H","RYJ",1,null,null,null,"RK5","04H",747]
["06H","RYQ",1,null,null,null,"RK5","03Y",245]
["06K","RWH",4873,null,null,null,"RK5","04R",132]
["06K","RQW",1343,null,null,null,"RK5","04L",14]
["06K","RVL",447,null,null,null,"RK5","04M",10]
["06K","RGT",370,null,null,null,"RK5","04K",7]
["06K","RC9",30,null,null,null,"RK5","04J",6]
["06K","RRV",22,null,null,null,"RK5","06H",3]
["06K","RWG",21,null,null,null,"RK5","03C",2]
["06K","RAP",15,null,null,null,"RK5","04D",2]
["06K","RYJ",14,null,null,null,"RK5","04G",2]
["06K","RAL",12,null,null,null,"RK5","04Q",2]
["06K","RC1",10,null,null,null,"RK5","05A",2]
["06K","RKE",9,null,null,null,"RK5","05H",2]
["06K","RQM",9,null,null,null,"RK5","06K",2]
["06K","RQX",8,null,null,null,"RK5","02E",1]
["06K","RGC",5,null,null,null,"RK5","02Q",1]
["06K","RQ8",5,null,null,null,"RK5","03G",1]
["06K","RGP",4,null,null,null,"RK5","03L",1]
["06K","RF4",3,null,null,null,"RK5","03N",1]
["06K","RGR",3,null,null,null,"RK5","03T",1]
["06K","RJ1",3,null,null,null,"RK5","03W",1]
["06K","RJZ",3,null,null,null,"RK5","04V",1]
["06K","5QT",2,null,null,null,"RK5","07G",1]
["06K","RDE",2,null,null,null,"RK5","08C",1]
["06K","RJ2",2,null,null,null,"RK5","08G",1]
["06K","RJC",2,null,null,null,"RK5","10M",1]
["06K","RK5",2,null,null,null,"RK5","99N",1]
["06K","RNH",2,null,null,null,"RK5","Wales",1]
["06K","RNJ",2,null,null,null,"RK9","99P",4141]
["06K","RNQ",2,null,null,null,"RK9","11N",908]
["06K","RNS",2,null,null,null,"RK9","99Q",65]
["06K","RQQ",2,null,null,null,"RK9","11H",4]
["06K","RTK",2,null,null,null,"RK9","11X",3]
["06K","RVR",2,null,null,null,"RK9","Wales",3]
["06K","RVW",2,null,null,null,"RK9","04C",2]
["06K","RXH",2,null,null,null,"RK9","04V",2]
["06K","RAE",1,null,null,null,"RK9","11M",2]
["06K","RBD",1,null,null,null,"RK9","00D",1]
["06K","RCX",1,null,null,null,"RK9","01V",1]
["06K","RD3",1,null,null,null,"RK9","01W",1]
["06K","RD8",1,null,null,null,"RK9","03N",1]
["06K","RGN",1,null,null,null,"RK9","04R",1]
["06K","RGQ",1,null,null,null,"RK9","05H",1]
["06K","RHM",1,null,null,null,"RK9","05J",1]
["06K","RJ7",1,null,null,null,"RK9","05V",1]
["06K","RM1",1,null,null,null,"RK9","06A",1]
["06K","RN3",1,null,null,null,"RK9","06L",1]
["06K","RNZ",1,null,null,null,"RK9","06N",1]
["06K","RR1",1,null,null,null,"RK9","06V",1]
["06K","RTE",1,null,null,null,"RK9","08E",1]
["06K","RTH",1,null,null,null,"RK9","08Q",1]
["06K","RTP",1,null,null,null,"RK9","08W",1]
["06K","RTR",1,null,null,null,"RK9","08Y",1]
["06K","RV8",1,null,null,null,"RK9","09W",1]
["06K","RW6",1,null,null,null,"RK9","10H",1]
["06K","RWE",1,null,null,null,"RK9","10K",1]
["06K","RXQ",1,null,null,null,"RK9","11C",1]
["06K","RYR",1,null,null,null,"RK9","11E",1]
["06L","RGQ",3872,null,null,null,"RK9","11J",1]
["06L","RGR",337,null,null,null,"RK9","12D",1]
["06L","RM1",41,null,null,null,"RK9","99A",1]
["06L","RDE",28,null,null,null,"RK9","99N",1]
["06L","RGT",21,null,null,null,"RKB","05A",6154]
["06L","RGP",6,null,null,null,"RKB","05H",164]
["06L","RJ1",5,null,null,null,"RKB","04V",74]
["06L","RQM",3,null,null,null,"RKB","05R",61]
["06L","RYJ",3,null,null,null,"RKB","04G",47]
["06L","RCX",2,null,null,null,"RKB","05P",42]
["06L","RDD",2,null,null,null,"RKB","03W",34]
["06L","REP",2,null,null,null,"RKB","13P",14]
["06L","RF4",2,null,null,null,"RKB","04C",6]
["06L","RQW",2,null,null,null,"RKB","Wales",6]
["06L","RTH",2,null,null,null,"RKB","04D",3]
["06L","RTK",2,null,null,null,"RKB","04R",3]
["06L","RWD",2,null,null,null,"RKB","00R",2]
["06L","RAJ",1,null,null,null,"RKB","02V",2]
["06L","RBZ",1,null,null,null,"RKB","04F",2]
["06L","RC9",1,null,null,null,"RKB","05Q",2]
["06L","RHM",1,null,null,null,"RKB","06H",2]
["06L","RHU",1,null,null,null,"RKB","07M",2]
["06L","RJ6",1,null,null,null,"RKB","08L",2]
["06L","RJ7",1,null,null,null,"RKB","10H",2]
["06L","RJZ",1,null,null,null,"RKB","11M",2]
["06L","RK9",1,null,null,null,"RKB","00H",1]
["06L","RNH",1,null,null,null,"RKB","00L",1]
["06L","RNJ",1,null,null,null,"RKB","00Q",1]
["06L","RNL",1,null,null,null,"RKB","00W",1]
["06L","RPA",1,null,null,null,"RKB","00Y",1]
["06L","RQQ",1,null,null,null,"RKB","01R",1]
["06L","RQX",1,null,null,null,"RKB","02M",1]
["06L","RRV",1,null,null,null,"RKB","02W",1]
["06L","RV8",1,null,null,null,"RKB","03C",1]
["06L","RVL",1,null,null,null,"RKB","03F",1]
["06L","RVV",1,null,null,null,"RKB","03J",1]
["06L","RVW",1,null,null,null,"RKB","03R",1]
["06L","RXP",1,null,null,null,"RKB","03V",1]
["06L","RYQ",1,null,null,null,"RKB","04E",1]
["06M","RGP",2372,null,null,null,"RKB","04K",1]
["06M","RM1",212,null,null,null,"RKB","04X",1]
["06M","RGQ",22,null,null,null,"RKB","05C",1]
["06M","RCX",7,null,null,null,"RKB","05G",1]
["06M","RC9",4,null,null,null,"RKB","05L",1]
["06M","RDE",3,null,null,null,"RKB","05N",1]
["06M","RGR",3,null,null,null,"RKB","05W",1]
["06M","RQM",3,null,null,null,"RKB","05X",1]
["06M","RDD",2,null,null,null,"RKB","05Y",1]
["06M","RGT",2,null,null,null,"RKB","06N",1]
["06M","RC1",1,null,null,null,"RKB","07V",1]
["06M","RGN",1,null,null,null,"RKB","08A",1]
["06M","RNJ",1,null,null,null,"RKB","08E",1]
["06M","RNQ",1,null,null,null,"RKB","08F",1]
["06M","RNS",1,null,null,null,"RKB","08H",1]
["06M","RPA",1,null,null,null,"RKB","08J",1]
["06M","RQQ",1,null,null,null,"RKB","08M",1]
["06M","RQX",1,null,null,null,"RKB","08Q",1]
["06M","RR1",1,null,null,null,"RKB","09D",1]
["06M","RTK",1,null,null,null,"RKB","09F",1]
["06M","RVJ",1,null,null,null,"RKB","09L",1]
["06M","RVR",1,null,null,null,"RKB","10K",1]
["06M","RWH",1,null,null,null,"RKB","10Q",1]
["06M","RYJ",1,null,null,null,"RKB","10T",1]
["06M","RYQ",1,null,null,null,"RKB","11A",1]
["06N","RWG",5307,null,null,null,"RKB","11D",1]
["06N","RVL",733,null,null,null,"RKE","08D",2079]
["06N","RC9",586,null,null,null,"RKE","08H",1488]
["06N","RWH",583,null,null,null,"RKE","07M",388]
["06N","RXQ",497,null,null,null,"RKE","07T",294]
["06N","RRV",58,null,null,null,"RKE","07X",206]
["06N","RYJ",48,null,null,null,"RKE","07R",124]
["06N","RV8",35,null,null,null,"RKE","08W",34]
["06N","RAL",26,null,null,null,"RKE","07P",23]
["06N","RKE",14,null,null,null,"RKE","06N",14]
["06N","RAS",12,null,null,null,"RKE","08V",10]
["06N","RGT",11,null,null,null,"RKE","06K",9]
["06N","RJ1",8,null,null,null,"RKE","08M",9]
["06N","RQM",7,null,null,null,"RKE","09A",7]
["06N","RTH",7,null,null,null,"RKE","08K",6]
["06N","RD7",6,null,null,null,"RKE","08Y",6]
["06N","RVV",6,null,null,null,"RKE","08Q",5]
["06N","REF",5,null,null,null,"RKE","07V",4]
["06N","RVR",4,null,null,null,"RKE","07W",4]
["06N","RJZ",3,null,null,null,"RKE","08L",4]
["06N","5QT",2,null,null,null,"RKE","08N",4]
["06N","RC1",2,null,null,null,"RKE","07G",3]
["06N","RC3",2,null,null,null,"RKE","08E",3]
["06N","RCX",2,null,null,null,"RKE","08P",3]
["06N","RD3",2,null,null,null,"RKE","13P",3]
["06N","RDE",2,null,null,null,"RKE","01X",2]
["06N","RGQ",2,null,null,null,"RKE","06F",2]
["06N","RM1",2,null,null,null,"RKE","06T",2]
["06N","RQW",2,null,null,null,"RKE","07N",2]
["06N","RTK",2,null,null,null,"RKE","07Y",2]
["06N","RA2",1,null,null,null,"RKE","08A",2]
["06N","RA4",1,null,null,null,"RKE","08F",2]
["06N","RA7",1,null,null,null,"RKE","08G",2]
["06N","RAJ",1,null,null,null,"RKE","08J",2]
["06N","RCC",1,null,null,null,"RKE","08X",2]
["06N","RCF",1,null,null,null,"RKE","10Q",2]
["06N","RF4",1,null,null,null,"RKE","99A",2]
["06N","RFF",1,null,null,null,"RKE","00N",1]
["06N","RFS",1,null,null,null,"RKE","01G",1]
["06N","RGC",1,null,null,null,"RKE","01M",1]
["06N","RGN",1,null,null,null,"RKE","01N",1]
["06N","RHQ",1,null,null,null,"RKE","02D",1]
["06N","RJ2",1,null,null,null,"RKE","02R",1]
["06N","RJ7",1,null,null,null,"RKE","02V",1]
["06N","RK9",1,null,null,null,"RKE","03N",1]
["06N","RKB",1,null,null,null,"RKE","04F",1]
["06N","RLU",1,null,null,null,"RKE","04L",1]
["06N","RM2",1,null,null,null,"RKE","04M",1]
["06N","RN5",1,null,null,null,"RKE","04Q",1]
["06N","RNJ",1,null,null,null,"RKE","04R",1]
["06N","RNQ",1,null,null,null,"RKE","05P",1]
["06N","RNS",1,null,null,null,"RKE","05Y",1]
["06N","RP5",1,null,null,null,"RKE","06H",1]
["06N","RQ8",1,null,null,null,"RKE","06P",1]
["06N","RQQ",1,null,null,null,"RKE","07L",1]
["06N","RQX",1,null,null,null,"RKE","08C",1]
["06N","RR1",1,null,null,null,"RKE","08R",1]
["06N","RTE",1,null,null,null,"RKE","09E",1]
["06N","RTG",1,null,null,null,"RKE","09H",1]
["06N","RW3",1,null,null,null,"RKE","09P",1]
["06N","RX1",1,null,null,null,"RKE","10D",1]
["06N","RXC",1,null,null,null,"RKE","10G",1]
["06N","RXH",1,null,null,null,"RKE","11C",1]
["06N","RYQ",1,null,null,null,"RKE","11J",1]
["06P","RC9",3723,null,null,null,"RKE","99K",1]
["06P","RWH",18,null,null,null,"RKE","Wales",1]
["06P","RC1",11,null,null,null,"RL1","Wales",1]
["06P","RWG",7,null,null,null,"RL4","06A",3619]
["06P","RRV",6,null,null,null,"RL4","05Y",319]
["06P","RV8",4,null,null,null,"RL4","05Q",289]
["06P","RYJ",4,null,null,null,"RL4","04Y",92]
["06P","RAL",3,null,null,null,"RL4","05C",86]
["06P","RJ1",3,null,null,null,"RL4","05V",75]
["06P","RJZ",3,null,null,null,"RL4","05L",55]
["06P","RAE",2,null,null,null,"RL4","05N",18]
["06P","RC3",2,null,null,null,"RL4","05X",13]
["06P","RD8",2,null,null,null,"RL4","13P",13]
["06P","RNH",2,null,null,null,"RL4","05W",9]
["06P","RNJ",2,null,null,null,"RL4","05R",4]
["06P","RQX",2,null,null,null,"RL4","04X",3]
["06P","RVL",2,null,null,null,"RL4","05G",3]
["06P","RWE",2,null,null,null,"RL4","05J",3]
["06P","RAS",1,null,null,null,"RL4","00V",2]
["06P","RFW",1,null,null,null,"RL4","03W",2]
["06P","RGP",1,null,null,null,"RL4","04H",2]
["06P","RGR",1,null,null,null,"RL4","05F",2]
["06P","RGT",1,null,null,null,"RL4","05H",2]
["06P","RJ6",1,null,null,null,"RL4","05P",2]
["06P","RKE",1,null,null,null,"RL4","05T",2]
["06P","RL4",1,null,null,null,"RL4","11M",2]
["06P","RM3",1,null,null,null,"RL4","11X",2]
["06P","RTH",1,null,null,null,"RL4","Wales",2]
["06P","RTP",1,null,null,null,"RL4","00R",1]
["06P","RW3",1,null,null,null,"RL4","01D",1]
["06P","RWF",1,null,null,null,"RL4","01G",1]
["06P","RWY",1,null,null,null,"RL4","01J",1]
["06P","RXQ",1,null,null,null,"RL4","01N",1]
["06P","RXR",1,null,null,null,"RL4","02F",1]
["06Q","RQ8",3363,null,null,null,"RL4","02T",1]
["06Q","RDE",458,null,null,null,"RL4","02W",1]
["06Q","RGT",32,null,null,null,"RL4","02X",1]
["06Q","RDD",15,null,null,null,"RL4","04D",1]
["06Q","RAJ",11,null,null,null,"RL4","04E",1]
["06Q","RRV",9,null,null,null,"RL4","04G",1]
["06Q","RQW",8,null,null,null,"RL4","04K",1]
["06Q","RC9",7,null,null,null,"RL4","04L",1]
["06Q","RGR",7,null,null,null,"RL4","04R",1]
["06Q","RF4",4,null,null,null,"RL4","04V",1]
["06Q","RNJ",4,null,null,null,"RL4","05A",1]
["06Q","RQX",4,null,null,null,"RL4","05D",1]
["06Q","RJZ",3,null,null,null,"RL4","06D",1]
["06Q","RYQ",3,null,null,null,"RL4","06H",1]
["06Q","RCX",2,null,null,null,"RL4","06P",1]
["06Q","REF",2,null,null,null,"RL4","06Y",1]
["06Q","RGQ",2,null,null,null,"RL4","07M",1]
["06Q","RM1",2,null,null,null,"RL4","07Y",1]
["06Q","RNH",2,null,null,null,"RL4","08A",1]
["06Q","RQM",2,null,null,null,"RL4","08D",1]
["06Q","RVL",2,null,null,null,"RL4","08K",1]
["06Q","RYJ",2,null,null,null,"RL4","08M",1]
["06Q","5PX",1,null,null,null,"RL4","08W",1]
["06Q","RAL",1,null,null,null,"RL4","08X",1]
["06Q","RAP",1,null,null,null,"RL4","09J",1]
["06Q","RCD",1,null,null,null,"RL4","10E",1]
["06Q","RD8",1,null,null,null,"RL4","10L",1]
["06Q","REP",1,null,null,null,"RL4","10N",1]
["06Q","RGC",1,null,null,null,"RL4","11T",1]
["06Q","RGP",1,null,null,null,"RL4","12F",1]
["06Q","RH8",1,null,null,null,"RL4","99E",1]
["06Q","RJ7",1,null,null,null,"RL4","99H",1]
["06Q","RMC",1,null,null,null,"RLN","00P",2957]
["06Q","RNL",1,null,null,null,"RLN","00D",575]
["06Q","RVR",1,null,null,null,"RLN","00N",41]
["06Q","RVV",1,null,null,null,"RLN","00J",40]
["06Q","RWF",1,null,null,null,"RLN","00F",10]
["06Q","RWG",1,null,null,null,"RLN","00K",5]
["06Q","RWH",1,null,null,null,"RLN","00L",4]
["06Q","RXK",1,null,null,null,"RLN","01H",2]
["06T","RDE",3720,null,null,null,"RLN","99C",2]
["06T","RGQ",31,null,null,null,"RLN","00G",1]
["06T","RQ8",22,null,null,null,"RLN","00H",1]
["06T","RDD",6,null,null,null,"RLN","01M",1]
["06T","RRV",6,null,null,null,"RLN","02D",1]
["06T","RGR",5,null,null,null,"RLN","02P",1]
["06T","RGT",5,null,null,null,"RLN","03G",1]
["06T","RYJ",4,null,null,null,"RLN","05Y",1]
["06T","RC9",3,null,null,null,"RLN","06F",1]
["06T","RNJ",3,null,null,null,"RLN","07W",1]
["06T","RQX",3,null,null,null,"RLN","11A",1]
["06T","RCX",2,null,null,null,"RLQ","05F",1978]
["06T","RJ1",2,null,null,null,"RLQ","Wales",208]
["06T","RJZ",2,null,null,null,"RLQ","05T",35]
["06T","RKE",2,null,null,null,"RLQ","05N",34]
["06T","RM1",2,null,null,null,"RLQ","11M",14]
["06T","RNH",2,null,null,null,"RLQ","05P",2]
["06T","RQM",2,null,null,null,"RLQ","05W",2]
["06T","RR8",2,null,null,null,"RLQ","99N",2]
["06T","RA7",1,null,null,null,"RLQ","01C",1]
["06T","RAJ",1,null,null,null,"RLQ","03E",1]
["06T","RAP",1,null,null,null,"RLQ","03J",1]
["06T","RFF",1,null,null,null,"RLQ","03X",1]
["06T","RFR",1,null,null,null,"RLQ","04G",1]
["06T","RGC",1,null,null,null,"RLQ","04R",1]
["06T","RGP",1,null,null,null,"RLQ","04X",1]
["06T","RHW",1,null,null,null,"RLQ","05C",1]
["06T","RJ6",1,null,null,null,"RLQ","05D",1]
["06T","RLQ",1,null,null,null,"RLQ","05H",1]
["06T","RM2",1,null,null,null,"RLQ","05L",1]
["06T","RPA",1,null,null,null,"RLQ","05X",1]
["06T","RQW",1,null,null,null,"RLQ","06D",1]
["06T","RTH",1,null,null,null,"RLQ","06T",1]
["06T","RXC",1,null,null,null,"RLQ","11A",1]
["06T","RXP",1,null,null,null,"RLQ","11D",1]
["06V","RM1",1369,null,null,null,"RLQ","11H",1]
["06V","RCX",96,null,null,null,"RLQ","12A",1]
["06V","RGP",29,null,null,null,"RLQ","12D",1]
["06V","RGN",2,null,null,null,"RLT","05H",1911]
["06V","RGQ",1,null,null,null,"RLT","04V",374]
["06V","RGT",1,null,null,null,"RLT","05A",210]
["06V","RHQ",1,null,null,null,"RLT","05Q",24]
["06V","RJ1",1,null,null,null,"RLT","03W",12]
["06V","RJ2",1,null,null,null,"RLT","05P",4]
["06V","RK9",1,null,null,null,"RLT","04C",3]
["06V","RNJ",1,null,null,null,"RLT","04G",3]
["06V","RRV",1,null,null,null,"RLT","13P",3]
["06V","RTE",1,null,null,null,"RLT","10Q",2]
["06V","RVR",1,null,null,null,"RLT","00R",1]
["06V","RYJ",1,null,null,null,"RLT","02R",1]
["06W","RM1",2656,null,null,null,"RLT","02X",1]
["06W","RGP",13,null,null,null,"RLT","04K",1]
["06W","RCX",5,null,null,null,"RLT","04R",1]
["06W","RGT",3,null,null,null,"RLT","06F",1]
["06W","RGR",2,null,null,null,"RLT","12F",1]
["06W","RQ8",2,null,null,null,"RLT","Wales",1]
["06W","RDD",1,null,null,null,"RLU","04X",3008]
["06W","RDE",1,null,null,null,"RLU","13P",2914]
["06W","RGQ",1,null,null,null,"RLU","05L",1002]
["06W","RHM",1,null,null,null,"RLU","05J",193]
["06W","RJ2",1,null,null,null,"RLU","05P",138]
["06W","RMC",1,null,null,null,"RLU","05C",131]
["06W","RN3",1,null,null,null,"RLU","05Y",39]
["06W","RNH",1,null,null,null,"RLU","05R",24]
["06W","RP5",1,null,null,null,"RLU","06D",20]
["06W","RR1",1,null,null,null,"RLU","05H",16]
["06W","RR7",1,null,null,null,"RLU","05Q",16]
["06W","RR8",1,null,null,null,"RLU","05T",15]
["06W","RRV",1,null,null,null,"RLU","04Y",13]
["06W","RX1",1,null,null,null,"RLU","05A",9]
["06W","RYJ",1,null,null,null,"RLU","06A",9]
["06Y","RM1",2023,null,null,null,"RLU","05F",8]
["06Y","RGR",389,null,null,null,"RLU","05W",8]
["06Y","RCX",23,null,null,null,"RLU","04G",7]
["06Y","RGP",15,null,null,null,"RLU","11M",7]
["06Y","RGQ",5,null,null,null,"RLU","04R",6]
["06Y","RGT",5,null,null,null,"RLU","05V",6]
["06Y","RWF",2,null,null,null,"RLU","10Q",6]
["06Y","RC1",1,null,null,null,"RLU","04V",5]
["06Y","RC9",1,null,null,null,"RLU","05D",5]
["06Y","RD7",1,null,null,null,"RLU","05N",4]
["06Y","RDD",1,null,null,null,"RLU","Wales",4]
["06Y","RDU",1,null,null,null,"RLU","02R",3]
["06Y","RF4",1,null,null,null,"RLU","05G",3]
["06Y","RGN",1,null,null,null,"RLU","05X",3]
["06Y","RJ7",1,null,null,null,"RLU","01W",2]
["06Y","RJF",1,null,null,null,"RLU","02D",2]
["06Y","RL4",1,null,null,null,"RLU","02V",2]
["06Y","RNJ",1,null,null,null,"RLU","04D",2]
["06Y","RNQ",1,null,null,null,"RLU","04K",2]
["06Y","RQX",1,null,null,null,"RLU","07R",2]
["06Y","RWD",1,null,null,null,"RLU","00V",1]
["06Y","RWE",1,null,null,null,"RLU","00W",1]
["07G","RDD",2181,null,null,null,"RLU","01G",1]
["07G","RN7",202,null,null,null,"RLU","01N",1]
["07G","RF4",113,null,null,null,"RLU","01X",1]
["07G","RAJ",27,null,null,null,"RLU","02E",1]
["07G","RQ8",12,null,null,null,"RLU","02F",1]
["07G","RNH",11,null,null,null,"RLU","02H",1]
["07G","RJZ",7,null,null,null,"RLU","02P",1]
["07G","RNJ",7,null,null,null,"RLU","02W",1]
["07G","RQX",7,null,null,null,"RLU","02Y",1]
["07G","RJ1",5,null,null,null,"RLU","03E",1]
["07G","RRV",4,null,null,null,"RLU","03H",1]
["07G","RYQ",4,null,null,null,"RLU","03J",1]
["07G","RKE",3,null,null,null,"RLU","04E",1]
["07G","RC9",2,null,null,null,"RLU","04F",1]
["07G","RGC",2,null,null,null,"RLU","04M",1]
["07G","RPA",2,null,null,null,"RLU","04N",1]
["07G","RQM",2,null,null,null,"RLU","06N",1]
["07G","RVL",2,null,null,null,"RLU","07P",1]
["07G","RVV",2,null,null,null,"RLU","07X",1]
["07G","RYJ",2,null,null,null,"RLU","08N",1]
["07G","RAP",1,null,null,null,"RLU","09F",1]
["07G","RFF",1,null,null,null,"RLU","09G",1]
["07G","RFW",1,null,null,null,"RLU","09L",1]
["07G","RGP",1,null,null,null,"RLU","11X",1]
["07G","RGQ",1,null,null,null,"RLU","12F",1]
["07G","RGT",1,null,null,null,"RM1","06W",2656]
["07G","RJ2",1,null,null,null,"RM1","06Y",2023]
["07G","RJ7",1,null,null,null,"RM1","06V",1369]
["07G","RK5",1,null,null,null,"RM1","06M",212]
["07G","RM1",1,null,null,null,"RM1","07J",65]
["07G","RW6",1,null,null,null,"RM1","06L",41]
["07G","RWH",1,null,null,null,"RM1","07K",9]
["07H","RQW",2466,null,null,null,"RM1","06H",8]
["07H","RGT",477,null,null,null,"RM1","06F",4]
["07H","RGC",159,null,null,null,"RM1","03K",2]
["07H","RQ8",143,null,null,null,"RM1","04F",2]
["07H","RF4",79,null,null,null,"RM1","04G",2]
["07H","RRV",11,null,null,null,"RM1","06N",2]
["07H","RVL",9,null,null,null,"RM1","06Q",2]
["07H","RDE",8,null,null,null,"RM1","06T",2]
["07H","RNJ",7,null,null,null,"RM1","99E",2]
["07H","RC9",6,null,null,null,"RM1","Wales",2]
["07H","RDD",6,null,null,null,"RM1","00K",1]
["07H","RQX",6,null,null,null,"RM1","02R",1]
["07H","RNH",4,null,null,null,"RM1","02T",1]
["07H","RWG",4,null,null,null,"RM1","02V",1]
["07H","RWH",4,null,null,null,"RM1","03N",1]
["07H","RYJ",4,null,null,null,"RM1","03R",1]
["07H","RAP",3,null,null,null,"RM1","03T",1]
["07H","RJ1",3,null,null,null,"RM1","04C",1]
["07H","RYQ",3,null,null,null,"RM1","04E",1]
["07H","RAJ",2,null,null,null,"RM1","05J",1]
["07H","RAL",2,null,null,null,"RM1","06K",1]
["07H","RD8",2,null,null,null,"RM1","07G",1]
["07H","RGR",2,null,null,null,"RM1","07X",1]
["07H","RJZ",2,null,null,null,"RM1","08A",1]
["07H","RQM",2,null,null,null,"RM1","08E",1]
["07H","RQQ",2,null,null,null,"RM1","08G",1]
["07H","RA9",1,null,null,null,"RM1","08H",1]
["07H","REF",1,null,null,null,"RM1","08N",1]
["07H","RGP",1,null,null,null,"RM1","08P",1]
["07H","RHW",1,null,null,null,"RM1","08V",1]
["07H","RJ7",1,null,null,null,"RM1","10D",1]
["07H","RJC",1,null,null,null,"RM1","10L",1]
["07H","RJE",1,null,null,null,"RM1","11A",1]
["07H","RN3",1,null,null,null,"RM1","11M",1]
["07H","RTE",1,null,null,null,"RM1","12D",1]
["07H","RV8",1,null,null,null,"RM1","13P",1]
["07H","RWE",1,null,null,null,"RM1","99A",1]
["07H","RXC",1,null,null,null,"RM1","99D",1]
["07H","RXP",1,null,null,null,"RM1","99J",1]
["07J","RCX",1655,null,null,null,"RM2","02A",1911]
["07J","RM1",65,null,null,null,"RM2","01N",1545]
["07J","RGR",25,null,null,null,"RM2","01W",263]
["07J","RGT",16,null,null,null,"RM2","00W",195]
["07J","RGN",2,null,null,null,"RM2","01C",138]
["07J","RQQ",2,null,null,null,"RM2","01G",20]
["07J","RVL",2,null,null,null,"RM2","02E",20]
["07J","RGP",1,null,null,null,"RM2","01Y",17]
["07J","RGQ",1,null,null,null,"RM2","02D",14]
["07J","RJ1",1,null,null,null,"RM2","01M",9]
["07J","RNQ",1,null,null,null,"RM2","00T",5]
["07J","RWD",1,null,null,null,"RM2","00Y",5]
["07J","RWH",1,null,null,null,"RM2","02H",5]
["07J","RXF",1,null,null,null,"RM2","01D",4]
["07J","RYR",1,null,null,null,"RM2","05W",4]
["07K","RGR",1821,null,null,null,"RM2","00V",3]
["07K","RGT",606,null,null,null,"RM2","01R",3]
["07K","RDE",44,null,null,null,"RM2","Wales",3]
["07K","RM1",9,null,null,null,"RM2","01F",2]
["07K","RGQ",8,null,null,null,"RM2","01K",2]
["07K","RQQ",5,null,null,null,"RM2","00Q",1]
["07K","RCX",3,null,null,null,"RM2","01A",1]
["07K","RGP",3,null,null,null,"RM2","01E",1]
["07K","RDD",2,null,null,null,"RM2","01X",1]
["07K","RQ8",2,null,null,null,"RM2","02F",1]
["07K","RYQ",2,null,null,null,"RM2","02M",1]
["07K","RAS",1,null,null,null,"RM2","02T",1]
["07K","RCB",1,null,null,null,"RM2","03G",1]
["07K","RD8",1,null,null,null,"RM2","03H",1]
["07K","REP",1,null,null,null,"RM2","03N",1]
["07K","RGN",1,null,null,null,"RM2","04D",1]
["07K","RJ1",1,null,null,null,"RM2","04J",1]
["07K","RJ7",1,null,null,null,"RM2","04K",1]
["07K","RNL",1,null,null,null,"RM2","04V",1]
["07K","RQW",1,null,null,null,"RM2","05V",1]
["07K","RXP",1,null,null,null,"RM2","06N",1]
["07K","RYJ",1,null,null,null,"RM2","06T",1]
["07K","RYR",1,null,null,null,"RM2","11T",1]
["07L","RF4",3167,null,null,null,"RM2","13P",1]
["07L","RNH",54,null,null,null,"RM2","99A",1]
["07L","RNJ",33,null,null,null,"RM2","99N",1]
["07L","RQX",31,null,null,null,"RM3","01G",4019]
["07L","RDD",17,null,null,null,"RM3","02H",288]
["07L","RGC",14,null,null,null,"RM3","00V",210]
["07L","RJ1",11,null,null,null,"RM3","02A",118]
["07L","RQM",10,null,null,null,"RM3","01M",88]
["07L","RYQ",10,null,null,null,"RM3","00T",49]
["07L","RRV",7,null,null,null,"RM3","00W",39]
["07L","RJZ",5,null,null,null,"RM3","00Y",20]
["07L","RYJ",5,null,null,null,"RM3","01D",19]
["07L","RAJ",4,null,null,null,"RM3","02E",19]
["07L","RJ2",3,null,null,null,"RM3","01N",16]
["07L","RAL",2,null,null,null,"RM3","01Y",13]
["07L","RAP",2,null,null,null,"RM3","01A",7]
["07L","RC9",2,null,null,null,"RM3","01W",7]
["07L","RJ6",2,null,null,null,"RM3","00X",6]
["07L","RQ8",2,null,null,null,"RM3","01X",6]
["07L","RVL",2,null,null,null,"RM3","01C",4]
["07L","RWF",2,null,null,null,"RM3","02T",4]
["07L","RAX",1,null,null,null,"RM3","Wales",4]
["07L","RBK",1,null,null,null,"RM3","00Q",3]
["07L","RD8",1,null,null,null,"RM3","00R",3]
["07L","RDE",1,null,null,null,"RM3","01H",3]
["07L","RHW",1,null,null,null,"RM3","01R",2]
["07L","RKE",1,null,null,null,"RM3","02G",2]
["07L","RN7",1,null,null,null,"RM3","02R",2]
["07L","RQW",1,null,null,null,"RM3","03A",2]
["07L","RTD",1,null,null,null,"RM3","04J",2]
["07L","RTG",1,null,null,null,"RM3","02M",1]
["07L","RV8",1,null,null,null,"RM3","02V",1]
["07L","RVJ",1,null,null,null,"RM3","02X",1]
["07L","RW6",1,null,null,null,"RM3","03C",1]
["07L","RXH",1,null,null,null,"RM3","03E",1]
["07L","RXR",1,null,null,null,"RM3","03F",1]
["07M","RVL",2690,null,null,null,"RM3","03G",1]
["07M","RAL",1401,null,null,null,"RM3","03J",1]
["07M","RRV",481,null,null,null,"RM3","04V",1]
["07M","RKE",388,null,null,null,"RM3","05L",1]
["07M","RV8",206,null,null,null,"RM3","05W",1]
["07M","RWG",165,null,null,null,"RM3","06A",1]
["07M","RYJ",142,null,null,null,"RM3","06H",1]
["07M","RJ1",22,null,null,null,"RM3","06P",1]
["07M","RAP",17,null,null,null,"RM3","08A",1]
["07M","RQM",17,null,null,null,"RM3","08D",1]
["07M","RQX",15,null,null,null,"RM3","08G",1]
["07M","RWH",9,null,null,null,"RM3","08M",1]
["07M","RJ2",4,null,null,null,"RM3","08Y",1]
["07M","RJZ",4,null,null,null,"RM3","09D",1]
["07M","RYQ",4,null,null,null,"RM3","09H",1]
["07M","RAX",3,null,null,null,"RM3","11J",1]
["07M","RD8",3,null,null,null,"RM3","12F",1]
["07M","RGC",3,null,null,null,"RM3","13P",1]
["07M","RVR",3,null,null,null,"RM3","99N",1]
["07M","RW3",3,null,null,null,"RMC","00T",4222]
["07M","RXQ",3,null,null,null,"RMC","02H",603]
["07M","RC3",2,null,null,null,"RMC","01G",290]
["07M","RJ6",2,null,null,null,"RMC","00V",136]
["07M","RKB",2,null,null,null,"RMC","00X",25]
["07M","RNJ",2,null,null,null,"RMC","01D",5]
["07M","RTK",2,null,null,null,"RMC","02A",5]
["07M","RBA",1,null,null,null,"RMC","00Q",3]
["07M","RBL",1,null,null,null,"RMC","01X",3]
["07M","RC9",1,null,null,null,"RMC","01Y",2]
["07M","RCC",1,null,null,null,"RMC","00G",1]
["07M","RDU",1,null,null,null,"RMC","00M",1]
["07M","RF4",1,null,null,null,"RMC","00W",1]
["07M","RFS",1,null,null,null,"RMC","01A",1]
["07M","RFW",1,null,null,null,"RMC","01E",1]
["07M","RJ7",1,null,null,null,"RMC","01H",1]
["07M","RL4",1,null,null,null,"RMC","01M",1]
["07M","RN7",1,null,null,null,"RMC","01N",1]
["07M","RNH",1,null,null,null,"RMC","01W",1]
["07M","RNQ",1,null,null,null,"RMC","02E",1]
["07M","RPA",1,null,null,null,"RMC","02M",1]
["07M","RR1",1,null,null,null,"RMC","02Y",1]
["07M","RR8",1,null,null,null,"RMC","03A",1]
["07M","RVJ",1,null,null,null,"RMC","03F",1]
["07M","RWJ",1,null,null,null,"RMC","03L",1]
["07M","RXH",1,null,null,null,"RMC","03R",1]
["07N","RYQ",2317,null,null,null,"RMC","05Y",1]
["07N","RN7",683,null,null,null,"RMC","06Q",1]
["07N","RJ2",32,null,null,null,"RMC","06W",1]
["07N","RJ1",16,null,null,null,"RMC","08H",1]
["07N","RJZ",12,null,null,null,"RMC","08M",1]
["07N","RQX",7,null,null,null,"RMC","08N",1]
["07N","RNJ",5,null,null,null,"RMC","08Q",1]
["07N","RPA",5,null,null,null,"RMC","08V",1]
["07N","RYJ",5,null,null,null,"RMC","08X",1]
["07N","RRV",4,null,null,null,"RMC","09F",1]
["07N","RVV",4,null,null,null,"RMC","09N",1]
["07N","RQM",3,null,null,null,"RMP","01Y",2535]
["07N","RAL",2,null,null,null,"RMP","00Y",179]
["07N","RKE",2,null,null,null,"RMP","01M",83]
["07N","RTK",2,null,null,null,"RMP","01W",8]
["07N","RWF",2,null,null,null,"RMP","00W",4]
["07N","RBD",1,null,null,null,"RMP","01D",3]
["07N","RC9",1,null,null,null,"RMP","01G",3]
["07N","RCX",1,null,null,null,"RMP","02A",3]
["07N","RGC",1,null,null,null,"RMP","00V",2]
["07N","RGR",1,null,null,null,"RMP","01N",2]
["07N","RHW",1,null,null,null,"RMP","00R",1]
["07N","RJ6",1,null,null,null,"RMP","01C",1]
["07N","RJ7",1,null,null,null,"RMP","03A",1]
["07N","RNA",1,null,null,null,"RMP","04D",1]
["07N","RNH",1,null,null,null,"RMP","07V",1]
["07N","RTG",1,null,null,null,"RMP","11H",1]
["07N","RTH",1,null,null,null,"RN1","11A",2572]
["07N","RTR",1,null,null,null,"RN1","10J",59]
["07N","RV8",1,null,null,null,"RN1","99N",34]
["07N","RVL",1,null,null,null,"RN1","10K",29]
["07N","RVR",1,null,null,null,"RN1","10X",25]
["07N","RWA",1,null,null,null,"RN1","11J",12]
["07N","RWE",1,null,null,null,"RN1","10M",8]
["07P","RV8",2787,null,null,null,"RN1","10V",7]
["07P","RYJ",2177,null,null,null,"RN1","10R",5]
["07P","RAL",364,null,null,null,"RN1","09G",2]
["07P","RVL",170,null,null,null,"RN1","09N",2]
["07P","RRV",99,null,null,null,"RN1","04F",1]
["07P","RC3",47,null,null,null,"RN1","04G",1]
["07P","RQM",44,null,null,null,"RN1","06A",1]
["07P","RKE",23,null,null,null,"RN1","07Y",1]
["07P","RWG",16,null,null,null,"RN1","08T",1]
["07P","RJ1",14,null,null,null,"RN1","09Y",1]
["07P","RAS",10,null,null,null,"RN1","10H",1]
["07P","RAP",9,null,null,null,"RN1","10N",1]
["07P","RJZ",6,null,null,null,"RN1","11C",1]
["07P","RNJ",6,null,null,null,"RN1","11D",1]
["07P","RQX",6,null,null,null,"RN1","11T",1]
["07P","RF4",4,null,null,null,"RN1","12A",1]
["07P","RJ2",4,null,null,null,"RN3","12D",2939]
["07P","RC9",2,null,null,null,"RN3","99N",978]
["07P","RGT",2,null,null,null,"RN3","10M",195]
["07P","RJ7",2,null,null,null,"RN3","11M",140]
["07P","RNH",2,null,null,null,"RN3","10Q",50]
["07P","RXK",2,null,null,null,"RN3","08X",3]
["07P","RA2",1,null,null,null,"RN3","10N",3]
["07P","RAJ",1,null,null,null,"RN3","Wales",3]
["07P","RAX",1,null,null,null,"RN3","10W",2]
["07P","RBL",1,null,null,null,"RN3","11A",2]
["07P","RBZ",1,null,null,null,"RN3","11J",2]
["07P","RCF",1,null,null,null,"RN3","12A",2]
["07P","RD3",1,null,null,null,"RN3","03K",1]
["07P","RD7",1,null,null,null,"RN3","03Q",1]
["07P","RD8",1,null,null,null,"RN3","05Y",1]
["07P","RDU",1,null,null,null,"RN3","06H",1]
["07P","RFW",1,null,null,null,"RN3","06K",1]
["07P","RGC",1,null,null,null,"RN3","06W",1]
["07P","RGP",1,null,null,null,"RN3","07H",1]
["07P","RGQ",1,null,null,null,"RN3","07X",1]
["07P","RHQ",1,null,null,null,"RN3","09Y",1]
["07P","RJ6",1,null,null,null,"RN3","10X",1]
["07P","RJE",1,null,null,null,"RN3","11H",1]
["07P","RLU",1,null,null,null,"RN3","99Q",1]
["07P","RNQ",1,null,null,null,"RN5","10J",2315]
["07P","RNS",1,null,null,null,"RN5","10M",473]
["07P","RTG",1,null,null,null,"RN5","11A",87]
["07P","RTH",1,null,null,null,"RN5","10V",48]
["07P","RW3",1,null,null,null,"RN5","10N",45]
["07P","RX1",1,null,null,null,"RN5","11D",15]
["07P","RXF",1,null,null,null,"RN5","99M",10]
["07P","RXR",1,null,null,null,"RN5","10W",8]
["07Q","RYQ",3887,null,null,null,"RN5","11J",3]
["07Q","RJZ",135,null,null,null,"RN5","99N",3]
["07Q","RJ2",114,null,null,null,"RN5","10X",2]
["07Q","RJ1",53,null,null,null,"RN5","99P",2]
["07Q","RJ6",34,null,null,null,"RN5","05L",1]
["07Q","RQM",14,null,null,null,"RN5","06N",1]
["07Q","RJ7",13,null,null,null,"RN5","07W",1]
["07Q","RN7",11,null,null,null,"RN5","08J",1]
["07Q","RRV",9,null,null,null,"RN5","08P",1]
["07Q","RWF",9,null,null,null,"RN5","09G",1]
["07Q","RNJ",6,null,null,null,"RN5","09N",1]
["07Q","RTK",6,null,null,null,"RN5","09Y",1]
["07Q","RYJ",3,null,null,null,"RN5","10G",1]
["07Q","RC9",2,null,null,null,"RN5","11C",1]
["07Q","RPA",2,null,null,null,"RN5","11M",1]
["07Q","RTH",2,null,null,null,"RN5","12D",1]
["07Q","RVR",2,null,null,null,"RN7","09J",3030]
["07Q","RVV",2,null,null,null,"RN7","07N",683]
["07Q","RXH",2,null,null,null,"RN7","07G",202]
["07Q","RA4",1,null,null,null,"RN7","09W",110]
["07Q","RAJ",1,null,null,null,"RN7","08A",74]
["07Q","RAL",1,null,null,null,"RN7","99J",54]
["07Q","RAS",1,null,null,null,"RN7","07Q",11]
["07Q","RD3",1,null,null,null,"RN7","08F",9]
["07Q","RGC",1,null,null,null,"RN7","08Q",5]
["07Q","RGT",1,null,null,null,"RN7","08L",4]
["07Q","RH8",1,null,null,null,"RN7","08M",4]
["07Q","RHW",1,null,null,null,"RN7","99E",4]
["07Q","RJF",1,null,null,null,"RN7","07T",3]
["07Q","RR1",1,null,null,null,"RN7","10D",3]
["07Q","RTP",1,null,null,null,"RN7","08W",2]
["07Q","RWP",1,null,null,null,"RN7","99H",2]
["07R","RRV",1579,null,null,null,"RN7","04Q",1]
["07R","RAL",919,null,null,null,"RN7","07L",1]
["07R","RYJ",315,null,null,null,"RN7","07M",1]
["07R","RKE",124,null,null,null,"RN7","07X",1]
["07R","RQM",24,null,null,null,"RN7","08D",1]
["07R","RJ1",17,null,null,null,"RN7","08E",1]
["07R","RQX",8,null,null,null,"RN7","08K",1]
["07R","RV8",7,null,null,null,"RN7","08V",1]
["07R","RVL",6,null,null,null,"RN7","08Y",1]
["07R","RJZ",4,null,null,null,"RN7","09C",1]
["07R","RC9",3,null,null,null,"RN7","09L",1]
["07R","RC3",2,null,null,null,"RN7","10A",1]
["07R","RJ2",2,null,null,null,"RN7","10H",1]
["07R","RJ7",2,null,null,null,"RN7","10Q",1]
["07R","RLU",2,null,null,null,"RN7","11M",1]
["07R","RTE",2,null,null,null,"RN7","11N",1]
["07R","RWE",2,null,null,null,"RNA","05C",3754]
["07R","RWG",2,null,null,null,"RNA","05L",1250]
["07R","RWH",2,null,null,null,"RNA","05Q",179]
["07R","RAP",1,null,null,null,"RNA","06A",156]
["07R","RAX",1,null,null,null,"RNA","06D",76]
["07R","RBA",1,null,null,null,"RNA","13P",22]
["07R","RD3",1,null,null,null,"RNA","05J",10]
["07R","RD8",1,null,null,null,"RNA","05N",9]
["07R","RF4",1,null,null,null,"RNA","05Y",8]
["07R","RGC",1,null,null,null,"RNA","04X",7]
["07R","RGQ",1,null,null,null,"RNA","04Y",3]
["07R","RGT",1,null,null,null,"RNA","05X",3]
["07R","RHQ",1,null,null,null,"RNA","02X",2]
["07R","RJN",1,null,null,null,"RNA","04V",2]
["07R","RNH",1,null,null,null,"RNA","05H",2]
["07R","RNJ",1,null,null,null,"RNA","05P",2]
["07R","RPA",1,null,null,null,"RNA","05V",2]
["07R","RTH",1,null,null,null,"RNA","Wales",2]
["07R","RTK",1,null,null,null,"RNA","01H",1]
["07R","RVR",1,null,null,null,"RNA","03T",1]
["07R","RW6",1,null,null,null,"RNA","04Q",1]
["07R","RX1",1,null,null,null,"RNA","05R",1]
["07R","RXP",1,null,null,null,"RNA","05T",1]
["07R","RYQ",1,null,null,null,"RNA","07N",1]
["07T","RQX",4243,null,null,null,"RNA","07Y",1]
["07T","RRV",551,null,null,null,"RNA","08V",1]
["07T","RKE",294,null,null,null,"RNA","09J",1]
["07T","RNJ",49,null,null,null,"RNA","10A",1]
["07T","RAP",22,null,null,null,"RNA","10Q",1]
["07T","RYJ",19,null,null,null,"RNA","99N",1]
["07T","RGC",18,null,null,null,"RNA","99Q",1]
["07T","RJ1",17,null,null,null,"RNH","08M",5891]
["07T","RQM",16,null,null,null,"RNH","07L",54]
["07T","RAL",14,null,null,null,"RNH","08N",44]
["07T","RVL",10,null,null,null,"RNH","08W",30]
["07T","RJZ",8,null,null,null,"RNH","08V",21]
["07T","RYQ",8,null,null,null,"RNH","07G",11]
["07T","RNH",7,null,null,null,"RNH","08D",10]
["07T","RF4",6,null,null,null,"RNH","08Q",10]
["07T","RJ2",4,null,null,null,"RNH","08F",8]
["07T","RW3",4,null,null,null,"RNH","07T",7]
["07T","RW6",4,null,null,null,"RNH","08K",6]
["07T","RDD",3,null,null,null,"RNH","04K",4]
["07T","RN7",3,null,null,null,"RNH","07H",4]
["07T","RAS",2,null,null,null,"RNH","07V",4]
["07T","RC9",2,null,null,null,"RNH","08A",4]
["07T","RPA",2,null,null,null,"RNH","08L",4]
["07T","RR1",2,null,null,null,"RNH","99E",4]
["07T","RXN",2,null,null,null,"RNH","07Y",3]
["07T","RAJ",1,null,null,null,"RNH","08E",3]
["07T","RAX",1,null,null,null,"RNH","08X",3]
["07T","RBK",1,null,null,null,"RNH","10R",3]
["07T","RD3",1,null,null,null,"RNH","01E",2]
["07T","RDU",1,null,null,null,"RNH","04C",2]
["07T","REP",1,null,null,null,"RNH","04F",2]
["07T","RGT",1,null,null,null,"RNH","06H",2]
["07T","RJ6",1,null,null,null,"RNH","06K",2]
["07T","RJ7",1,null,null,null,"RNH","06P",2]
["07T","RTG",1,null,null,null,"RNH","06Q",2]
["07T","RV8",1,null,null,null,"RNH","06T",2]
["07T","RXH",1,null,null,null,"RNH","07P",2]
["07V","RJ6",4472,null,null,null,"RNH","07X",2]
["07V","RYQ",302,null,null,null,"RNH","08Y",2]
["07V","RJZ",300,null,null,null,"RNH","09A",2]
["07V","RJ7",288,null,null,null,"RNH","09J",2]
["07V","RVR",202,null,null,null,"RNH","09W",2]
["07V","RTP",185,null,null,null,"RNH","13P",2]
["07V","RJ1",48,null,null,null,"RNH","99F",2]
["07V","RJ2",30,null,null,null,"RNH","99G",2]
["07V","RQM",17,null,null,null,"RNH","99J",2]
["07V","RYJ",15,null,null,null,"RNH","00T",1]
["07V","RAX",10,null,null,null,"RNH","01A",1]
["07V","RRV",6,null,null,null,"RNH","01F",1]
["07V","RF4",5,null,null,null,"RNH","02W",1]
["07V","RV8",5,null,null,null,"RNH","03F",1]
["07V","RC3",4,null,null,null,"RNH","03T",1]
["07V","RKE",4,null,null,null,"RNH","04R",1]
["07V","RNH",4,null,null,null,"RNH","05L",1]
["07V","RQX",4,null,null,null,"RNH","05R",1]
["07V","RHU",3,null,null,null,"RNH","05W",1]
["07V","RNJ",3,null,null,null,"RNH","05Y",1]
["07V","RXH",3,null,null,null,"RNH","06L",1]
["07V","RA2",2,null,null,null,"RNH","06W",1]
["07V","RDD",2,null,null,null,"RNH","07M",1]
["07V","RTK",2,null,null,null,"RNH","07N",1]
["07V","RVL",2,null,null,null,"RNH","07R",1]
["07V","RVV",2,null,null,null,"RNH","08C",1]
["07V","RAE",1,null,null,null,"RNH","08H",1]
["07V","RAP",1,null,null,null,"RNH","08J",1]
["07V","RC9",1,null,null,null,"RNH","09N",1]
["07V","RCB",1,null,null,null,"RNH","09X",1]
["07V","RCX",1,null,null,null,"RNH","10H",1]
["07V","RDE",1,null,null,null,"RNH","10N",1]
["07V","REP",1,null,null,null,"RNH","10W",1]
["07V","RFW",1,null,null,null,"RNH","10X",1]
["07V","RGC",1,null,null,null,"RNH","11A",1]
["07V","RGN",1,null,null,null,"RNH","11D",1]
["07V","RGQ",1,null,null,null,"RNH","11H",1]
["07V","RKB",1,null,null,null,"RNH","11J",1]
["07V","RMP",1,null,null,null,"RNH","11M",1]
["07V","RNQ",1,null,null,null,"RNH","12D",1]
["07V","RNS",1,null,null,null,"RNH","99A",1]
["07V","RPA",1,null,null,null,"RNH","99D",1]
["07V","RR8",1,null,null,null,"RNJ","08V",3795]
["07V","RRF",1,null,null,null,"RNJ","08M",395]
["07V","RTR",1,null,null,null,"RNJ","07T",49]
["07V","RWF",1,null,null,null,"RNJ","08N",44]
["07V","RWY",1,null,null,null,"RNJ","08W",42]
["07V","RYR",1,null,null,null,"RNJ","07L",33]
["07W","RC3",2897,null,null,null,"RNJ","08D",13]
["07W","RYJ",2168,null,null,null,"RNJ","08F",13]
["07W","RAS",471,null,null,null,"RNJ","08A",11]
["07W","RFW",305,null,null,null,"RNJ","99E",10]
["07W","RV8",232,null,null,null,"RNJ","08L",9]
["07W","RQM",193,null,null,null,"RNJ","07G",7]
["07W","RRV",55,null,null,null,"RNJ","07H",7]
["07W","RAX",10,null,null,null,"RNJ","07X",7]
["07W","RTK",7,null,null,null,"RNJ","08Q",7]
["07W","RJ1",6,null,null,null,"RNJ","07P",6]
["07W","RTH",6,null,null,null,"RNJ","07Q",6]
["07W","RAL",5,null,null,null,"RNJ","07N",5]
["07W","RVL",5,null,null,null,"RNJ","06Q",4]
["07W","RD7",4,null,null,null,"RNJ","08H",4]
["07W","RJ7",4,null,null,null,"RNJ","08K",4]
["07W","RKE",4,null,null,null,"RNJ","05Y",3]
["07W","RWG",4,null,null,null,"RNJ","06T",3]
["07W","RR1",3,null,null,null,"RNJ","07V",3]
["07W","RYQ",3,null,null,null,"RNJ","99F",3]
["07W","RC9",2,null,null,null,"RNJ","06K",2]
["07W","RCX",2,null,null,null,"RNJ","06P",2]
["07W","RGC",2,null,null,null,"RNJ","07M",2]
["07W","RHQ",2,null,null,null,"RNJ","07W",2]
["07W","RHW",2,null,null,null,"RNJ","08P",2]
["07W","RJZ",2,null,null,null,"RNJ","09L",2]
["07W","RNJ",2,null,null,null,"RNJ","10T",2]
["07W","RXQ",2,null,null,null,"RNJ","10W",2]
["07W","RAP",1,null,null,null,"RNJ","11A",2]
["07W","RD3",1,null,null,null,"RNJ","13P",2]
["07W","RD8",1,null,null,null,"RNJ","99H",2]
["07W","RGN",1,null,null,null,"RNJ","01C",1]
["07W","RJR",1,null,null,null,"RNJ","01N",1]
["07W","RLN",1,null,null,null,"RNJ","02A",1]
["07W","RN5",1,null,null,null,"RNJ","02H",1]
["07W","RNS",1,null,null,null,"RNJ","02T",1]
["07W","RQX",1,null,null,null,"RNJ","03C",1]
["07W","RTE",1,null,null,null,"RNJ","04D",1]
["07W","RVR",1,null,null,null,"RNJ","04F",1]
["07W","RW3",1,null,null,null,"RNJ","04J",1]
["07W","RXC",1,null,null,null,"RNJ","06F",1]
["07W","RYR",1,null,null,null,"RNJ","06H",1]
["07X","RVL",2555,null,null,null,"RNJ","06L",1]
["07X","RAP",1681,null,null,null,"RNJ","06M",1]
["07X","RKE",206,null,null,null,"RNJ","06N",1]
["07X","RRV",163,null,null,null,"RNJ","06V",1]
["07X","RQX",92,null,null,null,"RNJ","06Y",1]
["07X","RAL",81,null,null,null,"RNJ","07R",1]
["07X","RGC",25,null,null,null,"RNJ","07Y",1]
["07X","RYJ",19,null,null,null,"RNJ","08C",1]
["07X","RF4",9,null,null,null,"RNJ","08E",1]
["07X","RJ1",9,null,null,null,"RNJ","08J",1]
["07X","RJZ",7,null,null,null,"RNJ","08X",1]
["07X","RNJ",7,null,null,null,"RNJ","08Y",1]
["07X","RQM",7,null,null,null,"RNJ","09A",1]
["07X","RV8",7,null,null,null,"RNJ","09F",1]
["07X","RQW",6,null,null,null,"RNJ","09P",1]
["07X","RWH",6,null,null,null,"RNJ","09W",1]
["07X","RC9",5,null,null,null,"RNJ","09Y",1]
["07X","RJ6",3,null,null,null,"RNJ","10H",1]
["07X","RWG",3,null,null,null,"RNJ","10Q",1]
["07X","RX1",3,null,null,null,"RNJ","10R",1]
["07X","RAS",2,null,null,null,"RNJ","10X",1]
["07X","RDE",2,null,null,null,"RNJ","11H",1]
["07X","RNH",2,null,null,null,"RNJ","11T",1]
["07X","RTK",2,null,null,null,"RNJ","99A",1]
["07X","RXQ",2,null,null,null,"RNJ","99D",1]
["07X","RAE",1,null,null,null,"RNJ","99G",1]
["07X","RAJ",1,null,null,null,"RNJ","99K",1]
["07X","RAX",1,null,null,null,"RNJ","99M",1]
["07X","RC3",1,null,null,null,"RNJ","Wales",1]
["07X","RCX",1,null,null,null,"RNL","01H",3320]
["07X","RD3",1,null,null,null,"RNL","00L",15]
["07X","RD7",1,null,null,null,"RNL","00D",1]
["07X","RDD",1,null,null,null,"RNL","01A",1]
["07X","RFW",1,null,null,null,"RNL","01D",1]
["07X","RGQ",1,null,null,null,"RNL","02D",1]
["07X","RGR",1,null,null,null,"RNL","02N",1]
["07X","RHQ",1,null,null,null,"RNL","02T",1]
["07X","RJ7",1,null,null,null,"RNL","02V",1]
["07X","RLU",1,null,null,null,"RNL","02X",1]
["07X","RM1",1,null,null,null,"RNL","03E",1]
["07X","RN3",1,null,null,null,"RNL","03N",1]
["07X","RN7",1,null,null,null,"RNL","03T",1]
["07X","RR1",1,null,null,null,"RNL","04F",1]
["07X","RR8",1,null,null,null,"RNL","04X",1]
["07X","RTE",1,null,null,null,"RNL","05C",1]
["07X","RTH",1,null,null,null,"RNL","06L",1]
["07X","RTP",1,null,null,null,"RNL","06Q",1]
["07X","RVR",1,null,null,null,"RNL","07K",1]
["07X","RW6",1,null,null,null,"RNL","08R",1]
["07X","RXR",1,null,null,null,"RNL","09F",1]
["07Y","RFW",3383,null,null,null,"RNL","10Q",1]
["07Y","RYJ",588,null,null,null,"RNL","10R",1]
["07Y","RTK",181,null,null,null,"RNL","12F",1]
["07Y","RQM",114,null,null,null,"RNL","99A",1]
["07Y","RC3",75,null,null,null,"RNL","99C",1]
["07Y","RAS",61,null,null,null,"RNL","Wales",1]
["07Y","RAX",39,null,null,null,"RNQ","04G",3503]
["07Y","RJ1",6,null,null,null,"RNQ","03V",1034]
["07Y","RRV",5,null,null,null,"RNQ","03W",338]
["07Y","RV8",5,null,null,null,"RNQ","06H",21]
["07Y","RJ7",3,null,null,null,"RNQ","04F",8]
["07Y","RJZ",3,null,null,null,"RNQ","05A",5]
["07Y","RNH",3,null,null,null,"RNQ","05R",5]
["07Y","RVR",3,null,null,null,"RNQ","10Q",5]
["07Y","RWG",3,null,null,null,"RNQ","04V",4]
["07Y","RAL",2,null,null,null,"RNQ","04C",3]
["07Y","RD7",2,null,null,null,"RNQ","04D",3]
["07Y","RGC",2,null,null,null,"RNQ","04K",3]
["07Y","RKE",2,null,null,null,"RNQ","99D",3]
["07Y","RPA",2,null,null,null,"RNQ","04R",2]
["07Y","RQX",2,null,null,null,"RNQ","05H",2]
["07Y","RVL",2,null,null,null,"RNQ","06A",2]
["07Y","RAJ",1,null,null,null,"RNQ","06K",2]
["07Y","RAP",1,null,null,null,"RNQ","01C",1]
["07Y","RBD",1,null,null,null,"RNQ","02D",1]
["07Y","RBZ",1,null,null,null,"RNQ","03D",1]
["07Y","RC9",1,null,null,null,"RNQ","03T",1]
["07Y","RD8",1,null,null,null,"RNQ","03Y",1]
["07Y","REP",1,null,null,null,"RNQ","04H",1]
["07Y","RGQ",1,null,null,null,"RNQ","04Q",1]
["07Y","RHU",1,null,null,null,"RNQ","04X",1]
["07Y","RJ2",1,null,null,null,"RNQ","04Y",1]
["07Y","RJ6",1,null,null,null,"RNQ","05C",1]
["07Y","RJE",1,null,null,null,"RNQ","05L",1]
["07Y","RJN",1,null,null,null,"RNQ","05P",1]
["07Y","RL4",1,null,null,null,"RNQ","05Y",1]
["07Y","RN1",1,null,null,null,"RNQ","06F",1]
["07Y","RNA",1,null,null,null,"RNQ","06M",1]
["07Y","RNJ",1,null,null,null,"RNQ","06N",1]
["07Y","RNQ",1,null,null,null,"RNQ","06Y",1]
["07Y","RR1",1,null,null,null,"RNQ","07J",1]
["07Y","RTP",1,null,null,null,"RNQ","07M",1]
["07Y","RW3",1,null,null,null,"RNQ","07P",1]
["07Y","RWE",1,null,null,null,"RNQ","07V",1]
["07Y","RWJ",1,null,null,null,"RNQ","07Y",1]
["07Y","RX1",1,null,null,null,"RNQ","08L",1]
["07Y","RXH",1,null,null,null,"RNQ","08M",1]
["07Y","RXK",1,null,null,null,"RNQ","09F",1]
["07Y","RXL",1,null,null,null,"RNQ","09X",1]
["07Y","RYQ",1,null,null,null,"RNQ","09Y",1]
["08A","RYQ",4290,null,null,null,"RNQ","10H",1]
["08A","RJ2",251,null,null,null,"RNQ","10Y",1]
["08A","RJ1",119,null,null,null,"RNQ","12A",1]
["08A","RJZ",89,null,null,null,"RNQ","99P",1]
["08A","RN7",74,null,null,null,"RNS","04G",4929]
["08A","RRV",22,null,null,null,"RNS","04F",56]
["08A","RYJ",14,null,null,null,"RNS","05A",8]
["08A","RNJ",11,null,null,null,"RNS","06F",7]
["08A","RQM",11,null,null,null,"RNS","03V",6]
["08A","RQX",9,null,null,null,"RNS","03W",4]
["08A","RPA",6,null,null,null,"RNS","02R",2]
["08A","RVV",5,null,null,null,"RNS","06K",2]
["08A","RNH",4,null,null,null,"RNS","00C",1]
["08A","RF4",3,null,null,null,"RNS","01N",1]
["08A","RJ7",3,null,null,null,"RNS","03T",1]
["08A","RVR",3,null,null,null,"RNS","04E",1]
["08A","RC3",2,null,null,null,"RNS","04M",1]
["08A","RD8",2,null,null,null,"RNS","04N",1]
["08A","RDD",2,null,null,null,"RNS","04Q",1]
["08A","RGT",2,null,null,null,"RNS","04R",1]
["08A","RKE",2,null,null,null,"RNS","05Q",1]
["08A","RV8",2,null,null,null,"RNS","05R",1]
["08A","RVL",2,null,null,null,"RNS","05T",1]
["08A","RWF",2,null,null,null,"RNS","05Y",1]
["08A","RXC",2,null,null,null,"RNS","06M",1]
["08A","RXH",2,null,null,null,"RNS","06N",1]
["08A","5QT",1,null,null,null,"RNS","07P",1]
["08A","RAJ",1,null,null,null,"RNS","07V",1]
["08A","RAP",1,null,null,null,"RNS","07W",1]
["08A","RAS",1,null,null,null,"RNS","08G",1]
["08A","RAX",1,null,null,null,"RNS","08Y",1]
["08A","RC9",1,null,null,null,"RNS","10N",1]
["08A","RD7",1,null,null,null,"RNS","10Q",1]
["08A","RDE",1,null,null,null,"RNZ","99N",1705]
["08A","REF",1,null,null,null,"RNZ","11A",311]
["08A","REP",1,null,null,null,"RNZ","11J",283]
["08A","RGC",1,null,null,null,"RNZ","11X",7]
["08A","RKB",1,null,null,null,"RNZ","10R",5]
["08A","RL4",1,null,null,null,"RNZ","10X",4]
["08A","RM1",1,null,null,null,"RNZ","01W",2]
["08A","RM3",1,null,null,null,"RNZ","08X",2]
["08A","RR1",1,null,null,null,"RNZ","10J",2]
["08A","RV5",1,null,null,null,"RNZ","12A",2]
["08A","RWJ",1,null,null,null,"RNZ","Wales",2]
["08C","RYJ",1534,null,null,null,"RNZ","00R",1]
["08C","RQM",1268,null,null,null,"RNZ","05R",1]
["08C","RRV",17,null,null,null,"RNZ","06K",1]
["08C","RJ1",16,null,null,null,"RNZ","08P",1]
["08C","RC3",9,null,null,null,"RNZ","08Q",1]
["08C","RFW",8,null,null,null,"RNZ","08Y",1]
["08C","RJ7",5,null,null,null,"RNZ","09Y",1]
["08C","RAS",4,null,null,null,"RNZ","10Q",1]
["08C","RJZ",4,null,null,null,"RNZ","11D",1]
["08C","RV8",4,null,null,null,"RP5","02X",3922]
["08C","RGC",3,null,null,null,"RP5","02Q",1267]
["08C","RAL",2,null,null,null,"RP5","03L",204]
["08C","RAX",2,null,null,null,"RP5","02P",94]
["08C","RD3",2,null,null,null,"RP5","03Y",92]
["08C","RHW",2,null,null,null,"RP5","04H",85]
["08C","RJ6",2,null,null,null,"RP5","03K",58]
["08C","RVR",2,null,null,null,"RP5","03R",35]
["08C","RA4",1,null,null,null,"RP5","02Y",22]
["08C","RA7",1,null,null,null,"RP5","04J",18]
["08C","RAP",1,null,null,null,"RP5","04E",11]
["08C","RBA",1,null,null,null,"RP5","03Q",7]
["08C","RCB",1,null,null,null,"RP5","04D",7]
["08C","RCX",1,null,null,null,"RP5","03N",6]
["08C","RD7",1,null,null,null,"RP5","03F",3]
["08C","REF",1,null,null,null,"RP5","03E",2]
["08C","RGN",1,null,null,null,"RP5","03G",2]
["08C","RGP",1,null,null,null,"RP5","05A",2]
["08C","RGQ",1,null,null,null,"RP5","00T",1]
["08C","RGR",1,null,null,null,"RP5","01M",1]
["08C","RJ2",1,null,null,null,"RP5","01W",1]
["08C","RJE",1,null,null,null,"RP5","02G",1]
["08C","RK5",1,null,null,null,"RP5","02R",1]
["08C","RKE",1,null,null,null,"RP5","02T",1]
["08C","RNH",1,null,null,null,"RP5","02W",1]
["08C","RNJ",1,null,null,null,"RP5","03A",1]
["08C","RRF",1,null,null,null,"RP5","03J",1]
["08C","RTE",1,null,null,null,"RP5","04M",1]
["08C","RTH",1,null,null,null,"RP5","06A",1]
["08C","RTK",1,null,null,null,"RP5","06F",1]
["08C","RVL",1,null,null,null,"RP5","06N",1]
["08C","RXC",1,null,null,null,"RP5","06W",1]
["08C","RXF",1,null,null,null,"RP5","08G",1]
["08C","RXK",1,null,null,null,"RP5","08N",1]
["08C","RXQ",1,null,null,null,"RP5","09N",1]
["08C","RYR",1,null,null,null,"RP5","10L",1]
["08D","RKE",2079,null,null,null,"RP5","10V",1]
["08D","RAP",1660,null,null,null,"RP5","12A",1]
["08D","RRV",363,null,null,null,"RP5","99D",1]
["08D","RQX",256,null,null,null,"RP5","99F",1]
["08D","RAL",175,null,null,null,"RP7","03T",11]
["08D","RVL",141,null,null,null,"RP7","99D",8]
["08D","RYJ",31,null,null,null,"RP7","04Q",2]
["08D","RGC",13,null,null,null,"RP7","04D",1]
["08D","RJ1",13,null,null,null,"RP7","05H",1]
["08D","RNJ",13,null,null,null,"RPA","09W",3604]
["08D","RNH",10,null,null,null,"RPA","10D",1304]
["08D","RQM",6,null,null,null,"RPA","99J",61]
["08D","RYQ",6,null,null,null,"RPA","09J",23]
["08D","RC3",4,null,null,null,"RPA","09E",12]
["08D","RC9",4,null,null,null,"RPA","08A",6]
["08D","RJ7",4,null,null,null,"RPA","07N",5]
["08D","RHW",3,null,null,null,"RPA","08Q",3]
["08D","RV8",3,null,null,null,"RPA","09C",3]
["08D","RJ6",2,null,null,null,"RPA","06H",2]
["08D","RJL",2,null,null,null,"RPA","07G",2]
["08D","RJZ",2,null,null,null,"RPA","07Q",2]
["08D","RR1",2,null,null,null,"RPA","07T",2]
["08D","RVV",2,null,null,null,"RPA","07Y",2]
["08D","RX1",2,null,null,null,"RPA","08L",2]
["08D","RBA",1,null,null,null,"RPA","99F",2]
["08D","RF4",1,null,null,null,"RPA","99K",2]
["08D","RFW",1,null,null,null,"RPA","01F",1]
["08D","RH8",1,null,null,null,"RPA","04F",1]
["08D","RJ2",1,null,null,null,"RPA","04G",1]
["08D","RJE",1,null,null,null,"RPA","04X",1]
["08D","RL4",1,null,null,null,"RPA","05D",1]
["08D","RM3",1,null,null,null,"RPA","06L",1]
["08D","RN7",1,null,null,null,"RPA","06M",1]
["08D","RPA",1,null,null,null,"RPA","06T",1]
["08D","RR8",1,null,null,null,"RPA","07M",1]
["08D","RWE",1,null,null,null,"RPA","07R",1]
["08D","RWG",1,null,null,null,"RPA","07V",1]
["08D","RWH",1,null,null,null,"RPA","08D",1]
["08D","RXH",1,null,null,null,"RPA","08E",1]
["08D","RXQ",1,null,null,null,"RPA","08N",1]
["08E","RV8",2319,null,null,null,"RPA","09N",1]
["08E","RVL",277,null,null,null,"RPA","09X",1]
["08E","RWG",259,null,null,null,"RPA","10E",1]
["08E","RYJ",179,null,null,null,"RPA","10V",1]
["08E","RAS",134,null,null,null,"RPA","10W",1]
["08E","RAL",72,null,null,null,"RPA","11N",1]
["08E","RC3",35,null,null,null,"RPA","13P",1]
["08E","RRV",21,null,null,null,"RPA","99G",1]
["08E","RQM",18,null,null,null,"RPA","99H",1]
["08E","RJ1",9,null,null,null,"RPA","99N",1]
["08E","RC9",4,null,null,null,"RPA","Wales",1]
["08E","RKE",3,null,null,null,"RQ8","06Q",3363]
["08E","RNH",3,null,null,null,"RQ8","99E",552]
["08E","RWH",3,null,null,null,"RQ8","07H",143]
["08E","RFW",2,null,null,null,"RQ8","08F",24]
["08E","RGC",2,null,null,null,"RQ8","06T",22]
["08E","RQX",2,null,null,null,"RQ8","07G",12]
["08E","RTH",2,null,null,null,"RQ8","06K",5]
["08E","RWE",2,null,null,null,"RQ8","08N",3]
["08E","RAP",1,null,null,null,"RQ8","06W",2]
["08E","RAX",1,null,null,null,"RQ8","07K",2]
["08E","RDU",1,null,null,null,"RQ8","07L",2]
["08E","RJ6",1,null,null,null,"RQ8","08V",2]
["08E","RJZ",1,null,null,null,"RQ8","99F",2]
["08E","RK9",1,null,null,null,"RQ8","99G",2]
["08E","RKB",1,null,null,null,"RQ8","Wales",2]
["08E","RM1",1,null,null,null,"RQ8","01E",1]
["08E","RN7",1,null,null,null,"RQ8","04M",1]
["08E","RNJ",1,null,null,null,"RQ8","05W",1]
["08E","RPA",1,null,null,null,"RQ8","06A",1]
["08E","RTD",1,null,null,null,"RQ8","06H",1]
["08E","RTG",1,null,null,null,"RQ8","06N",1]
["08E","RWD",1,null,null,null,"RQ8","08W",1]
["08E","RXH",1,null,null,null,"RQ8","09G",1]
["08F","RF4",2670,null,null,null,"RQ8","09N",1]
["08F","RDD",27,null,null,null,"RQ8","10Y",1]
["08F","RQ8",24,null,null,null,"RQ8","11A",1]
["08F","RNJ",13,null,null,null,"RQ8","11J",1]
["08F","RQX",12,null,null,null,"RQ8","13P",1]
["08F","RN7",9,null,null,null,"RQ8","99J",1]
["08F","RJ1",8,null,null,null,"RQ8","99N",1]
["08F","RNH",8,null,null,null,"RQM","08X",1688]
["08F","RGC",5,null,null,null,"RQM","08Y",1372]
["08F","RQM",5,null,null,null,"RQM","08C",1268]
["08F","RQW",5,null,null,null,"RQM","09A",478]
["08F","RAP",2,null,null,null,"RQM","08P",238]
["08F","RAX",2,null,null,null,"RQM","07W",193]
["08F","RCX",2,null,null,null,"RQM","07Y",114]
["08F","RDE",2,null,null,null,"RQM","08K",100]
["08F","RGQ",2,null,null,null,"RQM","08R",85]
["08F","RJZ",2,null,null,null,"RQM","07P",44]
["08F","RKE",2,null,null,null,"RQM","08Q",25]
["08F","RRV",2,null,null,null,"RQM","07R",24]
["08F","RWD",2,null,null,null,"RQM","08G",22]
["08F","RAL",1,null,null,null,"RQM","08J",20]
["08F","RBT",1,null,null,null,"RQM","08E",18]
["08F","RC3",1,null,null,null,"RQM","08V",18]
["08F","RC9",1,null,null,null,"RQM","99H",18]
["08F","RHU",1,null,null,null,"RQM","07M",17]
["08F","RHW",1,null,null,null,"RQM","07V",17]
["08F","RJ7",1,null,null,null,"RQM","07T",16]
["08F","RJC",1,null,null,null,"RQM","08M",16]
["08F","RJF",1,null,null,null,"RQM","07Q",14]
["08F","RKB",1,null,null,null,"RQM","08H",14]
["08F","RR1",1,null,null,null,"RQM","10H",14]
["08F","RR8",1,null,null,null,"RQM","08L",12]
["08F","RTE",1,null,null,null,"RQM","09Y",12]
["08F","RTG",1,null,null,null,"RQM","08A",11]
["08F","RTH",1,null,null,null,"RQM","07L",10]
["08F","RW3",1,null,null,null,"RQM","08W",10]
["08F","RWH",1,null,null,null,"RQM","06K",9]
["08F","RYJ",1,null,null,null,"RQM","08T",9]
["08G","RAS",3374,null,null,null,"RQM","08N",8]
["08G","RWG",212,null,null,null,"RQM","06N",7]
["08G","RYJ",111,null,null,null,"RQM","07X",7]
["08G","RV8",73,null,null,null,"RQM","10J",7]
["08G","RC3",57,null,null,null,"RQM","08D",6]
["08G","RD7",32,null,null,null,"RQM","11C",6]
["08G","RQM",22,null,null,null,"RQM","08F",5]
["08G","RFW",21,null,null,null,"RQM","99J",5]
["08G","RVL",8,null,null,null,"RQM","09G",4]
["08G","RTK",6,null,null,null,"RQM","10Q",4]
["08G","RJ7",4,null,null,null,"RQM","10T",4]
["08G","RJZ",4,null,null,null,"RQM","11M",4]
["08G","RRV",4,null,null,null,"RQM","06L",3]
["08G","RD3",3,null,null,null,"RQM","06M",3]
["08G","RAP",2,null,null,null,"RQM","07N",3]
["08G","RDU",2,null,null,null,"RQM","09L",3]
["08G","RJ1",2,null,null,null,"RQM","09W",3]
["08G","RJ2",2,null,null,null,"RQM","11A",3]
["08G","RKE",2,null,null,null,"RQM","99K",3]
["08G","RTH",2,null,null,null,"RQM","Wales",3]
["08G","RAL",1,null,null,null,"RQM","02R",2]
["08G","RBD",1,null,null,null,"RQM","04F",2]
["08G","RBK",1,null,null,null,"RQM","05T",2]
["08G","RC9",1,null,null,null,"RQM","06H",2]
["08G","RD8",1,null,null,null,"RQM","06Q",2]
["08G","RDZ",1,null,null,null,"RQM","06T",2]
["08G","RF4",1,null,null,null,"RQM","07G",2]
["08G","RFF",1,null,null,null,"RQM","07H",2]
["08G","RH8",1,null,null,null,"RQM","09D",2]
["08G","RHU",1,null,null,null,"RQM","09J",2]
["08G","RHW",1,null,null,null,"RQM","09N",2]
["08G","RJ6",1,null,null,null,"RQM","09X",2]
["08G","RJE",1,null,null,null,"RQM","10A",2]
["08G","RJL",1,null,null,null,"RQM","10C",2]
["08G","RK5",1,null,null,null,"RQM","10D",2]
["08G","RM1",1,null,null,null,"RQM","10G",2]
["08G","RM3",1,null,null,null,"RQM","10N",2]
["08G","RNS",1,null,null,null,"RQM","11D",2]
["08G","RP5",1,null,null,null,"RQM","99E",2]
["08G","RQX",1,null,null,null,"RQM","99N",2]
["08G","RVV",1,null,null,null,"RQM","00G",1]
["08G","RVW",1,null,null,null,"RQM","01R",1]
["08G","RWE",1,null,null,null,"RQM","02F",1]
["08G","RX1",1,null,null,null,"RQM","03W",1]
["08G","RXQ",1,null,null,null,"RQM","04K",1]
["08G","RYQ",1,null,null,null,"RQM","05A",1]
["08H","RRV",1667,null,null,null,"RQM","05L",1]
["08H","RKE",1488,null,null,null,"RQM","05N",1]
["08H","RQX",98,null,null,null,"RQM","05P",1]
["08H","RAL",73,null,null,null,"RQM","06F",1]
["08H","RYJ",36,null,null,null,"RQM","09F",1]
["08H","RJ1",30,null,null,null,"RQM","10W",1]
["08H","RQM",14,null,null,null,"RQM","10Y",1]
["08H","RGC",12,null,null,null,"RQM","11N",1]
["08H","RVL",9,null,null,null,"RQM","11X",1]
["08H","RAP",8,null,null,null,"RQM","13P",1]
["08H","RJZ",6,null,null,null,"RQM","99M",1]
["08H","RNJ",4,null,null,null,"RQQ","06H",2456]
["08H","RV8",4,null,null,null,"RQQ","99D",45]
["08H","RF4",3,null,null,null,"RQQ","04G",44]
["08H","RJ2",3,null,null,null,"RQQ","06F",20]
["08H","5QT",2,null,null,null,"RQQ","07K",5]
["08H","RAX",2,null,null,null,"RQQ","03W",4]
["08H","RD3",2,null,null,null,"RQQ","04Q",4]
["08H","RDD",2,null,null,null,"RQQ","06K",2]
["08H","RJ7",2,null,null,null,"RQQ","07H",2]
["08H","RTH",2,null,null,null,"RQQ","07J",2]
["08H","RWD",2,null,null,null,"RQQ","03V",1]
["08H","RYQ",2,null,null,null,"RQQ","04C",1]
["08H","RC1",1,null,null,null,"RQQ","04F",1]
["08H","RC3",1,null,null,null,"RQQ","04V",1]
["08H","RDE",1,null,null,null,"RQQ","05R",1]
["08H","REF",1,null,null,null,"RQQ","06L",1]
["08H","RFS",1,null,null,null,"RQQ","06M",1]
["08H","RGT",1,null,null,null,"RQQ","06N",1]
["08H","RKB",1,null,null,null,"RQQ","08P",1]
["08H","RM1",1,null,null,null,"RQQ","10X",1]
["08H","RMC",1,null,null,null,"RQQ","11C",1]
["08H","RNH",1,null,null,null,"RQQ","11X",1]
["08H","RWA",1,null,null,null,"RQQ","12D",1]
["08H","RWG",1,null,null,null,"RQQ","99H",1]
["08H","RWP",1,null,null,null,"RQW","07H",2466]
["08H","RXK",1,null,null,null,"RQW","06K",1343]
["08H","RXW",1,null,null,null,"RQW","08N",71]
["08J","RAX",2562,null,null,null,"RQW","08W",36]
["08J","RVR",135,null,null,null,"RQW","06Q",8]
["08J","RJ7",52,null,null,null,"RQW","06H",6]
["08J","RQM",20,null,null,null,"RQW","07X",6]
["08J","RYJ",14,null,null,null,"RQW","99E",6]
["08J","RJ1",8,null,null,null,"RQW","08F",5]
["08J","RJZ",5,null,null,null,"RQW","06L",2]
["08J","RFW",4,null,null,null,"RQW","06N",2]
["08J","RJ6",4,null,null,null,"RQW","00Y",1]
["08J","RA2",3,null,null,null,"RQW","02F",1]
["08J","RTK",3,null,null,null,"RQW","06T",1]
["08J","RD3",2,null,null,null,"RQW","07K",1]
["08J","RKE",2,null,null,null,"RQW","07L",1]
["08J","RRV",2,null,null,null,"RQW","08M",1]
["08J","RYQ",2,null,null,null,"RQW","10A",1]
["08J","RAS",1,null,null,null,"RQX","07T",4243]
["08J","RDU",1,null,null,null,"RQX","08W",295]
["08J","RF4",1,null,null,null,"RQX","08D",256]
["08J","RHQ",1,null,null,null,"RQX","08M",209]
["08J","RKB",1,null,null,null,"RQX","08V",182]
["08J","RN5",1,null,null,null,"RQX","08H",98]
["08J","RNH",1,null,null,null,"RQX","07X",92]
["08J","RNJ",1,null,null,null,"RQX","08N",72]
["08J","RQX",1,null,null,null,"RQX","07L",31]
["08J","RTP",1,null,null,null,"RQX","07M",15]
["08J","RVV",1,null,null,null,"RQX","08F",12]
["08J","RWE",1,null,null,null,"RQX","08A",9]
["08J","RX1",1,null,null,null,"RQX","08Q",9]
["08K","RJ1",2680,null,null,null,"RQX","06K",8]
["08K","RJZ",2252,null,null,null,"RQX","07R",8]
["08K","RJ7",547,null,null,null,"RQX","07G",7]
["08K","RQM",100,null,null,null,"RQX","07N",7]
["08K","RJ6",95,null,null,null,"RQX","07H",6]
["08K","RRV",19,null,null,null,"RQX","07P",6]
["08K","RYQ",17,null,null,null,"RQX","08L",6]
["08K","RYJ",16,null,null,null,"RQX","09A",6]
["08K","RJ2",12,null,null,null,"RQX","06Q",4]
["08K","RVR",9,null,null,null,"RQX","07V",4]
["08K","RAX",7,null,null,null,"RQX","08K",4]
["08K","RKE",6,null,null,null,"RQX","06F",3]
["08K","RNH",6,null,null,null,"RQX","06T",3]
["08K","RAP",5,null,null,null,"RQX","09W",3]
["08K","RF4",4,null,null,null,"RQX","00T",2]
["08K","RNJ",4,null,null,null,"RQX","01M",2]
["08K","RQX",4,null,null,null,"RQX","04K",2]
["08K","RAL",3,null,null,null,"RQX","04L",2]
["08K","RV8",3,null,null,null,"RQX","06H",2]
["08K","RJL",2,null,null,null,"RQX","06P",2]
["08K","RR1",2,null,null,null,"RQX","07Y",2]
["08K","RVL",2,null,null,null,"RQX","08E",2]
["08K","RX1",2,null,null,null,"RQX","08X",2]
["08K","RA2",1,null,null,null,"RQX","10X",2]
["08K","RA9",1,null,null,null,"RQX","99E",2]
["08K","RBT",1,null,null,null,"RQX","99F",2]
["08K","RC3",1,null,null,null,"RQX","99J",2]
["08K","RC9",1,null,null,null,"RQX","00C",1]
["08K","RCF",1,null,null,null,"RQX","00Q",1]
["08K","RD7",1,null,null,null,"RQX","00W",1]
["08K","RD8",1,null,null,null,"RQX","01G",1]
["08K","RDD",1,null,null,null,"RQX","01N",1]
["08K","RFW",1,null,null,null,"RQX","02E",1]
["08K","RGC",1,null,null,null,"RQX","02W",1]
["08K","RGN",1,null,null,null,"RQX","02X",1]
["08K","RGP",1,null,null,null,"RQX","03A",1]
["08K","RGT",1,null,null,null,"RQX","03G",1]
["08K","RH8",1,null,null,null,"RQX","03J",1]
["08K","RHM",1,null,null,null,"RQX","04C",1]
["08K","RHQ",1,null,null,null,"RQX","04F",1]
["08K","RHW",1,null,null,null,"RQX","04R",1]
["08K","RJC",1,null,null,null,"RQX","04V",1]
["08K","RL4",1,null,null,null,"RQX","04X",1]
["08K","RN7",1,null,null,null,"RQX","05L",1]
["08K","RTE",1,null,null,null,"RQX","06A",1]
["08K","RTK",1,null,null,null,"RQX","06L",1]
["08K","RTP",1,null,null,null,"RQX","06M",1]
["08K","RV5",1,null,null,null,"RQX","06N",1]
["08K","RVV",1,null,null,null,"RQX","06Y",1]
["08K","RW6",1,null,null,null,"RQX","07W",1]
["08K","RWE",1,null,null,null,"RQX","08G",1]
["08K","RWF",1,null,null,null,"RQX","08J",1]
["08K","RWH",1,null,null,null,"RQX","08P",1]
["08K","RXC",1,null,null,null,"RQX","08R",1]
["08K","RXK",1,null,null,null,"RQX","08Y",1]
["08K","RYR",1,null,null,null,"RQX","09F",1]
["08L","RJ2",3527,null,null,null,"RQX","09L",1]
["08L","RJ1",790,null,null,null,"RQX","09P",1]
["08L","RJZ",702,null,null,null,"RQX","09X",1]
["08L","RYQ",280,null,null,null,"RQX","10A",1]
["08L","RRV",13,null,null,null,"RQX","10D",1]
["08L","RQM",12,null,null,null,"RQX","10H",1]
["08L","RJ6",9,null,null,null,"RQX","10T",1]
["08L","RNJ",9,null,null,null,"RQX","10W",1]
["08L","RJ7",8,null,null,null,"RQX","11H",1]
["08L","RQX",6,null,null,null,"RQX","99N",1]
["08L","RVR",6,null,null,null,"RQX","99Q",1]
["08L","RYJ",6,null,null,null,"RR1","13P",7606]
["08L","RAP",5,null,null,null,"RR1","05P",2337]
["08L","RKE",4,null,null,null,"RR1","05Q",808]
["08L","RN7",4,null,null,null,"RR1","04X",690]
["08L","RNH",4,null,null,null,"RR1","05L",447]
["08L","RAS",3,null,null,null,"RR1","05H",160]
["08L","RGC",3,null,null,null,"RR1","05Y",142]
["08L","RAL",2,null,null,null,"RR1","05R",24]
["08L","RC3",2,null,null,null,"RR1","05J",22]
["08L","RF4",2,null,null,null,"RR1","04Y",21]
["08L","RKB",2,null,null,null,"RR1","05D",16]
["08L","RPA",2,null,null,null,"RR1","05A",14]
["08L","RTE",2,null,null,null,"RR1","Wales",14]
["08L","RV5",2,null,null,null,"RR1","04R",12]
["08L","RA2",1,null,null,null,"RR1","05C",9]
["08L","RBA",1,null,null,null,"RR1","05T",6]
["08L","RC9",1,null,null,null,"RR1","06A",5]
["08L","RDD",1,null,null,null,"RR1","05G",4]
["08L","RGQ",1,null,null,null,"RR1","06D",3]
["08L","RHW",1,null,null,null,"RR1","07W",3]
["08L","RNQ",1,null,null,null,"RR1","10Q",3]
["08L","RTH",1,null,null,null,"RR1","00V",2]
["08L","RTR",1,null,null,null,"RR1","00Y",2]
["08L","RV8",1,null,null,null,"RR1","02H",2]
["08L","RVJ",1,null,null,null,"RR1","03T",2]
["08L","RWH",1,null,null,null,"RR1","03W",2]
["08L","RWP",1,null,null,null,"RR1","04C",2]
["08L","RXF",1,null,null,null,"RR1","04Q",2]
["08L","RXH",1,null,null,null,"RR1","04V",2]
["08L","RXQ",1,null,null,null,"RR1","05N",2]
["08M","RNH",5891,null,null,null,"RR1","05W",2]
["08M","RNJ",395,null,null,null,"RR1","06F",2]
["08M","RGC",355,null,null,null,"RR1","07T",2]
["08M","RQX",209,null,null,null,"RR1","08D",2]
["08M","RF4",205,null,null,null,"RR1","08K",2]
["08M","RRV",48,null,null,null,"RR1","08R",2]
["08M","RJ1",27,null,null,null,"RR1","09Y",2]
["08M","RYQ",23,null,null,null,"RR1","11M",2]
["08M","RYJ",20,null,null,null,"RR1","99Q",2]
["08M","RJZ",17,null,null,null,"RR1","00T",1]
["08M","RQM",16,null,null,null,"RR1","01A",1]
["08M","RKE",9,null,null,null,"RR1","01R",1]
["08M","RDD",8,null,null,null,"RR1","02A",1]
["08M","RAP",7,null,null,null,"RR1","02R",1]
["08M","RJ7",4,null,null,null,"RR1","02T",1]
["08M","RN7",4,null,null,null,"RR1","02V",1]
["08M","RV8",4,null,null,null,"RR1","03A",1]
["08M","RJ2",3,null,null,null,"RR1","03J",1]
["08M","RVV",3,null,null,null,"RR1","03N",1]
["08M","RXK",3,null,null,null,"RR1","04D",1]
["08M","RAL",2,null,null,null,"RR1","04G",1]
["08M","RAX",2,null,null,null,"RR1","04K",1]
["08M","RC9",2,null,null,null,"RR1","04N",1]
["08M","RJ6",2,null,null,null,"RR1","05F",1]
["08M","RA2",1,null,null,null,"RR1","05V",1]
["08M","RAS",1,null,null,null,"RR1","06H",1]
["08M","RC3",1,null,null,null,"RR1","06K",1]
["08M","RD8",1,null,null,null,"RR1","06M",1]
["08M","RFW",1,null,null,null,"RR1","06N",1]
["08M","RGP",1,null,null,null,"RR1","06W",1]
["08M","RKB",1,null,null,null,"RR1","07M",1]
["08M","RL4",1,null,null,null,"RR1","07Q",1]
["08M","RM3",1,null,null,null,"RR1","07X",1]
["08M","RMC",1,null,null,null,"RR1","07Y",1]
["08M","RNQ",1,null,null,null,"RR1","08A",1]
["08M","RQW",1,null,null,null,"RR1","08F",1]
["08M","RTD",1,null,null,null,"RR1","08N",1]
["08M","RTE",1,null,null,null,"RR1","08W",1]
["08M","RTH",1,null,null,null,"RR1","10E",1]
["08M","RTK",1,null,null,null,"RR1","10R",1]
["08M","RTR",1,null,null,null,"RR1","10T",1]
["08M","RVL",1,null,null,null,"RR1","10X",1]
["08M","RW3",1,null,null,null,"RR1","10Y",1]
["08M","RW6",1,null,null,null,"RR1","11A",1]
["08M","RWG",1,null,null,null,"RR1","11J",1]
["08M","RX1",1,null,null,null,"RR1","11T",1]
["08M","RXQ",1,null,null,null,"RR1","99A",1]
["08M","RXR",1,null,null,null,"RR1","99C",1]
["08N","RF4",2983,null,null,null,"RR1","99H",1]
["08N","RGC",779,null,null,null,"RR1","99J",1]
["08N","RQX",72,null,null,null,"RR1","99P",1]
["08N","RQW",71,null,null,null,"RR7","00F",1680]
["08N","RNH",44,null,null,null,"RR7","00P",221]
["08N","RNJ",44,null,null,null,"RR7","00J",72]
["08N","RRV",26,null,null,null,"RR7","00N",55]
["08N","RYJ",20,null,null,null,"RR7","00G",10]
["08N","RJ1",17,null,null,null,"RR7","00L",9]
["08N","RVL",10,null,null,null,"RR7","00H",7]
["08N","RQM",8,null,null,null,"RR7","99C",6]
["08N","RAL",5,null,null,null,"RR7","00D",2]
["08N","RAP",4,null,null,null,"RR7","00K",2]
["08N","RC9",4,null,null,null,"RR7","00M",1]
["08N","RKE",4,null,null,null,"RR7","01H",1]
["08N","RQ8",3,null,null,null,"RR7","01M",1]
["08N","RW3",3,null,null,null,"RR7","06W",1]
["08N","RWE",3,null,null,null,"RR8","03C",4000]
["08N","RJ2",2,null,null,null,"RR8","03G",3793]
["08N","RJ6",2,null,null,null,"RR8","02V",2201]
["08N","RJ7",2,null,null,null,"RR8","03R",185]
["08N","RR8",2,null,null,null,"RR8","02R",115]
["08N","RV8",2,null,null,null,"RR8","03Q",82]
["08N","RXK",2,null,null,null,"RR8","03J",75]
["08N","RAS",1,null,null,null,"RR8","02N",29]
["08N","RBA",1,null,null,null,"RR8","02W",24]
["08N","RC3",1,null,null,null,"RR8","03A",21]
["08N","RCX",1,null,null,null,"RR8","03E",20]
["08N","RDD",1,null,null,null,"RR8","02T",16]
["08N","RH8",1,null,null,null,"RR8","02Y",13]
["08N","RHQ",1,null,null,null,"RR8","03M",13]
["08N","RHU",1,null,null,null,"RR8","02X",9]
["08N","RHW",1,null,null,null,"RR8","03N",8]
["08N","RJE",1,null,null,null,"RR8","03F",7]
["08N","RJZ",1,null,null,null,"RR8","02P",4]
["08N","RLU",1,null,null,null,"RR8","03D",4]
["08N","RM1",1,null,null,null,"RR8","03K",4]
["08N","RMC",1,null,null,null,"RR8","03H",3]
["08N","RP5",1,null,null,null,"RR8","03L",3]
["08N","RPA",1,null,null,null,"RR8","03Y",3]
["08N","RR1",1,null,null,null,"RR8","04G",3]
["08N","RW6",1,null,null,null,"RR8","08Q",3]
["08N","RWG",1,null,null,null,"RR8","00L",2]
["08N","RXF",1,null,null,null,"RR8","00M",2]
["08P","RAX",1591,null,null,null,"RR8","00W",2]
["08P","RFW",888,null,null,null,"RR8","00Y",2]
["08P","RQM",238,null,null,null,"RR8","01A",2]
["08P","RYJ",164,null,null,null,"RR8","01D",2]
["08P","RJ7",16,null,null,null,"RR8","03T",2]
["08P","RJ1",14,null,null,null,"RR8","04C",2]
["08P","RTK",12,null,null,null,"RR8","06T",2]
["08P","RJZ",4,null,null,null,"RR8","08N",2]
["08P","RRV",4,null,null,null,"RR8","99A",2]
["08P","RVR",4,null,null,null,"RR8","Wales",2]
["08P","RDU",3,null,null,null,"RR8","00F",1]
["08P","RKE",3,null,null,null,"RR8","00H",1]
["08P","RAL",2,null,null,null,"RR8","00J",1]
["08P","RAS",2,null,null,null,"RR8","00Q",1]
["08P","RNJ",2,null,null,null,"RR8","00R",1]
["08P","RTH",2,null,null,null,"RR8","00V",1]
["08P","RBD",1,null,null,null,"RR8","01H",1]
["08P","RCB",1,null,null,null,"RR8","01J",1]
["08P","RCC",1,null,null,null,"RR8","01K",1]
["08P","RCD",1,null,null,null,"RR8","01M",1]
["08P","REP",1,null,null,null,"RR8","01X",1]
["08P","RFR",1,null,null,null,"RR8","02A",1]
["08P","RGQ",1,null,null,null,"RR8","02Q",1]
["08P","RHW",1,null,null,null,"RR8","04E",1]
["08P","RJ6",1,null,null,null,"RR8","04J",1]
["08P","RJE",1,null,null,null,"RR8","04K",1]
["08P","RM1",1,null,null,null,"RR8","04L",1]
["08P","RN5",1,null,null,null,"RR8","04R",1]
["08P","RNZ",1,null,null,null,"RR8","04X",1]
["08P","RQQ",1,null,null,null,"RR8","05A",1]
["08P","RQX",1,null,null,null,"RR8","06F",1]
["08P","RTE",1,null,null,null,"RR8","06W",1]
["08P","RWD",1,null,null,null,"RR8","07M",1]
["08P","RWH",1,null,null,null,"RR8","07V",1]
["08P","RXC",1,null,null,null,"RR8","07X",1]
["08P","RYQ",1,null,null,null,"RR8","08D",1]
["08Q","RJZ",2946,null,null,null,"RR8","08F",1]
["08Q","RJ1",2459,null,null,null,"RR8","08R",1]
["08Q","RJ2",47,null,null,null,"RR8","09A",1]
["08Q","RYQ",29,null,null,null,"RR8","09D",1]
["08Q","RQM",25,null,null,null,"RR8","09X",1]
["08Q","RRV",22,null,null,null,"RR8","12F",1]
["08Q","RYJ",12,null,null,null,"RR8","99C",1]
["08Q","RJ7",11,null,null,null,"RR8","99M",1]
["08Q","RJ6",10,null,null,null,"RR8","99N",1]
["08Q","RNH",10,null,null,null,"RRF","02H",3076]
["08Q","RF4",9,null,null,null,"RRF","01X",110]
["08Q","RQX",9,null,null,null,"RRF","00X",58]
["08Q","RNJ",7,null,null,null,"RRF","02G",31]
["08Q","RGC",6,null,null,null,"RRF","00T",25]
["08Q","RKE",5,null,null,null,"RRF","02E",12]
["08Q","RN7",5,null,null,null,"RRF","01G",5]
["08Q","RTP",5,null,null,null,"RRF","01W",3]
["08Q","RAX",4,null,null,null,"RRF","01M",2]
["08Q","RC3",3,null,null,null,"RRF","02A",2]
["08Q","RPA",3,null,null,null,"RRF","Wales",2]
["08Q","RR8",3,null,null,null,"RRF","00W",1]
["08Q","RTK",3,null,null,null,"RRF","00Y",1]
["08Q","RVV",3,null,null,null,"RRF","01F",1]
["08Q","RHW",2,null,null,null,"RRF","01H",1]
["08Q","RVL",2,null,null,null,"RRF","01K",1]
["08Q","RVR",2,null,null,null,"RRF","01T",1]
["08Q","RWH",2,null,null,null,"RRF","01Y",1]
["08Q","RA2",1,null,null,null,"RRF","02D",1]
["08Q","RAP",1,null,null,null,"RRF","02M",1]
["08Q","RAS",1,null,null,null,"RRF","03A",1]
["08Q","RBA",1,null,null,null,"RRF","03D",1]
["08Q","RC9",1,null,null,null,"RRF","03R",1]
["08Q","RCB",1,null,null,null,"RRF","04V",1]
["08Q","RCX",1,null,null,null,"RRF","06H",1]
["08Q","RD8",1,null,null,null,"RRF","07V",1]
["08Q","RDD",1,null,null,null,"RRF","08C",1]
["08Q","RDE",1,null,null,null,"RRF","09H",1]
["08Q","RFS",1,null,null,null,"RRK","13P",4]
["08Q","RGN",1,null,null,null,"RRK","04X",2]
["08Q","RGP",1,null,null,null,"RRK","05L",1]
["08Q","RHU",1,null,null,null,"RRV","08H",1667]
["08Q","RJE",1,null,null,null,"RRV","07R",1579]
["08Q","RK9",1,null,null,null,"RRV","07T",551]
["08Q","RKB",1,null,null,null,"RRV","07M",481]
["08Q","RMC",1,null,null,null,"RRV","08D",363]
["08Q","RNZ",1,null,null,null,"RRV","09A",346]
["08Q","RTX",1,null,null,null,"RRV","08V",207]
["08Q","RV8",1,null,null,null,"RRV","07X",163]
["08Q","RW3",1,null,null,null,"RRV","07P",99]
["08Q","RX1",1,null,null,null,"RRV","08W",64]
["08Q","RXC",1,null,null,null,"RRV","06N",58]
["08Q","RXH",1,null,null,null,"RRV","07W",55]
["08Q","RYR",1,null,null,null,"RRV","08M",48]
["08R","RJ7",1736,null,null,null,"RRV","08Y",48]
["08R","RVR",762,null,null,null,"RRV","08N",26]
["08R","RAX",690,null,null,null,"RRV","06K",22]
["08R","RQM",85,null,null,null,"RRV","08A",22]
["08R","RJ6",63,null,null,null,"RRV","08Q",22]
["08R","RJ1",37,null,null,null,"RRV","08E",21]
["08R","RYJ",17,null,null,null,"RRV","08K",19]
["08R","RJZ",15,null,null,null,"RRV","08X",18]
["08R","RRV",6,null,null,null,"RRV","08C",17]
["08R","RA2",4,null,null,null,"RRV","08L",13]
["08R","RC3",4,null,null,null,"RRV","07H",11]
["08R","RJ2",2,null,null,null,"RRV","06Q",9]
["08R","RR1",2,null,null,null,"RRV","07Q",9]
["08R","RVL",2,null,null,null,"RRV","06H",8]
["08R","RWF",2,null,null,null,"RRV","07L",7]
["08R","RYQ",2,null,null,null,"RRV","09J",7]
["08R","RAJ",1,null,null,null,"RRV","09W",7]
["08R","RAL",1,null,null,null,"RRV","06P",6]
["08R","RCB",1,null,null,null,"RRV","06T",6]
["08R","RD8",1,null,null,null,"RRV","07V",6]
["08R","REF",1,null,null,null,"RRV","08R",6]
["08R","RFW",1,null,null,null,"RRV","Wales",6]
["08R","RGC",1,null,null,null,"RRV","04F",5]
["08R","RGT",1,null,null,null,"RRV","07Y",5]
["08R","RH8",1,null,null,null,"RRV","06F",4]
["08R","RKE",1,null,null,null,"RRV","07G",4]
["08R","RNL",1,null,null,null,"RRV","07N",4]
["08R","RQX",1,null,null,null,"RRV","08G",4]
["08R","RR8",1,null,null,null,"RRV","08P",4]
["08R","RTK",1,null,null,null,"RRV","09Y",4]
["08R","RTP",1,null,null,null,"RRV","10H",4]
["08R","RV8",1,null,null,null,"RRV","99E",4]
["08R","RVJ",1,null,null,null,"RRV","99H",4]
["08R","RVW",1,null,null,null,"RRV","99J",4]
["08R","RWG",1,null,null,null,"RRV","03N",3]
["08R","RXC",1,null,null,null,"RRV","04D",2]
["08R","RXF",1,null,null,null,"RRV","04G",2]
["08T","RVR",2272,null,null,null,"RRV","05Y",2]
["08T","RJ7",97,null,null,null,"RRV","08F",2]
["08T","RAX",72,null,null,null,"RRV","08J",2]
["08T","RJ6",24,null,null,null,"RRV","09X",2]
["08T","RQM",9,null,null,null,"RRV","10D",2]
["08T","RTP",6,null,null,null,"RRV","13P",2]
["08T","RJ1",5,null,null,null,"RRV","99G",2]
["08T","RYQ",4,null,null,null,"RRV","00K",1]
["08T","RJZ",3,null,null,null,"RRV","00Q",1]
["08T","RAJ",2,null,null,null,"RRV","00V",1]
["08T","RJ2",2,null,null,null,"RRV","00X",1]
["08T","RBD",1,null,null,null,"RRV","04N",1]
["08T","RDE",1,null,null,null,"RRV","04Y",1]
["08T","REF",1,null,null,null,"RRV","05A",1]
["08T","RF4",1,null,null,null,"RRV","05C",1]
["08T","RFF",1,null,null,null,"RRV","05P",1]
["08T","RH8",1,null,null,null,"RRV","05W",1]
["08T","RN1",1,null,null,null,"RRV","06L",1]
["08T","RVV",1,null,null,null,"RRV","06V",1]
["08T","RW3",1,null,null,null,"RRV","06W",1]
["08T","RWH",1,null,null,null,"RRV","09C",1]
["08T","RYJ",1,null,null,null,"RRV","09D",1]
["08V","RNJ",3795,null,null,null,"RRV","09E",1]
["08V","RRV",207,null,null,null,"RRV","09G",1]
["08V","RQX",182,null,null,null,"RRV","09L",1]
["08V","RJ1",60,null,null,null,"RRV","09N",1]
["08V","RNH",21,null,null,null,"RRV","09P",1]
["08V","RQM",18,null,null,null,"RRV","10J",1]
["08V","RYJ",17,null,null,null,"RRV","10Q",1]
["08V","RF4",16,null,null,null,"RRV","10V",1]
["08V","RGC",14,null,null,null,"RRV","10X",1]
["08V","RYQ",13,null,null,null,"RRV","10Y",1]
["08V","RKE",10,null,null,null,"RRV","11J",1]
["08V","RJZ",6,null,null,null,"RRV","99F",1]
["08V","RVL",5,null,null,null,"RT5","04C",8]
["08V","RAL",4,null,null,null,"RT5","03W",2]
["08V","RC9",4,null,null,null,"RT5","04V",1]
["08V","RGQ",3,null,null,null,"RTD","00H",1920]
["08V","RV8",3,null,null,null,"RTD","99C",1729]
["08V","RGR",2,null,null,null,"RTD","00G",1614]
["08V","RGT",2,null,null,null,"RTD","00L",868]
["08V","RJ2",2,null,null,null,"RTD","00F",748]
["08V","RJ7",2,null,null,null,"RTD","00J",135]
["08V","RQ8",2,null,null,null,"RTD","00P",75]
["08V","RA9",1,null,null,null,"RTD","00N",66]
["08V","RAP",1,null,null,null,"RTD","01H",41]
["08V","RBK",1,null,null,null,"RTD","00D",31]
["08V","RD7",1,null,null,null,"RTD","00M",15]
["08V","RDD",1,null,null,null,"RTD","00K",10]
["08V","RHU",1,null,null,null,"RTD","00C",4]
["08V","RJ6",1,null,null,null,"RTD","03D",2]
["08V","RJL",1,null,null,null,"RTD","01G",1]
["08V","RM1",1,null,null,null,"RTD","01N",1]
["08V","RMC",1,null,null,null,"RTD","01W",1]
["08V","RN7",1,null,null,null,"RTD","02M",1]
["08V","RNA",1,null,null,null,"RTD","02N",1]
["08V","RTD",1,null,null,null,"RTD","02P",1]
["08V","RW3",1,null,null,null,"RTD","02X",1]
["08V","RWH",1,null,null,null,"RTD","03E",1]
["08V","RWY",1,null,null,null,"RTD","03R",1]
["08V","RX1",1,null,null,null,"RTD","04C",1]
["08V","RXK",1,null,null,null,"RTD","04R",1]
["08V","RXQ",1,null,null,null,"RTD","07L",1]
["08V","RXR",1,null,null,null,"RTD","08E",1]
["08W","RGC",4418,null,null,null,"RTD","08M",1]
["08W","RQX",295,null,null,null,"RTD","08V",1]
["08W","RAP",82,null,null,null,"RTD","10H",1]
["08W","RRV",64,null,null,null,"RTD","10V",1]
["08W","RF4",44,null,null,null,"RTD","99J",1]
["08W","RNJ",42,null,null,null,"RTD","99P",1]
["08W","RQW",36,null,null,null,"RTE","11M",6624]
["08W","RKE",34,null,null,null,"RTE","05T",185]
["08W","RNH",30,null,null,null,"RTE","05F",31]
["08W","RVL",20,null,null,null,"RTE","Wales",25]
["08W","RYJ",20,null,null,null,"RTE","11H",7]
["08W","RAL",15,null,null,null,"RTE","99N",7]
["08W","RJ1",10,null,null,null,"RTE","10Q",5]
["08W","RJZ",10,null,null,null,"RTE","12A",5]
["08W","RQM",10,null,null,null,"RTE","11T",4]
["08W","RYQ",5,null,null,null,"RTE","12D",4]
["08W","RJ2",4,null,null,null,"RTE","99Q",4]
["08W","RJ7",4,null,null,null,"RTE","05C",3]
["08W","RXK",4,null,null,null,"RTE","11X",3]
["08W","RAX",3,null,null,null,"RTE","01H",2]
["08W","RC9",3,null,null,null,"RTE","05Q",2]
["08W","RV8",3,null,null,null,"RTE","07R",2]
["08W","RJE",2,null,null,null,"RTE","08L",2]
["08W","RN7",2,null,null,null,"RTE","09N",2]
["08W","RAE",1,null,null,null,"RTE","11A",2]
["08W","RAS",1,null,null,null,"RTE","00D",1]
["08W","RC3",1,null,null,null,"RTE","01A",1]
["08W","RDD",1,null,null,null,"RTE","02R",1]
["08W","RDE",1,null,null,null,"RTE","03J",1]
["08W","REP",1,null,null,null,"RTE","03N",1]
["08W","RFW",1,null,null,null,"RTE","03T",1]
["08W","RGQ",1,null,null,null,"RTE","04X",1]
["08W","RGT",1,null,null,null,"RTE","05A",1]
["08W","RK9",1,null,null,null,"RTE","05J",1]
["08W","RL4",1,null,null,null,"RTE","05R",1]
["08W","RQ8",1,null,null,null,"RTE","05W",1]
["08W","RR1",1,null,null,null,"RTE","05X",1]
["08W","RTE",1,null,null,null,"RTE","06D",1]
["08W","RTK",1,null,null,null,"RTE","06F",1]
["08W","RTP",1,null,null,null,"RTE","06K",1]
["08W","RW3",1,null,null,null,"RTE","06N",1]
["08W","RWH",1,null,null,null,"RTE","06V",1]
["08W","RXH",1,null,null,null,"RTE","07H",1]
["08W","RXQ",1,null,null,null,"RTE","07W",1]
["08W","RYR",1,null,null,null,"RTE","07X",1]
["08X","RJ7",2956,null,null,null,"RTE","08C",1]
["08X","RQM",1688,null,null,null,"RTE","08F",1]
["08X","RAX",699,null,null,null,"RTE","08K",1]
["08X","RJ1",562,null,null,null,"RTE","08M",1]
["08X","RYJ",76,null,null,null,"RTE","08P",1]
["08X","RJZ",50,null,null,null,"RTE","08W",1]
["08X","RVR",42,null,null,null,"RTE","08X",1]
["08X","RJ6",18,null,null,null,"RTE","09L",1]
["08X","RRV",18,null,null,null,"RTE","10M",1]
["08X","RTK",7,null,null,null,"RTE","10W",1]
["08X","RF4",4,null,null,null,"RTE","10X",1]
["08X","RJC",4,null,null,null,"RTE","10Y",1]
["08X","RFW",3,null,null,null,"RTE","99P",1]
["08X","RN3",3,null,null,null,"RTF","00L",2679]
["08X","RNH",3,null,null,null,"RTF","99C",990]
["08X","RV8",3,null,null,null,"RTF","00F",45]
["08X","RYQ",3,null,null,null,"RTF","00J",24]
["08X","RAS",2,null,null,null,"RTF","00G",18]
["08X","RBD",2,null,null,null,"RTF","00H",12]
["08X","REF",2,null,null,null,"RTF","01H",7]
["08X","RKE",2,null,null,null,"RTF","03C",2]
["08X","RNZ",2,null,null,null,"RTF","00D",1]
["08X","RQX",2,null,null,null,"RTF","00N",1]
["08X","RYR",2,null,null,null,"RTF","02G",1]
["08X","RA4",1,null,null,null,"RTF","02X",1]
["08X","RAP",1,null,null,null,"RTF","03E",1]
["08X","RC1",1,null,null,null,"RTF","Wales",1]
["08X","RC3",1,null,null,null,"RTG","04R",5884]
["08X","RCD",1,null,null,null,"RTG","03X",367]
["08X","RD3",1,null,null,null,"RTG","04V",137]
["08X","RD8",1,null,null,null,"RTG","05D",117]
["08X","RDU",1,null,null,null,"RTG","03Y",38]
["08X","RGC",1,null,null,null,"RTG","04M",26]
["08X","RJ2",1,null,null,null,"RTG","05G",13]
["08X","RL4",1,null,null,null,"RTG","04K",7]
["08X","RMC",1,null,null,null,"RTG","04N",7]
["08X","RNJ",1,null,null,null,"RTG","05Q",7]
["08X","RTE",1,null,null,null,"RTG","04E",6]
["08X","RTG",1,null,null,null,"RTG","04J",6]
["08X","RTH",1,null,null,null,"RTG","04C",4]
["08X","RTP",1,null,null,null,"RTG","05W",4]
["08X","RVJ",1,null,null,null,"RTG","03T",3]
["08X","RVV",1,null,null,null,"RTG","03W",3]
["08X","RW3",1,null,null,null,"RTG","05L",3]
["08X","RWE",1,null,null,null,"RTG","05Y",3]
["08X","RWG",1,null,null,null,"RTG","04H",2]
["08X","RX1",1,null,null,null,"RTG","01C",1]
["08X","RXF",1,null,null,null,"RTG","01G",1]
["08X","RXH",1,null,null,null,"RTG","01H",1]
["08X","RXK",1,null,null,null,"RTG","01Y",1]
["08X","RXQ",1,null,null,null,"RTG","02Q",1]
["08X","RXR",1,null,null,null,"RTG","02X",1]
["08Y","RYJ",1456,null,null,null,"RTG","03D",1]
["08Y","RQM",1372,null,null,null,"RTG","03J",1]
["08Y","RRV",48,null,null,null,"RTG","04F",1]
["08Y","RJ1",30,null,null,null,"RTG","05A",1]
["08Y","RV8",13,null,null,null,"RTG","05C",1]
["08Y","RAL",10,null,null,null,"RTG","05V",1]
["08Y","RJZ",6,null,null,null,"RTG","06N",1]
["08Y","RKE",6,null,null,null,"RTG","07L",1]
["08Y","RJ7",3,null,null,null,"RTG","07N",1]
["08Y","RAS",2,null,null,null,"RTG","07P",1]
["08Y","RC3",2,null,null,null,"RTG","07T",1]
["08Y","RF4",2,null,null,null,"RTG","08E",1]
["08Y","RNH",2,null,null,null,"RTG","08F",1]
["08Y","RTK",2,null,null,null,"RTG","08X",1]
["08Y","RVL",2,null,null,null,"RTG","10Q",1]
["08Y","RWG",2,null,null,null,"RTG","10R",1]
["08Y","RAJ",1,null,null,null,"RTG","11J",1]
["08Y","RAP",1,null,null,null,"RTG","12A",1]
["08Y","RAX",1,null,null,null,"RTG","13P",1]
["08Y","RBD",1,null,null,null,"RTG","99H",1]
["08Y","RBZ",1,null,null,null,"RTG","99N",1]
["08Y","RD7",1,null,null,null,"RTG","99P",1]
["08Y","REF",1,null,null,null,"RTG","Wales",1]
["08Y","RGQ",1,null,null,null,"RTH","10Q",8042]
["08Y","RGR",1,null,null,null,"RTH","04G",382]
["08Y","RHW",1,null,null,null,"RTH","10Y",218]
["08Y","RK9",1,null,null,null,"RTH","10M",139]
["08Y","RM3",1,null,null,null,"RTH","10H",128]
["08Y","RN7",1,null,null,null,"RTH","05R",98]
["08Y","RNJ",1,null,null,null,"RTH","11M",47]
["08Y","RNS",1,null,null,null,"RTH","10N",45]
["08Y","RNZ",1,null,null,null,"RTH","04F",37]
["08Y","RQX",1,null,null,null,"RTH","12D",32]
["08Y","RTH",1,null,null,null,"RTH","10W",17]
["08Y","RVR",1,null,null,null,"RTH","11C",13]
["08Y","RW6",1,null,null,null,"RTH","11D",9]
["08Y","RWE",1,null,null,null,"RTH","99N",8]
["08Y","RXL",1,null,null,null,"RTH","05A",7]
["08Y","RXQ",1,null,null,null,"RTH","06N",7]
["09A","RYJ",1039,null,null,null,"RTH","10T",7]
["09A","RQM",478,null,null,null,"RTH","07W",6]
["09A","RRV",346,null,null,null,"RTH","10G",6]
["09A","RJ1",115,null,null,null,"RTH","03W",5]
["09A","RAL",39,null,null,null,"RTH","06F",5]
["09A","RKE",7,null,null,null,"RTH","03V",4]
["09A","RJZ",6,null,null,null,"RTH","13P",4]
["09A","RQX",6,null,null,null,"RTH","09G",3]
["09A","RV8",5,null,null,null,"RTH","99M",3]
["09A","RJ7",3,null,null,null,"RTH","02A",2]
["09A","RWG",3,null,null,null,"RTH","02D",2]
["09A","RAS",2,null,null,null,"RTH","04R",2]
["09A","RF4",2,null,null,null,"RTH","05T",2]
["09A","RGC",2,null,null,null,"RTH","05Y",2]
["09A","RGT",2,null,null,null,"RTH","06L",2]
["09A","RNH",2,null,null,null,"RTH","07Q",2]
["09A","RVL",2,null,null,null,"RTH","08E",2]
["09A","RAJ",1,null,null,null,"RTH","08G",2]
["09A","RCF",1,null,null,null,"RTH","08H",2]
["09A","RD3",1,null,null,null,"RTH","08P",2]
["09A","RD8",1,null,null,null,"RTH","09Y",2]
["09A","REP",1,null,null,null,"RTH","10J",2]
["09A","RFS",1,null,null,null,"RTH","11A",2]
["09A","RGN",1,null,null,null,"RTH","Wales",2]
["09A","RJ2",1,null,null,null,"RTH","00G",1]
["09A","RNJ",1,null,null,null,"RTH","00J",1]
["09A","RR8",1,null,null,null,"RTH","00M",1]
["09A","RTR",1,null,null,null,"RTH","00W",1]
["09A","RWH",1,null,null,null,"RTH","01C",1]
["09A","RXC",1,null,null,null,"RTH","02Q",1]
["09A","RXH",1,null,null,null,"RTH","02R",1]
["09A","RYQ",1,null,null,null,"RTH","02W",1]
["09C","RVV",1401,null,null,null,"RTH","02X",1]
["09C","RWF",10,null,null,null,"RTH","02Y",1]
["09C","RJ1",6,null,null,null,"RTH","03D",1]
["09C","RJ2",3,null,null,null,"RTH","03E",1]
["09C","RPA",3,null,null,null,"RTH","03T",1]
["09C","RYQ",2,null,null,null,"RTH","04K",1]
["09C","RA9",1,null,null,null,"RTH","05P",1]
["09C","RBA",1,null,null,null,"RTH","06A",1]
["09C","RDD",1,null,null,null,"RTH","06K",1]
["09C","RN7",1,null,null,null,"RTH","06P",1]
["09C","RRV",1,null,null,null,"RTH","06T",1]
["09C","RVR",1,null,null,null,"RTH","07N",1]
["09C","RWJ",1,null,null,null,"RTH","07P",1]
["09C","RXC",1,null,null,null,"RTH","07R",1]
["09D","RXH",3057,null,null,null,"RTH","07X",1]
["09D","RYR",362,null,null,null,"RTH","08C",1]
["09D","RXC",43,null,null,null,"RTH","08F",1]
["09D","RJ1",5,null,null,null,"RTH","08L",1]
["09D","RAP",2,null,null,null,"RTH","08M",1]
["09D","RJZ",2,null,null,null,"RTH","08X",1]
["09D","RQM",2,null,null,null,"RTH","08Y",1]
["09D","RTP",2,null,null,null,"RTH","09E",1]
["09D","RYJ",2,null,null,null,"RTH","09J",1]
["09D","RA2",1,null,null,null,"RTH","09L",1]
["09D","RA3",1,null,null,null,"RTH","09N",1]
["09D","RA7",1,null,null,null,"RTH","09X",1]
["09D","RAL",1,null,null,null,"RTH","10D",1]
["09D","RAX",1,null,null,null,"RTH","10X",1]
["09D","RBN",1,null,null,null,"RTH","11E",1]
["09D","RBZ",1,null,null,null,"RTH","11J",1]
["09D","RGN",1,null,null,null,"RTH","11N",1]
["09D","RH8",1,null,null,null,"RTH","12A",1]
["09D","RHU",1,null,null,null,"RTH","99D",1]
["09D","RHW",1,null,null,null,"RTH","99H",1]
["09D","RJ2",1,null,null,null,"RTH","99K",1]
["09D","RJ6",1,null,null,null,"RTH","99P",1]
["09D","RJR",1,null,null,null,"RTH","99Q",1]
["09D","RKB",1,null,null,null,"RTK","09Y",4666]
["09D","RM3",1,null,null,null,"RTK","07Y",181]
["09D","RR8",1,null,null,null,"RTK","11C",120]
["09D","RRV",1,null,null,null,"RTK","99H",58]
["09D","RV8",1,null,null,null,"RTK","10G",50]
["09D","RVV",1,null,null,null,"RTK","09N",22]
["09D","RWF",1,null,null,null,"RTK","99M",16]
["09D","RWG",1,null,null,null,"RTK","08P",12]
["09D","RWH",1,null,null,null,"RTK","10C",11]
["09D","RWJ",1,null,null,null,"RTK","07W",7]
["09D","RX1",1,null,null,null,"RTK","08X",7]
["09D","RXL",1,null,null,null,"RTK","07Q",6]
["09D","RYQ",1,null,null,null,"RTK","08G",6]
["09E","RVV",1975,null,null,null,"RTK","09L",6]
["09E","RPA",12,null,null,null,"RTK","99J",5]
["09E","RWF",7,null,null,null,"RTK","08J",3]
["09E","RJ1",6,null,null,null,"RTK","08Q",3]
["09E","RJ2",2,null,null,null,"RTK","09F",3]
["09E","RTK",2,null,null,null,"RTK","09H",3]
["09E","RYQ",2,null,null,null,"RTK","10H",3]
["09E","RCF",1,null,null,null,"RTK","10T",3]
["09E","RGQ",1,null,null,null,"RTK","06K",2]
["09E","RHU",1,null,null,null,"RTK","06L",2]
["09E","RKE",1,null,null,null,"RTK","06N",2]
["09E","RRV",1,null,null,null,"RTK","07M",2]
["09E","RTH",1,null,null,null,"RTK","07N",2]
["09E","RVL",1,null,null,null,"RTK","07V",2]
["09E","RYR",1,null,null,null,"RTK","07X",2]
["09F","RXC",1828,null,null,null,"RTK","08Y",2]
["09F","RXH",69,null,null,null,"RTK","09E",2]
["09F","RJ1",6,null,null,null,"RTK","09G",2]
["09F","RJZ",5,null,null,null,"RTK","10J",2]
["09F","RYR",5,null,null,null,"RTK","10V",2]
["09F","RWF",4,null,null,null,"RTK","10W",2]
["09F","RHU",3,null,null,null,"RTK","11D",2]
["09F","RTK",3,null,null,null,"RTK","11J",2]
["09F","RTP",2,null,null,null,"RTK","02P",1]
["09F","RVV",2,null,null,null,"RTK","02T",1]
["09F","RAL",1,null,null,null,"RTK","04C",1]
["09F","RBA",1,null,null,null,"RTK","05C",1]
["09F","RC1",1,null,null,null,"RTK","05T",1]
["09F","RC9",1,null,null,null,"RTK","06M",1]
["09F","RF4",1,null,null,null,"RTK","07R",1]
["09F","RFW",1,null,null,null,"RTK","08C",1]
["09F","RKB",1,null,null,null,"RTK","08K",1]
["09F","RLU",1,null,null,null,"RTK","08M",1]
["09F","RMC",1,null,null,null,"RTK","08R",1]
["09F","RNJ",1,null,null,null,"RTK","08W",1]
["09F","RNL",1,null,null,null,"RTK","10K",1]
["09F","RNQ",1,null,null,null,"RTK","10X",1]
["09F","RQM",1,null,null,null,"RTK","11A",1]
["09F","RQX",1,null,null,null,"RTK","11M",1]
["09F","RVL",1,null,null,null,"RTK","12A",1]
["09F","RX1",1,null,null,null,"RTK","12D",1]
["09G","RYR",4653,null,null,null,"RTK","Wales",1]
["09G","RXH",136,null,null,null,"RTP","09L",2090]
["09G","RA2",36,null,null,null,"RTP","09H",1645]
["09G","RHU",33,null,null,null,"RTP","09X",418]
["09G","RTP",18,null,null,null,"RTP","99H",302]
["09G","RHM",9,null,null,null,"RTP","07V",185]
["09G","RJ7",6,null,null,null,"RTP","09G",18]
["09G","RQM",4,null,null,null,"RTP","99J",17]
["09G","RVR",4,null,null,null,"RTP","08T",6]
["09G","RVV",4,null,null,null,"RTP","08Q",5]
["09G","RTH",3,null,null,null,"RTP","99K",3]
["09G","RXC",3,null,null,null,"RTP","09D",2]
["09G","RAX",2,null,null,null,"RTP","09F",2]
["09G","RN1",2,null,null,null,"RTP","10Q",2]
["09G","RTK",2,null,null,null,"RTP","10R",2]
["09G","RBA",1,null,null,null,"RTP","11A",2]
["09G","RBD",1,null,null,null,"RTP","01C",1]
["09G","RC1",1,null,null,null,"RTP","01G",1]
["09G","RCB",1,null,null,null,"RTP","03C",1]
["09G","RD3",1,null,null,null,"RTP","05A",1]
["09G","RDU",1,null,null,null,"RTP","05L",1]
["09G","RFW",1,null,null,null,"RTP","06F",1]
["09G","RGN",1,null,null,null,"RTP","06K",1]
["09G","RGP",1,null,null,null,"RTP","06P",1]
["09G","RGQ",1,null,null,null,"RTP","07Q",1]
["09G","RH8",1,null,null,null,"RTP","07X",1]
["09G","RJ1",1,null,null,null,"RTP","07Y",1]
["09G","RJ2",1,null,null,null,"RTP","08J",1]
["09G","RJ6",1,null,null,null,"RTP","08K",1]
["09G","RJZ",1,null,null,null,"RTP","08R",1]
["09G","RLU",1,null,null,null,"RTP","08W",1]
["09G","RN5",1,null,null,null,"RTP","08X",1]
["09G","RQ8",1,null,null,null,"RTP","09P",1]
["09G","RRV",1,null,null,null,"RTP","10A",1]
["09G","RTR",1,null,null,null,"RTP","10K",1]
["09G","RVL",1,null,null,null,"RTP","11J",1]
["09G","RWE",1,null,null,null,"RTP","11M",1]
["09G","RWF",1,null,null,null,"RTP","12A",1]
["09G","RWH",1,null,null,null,"RTP","99E",1]
["09G","RXQ",1,null,null,null,"RTP","99M",1]
["09G","RYQ",1,null,null,null,"RTR","00M",4622]
["09H","RTP",1645,null,null,null,"RTR","03D",1337]
["09H","RXH",211,null,null,null,"RTR","00K",550]
["09H","RVR",11,null,null,null,"RTR","03E",100]
["09H","RYR",6,null,null,null,"RTR","03Q",35]
["09H","RJ7",5,null,null,null,"RTR","00C",33]
["09H","RDR",4,null,null,null,"RTR","00D",29]
["09H","RXC",4,null,null,null,"RTR","03M",13]
["09H","RJ1",3,null,null,null,"RTR","00J",8]
["09H","RTK",3,null,null,null,"RTR","01H",5]
["09H","RAX",2,null,null,null,"RTR","99C",4]
["09H","RHM",2,null,null,null,"RTR","00F",3]
["09H","RJ6",2,null,null,null,"RTR","00L",3]
["09H","RJZ",2,null,null,null,"RTR","02Y",3]
["09H","RYJ",2,null,null,null,"RTR","00H",2]
["09H","RA2",1,null,null,null,"RTR","00N",2]
["09H","RA4",1,null,null,null,"RTR","06H",2]
["09H","RD7",1,null,null,null,"RTR","00G",1]
["09H","REF",1,null,null,null,"RTR","00T",1]
["09H","RHW",1,null,null,null,"RTR","01A",1]
["09H","RKE",1,null,null,null,"RTR","01G",1]
["09H","RM3",1,null,null,null,"RTR","01X",1]
["09H","RRF",1,null,null,null,"RTR","03N",1]
["09H","RVL",1,null,null,null,"RTR","03T",1]
["09H","RWH",1,null,null,null,"RTR","04G",1]
["09H","RXQ",1,null,null,null,"RTR","04J",1]
["09H","RYQ",1,null,null,null,"RTR","04K",1]
["09J","RN7",3030,null,null,null,"RTR","04N",1]
["09J","RYQ",102,null,null,null,"RTR","05L",1]
["09J","RPA",23,null,null,null,"RTR","05N",1]
["09J","RJ1",15,null,null,null,"RTR","06K",1]
["09J","RJZ",9,null,null,null,"RTR","07N",1]
["09J","RWF",8,null,null,null,"RTR","07V",1]
["09J","RRV",7,null,null,null,"RTR","08L",1]
["09J","RJ2",4,null,null,null,"RTR","08M",1]
["09J","RJ7",3,null,null,null,"RTR","09A",1]
["09J","RGT",2,null,null,null,"RTR","09G",1]
["09J","RNH",2,null,null,null,"RTR","09N",1]
["09J","RQM",2,null,null,null,"RTR","10J",1]
["09J","RVV",2,null,null,null,"RTR","10Q",1]
["09J","RXC",2,null,null,null,"RTR","10W",1]
["09J","RYJ",2,null,null,null,"RTR","11C",1]
["09J","RA9",1,null,null,null,"RTR","11M",1]
["09J","RAJ",1,null,null,null,"RTR","99M",1]
["09J","RBA",1,null,null,null,"RTR","Wales",1]
["09J","RJ6",1,null,null,null,"RTX","01H",1846]
["09J","RJF",1,null,null,null,"RTX","01K",1576]
["09J","RL4",1,null,null,null,"RTX","02M",44]
["09J","RNA",1,null,null,null,"RTX","01E",7]
["09J","RTH",1,null,null,null,"RTX","02N",5]
["09J","RTX",1,null,null,null,"RTX","00R",4]
["09J","RVJ",1,null,null,null,"RTX","01A",3]
["09J","RVR",1,null,null,null,"RTX","00K",2]
["09J","RVW",1,null,null,null,"RTX","11J",2]
["09J","RW3",1,null,null,null,"RTX","00F",1]
["09J","RWG",1,null,null,null,"RTX","00P",1]
["09L","RTP",2090,null,null,null,"RTX","00Q",1]
["09L","RJ6",43,null,null,null,"RTX","00W",1]
["09L","RVR",30,null,null,null,"RTX","00X",1]
["09L","RWF",13,null,null,null,"RTX","01G",1]
["09L","RXH",13,null,null,null,"RTX","01J",1]
["09L","RXC",12,null,null,null,"RTX","01M",1]
["09L","RJ7",11,null,null,null,"RTX","01R",1]
["09L","RYQ",10,null,null,null,"RTX","01Y",1]
["09L","RJ1",9,null,null,null,"RTX","02G",1]
["09L","RTK",6,null,null,null,"RTX","02R",1]
["09L","RA2",4,null,null,null,"RTX","02X",1]
["09L","RQM",3,null,null,null,"RTX","03D",1]
["09L","RAX",2,null,null,null,"RTX","03F",1]
["09L","RJZ",2,null,null,null,"RTX","03N",1]
["09L","RNJ",2,null,null,null,"RTX","04E",1]
["09L","RYJ",2,null,null,null,"RTX","04N",1]
["09L","RAS",1,null,null,null,"RTX","05A",1]
["09L","RBD",1,null,null,null,"RTX","08Q",1]
["09L","RBT",1,null,null,null,"RTX","09J",1]
["09L","REP",1,null,null,null,"RTX","10Y",1]
["09L","RGP",1,null,null,null,"RTX","99A",1]
["09L","RJ2",1,null,null,null,"RV5","08L",2]
["09L","RKB",1,null,null,null,"RV5","08A",1]
["09L","RLU",1,null,null,null,"RV5","08K",1]
["09L","RN7",1,null,null,null,"RV8","07P",2787]
["09L","RQX",1,null,null,null,"RV8","08E",2319]
["09L","RRV",1,null,null,null,"RV8","07W",232]
["09L","RTE",1,null,null,null,"RV8","07M",206]
["09L","RTH",1,null,null,null,"RV8","08G",73]
["09L","RVL",1,null,null,null,"RV8","06N",35]
["09L","RVV",1,null,null,null,"RV8","08Y",13]
["09L","RWP",1,null,null,null,"RV8","07R",7]
["09L","RXR",1,null,null,null,"RV8","07X",7]
["09L","RYR",1,null,null,null,"RV8","07V",5]
["09N","RA2",2299,null,null,null,"RV8","07Y",5]
["09N","RTK",22,null,null,null,"RV8","09A",5]
["09N","RDU",21,null,null,null,"RV8","10H",5]
["09N","RHU",16,null,null,null,"RV8","06P",4]
["09N","RYR",9,null,null,null,"RV8","08C",4]
["09N","RJ7",4,null,null,null,"RV8","08H",4]
["09N","RAX",2,null,null,null,"RV8","08M",4]
["09N","RJ1",2,null,null,null,"RV8","04C",3]
["09N","RN1",2,null,null,null,"RV8","05L",3]
["09N","RQM",2,null,null,null,"RV8","08D",3]
["09N","RTE",2,null,null,null,"RV8","08K",3]
["09N","RVR",2,null,null,null,"RV8","08V",3]
["09N","RYQ",2,null,null,null,"RV8","08W",3]
["09N","RAL",1,null,null,null,"RV8","08X",3]
["09N","RBD",1,null,null,null,"RV8","11H",3]
["09N","RCX",1,null,null,null,"RV8","Wales",3]
["09N","RD7",1,null,null,null,"RV8","03N",2]
["09N","RJ6",1,null,null,null,"RV8","06F",2]
["09N","RJC",1,null,null,null,"RV8","08A",2]
["09N","RMC",1,null,null,null,"RV8","08N",2]
["09N","RN5",1,null,null,null,"RV8","11C",2]
["09N","RNH",1,null,null,null,"RV8","00G",1]
["09N","RP5",1,null,null,null,"RV8","00H",1]
["09N","RPA",1,null,null,null,"RV8","00Q",1]
["09N","RQ8",1,null,null,null,"RV8","01W",1]
["09N","RRV",1,null,null,null,"RV8","02F",1]
["09N","RTH",1,null,null,null,"RV8","02V",1]
["09N","RTR",1,null,null,null,"RV8","03C",1]
["09N","RXH",1,null,null,null,"RV8","03W",1]
["09N","RXQ",1,null,null,null,"RV8","04F",1]
["09N","RYJ",1,null,null,null,"RV8","04G",1]
["09P","RXC",1877,null,null,null,"RV8","05A",1]
["09P","RWF",16,null,null,null,"RV8","05G",1]
["09P","RXH",16,null,null,null,"RV8","05Y",1]
["09P","RVV",11,null,null,null,"RV8","06H",1]
["09P","RJ1",6,null,null,null,"RV8","06K",1]
["09P","RJ7",3,null,null,null,"RV8","06L",1]
["09P","RHU",2,null,null,null,"RV8","07H",1]
["09P","RJ6",2,null,null,null,"RV8","07L",1]
["09P","RVR",2,null,null,null,"RV8","07N",1]
["09P","RAL",1,null,null,null,"RV8","07T",1]
["09P","RGN",1,null,null,null,"RV8","08L",1]
["09P","RJ2",1,null,null,null,"RV8","08Q",1]
["09P","RJC",1,null,null,null,"RV8","08R",1]
["09P","RJL",1,null,null,null,"RV8","09D",1]
["09P","RJZ",1,null,null,null,"RV8","09P",1]
["09P","RKE",1,null,null,null,"RV8","09W",1]
["09P","RNJ",1,null,null,null,"RV8","10G",1]
["09P","RQX",1,null,null,null,"RV8","10J",1]
["09P","RRV",1,null,null,null,"RV8","10Q",1]
["09P","RTP",1,null,null,null,"RV8","10T",1]
["09P","RV8",1,null,null,null,"RV8","99G",1]
["09P","RYQ",1,null,null,null,"RV8","99M",1]
["09P","RYR",1,null,null,null,"RVJ","11H",2945]
["09W","RPA",3604,null,null,null,"RVJ","12A",2651]
["09W","RN7",110,null,null,null,"RVJ","11T",633]
["09W","RWF",50,null,null,null,"RVJ","11M",61]
["09W","RVV",18,null,null,null,"RVJ","Wales",37]
["09W","RJZ",10,null,null,null,"RVJ","11E",32]
["09W","RJ1",9,null,null,null,"RVJ","11X",18]
["09W","RRV",7,null,null,null,"RVJ","99N",8]
["09W","RDD",4,null,null,null,"RVJ","12D",5]
["09W","RYQ",4,null,null,null,"RVJ","99P",5]
["09W","RJ2",3,null,null,null,"RVJ","05T",4]
["09W","RQM",3,null,null,null,"RVJ","00Y",2]
["09W","RQX",3,null,null,null,"RVJ","01C",2]
["09W","RAL",2,null,null,null,"RVJ","05L",2]
["09W","RGP",2,null,null,null,"RVJ","10M",2]
["09W","RJ7",2,null,null,null,"RVJ","00X",1]
["09W","RNH",2,null,null,null,"RVJ","03T",1]
["09W","RVR",2,null,null,null,"RVJ","05F",1]
["09W","RYJ",2,null,null,null,"RVJ","05H",1]
["09W","RAE",1,null,null,null,"RVJ","05J",1]
["09W","RBK",1,null,null,null,"RVJ","05W",1]
["09W","RCF",1,null,null,null,"RVJ","06A",1]
["09W","RF4",1,null,null,null,"RVJ","06M",1]
["09W","RGQ",1,null,null,null,"RVJ","07L",1]
["09W","RGT",1,null,null,null,"RVJ","07M",1]
["09W","RHQ",1,null,null,null,"RVJ","08L",1]
["09W","RJE",1,null,null,null,"RVJ","08R",1]
["09W","RK9",1,null,null,null,"RVJ","08X",1]
["09W","RNJ",1,null,null,null,"RVJ","09J",1]
["09W","RV8",1,null,null,null,"RVJ","11A",1]
["09W","RVL",1,null,null,null,"RVJ","11J",1]
["09W","RWJ",1,null,null,null,"RVJ","11N",1]
["09W","RXC",1,null,null,null,"RVJ","99G",1]
["09W","RXH",1,null,null,null,"RVL","07M",2690]
["09W","RXK",1,null,null,null,"RVL","07X",2555]
["09W","RYR",1,null,null,null,"RVL","06N",733]
["09X","RXH",1752,null,null,null,"RVL","06K",447]
["09X","RTP",418,null,null,null,"RVL","08E",277]
["09X","RYR",122,null,null,null,"RVL","07P",170]
["09X","RXC",52,null,null,null,"RVL","08D",141]
["09X","RA2",32,null,null,null,"RVL","08W",20]
["09X","RWF",9,null,null,null,"RVL","07T",10]
["09X","RJ1",4,null,null,null,"RVL","08N",10]
["09X","RHU",2,null,null,null,"RVL","07H",9]
["09X","RJZ",2,null,null,null,"RVL","08H",9]
["09X","RQM",2,null,null,null,"RVL","08G",8]
["09X","RRV",2,null,null,null,"RVL","07R",6]
["09X","RVR",2,null,null,null,"RVL","06F",5]
["09X","RYQ",2,null,null,null,"RVL","07W",5]
["09X","5QT",1,null,null,null,"RVL","08V",5]
["09X","RAX",1,null,null,null,"RVL","06H",3]
["09X","RC9",1,null,null,null,"RVL","10H",3]
["09X","RD3",1,null,null,null,"RVL","06P",2]
["09X","RGT",1,null,null,null,"RVL","06Q",2]
["09X","RJ6",1,null,null,null,"RVL","07G",2]
["09X","RJ7",1,null,null,null,"RVL","07J",2]
["09X","RNH",1,null,null,null,"RVL","07L",2]
["09X","RNQ",1,null,null,null,"RVL","07V",2]
["09X","RPA",1,null,null,null,"RVL","07Y",2]
["09X","RQX",1,null,null,null,"RVL","08A",2]
["09X","RR8",1,null,null,null,"RVL","08K",2]
["09X","RTH",1,null,null,null,"RVL","08Q",2]
["09X","RVV",1,null,null,null,"RVL","08R",2]
["09X","RYJ",1,null,null,null,"RVL","08Y",2]
["09Y","RTK",4666,null,null,null,"RVL","09A",2]
["09Y","RA2",316,null,null,null,"RVL","10G",2]
["09Y","RDU",273,null,null,null,"RVL","03C",1]
["09Y","RAX",93,null,null,null,"RVL","03H",1]
["09Y","RFW",63,null,null,null,"RVL","03V",1]
["09Y","RD7",16,null,null,null,"RVL","04G",1]
["09Y","RQM",12,null,null,null,"RVL","04K",1]
["09Y","RYJ",12,null,null,null,"RVL","05T",1]
["09Y","RVR",10,null,null,null,"RVL","06A",1]
["09Y","RJ7",9,null,null,null,"RVL","06L",1]
["09Y","RJ1",6,null,null,null,"RVL","07N",1]
["09Y","RRV",4,null,null,null,"RVL","08C",1]
["09Y","RAS",3,null,null,null,"RVL","08M",1]
["09Y","RBD",2,null,null,null,"RVL","09E",1]
["09Y","RCX",2,null,null,null,"RVL","09F",1]
["09Y","RH8",2,null,null,null,"RVL","09G",1]
["09Y","RHW",2,null,null,null,"RVL","09H",1]
["09Y","RJ6",2,null,null,null,"RVL","09L",1]
["09Y","RR1",2,null,null,null,"RVL","09W",1]
["09Y","RTH",2,null,null,null,"RVL","09Y",1]
["09Y","RAL",1,null,null,null,"RVL","10N",1]
["09Y","RC3",1,null,null,null,"RVL","10Q",1]
["09Y","RCB",1,null,null,null,"RVL","10R",1]
["09Y","REF",1,null,null,null,"RVL","10T",1]
["09Y","RGN",1,null,null,null,"RVL","11A",1]
["09Y","RGQ",1,null,null,null,"RVL","11J",1]
["09Y","RGT",1,null,null,null,"RVL","99A",1]
["09Y","RJD",1,null,null,null,"RVL","99G",1]
["09Y","RJZ",1,null,null,null,"RVL","99H",1]
["09Y","RN1",1,null,null,null,"RVL","99K",1]
["09Y","RN3",1,null,null,null,"RVL","Wales",1]
["09Y","RN5",1,null,null,null,"RVR","08T",2272]
["09Y","RNJ",1,null,null,null,"RVR","99H",1792]
["09Y","RNQ",1,null,null,null,"RVR","08R",762]
["09Y","RNZ",1,null,null,null,"RVR","07V",202]
["09Y","RVL",1,null,null,null,"RVR","08J",135]
["09Y","RVV",1,null,null,null,"RVR","08X",42]
["09Y","RWF",1,null,null,null,"RVR","09L",30]
["09Y","RX1",1,null,null,null,"RVR","09H",11]
["09Y","RXH",1,null,null,null,"RVR","09Y",10]
["09Y","RYQ",1,null,null,null,"RVR","08K",9]
["09Y","RYR",1,null,null,null,"RVR","08L",6]
["10A","RVV",2195,null,null,null,"RVR","06N",4]
["10A","RWF",5,null,null,null,"RVR","08P",4]
["10A","RJ1",3,null,null,null,"RVR","09G",4]
["10A","RQM",2,null,null,null,"RVR","07M",3]
["10A","RYJ",2,null,null,null,"RVR","07Y",3]
["10A","RAJ",1,null,null,null,"RVR","08A",3]
["10A","RJ7",1,null,null,null,"RVR","99J",3]
["10A","RJZ",1,null,null,null,"RVR","06K",2]
["10A","RN7",1,null,null,null,"RVR","07Q",2]
["10A","RNA",1,null,null,null,"RVR","08C",2]
["10A","RQW",1,null,null,null,"RVR","08Q",2]
["10A","RQX",1,null,null,null,"RVR","09N",2]
["10A","RTP",1,null,null,null,"RVR","09P",2]
["10A","RXC",1,null,null,null,"RVR","09W",2]
["10A","RXK",1,null,null,null,"RVR","09X",2]
["10C","RDU",938,null,null,null,"RVR","00G",1]
["10C","RA2",51,null,null,null,"RVR","01C",1]
["10C","RTK",11,null,null,null,"RVR","03R",1]
["10C","RJ1",3,null,null,null,"RVR","04F",1]
["10C","RFW",2,null,null,null,"RVR","04M",1]
["10C","RQM",2,null,null,null,"RVR","05T",1]
["10C","RD7",1,null,null,null,"RVR","06F",1]
["10C","REF",1,null,null,null,"RVR","06H",1]
["10C","RGN",1,null,null,null,"RVR","06M",1]
["10C","RHU",1,null,null,null,"RVR","06Q",1]
["10C","RHW",1,null,null,null,"RVR","06V",1]
["10C","RJ7",1,null,null,null,"RVR","07N",1]
["10C","RVV",1,null,null,null,"RVR","07R",1]
["10C","RWE",1,null,null,null,"RVR","07W",1]
["10C","RWH",1,null,null,null,"RVR","07X",1]
["10C","RXP",1,null,null,null,"RVR","08Y",1]
["10C","RYJ",1,null,null,null,"RVR","09C",1]
["10D","RPA",1304,null,null,null,"RVR","09J",1]
["10D","RWF",81,null,null,null,"RVR","10R",1]
["10D","RVV",22,null,null,null,"RVR","11H",1]
["10D","RJZ",5,null,null,null,"RVR","11J",1]
["10D","RN7",3,null,null,null,"RVR","11M",1]
["10D","RJ1",2,null,null,null,"RVR","11N",1]
["10D","RQM",2,null,null,null,"RVR","99K",1]
["10D","RRV",2,null,null,null,"RVV","10A",2195]
["10D","RHQ",1,null,null,null,"RVV","09E",1975]
["10D","RJ6",1,null,null,null,"RVV","10E",1646]
["10D","RKE",1,null,null,null,"RVV","09C",1401]
["10D","RM1",1,null,null,null,"RVV","99J",81]
["10D","RQX",1,null,null,null,"RVV","10D",22]
["10D","RTH",1,null,null,null,"RVV","09W",18]
["10E","RVV",1646,null,null,null,"RVV","09P",11]
["10E","RJ1",2,null,null,null,"RVV","06N",6]
["10E","RJ6",2,null,null,null,"RVV","08A",5]
["10E","RJZ",2,null,null,null,"RVV","07N",4]
["10E","RYJ",2,null,null,null,"RVV","09G",4]
["10E","RAE",1,null,null,null,"RVV","08M",3]
["10E","RC9",1,null,null,null,"RVV","08Q",3]
["10E","RGN",1,null,null,null,"RVV","05W",2]
["10E","RJ2",1,null,null,null,"RVV","06F",2]
["10E","RL4",1,null,null,null,"RVV","07G",2]
["10E","RPA",1,null,null,null,"RVV","07Q",2]
["10E","RR1",1,null,null,null,"RVV","07V",2]
["10E","RWE",1,null,null,null,"RVV","08D",2]
["10G","RDU",983,null,null,null,"RVV","09F",2]
["10G","RD7",402,null,null,null,"RVV","09J",2]
["10G","RHW",185,null,null,null,"RVV","11J",2]
["10G","RTK",50,null,null,null,"RVV","02P",1]
["10G","RTH",6,null,null,null,"RVV","02Q",1]
["10G","RAX",3,null,null,null,"RVV","02X",1]
["10G","RJ7",3,null,null,null,"RVV","03D",1]
["10G","RQM",2,null,null,null,"RVV","03F",1]
["10G","RVL",2,null,null,null,"RVV","04C",1]
["10G","RXQ",2,null,null,null,"RVV","04E",1]
["10G","RA2",1,null,null,null,"RVV","04J",1]
["10G","RC3",1,null,null,null,"RVV","05C",1]
["10G","RCX",1,null,null,null,"RVV","05P",1]
["10G","RD3",1,null,null,null,"RVV","06L",1]
["10G","RHM",1,null,null,null,"RVV","06Q",1]
["10G","RHQ",1,null,null,null,"RVV","08G",1]
["10G","RJ1",1,null,null,null,"RVV","08J",1]
["10G","RJ6",1,null,null,null,"RVV","08K",1]
["10G","RJZ",1,null,null,null,"RVV","08T",1]
["10G","RKE",1,null,null,null,"RVV","08X",1]
["10G","RN5",1,null,null,null,"RVV","09D",1]
["10G","RV8",1,null,null,null,"RVV","09L",1]
["10G","RVV",1,null,null,null,"RVV","09X",1]
["10G","RW3",1,null,null,null,"RVV","09Y",1]
["10G","RWD",1,null,null,null,"RVV","10C",1]
["10G","RWE",1,null,null,null,"RVV","10G",1]
["10G","RWG",1,null,null,null,"RVV","10H",1]
["10G","RXH",1,null,null,null,"RVV","10Q",1]
["10G","RYJ",1,null,null,null,"RVV","10T",1]
["10H","RXQ",2732,null,null,null,"RVV","10X",1]
["10H","RD7",946,null,null,null,"RVV","10Y",1]
["10H","RTH",128,null,null,null,"RVV","11C",1]
["10H","RAS",54,null,null,null,"RVV","12D",1]
["10H","RYJ",38,null,null,null,"RVV","99H",1]
["10H","RHW",26,null,null,null,"RVV","99K",1]
["10H","RWG",16,null,null,null,"RVV","99M",1]
["10H","RQM",14,null,null,null,"RVV","99N",1]
["10H","RJ1",7,null,null,null,"RVW","00K",3182]
["10H","RC3",5,null,null,null,"RVW","00D",576]
["10H","RV8",5,null,null,null,"RVW","00M",13]
["10H","RRV",4,null,null,null,"RVW","00J",9]
["10H","RC9",3,null,null,null,"RVW","00C",6]
["10H","RTK",3,null,null,null,"RVW","01H",6]
["10H","RVL",3,null,null,null,"RVW","03D",6]
["10H","RAX",2,null,null,null,"RVW","00F",5]
["10H","RDU",2,null,null,null,"RVW","00G",3]
["10H","RJ7",2,null,null,null,"RVW","03Q",3]
["10H","RKB",2,null,null,null,"RVW","00H",2]
["10H","RXC",2,null,null,null,"RVW","00L",2]
["10H","RYR",2,null,null,null,"RVW","00P",2]
["10H","5QT",1,null,null,null,"RVW","06K",2]
["10H","RA2",1,null,null,null,"RVW","99C",2]
["10H","RA9",1,null,null,null,"RVW","00N",1]
["10H","RAL",1,null,null,null,"RVW","00Y",1]
["10H","RAP",1,null,null,null,"RVW","01N",1]
["10H","RBD",1,null,null,null,"RVW","02X",1]
["10H","RD3",1,null,null,null,"RVW","03C",1]
["10H","REF",1,null,null,null,"RVW","03G",1]
["10H","RFF",1,null,null,null,"RVW","03H",1]
["10H","RFR",1,null,null,null,"RVW","03M",1]
["10H","RFW",1,null,null,null,"RVW","03N",1]
["10H","RGC",1,null,null,null,"RVW","04Q",1]
["10H","RGQ",1,null,null,null,"RVW","05H",1]
["10H","RH8",1,null,null,null,"RVW","06H",1]
["10H","RJ2",1,null,null,null,"RVW","06L",1]
["10H","RK9",1,null,null,null,"RVW","08G",1]
["10H","RN1",1,null,null,null,"RVW","08R",1]
["10H","RN7",1,null,null,null,"RVW","09J",1]
["10H","RNH",1,null,null,null,"RVY","02G",1098]
["10H","RNJ",1,null,null,null,"RVY","01V",1048]
["10H","RNQ",1,null,null,null,"RVY","01T",460]
["10H","RQX",1,null,null,null,"RVY","01J",303]
["10H","RTD",1,null,null,null,"RVY","99A",99]
["10H","RVV",1,null,null,null,"RVY","01X",76]
["10H","RWF",1,null,null,null,"RVY","02H",21]
["10H","RXH",1,null,null,null,"RVY","00X",16]
["10H","RXW",1,null,null,null,"RVY","01E",2]
["10J","RN5",2315,null,null,null,"RVY","01F",2]
["10J","RDU",112,null,null,null,"RVY","01R",1]
["10J","RN1",59,null,null,null,"RVY","02D",1]
["10J","RA2",33,null,null,null,"RVY","02E",1]
["10J","RHM",32,null,null,null,"RVY","03L",1]
["10J","RHU",19,null,null,null,"RVY","04R",1]
["10J","RHW",8,null,null,null,"RVY","12F",1]
["10J","RQM",7,null,null,null,"RW1","10X",1]
["10J","RNZ",2,null,null,null,"RW3","00W",3121]
["10J","RTH",2,null,null,null,"RW3","01M",999]
["10J","RTK",2,null,null,null,"RW3","02A",921]
["10J","RWD",2,null,null,null,"RW3","01N",711]
["10J","RXW",2,null,null,null,"RW3","01Y",346]
["10J","RYJ",2,null,null,null,"RW3","01G",317]
["10J","5FE",1,null,null,null,"RW3","01W",219]
["10J","RAL",1,null,null,null,"RW3","00V",189]
["10J","RAX",1,null,null,null,"RW3","00Y",113]
["10J","RD3",1,null,null,null,"RW3","01D",73]
["10J","REF",1,null,null,null,"RW3","01C",44]
["10J","RGT",1,null,null,null,"RW3","02H",35]
["10J","RJZ",1,null,null,null,"RW3","00T",31]
["10J","RRV",1,null,null,null,"RW3","01A",18]
["10J","RTR",1,null,null,null,"RW3","01E",15]
["10J","RV8",1,null,null,null,"RW3","02E",12]
["10J","RXL",1,null,null,null,"RW3","00R",9]
["10J","RYQ",1,null,null,null,"RW3","00X",8]
["10J","RYR",1,null,null,null,"RW3","00Q",6]
["10K","RHU",1937,null,null,null,"RW3","02M",6]
["10K","RHM",221,null,null,null,"RW3","01K",5]
["10K","RN1",29,null,null,null,"RW3","01R",5]
["10K","RYR",12,null,null,null,"RW3","01X",5]
["10K","RBZ",2,null,null,null,"RW3","99A",5]
["10K","5QT",1,null,null,null,"RW3","03A",4]
["10K","RAS",1,null,null,null,"RW3","04J",4]
["10K","RD3",1,null,null,null,"RW3","07T",4]
["10K","RGC",1,null,null,null,"RW3","01J",3]
["10K","RGP",1,null,null,null,"RW3","03C",3]
["10K","RGQ",1,null,null,null,"RW3","03N",3]
["10K","RHW",1,null,null,null,"RW3","04X",3]
["10K","RK9",1,null,null,null,"RW3","07M",3]
["10K","RKB",1,null,null,null,"RW3","08N",3]
["10K","RTK",1,null,null,null,"RW3","12D",3]
["10K","RTP",1,null,null,null,"RW3","01F",2]
["10K","RWA",1,null,null,null,"RW3","01H",2]
["10K","RWP",1,null,null,null,"RW3","02D",2]
["10K","RX1",1,null,null,null,"RW3","02F",2]
["10K","RXP",1,null,null,null,"RW3","02N",2]
["10K","RXW",1,null,null,null,"RW3","02T",2]
["10L","5QT",1284,null,null,null,"RW3","02V",2]
["10L","RHU",6,null,null,null,"RW3","05G",2]
["10L","RHM",3,null,null,null,"RW3","12F",2]
["10L","RA4",1,null,null,null,"RW3","00M",1]
["10L","RCF",1,null,null,null,"RW3","00P",1]
["10L","RE9",1,null,null,null,"RW3","02G",1]
["10L","RHQ",1,null,null,null,"RW3","02R",1]
["10L","RL4",1,null,null,null,"RW3","02W",1]
["10L","RM1",1,null,null,null,"RW3","03E",1]
["10L","RP5",1,null,null,null,"RW3","03G",1]
["10L","RWP",1,null,null,null,"RW3","03K",1]
["10L","RYR",1,null,null,null,"RW3","03Q",1]
["10M","RHW",607,null,null,null,"RW3","03R",1]
["10M","RN5",473,null,null,null,"RW3","03T",1]
["10M","RN3",195,null,null,null,"RW3","04L",1]
["10M","RTH",139,null,null,null,"RW3","05N",1]
["10M","RN1",8,null,null,null,"RW3","05P",1]
["10M","RHM",4,null,null,null,"RW3","05W",1]
["10M","RD8",2,null,null,null,"RW3","06H",1]
["10M","RVJ",2,null,null,null,"RW3","06N",1]
["10M","RA2",1,null,null,null,"RW3","06P",1]
["10M","RBD",1,null,null,null,"RW3","07P",1]
["10M","RD7",1,null,null,null,"RW3","07W",1]
["10M","RDE",1,null,null,null,"RW3","07Y",1]
["10M","REF",1,null,null,null,"RW3","08F",1]
["10M","RJZ",1,null,null,null,"RW3","08M",1]
["10M","RK5",1,null,null,null,"RW3","08Q",1]
["10M","RTE",1,null,null,null,"RW3","08T",1]
["10M","RWD",1,null,null,null,"RW3","08V",1]
["10M","RXK",1,null,null,null,"RW3","08W",1]
["10M","RYJ",1,null,null,null,"RW3","08X",1]
["10N","RHW",1326,null,null,null,"RW3","09J",1]
["10N","RN5",45,null,null,null,"RW3","10G",1]
["10N","RTH",45,null,null,null,"RW3","11H",1]
["10N","RN3",3,null,null,null,"RW3","13P",1]
["10N","REF",2,null,null,null,"RW3","99C",1]
["10N","RQM",2,null,null,null,"RW3","99N",1]
["10N","RXQ",2,null,null,null,"RW3","99P",1]
["10N","RYJ",2,null,null,null,"RW3","Wales",1]
["10N","RAX",1,null,null,null,"RW6","01D",3117]
["10N","RD3",1,null,null,null,"RW6","00Y",3092]
["10N","RDU",1,null,null,null,"RW6","00V",2090]
["10N","RH8",1,null,null,null,"RW6","01M",2048]
["10N","RJC",1,null,null,null,"RW6","01A",344]
["10N","RL4",1,null,null,null,"RW6","01G",191]
["10N","RN1",1,null,null,null,"RW6","01Y",52]
["10N","RNH",1,null,null,null,"RW6","02T",23]
["10N","RNS",1,null,null,null,"RW6","00T",18]
["10N","RVL",1,null,null,null,"RW6","00W",14]
["10N","RWG",1,null,null,null,"RW6","02A",8]
["10Q","RTH",8042,null,null,null,"RW6","01N",7]
["10Q","RHW",250,null,null,null,"RW6","01W",7]
["10Q","RN3",50,null,null,null,"RW6","02H",6]
["10Q","RXQ",30,null,null,null,"RW6","07T",4]
["10Q","RYJ",7,null,null,null,"RW6","03A",3]
["10Q","RD7",6,null,null,null,"RW6","00Q",2]
["10Q","RLU",6,null,null,null,"RW6","00X",2]
["10Q","RD3",5,null,null,null,"RW6","01R",2]
["10Q","RNQ",5,null,null,null,"RW6","02R",2]
["10Q","RTE",5,null,null,null,"RW6","02W",2]
["10Q","RD8",4,null,null,null,"RW6","04V",2]
["10Q","RJC",4,null,null,null,"RW6","10T",2]
["10Q","RQM",4,null,null,null,"RW6","13P",2]
["10Q","RGN",3,null,null,null,"RW6","99A",2]
["10Q","RJ7",3,null,null,null,"RW6","00D",1]
["10Q","RR1",3,null,null,null,"RW6","00J",1]
["10Q","RWE",3,null,null,null,"RW6","00M",1]
["10Q","RBD",2,null,null,null,"RW6","01C",1]
["10Q","RBZ",2,null,null,null,"RW6","01J",1]
["10Q","RC3",2,null,null,null,"RW6","01K",1]
["10Q","RDU",2,null,null,null,"RW6","02N",1]
["10Q","REF",2,null,null,null,"RW6","02P",1]
["10Q","RHM",2,null,null,null,"RW6","02V",1]
["10Q","RKE",2,null,null,null,"RW6","03D",1]
["10Q","RLT",2,null,null,null,"RW6","03J",1]
["10Q","RTP",2,null,null,null,"RW6","03N",1]
["10Q","5QK",1,null,null,null,"RW6","03R",1]
["10Q","5QT",1,null,null,null,"RW6","04Q",1]
["10Q","RA2",1,null,null,null,"RW6","04R",1]
["10Q","RA9",1,null,null,null,"RW6","04X",1]
["10Q","RAX",1,null,null,null,"RW6","05A",1]
["10Q","RBA",1,null,null,null,"RW6","05L",1]
["10Q","RBF",1,null,null,null,"RW6","05W",1]
["10Q","RC9",1,null,null,null,"RW6","06H",1]
["10Q","REP",1,null,null,null,"RW6","06K",1]
["10Q","RFS",1,null,null,null,"RW6","07G",1]
["10Q","RGC",1,null,null,null,"RW6","07L",1]
["10Q","RGP",1,null,null,null,"RW6","07R",1]
["10Q","RGT",1,null,null,null,"RW6","07X",1]
["10Q","RHU",1,null,null,null,"RW6","08K",1]
["10Q","RJ6",1,null,null,null,"RW6","08M",1]
["10Q","RJD",1,null,null,null,"RW6","08N",1]
["10Q","RKB",1,null,null,null,"RW6","08Y",1]
["10Q","RN7",1,null,null,null,"RW6","10R",1]
["10Q","RNA",1,null,null,null,"RW6","11N",1]
["10Q","RNJ",1,null,null,null,"RW6","12F",1]
["10Q","RNL",1,null,null,null,"RW6","99H",1]
["10Q","RNS",1,null,null,null,"RW6","99J",1]
["10Q","RNZ",1,null,null,null,"RW6","99M",1]
["10Q","RRV",1,null,null,null,"RW6","99P",1]
["10Q","RTG",1,null,null,null,"RW6","Wales",1]
["10Q","RTR",1,null,null,null,"RWA","03F",4021]
["10Q","RV8",1,null,null,null,"RWA","02Y",1902]
["10Q","RVL",1,null,null,null,"RWA","03Q",48]
["10Q","RVV",1,null,null,null,"RWA","03K",47]
["10Q","RWD",1,null,null,null,"RWA","03H",2]
["10Q","RWF",1,null,null,null,"RWA","04K",2]
["10Q","RWH",1,null,null,null,"RWA","00L",1]
["10Q","RWJ",1,null,null,null,"RWA","00M",1]
["10Q","RX1",1,null,null,null,"RWA","00Q",1]
["10Q","RXF",1,null,null,null,"RWA","00W",1]
["10Q","RXN",1,null,null,null,"RWA","01A",1]
["10Q","RXP",1,null,null,null,"RWA","01R",1]
["10Q","RYQ",1,null,null,null,"RWA","02E",1]
["10R","RHU",2757,null,null,null,"RWA","02R",1]
["10R","RYR",38,null,null,null,"RWA","03C",1]
["10R","RHM",17,null,null,null,"RWA","03D",1]
["10R","RN1",5,null,null,null,"RWA","03G",1]
["10R","RNZ",5,null,null,null,"RWA","03J",1]
["10R","RNH",3,null,null,null,"RWA","03N",1]
["10R","RH8",2,null,null,null,"RWA","04G",1]
["10R","RTP",2,null,null,null,"RWA","04R",1]
["10R","RD3",1,null,null,null,"RWA","05T",1]
["10R","RDU",1,null,null,null,"RWA","06H",1]
["10R","RNJ",1,null,null,null,"RWA","07N",1]
["10R","RNL",1,null,null,null,"RWA","08H",1]
["10R","RR1",1,null,null,null,"RWA","10K",1]
["10R","RTG",1,null,null,null,"RWA","11D",1]
["10R","RVL",1,null,null,null,"RWA","12A",1]
["10R","RVR",1,null,null,null,"RWA","99C",1]
["10R","RW6",1,null,null,null,"RWA","99E",1]
["10R","RWE",1,null,null,null,"RWA","99M",1]
["10R","RWY",1,null,null,null,"RWD","04D",2704]
["10R","RXC",1,null,null,null,"RWD","03T",2025]
["10R","RXH",1,null,null,null,"RWD","04Q",1163]
["10R","RYJ",1,null,null,null,"RWD","99D",619]
["10T","RD7",2541,null,null,null,"RWD","04H",165]
["10T","RAS",22,null,null,null,"RWD","03K",20]
["10T","RTH",7,null,null,null,"RWD","06H",14]
["10T","RHW",6,null,null,null,"RWD","02Q",11]
["10T","RYJ",6,null,null,null,"RWD","03W",7]
["10T","RQM",4,null,null,null,"RWD","04G",6]
["10T","RF4",3,null,null,null,"RWD","02P",4]
["10T","RJZ",3,null,null,null,"RWD","03H",3]
["10T","RTK",3,null,null,null,"RWD","03N",3]
["10T","RA2",2,null,null,null,"RWD","04C",3]
["10T","RC3",2,null,null,null,"RWD","04E",3]
["10T","RJ1",2,null,null,null,"RWD","04K",3]
["10T","RNJ",2,null,null,null,"RWD","05A",3]
["10T","RW6",2,null,null,null,"RWD","03L",2]
["10T","RAL",1,null,null,null,"RWD","03Y",2]
["10T","RD3",1,null,null,null,"RWD","04J",2]
["10T","RDD",1,null,null,null,"RWD","04R",2]
["10T","RDU",1,null,null,null,"RWD","06F",2]
["10T","RFW",1,null,null,null,"RWD","06L",2]
["10T","RGC",1,null,null,null,"RWD","08F",2]
["10T","RJ7",1,null,null,null,"RWD","08H",2]
["10T","RKB",1,null,null,null,"RWD","10J",2]
["10T","RQX",1,null,null,null,"RWD","00C",1]
["10T","RR1",1,null,null,null,"RWD","00F",1]
["10T","RV8",1,null,null,null,"RWD","01A",1]
["10T","RVL",1,null,null,null,"RWD","02F",1]
["10T","RVV",1,null,null,null,"RWD","02R",1]
["10T","RWE",1,null,null,null,"RWD","02T",1]
["10T","RWF",1,null,null,null,"RWD","02X",1]
["10T","RYQ",1,null,null,null,"RWD","03F",1]
["10V","RHU",1487,null,null,null,"RWD","03Q",1]
["10V","RYR",441,null,null,null,"RWD","03R",1]
["10V","RA2",193,null,null,null,"RWD","03V",1]
["10V","RN5",48,null,null,null,"RWD","03X",1]
["10V","RDU",38,null,null,null,"RWD","04F",1]
["10V","RHM",8,null,null,null,"RWD","04N",1]
["10V","RN1",7,null,null,null,"RWD","05N",1]
["10V","RAX",2,null,null,null,"RWD","05R",1]
["10V","RBZ",2,null,null,null,"RWD","05V",1]
["10V","RTK",2,null,null,null,"RWD","06Y",1]
["10V","RYQ",2,null,null,null,"RWD","07J",1]
["10V","RH8",1,null,null,null,"RWD","08E",1]
["10V","RP5",1,null,null,null,"RWD","08P",1]
["10V","RPA",1,null,null,null,"RWD","10G",1]
["10V","RRV",1,null,null,null,"RWD","10M",1]
["10V","RTD",1,null,null,null,"RWD","10Q",1]
["10V","RX1",1,null,null,null,"RWD","11M",1]
["10V","RXF",1,null,null,null,"RWD","11X",1]
["10V","RXH",1,null,null,null,"RWD","12A",1]
["10W","RHW",1990,null,null,null,"RWD","99C",1]
["10W","RTH",17,null,null,null,"RWD","99J",1]
["10W","RN5",8,null,null,null,"RWD","99P",1]
["10W","RD7",7,null,null,null,"RWE","04C",6227]
["10W","RDU",4,null,null,null,"RWE","03W",3017]
["10W","RYJ",3,null,null,null,"RWE","04V",3016]
["10W","RHM",2,null,null,null,"RWE","04G",27]
["10W","RN3",2,null,null,null,"RWE","04D",25]
["10W","RNJ",2,null,null,null,"RWE","04N",21]
["10W","RTK",2,null,null,null,"RWE","04Q",20]
["10W","RWE",2,null,null,null,"RWE","04K",19]
["10W","RA2",1,null,null,null,"RWE","03T",17]
["10W","RA9",1,null,null,null,"RWE","04E",17]
["10W","RAE",1,null,null,null,"RWE","06H",16]
["10W","RGC",1,null,null,null,"RWE","04R",14]
["10W","RJ1",1,null,null,null,"RWE","05A",12]
["10W","RJ2",1,null,null,null,"RWE","99D",11]
["10W","RJ6",1,null,null,null,"RWE","05H",10]
["10W","RNH",1,null,null,null,"RWE","04H",5]
["10W","RPA",1,null,null,null,"RWE","03V",4]
["10W","RQM",1,null,null,null,"RWE","05L",4]
["10W","RQX",1,null,null,null,"RWE","03X",3]
["10W","RTE",1,null,null,null,"RWE","03Y",3]
["10W","RTR",1,null,null,null,"RWE","04L",3]
["10W","RWF",1,null,null,null,"RWE","04X",3]
["10X","RHM",3650,null,null,null,"RWE","05D",3]
["10X","RN1",25,null,null,null,"RWE","05R",3]
["10X","RHU",24,null,null,null,"RWE","06F",3]
["10X","RD3",5,null,null,null,"RWE","08N",3]
["10X","RNZ",4,null,null,null,"RWE","10Q",3]
["10X","RYR",4,null,null,null,"RWE","13P",3]
["10X","RDZ",2,null,null,null,"RWE","01G",2]
["10X","REF",2,null,null,null,"RWE","02V",2]
["10X","RGC",2,null,null,null,"RWE","04M",2]
["10X","RJ6",2,null,null,null,"RWE","05Q",2]
["10X","RN5",2,null,null,null,"RWE","05Y",2]
["10X","RQX",2,null,null,null,"RWE","06P",2]
["10X","RAS",1,null,null,null,"RWE","07R",2]
["10X","RBA",1,null,null,null,"RWE","08E",2]
["10X","RBZ",1,null,null,null,"RWE","10W",2]
["10X","RCD",1,null,null,null,"RWE","01A",1]
["10X","RGT",1,null,null,null,"RWE","01E",1]
["10X","RH8",1,null,null,null,"RWE","01H",1]
["10X","RJ7",1,null,null,null,"RWE","02D",1]
["10X","RJZ",1,null,null,null,"RWE","02H",1]
["10X","RN3",1,null,null,null,"RWE","02R",1]
["10X","RNH",1,null,null,null,"RWE","03E",1]
["10X","RNJ",1,null,null,null,"RWE","03J",1]
["10X","RQQ",1,null,null,null,"RWE","03N",1]
["10X","RR1",1,null,null,null,"RWE","05N",1]
["10X","RRV",1,null,null,null,"RWE","05W",1]
["10X","RTE",1,null,null,null,"RWE","06K",1]
["10X","RTH",1,null,null,null,"RWE","06Y",1]
["10X","RTK",1,null,null,null,"RWE","07H",1]
["10X","RVV",1,null,null,null,"RWE","07N",1]
["10X","RW1",1,null,null,null,"RWE","07Y",1]
["10X","RWE",1,null,null,null,"RWE","08D",1]
["10X","RWH",1,null,null,null,"RWE","08G",1]
["10X","RXH",1,null,null,null,"RWE","08J",1]
["10X","RXK",1,null,null,null,"RWE","08K",1]
["10Y","RXQ",2172,null,null,null,"RWE","08X",1]
["10Y","RTH",218,null,null,null,"RWE","08Y",1]
["10Y","RD8",32,null,null,null,"RWE","09G",1]
["10Y","RC9",24,null,null,null,"RWE","10C",1]
["10Y","RYJ",3,null,null,null,"RWE","10E",1]
["10Y","REF",2,null,null,null,"RWE","10G",1]
["10Y","RWG",2,null,null,null,"RWE","10R",1]
["10Y","RWH",2,null,null,null,"RWE","10T",1]
["10Y","RBA",1,null,null,null,"RWE","10X",1]
["10Y","RBL",1,null,null,null,"RWE","11D",1]
["10Y","RBZ",1,null,null,null,"RWE","11H",1]
["10Y","RC1",1,null,null,null,"RWE","11X",1]
["10Y","RGC",1,null,null,null,"RWE","12D",1]
["10Y","RGN",1,null,null,null,"RWE","12F",1]
["10Y","RGP",1,null,null,null,"RWF","99J",5298]
["10Y","RGR",1,null,null,null,"RWF","99K",251]
["10Y","RNQ",1,null,null,null,"RWF","10D",81]
["10Y","RQ8",1,null,null,null,"RWF","09W",50]
["10Y","RQM",1,null,null,null,"RWF","09P",16]
["10Y","RR1",1,null,null,null,"RWF","09L",13]
["10Y","RRV",1,null,null,null,"RWF","09C",10]
["10Y","RTE",1,null,null,null,"RWF","07Q",9]
["10Y","RTX",1,null,null,null,"RWF","09X",9]
["10Y","RVV",1,null,null,null,"RWF","09J",8]
["10Y","RYR",1,null,null,null,"RWF","09E",7]
["11A","RN1",2572,null,null,null,"RWF","10A",5]
["11A","RHM",2211,null,null,null,"RWF","09F",4]
["11A","RNZ",311,null,null,null,"RWF","06Y",2]
["11A","RD3",130,null,null,null,"RWF","07L",2]
["11A","RN5",87,null,null,null,"RWF","07N",2]
["11A","RHU",55,null,null,null,"RWF","08A",2]
["11A","RDZ",15,null,null,null,"RWF","08R",2]
["11A","RYR",7,null,null,null,"RWF","99H",2]
["11A","REF",6,null,null,null,"RWF","01E",1]
["11A","RYJ",4,null,null,null,"RWF","01F",1]
["11A","RJ1",3,null,null,null,"RWF","03W",1]
["11A","RQM",3,null,null,null,"RWF","04G",1]
["11A","RAS",2,null,null,null,"RWF","05A",1]
["11A","RAX",2,null,null,null,"RWF","06F",1]
["11A","RDU",2,null,null,null,"RWF","06P",1]
["11A","RHW",2,null,null,null,"RWF","06Q",1]
["11A","RN3",2,null,null,null,"RWF","07V",1]
["11A","RNJ",2,null,null,null,"RWF","08K",1]
["11A","RTE",2,null,null,null,"RWF","09D",1]
["11A","RTH",2,null,null,null,"RWF","09G",1]
["11A","RTP",2,null,null,null,"RWF","09Y",1]
["11A","5QT",1,null,null,null,"RWF","10H",1]
["11A","RA2",1,null,null,null,"RWF","10Q",1]
["11A","RBA",1,null,null,null,"RWF","10T",1]
["11A","RBZ",1,null,null,null,"RWF","10W",1]
["11A","RD7",1,null,null,null,"RWF","99A",1]
["11A","RGT",1,null,null,null,"RWF","99F",1]
["11A","RJ2",1,null,null,null,"RWF","99P",1]
["11A","RJD",1,null,null,null,"RWG","06N",5307]
["11A","RJL",1,null,null,null,"RWG","08E",259]
["11A","RKB",1,null,null,null,"RWG","08G",212]
["11A","RLN",1,null,null,null,"RWG","07M",165]
["11A","RLQ",1,null,null,null,"RWG","06K",21]
["11A","RM1",1,null,null,null,"RWG","07P",16]
["11A","RNH",1,null,null,null,"RWG","10H",16]
["11A","RQ8",1,null,null,null,"RWG","06F",11]
["11A","RR1",1,null,null,null,"RWG","06P",7]
["11A","RTK",1,null,null,null,"RWG","04G",4]
["11A","RVJ",1,null,null,null,"RWG","07H",4]
["11A","RVL",1,null,null,null,"RWG","07W",4]
["11A","RWH",1,null,null,null,"RWG","04F",3]
["11A","RYQ",1,null,null,null,"RWG","07X",3]
["11C","RD7",1490,null,null,null,"RWG","07Y",3]
["11C","RHW",129,null,null,null,"RWG","09A",3]
["11C","RTK",120,null,null,null,"RWG","03T",2]
["11C","RDU",71,null,null,null,"RWG","07R",2]
["11C","RTH",13,null,null,null,"RWG","08Y",2]
["11C","RXQ",11,null,null,null,"RWG","10Y",2]
["11C","RJ1",6,null,null,null,"RWG","06Q",1]
["11C","RQM",6,null,null,null,"RWG","08D",1]
["11C","RAS",4,null,null,null,"RWG","08H",1]
["11C","RYJ",4,null,null,null,"RWG","08M",1]
["11C","RAX",3,null,null,null,"RWG","08N",1]
["11C","REF",3,null,null,null,"RWG","08R",1]
["11C","RFW",3,null,null,null,"RWG","08X",1]
["11C","RAL",2,null,null,null,"RWG","09D",1]
["11C","RV8",2,null,null,null,"RWG","09J",1]
["11C","RA2",1,null,null,null,"RWG","10G",1]
["11C","RD3",1,null,null,null,"RWG","10N",1]
["11C","RDZ",1,null,null,null,"RWG","11C",1]
["11C","RHQ",1,null,null,null,"RWG","11M",1]
["11C","RHU",1,null,null,null,"RWG","11N",1]
["11C","RJZ",1,null,null,null,"RWG","99F",1]
["11C","RK9",1,null,null,null,"RWH","06K",4873]
["11C","RKE",1,null,null,null,"RWH","06N",583]
["11C","RN1",1,null,null,null,"RWH","06F",387]
["11C","RN5",1,null,null,null,"RWH","06H",25]
["11C","RQQ",1,null,null,null,"RWH","06P",18]
["11C","RTR",1,null,null,null,"RWH","07M",9]
["11C","RVV",1,null,null,null,"RWH","07X",6]
["11C","RWG",1,null,null,null,"RWH","07H",4]
["11C","RWH",1,null,null,null,"RWH","03W",3]
["11C","RX1",1,null,null,null,"RWH","08E",3]
["11C","RYQ",1,null,null,null,"RWH","07R",2]
["11D","RHW",1626,null,null,null,"RWH","08Q",2]
["11D","RDU",174,null,null,null,"RWH","10Y",2]
["11D","RD7",24,null,null,null,"RWH","00G",1]
["11D","RN5",15,null,null,null,"RWH","03N",1]
["11D","RTH",9,null,null,null,"RWH","03T",1]
["11D","RA2",3,null,null,null,"RWH","04C",1]
["11D","RAS",2,null,null,null,"RWH","04F",1]
["11D","RJ1",2,null,null,null,"RWH","04G",1]
["11D","RQM",2,null,null,null,"RWH","04R",1]
["11D","RTK",2,null,null,null,"RWH","05P",1]
["11D","RXQ",2,null,null,null,"RWH","06M",1]
["11D","RYJ",2,null,null,null,"RWH","06Q",1]
["11D","5QT",1,null,null,null,"RWH","07G",1]
["11D","RAJ",1,null,null,null,"RWH","07J",1]
["11D","RAX",1,null,null,null,"RWH","08D",1]
["11D","RGR",1,null,null,null,"RWH","08F",1]
["11D","RH8",1,null,null,null,"RWH","08K",1]
["11D","RKB",1,null,null,null,"RWH","08L",1]
["11D","RLQ",1,null,null,null,"RWH","08P",1]
["11D","RN1",1,null,null,null,"RWH","08T",1]
["11D","RNH",1,null,null,null,"RWH","08V",1]
["11D","RNZ",1,null,null,null,"RWH","08W",1]
["11D","RWA",1,null,null,null,"RWH","09A",1]
["11D","RWE",1,null,null,null,"RWH","09D",1]
["11D","RXR",1,null,null,null,"RWH","09G",1]
["11E","5QK",1689,null,null,null,"RWH","09H",1]
["11E","RA7",188,null,null,null,"RWH","10C",1]
["11E","RVJ",32,null,null,null,"RWH","10Q",1]
["11E","RA9",2,null,null,null,"RWH","10X",1]
["11E","RYJ",2,null,null,null,"RWH","11A",1]
["11E","5QH",1,null,null,null,"RWH","11C",1]
["11E","RA3",1,null,null,null,"RWH","99H",1]
["11E","RAX",1,null,null,null,"RWH","Wales",1]
["11E","RBA",1,null,null,null,"RWJ","01W",3342]
["11E","RBZ",1,null,null,null,"RWJ","04J",546]
["11E","RD3",1,null,null,null,"RWJ","01Y",342]
["11E","RH8",1,null,null,null,"RWJ","01C",150]
["11E","RHU",1,null,null,null,"RWJ","00W",53]
["11E","RJ2",1,null,null,null,"RWJ","01N",51]
["11E","RK9",1,null,null,null,"RWJ","02A",27]
["11E","RTH",1,null,null,null,"RWJ","01M",9]
["11H","RA7",4202,null,null,null,"RWJ","00Y",8]
["11H","RVJ",2945,null,null,null,"RWJ","00V",7]
["11H","5QK",20,null,null,null,"RWJ","00T",5]
["11H","RBA",8,null,null,null,"RWJ","01G",5]
["11H","RTE",7,null,null,null,"RWJ","01D",3]
["11H","REF",6,null,null,null,"RWJ","00R",2]
["11H","RA3",5,null,null,null,"RWJ","01E",2]
["11H","RH8",4,null,null,null,"RWJ","02E",2]
["11H","RK9",4,null,null,null,"RWJ","11N",2]
["11H","5QH",3,null,null,null,"RWJ","Wales",2]
["11H","RV8",3,null,null,null,"RWJ","01A",1]
["11H","RA9",2,null,null,null,"RWJ","01F",1]
["11H","RAS",2,null,null,null,"RWJ","01H",1]
["11H","RX1",2,null,null,null,"RWJ","01J",1]
["11H","RA4",1,null,null,null,"RWJ","01R",1]
["11H","RBD",1,null,null,null,"RWJ","02R",1]
["11H","RBZ",1,null,null,null,"RWJ","02V",1]
["11H","RC3",1,null,null,null,"RWJ","04D",1]
["11H","RD3",1,null,null,null,"RWJ","05G",1]
["11H","RGC",1,null,null,null,"RWJ","05N",1]
["11H","RGT",1,null,null,null,"RWJ","05V",1]
["11H","RJC",1,null,null,null,"RWJ","05X",1]
["11H","RJZ",1,null,null,null,"RWJ","05Y",1]
["11H","RLQ",1,null,null,null,"RWJ","06H",1]
["11H","RMP",1,null,null,null,"RWJ","07M",1]
["11H","RN3",1,null,null,null,"RWJ","07Y",1]
["11H","RNH",1,null,null,null,"RWJ","08A",1]
["11H","RNJ",1,null,null,null,"RWJ","09C",1]
["11H","RQX",1,null,null,null,"RWJ","09D",1]
["11H","RVR",1,null,null,null,"RWJ","09W",1]
["11H","RW3",1,null,null,null,"RWJ","10Q",1]
["11H","RWE",1,null,null,null,"RWJ","11T",1]
["11H","RXF",1,null,null,null,"RWJ","12F",1]
["11H","RXR",1,null,null,null,"RWN","99G",1]
["11H","RYJ",1,null,null,null,"RWP","05T",2937]
["11H","RYQ",1,null,null,null,"RWP","05J",1944]
["11J","RD3",5289,null,null,null,"RWP","06D",1117]
["11J","RBD",2161,null,null,null,"RWP","05R",174]
["11J","RDZ",642,null,null,null,"RWP","05P",105]
["11J","RNZ",283,null,null,null,"RWP","04X",69]
["11J","RA4",149,null,null,null,"RWP","05N",42]
["11J","RHM",75,null,null,null,"RWP","05F",39]
["11J","RHU",25,null,null,null,"RWP","13P",32]
["11J","RA7",12,null,null,null,"RWP","05C",10]
["11J","RN1",12,null,null,null,"RWP","11M",9]
["11J","RH8",6,null,null,null,"RWP","05L",5]
["11J","RBA",3,null,null,null,"RWP","05Y",5]
["11J","REF",3,null,null,null,"RWP","Wales",3]
["11J","RN5",3,null,null,null,"RWP","04R",2]
["11J","RYR",3,null,null,null,"RWP","05H",2]
["11J","RAX",2,null,null,null,"RWP","01X",1]
["11J","RDU",2,null,null,null,"RWP","02E",1]
["11J","RN3",2,null,null,null,"RWP","02M",1]
["11J","RTK",2,null,null,null,"RWP","03M",1]
["11J","RTX",2,null,null,null,"RWP","04D",1]
["11J","RVV",2,null,null,null,"RWP","04K",1]
["11J","RXH",2,null,null,null,"RWP","04V",1]
["11J","RYJ",2,null,null,null,"RWP","05G",1]
["11J","5QK",1,null,null,null,"RWP","05Q",1]
["11J","RA9",1,null,null,null,"RWP","05W",1]
["11J","RBZ",1,null,null,null,"RWP","05X",1]
["11J","RHW",1,null,null,null,"RWP","06H",1]
["11J","RJ2",1,null,null,null,"RWP","07Q",1]
["11J","RJ6",1,null,null,null,"RWP","08H",1]
["11J","RJ7",1,null,null,null,"RWP","08L",1]
["11J","RJL",1,null,null,null,"RWP","09L",1]
["11J","RK9",1,null,null,null,"RWP","10K",1]
["11J","RKE",1,null,null,null,"RWP","10L",1]
["11J","RM3",1,null,null,null,"RWP","11J",1]
["11J","RNH",1,null,null,null,"RWP","11N",1]
["11J","RQ8",1,null,null,null,"RWP","11X",1]
["11J","RR1",1,null,null,null,"RWP","12F",1]
["11J","RRV",1,null,null,null,"RWP","99C",1]
["11J","RTG",1,null,null,null,"RWP","99H",1]
["11J","RTH",1,null,null,null,"RWP","99N",1]
["11J","RTP",1,null,null,null,"RWP","99P",1]
["11J","RVJ",1,null,null,null,"RWQ","05T",1]
["11J","RVL",1,null,null,null,"RWW","02E",2420]
["11J","RVR",1,null,null,null,"RWW","01F",432]
["11J","RWP",1,null,null,null,"RWW","01X",338]
["11J","RX1",1,null,null,null,"RWW","02H",166]
["11J","RXP",1,null,null,null,"RWW","02D",59]
["11J","RYQ",1,null,null,null,"RWW","01G",23]
["11M","RTE",6624,null,null,null,"RWW","02F",6]
["11M","5QH",1131,null,null,null,"RWW","01C",4]
["11M","RN3",140,null,null,null,"RWW","01R",3]
["11M","RA7",64,null,null,null,"RWW","02A",3]
["11M","RVJ",61,null,null,null,"RWW","12F",3]
["11M","RTH",47,null,null,null,"RWW","01J",2]
["11M","RLQ",14,null,null,null,"RWW","02G",2]
["11M","5QK",11,null,null,null,"RWW","99A",2]
["11M","RWP",9,null,null,null,"RWW","00T",1]
["11M","RLU",7,null,null,null,"RWW","00V",1]
["11M","RBA",4,null,null,null,"RWW","01E",1]
["11M","RQM",4,null,null,null,"RWW","01W",1]
["11M","RBZ",3,null,null,null,"RWW","03C",1]
["11M","RD3",3,null,null,null,"RWW","03Q",1]
["11M","RJC",3,null,null,null,"RWW","05N",1]
["11M","RYJ",3,null,null,null,"RWW","Wales",1]
["11M","RK9",2,null,null,null,"RWY","03A",3071]
["11M","RKB",2,null,null,null,"RWY","02T",2929]
["11M","RL4",2,null,null,null,"RWY","02R",478]
["11M","RR1",2,null,null,null,"RWY","03J",161]
["11M","RX1",2,null,null,null,"RWY","02W",18]
["11M","5QT",1,null,null,null,"RWY","03R",12]
["11M","RA9",1,null,null,null,"RWY","02N",10]
["11M","RBD",1,null,null,null,"RWY","02V",7]
["11M","RBK",1,null,null,null,"RWY","00Y",3]
["11M","RC3",1,null,null,null,"RWY","03C",3]
["11M","RCB",1,null,null,null,"RWY","03G",3]
["11M","RDD",1,null,null,null,"RWY","01D",2]
["11M","RE9",1,null,null,null,"RWY","03Q",2]
["11M","REF",1,null,null,null,"RWY","00J",1]
["11M","RFS",1,null,null,null,"RWY","01A",1]
["11M","RGC",1,null,null,null,"RWY","01C",1]
["11M","RGT",1,null,null,null,"RWY","01M",1]
["11M","RH8",1,null,null,null,"RWY","02F",1]
["11M","RJ1",1,null,null,null,"RWY","03E",1]
["11M","RJ2",1,null,null,null,"RWY","03F",1]
["11M","RJ7",1,null,null,null,"RWY","03H",1]
["11M","RJZ",1,null,null,null,"RWY","04D",1]
["11M","RM1",1,null,null,null,"RWY","05D",1]
["11M","RN5",1,null,null,null,"RWY","06A",1]
["11M","RN7",1,null,null,null,"RWY","06P",1]
["11M","RNH",1,null,null,null,"RWY","07V",1]
["11M","RTK",1,null,null,null,"RWY","08V",1]
["11M","RTP",1,null,null,null,"RWY","10R",1]
["11M","RTR",1,null,null,null,"RX1","04K",4935]
["11M","RVR",1,null,null,null,"RX1","04L",1656]
["11M","RWD",1,null,null,null,"RX1","04N",1286]
["11M","RWG",1,null,null,null,"RX1","04M",1095]
["11M","RXQ",1,null,null,null,"RX1","03X",795]
["11M","RYQ",1,null,null,null,"RX1","04H",426]
["11N","REF",4805,null,null,null,"RX1","04V",300]
["11N","RK9",908,null,null,null,"RX1","04R",258]
["11N","RH8",138,null,null,null,"RX1","04Q",167]
["11N","RBZ",74,null,null,null,"RX1","04E",96]
["11N","RA7",30,null,null,null,"RX1","03W",88]
["11N","RA9",5,null,null,null,"RX1","04D",39]
["11N","RAX",3,null,null,null,"RX1","03T",30]
["11N","5QK",2,null,null,null,"RX1","03Y",17]
["11N","5QP",2,null,null,null,"RX1","06H",11]
["11N","RJE",2,null,null,null,"RX1","04C",10]
["11N","RWJ",2,null,null,null,"RX1","99D",8]
["11N","RAL",1,null,null,null,"RX1","04J",7]
["11N","RBA",1,null,null,null,"RX1","02Q",5]
["11N","RBD",1,null,null,null,"RX1","04G",5]
["11N","RBT",1,null,null,null,"RX1","03N",4]
["11N","RCF",1,null,null,null,"RX1","05A",3]
["11N","RD3",1,null,null,null,"RX1","05L",3]
["11N","RE9",1,null,null,null,"RX1","07X",3]
["11N","RHM",1,null,null,null,"RX1","02R",2]
["11N","RJ2",1,null,null,null,"RX1","02X",2]
["11N","RJL",1,null,null,null,"RX1","03J",2]
["11N","RN7",1,null,null,null,"RX1","03L",2]
["11N","RPA",1,null,null,null,"RX1","05H",2]
["11N","RQM",1,null,null,null,"RX1","05R",2]
["11N","RTH",1,null,null,null,"RX1","08D",2]
["11N","RVJ",1,null,null,null,"RX1","08K",2]
["11N","RVR",1,null,null,null,"RX1","11H",2]
["11N","RW6",1,null,null,null,"RX1","11M",2]
["11N","RWG",1,null,null,null,"RX1","00J",1]
["11N","RWP",1,null,null,null,"RX1","00Y",1]
["11N","RXP",1,null,null,null,"RX1","01E",1]
["11N","RYR",1,null,null,null,"RX1","01R",1]
["11T","RA3",1584,null,null,null,"RX1","02E",1]
["11T","RA7",1540,null,null,null,"RX1","02P",1]
["11T","RVJ",633,null,null,null,"RX1","02V",1]
["11T","RBA",33,null,null,null,"RX1","03D",1]
["11T","5QK",6,null,null,null,"RX1","03F",1]
["11T","RTE",4,null,null,null,"RX1","03G",1]
["11T","REF",3,null,null,null,"RX1","03H",1]
["11T","RA9",1,null,null,null,"RX1","03K",1]
["11T","RBZ",1,null,null,null,"RX1","03R",1]
["11T","RH8",1,null,null,null,"RX1","05J",1]
["11T","RHW",1,null,null,null,"RX1","05N",1]
["11T","RJD",1,null,null,null,"RX1","05P",1]
["11T","RJZ",1,null,null,null,"RX1","05Q",1]
["11T","RL4",1,null,null,null,"RX1","06N",1]
["11T","RM2",1,null,null,null,"RX1","06W",1]
["11T","RN1",1,null,null,null,"RX1","07P",1]
["11T","RNJ",1,null,null,null,"RX1","07R",1]
["11T","RR1",1,null,null,null,"RX1","07Y",1]
["11T","RWJ",1,null,null,null,"RX1","08G",1]
["11X","RBA",3812,null,null,null,"RX1","08J",1]
["11X","RA4",1466,null,null,null,"RX1","08M",1]
["11X","5QK",647,null,null,null,"RX1","08Q",1]
["11X","RA7",182,null,null,null,"RX1","08V",1]
["11X","RA3",61,null,null,null,"RX1","08X",1]
["11X","RBD",48,null,null,null,"RX1","09D",1]
["11X","5QL",18,null,null,null,"RX1","09F",1]
["11X","RVJ",18,null,null,null,"RX1","09Y",1]
["11X","RH8",17,null,null,null,"RX1","10K",1]
["11X","RNZ",7,null,null,null,"RX1","10Q",1]
["11X","RBZ",4,null,null,null,"RX1","10V",1]
["11X","REF",3,null,null,null,"RX1","11C",1]
["11X","RHM",3,null,null,null,"RX1","11J",1]
["11X","RK9",3,null,null,null,"RX1","99P",1]
["11X","RTE",3,null,null,null,"RX1","Wales",1]
["11X","RL4",2,null,null,null,"RXA","02F",1]
["11X","RBK",1,null,null,null,"RXC","09P",1877]
["11X","RGP",1,null,null,null,"RXC","09F",1828]
["11X","RHU",1,null,null,null,"RXC","99K",470]
["11X","RJ7",1,null,null,null,"RXC","99J",100]
["11X","RJC",1,null,null,null,"RXC","09X",52]
["11X","RLU",1,null,null,null,"RXC","09D",43]
["11X","RQM",1,null,null,null,"RXC","09L",12]
["11X","RQQ",1,null,null,null,"RXC","09H",4]
["11X","RWD",1,null,null,null,"RXC","09G",3]
["11X","RWE",1,null,null,null,"RXC","99H",3]
["11X","RWP",1,null,null,null,"RXC","01A",2]
["11X","RXL",1,null,null,null,"RXC","08A",2]
["11X","RXN",1,null,null,null,"RXC","09J",2]
["11X","RXQ",1,null,null,null,"RXC","10H",2]
["11X","RYJ",1,null,null,null,"RXC","00K",1]
["11X","RYQ",1,null,null,null,"RXC","04C",1]
["12A","RVJ",2651,null,null,null,"RXC","04M",1]
["12A","RA7",331,null,null,null,"RXC","06A",1]
["12A","5QK",179,null,null,null,"RXC","06N",1]
["12A","RTE",5,null,null,null,"RXC","06T",1]
["12A","RBA",3,null,null,null,"RXC","07H",1]
["12A","RH8",3,null,null,null,"RXC","07W",1]
["12A","5QH",2,null,null,null,"RXC","08C",1]
["12A","RBZ",2,null,null,null,"RXC","08K",1]
["12A","REF",2,null,null,null,"RXC","08P",1]
["12A","RN3",2,null,null,null,"RXC","08Q",1]
["12A","RNZ",2,null,null,null,"RXC","08R",1]
["12A","RA4",1,null,null,null,"RXC","09A",1]
["12A","RCB",1,null,null,null,"RXC","09C",1]
["12A","RD3",1,null,null,null,"RXC","09W",1]
["12A","RHU",1,null,null,null,"RXC","10A",1]
["12A","RJ1",1,null,null,null,"RXC","10R",1]
["12A","RLQ",1,null,null,null,"RXC","99E",1]
["12A","RN1",1,null,null,null,"RXC","99N",1]
["12A","RNQ",1,null,null,null,"RXF","03R",4139]
["12A","RP5",1,null,null,null,"RXF","03J",2615]
["12A","RTG",1,null,null,null,"RXF","03C",222]
["12A","RTH",1,null,null,null,"RXF","03G",140]
["12A","RTK",1,null,null,null,"RXF","02R",43]
["12A","RTP",1,null,null,null,"RXF","03Q",38]
["12A","RWA",1,null,null,null,"RXF","02Y",30]
["12A","RWD",1,null,null,null,"RXF","02P",14]
["12A","RXK",1,null,null,null,"RXF","03A",13]
["12D","RN3",2939,null,null,null,"RXF","02W",7]
["12D","RTH",32,null,null,null,"RXF","02X",6]
["12D","RVJ",5,null,null,null,"RXF","02T",4]
["12D","5QK",4,null,null,null,"RXF","13P",3]
["12D","RTE",4,null,null,null,"RXF","02Q",2]
["12D","RW3",3,null,null,null,"RXF","00L",1]
["12D","RA7",2,null,null,null,"RXF","00M",1]
["12D","RAE",2,null,null,null,"RXF","01A",1]
["12D","RD3",2,null,null,null,"RXF","02M",1]
["12D","RHW",2,null,null,null,"RXF","03D",1]
["12D","5QH",1,null,null,null,"RXF","03F",1]
["12D","RAS",1,null,null,null,"RXF","03K",1]
["12D","RBA",1,null,null,null,"RXF","03N",1]
["12D","RBD",1,null,null,null,"RXF","04F",1]
["12D","RBZ",1,null,null,null,"RXF","04G",1]
["12D","RCD",1,null,null,null,"RXF","05D",1]
["12D","RD8",1,null,null,null,"RXF","07J",1]
["12D","RDD",1,null,null,null,"RXF","07P",1]
["12D","RFS",1,null,null,null,"RXF","08C",1]
["12D","RHM",1,null,null,null,"RXF","08L",1]
["12D","RJ2",1,null,null,null,"RXF","08N",1]
["12D","RJ6",1,null,null,null,"RXF","08R",1]
["12D","RJC",1,null,null,null,"RXF","08X",1]
["12D","RK9",1,null,null,null,"RXF","10Q",1]
["12D","RLQ",1,null,null,null,"RXF","10V",1]
["12D","RM1",1,null,null,null,"RXF","11H",1]
["12D","RN5",1,null,null,null,"RXF","12D",1]
["12D","RNH",1,null,null,null,"RXF","99D",1]
["12D","RQQ",1,null,null,null,"RXF","Wales",1]
["12D","RTK",1,null,null,null,"RXH","09D",3057]
["12D","RVV",1,null,null,null,"RXH","09X",1752]
["12D","RWE",1,null,null,null,"RXH","99K",838]
["12D","RXF",1,null,null,null,"RXH","09H",211]
["12D","RXN",1,null,null,null,"RXH","09G",136]
["12D","RXW",1,null,null,null,"RXH","09F",69]
["12F","RBL",3770,null,null,null,"RXH","09P",16]
["12F","REP",328,null,null,null,"RXH","09L",13]
["12F","RJR",46,null,null,null,"RXH","99H",8]
["12F","RWW",3,null,null,null,"RXH","07V",3]
["12F","RBN",2,null,null,null,"RXH","06K",2]
["12F","RBT",2,null,null,null,"RXH","07Q",2]
["12F","RW3",2,null,null,null,"RXH","08A",2]
["12F","RCD",1,null,null,null,"RXH","11J",2]
["12F","RET",1,null,null,null,"RXH","00P",1]
["12F","RJ7",1,null,null,null,"RXH","04K",1]
["12F","RL4",1,null,null,null,"RXH","04N",1]
["12F","RLT",1,null,null,null,"RXH","06H",1]
["12F","RLU",1,null,null,null,"RXH","06N",1]
["12F","RM3",1,null,null,null,"RXH","07L",1]
["12F","RNL",1,null,null,null,"RXH","07M",1]
["12F","RR8",1,null,null,null,"RXH","07T",1]
["12F","RVY",1,null,null,null,"RXH","07Y",1]
["12F","RW6",1,null,null,null,"RXH","08D",1]
["12F","RWE",1,null,null,null,"RXH","08E",1]
["12F","RWJ",1,null,null,null,"RXH","08L",1]
["12F","RWP",1,null,null,null,"RXH","08Q",1]
["12F","RXL",1,null,null,null,"RXH","08W",1]
["13P","RR1",7606,null,null,null,"RXH","08X",1]
["13P","RLU",2914,null,null,null,"RXH","09A",1]
["13P","RXK",558,null,null,null,"RXH","09N",1]
["13P","RBK",33,null,null,null,"RXH","09W",1]
["13P","RWP",32,null,null,null,"RXH","09Y",1]
["13P","RNA",22,null,null,null,"RXH","10G",1]
["13P","RKB",14,null,null,null,"RXH","10H",1]
["13P","RL4",13,null,null,null,"RXH","10R",1]
["13P","RJF",11,null,null,null,"RXH","10V",1]
["13P","RJC",8,null,null,null,"RXH","10X",1]
["13P","REP",5,null,null,null,"RXH","99G",1]
["13P","RRK",4,null,null,null,"RXK","05L",5135]
["13P","RTH",4,null,null,null,"RXK","13P",558]
["13P","RBL",3,null,null,null,"RXK","04X",271]
["13P","RKE",3,null,null,null,"RXK","05Y",47]
["13P","RLT",3,null,null,null,"RXK","05C",37]
["13P","RWE",3,null,null,null,"RXK","06A",13]
["13P","RXF",3,null,null,null,"RXK","05P",11]
["13P","RBZ",2,null,null,null,"RXK","04C",6]
["13P","RC9",2,null,null,null,"RXK","05Q",6]
["13P","RJD",2,null,null,null,"RXK","04Y",5]
["13P","RJE",2,null,null,null,"RXK","05A",5]
["13P","RJZ",2,null,null,null,"RXK","05R",4]
["13P","RNH",2,null,null,null,"RXK","08W",4]
["13P","RNJ",2,null,null,null,"RXK","Wales",4]
["13P","RRV",2,null,null,null,"RXK","04R",3]
["13P","RW6",2,null,null,null,"RXK","08M",3]
["13P","RAL",1,null,null,null,"RXK","03J",2]
["13P","RAX",1,null,null,null,"RXK","04V",2]
["13P","RBD",1,null,null,null,"RXK","05F",2]
["13P","RBT",1,null,null,null,"RXK","05H",2]
["13P","RD8",1,null,null,null,"RXK","05J",2]
["13P","RF4",1,null,null,null,"RXK","05T",2]
["13P","RFR",1,null,null,null,"RXK","07P",2]
["13P","RGC",1,null,null,null,"RXK","08N",2]
["13P","RHQ",1,null,null,null,"RXK","00D",1]
["13P","RJ2",1,null,null,null,"RXK","00H",1]
["13P","RJ7",1,null,null,null,"RXK","00K",1]
["13P","RM1",1,null,null,null,"RXK","00V",1]
["13P","RM2",1,null,null,null,"RXK","00W",1]
["13P","RM3",1,null,null,null,"RXK","01M",1]
["13P","RPA",1,null,null,null,"RXK","01R",1]
["13P","RQ8",1,null,null,null,"RXK","02A",1]
["13P","RQM",1,null,null,null,"RXK","02E",1]
["13P","RTG",1,null,null,null,"RXK","02H",1]
["13P","RW3",1,null,null,null,"RXK","02V",1]
["13P","RXW",1,null,null,null,"RXK","02W",1]
["13P","RYJ",1,null,null,null,"RXK","03F",1]
["99A","REP",5960,null,null,null,"RXK","03N",1]
["99A","RBN",186,null,null,null,"RXK","04G",1]
["99A","RVY",99,null,null,null,"RXK","04N",1]
["99A","RBL",12,null,null,null,"RXK","05D",1]
["99A","RW3",5,null,null,null,"RXK","05V",1]
["99A","RJR",3,null,null,null,"RXK","06H",1]
["99A","RXQ",3,null,null,null,"RXK","06Q",1]
["99A","RAP",2,null,null,null,"RXK","07Y",1]
["99A","RJ2",2,null,null,null,"RXK","08C",1]
["99A","RJZ",2,null,null,null,"RXK","08H",1]
["99A","RKE",2,null,null,null,"RXK","08K",1]
["99A","RR8",2,null,null,null,"RXK","08V",1]
["99A","RW6",2,null,null,null,"RXK","08X",1]
["99A","RWW",2,null,null,null,"RXK","09W",1]
["99A","RAS",1,null,null,null,"RXK","10A",1]
["99A","RAX",1,null,null,null,"RXK","10M",1]
["99A","RBK",1,null,null,null,"RXK","10X",1]
["99A","RFF",1,null,null,null,"RXK","12A",1]
["99A","RGC",1,null,null,null,"RXL","00R",1924]
["99A","RHQ",1,null,null,null,"RXL","02M",1274]
["99A","RJL",1,null,null,null,"RXL","01E",22]
["99A","RK9",1,null,null,null,"RXL","01K",17]
["99A","RM1",1,null,null,null,"RXL","01A",5]
["99A","RM2",1,null,null,null,"RXL","00Q",4]
["99A","RNH",1,null,null,null,"RXL","00X",4]
["99A","RNJ",1,null,null,null,"RXL","01G",4]
["99A","RNL",1,null,null,null,"RXL","01M",3]
["99A","RR1",1,null,null,null,"RXL","00T",2]
["99A","RTX",1,null,null,null,"RXL","00W",2]
["99A","RVL",1,null,null,null,"RXL","00Y",2]
["99A","RWF",1,null,null,null,"RXL","01H",2]
["99A","RXR",1,null,null,null,"RXL","01W",2]
["99A","RYJ",1,null,null,null,"RXL","02H",2]
["99A","RYQ",1,null,null,null,"RXL","05P",2]
["99C","RTD",1729,null,null,null,"RXL","05W",2]
["99C","RTF",990,null,null,null,"RXL","00F",1]
["99C","RE9",7,null,null,null,"RXL","00L",1]
["99C","RR7",6,null,null,null,"RXL","00V",1]
["99C","RTR",4,null,null,null,"RXL","01C",1]
["99C","RLN",2,null,null,null,"RXL","01D",1]
["99C","RVW",2,null,null,null,"RXL","01J",1]
["99C","RBZ",1,null,null,null,"RXL","01V",1]
["99C","RCC",1,null,null,null,"RXL","01Y",1]
["99C","RCX",1,null,null,null,"RXL","02E",1]
["99C","RHQ",1,null,null,null,"RXL","03C",1]
["99C","RHW",1,null,null,null,"RXL","03G",1]
["99C","RJD",1,null,null,null,"RXL","03J",1]
["99C","RNL",1,null,null,null,"RXL","03L",1]
["99C","RR1",1,null,null,null,"RXL","03N",1]
["99C","RR8",1,null,null,null,"RXL","03Q",1]
["99C","RW3",1,null,null,null,"RXL","04H",1]
["99C","RWA",1,null,null,null,"RXL","04Q",1]
["99C","RWD",1,null,null,null,"RXL","05C",1]
["99C","RWP",1,null,null,null,"RXL","05X",1]
["99C","RXP",1,null,null,null,"RXL","06F",1]
["99D","RGN",852,null,null,null,"RXL","07Y",1]
["99D","RWD",619,null,null,null,"RXL","08Y",1]
["99D","RCX",158,null,null,null,"RXL","09D",1]
["99D","RQQ",45,null,null,null,"RXL","10J",1]
["99D","RWE",11,null,null,null,"RXL","11X",1]
["99D","RP7",8,null,null,null,"RXL","12F",1]
["99D","RX1",8,null,null,null,"RXL","Wales",1]
["99D","RGT",5,null,null,null,"RXN","01E",2814]
["99D","RNQ",3,null,null,null,"RXN","00X",1973]
["99D","RBT",2,null,null,null,"RXN","02M",148]
["99D","RC9",2,null,null,null,"RXN","01K",56]
["99D","RAE",1,null,null,null,"RXN","00Q",32]
["99D","RBN",1,null,null,null,"RXN","01A",16]
["99D","RGP",1,null,null,null,"RXN","02G",14]
["99D","RGR",1,null,null,null,"RXN","00R",11]
["99D","RHQ",1,null,null,null,"RXN","00T",7]
["99D","RM1",1,null,null,null,"RXN","01H",5]
["99D","RNH",1,null,null,null,"RXN","00V",4]
["99D","RNJ",1,null,null,null,"RXN","02H",4]
["99D","RP5",1,null,null,null,"RXN","01Y",3]
["99D","RTH",1,null,null,null,"RXN","01D",2]
["99D","RXF",1,null,null,null,"RXN","07T",2]
["99D","RYJ",1,null,null,null,"RXN","00K",1]
["99E","RDD",2385,null,null,null,"RXN","00W",1]
["99E","RQ8",552,null,null,null,"RXN","00Y",1]
["99E","RF4",233,null,null,null,"RXN","01C",1]
["99E","RAJ",85,null,null,null,"RXN","01M",1]
["99E","RJ1",10,null,null,null,"RXN","01T",1]
["99E","RJZ",10,null,null,null,"RXN","01X",1]
["99E","RNJ",10,null,null,null,"RXN","03D",1]
["99E","RQW",6,null,null,null,"RXN","03J",1]
["99E","RGT",4,null,null,null,"RXN","04C",1]
["99E","RN7",4,null,null,null,"RXN","10Q",1]
["99E","RNH",4,null,null,null,"RXN","11X",1]
["99E","RRV",4,null,null,null,"RXN","12D",1]
["99E","RDE",3,null,null,null,"RXN","99N",1]
["99E","RGC",2,null,null,null,"RXP","00J",2452]
["99E","RJ2",2,null,null,null,"RXP","00D",2337]
["99E","RM1",2,null,null,null,"RXP","00C",1364]
["99E","RQM",2,null,null,null,"RXP","00P",84]
["99E","RQX",2,null,null,null,"RXP","03D",45]
["99E","RYQ",2,null,null,null,"RXP","00F",22]
["99E","RAS",1,null,null,null,"RXP","00K",10]
["99E","RC9",1,null,null,null,"RXP","00M",7]
["99E","RGR",1,null,null,null,"RXP","00L",6]
["99E","RHQ",1,null,null,null,"RXP","00N",4]
["99E","RHW",1,null,null,null,"RXP","00G",3]
["99E","RJD",1,null,null,null,"RXP","00H",3]
["99E","RL4",1,null,null,null,"RXP","01H",2]
["99E","RTP",1,null,null,null,"RXP","02X",2]
["99E","RWA",1,null,null,null,"RXP","00W",1]
["99E","RXC",1,null,null,null,"RXP","01G",1]
["99F","RAJ",1725,null,null,null,"RXP","01J",1]
["99F","RDD",59,null,null,null,"RXP","01W",1]
["99F","RC9",3,null,null,null,"RXP","02F",1]
["99F","RF4",3,null,null,null,"RXP","03C",1]
["99F","RNJ",3,null,null,null,"RXP","03G",1]
["99F","RNH",2,null,null,null,"RXP","03K",1]
["99F","RPA",2,null,null,null,"RXP","03L",1]
["99F","RQ8",2,null,null,null,"RXP","03Q",1]
["99F","RQX",2,null,null,null,"RXP","04D",1]
["99F","RYJ",2,null,null,null,"RXP","04N",1]
["99F","RDE",1,null,null,null,"RXP","04R",1]
["99F","RGR",1,null,null,null,"RXP","05C",1]
["99F","RGT",1,null,null,null,"RXP","05D",1]
["99F","RJ1",1,null,null,null,"RXP","06L",1]
["99F","RP5",1,null,null,null,"RXP","06T",1]
["99F","RRV",1,null,null,null,"RXP","07H",1]
["99F","RWF",1,null,null,null,"RXP","07K",1]
["99F","RWG",1,null,null,null,"RXP","07R",1]
["99G","RAJ",2348,null,null,null,"RXP","10C",1]
["99G","RDD",8,null,null,null,"RXP","10K",1]
["99G","RF4",6,null,null,null,"RXP","10Q",1]
["99G","RC9",3,null,null,null,"RXP","11J",1]
["99G","RJ1",3,null,null,null,"RXP","11N",1]
["99G","RJZ",3,null,null,null,"RXP","99C",1]
["99G","RAL",2,null,null,null,"RXQ","10H",2732]
["99G","RNH",2,null,null,null,"RXQ","10Y",2172]
["99G","RQ8",2,null,null,null,"RXQ","06N",497]
["99G","RRV",2,null,null,null,"RXQ","06F",397]
["99G","RBK",1,null,null,null,"RXQ","04F",34]
["99G","RGC",1,null,null,null,"RXQ","10Q",30]
["99G","RJ6",1,null,null,null,"RXQ","11C",11]
["99G","RJ7",1,null,null,null,"RXQ","07M",3]
["99G","RNJ",1,null,null,null,"RXQ","99A",3]
["99G","RPA",1,null,null,null,"RXQ","04G",2]
["99G","RV8",1,null,null,null,"RXQ","05A",2]
["99G","RVJ",1,null,null,null,"RXQ","07W",2]
["99G","RVL",1,null,null,null,"RXQ","07X",2]
["99G","RWN",1,null,null,null,"RXQ","10G",2]
["99G","RXH",1,null,null,null,"RXQ","10N",2]
["99G","RYJ",1,null,null,null,"RXQ","11D",2]
["99H","RVR",1792,null,null,null,"RXQ","01R",1]
["99H","RAX",792,null,null,null,"RXQ","01V",1]
["99H","RTP",302,null,null,null,"RXQ","03G",1]
["99H","RA2",173,null,null,null,"RXQ","04K",1]
["99H","RTK",58,null,null,null,"RXQ","05G",1]
["99H","RJ7",30,null,null,null,"RXQ","05L",1]
["99H","RQM",18,null,null,null,"RXQ","05R",1]
["99H","RYJ",9,null,null,null,"RXQ","06K",1]
["99H","RJ1",8,null,null,null,"RXQ","06P",1]
["99H","RXH",8,null,null,null,"RXQ","08C",1]
["99H","RRV",4,null,null,null,"RXQ","08D",1]
["99H","RDU",3,null,null,null,"RXQ","08G",1]
["99H","RJ6",3,null,null,null,"RXQ","08L",1]
["99H","RJZ",3,null,null,null,"RXQ","08M",1]
["99H","RXC",3,null,null,null,"RXQ","08V",1]
["99H","RYR",3,null,null,null,"RXQ","08W",1]
["99H","REF",2,null,null,null,"RXQ","08X",1]
["99H","REP",2,null,null,null,"RXQ","08Y",1]
["99H","RFW",2,null,null,null,"RXQ","09G",1]
["99H","RHU",2,null,null,null,"RXQ","09H",1]
["99H","RJ2",2,null,null,null,"RXQ","09N",1]
["99H","RN7",2,null,null,null,"RXQ","11M",1]
["99H","RNJ",2,null,null,null,"RXQ","11X",1]
["99H","RWF",2,null,null,null,"RXQ","99H",1]
["99H","RYQ",2,null,null,null,"RXQ","99N",1]
["99H","5QK",1,null,null,null,"RXQ","Wales",1]
["99H","RA9",1,null,null,null,"RXR","01A",4171]
["99H","RAS",1,null,null,null,"RXR","00Q",2344]
["99H","RBD",1,null,null,null,"RXR","00T",20]
["99H","RCF",1,null,null,null,"RXR","02T",16]
["99H","RCX",1,null,null,null,"RXR","00X",11]
["99H","RJC",1,null,null,null,"RXR","00V",7]
["99H","RL4",1,null,null,null,"RXR","01E",4]
["99H","RPA",1,null,null,null,"RXR","02H",4]
["99H","RQQ",1,null,null,null,"RXR","03J",4]
["99H","RR1",1,null,null,null,"RXR","00R",3]
["99H","RTG",1,null,null,null,"RXR","01N",3]
["99H","RTH",1,null,null,null,"RXR","01Y",3]
["99H","RVL",1,null,null,null,"RXR","02N",3]
["99H","RVV",1,null,null,null,"RXR","00W",2]
["99H","RW6",1,null,null,null,"RXR","00Y",2]
["99H","RWH",1,null,null,null,"RXR","01H",2]
["99H","RWP",1,null,null,null,"RXR","01K",2]
["99H","RXQ",1,null,null,null,"RXR","01M",2]
["99H","RXW",1,null,null,null,"RXR","02X",2]
["99J","RWF",5298,null,null,null,"RXR","03D",2]
["99J","RYQ",157,null,null,null,"RXR","04J",2]
["99J","RXC",100,null,null,null,"RXR","00D",1]
["99J","RVV",81,null,null,null,"RXR","01D",1]
["99J","RPA",61,null,null,null,"RXR","01G",1]
["99J","RN7",54,null,null,null,"RXR","01R",1]
["99J","RJ1",19,null,null,null,"RXR","01W",1]
["99J","RTP",17,null,null,null,"RXR","02A",1]
["99J","RJZ",12,null,null,null,"RXR","02M",1]
["99J","RYJ",7,null,null,null,"RXR","02V",1]
["99J","RQM",5,null,null,null,"RXR","03A",1]
["99J","RTK",5,null,null,null,"RXR","03C",1]
["99J","REF",4,null,null,null,"RXR","03K",1]
["99J","RJ2",4,null,null,null,"RXR","06F",1]
["99J","RJ6",4,null,null,null,"RXR","06P",1]
["99J","RRV",4,null,null,null,"RXR","07L",1]
["99J","RJ7",3,null,null,null,"RXR","07P",1]
["99J","RVR",3,null,null,null,"RXR","07X",1]
["99J","5QT",2,null,null,null,"RXR","08M",1]
["99J","RAX",2,null,null,null,"RXR","08V",1]
["99J","RNH",2,null,null,null,"RXR","08X",1]
["99J","RQX",2,null,null,null,"RXR","09L",1]
["99J","RA7",1,null,null,null,"RXR","11D",1]
["99J","RBZ",1,null,null,null,"RXR","11H",1]
["99J","RC1",1,null,null,null,"RXR","99A",1]
["99J","RC9",1,null,null,null,"RXW","05N",2652]
["99J","RD3",1,null,null,null,"RXW","05X",2242]
["99J","RD8",1,null,null,null,"RXW","Wales",411]
["99J","RFS",1,null,null,null,"RXW","05F",52]
["99J","RGR",1,null,null,null,"RXW","05Q",32]
["99J","RHW",1,null,null,null,"RXW","05T",24]
["99J","RM1",1,null,null,null,"RXW","05V",9]
["99J","RQ8",1,null,null,null,"RXW","02F",7]
["99J","RR1",1,null,null,null,"RXW","05L",4]
["99J","RTD",1,null,null,null,"RXW","06A",4]
["99J","RW6",1,null,null,null,"RXW","05W",2]
["99J","RWD",1,null,null,null,"RXW","06D",2]
["99K","RXH",838,null,null,null,"RXW","10J",2]
["99K","RXC",470,null,null,null,"RXW","00R",1]
["99K","RWF",251,null,null,null,"RXW","01R",1]
["99K","RYR",4,null,null,null,"RXW","01V",1]
["99K","RQM",3,null,null,null,"RXW","02D",1]
["99K","RTP",3,null,null,null,"RXW","03E",1]
["99K","RJ1",2,null,null,null,"RXW","03X",1]
["99K","RPA",2,null,null,null,"RXW","04G",1]
["99K","RYQ",2,null,null,null,"RXW","04L",1]
["99K","RAX",1,null,null,null,"RXW","04Y",1]
["99K","RBD",1,null,null,null,"RXW","05A",1]
["99K","RDU",1,null,null,null,"RXW","05C",1]
["99K","REF",1,null,null,null,"RXW","05G",1]
["99K","RH8",1,null,null,null,"RXW","05H",1]
["99K","RJF",1,null,null,null,"RXW","05P",1]
["99K","RKE",1,null,null,null,"RXW","05R",1]
["99K","RNJ",1,null,null,null,"RXW","06H",1]
["99K","RTH",1,null,null,null,"RXW","08H",1]
["99K","RVL",1,null,null,null,"RXW","10H",1]
["99K","RVR",1,null,null,null,"RXW","10K",1]
["99K","RVV",1,null,null,null,"RXW","12D",1]
["99K","RYJ",1,null,null,null,"RXW","13P",1]
["99M","RDU",2375,null,null,null,"RXW","99H",1]
["99M","RA2",274,null,null,null,"RXW","99N",1]
["99M","RTK",16,null,null,null,"RYJ","07P",2177]
["99M","RN5",10,null,null,null,"RYJ","07W",2168]
["99M","RJ1",6,null,null,null,"RYJ","08C",1534]
["99M","RJ7",5,null,null,null,"RYJ","08Y",1456]
["99M","RHW",3,null,null,null,"RYJ","09A",1039]
["99M","RTH",3,null,null,null,"RYJ","07Y",588]
["99M","RD7",2,null,null,null,"RYJ","07R",315]
["99M","RAJ",1,null,null,null,"RYJ","08E",179]
["99M","RAX",1,null,null,null,"RYJ","08P",164]
["99M","RFW",1,null,null,null,"RYJ","07M",142]
["99M","RGQ",1,null,null,null,"RYJ","08G",111]
["99M","RHM",1,null,null,null,"RYJ","08X",76]
["99M","RHU",1,null,null,null,"RYJ","06N",48]
["99M","RNJ",1,null,null,null,"RYJ","10H",38]
["99M","RQM",1,null,null,null,"RYJ","08H",36]
["99M","RR8",1,null,null,null,"RYJ","08D",31]
["99M","RTP",1,null,null,null,"RYJ","08M",20]
["99M","RTR",1,null,null,null,"RYJ","08N",20]
["99M","RV8",1,null,null,null,"RYJ","08W",20]
["99M","RVV",1,null,null,null,"RYJ","07T",19]
["99M","RW6",1,null,null,null,"RYJ","07X",19]
["99M","RWA",1,null,null,null,"RYJ","08R",17]
["99N","5QK",2280,null,null,null,"RYJ","08V",17]
["99N","RNZ",1705,null,null,null,"RYJ","08K",16]
["99N","RN3",978,null,null,null,"RYJ","07V",15]
["99N","RA7",76,null,null,null,"RYJ","06K",14]
["99N","RN1",34,null,null,null,"RYJ","08A",14]
["99N","RHM",27,null,null,null,"RYJ","08J",14]
["99N","RHU",9,null,null,null,"RYJ","08Q",12]
["99N","RA4",8,null,null,null,"RYJ","09Y",12]
["99N","RTH",8,null,null,null,"RYJ","99H",9]
["99N","RVJ",8,null,null,null,"RYJ","10Q",7]
["99N","RTE",7,null,null,null,"RYJ","99J",7]
["99N","RD3",5,null,null,null,"RYJ","08L",6]
["99N","RBD",3,null,null,null,"RYJ","10T",6]
["99N","RBZ",3,null,null,null,"RYJ","07L",5]
["99N","RN5",3,null,null,null,"RYJ","07N",5]
["99N","RYJ",3,null,null,null,"RYJ","06F",4]
["99N","5QH",2,null,null,null,"RYJ","06P",4]
["99N","5QT",2,null,null,null,"RYJ","06T",4]
["99N","RDU",2,null,null,null,"RYJ","07H",4]
["99N","REF",2,null,null,null,"RYJ","11A",4]
["99N","RH8",2,null,null,null,"RYJ","11C",4]
["99N","RJZ",2,null,null,null,"RYJ","03W",3]
["99N","RLQ",2,null,null,null,"RYJ","06L",3]
["99N","RQM",2,null,null,null,"RYJ","07Q",3]
["99N","RA9",1,null,null,null,"RYJ","10W",3]
["99N","RBA",1,null,null,null,"RYJ","10Y",3]
["99N","RBT",1,null,null,null,"RYJ","11M",3]
["99N","RCB",1,null,null,null,"RYJ","99N",3]
["99N","RCF",1,null,null,null,"RYJ","03C",2]
["99N","RFS",1,null,null,null,"RYJ","04G",2]
["99N","RGC",1,null,null,null,"RYJ","04R",2]
["99N","RHW",1,null,null,null,"RYJ","06Q",2]
["99N","RJ1",1,null,null,null,"RYJ","07G",2]
["99N","RJL",1,null,null,null,"RYJ","09D",2]
["99N","RK5",1,null,null,null,"RYJ","09H",2]
["99N","RK9",1,null,null,null,"RYJ","09J",2]
["99N","RM2",1,null,null,null,"RYJ","09L",2]
["99N","RM3",1,null,null,null,"RYJ","09W",2]
["99N","RNA",1,null,null,null,"RYJ","10A",2]
["99N","RPA",1,null,null,null,"RYJ","10E",2]
["99N","RQ8",1,null,null,null,"RYJ","10J",2]
["99N","RQX",1,null,null,null,"RYJ","10N",2]
["99N","RR8",1,null,null,null,"RYJ","11D",2]
["99N","RTG",1,null,null,null,"RYJ","11E",2]
["99N","RVV",1,null,null,null,"RYJ","11J",2]
["99N","RW3",1,null,null,null,"RYJ","99F",2]
["99N","RWP",1,null,null,null,"RYJ","99P",2]
["99N","RXC",1,null,null,null,"RYJ","00T",1]
["99N","RXN",1,null,null,null,"RYJ","01R",1]
["99N","RXQ",1,null,null,null,"RYJ","02E",1]
["99N","RXW",1,null,null,null,"RYJ","03G",1]
["99N","RYQ",1,null,null,null,"RYJ","03H",1]
["99P","RH8",4168,null,null,null,"RYJ","03V",1]
["99P","RK9",4141,null,null,null,"RYJ","04F",1]
["99P","RBZ",1729,null,null,null,"RYJ","04X",1]
["99P","RBA",83,null,null,null,"RYJ","05A",1]
["99P","RA9",76,null,null,null,"RYJ","05D",1]
["99P","RA7",71,null,null,null,"RYJ","05L",1]
["99P","REF",6,null,null,null,"RYJ","05P",1]
["99P","RD3",5,null,null,null,"RYJ","05R",1]
["99P","RVJ",5,null,null,null,"RYJ","06A",1]
["99P","RBD",3,null,null,null,"RYJ","06H",1]
["99P","RHM",3,null,null,null,"RYJ","06M",1]
["99P","RHU",3,null,null,null,"RYJ","06V",1]
["99P","RA3",2,null,null,null,"RYJ","06W",1]
["99P","RA4",2,null,null,null,"RYJ","07K",1]
["99P","RN5",2,null,null,null,"RYJ","08F",1]
["99P","RYJ",2,null,null,null,"RYJ","08T",1]
["99P","5QQ",1,null,null,null,"RYJ","09N",1]
["99P","RAE",1,null,null,null,"RYJ","09X",1]
["99P","RAL",1,null,null,null,"RYJ","10C",1]
["99P","RFF",1,null,null,null,"RYJ","10G",1]
["99P","RGC",1,null,null,null,"RYJ","10M",1]
["99P","RGQ",1,null,null,null,"RYJ","10R",1]
["99P","RHQ",1,null,null,null,"RYJ","11H",1]
["99P","RJ6",1,null,null,null,"RYJ","11X",1]
["99P","RJ7",1,null,null,null,"RYJ","13P",1]
["99P","RJC",1,null,null,null,"RYJ","99A",1]
["99P","RJR",1,null,null,null,"RYJ","99D",1]
["99P","RNQ",1,null,null,null,"RYJ","99G",1]
["99P","RR1",1,null,null,null,"RYJ","99K",1]
["99P","RTD",1,null,null,null,"RYQ","08A",4290]
["99P","RTE",1,null,null,null,"RYQ","07Q",3887]
["99P","RTG",1,null,null,null,"RYQ","07N",2317]
["99P","RTH",1,null,null,null,"RYQ","07V",302]
["99P","RW3",1,null,null,null,"RYQ","08L",280]
["99P","RW6",1,null,null,null,"RYQ","99J",157]
["99P","RWD",1,null,null,null,"RYQ","09J",102]
["99P","RWF",1,null,null,null,"RYQ","08Q",29]
["99P","RWP",1,null,null,null,"RYQ","08M",23]
["99P","RX1",1,null,null,null,"RYQ","08K",17]
["99P","RYQ",1,null,null,null,"RYQ","08V",13]
["99Q","RA9",2495,null,null,null,"RYQ","07L",10]
["99Q","RH8",234,null,null,null,"RYQ","09L",10]
["99Q","RK9",65,null,null,null,"RYQ","07T",8]
["99Q","RA7",15,null,null,null,"RYQ","08D",6]
["99Q","RBA",4,null,null,null,"RYQ","08W",5]
["99Q","RTE",4,null,null,null,"RYQ","07G",4]
["99Q","RR1",2,null,null,null,"RYQ","07M",4]
["99Q","RA2",1,null,null,null,"RYQ","08T",4]
["99Q","RBD",1,null,null,null,"RYQ","09W",4]
["99Q","RBZ",1,null,null,null,"RYQ","00M",3]
["99Q","RC1",1,null,null,null,"RYQ","05L",3]
["99Q","RC3",1,null,null,null,"RYQ","06Q",3]
["99Q","RC9",1,null,null,null,"RYQ","07H",3]
["99Q","RD3",1,null,null,null,"RYQ","07W",3]
["99Q","RD7",1,null,null,null,"RYQ","08X",3]
["99Q","REF",1,null,null,null,"RYQ","00T",2]
["99Q","RJE",1,null,null,null,"RYQ","00W",2]
["99Q","RN3",1,null,null,null,"RYQ","04F",2]
["99Q","RNA",1,null,null,null,"RYQ","04G",2]
["99Q","RQX",1,null,null,null,"RYQ","07K",2]
["99Q","RTH",1,null,null,null,"RYQ","08H",2]
["Wales","RJR",657,null,null,null,"RYQ","08J",2]
["Wales","RXW",411,null,null,null,"RYQ","08R",2]
["Wales","RLQ",208,null,null,null,"RYQ","09C",2]
["Wales","RA7",127,null,null,null,"RYQ","09E",2]
["Wales","REP",45,null,null,null,"RYQ","09N",2]
["Wales","RBL",37,null,null,null,"RYQ","09X",2]
["Wales","RVJ",37,null,null,null,"RYQ","10V",2]
["Wales","RTE",25,null,null,null,"RYQ","99E",2]
["Wales","RR1",14,null,null,null,"RYQ","99H",2]
["Wales","RBA",13,null,null,null,"RYQ","99K",2]
["Wales","RH8",7,null,null,null,"RYQ","00P",1]
["Wales","RKB",6,null,null,null,"RYQ","02R",1]
["Wales","RRV",6,null,null,null,"RYQ","02W",1]
["Wales","RLU",4,null,null,null,"RYQ","03A",1]
["Wales","RM3",4,null,null,null,"RYQ","03J",1]
["Wales","RXK",4,null,null,null,"RYQ","04J",1]
["Wales","5QK",3,null,null,null,"RYQ","05A",1]
["Wales","RAL",3,null,null,null,"RYQ","05J",1]
["Wales","RBD",3,null,null,null,"RYQ","05W",1]
["Wales","RBK",3,null,null,null,"RYQ","06A",1]
["Wales","RD3",3,null,null,null,"RYQ","06H",1]
["Wales","RK9",3,null,null,null,"RYQ","06L",1]
["Wales","RM2",3,null,null,null,"RYQ","06M",1]
["Wales","RN3",3,null,null,null,"RYQ","06N",1]
["Wales","RQM",3,null,null,null,"RYQ","07R",1]
["Wales","RV8",3,null,null,null,"RYQ","07Y",1]
["Wales","RWP",3,null,null,null,"RYQ","08G",1]
["Wales","RA3",2,null,null,null,"RYQ","08P",1]
["Wales","RA9",2,null,null,null,"RYQ","09A",1]
["Wales","RAE",2,null,null,null,"RYQ","09D",1]
["Wales","RAS",2,null,null,null,"RYQ","09G",1]
["Wales","RBZ",2,null,null,null,"RYQ","09H",1]
["Wales","RGQ",2,null,null,null,"RYQ","09P",1]
["Wales","RGT",2,null,null,null,"RYQ","09Y",1]
["Wales","RHM",2,null,null,null,"RYQ","10J",1]
["Wales","RHW",2,null,null,null,"RYQ","10Q",1]
["Wales","RJ1",2,null,null,null,"RYQ","10T",1]
["Wales","RJD",2,null,null,null,"RYQ","11A",1]
["Wales","RJF",2,null,null,null,"RYQ","11C",1]
["Wales","RJZ",2,null,null,null,"RYQ","11H",1]
["Wales","RL4",2,null,null,null,"RYQ","11J",1]
["Wales","RM1",2,null,null,null,"RYQ","11M",1]
["Wales","RNA",2,null,null,null,"RYQ","11X",1]
["Wales","RNZ",2,null,null,null,"RYQ","99A",1]
["Wales","RQ8",2,null,null,null,"RYQ","99N",1]
["Wales","RR8",2,null,null,null,"RYQ","99P",1]
["Wales","RRF",2,null,null,null,"RYQ","Wales",1]
["Wales","RTH",2,null,null,null,"RYR","09G",4653]
["Wales","RWJ",2,null,null,null,"RYR","10V",441]
["Wales","5QT",1,null,null,null,"RYR","09D",362]
["Wales","RA2",1,null,null,null,"RYR","09X",122]
["Wales","RA4",1,null,null,null,"RYR","10R",38]
["Wales","RAX",1,null,null,null,"RYR","10K",12]
["Wales","RCF",1,null,null,null,"RYR","09N",9]
["Wales","RD7",1,null,null,null,"RYR","11A",7]
["Wales","RDU",1,null,null,null,"RYR","09H",6]
["Wales","RF4",1,null,null,null,"RYR","09F",5]
["Wales","RFF",1,null,null,null,"RYR","10X",4]
["Wales","RGC",1,null,null,null,"RYR","99K",4]
["Wales","RHQ",1,null,null,null,"RYR","11J",3]
["Wales","RJ6",1,null,null,null,"RYR","99H",3]
["Wales","RJC",1,null,null,null,"RYR","06H",2]
["Wales","RK5",1,null,null,null,"RYR","08X",2]
["Wales","RKE",1,null,null,null,"RYR","10H",2]
["Wales","RL1",1,null,null,null,"RYR","04F",1]
["Wales","RLT",1,null,null,null,"RYR","06K",1]
["Wales","RNJ",1,null,null,null,"RYR","07J",1]
["Wales","RNL",1,null,null,null,"RYR","07K",1]
["Wales","RPA",1,null,null,null,"RYR","07V",1]
["Wales","RTF",1,null,null,null,"RYR","07W",1]
["Wales","RTG",1,null,null,null,"RYR","08C",1]
["Wales","RTK",1,null,null,null,"RYR","08K",1]
["Wales","RTR",1,null,null,null,"RYR","08Q",1]
["Wales","RVL",1,null,null,null,"RYR","08W",1]
["Wales","RW3",1,null,null,null,"RYR","09E",1]
["Wales","RW6",1,null,null,null,"RYR","09L",1]
["Wales","RWH",1,null,null,null,"RYR","09P",1]
["Wales","RWW",1,null,null,null,"RYR","09W",1]
["Wales","RX1",1,null,null,null,"RYR","09Y",1]
["Wales","RXF",1,null,null,null,"RYR","10J",1]
["Wales","RXL",1,null,null,null,"RYR","10L",1]
["Wales","RXQ",1,null,null,null,"RYR","10Y",1]
["Wales","RYQ",1,null,null,null,"RYR","11N",1]

{"sheet":"provnames","index":8,"n_rows":346,"n_cols":2,"rows_kept":346,"cut":false,"hidden":true,"merged":[]}
["prov","prov name"]
["5A3","South Gloucestershire PCT"]
["5A4","Havering PCT"]
["5A5","Kingston PCT"]
["5AT","Hillingdon PCT"]
["5C2","Barking & Dagenham PCT"]
["5C3","City & Hackney Teaching PCT"]
["5C4","Tower Hamlets PCT"]
["5C5","Newham PCT"]
["5C9","Haringey Teaching PCT"]
["5CN","Herefordshire PCT"]
["5CQ","Milton Keynes PCT"]
["5F1","Plymouth Teaching PCT"]
["5FE","Portsmouth City Teaching PCT"]
["5FL","Bath & North East Somerset PCT"]
["5GC","Luton PCT"]
["5H8","Rotherham PCT"]
["5J2","Warrington PCT"]
["5J9","Darlington PCT"]
["5JE","Barnsley PCT"]
["5K3","Swindon PCT"]
["5K7","Camden PCT"]
["5KG","South Tyneside PCT"]
["5KL","Sunderland Teaching PCT"]
["5L1","Southampton City PCT"]
["5L3","Medway PCT"]
["5LG","Wandsworth PCT"]
["5M1","South Birmingham PCT"]
["5M2","Shropshire County PCT"]
["5M3","Walsall Teaching PCT"]
["5M6","Richmond & Twickenham PCT"]
["5M7","Sutton & Merton PCT"]
["5M8","North Somerset PCT"]
["5MK","Telford & Wrekin PCT"]
["5MV","Wolverhampton City PCT"]
["5MX","Heart of Birmingham Teaching PCT"]
["5N5","Doncaster PCT"]
["5N6","Derbyshire County PCT"]
["5N8","Nottinghamshire County Teaching PCT"]
["5N9","Lincolnshire Teaching PCT"]
["5NE","Cumbria Teaching PCT"]
["5NG","Central Lancashire PCT"]
["5NL","Liverpool PCT"]
["5NN","Western Cheshire PCT"]
["5NV","North Yorkshire & York PCT"]
["5NW","East Riding of Yorkshire PCT"]
["5P5","Surrey PCT"]
["5P6","West Sussex PCT"]
["5P7","East Sussex Downs & Weald PCT"]
["5P8","Hastings & Rother PCT"]
["5P9","West Kent PCT"]
["5PA","Leicestershire County & Rutland PCT"]
["5PC","Leicester City PCT"]
["5PD","Northamptonshire Teaching PCT"]
["5PH","North Staffordshire PCT"]
["5PJ","Stoke on Trent PCT"]
["5PK","South Staffordshire PCT"]
["5PL","Worcestershire PCT"]
["5PM","Warwickshire PCT"]
["5PP","Cambridgeshire PCT"]
["5PQ","Norfolk PCT"]
["5PT","Suffolk PCT"]
["5PV","West Essex PCT"]
["5PX","Mid Essex PCT"]
["5PY","South West Essex PCT"]
["5QA","Eastern & Coastal Kent PCT"]
["5QC","Hampshire PCT"]
["5QD","Buckinghamshire PCT"]
["5QE","Oxfordshire PCT"]
["5QF","Berkshire West PCT"]
["5QG","Berkshire East PCT"]
["5QH","Gloucestershire PCT"]
["5QK","Wiltshire PCT"]
["5QL","Somerset PCT"]
["5QM","Dorset PCT"]
["5QN","Bournemouth & Poole Teaching PCT"]
["5QP","Cornwall & Isles of Scilly PCT"]
["5QQ","Devon PCT"]
["5QR","Redcar & Cleveland PCT"]
["5QT","Isle of Wight NHS PCT"]
["NN4","Tyneside Surgical Services Ltd"]
["NT2","Nuffield Health"]
["NT3","Spire Healthcare"]
["NT4","BMI Headquarters"]
["NT7","Netcare Healthcare UK"]
["NTA","Nations Healthcare Ltd"]
["NTC","Uk Specialist Hospitals Ltd"]
["NTD","Interhealth Care Services (Uk) Ltd"]
["NTE","Claremont & St Hugh's Hospitals (Hmt)"]
["NTF","Abbey Hospitals"]
["NTP","Care UK"]
["NTY","Other Private Healthcare Providers"]
["NV3","Circle"]
["NVC","Ramsay Healthcare UK Operations Ltd"]
["NVD","Peninsula Plastic Surgery Ltd"]
["NVG","Fairfield Hospital"]
["NWF","Benenden Hospital"]
["NXM","The Horder Centre"]
["NXR","Suffolk Integrated Healthcare"]
["NY6","Pain Management Solutions"]
["RA2","Royal Surrey County Hospital NHS FT"]
["RA3","Weston Area Health NHS Trust"]
["RA4","Yeovil District Hospital NHS FT"]
["RA7","University Hospitals Bristol NHS FT"]
["RA9","South Devon Healthcare NHS FT"]
["RAE","Bradford Teaching Hospitals NHS FT"]
["RAJ","Southend Univ Hospital NHS FT"]
["RAL","Royal Free Hampstead NHS Trust"]
["RAN","Royal National Orthopaedic Hospital NHS Trust"]
["RAP","North Middlesex Univ Hospital NHS Trust"]
["RAS","The Hillingdon Hospitals NHS FT"]
["RAT","North East London NHS FT"]
["RAX","Kingston Hospital NHS Trust"]
["RBA","Taunton & Somerset NHS FT"]
["RBB","Royal National Hospital for Rheumatic Diseases NHS FT"]
["RBD","Dorset County Hospital NHS FT"]
["RBF","Nuffield Orthopaedic Centre NHS Trust"]
["RBK","Walsall Healthcare NHS Trust"]
["RBL","Wirral Univ Teaching Hospital NHS FT"]
["RBN","St Helens & Knowsley Hospitals NHS Trust"]
["RBQ","Liverpool Heart & Chest NHS FT"]
["RBS","Alder Hey Children's NHS FT"]
["RBT","Mid Cheshire Hospitals NHS FT"]
["RBV","The Christie NHS FT"]
["RBZ","Northern Devon Healthcare NHS Trust"]
["RC1","Bedford Hospital NHS Trust"]
["RC3","Ealing Hospital NHS Trust"]
["RC9","Luton & Dunstable Hospital NHS FT"]
["RCB","York Teaching Hospital NHS FT"]
["RCC","Scarborough & NE Yorkshire Health Care NHS Trust"]
["RCD","Harrogate & District NHS FT"]
["RCF","Airedale NHS FT"]
["RCU","Sheffield Children's NHS FT"]
["RCX","The Queen Elizabeth Hospital, King's Lynn. NHS FT"]
["RD1","Royal United Hospital Bath NHS Trust"]
["RD3","Poole Hospital NHS FT"]
["RD7","Heatherwood & Wexham Park Hospitals NHS FT"]
["RD8","Milton Keynes Hospital NHS FT"]
["RDD","Basildon & Thurrock Univ Hospitals NHS FT"]
["RDE","Colchester Hospital Univ NHS FT"]
["RDR","Sussex Community NHS Trust"]
["RDU","Frimley Park Hospital NHS FT"]
["RDY","Dorset Healthcare Univ NHS FT"]
["RDZ","The Royal Bournemouth & Christchurch Hospitals NHS FT"]
["RE9","South Tyneside NHS FT"]
["REF","Royal Cornwall Hospitals NHS Trust"]
["REM","Aintree Univ Hospitals NHS FT"]
["REN","Clatterbridge Centre For Oncology NHS FT"]
["REP","Liverpool Women's NHS FT"]
["RET","The Walton Centre NHS FT"]
["RF4","Barking, Havering & Redbridge Univ Hospitals NHS Trust"]
["RFF","Barnsley Hospital NHS FT"]
["RFR","The Rotherham NHS FT"]
["RFS","Chesterfield Royal Hospital NHS FT"]
["RFW","West Middlesex Univ Hospital NHS Trust"]
["RGC","Whipps Cross Univ Hospital NHS Trust"]
["RGD","Leeds Partnerships NHS FT"]
["RGM","Papworth Hospital NHS FT"]
["RGN","Peterborough & Stamford Hospitals NHS FT"]
["RGP","James Paget Univ Hospitals NHS FT"]
["RGQ","Ipswich Hospital NHS Trust"]
["RGR","West Suffolk Hospitals NHS Trust"]
["RGT","Cambridge Univ Hospitals NHS FT"]
["RH5","Somerset Partnership NHS FT"]
["RH8","Royal Devon & Exeter NHS FT"]
["RHA","Nottinghamshire Healthcare NHS Trust"]
["RHM","University Hospital Southampton NHS FT"]
["RHQ","Sheffield Teaching Hospitals NHS FT"]
["RHU","Portsmouth Hospitals NHS Trust"]
["RHW","Royal Berkshire NHS FT"]
["RHX","Oxfordshire Learning Disability NHS Trust"]
["RJ1","Guy's & St Thomas' NHS FT"]
["RJ2","Lewisham Healthcare NHS Trust"]
["RJ6","Croydon Health Services NHS Trust"]
["RJ7","St George's Healthcare NHS Trust"]
["RJ8","Cornwall Partnership NHS FT"]
["RJC","South Warwickshire NHS FT"]
["RJD","Mid Staffordshire NHS FT"]
["RJE","University Hospital of North Staffordshire NHS Trust"]
["RJF","Burton Hospitals NHS FT"]
["RJL","Northern Lincolnshire & Goole Hospitals NHS FT"]
["RJN","East Cheshire NHS Trust"]
["RJR","Countess of Chester Hospital NHS FT"]
["RJX","Calderstones Partnership NHS FT"]
["RJZ","King's College Hospital NHS FT"]
["RK5","Sherwood Forest Hospitals NHS FT"]
["RK9","Plymouth Hospitals NHS Trust"]
["RKB","University Hospitals Coventry & Warwickshire NHS Trust"]
["RKE","The Whittington Hospital NHS Trust"]
["RKL","West London Mental Health NHS Trust"]
["RL1","Robert Jones & Agnes Hunt Orthopaedic Hospital NHS FT"]
["RL4","The Royal Wolverhampton Hospitals NHS Trust"]
["RLN","City Hospitals Sunderland NHS FT"]
["RLQ","Wye Valley NHS Trust"]
["RLT","George Eliot Hospital NHS Trust"]
["RLU","Birmingham Women's NHS FT"]
["RLY","North Staffordshire Combined Healthcare NHS Trust"]
["RM1","Norfolk & Norwich Univ Hospitals NHS FT"]
["RM2","University Hospital of South Manchester NHS FT"]
["RM3","Salford Royal NHS FT"]
["RM4","Trafford Healthcare NHS Trust"]
["RMC","Bolton NHS FT"]
["RMP","Tameside Hospital NHS FT"]
["RMY","Norfolk & Waveney Mental Health NHS FT"]
["RN1","Winchester & Eastleigh Healthcare NHS Trust"]
["RN3","Great Western Hospitals NHS FT"]
["RN5","Basingstoke & North Hampshire NHS FT"]
["RN7","Dartford & Gravesham NHS Trust"]
["RNA","The Dudley Group of Hospitals NHS FT"]
["RNH","Newham Univ Hospital NHS Trust"]
["RNJ","Barts & The London NHS Trust"]
["RNL","North Cumbria Univ Hospitals NHS Trust"]
["RNN","Cumbria Partnership NHS FT"]
["RNQ","Kettering General Hospital NHS FT"]
["RNS","Northampton General Hospital NHS Trust"]
["RNU","Oxford Health NHS FT"]
["RNZ","Salisbury NHS FT"]
["RP1","Northamptonshire Healthcare NHS FT"]
["RP4","Great Ormond Street Hospital NHS Trust"]
["RP5","Doncaster & Bassetlaw Hospitals NHS FT"]
["RP6","Moorfields Eye Hospital NHS FT"]
["RP7","Lincolnshire Partnership NHS FT"]
["RPA","Medway NHS FT"]
["RPC","Queen Victoria Hospital NHS FT"]
["RPG","Oxleas NHS FT"]
["RPY","The Royal Marsden NHS FT"]
["RQ3","Birmingham Children's Hospital NHS FT"]
["RQ6","Royal Liverpool & Broadgreen Univ Hospitals NHS Trust"]
["RQ8","Mid Essex Hospital Services NHS Trust"]
["RQM","Chelsea & Westminster Hospital NHS FT"]
["RQQ","Hinchingbrooke Health Care NHS Trust"]
["RQW","The Princess Alexandra Hospital NHS Trust"]
["RQX","Homerton Univ Hospital NHS FT"]
["RQY","South West London & St George's MH NHS Trust"]
["RR1","Heart of England NHS FT"]
["RR7","Gateshead Health NHS FT"]
["RR8","Leeds Teaching Hospitals NHS Trust"]
["RRD","North Essex Partnership NHS FT"]
["RRE","South Staffordshire & Shropshire Healthcare NHS FT"]
["RRF","Wrightington, Wigan & Leigh NHS FT"]
["RRJ","The Royal Orthopaedic Hospital NHS FT"]
["RRK","University Hospitals Birmingham NHS FT"]
["RRP","Barnet, Enfield & Haringey Mental Health NHS Trust"]
["RRV","University College London Hospitals NHS FT"]
["RT1","Cambridgeshire & Peterborough NHS FT"]
["RT2","Pennine Care NHS FT"]
["RT3","Royal Brompton & Harefield NHS FT"]
["RT5","Leicestershire Partnership NHS Trust"]
["RT6","Suffolk Mental Health Partnership NHS Trust"]
["RTD","The Newcastle Upon Tyne Hospitals NHS FT"]
["RTE","Gloucestershire Hospitals NHS FT"]
["RTF","Northumbria Healthcare NHS FT"]
["RTG","Derby Hospitals NHS FT"]
["RTH","Oxford Univ Hospitals NHS Trust"]
["RTK","Ashford & St Peter's Hospitals NHS FT"]
["RTP","Surrey & Sussex Healthcare NHS Trust"]
["RTQ","2Gether NHS FT"]
["RTR","South Tees Hospitals NHS FT"]
["RTV","5 Boroughs Partnership NHS FT"]
["RTX","University Hospitals of Morecambe Bay NHS FT"]
["RV3","Central & North West London NHS FT"]
["RV5","South London & Maudsley NHS FT"]
["RV8","North West London Hospitals NHS Trust"]
["RV9","Humber NHS FT"]
["RVJ","North Bristol NHS Trust"]
["RVL","Barnet & Chase Farm Hospitals NHS Trust"]
["RVN","Avon & Wiltshire Mental Health Partnership NHS Trust"]
["RVR","Epsom & St Helier Univ Hospitals NHS Trust"]
["RVV","East Kent Hospitals Univ NHS FT"]
["RVW","North Tees & Hartlepool NHS FT"]
["RVY","Southport & Ormskirk Hospital NHS Trust"]
["RW1","Southern Health NHS FT"]
["RW3","Central Manchester Univ Hospitals NHS FT"]
["RW4","Mersey Care NHS Trust"]
["RW5","Lancashire Care NHS FT"]
["RW6","Pennine Acute Hospitals NHS Trust"]
["RWA","Hull & East Yorkshire Hospitals NHS Trust"]
["RWD","United Lincolnshire Hospitals NHS Trust"]
["RWE","University Hospitals of Leicester NHS Trust"]
["RWF","Maidstone & Tunbridge Wells NHS Trust"]
["RWG","West Hertfordshire Hospitals NHS Trust"]
["RWH","East & North Hertfordshire NHS Trust"]
["RWJ","Stockport NHS FT"]
["RWK","East London NHS FT"]
["RWN","South Essex Partnership Univ NHS FT"]
["RWP","Worcestershire Acute Hospitals NHS Trust"]
["RWQ","Worcestershire Mental Health Partnership NHS Trust"]
["RWR","Hertfordshire Partnership NHS FT"]
["RWV","Devon Partnership NHS Trust"]
["RWW","Warrington & Halton Hospitals NHS FT"]
["RWX","Berkshire Healthcare NHS FT"]
["RWY","Calderdale & Huddersfield NHS FT"]
["RX1","Nottingham Univ Hospitals NHS Trust"]
["RX2","Sussex Partnership NHS FT"]
["RX3","Tees, Esk & Wear Valleys NHS FT"]
["RX4","Northumberland, Tyne & Wear NHS FT"]
["RXA","Cheshire & Wirral Partnership NHS FT"]
["RXC","East Sussex Healthcare NHS Trust"]
["RXE","Rotherham, Doncaster & South Humber NHS FT"]
["RXF","Mid Yorkshire Hospitals NHS Trust"]
["RXG","South West Yorkshire Partnership NHS FT"]
["RXH","Brighton & Sussex Univ Hospitals NHS Trust"]
["RXK","Sandwell & West Birmingham Hospitals NHS Trust"]
["RXL","Blackpool Teaching Hospitals NHS FT"]
["RXM","Derbyshire Healthcare NHS FT"]
["RXN","Lancashire Teaching Hospitals NHS FT"]
["RXP","County Durham & Darlington NHS FT"]
["RXQ","Buckinghamshire Healthcare NHS Trust"]
["RXR","East Lancashire Hospitals NHS Trust"]
["RXT","Birmingham & Solihull Mental Health NHS FT"]
["RXV","Greater Manchester West Mental Health NHS FT"]
["RXW","Shrewsbury & Telford Hospital NHS Trust"]
["RXX","Surrey & Borders Partnership NHS FT"]
["RXY","Kent & Medway NHS & Social Care Partnership Trust"]
["RY3","Norfolk Community Health & Care NHS Trust"]
["RY4","Hertfordshire Community NHS Trust"]
["RYG","Coventry & Warwickshire Partnership NHS Trust"]
["RYJ","Imperial College Healthcare NHS Trust"]
["RYK","Dudley & Walsall Mental Health Partnership NHS Trust"]
["RYQ","South London Healthcare NHS Trust"]
["RYR","Western Sussex Hospitals NHS Trust"]
["RYV","Cambridgeshire Community Services NHS Trust"]
["RYW","Birmingham Community Healthcare NHS Trust"]
["TAC","Northumberland Care Trust"]
["TAD","Bradford District Care Trust"]
["TAE","Manchester Mental Health & Social Care Trust"]
["TAF","Camden & Islington NHS FT"]
["TAH","Sheffield Health & Social Care NHS FT"]
["TAJ","Black Country Partnership NHS FT"]
["TAL","Torbay Care Trust"]
["TAN","North East Lincolnshire Care Trust Plus"]
[{"$f":"\"\"","v":""},{"$f":"\"\"","v":""}]
[]
["5QT","Isle of Wight (Ambulance)"]
["RRY","London (Ambulance)"]
["RX5","Great Western (Ambulance)"]
["RX6","North East (Ambulance)"]
["RX7","North West (Ambulance)"]
["RX8","Yorkshire (Ambulance)"]
["RX9","East Midlands (Ambulance)"]
["RYA","West Midlands (Ambulance)"]
["RYC","East of England (Ambulance)"]
["RYD","South East Coast (Ambulance)"]
["RYE","South Central (Ambulance)"]
["RYF","South Western (Ambulance)"]
[{"$f":"\"\"","v":""},{"$f":"\"\"","v":""}]