{"text_format":"1","workbook":"xlsx","n_sheets":4,"sheets":["Contents","Data","closest CCG (code)","Similar 10 CCGs"],"not_rendered":{"charts":0,"images":0,"macros":1,"external_links":0,"defined_names":8,"comments":0,"pivot_tables":0},"unopened":[],"bounds":{"document_bytes":16777216,"sheet_cells":100000,"rows_first":2000,"rows_last":500,"rows_between":2000,"halvings":0,"cell_chars":16384,"cell_head_chars":4096},"cells_cut":0,"cells_raw":0,"read":"whole","date_system":"1900"}

{"sheet":"Contents","index":0,"n_rows":13,"n_cols":2,"rows_kept":13,"cut":false,"hidden":false,"merged":[[11,1,11,11],[12,1,12,11],[3,1,3,11],[1,1,1,11],[4,1,4,11],[6,1,6,11],[8,1,8,11],[9,1,9,11]]}
[]
[null,"Commissioning for Value Source Data "]
[]
[null,"This document provides the source data used within the Commissioning for Value CCG packs, and the interactive tool."]
[null,"Click here to view the interactive tool."]
[]
[null,"The 'Data' sheet shows the full set of source data, listed by indicator ID, and by CCG. "]
[]
[null,"The 'Similar 10 CCGs' sheet is a more accessible version of this, and allows a CCG's name to be selected from the drop-down menu."]
[null,"The similar 10 CCGs will then be displayed, and the data for these for each indicator will be shown."]
[]
[null,"A green circle indicates the best 5 from the similar 10 CCGs for each indicator, and the selected CCG is then ranked from 1-11, out of the similar CCGs."]
[null,"(Where 1 is the \"best\", and 11 is the \"worst\" e.g. higher spending)"]

{"sheet":"Data","index":1,"n_rows":32706,"n_cols":20,"rows_kept":4500,"cut":true,"hidden":false,"merged":[],"bounds":{"rows_first":2000,"rows_last":500,"rows_between":2000,"halvings":0}}
["Indicator ID","Indicator Name","Date","CCG Code","Numerator/Count","numerator","Denominator","Value","Lower Limit","Upper Limit","National Average","Regional Average","diff","Average for Similar 10 CCGs","Average for best 5 of similar 10 CCGs","state","parentY","parentX","IndicatorDateID","Citype"]
[101,{"$f":"VLOOKUP(tblData[[#This Row],[Indicator ID]],'Similar 10 CCGs'!$A$6:$C$160,3,FALSE)","v":"Asthma Prevalence"},"2011/12","00C",6238,null,105927,5.89,5.75,6.03,59.358857259189307,62.992173629961677,null,6.2640000000000002,6.0020000000000007,"","Y54","X24","1011","Wilson"]
[101,{"$f":"VLOOKUP(tblData[[#This Row],[Indicator ID]],'Similar 10 CCGs'!$A$6:$C$160,3,FALSE)","v":"Asthma Prevalence"},"2011/12","00D",18619,null,287801,6.47,6.38,6.56,59.358857259189307,62.992173629961677,null,6.3550000000000004,6.08,"A","Y54","X24","1011","Wilson"]
[101,{"$f":"VLOOKUP(tblData[[#This Row],[Indicator ID]],'Similar 10 CCGs'!$A$6:$C$160,3,FALSE)","v":"Asthma Prevalence"},"2011/12","00F",13660,null,206317,6.62,6.51,6.73,59.358857259189307,62.992173629961677,null,6.261000000000001,5.9959999999999996,"A","Y54","X24","1011","Wilson"]
[101,{"$f":"VLOOKUP(tblData[[#This Row],[Indicator ID]],'Similar 10 CCGs'!$A$6:$C$160,3,FALSE)","v":"Asthma Prevalence"},"2011/12","00G",8404,null,149906,5.61,5.49,5.73,59.358857259189307,62.992173629961677,null,6.0489999999999995,5.6120000000000001,"","Y54","X24","1011","Wilson"]
[101,{"$f":"VLOOKUP(tblData[[#This Row],[Indicator ID]],'Similar 10 CCGs'!$A$6:$C$160,3,FALSE)","v":"Asthma Prevalence"},"2011/12","00H",8112,null,130014,6.24,6.11,6.37,59.358857259189307,62.992173629961677,null,6.3360000000000003,6.1319999999999997,"B","Y54","X24","1011","Wilson"]
[101,{"$f":"VLOOKUP(tblData[[#This Row],[Indicator ID]],'Similar 10 CCGs'!$A$6:$C$160,3,FALSE)","v":"Asthma Prevalence"},"2011/12","00J",16013,null,248033,6.46,6.36,6.56,59.358857259189307,62.992173629961677,null,6.1750000000000007,5.96,"A","Y54","X24","1011","Wilson"]
[101,{"$f":"VLOOKUP(tblData[[#This Row],[Indicator ID]],'Similar 10 CCGs'!$A$6:$C$160,3,FALSE)","v":"Asthma Prevalence"},"2011/12","00K",18213,null,288881,6.3,6.21,6.39,59.358857259189307,62.992173629961677,null,6.4909999999999997,6.202,"B","Y54","X24","1011","Wilson"]
[101,{"$f":"VLOOKUP(tblData[[#This Row],[Indicator ID]],'Similar 10 CCGs'!$A$6:$C$160,3,FALSE)","v":"Asthma Prevalence"},"2011/12","00L",21902,null,321055,6.82,6.73,6.91,59.358857259189307,62.992173629961677,null,6.2530000000000001,6,"A","Y54","X24","1011","Wilson"]
[101,{"$f":"VLOOKUP(tblData[[#This Row],[Indicator ID]],'Similar 10 CCGs'!$A$6:$C$160,3,FALSE)","v":"Asthma Prevalence"},"2011/12","00M",17210,null,289937,5.94,5.85,6.03,59.358857259189307,62.992173629961677,null,6.3319999999999999,6.1440000000000001,"C","Y54","X24","1011","Wilson"]
[101,{"$f":"VLOOKUP(tblData[[#This Row],[Indicator ID]],'Similar 10 CCGs'!$A$6:$C$160,3,FALSE)","v":"Asthma Prevalence"},"2011/12","00N",9043,null,154487,5.85,5.73,5.97,59.358857259189307,62.992173629961677,null,6.3140000000000009,6.016,"C","Y54","X24","1011","Wilson"]
[101,{"$f":"VLOOKUP(tblData[[#This Row],[Indicator ID]],'Similar 10 CCGs'!$A$6:$C$160,3,FALSE)","v":"Asthma Prevalence"},"2011/12","00P",17156,null,284652,6.03,5.94,6.12,59.358857259189307,62.992173629961677,null,6.4209999999999994,6.13,"","Y54","X24","1011","Wilson"]
[101,{"$f":"VLOOKUP(tblData[[#This Row],[Indicator ID]],'Similar 10 CCGs'!$A$6:$C$160,3,FALSE)","v":"Asthma Prevalence"},"2011/12","00Q",12011,null,168871,7.11,6.99,7.23,59.358857259189307,62.992173629961677,null,6.3369999999999997,6.0559999999999992,"A","Y54","X24","1011","Wilson"]
[101,{"$f":"VLOOKUP(tblData[[#This Row],[Indicator ID]],'Similar 10 CCGs'!$A$6:$C$160,3,FALSE)","v":"Asthma Prevalence"},"2011/12","00R",12128,null,172380,7.04,6.92,7.16,59.358857259189307,62.992173629961677,null,6.17,5.8080000000000007,"A","Y54","X24","1011","Wilson"]
[101,{"$f":"VLOOKUP(tblData[[#This Row],[Indicator ID]],'Similar 10 CCGs'!$A$6:$C$160,3,FALSE)","v":"Asthma Prevalence"},"2011/12","00T",19107,null,296304,6.45,6.36,6.54,59.358857259189307,62.992173629961677,null,6.3769999999999998,6.18,"B","Y54","X24","1011","Wilson"]
[101,{"$f":"VLOOKUP(tblData[[#This Row],[Indicator ID]],'Similar 10 CCGs'!$A$6:$C$160,3,FALSE)","v":"Asthma Prevalence"},"2011/12","00V",12056,null,188744,6.39,6.28,6.5,59.358857259189307,62.992173629961677,null,6.2409999999999997,5.99,"B","Y54","X24","1011","Wilson"]
[101,{"$f":"VLOOKUP(tblData[[#This Row],[Indicator ID]],'Similar 10 CCGs'!$A$6:$C$160,3,FALSE)","v":"Asthma Prevalence"},"2011/12","00W",11613,null,214540,5.41,5.32,5.51,59.358857259189307,62.992173629961677,null,5.3129999999999997,4.742,"","Y54","X24","1011","Wilson"]
[101,{"$f":"VLOOKUP(tblData[[#This Row],[Indicator ID]],'Similar 10 CCGs'!$A$6:$C$160,3,FALSE)","v":"Asthma Prevalence"},"2011/12","00X",11086,null,173442,6.39,6.28,6.51,59.358857259189307,62.992173629961677,null,6.2080000000000002,6.0040000000000004,"A","Y54","X24","1011","Wilson"]
[101,{"$f":"VLOOKUP(tblData[[#This Row],[Indicator ID]],'Similar 10 CCGs'!$A$6:$C$160,3,FALSE)","v":"Asthma Prevalence"},"2011/12","00Y",15046,null,240773,6.25,6.15,6.35,59.358857259189307,62.992173629961677,null,6.5419999999999998,6.3339999999999996,"B","Y54","X24","1011","Wilson"]
[101,{"$f":"VLOOKUP(tblData[[#This Row],[Indicator ID]],'Similar 10 CCGs'!$A$6:$C$160,3,FALSE)","v":"Asthma Prevalence"},"2011/12","01A",25538,null,368985,6.92,6.84,7,59.358857259189307,62.992173629961677,null,6.3370000000000006,6.1899999999999995,"A","Y54","X24","1011","Wilson"]
[101,{"$f":"VLOOKUP(tblData[[#This Row],[Indicator ID]],'Similar 10 CCGs'!$A$6:$C$160,3,FALSE)","v":"Asthma Prevalence"},"2011/12","01C",12032,null,201866,5.96,5.86,6.06,59.358857259189307,62.992173629961677,null,6.2099999999999991,5.9120000000000008,"","Y54","X24","1011","Wilson"]
[101,{"$f":"VLOOKUP(tblData[[#This Row],[Indicator ID]],'Similar 10 CCGs'!$A$6:$C$160,3,FALSE)","v":"Asthma Prevalence"},"2011/12","01D",14723,null,224196,6.57,6.47,6.67,59.358857259189307,62.992173629961677,null,6.2969999999999997,6.17,"A","Y54","X24","1011","Wilson"]
[101,{"$f":"VLOOKUP(tblData[[#This Row],[Indicator ID]],'Similar 10 CCGs'!$A$6:$C$160,3,FALSE)","v":"Asthma Prevalence"},"2011/12","01E",13603,null,212272,6.41,6.31,6.52,59.358857259189307,62.992173629961677,null,6.2549999999999999,6.0339999999999998,"A","Y54","X24","1011","Wilson"]
[101,{"$f":"VLOOKUP(tblData[[#This Row],[Indicator ID]],'Similar 10 CCGs'!$A$6:$C$160,3,FALSE)","v":"Asthma Prevalence"},"2011/12","01F",8790,null,128154,6.86,6.72,7,59.358857259189307,62.992173629961677,null,6.3050000000000006,6.0520000000000005,"A","Y54","X24","1011","Wilson"]
[101,{"$f":"VLOOKUP(tblData[[#This Row],[Indicator ID]],'Similar 10 CCGs'!$A$6:$C$160,3,FALSE)","v":"Asthma Prevalence"},"2011/12","01G",15203,null,249243,6.1,6.01,6.19,59.358857259189307,62.992173629961677,null,6.2970000000000006,6.12,"B","Y54","X24","1011","Wilson"]
[101,{"$f":"VLOOKUP(tblData[[#This Row],[Indicator ID]],'Similar 10 CCGs'!$A$6:$C$160,3,FALSE)","v":"Asthma Prevalence"},"2011/12","01H",34553,null,525627,6.57,6.5,6.64,59.358857259189307,62.992173629961677,null,6.4030000000000005,6.234,"A","Y54","X24","1011","Wilson"]
[101,{"$f":"VLOOKUP(tblData[[#This Row],[Indicator ID]],'Similar 10 CCGs'!$A$6:$C$160,3,FALSE)","v":"Asthma Prevalence"},"2011/12","01J",8520,null,160868,5.3,5.19,5.41,59.358857259189307,62.992173629961677,null,6.3270000000000008,6.0200000000000005,"C","Y54","X24","1011","Wilson"]
[101,{"$f":"VLOOKUP(tblData[[#This Row],[Indicator ID]],'Similar 10 CCGs'!$A$6:$C$160,3,FALSE)","v":"Asthma Prevalence"},"2011/12","01K",10600,null,161065,6.58,6.46,6.7,59.358857259189307,62.992173629961677,null,6.0590000000000011,5.7219999999999995,"A","Y54","X24","1011","Wilson"]
[101,{"$f":"VLOOKUP(tblData[[#This Row],[Indicator ID]],'Similar 10 CCGs'!$A$6:$C$160,3,FALSE)","v":"Asthma Prevalence"},"2011/12","01M",9985,null,186773,5.35,5.25,5.45,59.358857259189307,62.992173629961677,null,6.2620000000000005,6.1199999999999992,"C","Y54","X24","1011","Wilson"]
[101,{"$f":"VLOOKUP(tblData[[#This Row],[Indicator ID]],'Similar 10 CCGs'!$A$6:$C$160,3,FALSE)","v":"Asthma Prevalence"},"2011/12","01N",10655,null,166809,6.39,6.27,6.51,59.358857259189307,62.992173629961677,null,5.9389999999999992,5.6920000000000002,"A","Y54","X24","1011","Wilson"]
[101,{"$f":"VLOOKUP(tblData[[#This Row],[Indicator ID]],'Similar 10 CCGs'!$A$6:$C$160,3,FALSE)","v":"Asthma Prevalence"},"2011/12","01R",10543,null,174182,6.05,5.94,6.16,59.358857259189307,62.992173629961677,null,6.1909999999999998,5.9960000000000004,"","Y54","X24","1011","Wilson"]
[101,{"$f":"VLOOKUP(tblData[[#This Row],[Indicator ID]],'Similar 10 CCGs'!$A$6:$C$160,3,FALSE)","v":"Asthma Prevalence"},"2011/12","01T",9569,null,155295,6.16,6.04,6.28,59.358857259189307,62.992173629961677,null,6.3040000000000003,5.944,"","Y54","X24","1011","Wilson"]
[101,{"$f":"VLOOKUP(tblData[[#This Row],[Indicator ID]],'Similar 10 CCGs'!$A$6:$C$160,3,FALSE)","v":"Asthma Prevalence"},"2011/12","01V",7486,null,121921,6.14,6.01,6.28,59.358857259189307,62.992173629961677,null,6.4560000000000004,6.1679999999999993,"","Y54","X24","1011","Wilson"]
[101,{"$f":"VLOOKUP(tblData[[#This Row],[Indicator ID]],'Similar 10 CCGs'!$A$6:$C$160,3,FALSE)","v":"Asthma Prevalence"},"2011/12","01W",19424,null,299243,6.49,6.4,6.58,59.358857259189307,62.992173629961677,null,6.4159999999999995,6.0920000000000005,"A","Y54","X24","1011","Wilson"]
[101,{"$f":"VLOOKUP(tblData[[#This Row],[Indicator ID]],'Similar 10 CCGs'!$A$6:$C$160,3,FALSE)","v":"Asthma Prevalence"},"2011/12","01X",14089,null,192980,7.3,7.18,7.42,59.358857259189307,62.992173629961677,null,6.2629999999999999,6.0140000000000002,"A","Y54","X24","1011","Wilson"]
[101,{"$f":"VLOOKUP(tblData[[#This Row],[Indicator ID]],'Similar 10 CCGs'!$A$6:$C$160,3,FALSE)","v":"Asthma Prevalence"},"2011/12","01Y",15594,null,240654,6.48,6.38,6.58,59.358857259189307,62.992173629961677,null,6.4420000000000002,6.1180000000000003,"A","Y54","X24","1011","Wilson"]
[101,{"$f":"VLOOKUP(tblData[[#This Row],[Indicator ID]],'Similar 10 CCGs'!$A$6:$C$160,3,FALSE)","v":"Asthma Prevalence"},"2011/12","02A",15345,null,231440,6.63,6.53,6.73,59.358857259189307,62.992173629961677,null,6.0520000000000005,5.7780000000000005,"A","Y54","X24","1011","Wilson"]
[101,{"$f":"VLOOKUP(tblData[[#This Row],[Indicator ID]],'Similar 10 CCGs'!$A$6:$C$160,3,FALSE)","v":"Asthma Prevalence"},"2011/12","02D",6547,null,102110,6.41,6.26,6.56,59.358857259189307,62.992173629961677,null,6.1269999999999998,5.952,"A","Y54","X24","1011","Wilson"]
[101,{"$f":"VLOOKUP(tblData[[#This Row],[Indicator ID]],'Similar 10 CCGs'!$A$6:$C$160,3,FALSE)","v":"Asthma Prevalence"},"2011/12","02E",12931,null,208781,6.19,6.09,6.29,59.358857259189307,62.992173629961677,null,6.1289999999999996,5.9219999999999997,"A","Y54","X24","1011","Wilson"]
[101,{"$f":"VLOOKUP(tblData[[#This Row],[Indicator ID]],'Similar 10 CCGs'!$A$6:$C$160,3,FALSE)","v":"Asthma Prevalence"},"2011/12","02F",16024,null,254295,6.3,6.21,6.4,59.358857259189307,62.992173629961677,null,6.238999999999999,6.0140000000000002,"A","Y54","X24","1011","Wilson"]
[101,{"$f":"VLOOKUP(tblData[[#This Row],[Indicator ID]],'Similar 10 CCGs'!$A$6:$C$160,3,FALSE)","v":"Asthma Prevalence"},"2011/12","02G",7182,null,111867,6.42,6.28,6.57,59.358857259189307,62.992173629961677,null,6.2130000000000001,5.9659999999999993,"A","Y54","X24","1011","Wilson"]
[101,{"$f":"VLOOKUP(tblData[[#This Row],[Indicator ID]],'Similar 10 CCGs'!$A$6:$C$160,3,FALSE)","v":"Asthma Prevalence"},"2011/12","02H",21001,null,320354,6.56,6.47,6.65,59.358857259189307,62.992173629961677,null,6.4779999999999998,6.1920000000000002,"A","Y54","X24","1011","Wilson"]
[101,{"$f":"VLOOKUP(tblData[[#This Row],[Indicator ID]],'Similar 10 CCGs'!$A$6:$C$160,3,FALSE)","v":"Asthma Prevalence"},"2011/12","02M",10244,null,151706,6.75,6.62,6.88,59.358857259189307,62.992173629961677,null,6.4929999999999994,6.2739999999999991,"A","Y54","X24","1011","Wilson"]
[101,{"$f":"VLOOKUP(tblData[[#This Row],[Indicator ID]],'Similar 10 CCGs'!$A$6:$C$160,3,FALSE)","v":"Asthma Prevalence"},"2011/12","02N",10098,null,155635,6.49,6.37,6.61,59.358857259189307,62.992173629961677,null,5.9700000000000006,5.7519999999999998,"A","Y54","X24","1011","Wilson"]
[101,{"$f":"VLOOKUP(tblData[[#This Row],[Indicator ID]],'Similar 10 CCGs'!$A$6:$C$160,3,FALSE)","v":"Asthma Prevalence"},"2011/12","02P",14606,null,245317,5.95,5.86,6.04,59.358857259189307,62.992173629961677,null,6.4910000000000014,6.202,"C","Y54","X24","1011","Wilson"]
[101,{"$f":"VLOOKUP(tblData[[#This Row],[Indicator ID]],'Similar 10 CCGs'!$A$6:$C$160,3,FALSE)","v":"Asthma Prevalence"},"2011/12","02Q",6844,null,111651,6.13,5.99,6.27,59.358857259189307,62.992173629961677,null,6.1669999999999998,5.9539999999999988,"B","Y54","X24","1011","Wilson"]
[101,{"$f":"VLOOKUP(tblData[[#This Row],[Indicator ID]],'Similar 10 CCGs'!$A$6:$C$160,3,FALSE)","v":"Asthma Prevalence"},"2011/12","02R",21501,null,330270,6.51,6.43,6.59,59.358857259189307,62.992173629961677,null,6.5040000000000004,6.2700000000000005,"A","Y54","X24","1011","Wilson"]
[101,{"$f":"VLOOKUP(tblData[[#This Row],[Indicator ID]],'Similar 10 CCGs'!$A$6:$C$160,3,FALSE)","v":"Asthma Prevalence"},"2011/12","02T",13505,null,212976,6.34,6.24,6.44,59.358857259189307,62.992173629961677,null,6.0789999999999997,5.74,"A","Y54","X24","1011","Wilson"]
[101,{"$f":"VLOOKUP(tblData[[#This Row],[Indicator ID]],'Similar 10 CCGs'!$A$6:$C$160,3,FALSE)","v":"Asthma Prevalence"},"2011/12","02V",11704,null,201657,5.8,5.7,5.9,59.358857259189307,62.992173629961677,null,6.2860000000000005,6.0880000000000001,"C","Y54","X24","1011","Wilson"]
[101,{"$f":"VLOOKUP(tblData[[#This Row],[Indicator ID]],'Similar 10 CCGs'!$A$6:$C$160,3,FALSE)","v":"Asthma Prevalence"},"2011/12","02W",7038,null,118636,5.93,5.8,6.07,59.358857259189307,62.992173629961677,null,5.7230000000000008,5.0199999999999996,"A","Y54","X24","1011","Wilson"]
[101,{"$f":"VLOOKUP(tblData[[#This Row],[Indicator ID]],'Similar 10 CCGs'!$A$6:$C$160,3,FALSE)","v":"Asthma Prevalence"},"2011/12","02X",20859,null,308637,6.76,6.67,6.85,59.358857259189307,62.992173629961677,null,6.3410000000000002,6.0960000000000001,"A","Y54","X24","1011","Wilson"]
[101,{"$f":"VLOOKUP(tblData[[#This Row],[Indicator ID]],'Similar 10 CCGs'!$A$6:$C$160,3,FALSE)","v":"Asthma Prevalence"},"2011/12","02Y",19083,null,301167,6.34,6.25,6.43,59.358857259189307,62.992173629961677,null,6.463000000000001,6.2159999999999993,"B","Y54","X24","1011","Wilson"]
[101,{"$f":"VLOOKUP(tblData[[#This Row],[Indicator ID]],'Similar 10 CCGs'!$A$6:$C$160,3,FALSE)","v":"Asthma Prevalence"},"2011/12","03A",14715,null,239050,6.16,6.06,6.26,59.358857259189307,62.992173629961677,null,6.1049999999999995,5.7840000000000007,"B","Y54","X24","1011","Wilson"]
[101,{"$f":"VLOOKUP(tblData[[#This Row],[Indicator ID]],'Similar 10 CCGs'!$A$6:$C$160,3,FALSE)","v":"Asthma Prevalence"},"2011/12","03C",19230,null,359415,5.35,5.28,5.42,59.358857259189307,62.992173629961677,null,6.0299999999999994,5.6479999999999997,"C","Y54","X24","1011","Wilson"]
[101,{"$f":"VLOOKUP(tblData[[#This Row],[Indicator ID]],'Similar 10 CCGs'!$A$6:$C$160,3,FALSE)","v":"Asthma Prevalence"},"2011/12","03D",8312,null,141465,5.88,5.76,6,59.358857259189307,62.992173629961677,null,6.3289999999999997,6.0019999999999998,"","Y54","X24","1011","Wilson"]
[101,{"$f":"VLOOKUP(tblData[[#This Row],[Indicator ID]],'Similar 10 CCGs'!$A$6:$C$160,3,FALSE)","v":"Asthma Prevalence"},"2011/12","03E",9355,null,159597,5.86,5.75,5.98,59.358857259189307,62.992173629961677,null,6.2050000000000001,5.9460000000000006,"C","Y54","X24","1011","Wilson"]
[101,{"$f":"VLOOKUP(tblData[[#This Row],[Indicator ID]],'Similar 10 CCGs'!$A$6:$C$160,3,FALSE)","v":"Asthma Prevalence"},"2011/12","03F",17999,null,290050,6.21,6.12,6.3,59.358857259189307,62.992173629961677,null,6.3159999999999998,6.048,"B","Y54","X24","1011","Wilson"]
[101,{"$f":"VLOOKUP(tblData[[#This Row],[Indicator ID]],'Similar 10 CCGs'!$A$6:$C$160,3,FALSE)","v":"Asthma Prevalence"},"2011/12","03G",16025,null,258661,6.2,6.11,6.29,59.358857259189307,62.992173629961677,null,6.3210000000000006,6.08,"B","Y54","X24","1011","Wilson"]
[101,{"$f":"VLOOKUP(tblData[[#This Row],[Indicator ID]],'Similar 10 CCGs'!$A$6:$C$160,3,FALSE)","v":"Asthma Prevalence"},"2011/12","03H",10282,null,167731,6.13,6.02,6.25,59.358857259189307,62.992173629961677,null,6.1609999999999996,5.8979999999999988,"B","Y54","X24","1011","Wilson"]
[101,{"$f":"VLOOKUP(tblData[[#This Row],[Indicator ID]],'Similar 10 CCGs'!$A$6:$C$160,3,FALSE)","v":"Asthma Prevalence"},"2011/12","03J",12284,null,185008,6.64,6.53,6.75,59.358857259189307,62.992173629961677,null,6.2680000000000007,5.95,"A","Y54","X24","1011","Wilson"]
[101,{"$f":"VLOOKUP(tblData[[#This Row],[Indicator ID]],'Similar 10 CCGs'!$A$6:$C$160,3,FALSE)","v":"Asthma Prevalence"},"2011/12","03K",10190,null,168661,6.04,5.93,6.15,59.358857259189307,62.992173629961677,null,6.0559999999999992,5.8840000000000012,"","Y54","X24","1011","Wilson"]
[101,{"$f":"VLOOKUP(tblData[[#This Row],[Indicator ID]],'Similar 10 CCGs'!$A$6:$C$160,3,FALSE)","v":"Asthma Prevalence"},"2011/12","03L",16532,null,254708,6.49,6.39,6.59,59.358857259189307,62.992173629961677,null,6.5709999999999997,6.2879999999999994,"A","Y54","X24","1011","Wilson"]
[101,{"$f":"VLOOKUP(tblData[[#This Row],[Indicator ID]],'Similar 10 CCGs'!$A$6:$C$160,3,FALSE)","v":"Asthma Prevalence"},"2011/12","03M",8639,null,118017,7.32,7.17,7.47,59.358857259189307,62.992173629961677,null,6.2949999999999999,5.9640000000000004,"A","Y54","X24","1011","Wilson"]
[101,{"$f":"VLOOKUP(tblData[[#This Row],[Indicator ID]],'Similar 10 CCGs'!$A$6:$C$160,3,FALSE)","v":"Asthma Prevalence"},"2011/12","03N",35917,null,565185,6.35,6.29,6.41,59.358857259189307,62.992173629961677,null,6.1309999999999993,5.9659999999999993,"A","Y54","X24","1011","Wilson"]
[101,{"$f":"VLOOKUP(tblData[[#This Row],[Indicator ID]],'Similar 10 CCGs'!$A$6:$C$160,3,FALSE)","v":"Asthma Prevalence"},"2011/12","03Q",19519,null,340298,5.74,5.66,5.82,59.358857259189307,62.992173629961677,null,6.0670000000000002,5.9059999999999988,"C","Y54","X24","1011","Wilson"]
[101,{"$f":"VLOOKUP(tblData[[#This Row],[Indicator ID]],'Similar 10 CCGs'!$A$6:$C$160,3,FALSE)","v":"Asthma Prevalence"},"2011/12","03R",24027,null,354100,6.79,6.71,6.87,59.358857259189307,62.992173629961677,null,6.4719999999999995,6.2240000000000011,"A","Y54","X24","1011","Wilson"]
[101,{"$f":"VLOOKUP(tblData[[#This Row],[Indicator ID]],'Similar 10 CCGs'!$A$6:$C$160,3,FALSE)","v":"Asthma Prevalence"},"2011/12","03T",15477,null,241613,6.41,6.31,6.51,59.358857259189307,61.401660775998614,null,6.5249999999999986,6.2760000000000007,"B","Y55","X24","1011","Wilson"]
[101,{"$f":"VLOOKUP(tblData[[#This Row],[Indicator ID]],'Similar 10 CCGs'!$A$6:$C$160,3,FALSE)","v":"Asthma Prevalence"},"2011/12","03V",3987,null,69200,5.76,5.59,5.94,59.358857259189307,61.401660775998614,null,6.5140000000000011,6.2760000000000007,"C","Y55","X24","1011","Wilson"]
[101,{"$f":"VLOOKUP(tblData[[#This Row],[Indicator ID]],'Similar 10 CCGs'!$A$6:$C$160,3,FALSE)","v":"Asthma Prevalence"},"2011/12","03W",18585,null,315168,5.9,5.82,5.98,59.358857259189307,61.401660775998614,null,6.1249999999999991,5.83,"","Y55","X24","1011","Wilson"]
[101,{"$f":"VLOOKUP(tblData[[#This Row],[Indicator ID]],'Similar 10 CCGs'!$A$6:$C$160,3,FALSE)","v":"Asthma Prevalence"},"2011/12","03X",6240,null,97292,6.41,6.26,6.57,59.358857259189307,61.401660775998614,null,6.2389999999999999,6.0140000000000002,"B","Y55","X24","1011","Wilson"]
[101,{"$f":"VLOOKUP(tblData[[#This Row],[Indicator ID]],'Similar 10 CCGs'!$A$6:$C$160,3,FALSE)","v":"Asthma Prevalence"},"2011/12","03Y",6487,null,102317,6.34,6.19,6.49,59.358857259189307,61.401660775998614,null,6.2460000000000004,5.9719999999999995,"B","Y55","X24","1011","Wilson"]
[101,{"$f":"VLOOKUP(tblData[[#This Row],[Indicator ID]],'Similar 10 CCGs'!$A$6:$C$160,3,FALSE)","v":"Asthma Prevalence"},"2011/12","04C",19436,null,373376,5.21,5.14,5.28,59.358857259189307,61.401660775998614,null,5.6150000000000002,5.0460000000000003,"C","Y55","X24","1011","Wilson"]
[101,{"$f":"VLOOKUP(tblData[[#This Row],[Indicator ID]],'Similar 10 CCGs'!$A$6:$C$160,3,FALSE)","v":"Asthma Prevalence"},"2011/12","04D",13800,null,226047,6.1,6,6.2,59.358857259189307,61.401660775998614,null,6.0760000000000005,5.8940000000000001,"B","Y55","X24","1011","Wilson"]
[101,{"$f":"VLOOKUP(tblData[[#This Row],[Indicator ID]],'Similar 10 CCGs'!$A$6:$C$160,3,FALSE)","v":"Asthma Prevalence"},"2011/12","04E",11409,null,183762,6.21,6.1,6.32,59.358857259189307,61.401660775998614,null,6.5020000000000007,6.258,"B","Y55","X24","1011","Wilson"]
[101,{"$f":"VLOOKUP(tblData[[#This Row],[Indicator ID]],'Similar 10 CCGs'!$A$6:$C$160,3,FALSE)","v":"Asthma Prevalence"},"2011/12","04F",14371,null,265437,5.41,5.32,5.5,59.358857259189307,61.401660775998614,null,5.47,5.1539999999999999,"","Y55","X24","1011","Wilson"]
[101,{"$f":"VLOOKUP(tblData[[#This Row],[Indicator ID]],'Similar 10 CCGs'!$A$6:$C$160,3,FALSE)","v":"Asthma Prevalence"},"2011/12","04G",40693,null,628635,6.47,6.41,6.53,59.358857259189307,61.401660775998614,null,6.1349999999999998,5.9219999999999997,"A","Y55","X24","1011","Wilson"]
[101,{"$f":"VLOOKUP(tblData[[#This Row],[Indicator ID]],'Similar 10 CCGs'!$A$6:$C$160,3,FALSE)","v":"Asthma Prevalence"},"2011/12","04H",7673,null,128014,5.99,5.86,6.12,59.358857259189307,61.401660775998614,null,6.1709999999999994,5.9420000000000002,"","Y55","X24","1011","Wilson"]
[101,{"$f":"VLOOKUP(tblData[[#This Row],[Indicator ID]],'Similar 10 CCGs'!$A$6:$C$160,3,FALSE)","v":"Asthma Prevalence"},"2011/12","04J",18563,null,279817,6.63,6.54,6.72,59.358857259189307,61.401660775998614,null,6.2169999999999996,5.9160000000000013,"A","Y55","X24","1011","Wilson"]
[101,{"$f":"VLOOKUP(tblData[[#This Row],[Indicator ID]],'Similar 10 CCGs'!$A$6:$C$160,3,FALSE)","v":"Asthma Prevalence"},"2011/12","04K",19294,null,347901,5.55,5.47,5.63,59.358857259189307,61.401660775998614,null,5.831999999999999,5.45,"","Y55","X24","1011","Wilson"]
[101,{"$f":"VLOOKUP(tblData[[#This Row],[Indicator ID]],'Similar 10 CCGs'!$A$6:$C$160,3,FALSE)","v":"Asthma Prevalence"},"2011/12","04L",10081,null,144732,6.97,6.84,7.1,59.358857259189307,61.401660775998614,null,6.2410000000000005,6.0339999999999998,"A","Y55","X24","1011","Wilson"]
[101,{"$f":"VLOOKUP(tblData[[#This Row],[Indicator ID]],'Similar 10 CCGs'!$A$6:$C$160,3,FALSE)","v":"Asthma Prevalence"},"2011/12","04M",5900,null,93461,6.31,6.16,6.47,59.358857259189307,61.401660775998614,null,6.3109999999999999,6.0739999999999998,"A","Y55","X24","1011","Wilson"]
[101,{"$f":"VLOOKUP(tblData[[#This Row],[Indicator ID]],'Similar 10 CCGs'!$A$6:$C$160,3,FALSE)","v":"Asthma Prevalence"},"2011/12","04N",7656,null,121763,6.29,6.15,6.43,59.358857259189307,61.401660775998614,null,6.0639999999999992,5.7820000000000009,"B","Y55","X24","1011","Wilson"]
[101,{"$f":"VLOOKUP(tblData[[#This Row],[Indicator ID]],'Similar 10 CCGs'!$A$6:$C$160,3,FALSE)","v":"Asthma Prevalence"},"2011/12","04Q",7700,null,129209,5.96,5.83,6.09,59.358857259189307,61.401660775998614,null,6.1660000000000004,5.9160000000000004,"","Y55","X24","1011","Wilson"]
[101,{"$f":"VLOOKUP(tblData[[#This Row],[Indicator ID]],'Similar 10 CCGs'!$A$6:$C$160,3,FALSE)","v":"Asthma Prevalence"},"2011/12","04R",32986,null,524920,6.28,6.21,6.35,59.358857259189307,61.401660775998614,null,6.2989999999999995,6.1039999999999992,"A","Y55","X24","1011","Wilson"]
[101,{"$f":"VLOOKUP(tblData[[#This Row],[Indicator ID]],'Similar 10 CCGs'!$A$6:$C$160,3,FALSE)","v":"Asthma Prevalence"},"2011/12","04V",22351,null,368905,6.06,5.98,6.14,59.358857259189307,61.401660775998614,null,6.0429999999999993,5.8999999999999995,"","Y55","X24","1011","Wilson"]
[101,{"$f":"VLOOKUP(tblData[[#This Row],[Indicator ID]],'Similar 10 CCGs'!$A$6:$C$160,3,FALSE)","v":"Asthma Prevalence"},"2011/12","04X",15005,null,245730,6.11,6.02,6.21,59.358857259189307,61.401660775998614,null,6.0110000000000001,5.444,"A","Y55","X24","1011","Wilson"]
[101,{"$f":"VLOOKUP(tblData[[#This Row],[Indicator ID]],'Similar 10 CCGs'!$A$6:$C$160,3,FALSE)","v":"Asthma Prevalence"},"2011/12","04Y",7388,null,131791,5.61,5.49,5.74,59.358857259189307,61.401660775998614,null,6.3070000000000004,6.1300000000000008,"C","Y55","X24","1011","Wilson"]
[101,{"$f":"VLOOKUP(tblData[[#This Row],[Indicator ID]],'Similar 10 CCGs'!$A$6:$C$160,3,FALSE)","v":"Asthma Prevalence"},"2011/12","05A",28198,null,463980,6.08,6.01,6.15,59.358857259189307,61.401660775998614,null,6.202,5.9480000000000004,"","Y55","X24","1011","Wilson"]
[101,{"$f":"VLOOKUP(tblData[[#This Row],[Indicator ID]],'Similar 10 CCGs'!$A$6:$C$160,3,FALSE)","v":"Asthma Prevalence"},"2011/12","05C",18998,null,313830,6.05,5.97,6.13,59.358857259189307,61.401660775998614,null,6.2410000000000005,5.8699999999999992,"B","Y55","X24","1011","Wilson"]
[101,{"$f":"VLOOKUP(tblData[[#This Row],[Indicator ID]],'Similar 10 CCGs'!$A$6:$C$160,3,FALSE)","v":"Asthma Prevalence"},"2011/12","05D",8095,null,133795,6.05,5.92,6.18,59.358857259189307,61.401660775998614,null,5.7810000000000006,5.4859999999999998,"B","Y55","X24","1011","Wilson"]
[101,{"$f":"VLOOKUP(tblData[[#This Row],[Indicator ID]],'Similar 10 CCGs'!$A$6:$C$160,3,FALSE)","v":"Asthma Prevalence"},"2011/12","05F",11438,null,181868,6.29,6.18,6.4,59.358857259189307,61.401660775998614,null,6.4030000000000005,6.0600000000000005,"B","Y55","X24","1011","Wilson"]
[101,{"$f":"VLOOKUP(tblData[[#This Row],[Indicator ID]],'Similar 10 CCGs'!$A$6:$C$160,3,FALSE)","v":"Asthma Prevalence"},"2011/12","05G",13287,null,213223,6.23,6.13,6.33,59.358857259189307,61.401660775998614,null,6.2619999999999996,5.9740000000000002,"B","Y55","X24","1011","Wilson"]
[101,{"$f":"VLOOKUP(tblData[[#This Row],[Indicator ID]],'Similar 10 CCGs'!$A$6:$C$160,3,FALSE)","v":"Asthma Prevalence"},"2011/12","05H",10828,null,183653,5.9,5.79,6.01,59.358857259189307,61.401660775998614,null,6.1839999999999993,6.05,"","Y55","X24","1011","Wilson"]
[101,{"$f":"VLOOKUP(tblData[[#This Row],[Indicator ID]],'Similar 10 CCGs'!$A$6:$C$160,3,FALSE)","v":"Asthma Prevalence"},"2011/12","05J",10712,null,171390,6.25,6.14,6.37,59.358857259189307,61.401660775998614,null,6.18,5.93,"B","Y55","X24","1011","Wilson"]
[101,{"$f":"VLOOKUP(tblData[[#This Row],[Indicator ID]],'Similar 10 CCGs'!$A$6:$C$160,3,FALSE)","v":"Asthma Prevalence"},"2011/12","05L",31979,null,531050,6.02,5.96,6.08,59.358857259189307,61.401660775998614,null,5.5579999999999998,5.0280000000000005,"B","Y55","X24","1011","Wilson"]
[101,{"$f":"VLOOKUP(tblData[[#This Row],[Indicator ID]],'Similar 10 CCGs'!$A$6:$C$160,3,FALSE)","v":"Asthma Prevalence"},"2011/12","05N",19461,null,297973,6.53,6.44,6.62,59.358857259189307,61.401660775998614,null,6.3719999999999999,6.0819999999999999,"A","Y55","X24","1011","Wilson"]
[101,{"$f":"VLOOKUP(tblData[[#This Row],[Indicator ID]],'Similar 10 CCGs'!$A$6:$C$160,3,FALSE)","v":"Asthma Prevalence"},"2011/12","05P",14090,null,235280,5.99,5.89,6.09,59.358857259189307,61.401660775998614,null,6.0389999999999997,5.7140000000000004,"","Y55","X24","1011","Wilson"]
[101,{"$f":"VLOOKUP(tblData[[#This Row],[Indicator ID]],'Similar 10 CCGs'!$A$6:$C$160,3,FALSE)","v":"Asthma Prevalence"},"2011/12","05Q",12760,null,209085,6.1,6,6.2,59.358857259189307,61.401660775998614,null,6.270999999999999,5.9860000000000007,"A","Y55","X24","1011","Wilson"]
[101,{"$f":"VLOOKUP(tblData[[#This Row],[Indicator ID]],'Similar 10 CCGs'!$A$6:$C$160,3,FALSE)","v":"Asthma Prevalence"},"2011/12","05R",16697,null,271512,6.15,6.06,6.24,59.358857259189307,61.401660775998614,null,6.2080000000000002,5.8760000000000003,"","Y55","X24","1011","Wilson"]
[101,{"$f":"VLOOKUP(tblData[[#This Row],[Indicator ID]],'Similar 10 CCGs'!$A$6:$C$160,3,FALSE)","v":"Asthma Prevalence"},"2011/12","05T",16958,null,292433,5.8,5.72,5.89,59.358857259189307,61.401660775998614,null,6.3340000000000005,6.1140000000000008,"C","Y55","X24","1011","Wilson"]
[101,{"$f":"VLOOKUP(tblData[[#This Row],[Indicator ID]],'Similar 10 CCGs'!$A$6:$C$160,3,FALSE)","v":"Asthma Prevalence"},"2011/12","05V",8180,null,144593,5.66,5.54,5.78,59.358857259189307,61.401660775998614,null,6.2880000000000003,6.0220000000000002,"C","Y55","X24","1011","Wilson"]
[101,{"$f":"VLOOKUP(tblData[[#This Row],[Indicator ID]],'Similar 10 CCGs'!$A$6:$C$160,3,FALSE)","v":"Asthma Prevalence"},"2011/12","05W",17297,null,278090,6.22,6.13,6.31,59.358857259189307,61.401660775998614,null,6.2970000000000006,6.104000000000001,"B","Y55","X24","1011","Wilson"]
[101,{"$f":"VLOOKUP(tblData[[#This Row],[Indicator ID]],'Similar 10 CCGs'!$A$6:$C$160,3,FALSE)","v":"Asthma Prevalence"},"2011/12","05X",10632,null,172024,6.18,6.07,6.29,59.358857259189307,61.401660775998614,null,6.0980000000000008,5.8140000000000001,"B","Y55","X24","1011","Wilson"]
[101,{"$f":"VLOOKUP(tblData[[#This Row],[Indicator ID]],'Similar 10 CCGs'!$A$6:$C$160,3,FALSE)","v":"Asthma Prevalence"},"2011/12","05Y",17025,null,270491,6.29,6.2,6.38,59.358857259189307,61.401660775998614,null,6.4019999999999992,6.266,"","Y55","X24","1011","Wilson"]
[101,{"$f":"VLOOKUP(tblData[[#This Row],[Indicator ID]],'Similar 10 CCGs'!$A$6:$C$160,3,FALSE)","v":"Asthma Prevalence"},"2011/12","06A",16055,null,260354,6.17,6.08,6.26,59.358857259189307,61.401660775998614,null,6.266,6.008,"","Y55","X24","1011","Wilson"]
[101,{"$f":"VLOOKUP(tblData[[#This Row],[Indicator ID]],'Similar 10 CCGs'!$A$6:$C$160,3,FALSE)","v":"Asthma Prevalence"},"2011/12","06D",7618,null,112154,6.79,6.64,6.94,59.358857259189307,61.401660775998614,null,6.2960000000000003,6.0280000000000005,"A","Y55","X24","1011","Wilson"]
[101,{"$f":"VLOOKUP(tblData[[#This Row],[Indicator ID]],'Similar 10 CCGs'!$A$6:$C$160,3,FALSE)","v":"Asthma Prevalence"},"2011/12","06F",27877,null,436707,6.38,6.31,6.45,59.358857259189307,61.401660775998614,null,5.9420000000000002,5.6459999999999999,"A","Y55","X24","1011","Wilson"]
[101,{"$f":"VLOOKUP(tblData[[#This Row],[Indicator ID]],'Similar 10 CCGs'!$A$6:$C$160,3,FALSE)","v":"Asthma Prevalence"},"2011/12","06H",54112,null,862150,6.28,6.23,6.33,59.358857259189307,61.401660775998614,null,6.2159999999999993,5.9660000000000002,"B","Y55","X24","1011","Wilson"]
[101,{"$f":"VLOOKUP(tblData[[#This Row],[Indicator ID]],'Similar 10 CCGs'!$A$6:$C$160,3,FALSE)","v":"Asthma Prevalence"},"2011/12","06K",33309,null,566468,5.88,5.82,5.94,59.358857259189307,61.401660775998614,null,6.0319999999999991,5.7060000000000004,"A","Y55","X24","1011","Wilson"]
[101,{"$f":"VLOOKUP(tblData[[#This Row],[Indicator ID]],'Similar 10 CCGs'!$A$6:$C$160,3,FALSE)","v":"Asthma Prevalence"},"2011/12","06L",24617,null,387143,6.36,6.28,6.44,59.358857259189307,61.401660775998614,null,6.2470000000000008,5.895999999999999,"B","Y55","X24","1011","Wilson"]
[101,{"$f":"VLOOKUP(tblData[[#This Row],[Indicator ID]],'Similar 10 CCGs'!$A$6:$C$160,3,FALSE)","v":"Asthma Prevalence"},"2011/12","06M",15234,null,230830,6.6,6.5,6.7,59.358857259189307,61.401660775998614,null,6.3370000000000006,5.976,"B","Y55","X24","1011","Wilson"]
[101,{"$f":"VLOOKUP(tblData[[#This Row],[Indicator ID]],'Similar 10 CCGs'!$A$6:$C$160,3,FALSE)","v":"Asthma Prevalence"},"2011/12","06N",33761,null,599780,5.63,5.57,5.69,59.358857259189307,61.401660775998614,null,5.9849999999999994,5.6199999999999992,"B","Y55","X24","1011","Wilson"]
[101,{"$f":"VLOOKUP(tblData[[#This Row],[Indicator ID]],'Similar 10 CCGs'!$A$6:$C$160,3,FALSE)","v":"Asthma Prevalence"},"2011/12","06P",11562,null,213020,5.43,5.33,5.53,59.358857259189307,61.401660775998614,null,5.8310000000000004,5.1379999999999999,"","Y55","X24","1011","Wilson"]
[101,{"$f":"VLOOKUP(tblData[[#This Row],[Indicator ID]],'Similar 10 CCGs'!$A$6:$C$160,3,FALSE)","v":"Asthma Prevalence"},"2011/12","06Q",23319,null,379032,6.15,6.07,6.23,59.358857259189307,61.401660775998614,null,5.9989999999999997,5.7900000000000009,"A","Y55","X24","1011","Wilson"]
[101,{"$f":"VLOOKUP(tblData[[#This Row],[Indicator ID]],'Similar 10 CCGs'!$A$6:$C$160,3,FALSE)","v":"Asthma Prevalence"},"2011/12","06T",20210,null,327531,6.17,6.09,6.25,59.358857259189307,61.401660775998614,null,6.2869999999999999,6.08,"B","Y55","X24","1011","Wilson"]
[101,{"$f":"VLOOKUP(tblData[[#This Row],[Indicator ID]],'Similar 10 CCGs'!$A$6:$C$160,3,FALSE)","v":"Asthma Prevalence"},"2011/12","06V",12339,null,167483,7.37,7.25,7.5,59.358857259189307,61.401660775998614,null,6.4149999999999991,6.07,"A","Y55","X24","1011","Wilson"]
[101,{"$f":"VLOOKUP(tblData[[#This Row],[Indicator ID]],'Similar 10 CCGs'!$A$6:$C$160,3,FALSE)","v":"Asthma Prevalence"},"2011/12","06W",13830,null,208562,6.63,6.52,6.74,59.358857259189307,61.401660775998614,null,6.1,5.9039999999999999,"A","Y55","X24","1011","Wilson"]
[101,{"$f":"VLOOKUP(tblData[[#This Row],[Indicator ID]],'Similar 10 CCGs'!$A$6:$C$160,3,FALSE)","v":"Asthma Prevalence"},"2011/12","06Y",15016,null,220178,6.82,6.72,6.93,59.358857259189307,61.401660775998614,null,6.17,5.9480000000000004,"A","Y55","X24","1011","Wilson"]
[101,{"$f":"VLOOKUP(tblData[[#This Row],[Indicator ID]],'Similar 10 CCGs'!$A$6:$C$160,3,FALSE)","v":"Asthma Prevalence"},"2011/12","07G",9118,null,161318,5.65,5.54,5.76,59.358857259189307,61.401660775998614,null,5.6770000000000005,5.3519999999999994,"A","Y55","X24","1011","Wilson"]
[101,{"$f":"VLOOKUP(tblData[[#This Row],[Indicator ID]],'Similar 10 CCGs'!$A$6:$C$160,3,FALSE)","v":"Asthma Prevalence"},"2011/12","07H",17114,null,291230,5.88,5.8,5.97,59.358857259189307,61.401660775998614,null,6.0759999999999996,5.8580000000000005,"B","Y55","X24","1011","Wilson"]
[101,{"$f":"VLOOKUP(tblData[[#This Row],[Indicator ID]],'Similar 10 CCGs'!$A$6:$C$160,3,FALSE)","v":"Asthma Prevalence"},"2011/12","07J",11060,null,164506,6.72,6.6,6.84,59.358857259189307,61.401660775998614,null,6.3429999999999991,6.016,"A","Y55","X24","1011","Wilson"]
[101,{"$f":"VLOOKUP(tblData[[#This Row],[Indicator ID]],'Similar 10 CCGs'!$A$6:$C$160,3,FALSE)","v":"Asthma Prevalence"},"2011/12","07K",15796,null,236634,6.68,6.58,6.78,59.358857259189307,61.401660775998614,null,6.2080000000000002,5.9480000000000004,"A","Y55","X24","1011","Wilson"]
[101,{"$f":"VLOOKUP(tblData[[#This Row],[Indicator ID]],'Similar 10 CCGs'!$A$6:$C$160,3,FALSE)","v":"Asthma Prevalence"},"2011/12","07L",9106,null,201601,4.5199999999999996,4.43,4.6100000000000003,59.358857259189307,47.102437804309432,null,5.2149999999999999,4.806,"C","Y56","X24","1011","Wilson"]
[101,{"$f":"VLOOKUP(tblData[[#This Row],[Indicator ID]],'Similar 10 CCGs'!$A$6:$C$160,3,FALSE)","v":"Asthma Prevalence"},"2011/12","07M",17563,null,378983,4.63,4.5599999999999996,4.7,59.358857259189307,47.102437804309432,null,5.3770000000000007,5.0840000000000005,"C","Y56","X24","1011","Wilson"]
[101,{"$f":"VLOOKUP(tblData[[#This Row],[Indicator ID]],'Similar 10 CCGs'!$A$6:$C$160,3,FALSE)","v":"Asthma Prevalence"},"2011/12","07N",11815,null,228448,5.17,5.08,5.26,59.358857259189307,47.102437804309432,null,5.585,5.08,"","Y56","X24","1011","Wilson"]
[101,{"$f":"VLOOKUP(tblData[[#This Row],[Indicator ID]],'Similar 10 CCGs'!$A$6:$C$160,3,FALSE)","v":"Asthma Prevalence"},"2011/12","07P",16217,null,333639,4.8600000000000003,4.79,4.93,59.358857259189307,47.102437804309432,null,4.9499999999999993,4.6379999999999999,"A","Y56","X24","1011","Wilson"]
[101,{"$f":"VLOOKUP(tblData[[#This Row],[Indicator ID]],'Similar 10 CCGs'!$A$6:$C$160,3,FALSE)","v":"Asthma Prevalence"},"2011/12","07Q",17440,null,325750,5.35,5.27,5.43,59.358857259189307,47.102437804309432,null,5.7119999999999997,5.0720000000000001,"","Y56","X24","1011","Wilson"]
[101,{"$f":"VLOOKUP(tblData[[#This Row],[Indicator ID]],'Similar 10 CCGs'!$A$6:$C$160,3,FALSE)","v":"Asthma Prevalence"},"2011/12","07R",10080,null,258783,3.9,3.83,3.98,59.358857259189307,47.102437804309432,null,5.42,4.78,"C","Y56","X24","1011","Wilson"]
[101,{"$f":"VLOOKUP(tblData[[#This Row],[Indicator ID]],'Similar 10 CCGs'!$A$6:$C$160,3,FALSE)","v":"Asthma Prevalence"},"2011/12","07T",12359,null,286478,4.3099999999999996,4.24,4.38,59.358857259189307,47.102437804309432,null,4.7279999999999998,4.3639999999999999,"","Y56","X24","1011","Wilson"]
[101,{"$f":"VLOOKUP(tblData[[#This Row],[Indicator ID]],'Similar 10 CCGs'!$A$6:$C$160,3,FALSE)","v":"Asthma Prevalence"},"2011/12","07V",18757,null,383343,4.8899999999999997,4.82,4.96,59.358857259189307,47.102437804309432,null,4.8809999999999993,4.6099999999999994,"C","Y56","X24","1011","Wilson"]
[101,{"$f":"VLOOKUP(tblData[[#This Row],[Indicator ID]],'Similar 10 CCGs'!$A$6:$C$160,3,FALSE)","v":"Asthma Prevalence"},"2011/12","07W",19394,null,393933,4.92,4.8499999999999996,4.99,59.358857259189307,47.102437804309432,null,5.1429999999999998,4.6899999999999995,"B","Y56","X24","1011","Wilson"]
[101,{"$f":"VLOOKUP(tblData[[#This Row],[Indicator ID]],'Similar 10 CCGs'!$A$6:$C$160,3,FALSE)","v":"Asthma Prevalence"},"2011/12","07X",15051,null,288724,5.21,5.13,5.29,59.358857259189307,47.102437804309432,null,5.0739999999999998,4.694,"","Y56","X24","1011","Wilson"]
[101,{"$f":"VLOOKUP(tblData[[#This Row],[Indicator ID]],'Similar 10 CCGs'!$A$6:$C$160,3,FALSE)","v":"Asthma Prevalence"},"2011/12","07Y",12509,null,280205,4.46,4.38,4.54,59.358857259189307,47.102437804309432,null,5.1259999999999994,4.7820000000000009,"C","Y56","X24","1011","Wilson"]
[101,{"$f":"VLOOKUP(tblData[[#This Row],[Indicator ID]],'Similar 10 CCGs'!$A$6:$C$160,3,FALSE)","v":"Asthma Prevalence"},"2011/12","08A",13324,null,276087,4.83,4.75,4.91,59.358857259189307,47.102437804309432,null,5.04,4.6559999999999997,"C","Y56","X24","1011","Wilson"]
[101,{"$f":"VLOOKUP(tblData[[#This Row],[Indicator ID]],'Similar 10 CCGs'!$A$6:$C$160,3,FALSE)","v":"Asthma Prevalence"},"2011/12","08C",8865,null,198466,4.47,4.38,4.5599999999999996,59.358857259189307,47.102437804309432,null,4.5619999999999994,4.1979999999999995,"","Y56","X24","1011","Wilson"]
[101,{"$f":"VLOOKUP(tblData[[#This Row],[Indicator ID]],'Similar 10 CCGs'!$A$6:$C$160,3,FALSE)","v":"Asthma Prevalence"},"2011/12","08D",12587,null,273462,4.5999999999999996,4.5199999999999996,4.68,59.358857259189307,47.102437804309432,null,4.8570000000000002,4.4879999999999995,"C","Y56","X24","1011","Wilson"]
[101,{"$f":"VLOOKUP(tblData[[#This Row],[Indicator ID]],'Similar 10 CCGs'!$A$6:$C$160,3,FALSE)","v":"Asthma Prevalence"},"2011/12","08E",12198,null,224682,5.43,5.34,5.52,59.358857259189307,47.102437804309432,null,4.9870000000000001,4.7060000000000004,"A","Y56","X24","1011","Wilson"]
[101,{"$f":"VLOOKUP(tblData[[#This Row],[Indicator ID]],'Similar 10 CCGs'!$A$6:$C$160,3,FALSE)","v":"Asthma Prevalence"},"2011/12","08F",12198,null,257279,4.74,4.66,4.82,59.358857259189307,47.102437804309432,null,6.1390000000000002,5.7319999999999993,"C","Y56","X24","1011","Wilson"]
[101,{"$f":"VLOOKUP(tblData[[#This Row],[Indicator ID]],'Similar 10 CCGs'!$A$6:$C$160,3,FALSE)","v":"Asthma Prevalence"},"2011/12","08G",14727,null,282436,5.21,5.13,5.29,59.358857259189307,47.102437804309432,null,5.4239999999999995,4.84,"","Y56","X24","1011","Wilson"]
[101,{"$f":"VLOOKUP(tblData[[#This Row],[Indicator ID]],'Similar 10 CCGs'!$A$6:$C$160,3,FALSE)","v":"Asthma Prevalence"},"2011/12","08H",12158,null,220190,5.52,5.43,5.62,59.358857259189307,47.102437804309432,null,4.391,3.9740000000000002,"A","Y56","X24","1011","Wilson"]
[101,{"$f":"VLOOKUP(tblData[[#This Row],[Indicator ID]],'Similar 10 CCGs'!$A$6:$C$160,3,FALSE)","v":"Asthma Prevalence"},"2011/12","08J",9164,null,188991,4.8499999999999996,4.75,4.95,59.358857259189307,47.102437804309432,null,5.3879999999999999,4.9800000000000004,"C","Y56","X24","1011","Wilson"]
[101,{"$f":"VLOOKUP(tblData[[#This Row],[Indicator ID]],'Similar 10 CCGs'!$A$6:$C$160,3,FALSE)","v":"Asthma Prevalence"},"2011/12","08K",17449,null,381991,4.57,4.5,4.6399999999999997,59.358857259189307,47.102437804309432,null,4.5840000000000005,4.2720000000000002,"","Y56","X24","1011","Wilson"]
[101,{"$f":"VLOOKUP(tblData[[#This Row],[Indicator ID]],'Similar 10 CCGs'!$A$6:$C$160,3,FALSE)","v":"Asthma Prevalence"},"2011/12","08L",17316,null,306263,5.65,5.57,5.73,59.358857259189307,47.102437804309432,null,4.5359999999999996,4.3220000000000001,"A","Y56","X24","1011","Wilson"]
[101,{"$f":"VLOOKUP(tblData[[#This Row],[Indicator ID]],'Similar 10 CCGs'!$A$6:$C$160,3,FALSE)","v":"Asthma Prevalence"},"2011/12","08M",15970,null,368016,4.34,4.2699999999999996,4.41,59.358857259189307,47.102437804309432,null,4.8890000000000002,4.3540000000000001,"","Y56","X24","1011","Wilson"]
[101,{"$f":"VLOOKUP(tblData[[#This Row],[Indicator ID]],'Similar 10 CCGs'!$A$6:$C$160,3,FALSE)","v":"Asthma Prevalence"},"2011/12","08N",13880,null,287529,4.83,4.75,4.91,59.358857259189307,47.102437804309432,null,5.4020000000000001,4.8780000000000001,"","Y56","X24","1011","Wilson"]
[101,{"$f":"VLOOKUP(tblData[[#This Row],[Indicator ID]],'Similar 10 CCGs'!$A$6:$C$160,3,FALSE)","v":"Asthma Prevalence"},"2011/12","08P",8849,null,197994,4.47,4.38,4.5599999999999996,59.358857259189307,47.102437804309432,null,5.6560000000000006,5.2139999999999995,"C","Y56","X24","1011","Wilson"]
[101,{"$f":"VLOOKUP(tblData[[#This Row],[Indicator ID]],'Similar 10 CCGs'!$A$6:$C$160,3,FALSE)","v":"Asthma Prevalence"},"2011/12","08Q",13097,null,327517,4,3.93,4.07,59.358857259189307,47.102437804309432,null,4.7589999999999995,4.4260000000000002,"C","Y56","X24","1011","Wilson"]
[101,{"$f":"VLOOKUP(tblData[[#This Row],[Indicator ID]],'Similar 10 CCGs'!$A$6:$C$160,3,FALSE)","v":"Asthma Prevalence"},"2011/12","08R",10125,null,212502,4.76,4.67,4.8499999999999996,59.358857259189307,47.102437804309432,null,4.9719999999999995,4.4679999999999991,"","Y56","X24","1011","Wilson"]
[101,{"$f":"VLOOKUP(tblData[[#This Row],[Indicator ID]],'Similar 10 CCGs'!$A$6:$C$160,3,FALSE)","v":"Asthma Prevalence"},"2011/12","08T",10344,null,184345,5.61,5.51,5.72,59.358857259189307,47.102437804309432,null,5.5260000000000016,4.9480000000000004,"","Y56","X24","1011","Wilson"]
[101,{"$f":"VLOOKUP(tblData[[#This Row],[Indicator ID]],'Similar 10 CCGs'!$A$6:$C$160,3,FALSE)","v":"Asthma Prevalence"},"2011/12","08V",12397,null,278239,4.46,4.38,4.54,59.358857259189307,47.102437804309432,null,5.0259999999999998,4.5179999999999989,"","Y56","X24","1011","Wilson"]
[101,{"$f":"VLOOKUP(tblData[[#This Row],[Indicator ID]],'Similar 10 CCGs'!$A$6:$C$160,3,FALSE)","v":"Asthma Prevalence"},"2011/12","08W",13349,null,293890,4.54,4.47,4.62,59.358857259189307,47.102437804309432,null,4.9359999999999991,4.6039999999999992,"","Y56","X24","1011","Wilson"]
[101,{"$f":"VLOOKUP(tblData[[#This Row],[Indicator ID]],'Similar 10 CCGs'!$A$6:$C$160,3,FALSE)","v":"Asthma Prevalence"},"2011/12","08X",14990,null,353385,4.24,4.17,4.3099999999999996,59.358857259189307,47.102437804309432,null,4.7799999999999994,4.3599999999999994,"","Y56","X24","1011","Wilson"]
[101,{"$f":"VLOOKUP(tblData[[#This Row],[Indicator ID]],'Similar 10 CCGs'!$A$6:$C$160,3,FALSE)","v":"Asthma Prevalence"},"2011/12","08Y",8391,null,224877,3.73,3.65,3.81,59.358857259189307,47.102437804309432,null,4.6269999999999998,4.18,"C","Y56","X24","1011","Wilson"]
[101,{"$f":"VLOOKUP(tblData[[#This Row],[Indicator ID]],'Similar 10 CCGs'!$A$6:$C$160,3,FALSE)","v":"Asthma Prevalence"},"2011/12","09A",7159,null,193826,3.69,3.61,3.77,59.358857259189307,47.102437804309432,null,5.1119999999999992,4.3379999999999992,"C","Y56","X24","1011","Wilson"]
[101,{"$f":"VLOOKUP(tblData[[#This Row],[Indicator ID]],'Similar 10 CCGs'!$A$6:$C$160,3,FALSE)","v":"Asthma Prevalence"},"2011/12","09C",6931,null,123049,5.63,5.5,5.76,59.358857259189307,60.610131978394264,null,6.0790000000000006,5.8140000000000009,"","Y57","X24","1011","Wilson"]
[101,{"$f":"VLOOKUP(tblData[[#This Row],[Indicator ID]],'Similar 10 CCGs'!$A$6:$C$160,3,FALSE)","v":"Asthma Prevalence"},"2011/12","09D",16845,null,302041,5.58,5.5,5.66,59.358857259189307,60.610131978394264,null,6.2189999999999994,5.9480000000000004,"C","Y57","X24","1011","Wilson"]
[101,{"$f":"VLOOKUP(tblData[[#This Row],[Indicator ID]],'Similar 10 CCGs'!$A$6:$C$160,3,FALSE)","v":"Asthma Prevalence"},"2011/12","09E",11822,null,212778,5.56,5.46,5.66,59.358857259189307,60.610131978394264,null,6.2630000000000008,6.05,"C","Y57","X24","1011","Wilson"]
[101,{"$f":"VLOOKUP(tblData[[#This Row],[Indicator ID]],'Similar 10 CCGs'!$A$6:$C$160,3,FALSE)","v":"Asthma Prevalence"},"2011/12","09F",12259,null,185366,6.61,6.5,6.72,59.358857259189307,60.610131978394264,null,6.7009999999999987,6.4940000000000015,"B","Y57","X24","1011","Wilson"]
[101,{"$f":"VLOOKUP(tblData[[#This Row],[Indicator ID]],'Similar 10 CCGs'!$A$6:$C$160,3,FALSE)","v":"Asthma Prevalence"},"2011/12","09G",30837,null,486276,6.34,6.27,6.41,59.358857259189307,60.610131978394264,null,6.4509999999999987,6.2879999999999994,"B","Y57","X24","1011","Wilson"]
[101,{"$f":"VLOOKUP(tblData[[#This Row],[Indicator ID]],'Similar 10 CCGs'!$A$6:$C$160,3,FALSE)","v":"Asthma Prevalence"},"2011/12","09H",7128,null,125753,5.67,5.54,5.8,59.358857259189307,60.610131978394264,null,6.0280000000000005,5.742,"A","Y57","X24","1011","Wilson"]
[101,{"$f":"VLOOKUP(tblData[[#This Row],[Indicator ID]],'Similar 10 CCGs'!$A$6:$C$160,3,FALSE)","v":"Asthma Prevalence"},"2011/12","09J",12634,null,249384,5.07,4.9800000000000004,5.16,59.358857259189307,60.610131978394264,null,6.1459999999999999,5.9020000000000001,"C","Y57","X24","1011","Wilson"]
[101,{"$f":"VLOOKUP(tblData[[#This Row],[Indicator ID]],'Similar 10 CCGs'!$A$6:$C$160,3,FALSE)","v":"Asthma Prevalence"},"2011/12","09L",9431,null,170399,5.53,5.42,5.64,59.358857259189307,60.610131978394264,null,6.0640000000000001,5.6880000000000006,"","Y57","X24","1011","Wilson"]
[101,{"$f":"VLOOKUP(tblData[[#This Row],[Indicator ID]],'Similar 10 CCGs'!$A$6:$C$160,3,FALSE)","v":"Asthma Prevalence"},"2011/12","09N",12834,null,213404,6.01,5.91,6.11,59.358857259189307,60.610131978394264,null,6.15,5.9500000000000011,"B","Y57","X24","1011","Wilson"]
[101,{"$f":"VLOOKUP(tblData[[#This Row],[Indicator ID]],'Similar 10 CCGs'!$A$6:$C$160,3,FALSE)","v":"Asthma Prevalence"},"2011/12","09P",10973,null,183565,5.98,5.87,6.09,59.358857259189307,60.610131978394264,null,6.5609999999999999,6.2459999999999996,"C","Y57","X24","1011","Wilson"]
[101,{"$f":"VLOOKUP(tblData[[#This Row],[Indicator ID]],'Similar 10 CCGs'!$A$6:$C$160,3,FALSE)","v":"Asthma Prevalence"},"2011/12","09W",15678,null,281126,5.58,5.5,5.67,59.358857259189307,60.610131978394264,null,6.0270000000000001,5.7679999999999998,"B","Y57","X24","1011","Wilson"]
[101,{"$f":"VLOOKUP(tblData[[#This Row],[Indicator ID]],'Similar 10 CCGs'!$A$6:$C$160,3,FALSE)","v":"Asthma Prevalence"},"2011/12","09X",13419,null,224363,5.98,5.88,6.08,59.358857259189307,60.610131978394264,null,6.0649999999999995,5.7279999999999998,"A","Y57","X24","1011","Wilson"]
[101,{"$f":"VLOOKUP(tblData[[#This Row],[Indicator ID]],'Similar 10 CCGs'!$A$6:$C$160,3,FALSE)","v":"Asthma Prevalence"},"2011/12","09Y",17864,null,349206,5.12,5.05,5.19,59.358857259189307,60.610131978394264,null,5.9339999999999993,5.5900000000000007,"C","Y57","X24","1011","Wilson"]
[101,{"$f":"VLOOKUP(tblData[[#This Row],[Indicator ID]],'Similar 10 CCGs'!$A$6:$C$160,3,FALSE)","v":"Asthma Prevalence"},"2011/12","10A",11179,null,199887,5.59,5.49,5.69,59.358857259189307,60.610131978394264,null,6.222999999999999,5.9720000000000004,"C","Y57","X24","1011","Wilson"]
[101,{"$f":"VLOOKUP(tblData[[#This Row],[Indicator ID]],'Similar 10 CCGs'!$A$6:$C$160,3,FALSE)","v":"Asthma Prevalence"},"2011/12","10C",5279,null,90403,5.84,5.69,5.99,59.358857259189307,60.610131978394264,null,5.92,5.5320000000000009,"","Y57","X24","1011","Wilson"]
[101,{"$f":"VLOOKUP(tblData[[#This Row],[Indicator ID]],'Similar 10 CCGs'!$A$6:$C$160,3,FALSE)","v":"Asthma Prevalence"},"2011/12","10D",5578,null,106368,5.24,5.1100000000000003,5.38,59.358857259189307,60.610131978394264,null,6.0279999999999996,5.8900000000000006,"C","Y57","X24","1011","Wilson"]
[101,{"$f":"VLOOKUP(tblData[[#This Row],[Indicator ID]],'Similar 10 CCGs'!$A$6:$C$160,3,FALSE)","v":"Asthma Prevalence"},"2011/12","10E",8108,null,140872,5.76,5.64,5.88,59.358857259189307,60.610131978394264,null,6.18,5.89,"C","Y57","X24","1011","Wilson"]
[101,{"$f":"VLOOKUP(tblData[[#This Row],[Indicator ID]],'Similar 10 CCGs'!$A$6:$C$160,3,FALSE)","v":"Asthma Prevalence"},"2011/12","10G",7745,null,136117,5.69,5.57,5.81,59.358857259189307,60.610131978394264,null,6.008,5.7060000000000004,"B","Y57","X24","1011","Wilson"]
[101,{"$f":"VLOOKUP(tblData[[#This Row],[Indicator ID]],'Similar 10 CCGs'!$A$6:$C$160,3,FALSE)","v":"Asthma Prevalence"},"2011/12","10H",18960,null,322894,5.87,5.79,5.95,59.358857259189307,60.610131978394264,null,5.8349999999999991,5.5419999999999998,"B","Y57","X24","1011","Wilson"]
[101,{"$f":"VLOOKUP(tblData[[#This Row],[Indicator ID]],'Similar 10 CCGs'!$A$6:$C$160,3,FALSE)","v":"Asthma Prevalence"},"2011/12","10J",12736,null,214526,5.94,5.84,6.04,59.358857259189307,60.610131978394264,null,6.0299999999999994,5.7619999999999996,"","Y57","X24","1011","Wilson"]
[101,{"$f":"VLOOKUP(tblData[[#This Row],[Indicator ID]],'Similar 10 CCGs'!$A$6:$C$160,3,FALSE)","v":"Asthma Prevalence"},"2011/12","10K",12336,null,199679,6.18,6.08,6.29,59.358857259189307,60.610131978394264,null,6.2509999999999994,5.8979999999999997,"B","Y57","X24","1011","Wilson"]
[101,{"$f":"VLOOKUP(tblData[[#This Row],[Indicator ID]],'Similar 10 CCGs'!$A$6:$C$160,3,FALSE)","v":"Asthma Prevalence"},"2011/12","10L",9733,null,140954,6.91,6.78,7.04,59.358857259189307,60.610131978394264,null,6.3239999999999998,6.016,"A","Y57","X24","1011","Wilson"]
[101,{"$f":"VLOOKUP(tblData[[#This Row],[Indicator ID]],'Similar 10 CCGs'!$A$6:$C$160,3,FALSE)","v":"Asthma Prevalence"},"2011/12","10M",7512,null,113978,6.59,6.45,6.74,59.358857259189307,60.610131978394264,null,5.927999999999999,5.7880000000000003,"A","Y57","X24","1011","Wilson"]
[101,{"$f":"VLOOKUP(tblData[[#This Row],[Indicator ID]],'Similar 10 CCGs'!$A$6:$C$160,3,FALSE)","v":"Asthma Prevalence"},"2011/12","10N",7262,null,107019,6.79,6.64,6.94,59.358857259189307,60.610131978394264,null,6.0310000000000006,5.67,"A","Y57","X24","1011","Wilson"]
[101,{"$f":"VLOOKUP(tblData[[#This Row],[Indicator ID]],'Similar 10 CCGs'!$A$6:$C$160,3,FALSE)","v":"Asthma Prevalence"},"2011/12","10Q",40641,null,694252,5.85,5.8,5.91,59.358857259189307,60.610131978394264,null,6.2880000000000003,6.08,"C","Y57","X24","1011","Wilson"]
[101,{"$f":"VLOOKUP(tblData[[#This Row],[Indicator ID]],'Similar 10 CCGs'!$A$6:$C$160,3,FALSE)","v":"Asthma Prevalence"},"2011/12","10R",13794,null,216450,6.37,6.27,6.47,59.358857259189307,60.610131978394264,null,6.1069999999999993,5.8400000000000007,"A","Y57","X24","1011","Wilson"]
[101,{"$f":"VLOOKUP(tblData[[#This Row],[Indicator ID]],'Similar 10 CCGs'!$A$6:$C$160,3,FALSE)","v":"Asthma Prevalence"},"2011/12","10T",7413,null,143386,5.17,5.0599999999999996,5.29,59.358857259189307,60.610131978394264,null,5.55,4.9119999999999999,"","Y57","X24","1011","Wilson"]
[101,{"$f":"VLOOKUP(tblData[[#This Row],[Indicator ID]],'Similar 10 CCGs'!$A$6:$C$160,3,FALSE)","v":"Asthma Prevalence"},"2011/12","10V",13075,null,208985,6.26,6.16,6.36,59.358857259189307,60.610131978394264,null,6.1620000000000008,5.952,"B","Y57","X24","1011","Wilson"]
[101,{"$f":"VLOOKUP(tblData[[#This Row],[Indicator ID]],'Similar 10 CCGs'!$A$6:$C$160,3,FALSE)","v":"Asthma Prevalence"},"2011/12","10W",6765,null,129334,5.23,5.1100000000000003,5.35,59.358857259189307,60.610131978394264,null,5.9120000000000008,5.57,"","Y57","X24","1011","Wilson"]
[101,{"$f":"VLOOKUP(tblData[[#This Row],[Indicator ID]],'Similar 10 CCGs'!$A$6:$C$160,3,FALSE)","v":"Asthma Prevalence"},"2011/12","10X",16067,null,267022,6.02,5.93,6.11,59.358857259189307,60.610131978394264,null,6.0039999999999996,5.5960000000000001,"B","Y57","X24","1011","Wilson"]
[101,{"$f":"VLOOKUP(tblData[[#This Row],[Indicator ID]],'Similar 10 CCGs'!$A$6:$C$160,3,FALSE)","v":"Asthma Prevalence"},"2011/12","10Y",12385,null,198019,6.25,6.14,6.36,59.358857259189307,60.610131978394264,null,5.88,5.6080000000000005,"A","Y57","X24","1011","Wilson"]
[101,{"$f":"VLOOKUP(tblData[[#This Row],[Indicator ID]],'Similar 10 CCGs'!$A$6:$C$160,3,FALSE)","v":"Asthma Prevalence"},"2011/12","11A",33413,null,539951,6.19,6.13,6.25,59.358857259189307,60.610131978394264,null,6.1889999999999992,5.9659999999999993,"A","Y57","X24","1011","Wilson"]
[101,{"$f":"VLOOKUP(tblData[[#This Row],[Indicator ID]],'Similar 10 CCGs'!$A$6:$C$160,3,FALSE)","v":"Asthma Prevalence"},"2011/12","11C",7826,null,150550,5.2,5.09,5.31,59.358857259189307,60.610131978394264,null,6.1189999999999998,5.8420000000000005,"","Y57","X24","1011","Wilson"]
[101,{"$f":"VLOOKUP(tblData[[#This Row],[Indicator ID]],'Similar 10 CCGs'!$A$6:$C$160,3,FALSE)","v":"Asthma Prevalence"},"2011/12","11D",9725,null,154220,6.31,6.19,6.43,59.358857259189307,60.610131978394264,null,5.7619999999999996,5.4460000000000006,"A","Y57","X24","1011","Wilson"]
[101,{"$f":"VLOOKUP(tblData[[#This Row],[Indicator ID]],'Similar 10 CCGs'!$A$6:$C$160,3,FALSE)","v":"Asthma Prevalence"},"2011/12","11E",12188,null,197180,6.18,6.07,6.29,59.358857259189307,60.610131978394264,null,6.08,5.8040000000000003,"A","Y57","X24","1011","Wilson"]
[101,{"$f":"VLOOKUP(tblData[[#This Row],[Indicator ID]],'Similar 10 CCGs'!$A$6:$C$160,3,FALSE)","v":"Asthma Prevalence"},"2011/12","11H",28247,null,475661,5.94,5.87,6.01,59.358857259189307,60.610131978394264,null,6.1019999999999985,5.8719999999999999,"","Y57","X24","1011","Wilson"]
[101,{"$f":"VLOOKUP(tblData[[#This Row],[Indicator ID]],'Similar 10 CCGs'!$A$6:$C$160,3,FALSE)","v":"Asthma Prevalence"},"2011/12","11J",49473,null,765896,6.46,6.41,6.52,59.358857259189307,60.610131978394264,null,6.3720000000000008,6.2359999999999998,"B","Y57","X24","1011","Wilson"]
[101,{"$f":"VLOOKUP(tblData[[#This Row],[Indicator ID]],'Similar 10 CCGs'!$A$6:$C$160,3,FALSE)","v":"Asthma Prevalence"},"2011/12","11M",39828,null,615239,6.47,6.41,6.53,59.358857259189307,60.610131978394264,null,6.1850000000000005,5.97,"A","Y57","X24","1011","Wilson"]
[101,{"$f":"VLOOKUP(tblData[[#This Row],[Indicator ID]],'Similar 10 CCGs'!$A$6:$C$160,3,FALSE)","v":"Asthma Prevalence"},"2011/12","11N",36438,null,555618,6.56,6.5,6.63,59.358857259189307,60.610131978394264,null,6.4049999999999994,6.2739999999999991,"A","Y57","X24","1011","Wilson"]
[101,{"$f":"VLOOKUP(tblData[[#This Row],[Indicator ID]],'Similar 10 CCGs'!$A$6:$C$160,3,FALSE)","v":"Asthma Prevalence"},"2011/12","11T",13973,null,211203,6.62,6.51,6.73,59.358857259189307,60.610131978394264,null,6.0990000000000011,5.9,"A","Y57","X24","1011","Wilson"]
[101,{"$f":"VLOOKUP(tblData[[#This Row],[Indicator ID]],'Similar 10 CCGs'!$A$6:$C$160,3,FALSE)","v":"Asthma Prevalence"},"2011/12","11X",34423,null,543498,6.33,6.27,6.4,59.358857259189307,60.610131978394264,null,6.3010000000000002,6.1420000000000003,"B","Y57","X24","1011","Wilson"]
[101,{"$f":"VLOOKUP(tblData[[#This Row],[Indicator ID]],'Similar 10 CCGs'!$A$6:$C$160,3,FALSE)","v":"Asthma Prevalence"},"2011/12","12A",17304,null,256061,6.76,6.66,6.86,59.358857259189307,60.610131978394264,null,5.83,5.5080000000000009,"A","Y57","X24","1011","Wilson"]
[101,{"$f":"VLOOKUP(tblData[[#This Row],[Indicator ID]],'Similar 10 CCGs'!$A$6:$C$160,3,FALSE)","v":"Asthma Prevalence"},"2011/12","12D",13972,null,221360,6.31,6.21,6.41,59.358857259189307,60.610131978394264,null,5.8839999999999986,5.5020000000000007,"A","Y57","X24","1011","Wilson"]
[101,{"$f":"VLOOKUP(tblData[[#This Row],[Indicator ID]],'Similar 10 CCGs'!$A$6:$C$160,3,FALSE)","v":"Asthma Prevalence"},"2011/12","12F",21528,null,331592,6.49,6.41,6.57,59.358857259189307,62.992173629961677,null,6.4090000000000007,6.0920000000000005,"A","Y54","X24","1011","Wilson"]
[101,{"$f":"VLOOKUP(tblData[[#This Row],[Indicator ID]],'Similar 10 CCGs'!$A$6:$C$160,3,FALSE)","v":"Asthma Prevalence"},"2011/12","13P",45244,null,727002,6.22,6.16,6.28,59.358857259189307,61.401660775998614,null,6.1659999999999995,5.918000000000001,"B","Y55","X24","1011","Wilson"]
[101,{"$f":"VLOOKUP(tblData[[#This Row],[Indicator ID]],'Similar 10 CCGs'!$A$6:$C$160,3,FALSE)","v":"Asthma Prevalence"},"2011/12","99A",27820,null,492711,5.65,5.59,5.71,59.358857259189307,62.992173629961677,null,6.0780000000000003,5.9020000000000001,"C","Y54","X24","1011","Wilson"]
[101,{"$f":"VLOOKUP(tblData[[#This Row],[Indicator ID]],'Similar 10 CCGs'!$A$6:$C$160,3,FALSE)","v":"Asthma Prevalence"},"2011/12","99C",13559,null,214926,6.31,6.21,6.41,59.358857259189307,62.992173629961677,null,6.4530000000000012,6.1480000000000006,"A","Y54","X24","1011","Wilson"]
[101,{"$f":"VLOOKUP(tblData[[#This Row],[Indicator ID]],'Similar 10 CCGs'!$A$6:$C$160,3,FALSE)","v":"Asthma Prevalence"},"2011/12","99D",9764,null,156440,6.24,6.12,6.36,59.358857259189307,61.401660775998614,null,6.1529999999999996,5.8319999999999999,"A","Y55","X24","1011","Wilson"]
[101,{"$f":"VLOOKUP(tblData[[#This Row],[Indicator ID]],'Similar 10 CCGs'!$A$6:$C$160,3,FALSE)","v":"Asthma Prevalence"},"2011/12","99E",16235,null,262252,6.19,6.1,6.28,59.358857259189307,61.401660775998614,null,6.0490000000000004,5.7840000000000007,"A","Y55","X24","1011","Wilson"]
[101,{"$f":"VLOOKUP(tblData[[#This Row],[Indicator ID]],'Similar 10 CCGs'!$A$6:$C$160,3,FALSE)","v":"Asthma Prevalence"},"2011/12","99F",10594,null,177806,5.96,5.85,6.07,59.358857259189307,61.401660775998614,null,6.3559999999999999,6.097999999999999,"","Y55","X24","1011","Wilson"]
[101,{"$f":"VLOOKUP(tblData[[#This Row],[Indicator ID]],'Similar 10 CCGs'!$A$6:$C$160,3,FALSE)","v":"Asthma Prevalence"},"2011/12","99G",11010,null,186028,5.92,5.81,6.03,59.358857259189307,61.401660775998614,null,6.3370000000000006,6.0140000000000002,"","Y55","X24","1011","Wilson"]
[101,{"$f":"VLOOKUP(tblData[[#This Row],[Indicator ID]],'Similar 10 CCGs'!$A$6:$C$160,3,FALSE)","v":"Asthma Prevalence"},"2011/12","99H",15216,null,289448,5.26,5.18,5.34,59.358857259189307,60.610131978394264,null,5.9749999999999996,5.6720000000000006,"C","Y57","X24","1011","Wilson"]
[101,{"$f":"VLOOKUP(tblData[[#This Row],[Indicator ID]],'Similar 10 CCGs'!$A$6:$C$160,3,FALSE)","v":"Asthma Prevalence"},"2011/12","99J",25794,null,466241,5.53,5.46,5.6,59.358857259189307,60.610131978394264,null,6.1959999999999997,6.0440000000000005,"","Y57","X24","1011","Wilson"]
[101,{"$f":"VLOOKUP(tblData[[#This Row],[Indicator ID]],'Similar 10 CCGs'!$A$6:$C$160,3,FALSE)","v":"Asthma Prevalence"},"2011/12","99K",9635,null,164555,5.86,5.75,5.97,59.358857259189307,60.610131978394264,null,6.2299999999999995,5.93,"","Y57","X24","1011","Wilson"]
[101,{"$f":"VLOOKUP(tblData[[#This Row],[Indicator ID]],'Similar 10 CCGs'!$A$6:$C$160,3,FALSE)","v":"Asthma Prevalence"},"2011/12","99M",12045,null,216963,5.55,5.45,5.65,59.358857259189307,60.610131978394264,null,5.9369999999999994,5.572000000000001,"C","Y57","X24","1011","Wilson"]
[101,{"$f":"VLOOKUP(tblData[[#This Row],[Indicator ID]],'Similar 10 CCGs'!$A$6:$C$160,3,FALSE)","v":"Asthma Prevalence"},"2011/12","99N",28778,null,471598,6.1,6.03,6.17,59.358857259189307,60.610131978394264,null,6.0989999999999993,5.8519999999999994,"A","Y57","X24","1011","Wilson"]
[101,{"$f":"VLOOKUP(tblData[[#This Row],[Indicator ID]],'Similar 10 CCGs'!$A$6:$C$160,3,FALSE)","v":"Asthma Prevalence"},"2011/12","99P",59299,null,898677,6.6,6.55,6.65,59.358857259189307,60.610131978394264,null,6.3460000000000001,6.1859999999999999,"A","Y57","X24","1011","Wilson"]
[101,{"$f":"VLOOKUP(tblData[[#This Row],[Indicator ID]],'Similar 10 CCGs'!$A$6:$C$160,3,FALSE)","v":"Asthma Prevalence"},"2011/12","99Q",18836,null,285265,6.6,6.51,6.69,59.358857259189307,60.610131978394264,null,6.4320000000000004,6.1879999999999997,"A","Y57","X24","1011","Wilson"]
[102,{"$f":"VLOOKUP(tblData[[#This Row],[Indicator ID]],'Similar 10 CCGs'!$A$6:$C$160,3,FALSE)","v":"Atrial Fibrillation Prevalence"},"2011/12","00C",1776,null,105927,1.68,1.6,1.76,14.81343820915319,15.657262406805764,null,1.6519999999999997,1.5719999999999998,"A","Y54","X24","1021","Wilson"]
[102,{"$f":"VLOOKUP(tblData[[#This Row],[Indicator ID]],'Similar 10 CCGs'!$A$6:$C$160,3,FALSE)","v":"Atrial Fibrillation Prevalence"},"2011/12","00D",4954,null,287801,1.72,1.67,1.77,14.81343820915319,15.657262406805764,null,1.7079999999999997,1.6260000000000001,"A","Y54","X24","1021","Wilson"]
[102,{"$f":"VLOOKUP(tblData[[#This Row],[Indicator ID]],'Similar 10 CCGs'!$A$6:$C$160,3,FALSE)","v":"Atrial Fibrillation Prevalence"},"2011/12","00F",3332,null,206317,1.61,1.56,1.67,14.81343820915319,15.657262406805764,null,1.704,1.6259999999999999,"","Y54","X24","1021","Wilson"]
[102,{"$f":"VLOOKUP(tblData[[#This Row],[Indicator ID]],'Similar 10 CCGs'!$A$6:$C$160,3,FALSE)","v":"Atrial Fibrillation Prevalence"},"2011/12","00G",1714,null,149906,1.1399999999999999,1.0900000000000001,1.19,14.81343820915319,15.657262406805764,null,1.3759999999999999,1.1739999999999999,"","Y54","X24","1021","Wilson"]
[102,{"$f":"VLOOKUP(tblData[[#This Row],[Indicator ID]],'Similar 10 CCGs'!$A$6:$C$160,3,FALSE)","v":"Atrial Fibrillation Prevalence"},"2011/12","00H",1805,null,130014,1.39,1.33,1.46,14.81343820915319,15.657262406805764,null,1.5030000000000001,1.3840000000000001,"","Y54","X24","1021","Wilson"]
[102,{"$f":"VLOOKUP(tblData[[#This Row],[Indicator ID]],'Similar 10 CCGs'!$A$6:$C$160,3,FALSE)","v":"Atrial Fibrillation Prevalence"},"2011/12","00J",3829,null,248033,1.54,1.49,1.59,14.81343820915319,15.657262406805764,null,1.6960000000000002,1.5720000000000001,"","Y54","X24","1021","Wilson"]
[102,{"$f":"VLOOKUP(tblData[[#This Row],[Indicator ID]],'Similar 10 CCGs'!$A$6:$C$160,3,FALSE)","v":"Atrial Fibrillation Prevalence"},"2011/12","00K",4962,null,288881,1.72,1.67,1.77,14.81343820915319,15.657262406805764,null,1.5530000000000002,1.4560000000000002,"A","Y54","X24","1021","Wilson"]
[102,{"$f":"VLOOKUP(tblData[[#This Row],[Indicator ID]],'Similar 10 CCGs'!$A$6:$C$160,3,FALSE)","v":"Atrial Fibrillation Prevalence"},"2011/12","00L",6163,null,321055,1.92,1.87,1.97,14.81343820915319,15.657262406805764,null,1.8959999999999997,1.782,"A","Y54","X24","1021","Wilson"]
[102,{"$f":"VLOOKUP(tblData[[#This Row],[Indicator ID]],'Similar 10 CCGs'!$A$6:$C$160,3,FALSE)","v":"Atrial Fibrillation Prevalence"},"2011/12","00M",4368,null,289937,1.51,1.47,1.56,14.81343820915319,15.657262406805764,null,1.5079999999999998,1.3599999999999999,"A","Y54","X24","1021","Wilson"]
[102,{"$f":"VLOOKUP(tblData[[#This Row],[Indicator ID]],'Similar 10 CCGs'!$A$6:$C$160,3,FALSE)","v":"Atrial Fibrillation Prevalence"},"2011/12","00N",2752,null,154487,1.78,1.72,1.85,14.81343820915319,15.657262406805764,null,1.7149999999999999,1.59,"A","Y54","X24","1021","Wilson"]
[102,{"$f":"VLOOKUP(tblData[[#This Row],[Indicator ID]],'Similar 10 CCGs'!$A$6:$C$160,3,FALSE)","v":"Atrial Fibrillation Prevalence"},"2011/12","00P",4790,null,284652,1.68,1.63,1.73,14.81343820915319,15.657262406805764,null,1.6659999999999999,1.528,"B","Y54","X24","1021","Wilson"]
[102,{"$f":"VLOOKUP(tblData[[#This Row],[Indicator ID]],'Similar 10 CCGs'!$A$6:$C$160,3,FALSE)","v":"Atrial Fibrillation Prevalence"},"2011/12","00Q",1974,null,168871,1.17,1.1200000000000001,1.22,14.81343820915319,15.657262406805764,null,1.232,1.0859999999999999,"","Y54","X24","1021","Wilson"]
[102,{"$f":"VLOOKUP(tblData[[#This Row],[Indicator ID]],'Similar 10 CCGs'!$A$6:$C$160,3,FALSE)","v":"Atrial Fibrillation Prevalence"},"2011/12","00R",2990,null,172380,1.73,1.67,1.79,14.81343820915319,15.657262406805764,null,1.6759999999999997,1.544,"A","Y54","X24","1021","Wilson"]
[102,{"$f":"VLOOKUP(tblData[[#This Row],[Indicator ID]],'Similar 10 CCGs'!$A$6:$C$160,3,FALSE)","v":"Atrial Fibrillation Prevalence"},"2011/12","00T",3852,null,296304,1.3,1.26,1.34,14.81343820915319,15.657262406805764,null,1.3719999999999999,1.274,"","Y54","X24","1021","Wilson"]
[102,{"$f":"VLOOKUP(tblData[[#This Row],[Indicator ID]],'Similar 10 CCGs'!$A$6:$C$160,3,FALSE)","v":"Atrial Fibrillation Prevalence"},"2011/12","00V",2596,null,188744,1.38,1.33,1.43,14.81343820915319,15.657262406805764,null,1.45,1.3359999999999999,"","Y54","X24","1021","Wilson"]
[102,{"$f":"VLOOKUP(tblData[[#This Row],[Indicator ID]],'Similar 10 CCGs'!$A$6:$C$160,3,FALSE)","v":"Atrial Fibrillation Prevalence"},"2011/12","00W",1491,null,214540,0.69,0.66,0.73,14.81343820915319,15.657262406805764,null,0.92300000000000004,0.81600000000000006,"C","Y54","X24","1021","Wilson"]
[102,{"$f":"VLOOKUP(tblData[[#This Row],[Indicator ID]],'Similar 10 CCGs'!$A$6:$C$160,3,FALSE)","v":"Atrial Fibrillation Prevalence"},"2011/12","00X",2694,null,173442,1.55,1.49,1.61,14.81343820915319,15.657262406805764,null,1.643,1.5379999999999998,"","Y54","X24","1021","Wilson"]
[102,{"$f":"VLOOKUP(tblData[[#This Row],[Indicator ID]],'Similar 10 CCGs'!$A$6:$C$160,3,FALSE)","v":"Atrial Fibrillation Prevalence"},"2011/12","00Y",2621,null,240773,1.0900000000000001,1.05,1.1299999999999999,14.81343820915319,15.657262406805764,null,1.3240000000000001,1.2479999999999998,"","Y54","X24","1021","Wilson"]
[102,{"$f":"VLOOKUP(tblData[[#This Row],[Indicator ID]],'Similar 10 CCGs'!$A$6:$C$160,3,FALSE)","v":"Atrial Fibrillation Prevalence"},"2011/12","01A",4997,null,368985,1.35,1.31,1.39,14.81343820915319,15.657262406805764,null,1.355,1.2600000000000002,"","Y54","X24","1021","Wilson"]
[102,{"$f":"VLOOKUP(tblData[[#This Row],[Indicator ID]],'Similar 10 CCGs'!$A$6:$C$160,3,FALSE)","v":"Atrial Fibrillation Prevalence"},"2011/12","01C",4168,null,201866,2.06,2,2.12,14.81343820915319,15.657262406805764,null,1.8900000000000001,1.8,"A","Y54","X24","1021","Wilson"]
[102,{"$f":"VLOOKUP(tblData[[#This Row],[Indicator ID]],'Similar 10 CCGs'!$A$6:$C$160,3,FALSE)","v":"Atrial Fibrillation Prevalence"},"2011/12","01D",2740,null,224196,1.22,1.18,1.27,14.81343820915319,15.657262406805764,null,1.3839999999999999,1.2979999999999998,"","Y54","X24","1021","Wilson"]
[102,{"$f":"VLOOKUP(tblData[[#This Row],[Indicator ID]],'Similar 10 CCGs'!$A$6:$C$160,3,FALSE)","v":"Atrial Fibrillation Prevalence"},"2011/12","01E",2955,null,212272,1.39,1.34,1.44,14.81343820915319,15.657262406805764,null,1.514,1.4060000000000001,"C","Y54","X24","1021","Wilson"]
[102,{"$f":"VLOOKUP(tblData[[#This Row],[Indicator ID]],'Similar 10 CCGs'!$A$6:$C$160,3,FALSE)","v":"Atrial Fibrillation Prevalence"},"2011/12","01F",2074,null,128154,1.62,1.55,1.69,14.81343820915319,15.657262406805764,null,1.552,1.4019999999999999,"A","Y54","X24","1021","Wilson"]
[102,{"$f":"VLOOKUP(tblData[[#This Row],[Indicator ID]],'Similar 10 CCGs'!$A$6:$C$160,3,FALSE)","v":"Atrial Fibrillation Prevalence"},"2011/12","01G",3719,null,249243,1.49,1.44,1.54,14.81343820915319,15.657262406805764,null,1.506,1.39,"A","Y54","X24","1021","Wilson"]
[102,{"$f":"VLOOKUP(tblData[[#This Row],[Indicator ID]],'Similar 10 CCGs'!$A$6:$C$160,3,FALSE)","v":"Atrial Fibrillation Prevalence"},"2011/12","01H",9846,null,525627,1.87,1.83,1.91,14.81343820915319,15.657262406805764,null,1.9309999999999998,1.8219999999999998,"","Y54","X24","1021","Wilson"]
[102,{"$f":"VLOOKUP(tblData[[#This Row],[Indicator ID]],'Similar 10 CCGs'!$A$6:$C$160,3,FALSE)","v":"Atrial Fibrillation Prevalence"},"2011/12","01J",2396,null,160868,1.49,1.43,1.55,14.81343820915319,15.657262406805764,null,1.5050000000000001,1.3240000000000001,"B","Y54","X24","1021","Wilson"]
[102,{"$f":"VLOOKUP(tblData[[#This Row],[Indicator ID]],'Similar 10 CCGs'!$A$6:$C$160,3,FALSE)","v":"Atrial Fibrillation Prevalence"},"2011/12","01K",2780,null,161065,1.73,1.67,1.79,14.81343820915319,15.657262406805764,null,1.4999999999999998,1.3080000000000001,"A","Y54","X24","1021","Wilson"]
[102,{"$f":"VLOOKUP(tblData[[#This Row],[Indicator ID]],'Similar 10 CCGs'!$A$6:$C$160,3,FALSE)","v":"Atrial Fibrillation Prevalence"},"2011/12","01M",1760,null,186773,0.94,0.9,0.98,14.81343820915319,15.657262406805764,null,1.2770000000000001,1.1299999999999999,"C","Y54","X24","1021","Wilson"]
[102,{"$f":"VLOOKUP(tblData[[#This Row],[Indicator ID]],'Similar 10 CCGs'!$A$6:$C$160,3,FALSE)","v":"Atrial Fibrillation Prevalence"},"2011/12","01N",1942,null,166809,1.1599999999999999,1.1100000000000001,1.21,14.81343820915319,15.657262406805764,null,1.4019999999999999,1.266,"","Y54","X24","1021","Wilson"]
[102,{"$f":"VLOOKUP(tblData[[#This Row],[Indicator ID]],'Similar 10 CCGs'!$A$6:$C$160,3,FALSE)","v":"Atrial Fibrillation Prevalence"},"2011/12","01R",3251,null,174182,1.87,1.81,1.93,14.81343820915319,15.657262406805764,null,1.6829999999999998,1.5260000000000002,"A","Y54","X24","1021","Wilson"]
[102,{"$f":"VLOOKUP(tblData[[#This Row],[Indicator ID]],'Similar 10 CCGs'!$A$6:$C$160,3,FALSE)","v":"Atrial Fibrillation Prevalence"},"2011/12","01T",2924,null,155295,1.88,1.81,1.95,14.81343820915319,15.657262406805764,null,1.7370000000000001,1.64,"A","Y54","X24","1021","Wilson"]
[102,{"$f":"VLOOKUP(tblData[[#This Row],[Indicator ID]],'Similar 10 CCGs'!$A$6:$C$160,3,FALSE)","v":"Atrial Fibrillation Prevalence"},"2011/12","01V",2622,null,121921,2.15,2.0699999999999998,2.23,14.81343820915319,15.657262406805764,null,1.9129999999999998,1.6719999999999999,"A","Y54","X24","1021","Wilson"]
[102,{"$f":"VLOOKUP(tblData[[#This Row],[Indicator ID]],'Similar 10 CCGs'!$A$6:$C$160,3,FALSE)","v":"Atrial Fibrillation Prevalence"},"2011/12","01W",4969,null,299243,1.66,1.61,1.71,14.81343820915319,15.657262406805764,null,1.675,1.5580000000000001,"B","Y54","X24","1021","Wilson"]
[102,{"$f":"VLOOKUP(tblData[[#This Row],[Indicator ID]],'Similar 10 CCGs'!$A$6:$C$160,3,FALSE)","v":"Atrial Fibrillation Prevalence"},"2011/12","01X",3289,null,192980,1.7,1.64,1.76,14.81343820915319,15.657262406805764,null,1.641,1.496,"A","Y54","X24","1021","Wilson"]
[102,{"$f":"VLOOKUP(tblData[[#This Row],[Indicator ID]],'Similar 10 CCGs'!$A$6:$C$160,3,FALSE)","v":"Atrial Fibrillation Prevalence"},"2011/12","01Y",3394,null,240654,1.41,1.36,1.46,14.81343820915319,15.657262406805764,null,1.5619999999999998,1.4620000000000002,"C","Y54","X24","1021","Wilson"]
[102,{"$f":"VLOOKUP(tblData[[#This Row],[Indicator ID]],'Similar 10 CCGs'!$A$6:$C$160,3,FALSE)","v":"Atrial Fibrillation Prevalence"},"2011/12","02A",3644,null,231440,1.57,1.52,1.62,14.81343820915319,15.657262406805764,null,1.5469999999999999,1.4159999999999999,"A","Y54","X24","1021","Wilson"]
[102,{"$f":"VLOOKUP(tblData[[#This Row],[Indicator ID]],'Similar 10 CCGs'!$A$6:$C$160,3,FALSE)","v":"Atrial Fibrillation Prevalence"},"2011/12","02D",1691,null,102110,1.66,1.58,1.74,14.81343820915319,15.657262406805764,null,1.589,1.4140000000000001,"B","Y54","X24","1021","Wilson"]
[102,{"$f":"VLOOKUP(tblData[[#This Row],[Indicator ID]],'Similar 10 CCGs'!$A$6:$C$160,3,FALSE)","v":"Atrial Fibrillation Prevalence"},"2011/12","02E",3091,null,208781,1.48,1.43,1.53,14.81343820915319,15.657262406805764,null,1.5820000000000001,1.47,"A","Y54","X24","1021","Wilson"]
[102,{"$f":"VLOOKUP(tblData[[#This Row],[Indicator ID]],'Similar 10 CCGs'!$A$6:$C$160,3,FALSE)","v":"Atrial Fibrillation Prevalence"},"2011/12","02F",4720,null,254295,1.86,1.81,1.91,14.81343820915319,15.657262406805764,null,1.873,1.714,"A","Y54","X24","1021","Wilson"]
[102,{"$f":"VLOOKUP(tblData[[#This Row],[Indicator ID]],'Similar 10 CCGs'!$A$6:$C$160,3,FALSE)","v":"Atrial Fibrillation Prevalence"},"2011/12","02G",1964,null,111867,1.76,1.68,1.84,14.81343820915319,15.657262406805764,null,1.752,1.6300000000000001,"A","Y54","X24","1021","Wilson"]
[102,{"$f":"VLOOKUP(tblData[[#This Row],[Indicator ID]],'Similar 10 CCGs'!$A$6:$C$160,3,FALSE)","v":"Atrial Fibrillation Prevalence"},"2011/12","02H",5066,null,320354,1.58,1.54,1.62,14.81343820915319,15.657262406805764,null,1.5970000000000002,1.516,"B","Y54","X24","1021","Wilson"]
[102,{"$f":"VLOOKUP(tblData[[#This Row],[Indicator ID]],'Similar 10 CCGs'!$A$6:$C$160,3,FALSE)","v":"Atrial Fibrillation Prevalence"},"2011/12","02M",3325,null,151706,2.19,2.12,2.2599999999999998,14.81343820915319,15.657262406805764,null,2.1110000000000002,1.986,"A","Y54","X24","1021","Wilson"]
[102,{"$f":"VLOOKUP(tblData[[#This Row],[Indicator ID]],'Similar 10 CCGs'!$A$6:$C$160,3,FALSE)","v":"Atrial Fibrillation Prevalence"},"2011/12","02N",3169,null,155635,2.04,1.97,2.11,14.81343820915319,15.657262406805764,null,1.752,1.5779999999999998,"A","Y54","X24","1021","Wilson"]
[102,{"$f":"VLOOKUP(tblData[[#This Row],[Indicator ID]],'Similar 10 CCGs'!$A$6:$C$160,3,FALSE)","v":"Atrial Fibrillation Prevalence"},"2011/12","02P",4018,null,245317,1.64,1.59,1.69,14.81343820915319,15.657262406805764,null,1.6190000000000002,1.53,"B","Y54","X24","1021","Wilson"]
[102,{"$f":"VLOOKUP(tblData[[#This Row],[Indicator ID]],'Similar 10 CCGs'!$A$6:$C$160,3,FALSE)","v":"Atrial Fibrillation Prevalence"},"2011/12","02Q",2045,null,111651,1.83,1.75,1.91,14.81343820915319,15.657262406805764,null,1.6319999999999997,1.5559999999999998,"A","Y54","X24","1021","Wilson"]
[102,{"$f":"VLOOKUP(tblData[[#This Row],[Indicator ID]],'Similar 10 CCGs'!$A$6:$C$160,3,FALSE)","v":"Atrial Fibrillation Prevalence"},"2011/12","02R",4382,null,330270,1.33,1.29,1.37,14.81343820915319,15.657262406805764,null,1.3160000000000001,1.1999999999999997,"A","Y54","X24","1021","Wilson"]
[102,{"$f":"VLOOKUP(tblData[[#This Row],[Indicator ID]],'Similar 10 CCGs'!$A$6:$C$160,3,FALSE)","v":"Atrial Fibrillation Prevalence"},"2011/12","02T",2895,null,212976,1.36,1.31,1.41,14.81343820915319,15.657262406805764,null,1.5559999999999998,1.3539999999999999,"C","Y54","X24","1021","Wilson"]
[102,{"$f":"VLOOKUP(tblData[[#This Row],[Indicator ID]],'Similar 10 CCGs'!$A$6:$C$160,3,FALSE)","v":"Atrial Fibrillation Prevalence"},"2011/12","02V",2995,null,201657,1.49,1.44,1.54,14.81343820915319,15.657262406805764,null,1.4970000000000001,1.3480000000000001,"B","Y54","X24","1021","Wilson"]
[102,{"$f":"VLOOKUP(tblData[[#This Row],[Indicator ID]],'Similar 10 CCGs'!$A$6:$C$160,3,FALSE)","v":"Atrial Fibrillation Prevalence"},"2011/12","02W",443,null,118636,0.37,0.34,0.41,14.81343820915319,15.657262406805764,null,0.93600000000000017,0.76800000000000002,"C","Y54","X24","1021","Wilson"]
[102,{"$f":"VLOOKUP(tblData[[#This Row],[Indicator ID]],'Similar 10 CCGs'!$A$6:$C$160,3,FALSE)","v":"Atrial Fibrillation Prevalence"},"2011/12","02X",5255,null,308637,1.7,1.66,1.75,14.81343820915319,15.657262406805764,null,1.6339999999999997,1.5760000000000001,"A","Y54","X24","1021","Wilson"]
[102,{"$f":"VLOOKUP(tblData[[#This Row],[Indicator ID]],'Similar 10 CCGs'!$A$6:$C$160,3,FALSE)","v":"Atrial Fibrillation Prevalence"},"2011/12","02Y",5848,null,301167,1.94,1.89,1.99,14.81343820915319,15.657262406805764,null,1.861,1.766,"B","Y54","X24","1021","Wilson"]
[102,{"$f":"VLOOKUP(tblData[[#This Row],[Indicator ID]],'Similar 10 CCGs'!$A$6:$C$160,3,FALSE)","v":"Atrial Fibrillation Prevalence"},"2011/12","03A",3125,null,239050,1.31,1.27,1.36,14.81343820915319,15.657262406805764,null,1.4700000000000002,1.3520000000000001,"C","Y54","X24","1021","Wilson"]
[102,{"$f":"VLOOKUP(tblData[[#This Row],[Indicator ID]],'Similar 10 CCGs'!$A$6:$C$160,3,FALSE)","v":"Atrial Fibrillation Prevalence"},"2011/12","03C",4461,null,359415,1.24,1.2,1.28,14.81343820915319,15.657262406805764,null,1.3720000000000001,1.1659999999999999,"","Y54","X24","1021","Wilson"]
[102,{"$f":"VLOOKUP(tblData[[#This Row],[Indicator ID]],'Similar 10 CCGs'!$A$6:$C$160,3,FALSE)","v":"Atrial Fibrillation Prevalence"},"2011/12","03D",2922,null,141465,2.0699999999999998,2,2.15,14.81343820915319,15.657262406805764,null,1.8800000000000001,1.7899999999999998,"A","Y54","X24","1021","Wilson"]
[102,{"$f":"VLOOKUP(tblData[[#This Row],[Indicator ID]],'Similar 10 CCGs'!$A$6:$C$160,3,FALSE)","v":"Atrial Fibrillation Prevalence"},"2011/12","03E",3128,null,159597,1.96,1.89,2.0299999999999998,14.81343820915319,15.657262406805764,null,1.8959999999999997,1.7939999999999998,"B","Y54","X24","1021","Wilson"]
[102,{"$f":"VLOOKUP(tblData[[#This Row],[Indicator ID]],'Similar 10 CCGs'!$A$6:$C$160,3,FALSE)","v":"Atrial Fibrillation Prevalence"},"2011/12","03F",3541,null,290050,1.22,1.18,1.26,14.81343820915319,15.657262406805764,null,1.579,1.5,"C","Y54","X24","1021","Wilson"]
[102,{"$f":"VLOOKUP(tblData[[#This Row],[Indicator ID]],'Similar 10 CCGs'!$A$6:$C$160,3,FALSE)","v":"Atrial Fibrillation Prevalence"},"2011/12","03G",3670,null,258661,1.42,1.38,1.47,14.81343820915319,15.657262406805764,null,1.4029999999999998,1.3220000000000001,"A","Y54","X24","1021","Wilson"]
[102,{"$f":"VLOOKUP(tblData[[#This Row],[Indicator ID]],'Similar 10 CCGs'!$A$6:$C$160,3,FALSE)","v":"Atrial Fibrillation Prevalence"},"2011/12","03H",2850,null,167731,1.7,1.64,1.76,14.81343820915319,15.657262406805764,null,1.7039999999999995,1.6179999999999997,"A","Y54","X24","1021","Wilson"]
[102,{"$f":"VLOOKUP(tblData[[#This Row],[Indicator ID]],'Similar 10 CCGs'!$A$6:$C$160,3,FALSE)","v":"Atrial Fibrillation Prevalence"},"2011/12","03J",2248,null,185008,1.22,1.17,1.27,14.81343820915319,15.657262406805764,null,1.252,1.1400000000000001,"B","Y54","X24","1021","Wilson"]
[102,{"$f":"VLOOKUP(tblData[[#This Row],[Indicator ID]],'Similar 10 CCGs'!$A$6:$C$160,3,FALSE)","v":"Atrial Fibrillation Prevalence"},"2011/12","03K",2702,null,168661,1.6,1.54,1.66,14.81343820915319,15.657262406805764,null,1.722,1.5779999999999998,"","Y54","X24","1021","Wilson"]
[102,{"$f":"VLOOKUP(tblData[[#This Row],[Indicator ID]],'Similar 10 CCGs'!$A$6:$C$160,3,FALSE)","v":"Atrial Fibrillation Prevalence"},"2011/12","03L",4010,null,254708,1.57,1.52,1.62,14.81343820915319,15.657262406805764,null,1.6519999999999999,1.552,"","Y54","X24","1021","Wilson"]
[102,{"$f":"VLOOKUP(tblData[[#This Row],[Indicator ID]],'Similar 10 CCGs'!$A$6:$C$160,3,FALSE)","v":"Atrial Fibrillation Prevalence"},"2011/12","03M",2397,null,118017,2.0299999999999998,1.95,2.11,14.81343820915319,15.657262406805764,null,2.0060000000000002,1.8900000000000001,"B","Y54","X24","1021","Wilson"]
[102,{"$f":"VLOOKUP(tblData[[#This Row],[Indicator ID]],'Similar 10 CCGs'!$A$6:$C$160,3,FALSE)","v":"Atrial Fibrillation Prevalence"},"2011/12","03N",9160,null,565185,1.62,1.59,1.65,14.81343820915319,15.657262406805764,null,1.4090000000000003,1.284,"A","Y54","X24","1021","Wilson"]
[102,{"$f":"VLOOKUP(tblData[[#This Row],[Indicator ID]],'Similar 10 CCGs'!$A$6:$C$160,3,FALSE)","v":"Atrial Fibrillation Prevalence"},"2011/12","03Q",5547,null,340298,1.63,1.59,1.67,14.81343820915319,15.657262406805764,null,1.7510000000000001,1.6480000000000001,"","Y54","X24","1021","Wilson"]
[102,{"$f":"VLOOKUP(tblData[[#This Row],[Indicator ID]],'Similar 10 CCGs'!$A$6:$C$160,3,FALSE)","v":"Atrial Fibrillation Prevalence"},"2011/12","03R",5769,null,354100,1.63,1.59,1.67,14.81343820915319,15.657262406805764,null,1.6359999999999999,1.516,"B","Y54","X24","1021","Wilson"]
[102,{"$f":"VLOOKUP(tblData[[#This Row],[Indicator ID]],'Similar 10 CCGs'!$A$6:$C$160,3,FALSE)","v":"Atrial Fibrillation Prevalence"},"2011/12","03T",4987,null,241613,2.06,2,2.12,14.81343820915319,15.366460804327415,null,2.1120000000000001,1.956,"B","Y55","X24","1021","Wilson"]
[102,{"$f":"VLOOKUP(tblData[[#This Row],[Indicator ID]],'Similar 10 CCGs'!$A$6:$C$160,3,FALSE)","v":"Atrial Fibrillation Prevalence"},"2011/12","03V",870,null,69200,1.26,1.18,1.35,14.81343820915319,15.366460804327415,null,1.5210000000000001,1.4179999999999999,"","Y55","X24","1021","Wilson"]
[102,{"$f":"VLOOKUP(tblData[[#This Row],[Indicator ID]],'Similar 10 CCGs'!$A$6:$C$160,3,FALSE)","v":"Atrial Fibrillation Prevalence"},"2011/12","03W",5585,null,315168,1.77,1.72,1.82,14.81343820915319,15.366460804327415,null,1.7550000000000001,1.6259999999999999,"A","Y55","X24","1021","Wilson"]
[102,{"$f":"VLOOKUP(tblData[[#This Row],[Indicator ID]],'Similar 10 CCGs'!$A$6:$C$160,3,FALSE)","v":"Atrial Fibrillation Prevalence"},"2011/12","03X",1555,null,97292,1.6,1.52,1.68,14.81343820915319,15.366460804327415,null,1.5880000000000003,1.502,"B","Y55","X24","1021","Wilson"]
[102,{"$f":"VLOOKUP(tblData[[#This Row],[Indicator ID]],'Similar 10 CCGs'!$A$6:$C$160,3,FALSE)","v":"Atrial Fibrillation Prevalence"},"2011/12","03Y",1732,null,102317,1.69,1.61,1.77,14.81343820915319,15.366460804327415,null,1.613,1.526,"B","Y55","X24","1021","Wilson"]
[102,{"$f":"VLOOKUP(tblData[[#This Row],[Indicator ID]],'Similar 10 CCGs'!$A$6:$C$160,3,FALSE)","v":"Atrial Fibrillation Prevalence"},"2011/12","04C",3260,null,373376,0.87,0.84,0.9,14.81343820915319,15.366460804327415,null,0.94900000000000007,0.81600000000000006,"C","Y55","X24","1021","Wilson"]
[102,{"$f":"VLOOKUP(tblData[[#This Row],[Indicator ID]],'Similar 10 CCGs'!$A$6:$C$160,3,FALSE)","v":"Atrial Fibrillation Prevalence"},"2011/12","04D",3653,null,226047,1.62,1.57,1.67,14.81343820915319,15.366460804327415,null,1.7880000000000003,1.6640000000000001,"","Y55","X24","1021","Wilson"]
[102,{"$f":"VLOOKUP(tblData[[#This Row],[Indicator ID]],'Similar 10 CCGs'!$A$6:$C$160,3,FALSE)","v":"Atrial Fibrillation Prevalence"},"2011/12","04E",2740,null,183762,1.49,1.44,1.55,14.81343820915319,15.366460804327415,null,1.639,1.5880000000000001,"","Y55","X24","1021","Wilson"]
[102,{"$f":"VLOOKUP(tblData[[#This Row],[Indicator ID]],'Similar 10 CCGs'!$A$6:$C$160,3,FALSE)","v":"Atrial Fibrillation Prevalence"},"2011/12","04F",2553,null,265437,0.96,0.92,1,14.81343820915319,15.366460804327415,null,1.3039999999999998,1.1879999999999999,"","Y55","X24","1021","Wilson"]
[102,{"$f":"VLOOKUP(tblData[[#This Row],[Indicator ID]],'Similar 10 CCGs'!$A$6:$C$160,3,FALSE)","v":"Atrial Fibrillation Prevalence"},"2011/12","04G",9201,null,628635,1.46,1.43,1.49,14.81343820915319,15.366460804327415,null,1.577,1.4359999999999999,"","Y55","X24","1021","Wilson"]
[102,{"$f":"VLOOKUP(tblData[[#This Row],[Indicator ID]],'Similar 10 CCGs'!$A$6:$C$160,3,FALSE)","v":"Atrial Fibrillation Prevalence"},"2011/12","04H",2193,null,128014,1.71,1.64,1.78,14.81343820915319,15.366460804327415,null,1.7370000000000001,1.5559999999999998,"","Y55","X24","1021","Wilson"]
[102,{"$f":"VLOOKUP(tblData[[#This Row],[Indicator ID]],'Similar 10 CCGs'!$A$6:$C$160,3,FALSE)","v":"Atrial Fibrillation Prevalence"},"2011/12","04J",5607,null,279817,2,1.95,2.0499999999999998,14.81343820915319,15.366460804327415,null,1.9040000000000004,1.8180000000000001,"A","Y55","X24","1021","Wilson"]
[102,{"$f":"VLOOKUP(tblData[[#This Row],[Indicator ID]],'Similar 10 CCGs'!$A$6:$C$160,3,FALSE)","v":"Atrial Fibrillation Prevalence"},"2011/12","04K",3525,null,347901,1.01,0.98,1.04,14.81343820915319,15.366460804327415,null,1.1970000000000001,1.002,"","Y55","X24","1021","Wilson"]
[102,{"$f":"VLOOKUP(tblData[[#This Row],[Indicator ID]],'Similar 10 CCGs'!$A$6:$C$160,3,FALSE)","v":"Atrial Fibrillation Prevalence"},"2011/12","04L",2367,null,144732,1.64,1.58,1.71,14.81343820915319,15.366460804327415,null,1.6320000000000001,1.5239999999999998,"B","Y55","X24","1021","Wilson"]
[102,{"$f":"VLOOKUP(tblData[[#This Row],[Indicator ID]],'Similar 10 CCGs'!$A$6:$C$160,3,FALSE)","v":"Atrial Fibrillation Prevalence"},"2011/12","04M",1637,null,93461,1.75,1.67,1.84,14.81343820915319,15.366460804327415,null,1.7870000000000001,1.6539999999999999,"A","Y55","X24","1021","Wilson"]
[102,{"$f":"VLOOKUP(tblData[[#This Row],[Indicator ID]],'Similar 10 CCGs'!$A$6:$C$160,3,FALSE)","v":"Atrial Fibrillation Prevalence"},"2011/12","04N",2066,null,121763,1.7,1.63,1.77,14.81343820915319,15.366460804327415,null,1.7589999999999999,1.6600000000000001,"B","Y55","X24","1021","Wilson"]
[102,{"$f":"VLOOKUP(tblData[[#This Row],[Indicator ID]],'Similar 10 CCGs'!$A$6:$C$160,3,FALSE)","v":"Atrial Fibrillation Prevalence"},"2011/12","04Q",2207,null,129209,1.71,1.64,1.78,14.81343820915319,15.366460804327415,null,1.8069999999999999,1.6879999999999999,"","Y55","X24","1021","Wilson"]
[102,{"$f":"VLOOKUP(tblData[[#This Row],[Indicator ID]],'Similar 10 CCGs'!$A$6:$C$160,3,FALSE)","v":"Atrial Fibrillation Prevalence"},"2011/12","04R",8043,null,524920,1.53,1.5,1.56,14.81343820915319,15.366460804327415,null,1.6349999999999998,1.476,"","Y55","X24","1021","Wilson"]
[102,{"$f":"VLOOKUP(tblData[[#This Row],[Indicator ID]],'Similar 10 CCGs'!$A$6:$C$160,3,FALSE)","v":"Atrial Fibrillation Prevalence"},"2011/12","04V",5688,null,368905,1.54,1.5,1.58,14.81343820915319,15.366460804327415,null,1.706,1.5739999999999998,"C","Y55","X24","1021","Wilson"]
[102,{"$f":"VLOOKUP(tblData[[#This Row],[Indicator ID]],'Similar 10 CCGs'!$A$6:$C$160,3,FALSE)","v":"Atrial Fibrillation Prevalence"},"2011/12","04X",2412,null,245730,0.98,0.94,1.02,14.81343820915319,15.366460804327415,null,1.1009999999999998,0.97599999999999998,"","Y55","X24","1021","Wilson"]
[102,{"$f":"VLOOKUP(tblData[[#This Row],[Indicator ID]],'Similar 10 CCGs'!$A$6:$C$160,3,FALSE)","v":"Atrial Fibrillation Prevalence"},"2011/12","04Y",2014,null,131791,1.53,1.47,1.6,14.81343820915319,15.366460804327415,null,1.5680000000000003,1.4919999999999998,"","Y55","X24","1021","Wilson"]
[102,{"$f":"VLOOKUP(tblData[[#This Row],[Indicator ID]],'Similar 10 CCGs'!$A$6:$C$160,3,FALSE)","v":"Atrial Fibrillation Prevalence"},"2011/12","05A",5841,null,463980,1.26,1.23,1.29,14.81343820915319,15.366460804327415,null,1.3849999999999998,1.232,"C","Y55","X24","1021","Wilson"]
[102,{"$f":"VLOOKUP(tblData[[#This Row],[Indicator ID]],'Similar 10 CCGs'!$A$6:$C$160,3,FALSE)","v":"Atrial Fibrillation Prevalence"},"2011/12","05C",5824,null,313830,1.86,1.81,1.91,14.81343820915319,15.366460804327415,null,1.597,1.5220000000000002,"A","Y55","X24","1021","Wilson"]
[102,{"$f":"VLOOKUP(tblData[[#This Row],[Indicator ID]],'Similar 10 CCGs'!$A$6:$C$160,3,FALSE)","v":"Atrial Fibrillation Prevalence"},"2011/12","05D",2130,null,133795,1.59,1.52,1.66,14.81343820915319,15.366460804327415,null,1.645,1.4339999999999999,"","Y55","X24","1021","Wilson"]
[102,{"$f":"VLOOKUP(tblData[[#This Row],[Indicator ID]],'Similar 10 CCGs'!$A$6:$C$160,3,FALSE)","v":"Atrial Fibrillation Prevalence"},"2011/12","05F",3594,null,181868,1.98,1.92,2.0499999999999998,14.81343820915319,15.366460804327415,null,1.9639999999999997,1.8359999999999999,"A","Y55","X24","1021","Wilson"]
[102,{"$f":"VLOOKUP(tblData[[#This Row],[Indicator ID]],'Similar 10 CCGs'!$A$6:$C$160,3,FALSE)","v":"Atrial Fibrillation Prevalence"},"2011/12","05G",3988,null,213223,1.87,1.81,1.93,14.81343820915319,15.366460804327415,null,1.8330000000000002,1.732,"B","Y55","X24","1021","Wilson"]
[102,{"$f":"VLOOKUP(tblData[[#This Row],[Indicator ID]],'Similar 10 CCGs'!$A$6:$C$160,3,FALSE)","v":"Atrial Fibrillation Prevalence"},"2011/12","05H",2528,null,183653,1.38,1.33,1.43,14.81343820915319,15.366460804327415,null,1.6789999999999998,1.5840000000000001,"C","Y55","X24","1021","Wilson"]
[102,{"$f":"VLOOKUP(tblData[[#This Row],[Indicator ID]],'Similar 10 CCGs'!$A$6:$C$160,3,FALSE)","v":"Atrial Fibrillation Prevalence"},"2011/12","05J",2666,null,171390,1.56,1.5,1.62,14.81343820915319,15.366460804327415,null,1.5920000000000001,1.488,"","Y55","X24","1021","Wilson"]
[102,{"$f":"VLOOKUP(tblData[[#This Row],[Indicator ID]],'Similar 10 CCGs'!$A$6:$C$160,3,FALSE)","v":"Atrial Fibrillation Prevalence"},"2011/12","05L",5649,null,531050,1.06,1.03,1.0900000000000001,14.81343820915319,15.366460804327415,null,1.0430000000000001,0.85799999999999998,"","Y55","X24","1021","Wilson"]
[102,{"$f":"VLOOKUP(tblData[[#This Row],[Indicator ID]],'Similar 10 CCGs'!$A$6:$C$160,3,FALSE)","v":"Atrial Fibrillation Prevalence"},"2011/12","05N",5963,null,297973,2,1.95,2.0499999999999998,14.81343820915319,15.366460804327415,null,1.8959999999999997,1.8039999999999998,"A","Y55","X24","1021","Wilson"]
[102,{"$f":"VLOOKUP(tblData[[#This Row],[Indicator ID]],'Similar 10 CCGs'!$A$6:$C$160,3,FALSE)","v":"Atrial Fibrillation Prevalence"},"2011/12","05P",4170,null,235280,1.77,1.72,1.82,14.81343820915319,15.366460804327415,null,1.6099999999999999,1.47,"A","Y55","X24","1021","Wilson"]
[102,{"$f":"VLOOKUP(tblData[[#This Row],[Indicator ID]],'Similar 10 CCGs'!$A$6:$C$160,3,FALSE)","v":"Atrial Fibrillation Prevalence"},"2011/12","05Q",3477,null,209085,1.66,1.61,1.72,14.81343820915319,15.366460804327415,null,1.6000000000000003,1.5,"B","Y55","X24","1021","Wilson"]
[102,{"$f":"VLOOKUP(tblData[[#This Row],[Indicator ID]],'Similar 10 CCGs'!$A$6:$C$160,3,FALSE)","v":"Atrial Fibrillation Prevalence"},"2011/12","05R",4867,null,271512,1.79,1.74,1.84,14.81343820915319,15.366460804327415,null,1.9,1.7899999999999998,"","Y55","X24","1021","Wilson"]
[102,{"$f":"VLOOKUP(tblData[[#This Row],[Indicator ID]],'Similar 10 CCGs'!$A$6:$C$160,3,FALSE)","v":"Atrial Fibrillation Prevalence"},"2011/12","05T",5184,null,292433,1.77,1.72,1.82,14.81343820915319,15.366460804327415,null,1.8959999999999997,1.81,"","Y55","X24","1021","Wilson"]
[102,{"$f":"VLOOKUP(tblData[[#This Row],[Indicator ID]],'Similar 10 CCGs'!$A$6:$C$160,3,FALSE)","v":"Atrial Fibrillation Prevalence"},"2011/12","05V",2643,null,144593,1.83,1.76,1.9,14.81343820915319,15.366460804327415,null,1.9040000000000004,1.798,"B","Y55","X24","1021","Wilson"]
[102,{"$f":"VLOOKUP(tblData[[#This Row],[Indicator ID]],'Similar 10 CCGs'!$A$6:$C$160,3,FALSE)","v":"Atrial Fibrillation Prevalence"},"2011/12","05W",4221,null,278090,1.52,1.48,1.57,14.81343820915319,15.366460804327415,null,1.5,1.3779999999999999,"B","Y55","X24","1021","Wilson"]
[102,{"$f":"VLOOKUP(tblData[[#This Row],[Indicator ID]],'Similar 10 CCGs'!$A$6:$C$160,3,FALSE)","v":"Atrial Fibrillation Prevalence"},"2011/12","05X",2294,null,172024,1.33,1.28,1.39,14.81343820915319,15.366460804327415,null,1.444,1.34,"","Y55","X24","1021","Wilson"]
[102,{"$f":"VLOOKUP(tblData[[#This Row],[Indicator ID]],'Similar 10 CCGs'!$A$6:$C$160,3,FALSE)","v":"Atrial Fibrillation Prevalence"},"2011/12","05Y",4019,null,270491,1.49,1.44,1.54,14.81343820915319,15.366460804327415,null,1.3540000000000001,1.232,"B","Y55","X24","1021","Wilson"]
[102,{"$f":"VLOOKUP(tblData[[#This Row],[Indicator ID]],'Similar 10 CCGs'!$A$6:$C$160,3,FALSE)","v":"Atrial Fibrillation Prevalence"},"2011/12","06A",3868,null,260354,1.49,1.44,1.54,14.81343820915319,15.366460804327415,null,1.3839999999999999,1.2559999999999998,"B","Y55","X24","1021","Wilson"]
[102,{"$f":"VLOOKUP(tblData[[#This Row],[Indicator ID]],'Similar 10 CCGs'!$A$6:$C$160,3,FALSE)","v":"Atrial Fibrillation Prevalence"},"2011/12","06D",2207,null,112154,1.97,1.89,2.0499999999999998,14.81343820915319,15.366460804327415,null,1.825,1.6519999999999999,"B","Y55","X24","1021","Wilson"]
[102,{"$f":"VLOOKUP(tblData[[#This Row],[Indicator ID]],'Similar 10 CCGs'!$A$6:$C$160,3,FALSE)","v":"Atrial Fibrillation Prevalence"},"2011/12","06F",6382,null,436707,1.46,1.42,1.5,14.81343820915319,15.366460804327415,null,1.5489999999999999,1.472,"B","Y55","X24","1021","Wilson"]
[102,{"$f":"VLOOKUP(tblData[[#This Row],[Indicator ID]],'Similar 10 CCGs'!$A$6:$C$160,3,FALSE)","v":"Atrial Fibrillation Prevalence"},"2011/12","06H",12091,null,862150,1.4,1.38,1.42,14.81343820915319,15.366460804327415,null,1.7050000000000001,1.4680000000000002,"","Y55","X24","1021","Wilson"]
[102,{"$f":"VLOOKUP(tblData[[#This Row],[Indicator ID]],'Similar 10 CCGs'!$A$6:$C$160,3,FALSE)","v":"Atrial Fibrillation Prevalence"},"2011/12","06K",8315,null,566468,1.47,1.44,1.5,14.81343820915319,15.366460804327415,null,1.597,1.472,"","Y55","X24","1021","Wilson"]
[102,{"$f":"VLOOKUP(tblData[[#This Row],[Indicator ID]],'Similar 10 CCGs'!$A$6:$C$160,3,FALSE)","v":"Atrial Fibrillation Prevalence"},"2011/12","06L",6804,null,387143,1.76,1.72,1.8,14.81343820915319,15.366460804327415,null,1.8009999999999997,1.6759999999999997,"C","Y55","X24","1021","Wilson"]
[102,{"$f":"VLOOKUP(tblData[[#This Row],[Indicator ID]],'Similar 10 CCGs'!$A$6:$C$160,3,FALSE)","v":"Atrial Fibrillation Prevalence"},"2011/12","06M",4418,null,230830,1.91,1.86,1.97,14.81343820915319,15.366460804327415,null,2.0089999999999999,1.9039999999999999,"","Y55","X24","1021","Wilson"]
[102,{"$f":"VLOOKUP(tblData[[#This Row],[Indicator ID]],'Similar 10 CCGs'!$A$6:$C$160,3,FALSE)","v":"Atrial Fibrillation Prevalence"},"2011/12","06N",8878,null,599780,1.48,1.45,1.51,14.81343820915319,15.366460804327415,null,1.532,1.47,"B","Y55","X24","1021","Wilson"]
[102,{"$f":"VLOOKUP(tblData[[#This Row],[Indicator ID]],'Similar 10 CCGs'!$A$6:$C$160,3,FALSE)","v":"Atrial Fibrillation Prevalence"},"2011/12","06P",1956,null,213020,0.92,0.88,0.96,14.81343820915319,15.366460804327415,null,1.034,0.88400000000000001,"","Y55","X24","1021","Wilson"]
[102,{"$f":"VLOOKUP(tblData[[#This Row],[Indicator ID]],'Similar 10 CCGs'!$A$6:$C$160,3,FALSE)","v":"Atrial Fibrillation Prevalence"},"2011/12","06Q",5489,null,379032,1.45,1.41,1.49,14.81343820915319,15.366460804327415,null,1.6079999999999999,1.4979999999999998,"C","Y55","X24","1021","Wilson"]
[102,{"$f":"VLOOKUP(tblData[[#This Row],[Indicator ID]],'Similar 10 CCGs'!$A$6:$C$160,3,FALSE)","v":"Atrial Fibrillation Prevalence"},"2011/12","06T",6243,null,327531,1.91,1.86,1.96,14.81343820915319,15.366460804327415,null,1.895,1.782,"A","Y55","X24","1021","Wilson"]
[102,{"$f":"VLOOKUP(tblData[[#This Row],[Indicator ID]],'Similar 10 CCGs'!$A$6:$C$160,3,FALSE)","v":"Atrial Fibrillation Prevalence"},"2011/12","06V",4159,null,167483,2.48,2.41,2.56,14.81343820915319,15.366460804327415,null,2.0859999999999999,1.9239999999999999,"A","Y55","X24","1021","Wilson"]
[102,{"$f":"VLOOKUP(tblData[[#This Row],[Indicator ID]],'Similar 10 CCGs'!$A$6:$C$160,3,FALSE)","v":"Atrial Fibrillation Prevalence"},"2011/12","06W",3027,null,208562,1.45,1.4,1.5,14.81343820915319,15.366460804327415,null,1.641,1.484,"","Y55","X24","1021","Wilson"]
[102,{"$f":"VLOOKUP(tblData[[#This Row],[Indicator ID]],'Similar 10 CCGs'!$A$6:$C$160,3,FALSE)","v":"Atrial Fibrillation Prevalence"},"2011/12","06Y",4296,null,220178,1.95,1.89,2.0099999999999998,14.81343820915319,15.366460804327415,null,1.8340000000000001,1.722,"B","Y55","X24","1021","Wilson"]
[102,{"$f":"VLOOKUP(tblData[[#This Row],[Indicator ID]],'Similar 10 CCGs'!$A$6:$C$160,3,FALSE)","v":"Atrial Fibrillation Prevalence"},"2011/12","07G",1869,null,161318,1.1599999999999999,1.1100000000000001,1.21,14.81343820915319,15.366460804327415,null,1.3199999999999998,1.206,"B","Y55","X24","1021","Wilson"]
[102,{"$f":"VLOOKUP(tblData[[#This Row],[Indicator ID]],'Similar 10 CCGs'!$A$6:$C$160,3,FALSE)","v":"Atrial Fibrillation Prevalence"},"2011/12","07H",4428,null,291230,1.52,1.48,1.57,14.81343820915319,15.366460804327415,null,1.591,1.4159999999999999,"","Y55","X24","1021","Wilson"]
[102,{"$f":"VLOOKUP(tblData[[#This Row],[Indicator ID]],'Similar 10 CCGs'!$A$6:$C$160,3,FALSE)","v":"Atrial Fibrillation Prevalence"},"2011/12","07J",3878,null,164506,2.36,2.29,2.4300000000000002,14.81343820915319,15.366460804327415,null,2.0570000000000004,1.9460000000000002,"A","Y55","X24","1021","Wilson"]
[102,{"$f":"VLOOKUP(tblData[[#This Row],[Indicator ID]],'Similar 10 CCGs'!$A$6:$C$160,3,FALSE)","v":"Atrial Fibrillation Prevalence"},"2011/12","07K",3957,null,236634,1.67,1.62,1.72,14.81343820915319,15.366460804327415,null,1.8919999999999999,1.796,"","Y55","X24","1021","Wilson"]
[102,{"$f":"VLOOKUP(tblData[[#This Row],[Indicator ID]],'Similar 10 CCGs'!$A$6:$C$160,3,FALSE)","v":"Atrial Fibrillation Prevalence"},"2011/12","07L",1578,null,201601,0.78,0.74,0.82,14.81343820915319,8.778934067068576,null,0.87799999999999989,0.76600000000000013,"","Y56","X24","1021","Wilson"]
[102,{"$f":"VLOOKUP(tblData[[#This Row],[Indicator ID]],'Similar 10 CCGs'!$A$6:$C$160,3,FALSE)","v":"Atrial Fibrillation Prevalence"},"2011/12","07M",4355,null,378983,1.1499999999999999,1.1200000000000001,1.18,14.81343820915319,8.778934067068576,null,1.2890000000000001,1.1200000000000001,"","Y56","X24","1021","Wilson"]
[102,{"$f":"VLOOKUP(tblData[[#This Row],[Indicator ID]],'Similar 10 CCGs'!$A$6:$C$160,3,FALSE)","v":"Atrial Fibrillation Prevalence"},"2011/12","07N",3147,null,228448,1.38,1.33,1.43,14.81343820915319,8.778934067068576,null,1.36,1.222,"","Y56","X24","1021","Wilson"]
[102,{"$f":"VLOOKUP(tblData[[#This Row],[Indicator ID]],'Similar 10 CCGs'!$A$6:$C$160,3,FALSE)","v":"Atrial Fibrillation Prevalence"},"2011/12","07P",2301,null,333639,0.69,0.66,0.72,14.81343820915319,8.778934067068576,null,0.83299999999999996,0.74399999999999988,"","Y56","X24","1021","Wilson"]
[102,{"$f":"VLOOKUP(tblData[[#This Row],[Indicator ID]],'Similar 10 CCGs'!$A$6:$C$160,3,FALSE)","v":"Atrial Fibrillation Prevalence"},"2011/12","07Q",5107,null,325750,1.57,1.53,1.61,14.81343820915319,8.778934067068576,null,1.498,1.4159999999999999,"A","Y56","X24","1021","Wilson"]
[102,{"$f":"VLOOKUP(tblData[[#This Row],[Indicator ID]],'Similar 10 CCGs'!$A$6:$C$160,3,FALSE)","v":"Atrial Fibrillation Prevalence"},"2011/12","07R",2182,null,258783,0.84,0.81,0.88,14.81343820915319,8.778934067068576,null,1.0669999999999999,0.88400000000000001,"A","Y56","X24","1021","Wilson"]
[102,{"$f":"VLOOKUP(tblData[[#This Row],[Indicator ID]],'Similar 10 CCGs'!$A$6:$C$160,3,FALSE)","v":"Atrial Fibrillation Prevalence"},"2011/12","07T",1727,null,286478,0.6,0.56999999999999995,0.63,14.81343820915319,8.778934067068576,null,0.70699999999999996,0.6359999999999999,"","Y56","X24","1021","Wilson"]
[102,{"$f":"VLOOKUP(tblData[[#This Row],[Indicator ID]],'Similar 10 CCGs'!$A$6:$C$160,3,FALSE)","v":"Atrial Fibrillation Prevalence"},"2011/12","07V",3501,null,383343,0.91,0.88,0.94,14.81343820915319,8.778934067068576,null,0.8630000000000001,0.70600000000000007,"C","Y56","X24","1021","Wilson"]
[102,{"$f":"VLOOKUP(tblData[[#This Row],[Indicator ID]],'Similar 10 CCGs'!$A$6:$C$160,3,FALSE)","v":"Atrial Fibrillation Prevalence"},"2011/12","07W",3366,null,393933,0.85,0.82,0.88,14.81343820915319,8.778934067068576,null,0.91200000000000014,0.78800000000000003,"B","Y56","X24","1021","Wilson"]
[102,{"$f":"VLOOKUP(tblData[[#This Row],[Indicator ID]],'Similar 10 CCGs'!$A$6:$C$160,3,FALSE)","v":"Atrial Fibrillation Prevalence"},"2011/12","07X",3032,null,288724,1.05,1.01,1.0900000000000001,14.81343820915319,8.778934067068576,null,0.98900000000000021,0.81800000000000017,"","Y56","X24","1021","Wilson"]
[102,{"$f":"VLOOKUP(tblData[[#This Row],[Indicator ID]],'Similar 10 CCGs'!$A$6:$C$160,3,FALSE)","v":"Atrial Fibrillation Prevalence"},"2011/12","07Y",2302,null,280205,0.82,0.79,0.85,14.81343820915319,8.778934067068576,null,0.88600000000000012,0.76400000000000001,"B","Y56","X24","1021","Wilson"]
[102,{"$f":"VLOOKUP(tblData[[#This Row],[Indicator ID]],'Similar 10 CCGs'!$A$6:$C$160,3,FALSE)","v":"Atrial Fibrillation Prevalence"},"2011/12","08A",2354,null,276087,0.85,0.82,0.88,14.81343820915319,8.778934067068576,null,0.84299999999999997,0.70600000000000007,"","Y56","X24","1021","Wilson"]
[102,{"$f":"VLOOKUP(tblData[[#This Row],[Indicator ID]],'Similar 10 CCGs'!$A$6:$C$160,3,FALSE)","v":"Atrial Fibrillation Prevalence"},"2011/12","08C",1595,null,198466,0.8,0.76,0.84,14.81343820915319,8.778934067068576,null,0.73099999999999987,0.63,"A","Y56","X24","1021","Wilson"]
[102,{"$f":"VLOOKUP(tblData[[#This Row],[Indicator ID]],'Similar 10 CCGs'!$A$6:$C$160,3,FALSE)","v":"Atrial Fibrillation Prevalence"},"2011/12","08D",1711,null,273462,0.63,0.6,0.66,14.81343820915319,8.778934067068576,null,0.78299999999999992,0.68599999999999994,"C","Y56","X24","1021","Wilson"]
[102,{"$f":"VLOOKUP(tblData[[#This Row],[Indicator ID]],'Similar 10 CCGs'!$A$6:$C$160,3,FALSE)","v":"Atrial Fibrillation Prevalence"},"2011/12","08E",2443,null,224682,1.0900000000000001,1.05,1.1299999999999999,14.81343820915319,8.778934067068576,null,0.95799999999999996,0.83000000000000007,"","Y56","X24","1021","Wilson"]
[102,{"$f":"VLOOKUP(tblData[[#This Row],[Indicator ID]],'Similar 10 CCGs'!$A$6:$C$160,3,FALSE)","v":"Atrial Fibrillation Prevalence"},"2011/12","08F",3525,null,257279,1.37,1.33,1.42,14.81343820915319,8.778934067068576,null,1.6339999999999997,1.5240000000000002,"C","Y56","X24","1021","Wilson"]
[102,{"$f":"VLOOKUP(tblData[[#This Row],[Indicator ID]],'Similar 10 CCGs'!$A$6:$C$160,3,FALSE)","v":"Atrial Fibrillation Prevalence"},"2011/12","08G",3130,null,282436,1.1100000000000001,1.07,1.1499999999999999,14.81343820915319,8.778934067068576,null,1.1340000000000001,0.96200000000000008,"","Y56","X24","1021","Wilson"]
[102,{"$f":"VLOOKUP(tblData[[#This Row],[Indicator ID]],'Similar 10 CCGs'!$A$6:$C$160,3,FALSE)","v":"Atrial Fibrillation Prevalence"},"2011/12","08H",1779,null,220190,0.81,0.77,0.85,14.81343820915319,8.778934067068576,null,0.73799999999999999,0.62399999999999989,"A","Y56","X24","1021","Wilson"]
[102,{"$f":"VLOOKUP(tblData[[#This Row],[Indicator ID]],'Similar 10 CCGs'!$A$6:$C$160,3,FALSE)","v":"Atrial Fibrillation Prevalence"},"2011/12","08J",2037,null,188991,1.08,1.03,1.1299999999999999,14.81343820915319,8.778934067068576,null,1.3099999999999998,1.206,"C","Y56","X24","1021","Wilson"]
[102,{"$f":"VLOOKUP(tblData[[#This Row],[Indicator ID]],'Similar 10 CCGs'!$A$6:$C$160,3,FALSE)","v":"Atrial Fibrillation Prevalence"},"2011/12","08K",2116,null,381991,0.55000000000000004,0.53,0.56999999999999995,14.81343820915319,8.778934067068576,null,0.67299999999999993,0.58799999999999997,"C","Y56","X24","1021","Wilson"]
[102,{"$f":"VLOOKUP(tblData[[#This Row],[Indicator ID]],'Similar 10 CCGs'!$A$6:$C$160,3,FALSE)","v":"Atrial Fibrillation Prevalence"},"2011/12","08L",2162,null,306263,0.71,0.68,0.74,14.81343820915319,8.778934067068576,null,0.70399999999999996,0.61399999999999999,"C","Y56","X24","1021","Wilson"]
[102,{"$f":"VLOOKUP(tblData[[#This Row],[Indicator ID]],'Similar 10 CCGs'!$A$6:$C$160,3,FALSE)","v":"Atrial Fibrillation Prevalence"},"2011/12","08M",1529,null,368016,0.42,0.4,0.44,14.81343820915319,8.778934067068576,null,0.76800000000000002,0.61999999999999988,"C","Y56","X24","1021","Wilson"]
[102,{"$f":"VLOOKUP(tblData[[#This Row],[Indicator ID]],'Similar 10 CCGs'!$A$6:$C$160,3,FALSE)","v":"Atrial Fibrillation Prevalence"},"2011/12","08N",2408,null,287529,0.84,0.81,0.87,14.81343820915319,8.778934067068576,null,0.99199999999999999,0.85799999999999998,"","Y56","X24","1021","Wilson"]
[102,{"$f":"VLOOKUP(tblData[[#This Row],[Indicator ID]],'Similar 10 CCGs'!$A$6:$C$160,3,FALSE)","v":"Atrial Fibrillation Prevalence"},"2011/12","08P",2577,null,197994,1.3,1.25,1.35,14.81343820915319,8.778934067068576,null,1.3460000000000001,1.234,"A","Y56","X24","1021","Wilson"]
[102,{"$f":"VLOOKUP(tblData[[#This Row],[Indicator ID]],'Similar 10 CCGs'!$A$6:$C$160,3,FALSE)","v":"Atrial Fibrillation Prevalence"},"2011/12","08Q",1975,null,327517,0.6,0.56999999999999995,0.63,14.81343820915319,8.778934067068576,null,0.70700000000000007,0.6359999999999999,"","Y56","X24","1021","Wilson"]
[102,{"$f":"VLOOKUP(tblData[[#This Row],[Indicator ID]],'Similar 10 CCGs'!$A$6:$C$160,3,FALSE)","v":"Atrial Fibrillation Prevalence"},"2011/12","08R",1993,null,212502,0.94,0.9,0.98,14.81343820915319,8.778934067068576,null,1.02,0.83599999999999997,"","Y56","X24","1021","Wilson"]
[102,{"$f":"VLOOKUP(tblData[[#This Row],[Indicator ID]],'Similar 10 CCGs'!$A$6:$C$160,3,FALSE)","v":"Atrial Fibrillation Prevalence"},"2011/12","08T",2126,null,184345,1.1499999999999999,1.1000000000000001,1.2,14.81343820915319,8.778934067068576,null,1.4080000000000001,1.2500000000000002,"C","Y56","X24","1021","Wilson"]
[102,{"$f":"VLOOKUP(tblData[[#This Row],[Indicator ID]],'Similar 10 CCGs'!$A$6:$C$160,3,FALSE)","v":"Atrial Fibrillation Prevalence"},"2011/12","08V",1374,null,278239,0.49,0.46,0.52,14.81343820915319,8.778934067068576,null,0.83599999999999997,0.75199999999999989,"C","Y56","X24","1021","Wilson"]
[102,{"$f":"VLOOKUP(tblData[[#This Row],[Indicator ID]],'Similar 10 CCGs'!$A$6:$C$160,3,FALSE)","v":"Atrial Fibrillation Prevalence"},"2011/12","08W",2128,null,293890,0.72,0.69,0.75,14.81343820915319,8.778934067068576,null,0.80199999999999994,0.68200000000000005,"","Y56","X24","1021","Wilson"]
[102,{"$f":"VLOOKUP(tblData[[#This Row],[Indicator ID]],'Similar 10 CCGs'!$A$6:$C$160,3,FALSE)","v":"Atrial Fibrillation Prevalence"},"2011/12","08X",2510,null,353385,0.71,0.68,0.74,14.81343820915319,8.778934067068576,null,0.84199999999999997,0.73,"","Y56","X24","1021","Wilson"]
[102,{"$f":"VLOOKUP(tblData[[#This Row],[Indicator ID]],'Similar 10 CCGs'!$A$6:$C$160,3,FALSE)","v":"Atrial Fibrillation Prevalence"},"2011/12","08Y",2109,null,224877,0.94,0.9,0.98,14.81343820915319,8.778934067068576,null,0.90800000000000003,0.7579999999999999,"A","Y56","X24","1021","Wilson"]
[102,{"$f":"VLOOKUP(tblData[[#This Row],[Indicator ID]],'Similar 10 CCGs'!$A$6:$C$160,3,FALSE)","v":"Atrial Fibrillation Prevalence"},"2011/12","09A",1882,null,193826,0.97,0.93,1.01,14.81343820915319,8.778934067068576,null,1.0430000000000001,0.82,"A","Y56","X24","1021","Wilson"]
[102,{"$f":"VLOOKUP(tblData[[#This Row],[Indicator ID]],'Similar 10 CCGs'!$A$6:$C$160,3,FALSE)","v":"Atrial Fibrillation Prevalence"},"2011/12","09C",2393,null,123049,1.94,1.86,2.02,14.81343820915319,17.005651152195064,null,1.5640000000000001,1.3780000000000001,"A","Y57","X24","1021","Wilson"]
[102,{"$f":"VLOOKUP(tblData[[#This Row],[Indicator ID]],'Similar 10 CCGs'!$A$6:$C$160,3,FALSE)","v":"Atrial Fibrillation Prevalence"},"2011/12","09D",3647,null,302041,1.21,1.17,1.25,14.81343820915319,17.005651152195064,null,1.4730000000000001,1.3419999999999999,"C","Y57","X24","1021","Wilson"]
[102,{"$f":"VLOOKUP(tblData[[#This Row],[Indicator ID]],'Similar 10 CCGs'!$A$6:$C$160,3,FALSE)","v":"Atrial Fibrillation Prevalence"},"2011/12","09E",3735,null,212778,1.76,1.7,1.82,14.81343820915319,17.005651152195064,null,1.6349999999999998,1.508,"A","Y57","X24","1021","Wilson"]
[102,{"$f":"VLOOKUP(tblData[[#This Row],[Indicator ID]],'Similar 10 CCGs'!$A$6:$C$160,3,FALSE)","v":"Atrial Fibrillation Prevalence"},"2011/12","09F",4751,null,185366,2.56,2.4900000000000002,2.63,14.81343820915319,17.005651152195064,null,2.1090000000000004,1.9460000000000002,"A","Y57","X24","1021","Wilson"]
[102,{"$f":"VLOOKUP(tblData[[#This Row],[Indicator ID]],'Similar 10 CCGs'!$A$6:$C$160,3,FALSE)","v":"Atrial Fibrillation Prevalence"},"2011/12","09G",10828,null,486276,2.23,2.19,2.27,14.81343820915319,17.005651152195064,null,2.0019999999999998,1.9019999999999999,"A","Y57","X24","1021","Wilson"]
[102,{"$f":"VLOOKUP(tblData[[#This Row],[Indicator ID]],'Similar 10 CCGs'!$A$6:$C$160,3,FALSE)","v":"Atrial Fibrillation Prevalence"},"2011/12","09H",1634,null,125753,1.3,1.24,1.36,14.81343820915319,17.005651152195064,null,1.391,1.264,"B","Y57","X24","1021","Wilson"]
[102,{"$f":"VLOOKUP(tblData[[#This Row],[Indicator ID]],'Similar 10 CCGs'!$A$6:$C$160,3,FALSE)","v":"Atrial Fibrillation Prevalence"},"2011/12","09J",3684,null,249384,1.48,1.43,1.53,14.81343820915319,17.005651152195064,null,1.482,1.3800000000000001,"","Y57","X24","1021","Wilson"]
[102,{"$f":"VLOOKUP(tblData[[#This Row],[Indicator ID]],'Similar 10 CCGs'!$A$6:$C$160,3,FALSE)","v":"Atrial Fibrillation Prevalence"},"2011/12","09L",2771,null,170399,1.63,1.57,1.69,14.81343820915319,17.005651152195064,null,1.5109999999999999,1.3980000000000001,"A","Y57","X24","1021","Wilson"]
[102,{"$f":"VLOOKUP(tblData[[#This Row],[Indicator ID]],'Similar 10 CCGs'!$A$6:$C$160,3,FALSE)","v":"Atrial Fibrillation Prevalence"},"2011/12","09N",3490,null,213404,1.64,1.59,1.69,14.81343820915319,17.005651152195064,null,1.738,1.61,"B","Y57","X24","1021","Wilson"]
[102,{"$f":"VLOOKUP(tblData[[#This Row],[Indicator ID]],'Similar 10 CCGs'!$A$6:$C$160,3,FALSE)","v":"Atrial Fibrillation Prevalence"},"2011/12","09P",3862,null,183565,2.1,2.04,2.17,14.81343820915319,17.005651152195064,null,2.0789999999999997,1.9460000000000002,"B","Y57","X24","1021","Wilson"]
[102,{"$f":"VLOOKUP(tblData[[#This Row],[Indicator ID]],'Similar 10 CCGs'!$A$6:$C$160,3,FALSE)","v":"Atrial Fibrillation Prevalence"},"2011/12","09W",3607,null,281126,1.28,1.24,1.32,14.81343820915319,17.005651152195064,null,1.454,1.3599999999999999,"B","Y57","X24","1021","Wilson"]
[102,{"$f":"VLOOKUP(tblData[[#This Row],[Indicator ID]],'Similar 10 CCGs'!$A$6:$C$160,3,FALSE)","v":"Atrial Fibrillation Prevalence"},"2011/12","09X",3708,null,224363,1.65,1.6,1.7,14.81343820915319,17.005651152195064,null,1.637,1.4979999999999998,"B","Y57","X24","1021","Wilson"]
[102,{"$f":"VLOOKUP(tblData[[#This Row],[Indicator ID]],'Similar 10 CCGs'!$A$6:$C$160,3,FALSE)","v":"Atrial Fibrillation Prevalence"},"2011/12","09Y",5277,null,349206,1.51,1.47,1.55,14.81343820915319,17.005651152195064,null,1.528,1.4360000000000002,"","Y57","X24","1021","Wilson"]
[102,{"$f":"VLOOKUP(tblData[[#This Row],[Indicator ID]],'Similar 10 CCGs'!$A$6:$C$160,3,FALSE)","v":"Atrial Fibrillation Prevalence"},"2011/12","10A",4089,null,199887,2.0499999999999998,1.99,2.11,14.81343820915319,17.005651152195064,null,1.841,1.6580000000000001,"A","Y57","X24","1021","Wilson"]
[102,{"$f":"VLOOKUP(tblData[[#This Row],[Indicator ID]],'Similar 10 CCGs'!$A$6:$C$160,3,FALSE)","v":"Atrial Fibrillation Prevalence"},"2011/12","10C",1277,null,90403,1.41,1.34,1.49,14.81343820915319,17.005651152195064,null,1.5059999999999998,1.33,"","Y57","X24","1021","Wilson"]
[102,{"$f":"VLOOKUP(tblData[[#This Row],[Indicator ID]],'Similar 10 CCGs'!$A$6:$C$160,3,FALSE)","v":"Atrial Fibrillation Prevalence"},"2011/12","10D",1440,null,106368,1.35,1.28,1.42,14.81343820915319,17.005651152195064,null,1.6119999999999997,1.452,"C","Y57","X24","1021","Wilson"]
[102,{"$f":"VLOOKUP(tblData[[#This Row],[Indicator ID]],'Similar 10 CCGs'!$A$6:$C$160,3,FALSE)","v":"Atrial Fibrillation Prevalence"},"2011/12","10E",2716,null,140872,1.93,1.86,2,14.81343820915319,17.005651152195064,null,1.778,1.6960000000000002,"A","Y57","X24","1021","Wilson"]
[102,{"$f":"VLOOKUP(tblData[[#This Row],[Indicator ID]],'Similar 10 CCGs'!$A$6:$C$160,3,FALSE)","v":"Atrial Fibrillation Prevalence"},"2011/12","10G",1612,null,136117,1.18,1.1200000000000001,1.24,14.81343820915319,17.005651152195064,null,1.4440000000000002,1.3300000000000003,"C","Y57","X24","1021","Wilson"]
[102,{"$f":"VLOOKUP(tblData[[#This Row],[Indicator ID]],'Similar 10 CCGs'!$A$6:$C$160,3,FALSE)","v":"Atrial Fibrillation Prevalence"},"2011/12","10H",5138,null,322894,1.59,1.55,1.63,14.81343820915319,17.005651152195064,null,1.512,1.4079999999999999,"A","Y57","X24","1021","Wilson"]
[102,{"$f":"VLOOKUP(tblData[[#This Row],[Indicator ID]],'Similar 10 CCGs'!$A$6:$C$160,3,FALSE)","v":"Atrial Fibrillation Prevalence"},"2011/12","10J",2805,null,214526,1.31,1.26,1.36,14.81343820915319,17.005651152195064,null,1.49,1.3939999999999999,"C","Y57","X24","1021","Wilson"]
[102,{"$f":"VLOOKUP(tblData[[#This Row],[Indicator ID]],'Similar 10 CCGs'!$A$6:$C$160,3,FALSE)","v":"Atrial Fibrillation Prevalence"},"2011/12","10K",3575,null,199679,1.79,1.73,1.85,14.81343820915319,17.005651152195064,null,1.7080000000000002,1.5939999999999999,"A","Y57","X24","1021","Wilson"]
[102,{"$f":"VLOOKUP(tblData[[#This Row],[Indicator ID]],'Similar 10 CCGs'!$A$6:$C$160,3,FALSE)","v":"Atrial Fibrillation Prevalence"},"2011/12","10L",2794,null,140954,1.98,1.91,2.0499999999999998,14.81343820915319,17.005651152195064,null,2.0950000000000002,1.9600000000000002,"","Y57","X24","1021","Wilson"]
[102,{"$f":"VLOOKUP(tblData[[#This Row],[Indicator ID]],'Similar 10 CCGs'!$A$6:$C$160,3,FALSE)","v":"Atrial Fibrillation Prevalence"},"2011/12","10M",1541,null,113978,1.35,1.28,1.42,14.81343820915319,17.005651152195064,null,1.64,1.518,"C","Y57","X24","1021","Wilson"]
[102,{"$f":"VLOOKUP(tblData[[#This Row],[Indicator ID]],'Similar 10 CCGs'!$A$6:$C$160,3,FALSE)","v":"Atrial Fibrillation Prevalence"},"2011/12","10N",1397,null,107019,1.31,1.24,1.38,14.81343820915319,17.005651152195064,null,1.4570000000000001,1.3579999999999999,"","Y57","X24","1021","Wilson"]
[102,{"$f":"VLOOKUP(tblData[[#This Row],[Indicator ID]],'Similar 10 CCGs'!$A$6:$C$160,3,FALSE)","v":"Atrial Fibrillation Prevalence"},"2011/12","10Q",9727,null,694252,1.4,1.37,1.43,14.81343820915319,17.005651152195064,null,1.6460000000000001,1.454,"","Y57","X24","1021","Wilson"]
[102,{"$f":"VLOOKUP(tblData[[#This Row],[Indicator ID]],'Similar 10 CCGs'!$A$6:$C$160,3,FALSE)","v":"Atrial Fibrillation Prevalence"},"2011/12","10R",3047,null,216450,1.41,1.36,1.46,14.81343820915319,17.005651152195064,null,1.3839999999999999,1.2419999999999998,"B","Y57","X24","1021","Wilson"]
[102,{"$f":"VLOOKUP(tblData[[#This Row],[Indicator ID]],'Similar 10 CCGs'!$A$6:$C$160,3,FALSE)","v":"Atrial Fibrillation Prevalence"},"2011/12","10T",1036,null,143386,0.72,0.68,0.77,14.81343820915319,17.005651152195064,null,1.0549999999999999,0.93,"C","Y57","X24","1021","Wilson"]
[102,{"$f":"VLOOKUP(tblData[[#This Row],[Indicator ID]],'Similar 10 CCGs'!$A$6:$C$160,3,FALSE)","v":"Atrial Fibrillation Prevalence"},"2011/12","10V",4004,null,208985,1.92,1.86,1.98,14.81343820915319,17.005651152195064,null,1.8679999999999999,1.746,"A","Y57","X24","1021","Wilson"]
[102,{"$f":"VLOOKUP(tblData[[#This Row],[Indicator ID]],'Similar 10 CCGs'!$A$6:$C$160,3,FALSE)","v":"Atrial Fibrillation Prevalence"},"2011/12","10W",1037,null,129334,0.8,0.75,0.85,14.81343820915319,17.005651152195064,null,1.254,1.1480000000000001,"C","Y57","X24","1021","Wilson"]
[102,{"$f":"VLOOKUP(tblData[[#This Row],[Indicator ID]],'Similar 10 CCGs'!$A$6:$C$160,3,FALSE)","v":"Atrial Fibrillation Prevalence"},"2011/12","10X",3345,null,267022,1.25,1.21,1.29,14.81343820915319,17.005651152195064,null,1.3220000000000001,1.1639999999999999,"B","Y57","X24","1021","Wilson"]
[102,{"$f":"VLOOKUP(tblData[[#This Row],[Indicator ID]],'Similar 10 CCGs'!$A$6:$C$160,3,FALSE)","v":"Atrial Fibrillation Prevalence"},"2011/12","10Y",3053,null,198019,1.54,1.49,1.6,14.81343820915319,17.005651152195064,null,1.5690000000000002,1.4359999999999999,"","Y57","X24","1021","Wilson"]
[102,{"$f":"VLOOKUP(tblData[[#This Row],[Indicator ID]],'Similar 10 CCGs'!$A$6:$C$160,3,FALSE)","v":"Atrial Fibrillation Prevalence"},"2011/12","11A",9865,null,539951,1.83,1.79,1.87,14.81343820915319,17.005651152195064,null,1.7939999999999998,1.6419999999999999,"A","Y57","X24","1021","Wilson"]
[102,{"$f":"VLOOKUP(tblData[[#This Row],[Indicator ID]],'Similar 10 CCGs'!$A$6:$C$160,3,FALSE)","v":"Atrial Fibrillation Prevalence"},"2011/12","11C",2153,null,150550,1.43,1.37,1.49,14.81343820915319,17.005651152195064,null,1.4750000000000001,1.3519999999999999,"B","Y57","X24","1021","Wilson"]
[102,{"$f":"VLOOKUP(tblData[[#This Row],[Indicator ID]],'Similar 10 CCGs'!$A$6:$C$160,3,FALSE)","v":"Atrial Fibrillation Prevalence"},"2011/12","11D",2111,null,154220,1.37,1.31,1.43,14.81343820915319,17.005651152195064,null,1.4750000000000001,1.33,"","Y57","X24","1021","Wilson"]
[102,{"$f":"VLOOKUP(tblData[[#This Row],[Indicator ID]],'Similar 10 CCGs'!$A$6:$C$160,3,FALSE)","v":"Atrial Fibrillation Prevalence"},"2011/12","11E",3316,null,197180,1.68,1.62,1.74,14.81343820915319,17.005651152195064,null,1.7230000000000001,1.5940000000000001,"B","Y57","X24","1021","Wilson"]
[102,{"$f":"VLOOKUP(tblData[[#This Row],[Indicator ID]],'Similar 10 CCGs'!$A$6:$C$160,3,FALSE)","v":"Atrial Fibrillation Prevalence"},"2011/12","11H",5815,null,475661,1.22,1.19,1.25,14.81343820915319,17.005651152195064,null,1.403,1.27,"C","Y57","X24","1021","Wilson"]
[102,{"$f":"VLOOKUP(tblData[[#This Row],[Indicator ID]],'Similar 10 CCGs'!$A$6:$C$160,3,FALSE)","v":"Atrial Fibrillation Prevalence"},"2011/12","11J",16302,null,765896,2.13,2.1,2.16,14.81343820915319,17.005651152195064,null,1.8290000000000002,1.6579999999999999,"A","Y57","X24","1021","Wilson"]
[102,{"$f":"VLOOKUP(tblData[[#This Row],[Indicator ID]],'Similar 10 CCGs'!$A$6:$C$160,3,FALSE)","v":"Atrial Fibrillation Prevalence"},"2011/12","11M",10833,null,615239,1.76,1.73,1.79,14.81343820915319,17.005651152195064,null,1.6950000000000003,1.526,"","Y57","X24","1021","Wilson"]
[102,{"$f":"VLOOKUP(tblData[[#This Row],[Indicator ID]],'Similar 10 CCGs'!$A$6:$C$160,3,FALSE)","v":"Atrial Fibrillation Prevalence"},"2011/12","11N",10613,null,555618,1.91,1.87,1.95,14.81343820915319,17.005651152195064,null,1.9400000000000002,1.8259999999999998,"B","Y57","X24","1021","Wilson"]
[102,{"$f":"VLOOKUP(tblData[[#This Row],[Indicator ID]],'Similar 10 CCGs'!$A$6:$C$160,3,FALSE)","v":"Atrial Fibrillation Prevalence"},"2011/12","11T",4515,null,211203,2.14,2.08,2.2000000000000002,14.81343820915319,17.005651152195064,null,1.8539999999999999,1.764,"A","Y57","X24","1021","Wilson"]
[102,{"$f":"VLOOKUP(tblData[[#This Row],[Indicator ID]],'Similar 10 CCGs'!$A$6:$C$160,3,FALSE)","v":"Atrial Fibrillation Prevalence"},"2011/12","11X",11121,null,543498,2.0499999999999998,2.0099999999999998,2.09,14.81343820915319,17.005651152195064,null,1.8369999999999997,1.718,"A","Y57","X24","1021","Wilson"]
[102,{"$f":"VLOOKUP(tblData[[#This Row],[Indicator ID]],'Similar 10 CCGs'!$A$6:$C$160,3,FALSE)","v":"Atrial Fibrillation Prevalence"},"2011/12","12A",4108,null,256061,1.6,1.55,1.65,14.81343820915319,17.005651152195064,null,1.5210000000000001,1.3699999999999999,"A","Y57","X24","1021","Wilson"]
[102,{"$f":"VLOOKUP(tblData[[#This Row],[Indicator ID]],'Similar 10 CCGs'!$A$6:$C$160,3,FALSE)","v":"Atrial Fibrillation Prevalence"},"2011/12","12D",2982,null,221360,1.35,1.3,1.4,14.81343820915319,17.005651152195064,null,1.4360000000000002,1.3180000000000001,"","Y57","X24","1021","Wilson"]
[102,{"$f":"VLOOKUP(tblData[[#This Row],[Indicator ID]],'Similar 10 CCGs'!$A$6:$C$160,3,FALSE)","v":"Atrial Fibrillation Prevalence"},"2011/12","12F",6632,null,331592,2,1.95,2.0499999999999998,14.81343820915319,15.657262406805764,null,1.6839999999999999,1.6160000000000001,"A","Y54","X24","1021","Wilson"]
[102,{"$f":"VLOOKUP(tblData[[#This Row],[Indicator ID]],'Similar 10 CCGs'!$A$6:$C$160,3,FALSE)","v":"Atrial Fibrillation Prevalence"},"2011/12","13P",8907,null,727002,1.23,1.2,1.26,14.81343820915319,15.366460804327415,null,1.2330000000000001,1.0920000000000001,"","Y55","X24","1021","Wilson"]
[102,{"$f":"VLOOKUP(tblData[[#This Row],[Indicator ID]],'Similar 10 CCGs'!$A$6:$C$160,3,FALSE)","v":"Atrial Fibrillation Prevalence"},"2011/12","99A",7118,null,492711,1.44,1.41,1.47,14.81343820915319,15.657262406805764,null,1.3880000000000001,1.212,"B","Y54","X24","1021","Wilson"]
[102,{"$f":"VLOOKUP(tblData[[#This Row],[Indicator ID]],'Similar 10 CCGs'!$A$6:$C$160,3,FALSE)","v":"Atrial Fibrillation Prevalence"},"2011/12","99C",3497,null,214926,1.63,1.58,1.68,14.81343820915319,15.657262406805764,null,1.6359999999999999,1.5780000000000001,"B","Y54","X24","1021","Wilson"]
[102,{"$f":"VLOOKUP(tblData[[#This Row],[Indicator ID]],'Similar 10 CCGs'!$A$6:$C$160,3,FALSE)","v":"Atrial Fibrillation Prevalence"},"2011/12","99D",2884,null,156440,1.84,1.77,1.91,14.81343820915319,15.366460804327415,null,1.8799999999999997,1.736,"B","Y55","X24","1021","Wilson"]
[102,{"$f":"VLOOKUP(tblData[[#This Row],[Indicator ID]],'Similar 10 CCGs'!$A$6:$C$160,3,FALSE)","v":"Atrial Fibrillation Prevalence"},"2011/12","99E",3943,null,262252,1.5,1.45,1.55,14.81343820915319,15.366460804327415,null,1.5450000000000002,1.4219999999999999,"","Y55","X24","1021","Wilson"]
[102,{"$f":"VLOOKUP(tblData[[#This Row],[Indicator ID]],'Similar 10 CCGs'!$A$6:$C$160,3,FALSE)","v":"Atrial Fibrillation Prevalence"},"2011/12","99F",3088,null,177806,1.74,1.68,1.8,14.81343820915319,15.366460804327415,null,1.7929999999999999,1.65,"B","Y55","X24","1021","Wilson"]
[102,{"$f":"VLOOKUP(tblData[[#This Row],[Indicator ID]],'Similar 10 CCGs'!$A$6:$C$160,3,FALSE)","v":"Atrial Fibrillation Prevalence"},"2011/12","99G",2856,null,186028,1.54,1.48,1.6,14.81343820915319,15.366460804327415,null,1.73,1.5880000000000001,"","Y55","X24","1021","Wilson"]
[102,{"$f":"VLOOKUP(tblData[[#This Row],[Indicator ID]],'Similar 10 CCGs'!$A$6:$C$160,3,FALSE)","v":"Atrial Fibrillation Prevalence"},"2011/12","99H",4728,null,289448,1.63,1.58,1.68,14.81343820915319,17.005651152195064,null,1.538,1.4279999999999999,"B","Y57","X24","1021","Wilson"]
[102,{"$f":"VLOOKUP(tblData[[#This Row],[Indicator ID]],'Similar 10 CCGs'!$A$6:$C$160,3,FALSE)","v":"Atrial Fibrillation Prevalence"},"2011/12","99J",8039,null,466241,1.72,1.68,1.76,14.81343820915319,17.005651152195064,null,1.6339999999999999,1.49,"A","Y57","X24","1021","Wilson"]
[102,{"$f":"VLOOKUP(tblData[[#This Row],[Indicator ID]],'Similar 10 CCGs'!$A$6:$C$160,3,FALSE)","v":"Atrial Fibrillation Prevalence"},"2011/12","99K",3128,null,164555,1.9,1.84,1.97,14.81343820915319,17.005651152195064,null,1.8599999999999999,1.7280000000000002,"A","Y57","X24","1021","Wilson"]
[102,{"$f":"VLOOKUP(tblData[[#This Row],[Indicator ID]],'Similar 10 CCGs'!$A$6:$C$160,3,FALSE)","v":"Atrial Fibrillation Prevalence"},"2011/12","99M",2865,null,216963,1.32,1.27,1.37,14.81343820915319,17.005651152195064,null,1.4369999999999998,1.3240000000000003,"","Y57","X24","1021","Wilson"]
[102,{"$f":"VLOOKUP(tblData[[#This Row],[Indicator ID]],'Similar 10 CCGs'!$A$6:$C$160,3,FALSE)","v":"Atrial Fibrillation Prevalence"},"2011/12","99N",8335,null,471598,1.77,1.73,1.81,14.81343820915319,17.005651152195064,null,1.704,1.5719999999999998,"A","Y57","X24","1021","Wilson"]
[102,{"$f":"VLOOKUP(tblData[[#This Row],[Indicator ID]],'Similar 10 CCGs'!$A$6:$C$160,3,FALSE)","v":"Atrial Fibrillation Prevalence"},"2011/12","99P",17426,null,898677,1.94,1.91,1.97,14.81343820915319,17.005651152195064,null,1.734,1.51,"A","Y57","X24","1021","Wilson"]
[102,{"$f":"VLOOKUP(tblData[[#This Row],[Indicator ID]],'Similar 10 CCGs'!$A$6:$C$160,3,FALSE)","v":"Atrial Fibrillation Prevalence"},"2011/12","99Q",6478,null,285265,2.27,2.2200000000000002,2.33,14.81343820915319,17.005651152195064,null,2.0149999999999997,1.8740000000000001,"A","Y57","X24","1021","Wilson"]
[103,{"$f":"VLOOKUP(tblData[[#This Row],[Indicator ID]],'Similar 10 CCGs'!$A$6:$C$160,3,FALSE)","v":"Cancer Prevalence"},"2011/12","00C",1804,null,105927,1.7,1.62,1.78,17.708492343693909,18.137282784043258,null,1.8839999999999999,1.8220000000000003,"B","Y54","X24","1031","Wilson"]
[103,{"$f":"VLOOKUP(tblData[[#This Row],[Indicator ID]],'Similar 10 CCGs'!$A$6:$C$160,3,FALSE)","v":"Cancer Prevalence"},"2011/12","00D",5590,null,287801,1.94,1.89,1.99,17.708492343693909,18.137282784043258,null,1.8109999999999999,1.704,"A","Y54","X24","1031","Wilson"]
[103,{"$f":"VLOOKUP(tblData[[#This Row],[Indicator ID]],'Similar 10 CCGs'!$A$6:$C$160,3,FALSE)","v":"Cancer Prevalence"},"2011/12","00F",4013,null,206317,1.95,1.89,2.0099999999999998,17.708492343693909,18.137282784043258,null,1.9269999999999996,1.8199999999999998,"A","Y54","X24","1031","Wilson"]
[103,{"$f":"VLOOKUP(tblData[[#This Row],[Indicator ID]],'Similar 10 CCGs'!$A$6:$C$160,3,FALSE)","v":"Cancer Prevalence"},"2011/12","00G",2379,null,149906,1.59,1.53,1.65,17.708492343693909,18.137282784043258,null,1.5690000000000002,1.3680000000000001,"A","Y54","X24","1031","Wilson"]
[103,{"$f":"VLOOKUP(tblData[[#This Row],[Indicator ID]],'Similar 10 CCGs'!$A$6:$C$160,3,FALSE)","v":"Cancer Prevalence"},"2011/12","00H",2170,null,130014,1.67,1.6,1.74,17.708492343693909,18.137282784043258,null,1.6689999999999998,1.6120000000000001,"B","Y54","X24","1031","Wilson"]
[103,{"$f":"VLOOKUP(tblData[[#This Row],[Indicator ID]],'Similar 10 CCGs'!$A$6:$C$160,3,FALSE)","v":"Cancer Prevalence"},"2011/12","00J",4535,null,248033,1.83,1.78,1.88,17.708492343693909,18.137282784043258,null,1.9159999999999997,1.8280000000000001,"","Y54","X24","1031","Wilson"]
[103,{"$f":"VLOOKUP(tblData[[#This Row],[Indicator ID]],'Similar 10 CCGs'!$A$6:$C$160,3,FALSE)","v":"Cancer Prevalence"},"2011/12","00K",4751,null,288881,1.64,1.59,1.69,17.708492343693909,18.137282784043258,null,1.7619999999999998,1.6819999999999999,"","Y54","X24","1031","Wilson"]
[103,{"$f":"VLOOKUP(tblData[[#This Row],[Indicator ID]],'Similar 10 CCGs'!$A$6:$C$160,3,FALSE)","v":"Cancer Prevalence"},"2011/12","00L",7336,null,321055,2.2799999999999998,2.23,2.33,17.708492343693909,18.137282784043258,null,2.1480000000000001,2.0059999999999998,"A","Y54","X24","1031","Wilson"]
[103,{"$f":"VLOOKUP(tblData[[#This Row],[Indicator ID]],'Similar 10 CCGs'!$A$6:$C$160,3,FALSE)","v":"Cancer Prevalence"},"2011/12","00M",5068,null,289937,1.75,1.7,1.8,17.708492343693909,18.137282784043258,null,1.7410000000000001,1.6219999999999999,"B","Y54","X24","1031","Wilson"]
[103,{"$f":"VLOOKUP(tblData[[#This Row],[Indicator ID]],'Similar 10 CCGs'!$A$6:$C$160,3,FALSE)","v":"Cancer Prevalence"},"2011/12","00N",3200,null,154487,2.0699999999999998,2,2.14,17.708492343693909,18.137282784043258,null,1.9340000000000004,1.8279999999999998,"A","Y54","X24","1031","Wilson"]
[103,{"$f":"VLOOKUP(tblData[[#This Row],[Indicator ID]],'Similar 10 CCGs'!$A$6:$C$160,3,FALSE)","v":"Cancer Prevalence"},"2011/12","00P",5400,null,284652,1.9,1.85,1.95,17.708492343693909,18.137282784043258,null,1.8839999999999999,1.746,"B","Y54","X24","1031","Wilson"]
[103,{"$f":"VLOOKUP(tblData[[#This Row],[Indicator ID]],'Similar 10 CCGs'!$A$6:$C$160,3,FALSE)","v":"Cancer Prevalence"},"2011/12","00Q",2440,null,168871,1.44,1.38,1.5,17.708492343693909,18.137282784043258,null,1.5449999999999999,1.4100000000000001,"","Y54","X24","1031","Wilson"]
[103,{"$f":"VLOOKUP(tblData[[#This Row],[Indicator ID]],'Similar 10 CCGs'!$A$6:$C$160,3,FALSE)","v":"Cancer Prevalence"},"2011/12","00R",3688,null,172380,2.14,2.0699999999999998,2.21,17.708492343693909,18.137282784043258,null,1.8919999999999999,1.762,"A","Y54","X24","1031","Wilson"]
[103,{"$f":"VLOOKUP(tblData[[#This Row],[Indicator ID]],'Similar 10 CCGs'!$A$6:$C$160,3,FALSE)","v":"Cancer Prevalence"},"2011/12","00T",4632,null,296304,1.56,1.52,1.61,17.708492343693909,18.137282784043258,null,1.6860000000000004,1.61,"C","Y54","X24","1031","Wilson"]
[103,{"$f":"VLOOKUP(tblData[[#This Row],[Indicator ID]],'Similar 10 CCGs'!$A$6:$C$160,3,FALSE)","v":"Cancer Prevalence"},"2011/12","00V",3163,null,188744,1.68,1.62,1.74,17.708492343693909,18.137282784043258,null,1.7349999999999999,1.65,"","Y54","X24","1031","Wilson"]
[103,{"$f":"VLOOKUP(tblData[[#This Row],[Indicator ID]],'Similar 10 CCGs'!$A$6:$C$160,3,FALSE)","v":"Cancer Prevalence"},"2011/12","00W",1992,null,214540,0.93,0.89,0.97,17.708492343693909,18.137282784043258,null,1.1860000000000004,1.0879999999999999,"C","Y54","X24","1031","Wilson"]
[103,{"$f":"VLOOKUP(tblData[[#This Row],[Indicator ID]],'Similar 10 CCGs'!$A$6:$C$160,3,FALSE)","v":"Cancer Prevalence"},"2011/12","00X",3393,null,173442,1.96,1.9,2.0299999999999998,17.708492343693909,18.137282784043258,null,1.8820000000000001,1.8060000000000003,"B","Y54","X24","1031","Wilson"]
[103,{"$f":"VLOOKUP(tblData[[#This Row],[Indicator ID]],'Similar 10 CCGs'!$A$6:$C$160,3,FALSE)","v":"Cancer Prevalence"},"2011/12","00Y",3810,null,240773,1.58,1.53,1.63,17.708492343693909,18.137282784043258,null,1.6290000000000002,1.512,"A","Y54","X24","1031","Wilson"]
[103,{"$f":"VLOOKUP(tblData[[#This Row],[Indicator ID]],'Similar 10 CCGs'!$A$6:$C$160,3,FALSE)","v":"Cancer Prevalence"},"2011/12","01A",6896,null,368985,1.87,1.83,1.91,17.708492343693909,18.137282784043258,null,1.671,1.5880000000000001,"B","Y54","X24","1031","Wilson"]
[103,{"$f":"VLOOKUP(tblData[[#This Row],[Indicator ID]],'Similar 10 CCGs'!$A$6:$C$160,3,FALSE)","v":"Cancer Prevalence"},"2011/12","01C",4059,null,201866,2.0099999999999998,1.95,2.0699999999999998,17.708492343693909,18.137282784043258,null,2.1960000000000002,2.0940000000000003,"","Y54","X24","1031","Wilson"]
[103,{"$f":"VLOOKUP(tblData[[#This Row],[Indicator ID]],'Similar 10 CCGs'!$A$6:$C$160,3,FALSE)","v":"Cancer Prevalence"},"2011/12","01D",3580,null,224196,1.6,1.55,1.65,17.708492343693909,18.137282784043258,null,1.6620000000000001,1.6,"","Y54","X24","1031","Wilson"]
[103,{"$f":"VLOOKUP(tblData[[#This Row],[Indicator ID]],'Similar 10 CCGs'!$A$6:$C$160,3,FALSE)","v":"Cancer Prevalence"},"2011/12","01E",3478,null,212272,1.64,1.59,1.69,17.708492343693909,18.137282784043258,null,1.8380000000000003,1.754,"C","Y54","X24","1031","Wilson"]
[103,{"$f":"VLOOKUP(tblData[[#This Row],[Indicator ID]],'Similar 10 CCGs'!$A$6:$C$160,3,FALSE)","v":"Cancer Prevalence"},"2011/12","01F",2203,null,128154,1.72,1.65,1.79,17.708492343693909,18.137282784043258,null,1.7929999999999999,1.6739999999999999,"B","Y54","X24","1031","Wilson"]
[103,{"$f":"VLOOKUP(tblData[[#This Row],[Indicator ID]],'Similar 10 CCGs'!$A$6:$C$160,3,FALSE)","v":"Cancer Prevalence"},"2011/12","01G",3934,null,249243,1.58,1.53,1.63,17.708492343693909,18.137282784043258,null,1.7190000000000001,1.6640000000000001,"","Y54","X24","1031","Wilson"]
[103,{"$f":"VLOOKUP(tblData[[#This Row],[Indicator ID]],'Similar 10 CCGs'!$A$6:$C$160,3,FALSE)","v":"Cancer Prevalence"},"2011/12","01H",11421,null,525627,2.17,2.13,2.21,17.708492343693909,18.137282784043258,null,2.2489999999999997,2.1119999999999997,"","Y54","X24","1031","Wilson"]
[103,{"$f":"VLOOKUP(tblData[[#This Row],[Indicator ID]],'Similar 10 CCGs'!$A$6:$C$160,3,FALSE)","v":"Cancer Prevalence"},"2011/12","01J",2722,null,160868,1.69,1.63,1.75,17.708492343693909,18.137282784043258,null,1.7970000000000006,1.6580000000000001,"","Y54","X24","1031","Wilson"]
[103,{"$f":"VLOOKUP(tblData[[#This Row],[Indicator ID]],'Similar 10 CCGs'!$A$6:$C$160,3,FALSE)","v":"Cancer Prevalence"},"2011/12","01K",3075,null,161065,1.91,1.84,1.98,17.708492343693909,18.137282784043258,null,1.7410000000000003,1.52,"B","Y54","X24","1031","Wilson"]
[103,{"$f":"VLOOKUP(tblData[[#This Row],[Indicator ID]],'Similar 10 CCGs'!$A$6:$C$160,3,FALSE)","v":"Cancer Prevalence"},"2011/12","01M",2293,null,186773,1.23,1.18,1.28,17.708492343693909,18.137282784043258,null,1.5580000000000003,1.4560000000000002,"C","Y54","X24","1031","Wilson"]
[103,{"$f":"VLOOKUP(tblData[[#This Row],[Indicator ID]],'Similar 10 CCGs'!$A$6:$C$160,3,FALSE)","v":"Cancer Prevalence"},"2011/12","01N",2300,null,166809,1.38,1.33,1.44,17.708492343693909,18.137282784043258,null,1.5989999999999998,1.4280000000000002,"","Y54","X24","1031","Wilson"]
[103,{"$f":"VLOOKUP(tblData[[#This Row],[Indicator ID]],'Similar 10 CCGs'!$A$6:$C$160,3,FALSE)","v":"Cancer Prevalence"},"2011/12","01R",3567,null,174182,2.0499999999999998,1.98,2.12,17.708492343693909,18.137282784043258,null,1.9839999999999995,1.8359999999999999,"A","Y54","X24","1031","Wilson"]
[103,{"$f":"VLOOKUP(tblData[[#This Row],[Indicator ID]],'Similar 10 CCGs'!$A$6:$C$160,3,FALSE)","v":"Cancer Prevalence"},"2011/12","01T",3303,null,155295,2.13,2.06,2.2000000000000002,17.708492343693909,18.137282784043258,null,1.9509999999999998,1.8699999999999999,"A","Y54","X24","1031","Wilson"]
[103,{"$f":"VLOOKUP(tblData[[#This Row],[Indicator ID]],'Similar 10 CCGs'!$A$6:$C$160,3,FALSE)","v":"Cancer Prevalence"},"2011/12","01V",3057,null,121921,2.5099999999999998,2.42,2.6,17.708492343693909,18.137282784043258,null,2.1279999999999997,1.9079999999999999,"A","Y54","X24","1031","Wilson"]
[103,{"$f":"VLOOKUP(tblData[[#This Row],[Indicator ID]],'Similar 10 CCGs'!$A$6:$C$160,3,FALSE)","v":"Cancer Prevalence"},"2011/12","01W",5746,null,299243,1.92,1.87,1.97,17.708492343693909,18.137282784043258,null,1.8920000000000001,1.768,"A","Y54","X24","1031","Wilson"]
[103,{"$f":"VLOOKUP(tblData[[#This Row],[Indicator ID]],'Similar 10 CCGs'!$A$6:$C$160,3,FALSE)","v":"Cancer Prevalence"},"2011/12","01X",3877,null,192980,2.0099999999999998,1.95,2.0699999999999998,17.708492343693909,18.137282784043258,null,1.8759999999999999,1.7280000000000002,"A","Y54","X24","1031","Wilson"]
[103,{"$f":"VLOOKUP(tblData[[#This Row],[Indicator ID]],'Similar 10 CCGs'!$A$6:$C$160,3,FALSE)","v":"Cancer Prevalence"},"2011/12","01Y",4111,null,240654,1.71,1.66,1.76,17.708492343693909,18.137282784043258,null,1.7599999999999998,1.6779999999999997,"","Y54","X24","1031","Wilson"]
[103,{"$f":"VLOOKUP(tblData[[#This Row],[Indicator ID]],'Similar 10 CCGs'!$A$6:$C$160,3,FALSE)","v":"Cancer Prevalence"},"2011/12","02A",4273,null,231440,1.85,1.8,1.91,17.708492343693909,18.137282784043258,null,1.8,1.6759999999999997,"A","Y54","X24","1031","Wilson"]
[103,{"$f":"VLOOKUP(tblData[[#This Row],[Indicator ID]],'Similar 10 CCGs'!$A$6:$C$160,3,FALSE)","v":"Cancer Prevalence"},"2011/12","02D",2076,null,102110,2.0299999999999998,1.95,2.12,17.708492343693909,18.137282784043258,null,1.877,1.7560000000000002,"A","Y54","X24","1031","Wilson"]
[103,{"$f":"VLOOKUP(tblData[[#This Row],[Indicator ID]],'Similar 10 CCGs'!$A$6:$C$160,3,FALSE)","v":"Cancer Prevalence"},"2011/12","02E",3687,null,208781,1.77,1.71,1.83,17.708492343693909,18.137282784043258,null,1.8599999999999999,1.6979999999999997,"A","Y54","X24","1031","Wilson"]
[103,{"$f":"VLOOKUP(tblData[[#This Row],[Indicator ID]],'Similar 10 CCGs'!$A$6:$C$160,3,FALSE)","v":"Cancer Prevalence"},"2011/12","02F",5151,null,254295,2.0299999999999998,1.98,2.09,17.708492343693909,18.137282784043258,null,2.093,1.968,"B","Y54","X24","1031","Wilson"]
[103,{"$f":"VLOOKUP(tblData[[#This Row],[Indicator ID]],'Similar 10 CCGs'!$A$6:$C$160,3,FALSE)","v":"Cancer Prevalence"},"2011/12","02G",2278,null,111867,2.04,1.96,2.12,17.708492343693909,18.137282784043258,null,1.9639999999999997,1.8679999999999999,"A","Y54","X24","1031","Wilson"]
[103,{"$f":"VLOOKUP(tblData[[#This Row],[Indicator ID]],'Similar 10 CCGs'!$A$6:$C$160,3,FALSE)","v":"Cancer Prevalence"},"2011/12","02H",5408,null,320354,1.69,1.65,1.74,17.708492343693909,18.137282784043258,null,1.798,1.698,"","Y54","X24","1031","Wilson"]
[103,{"$f":"VLOOKUP(tblData[[#This Row],[Indicator ID]],'Similar 10 CCGs'!$A$6:$C$160,3,FALSE)","v":"Cancer Prevalence"},"2011/12","02M",3828,null,151706,2.52,2.44,2.6,17.708492343693909,18.137282784043258,null,2.2589999999999995,2.13,"A","Y54","X24","1031","Wilson"]
[103,{"$f":"VLOOKUP(tblData[[#This Row],[Indicator ID]],'Similar 10 CCGs'!$A$6:$C$160,3,FALSE)","v":"Cancer Prevalence"},"2011/12","02N",2933,null,155635,1.88,1.81,1.95,17.708492343693909,18.137282784043258,null,2.0720000000000001,1.9219999999999999,"C","Y54","X24","1031","Wilson"]
[103,{"$f":"VLOOKUP(tblData[[#This Row],[Indicator ID]],'Similar 10 CCGs'!$A$6:$C$160,3,FALSE)","v":"Cancer Prevalence"},"2011/12","02P",4720,null,245317,1.92,1.87,1.98,17.708492343693909,18.137282784043258,null,1.7719999999999998,1.6839999999999999,"A","Y54","X24","1031","Wilson"]
[103,{"$f":"VLOOKUP(tblData[[#This Row],[Indicator ID]],'Similar 10 CCGs'!$A$6:$C$160,3,FALSE)","v":"Cancer Prevalence"},"2011/12","02Q",2124,null,111651,1.9,1.82,1.98,17.708492343693909,18.137282784043258,null,1.8679999999999999,1.782,"B","Y54","X24","1031","Wilson"]
[103,{"$f":"VLOOKUP(tblData[[#This Row],[Indicator ID]],'Similar 10 CCGs'!$A$6:$C$160,3,FALSE)","v":"Cancer Prevalence"},"2011/12","02R",5150,null,330270,1.56,1.52,1.6,17.708492343693909,18.137282784043258,null,1.6239999999999999,1.516,"B","Y54","X24","1031","Wilson"]
[103,{"$f":"VLOOKUP(tblData[[#This Row],[Indicator ID]],'Similar 10 CCGs'!$A$6:$C$160,3,FALSE)","v":"Cancer Prevalence"},"2011/12","02T",3896,null,212976,1.83,1.77,1.89,17.708492343693909,18.137282784043258,null,1.8169999999999997,1.7080000000000002,"A","Y54","X24","1031","Wilson"]
[103,{"$f":"VLOOKUP(tblData[[#This Row],[Indicator ID]],'Similar 10 CCGs'!$A$6:$C$160,3,FALSE)","v":"Cancer Prevalence"},"2011/12","02V",3704,null,201657,1.84,1.78,1.9,17.708492343693909,18.137282784043258,null,1.7869999999999997,1.6679999999999999,"B","Y54","X24","1031","Wilson"]
[103,{"$f":"VLOOKUP(tblData[[#This Row],[Indicator ID]],'Similar 10 CCGs'!$A$6:$C$160,3,FALSE)","v":"Cancer Prevalence"},"2011/12","02W",676,null,118636,0.56999999999999995,0.53,0.61,17.708492343693909,18.137282784043258,null,1.208,1.016,"C","Y54","X24","1031","Wilson"]
[103,{"$f":"VLOOKUP(tblData[[#This Row],[Indicator ID]],'Similar 10 CCGs'!$A$6:$C$160,3,FALSE)","v":"Cancer Prevalence"},"2011/12","02X",5142,null,308637,1.67,1.63,1.72,17.708492343693909,18.137282784043258,null,1.7920000000000003,1.7,"","Y54","X24","1031","Wilson"]
[103,{"$f":"VLOOKUP(tblData[[#This Row],[Indicator ID]],'Similar 10 CCGs'!$A$6:$C$160,3,FALSE)","v":"Cancer Prevalence"},"2011/12","02Y",7530,null,301167,2.5,2.44,2.56,17.708492343693909,18.137282784043258,null,2.1879999999999997,2.1019999999999999,"A","Y54","X24","1031","Wilson"]
[103,{"$f":"VLOOKUP(tblData[[#This Row],[Indicator ID]],'Similar 10 CCGs'!$A$6:$C$160,3,FALSE)","v":"Cancer Prevalence"},"2011/12","03A",3859,null,239050,1.61,1.56,1.66,17.708492343693909,18.137282784043258,null,1.6929999999999996,1.6140000000000001,"C","Y54","X24","1031","Wilson"]
[103,{"$f":"VLOOKUP(tblData[[#This Row],[Indicator ID]],'Similar 10 CCGs'!$A$6:$C$160,3,FALSE)","v":"Cancer Prevalence"},"2011/12","03C",5561,null,359415,1.55,1.51,1.59,17.708492343693909,18.137282784043258,null,1.5870000000000002,1.3960000000000001,"B","Y54","X24","1031","Wilson"]
[103,{"$f":"VLOOKUP(tblData[[#This Row],[Indicator ID]],'Similar 10 CCGs'!$A$6:$C$160,3,FALSE)","v":"Cancer Prevalence"},"2011/12","03D",3296,null,141465,2.33,2.25,2.41,17.708492343693909,18.137282784043258,null,2.282,2.2120000000000002,"B","Y54","X24","1031","Wilson"]
[103,{"$f":"VLOOKUP(tblData[[#This Row],[Indicator ID]],'Similar 10 CCGs'!$A$6:$C$160,3,FALSE)","v":"Cancer Prevalence"},"2011/12","03E",3726,null,159597,2.33,2.2599999999999998,2.41,17.708492343693909,18.137282784043258,null,2.2049999999999996,2.09,"A","Y54","X24","1031","Wilson"]
[103,{"$f":"VLOOKUP(tblData[[#This Row],[Indicator ID]],'Similar 10 CCGs'!$A$6:$C$160,3,FALSE)","v":"Cancer Prevalence"},"2011/12","03F",4572,null,290050,1.58,1.54,1.63,17.708492343693909,18.137282784043258,null,1.7490000000000001,1.6779999999999997,"C","Y54","X24","1031","Wilson"]
[103,{"$f":"VLOOKUP(tblData[[#This Row],[Indicator ID]],'Similar 10 CCGs'!$A$6:$C$160,3,FALSE)","v":"Cancer Prevalence"},"2011/12","03G",4452,null,258661,1.72,1.67,1.77,17.708492343693909,18.137282784043258,null,1.718,1.6259999999999999,"A","Y54","X24","1031","Wilson"]
[103,{"$f":"VLOOKUP(tblData[[#This Row],[Indicator ID]],'Similar 10 CCGs'!$A$6:$C$160,3,FALSE)","v":"Cancer Prevalence"},"2011/12","03H",3087,null,167731,1.84,1.78,1.91,17.708492343693909,18.137282784043258,null,1.8669999999999998,1.762,"B","Y54","X24","1031","Wilson"]
[103,{"$f":"VLOOKUP(tblData[[#This Row],[Indicator ID]],'Similar 10 CCGs'!$A$6:$C$160,3,FALSE)","v":"Cancer Prevalence"},"2011/12","03J",2586,null,185008,1.4,1.35,1.45,17.708492343693909,18.137282784043258,null,1.5299999999999998,1.4420000000000002,"","Y54","X24","1031","Wilson"]
[103,{"$f":"VLOOKUP(tblData[[#This Row],[Indicator ID]],'Similar 10 CCGs'!$A$6:$C$160,3,FALSE)","v":"Cancer Prevalence"},"2011/12","03K",3090,null,168661,1.83,1.77,1.9,17.708492343693909,18.137282784043258,null,1.9219999999999999,1.8080000000000003,"B","Y54","X24","1031","Wilson"]
[103,{"$f":"VLOOKUP(tblData[[#This Row],[Indicator ID]],'Similar 10 CCGs'!$A$6:$C$160,3,FALSE)","v":"Cancer Prevalence"},"2011/12","03L",4426,null,254708,1.74,1.69,1.79,17.708492343693909,18.137282784043258,null,1.7869999999999997,1.6859999999999999,"B","Y54","X24","1031","Wilson"]
[103,{"$f":"VLOOKUP(tblData[[#This Row],[Indicator ID]],'Similar 10 CCGs'!$A$6:$C$160,3,FALSE)","v":"Cancer Prevalence"},"2011/12","03M",2492,null,118017,2.11,2.0299999999999998,2.19,17.708492343693909,18.137282784043258,null,2.1909999999999998,2.0759999999999996,"","Y54","X24","1031","Wilson"]
[103,{"$f":"VLOOKUP(tblData[[#This Row],[Indicator ID]],'Similar 10 CCGs'!$A$6:$C$160,3,FALSE)","v":"Cancer Prevalence"},"2011/12","03N",9249,null,565185,1.64,1.61,1.67,17.708492343693909,18.137282784043258,null,1.6870000000000001,1.5580000000000001,"B","Y54","X24","1031","Wilson"]
[103,{"$f":"VLOOKUP(tblData[[#This Row],[Indicator ID]],'Similar 10 CCGs'!$A$6:$C$160,3,FALSE)","v":"Cancer Prevalence"},"2011/12","03Q",7014,null,340298,2.06,2.0099999999999998,2.11,17.708492343693909,18.137282784043258,null,2.0699999999999994,1.9599999999999997,"","Y54","X24","1031","Wilson"]
[103,{"$f":"VLOOKUP(tblData[[#This Row],[Indicator ID]],'Similar 10 CCGs'!$A$6:$C$160,3,FALSE)","v":"Cancer Prevalence"},"2011/12","03R",6275,null,354100,1.77,1.73,1.81,17.708492343693909,18.137282784043258,null,1.7969999999999999,1.6799999999999997,"","Y54","X24","1031","Wilson"]
[103,{"$f":"VLOOKUP(tblData[[#This Row],[Indicator ID]],'Similar 10 CCGs'!$A$6:$C$160,3,FALSE)","v":"Cancer Prevalence"},"2011/12","03T",5497,null,241613,2.2799999999999998,2.2200000000000002,2.34,17.708492343693909,18.15603427402182,null,2.266,2.1779999999999999,"A","Y55","X24","1031","Wilson"]
[103,{"$f":"VLOOKUP(tblData[[#This Row],[Indicator ID]],'Similar 10 CCGs'!$A$6:$C$160,3,FALSE)","v":"Cancer Prevalence"},"2011/12","03V",1161,null,69200,1.68,1.59,1.78,17.708492343693909,18.15603427402182,null,1.7849999999999997,1.69,"B","Y55","X24","1031","Wilson"]
[103,{"$f":"VLOOKUP(tblData[[#This Row],[Indicator ID]],'Similar 10 CCGs'!$A$6:$C$160,3,FALSE)","v":"Cancer Prevalence"},"2011/12","03W",6638,null,315168,2.11,2.06,2.16,17.708492343693909,18.15603427402182,null,2.0819999999999999,1.952,"B","Y55","X24","1031","Wilson"]
[103,{"$f":"VLOOKUP(tblData[[#This Row],[Indicator ID]],'Similar 10 CCGs'!$A$6:$C$160,3,FALSE)","v":"Cancer Prevalence"},"2011/12","03X",1720,null,97292,1.77,1.69,1.85,17.708492343693909,18.15603427402182,null,1.9149999999999998,1.798,"","Y55","X24","1031","Wilson"]
[103,{"$f":"VLOOKUP(tblData[[#This Row],[Indicator ID]],'Similar 10 CCGs'!$A$6:$C$160,3,FALSE)","v":"Cancer Prevalence"},"2011/12","03Y",1895,null,102317,1.85,1.77,1.93,17.708492343693909,18.15603427402182,null,1.8380000000000003,1.7499999999999996,"","Y55","X24","1031","Wilson"]
[103,{"$f":"VLOOKUP(tblData[[#This Row],[Indicator ID]],'Similar 10 CCGs'!$A$6:$C$160,3,FALSE)","v":"Cancer Prevalence"},"2011/12","04C",3754,null,373376,1.01,0.98,1.04,17.708492343693909,18.15603427402182,null,1.2540000000000002,1.1099999999999999,"C","Y55","X24","1031","Wilson"]
[103,{"$f":"VLOOKUP(tblData[[#This Row],[Indicator ID]],'Similar 10 CCGs'!$A$6:$C$160,3,FALSE)","v":"Cancer Prevalence"},"2011/12","04D",4556,null,226047,2.02,1.96,2.08,17.708492343693909,18.15603427402182,null,1.98,1.8780000000000001,"B","Y55","X24","1031","Wilson"]
[103,{"$f":"VLOOKUP(tblData[[#This Row],[Indicator ID]],'Similar 10 CCGs'!$A$6:$C$160,3,FALSE)","v":"Cancer Prevalence"},"2011/12","04E",3181,null,183762,1.73,1.67,1.79,17.708492343693909,18.15603427402182,null,1.845,1.718,"C","Y55","X24","1031","Wilson"]
[103,{"$f":"VLOOKUP(tblData[[#This Row],[Indicator ID]],'Similar 10 CCGs'!$A$6:$C$160,3,FALSE)","v":"Cancer Prevalence"},"2011/12","04F",3379,null,265437,1.27,1.23,1.31,17.708492343693909,18.15603427402182,null,1.641,1.532,"","Y55","X24","1031","Wilson"]
[103,{"$f":"VLOOKUP(tblData[[#This Row],[Indicator ID]],'Similar 10 CCGs'!$A$6:$C$160,3,FALSE)","v":"Cancer Prevalence"},"2011/12","04G",11315,null,628635,1.8,1.77,1.83,17.708492343693909,18.15603427402182,null,1.905,1.7440000000000002,"","Y55","X24","1031","Wilson"]
[103,{"$f":"VLOOKUP(tblData[[#This Row],[Indicator ID]],'Similar 10 CCGs'!$A$6:$C$160,3,FALSE)","v":"Cancer Prevalence"},"2011/12","04H",2437,null,128014,1.9,1.83,1.98,17.708492343693909,18.15603427402182,null,1.9709999999999996,1.8260000000000001,"","Y55","X24","1031","Wilson"]
[103,{"$f":"VLOOKUP(tblData[[#This Row],[Indicator ID]],'Similar 10 CCGs'!$A$6:$C$160,3,FALSE)","v":"Cancer Prevalence"},"2011/12","04J",5997,null,279817,2.14,2.09,2.19,17.708492343693909,18.15603427402182,null,2.1970000000000001,2.02,"B","Y55","X24","1031","Wilson"]
[103,{"$f":"VLOOKUP(tblData[[#This Row],[Indicator ID]],'Similar 10 CCGs'!$A$6:$C$160,3,FALSE)","v":"Cancer Prevalence"},"2011/12","04K",4031,null,347901,1.1599999999999999,1.1200000000000001,1.2,17.708492343693909,18.15603427402182,null,1.423,1.234,"","Y55","X24","1031","Wilson"]
[103,{"$f":"VLOOKUP(tblData[[#This Row],[Indicator ID]],'Similar 10 CCGs'!$A$6:$C$160,3,FALSE)","v":"Cancer Prevalence"},"2011/12","04L",2692,null,144732,1.86,1.79,1.93,17.708492343693909,18.15603427402182,null,1.9779999999999998,1.8260000000000001,"","Y55","X24","1031","Wilson"]
[103,{"$f":"VLOOKUP(tblData[[#This Row],[Indicator ID]],'Similar 10 CCGs'!$A$6:$C$160,3,FALSE)","v":"Cancer Prevalence"},"2011/12","04M",1870,null,93461,2,1.91,2.09,17.708492343693909,18.15603427402182,null,2.0930000000000004,1.92,"B","Y55","X24","1031","Wilson"]
[103,{"$f":"VLOOKUP(tblData[[#This Row],[Indicator ID]],'Similar 10 CCGs'!$A$6:$C$160,3,FALSE)","v":"Cancer Prevalence"},"2011/12","04N",2604,null,121763,2.14,2.06,2.2200000000000002,17.708492343693909,18.15603427402182,null,2.1930000000000001,2.0920000000000001,"B","Y55","X24","1031","Wilson"]
[103,{"$f":"VLOOKUP(tblData[[#This Row],[Indicator ID]],'Similar 10 CCGs'!$A$6:$C$160,3,FALSE)","v":"Cancer Prevalence"},"2011/12","04Q",2853,null,129209,2.21,2.13,2.29,17.708492343693909,18.15603427402182,null,2.1749999999999998,2.0620000000000003,"B","Y55","X24","1031","Wilson"]
[103,{"$f":"VLOOKUP(tblData[[#This Row],[Indicator ID]],'Similar 10 CCGs'!$A$6:$C$160,3,FALSE)","v":"Cancer Prevalence"},"2011/12","04R",8715,null,524920,1.66,1.63,1.69,17.708492343693909,18.15603427402182,null,1.9239999999999999,1.782,"C","Y55","X24","1031","Wilson"]
[103,{"$f":"VLOOKUP(tblData[[#This Row],[Indicator ID]],'Similar 10 CCGs'!$A$6:$C$160,3,FALSE)","v":"Cancer Prevalence"},"2011/12","04V",6706,null,368905,1.82,1.78,1.86,17.708492343693909,18.15603427402182,null,2,1.8879999999999999,"C","Y55","X24","1031","Wilson"]
[103,{"$f":"VLOOKUP(tblData[[#This Row],[Indicator ID]],'Similar 10 CCGs'!$A$6:$C$160,3,FALSE)","v":"Cancer Prevalence"},"2011/12","04X",3314,null,245730,1.35,1.31,1.4,17.708492343693909,18.15603427402182,null,1.3780000000000001,1.208,"B","Y55","X24","1031","Wilson"]
[103,{"$f":"VLOOKUP(tblData[[#This Row],[Indicator ID]],'Similar 10 CCGs'!$A$6:$C$160,3,FALSE)","v":"Cancer Prevalence"},"2011/12","04Y",2798,null,131791,2.12,2.04,2.2000000000000002,17.708492343693909,18.15603427402182,null,1.8569999999999998,1.7619999999999998,"A","Y55","X24","1031","Wilson"]
[103,{"$f":"VLOOKUP(tblData[[#This Row],[Indicator ID]],'Similar 10 CCGs'!$A$6:$C$160,3,FALSE)","v":"Cancer Prevalence"},"2011/12","05A",7169,null,463980,1.55,1.51,1.59,17.708492343693909,18.15603427402182,null,1.6130000000000002,1.5320000000000003,"C","Y55","X24","1031","Wilson"]
[103,{"$f":"VLOOKUP(tblData[[#This Row],[Indicator ID]],'Similar 10 CCGs'!$A$6:$C$160,3,FALSE)","v":"Cancer Prevalence"},"2011/12","05C",6159,null,313830,1.96,1.91,2.0099999999999998,17.708492343693909,18.15603427402182,null,1.873,1.752,"A","Y55","X24","1031","Wilson"]
[103,{"$f":"VLOOKUP(tblData[[#This Row],[Indicator ID]],'Similar 10 CCGs'!$A$6:$C$160,3,FALSE)","v":"Cancer Prevalence"},"2011/12","05D",2743,null,133795,2.0499999999999998,1.98,2.13,17.708492343693909,18.15603427402182,null,1.891,1.73,"A","Y55","X24","1031","Wilson"]
[103,{"$f":"VLOOKUP(tblData[[#This Row],[Indicator ID]],'Similar 10 CCGs'!$A$6:$C$160,3,FALSE)","v":"Cancer Prevalence"},"2011/12","05F",4201,null,181868,2.31,2.2400000000000002,2.38,17.708492343693909,18.15603427402182,null,2.2679999999999998,2.1879999999999997,"A","Y55","X24","1031","Wilson"]
[103,{"$f":"VLOOKUP(tblData[[#This Row],[Indicator ID]],'Similar 10 CCGs'!$A$6:$C$160,3,FALSE)","v":"Cancer Prevalence"},"2011/12","05G",4253,null,213223,1.99,1.93,2.0499999999999998,17.708492343693909,18.15603427402182,null,2.0790000000000002,1.9019999999999999,"","Y55","X24","1031","Wilson"]
[103,{"$f":"VLOOKUP(tblData[[#This Row],[Indicator ID]],'Similar 10 CCGs'!$A$6:$C$160,3,FALSE)","v":"Cancer Prevalence"},"2011/12","05H",3103,null,183653,1.69,1.63,1.75,17.708492343693909,18.15603427402182,null,1.9089999999999996,1.8440000000000001,"","Y55","X24","1031","Wilson"]
[103,{"$f":"VLOOKUP(tblData[[#This Row],[Indicator ID]],'Similar 10 CCGs'!$A$6:$C$160,3,FALSE)","v":"Cancer Prevalence"},"2011/12","05J",3184,null,171390,1.86,1.8,1.93,17.708492343693909,18.15603427402182,null,1.891,1.7639999999999998,"","Y55","X24","1031","Wilson"]
[103,{"$f":"VLOOKUP(tblData[[#This Row],[Indicator ID]],'Similar 10 CCGs'!$A$6:$C$160,3,FALSE)","v":"Cancer Prevalence"},"2011/12","05L",6531,null,531050,1.23,1.2,1.26,17.708492343693909,18.15603427402182,null,1.3140000000000001,1.1160000000000001,"C","Y55","X24","1031","Wilson"]
[103,{"$f":"VLOOKUP(tblData[[#This Row],[Indicator ID]],'Similar 10 CCGs'!$A$6:$C$160,3,FALSE)","v":"Cancer Prevalence"},"2011/12","05N",6648,null,297973,2.23,2.1800000000000002,2.2799999999999998,17.708492343693909,18.15603427402182,null,2.2679999999999998,2.1759999999999997,"B","Y55","X24","1031","Wilson"]
[103,{"$f":"VLOOKUP(tblData[[#This Row],[Indicator ID]],'Similar 10 CCGs'!$A$6:$C$160,3,FALSE)","v":"Cancer Prevalence"},"2011/12","05P",4956,null,235280,2.11,2.0499999999999998,2.17,17.708492343693909,18.15603427402182,null,1.8470000000000002,1.7399999999999998,"A","Y55","X24","1031","Wilson"]
[103,{"$f":"VLOOKUP(tblData[[#This Row],[Indicator ID]],'Similar 10 CCGs'!$A$6:$C$160,3,FALSE)","v":"Cancer Prevalence"},"2011/12","05Q",4314,null,209085,2.06,2,2.12,17.708492343693909,18.15603427402182,null,1.9279999999999995,1.7900000000000003,"A","Y55","X24","1031","Wilson"]
[103,{"$f":"VLOOKUP(tblData[[#This Row],[Indicator ID]],'Similar 10 CCGs'!$A$6:$C$160,3,FALSE)","v":"Cancer Prevalence"},"2011/12","05R",5501,null,271512,2.0299999999999998,1.98,2.08,17.708492343693909,18.15603427402182,null,2.2489999999999997,2.1599999999999997,"","Y55","X24","1031","Wilson"]
[103,{"$f":"VLOOKUP(tblData[[#This Row],[Indicator ID]],'Similar 10 CCGs'!$A$6:$C$160,3,FALSE)","v":"Cancer Prevalence"},"2011/12","05T",6332,null,292433,2.17,2.12,2.2200000000000002,17.708492343693909,18.15603427402182,null,2.1369999999999996,2.0159999999999996,"B","Y55","X24","1031","Wilson"]
[103,{"$f":"VLOOKUP(tblData[[#This Row],[Indicator ID]],'Similar 10 CCGs'!$A$6:$C$160,3,FALSE)","v":"Cancer Prevalence"},"2011/12","05V",3414,null,144593,2.36,2.2799999999999998,2.44,17.708492343693909,18.15603427402182,null,2.1560000000000001,2.0179999999999998,"A","Y55","X24","1031","Wilson"]
[103,{"$f":"VLOOKUP(tblData[[#This Row],[Indicator ID]],'Similar 10 CCGs'!$A$6:$C$160,3,FALSE)","v":"Cancer Prevalence"},"2011/12","05W",4908,null,278090,1.76,1.71,1.81,17.708492343693909,18.15603427402182,null,1.702,1.6300000000000001,"B","Y55","X24","1031","Wilson"]
[103,{"$f":"VLOOKUP(tblData[[#This Row],[Indicator ID]],'Similar 10 CCGs'!$A$6:$C$160,3,FALSE)","v":"Cancer Prevalence"},"2011/12","05X",2777,null,172024,1.61,1.55,1.67,17.708492343693909,18.15603427402182,null,1.6989999999999998,1.6379999999999999,"B","Y55","X24","1031","Wilson"]
[103,{"$f":"VLOOKUP(tblData[[#This Row],[Indicator ID]],'Similar 10 CCGs'!$A$6:$C$160,3,FALSE)","v":"Cancer Prevalence"},"2011/12","05Y",4398,null,270491,1.63,1.58,1.68,17.708492343693909,18.15603427402182,null,1.6310000000000002,1.5399999999999998,"B","Y55","X24","1031","Wilson"]
[103,{"$f":"VLOOKUP(tblData[[#This Row],[Indicator ID]],'Similar 10 CCGs'!$A$6:$C$160,3,FALSE)","v":"Cancer Prevalence"},"2011/12","06A",4503,null,260354,1.73,1.68,1.78,17.708492343693909,18.15603427402182,null,1.6460000000000001,1.5459999999999998,"B","Y55","X24","1031","Wilson"]
[103,{"$f":"VLOOKUP(tblData[[#This Row],[Indicator ID]],'Similar 10 CCGs'!$A$6:$C$160,3,FALSE)","v":"Cancer Prevalence"},"2011/12","06D",2745,null,112154,2.4500000000000002,2.36,2.54,17.708492343693909,18.15603427402182,null,2.0149999999999997,1.8620000000000001,"A","Y55","X24","1031","Wilson"]
[103,{"$f":"VLOOKUP(tblData[[#This Row],[Indicator ID]],'Similar 10 CCGs'!$A$6:$C$160,3,FALSE)","v":"Cancer Prevalence"},"2011/12","06F",7772,null,436707,1.78,1.74,1.82,17.708492343693909,18.15603427402182,null,1.8220000000000003,1.7020000000000004,"B","Y55","X24","1031","Wilson"]
[103,{"$f":"VLOOKUP(tblData[[#This Row],[Indicator ID]],'Similar 10 CCGs'!$A$6:$C$160,3,FALSE)","v":"Cancer Prevalence"},"2011/12","06H",16237,null,862150,1.88,1.85,1.91,17.708492343693909,18.15603427402182,null,2,1.7759999999999998,"","Y55","X24","1031","Wilson"]
[103,{"$f":"VLOOKUP(tblData[[#This Row],[Indicator ID]],'Similar 10 CCGs'!$A$6:$C$160,3,FALSE)","v":"Cancer Prevalence"},"2011/12","06K",10295,null,566468,1.82,1.79,1.86,17.708492343693909,18.15603427402182,null,1.8800000000000001,1.7400000000000002,"","Y55","X24","1031","Wilson"]
[103,{"$f":"VLOOKUP(tblData[[#This Row],[Indicator ID]],'Similar 10 CCGs'!$A$6:$C$160,3,FALSE)","v":"Cancer Prevalence"},"2011/12","06L",7528,null,387143,1.94,1.9,1.98,17.708492343693909,18.15603427402182,null,2.1859999999999995,2.0219999999999998,"C","Y55","X24","1031","Wilson"]
[103,{"$f":"VLOOKUP(tblData[[#This Row],[Indicator ID]],'Similar 10 CCGs'!$A$6:$C$160,3,FALSE)","v":"Cancer Prevalence"},"2011/12","06M",5233,null,230830,2.27,2.21,2.33,17.708492343693909,18.15603427402182,null,2.222,2.1139999999999999,"A","Y55","X24","1031","Wilson"]
[103,{"$f":"VLOOKUP(tblData[[#This Row],[Indicator ID]],'Similar 10 CCGs'!$A$6:$C$160,3,FALSE)","v":"Cancer Prevalence"},"2011/12","06N",10310,null,599780,1.72,1.69,1.75,17.708492343693909,18.15603427402182,null,1.839,1.7599999999999998,"","Y55","X24","1031","Wilson"]
[103,{"$f":"VLOOKUP(tblData[[#This Row],[Indicator ID]],'Similar 10 CCGs'!$A$6:$C$160,3,FALSE)","v":"Cancer Prevalence"},"2011/12","06P",2505,null,213020,1.18,1.1299999999999999,1.23,17.708492343693909,18.15603427402182,null,1.325,1.1759999999999997,"","Y55","X24","1031","Wilson"]
[103,{"$f":"VLOOKUP(tblData[[#This Row],[Indicator ID]],'Similar 10 CCGs'!$A$6:$C$160,3,FALSE)","v":"Cancer Prevalence"},"2011/12","06Q",6602,null,379032,1.74,1.7,1.78,17.708492343693909,18.15603427402182,null,1.966,1.8340000000000001,"C","Y55","X24","1031","Wilson"]
[103,{"$f":"VLOOKUP(tblData[[#This Row],[Indicator ID]],'Similar 10 CCGs'!$A$6:$C$160,3,FALSE)","v":"Cancer Prevalence"},"2011/12","06T",6642,null,327531,2.0299999999999998,1.98,2.08,17.708492343693909,18.15603427402182,null,2.1470000000000002,2.0059999999999998,"B","Y55","X24","1031","Wilson"]
[103,{"$f":"VLOOKUP(tblData[[#This Row],[Indicator ID]],'Similar 10 CCGs'!$A$6:$C$160,3,FALSE)","v":"Cancer Prevalence"},"2011/12","06V",4388,null,167483,2.62,2.54,2.7,17.708492343693909,18.15603427402182,null,2.2839999999999998,2.1659999999999999,"A","Y55","X24","1031","Wilson"]
[103,{"$f":"VLOOKUP(tblData[[#This Row],[Indicator ID]],'Similar 10 CCGs'!$A$6:$C$160,3,FALSE)","v":"Cancer Prevalence"},"2011/12","06W",3416,null,208562,1.64,1.59,1.7,17.708492343693909,18.15603427402182,null,1.843,1.6740000000000002,"","Y55","X24","1031","Wilson"]
[103,{"$f":"VLOOKUP(tblData[[#This Row],[Indicator ID]],'Similar 10 CCGs'!$A$6:$C$160,3,FALSE)","v":"Cancer Prevalence"},"2011/12","06Y",5069,null,220178,2.2999999999999998,2.2400000000000002,2.36,17.708492343693909,18.15603427402182,null,2.2410000000000001,2.1420000000000003,"B","Y55","X24","1031","Wilson"]
[103,{"$f":"VLOOKUP(tblData[[#This Row],[Indicator ID]],'Similar 10 CCGs'!$A$6:$C$160,3,FALSE)","v":"Cancer Prevalence"},"2011/12","07G",2236,null,161318,1.39,1.33,1.45,17.708492343693909,18.15603427402182,null,1.5980000000000001,1.4860000000000002,"","Y55","X24","1031","Wilson"]
[103,{"$f":"VLOOKUP(tblData[[#This Row],[Indicator ID]],'Similar 10 CCGs'!$A$6:$C$160,3,FALSE)","v":"Cancer Prevalence"},"2011/12","07H",5406,null,291230,1.86,1.81,1.91,17.708492343693909,18.15603427402182,null,1.9019999999999999,1.7719999999999998,"B","Y55","X24","1031","Wilson"]
[103,{"$f":"VLOOKUP(tblData[[#This Row],[Indicator ID]],'Similar 10 CCGs'!$A$6:$C$160,3,FALSE)","v":"Cancer Prevalence"},"2011/12","07J",3857,null,164506,2.34,2.27,2.41,17.708492343693909,18.15603427402182,null,2.2789999999999999,2.206,"A","Y55","X24","1031","Wilson"]
[103,{"$f":"VLOOKUP(tblData[[#This Row],[Indicator ID]],'Similar 10 CCGs'!$A$6:$C$160,3,FALSE)","v":"Cancer Prevalence"},"2011/12","07K",5380,null,236634,2.27,2.21,2.33,17.708492343693909,18.15603427402182,null,2.2529999999999997,2.1599999999999997,"A","Y55","X24","1031","Wilson"]
[103,{"$f":"VLOOKUP(tblData[[#This Row],[Indicator ID]],'Similar 10 CCGs'!$A$6:$C$160,3,FALSE)","v":"Cancer Prevalence"},"2011/12","07L",2085,null,201601,1.03,0.99,1.07,17.708492343693909,12.746610549385988,null,1.222,1.0960000000000001,"C","Y56","X24","1031","Wilson"]
[103,{"$f":"VLOOKUP(tblData[[#This Row],[Indicator ID]],'Similar 10 CCGs'!$A$6:$C$160,3,FALSE)","v":"Cancer Prevalence"},"2011/12","07M",6353,null,378983,1.68,1.64,1.72,17.708492343693909,12.746610549385988,null,1.589,1.4179999999999999,"B","Y56","X24","1031","Wilson"]
[103,{"$f":"VLOOKUP(tblData[[#This Row],[Indicator ID]],'Similar 10 CCGs'!$A$6:$C$160,3,FALSE)","v":"Cancer Prevalence"},"2011/12","07N",3994,null,228448,1.75,1.7,1.8,17.708492343693909,12.746610549385988,null,1.657,1.532,"B","Y56","X24","1031","Wilson"]
[103,{"$f":"VLOOKUP(tblData[[#This Row],[Indicator ID]],'Similar 10 CCGs'!$A$6:$C$160,3,FALSE)","v":"Cancer Prevalence"},"2011/12","07P",3903,null,333639,1.17,1.1299999999999999,1.21,17.708492343693909,12.746610549385988,null,1.22,1.1379999999999999,"B","Y56","X24","1031","Wilson"]
[103,{"$f":"VLOOKUP(tblData[[#This Row],[Indicator ID]],'Similar 10 CCGs'!$A$6:$C$160,3,FALSE)","v":"Cancer Prevalence"},"2011/12","07Q",6257,null,325750,1.92,1.87,1.97,17.708492343693909,12.746610549385988,null,1.802,1.6640000000000001,"A","Y56","X24","1031","Wilson"]
[103,{"$f":"VLOOKUP(tblData[[#This Row],[Indicator ID]],'Similar 10 CCGs'!$A$6:$C$160,3,FALSE)","v":"Cancer Prevalence"},"2011/12","07R",3191,null,258783,1.23,1.19,1.27,17.708492343693909,12.746610549385988,null,1.33,1.202,"A","Y56","X24","1031","Wilson"]
[103,{"$f":"VLOOKUP(tblData[[#This Row],[Indicator ID]],'Similar 10 CCGs'!$A$6:$C$160,3,FALSE)","v":"Cancer Prevalence"},"2011/12","07T",2815,null,286478,0.98,0.94,1.02,17.708492343693909,12.746610549385988,null,1.1440000000000001,1.0779999999999998,"","Y56","X24","1031","Wilson"]
[103,{"$f":"VLOOKUP(tblData[[#This Row],[Indicator ID]],'Similar 10 CCGs'!$A$6:$C$160,3,FALSE)","v":"Cancer Prevalence"},"2011/12","07V",5546,null,383343,1.45,1.41,1.49,17.708492343693909,12.746610549385988,null,1.2710000000000001,1.1079999999999999,"","Y56","X24","1031","Wilson"]
[103,{"$f":"VLOOKUP(tblData[[#This Row],[Indicator ID]],'Similar 10 CCGs'!$A$6:$C$160,3,FALSE)","v":"Cancer Prevalence"},"2011/12","07W",4639,null,393933,1.18,1.1499999999999999,1.21,17.708492343693909,12.746610549385988,null,1.2360000000000002,1.1099999999999999,"","Y56","X24","1031","Wilson"]
[103,{"$f":"VLOOKUP(tblData[[#This Row],[Indicator ID]],'Similar 10 CCGs'!$A$6:$C$160,3,FALSE)","v":"Cancer Prevalence"},"2011/12","07X",4264,null,288724,1.48,1.44,1.52,17.708492343693909,12.746610549385988,null,1.383,1.1739999999999999,"A","Y56","X24","1031","Wilson"]
[103,{"$f":"VLOOKUP(tblData[[#This Row],[Indicator ID]],'Similar 10 CCGs'!$A$6:$C$160,3,FALSE)","v":"Cancer Prevalence"},"2011/12","07Y",3401,null,280205,1.21,1.17,1.25,17.708492343693909,12.746610549385988,null,1.2190000000000001,1.0859999999999999,"B","Y56","X24","1031","Wilson"]
[103,{"$f":"VLOOKUP(tblData[[#This Row],[Indicator ID]],'Similar 10 CCGs'!$A$6:$C$160,3,FALSE)","v":"Cancer Prevalence"},"2011/12","08A",3402,null,276087,1.23,1.19,1.27,17.708492343693909,12.746610549385988,null,1.232,1.1079999999999999,"","Y56","X24","1031","Wilson"]
[103,{"$f":"VLOOKUP(tblData[[#This Row],[Indicator ID]],'Similar 10 CCGs'!$A$6:$C$160,3,FALSE)","v":"Cancer Prevalence"},"2011/12","08C",2334,null,198466,1.18,1.1299999999999999,1.23,17.708492343693909,12.746610549385988,null,1.1460000000000001,1.042,"A","Y56","X24","1031","Wilson"]
[103,{"$f":"VLOOKUP(tblData[[#This Row],[Indicator ID]],'Similar 10 CCGs'!$A$6:$C$160,3,FALSE)","v":"Cancer Prevalence"},"2011/12","08D",3169,null,273462,1.1599999999999999,1.1200000000000001,1.2,17.708492343693909,12.746610549385988,null,1.1969999999999998,1.0680000000000001,"","Y56","X24","1031","Wilson"]
[103,{"$f":"VLOOKUP(tblData[[#This Row],[Indicator ID]],'Similar 10 CCGs'!$A$6:$C$160,3,FALSE)","v":"Cancer Prevalence"},"2011/12","08E",3257,null,224682,1.45,1.4,1.5,17.708492343693909,12.746610549385988,null,1.323,1.1319999999999999,"","Y56","X24","1031","Wilson"]
[103,{"$f":"VLOOKUP(tblData[[#This Row],[Indicator ID]],'Similar 10 CCGs'!$A$6:$C$160,3,FALSE)","v":"Cancer Prevalence"},"2011/12","08F",4420,null,257279,1.72,1.67,1.77,17.708492343693909,12.746610549385988,null,1.9440000000000002,1.8219999999999998,"","Y56","X24","1031","Wilson"]
[103,{"$f":"VLOOKUP(tblData[[#This Row],[Indicator ID]],'Similar 10 CCGs'!$A$6:$C$160,3,FALSE)","v":"Cancer Prevalence"},"2011/12","08G",3921,null,282436,1.39,1.35,1.43,17.708492343693909,12.746610549385988,null,1.466,1.2899999999999998,"","Y56","X24","1031","Wilson"]
[103,{"$f":"VLOOKUP(tblData[[#This Row],[Indicator ID]],'Similar 10 CCGs'!$A$6:$C$160,3,FALSE)","v":"Cancer Prevalence"},"2011/12","08H",2818,null,220190,1.28,1.23,1.33,17.708492343693909,12.746610549385988,null,1.1609999999999998,1.0559999999999998,"A","Y56","X24","1031","Wilson"]
[103,{"$f":"VLOOKUP(tblData[[#This Row],[Indicator ID]],'Similar 10 CCGs'!$A$6:$C$160,3,FALSE)","v":"Cancer Prevalence"},"2011/12","08J",2691,null,188991,1.42,1.37,1.47,17.708492343693909,12.746610549385988,null,1.675,1.5539999999999998,"C","Y56","X24","1031","Wilson"]
[103,{"$f":"VLOOKUP(tblData[[#This Row],[Indicator ID]],'Similar 10 CCGs'!$A$6:$C$160,3,FALSE)","v":"Cancer Prevalence"},"2011/12","08K",4153,null,381991,1.0900000000000001,1.06,1.1200000000000001,17.708492343693909,12.746610549385988,null,1.0720000000000001,0.95600000000000007,"","Y56","X24","1031","Wilson"]
[103,{"$f":"VLOOKUP(tblData[[#This Row],[Indicator ID]],'Similar 10 CCGs'!$A$6:$C$160,3,FALSE)","v":"Cancer Prevalence"},"2011/12","08L",3639,null,306263,1.19,1.1499999999999999,1.23,17.708492343693909,12.746610549385988,null,1.125,1.014,"","Y56","X24","1031","Wilson"]
[103,{"$f":"VLOOKUP(tblData[[#This Row],[Indicator ID]],'Similar 10 CCGs'!$A$6:$C$160,3,FALSE)","v":"Cancer Prevalence"},"2011/12","08M",2455,null,368016,0.67,0.64,0.7,17.708492343693909,12.746610549385988,null,1.0900000000000001,0.95199999999999996,"C","Y56","X24","1031","Wilson"]
[103,{"$f":"VLOOKUP(tblData[[#This Row],[Indicator ID]],'Similar 10 CCGs'!$A$6:$C$160,3,FALSE)","v":"Cancer Prevalence"},"2011/12","08N",3374,null,287529,1.17,1.1299999999999999,1.21,17.708492343693909,12.746610549385988,null,1.2989999999999999,1.1440000000000001,"","Y56","X24","1031","Wilson"]
[103,{"$f":"VLOOKUP(tblData[[#This Row],[Indicator ID]],'Similar 10 CCGs'!$A$6:$C$160,3,FALSE)","v":"Cancer Prevalence"},"2011/12","08P",3006,null,197994,1.52,1.47,1.57,17.708492343693909,12.746610549385988,null,1.7939999999999998,1.6579999999999999,"B","Y56","X24","1031","Wilson"]
[103,{"$f":"VLOOKUP(tblData[[#This Row],[Indicator ID]],'Similar 10 CCGs'!$A$6:$C$160,3,FALSE)","v":"Cancer Prevalence"},"2011/12","08Q",3209,null,327517,0.98,0.95,1.01,17.708492343693909,12.746610549385988,null,1.1439999999999999,1.0779999999999998,"","Y56","X24","1031","Wilson"]
[103,{"$f":"VLOOKUP(tblData[[#This Row],[Indicator ID]],'Similar 10 CCGs'!$A$6:$C$160,3,FALSE)","v":"Cancer Prevalence"},"2011/12","08R",2944,null,212502,1.39,1.34,1.44,17.708492343693909,12.746610549385988,null,1.4179999999999999,1.1879999999999999,"","Y56","X24","1031","Wilson"]
[103,{"$f":"VLOOKUP(tblData[[#This Row],[Indicator ID]],'Similar 10 CCGs'!$A$6:$C$160,3,FALSE)","v":"Cancer Prevalence"},"2011/12","08T",3124,null,184345,1.69,1.63,1.75,17.708492343693909,12.746610549385988,null,1.7170000000000001,1.5639999999999998,"","Y56","X24","1031","Wilson"]
[103,{"$f":"VLOOKUP(tblData[[#This Row],[Indicator ID]],'Similar 10 CCGs'!$A$6:$C$160,3,FALSE)","v":"Cancer Prevalence"},"2011/12","08V",2230,null,278239,0.8,0.77,0.83,17.708492343693909,12.746610549385988,null,1.1469999999999998,1.0539999999999998,"C","Y56","X24","1031","Wilson"]
[103,{"$f":"VLOOKUP(tblData[[#This Row],[Indicator ID]],'Similar 10 CCGs'!$A$6:$C$160,3,FALSE)","v":"Cancer Prevalence"},"2011/12","08W",2899,null,293890,0.99,0.95,1.03,17.708492343693909,12.746610549385988,null,1.2010000000000001,1.1039999999999999,"C","Y56","X24","1031","Wilson"]
[103,{"$f":"VLOOKUP(tblData[[#This Row],[Indicator ID]],'Similar 10 CCGs'!$A$6:$C$160,3,FALSE)","v":"Cancer Prevalence"},"2011/12","08X",4146,null,353385,1.17,1.1399999999999999,1.21,17.708492343693909,12.746610549385988,null,1.246,1.1359999999999999,"","Y56","X24","1031","Wilson"]
[103,{"$f":"VLOOKUP(tblData[[#This Row],[Indicator ID]],'Similar 10 CCGs'!$A$6:$C$160,3,FALSE)","v":"Cancer Prevalence"},"2011/12","08Y",3094,null,224877,1.38,1.33,1.43,17.708492343693909,12.746610549385988,null,1.355,1.2040000000000002,"A","Y56","X24","1031","Wilson"]
[103,{"$f":"VLOOKUP(tblData[[#This Row],[Indicator ID]],'Similar 10 CCGs'!$A$6:$C$160,3,FALSE)","v":"Cancer Prevalence"},"2011/12","09A",2608,null,193826,1.35,1.3,1.4,17.708492343693909,12.746610549385988,null,1.361,1.23,"A","Y56","X24","1031","Wilson"]
[103,{"$f":"VLOOKUP(tblData[[#This Row],[Indicator ID]],'Similar 10 CCGs'!$A$6:$C$160,3,FALSE)","v":"Cancer Prevalence"},"2011/12","09C",2419,null,123049,1.97,1.89,2.0499999999999998,17.708492343693909,19.812199445991954,null,1.891,1.7719999999999998,"A","Y57","X24","1031","Wilson"]
[103,{"$f":"VLOOKUP(tblData[[#This Row],[Indicator ID]],'Similar 10 CCGs'!$A$6:$C$160,3,FALSE)","v":"Cancer Prevalence"},"2011/12","09D",4470,null,302041,1.48,1.44,1.52,17.708492343693909,19.812199445991954,null,1.7030000000000001,1.5239999999999998,"C","Y57","X24","1031","Wilson"]
[103,{"$f":"VLOOKUP(tblData[[#This Row],[Indicator ID]],'Similar 10 CCGs'!$A$6:$C$160,3,FALSE)","v":"Cancer Prevalence"},"2011/12","09E",4077,null,212778,1.92,1.86,1.98,17.708492343693909,19.812199445991954,null,1.8990000000000002,1.768,"B","Y57","X24","1031","Wilson"]
[103,{"$f":"VLOOKUP(tblData[[#This Row],[Indicator ID]],'Similar 10 CCGs'!$A$6:$C$160,3,FALSE)","v":"Cancer Prevalence"},"2011/12","09F",4334,null,185366,2.34,2.27,2.41,17.708492343693909,19.812199445991954,null,2.3069999999999999,2.1559999999999997,"B","Y57","X24","1031","Wilson"]
[103,{"$f":"VLOOKUP(tblData[[#This Row],[Indicator ID]],'Similar 10 CCGs'!$A$6:$C$160,3,FALSE)","v":"Cancer Prevalence"},"2011/12","09G",12033,null,486276,2.4700000000000002,2.4300000000000002,2.5099999999999998,17.708492343693909,19.812199445991954,null,2.2799999999999998,2.1520000000000001,"A","Y57","X24","1031","Wilson"]
[103,{"$f":"VLOOKUP(tblData[[#This Row],[Indicator ID]],'Similar 10 CCGs'!$A$6:$C$160,3,FALSE)","v":"Cancer Prevalence"},"2011/12","09H",1848,null,125753,1.47,1.4,1.54,17.708492343693909,19.812199445991954,null,1.6930000000000001,1.6060000000000003,"C","Y57","X24","1031","Wilson"]
[103,{"$f":"VLOOKUP(tblData[[#This Row],[Indicator ID]],'Similar 10 CCGs'!$A$6:$C$160,3,FALSE)","v":"Cancer Prevalence"},"2011/12","09J",3943,null,249384,1.58,1.53,1.63,17.708492343693909,19.812199445991954,null,1.7910000000000004,1.6460000000000001,"C","Y57","X24","1031","Wilson"]
[103,{"$f":"VLOOKUP(tblData[[#This Row],[Indicator ID]],'Similar 10 CCGs'!$A$6:$C$160,3,FALSE)","v":"Cancer Prevalence"},"2011/12","09L",3225,null,170399,1.89,1.83,1.96,17.708492343693909,19.812199445991954,null,1.843,1.6719999999999999,"B","Y57","X24","1031","Wilson"]
[103,{"$f":"VLOOKUP(tblData[[#This Row],[Indicator ID]],'Similar 10 CCGs'!$A$6:$C$160,3,FALSE)","v":"Cancer Prevalence"},"2011/12","09N",4633,null,213404,2.17,2.11,2.23,17.708492343693909,19.812199445991954,null,2.097,1.956,"A","Y57","X24","1031","Wilson"]
[103,{"$f":"VLOOKUP(tblData[[#This Row],[Indicator ID]],'Similar 10 CCGs'!$A$6:$C$160,3,FALSE)","v":"Cancer Prevalence"},"2011/12","09P",4131,null,183565,2.25,2.1800000000000002,2.3199999999999998,17.708492343693909,19.812199445991954,null,2.2659999999999996,2.1779999999999999,"B","Y57","X24","1031","Wilson"]
[103,{"$f":"VLOOKUP(tblData[[#This Row],[Indicator ID]],'Similar 10 CCGs'!$A$6:$C$160,3,FALSE)","v":"Cancer Prevalence"},"2011/12","09W",4424,null,281126,1.57,1.52,1.62,17.708492343693909,19.812199445991954,null,1.6839999999999999,1.5960000000000001,"","Y57","X24","1031","Wilson"]
[103,{"$f":"VLOOKUP(tblData[[#This Row],[Indicator ID]],'Similar 10 CCGs'!$A$6:$C$160,3,FALSE)","v":"Cancer Prevalence"},"2011/12","09X",4658,null,224363,2.08,2.02,2.14,17.708492343693909,19.812199445991954,null,1.9870000000000001,1.8219999999999998,"A","Y57","X24","1031","Wilson"]
[103,{"$f":"VLOOKUP(tblData[[#This Row],[Indicator ID]],'Similar 10 CCGs'!$A$6:$C$160,3,FALSE)","v":"Cancer Prevalence"},"2011/12","09Y",6484,null,349206,1.86,1.82,1.91,17.708492343693909,19.812199445991954,null,1.8669999999999998,1.736,"B","Y57","X24","1031","Wilson"]
[103,{"$f":"VLOOKUP(tblData[[#This Row],[Indicator ID]],'Similar 10 CCGs'!$A$6:$C$160,3,FALSE)","v":"Cancer Prevalence"},"2011/12","10A",4260,null,199887,2.13,2.0699999999999998,2.19,17.708492343693909,19.812199445991954,null,2.101,1.94,"A","Y57","X24","1031","Wilson"]
[103,{"$f":"VLOOKUP(tblData[[#This Row],[Indicator ID]],'Similar 10 CCGs'!$A$6:$C$160,3,FALSE)","v":"Cancer Prevalence"},"2011/12","10C",1806,null,90403,2,1.91,2.09,17.708492343693909,19.812199445991954,null,1.871,1.704,"A","Y57","X24","1031","Wilson"]
[103,{"$f":"VLOOKUP(tblData[[#This Row],[Indicator ID]],'Similar 10 CCGs'!$A$6:$C$160,3,FALSE)","v":"Cancer Prevalence"},"2011/12","10D",1833,null,106368,1.72,1.64,1.8,17.708492343693909,19.812199445991954,null,1.8320000000000001,1.732,"","Y57","X24","1031","Wilson"]
[103,{"$f":"VLOOKUP(tblData[[#This Row],[Indicator ID]],'Similar 10 CCGs'!$A$6:$C$160,3,FALSE)","v":"Cancer Prevalence"},"2011/12","10E",2901,null,140872,2.06,1.99,2.14,17.708492343693909,19.812199445991954,null,1.9569999999999996,1.8380000000000003,"A","Y57","X24","1031","Wilson"]
[103,{"$f":"VLOOKUP(tblData[[#This Row],[Indicator ID]],'Similar 10 CCGs'!$A$6:$C$160,3,FALSE)","v":"Cancer Prevalence"},"2011/12","10G",2305,null,136117,1.69,1.62,1.76,17.708492343693909,19.812199445991954,null,1.8209999999999997,1.6439999999999997,"B","Y57","X24","1031","Wilson"]
[103,{"$f":"VLOOKUP(tblData[[#This Row],[Indicator ID]],'Similar 10 CCGs'!$A$6:$C$160,3,FALSE)","v":"Cancer Prevalence"},"2011/12","10H",6252,null,322894,1.94,1.89,1.99,17.708492343693909,19.812199445991954,null,1.861,1.746,"B","Y57","X24","1031","Wilson"]
[103,{"$f":"VLOOKUP(tblData[[#This Row],[Indicator ID]],'Similar 10 CCGs'!$A$6:$C$160,3,FALSE)","v":"Cancer Prevalence"},"2011/12","10J",3811,null,214526,1.78,1.72,1.84,17.708492343693909,19.812199445991954,null,1.8010000000000002,1.6880000000000002,"","Y57","X24","1031","Wilson"]
[103,{"$f":"VLOOKUP(tblData[[#This Row],[Indicator ID]],'Similar 10 CCGs'!$A$6:$C$160,3,FALSE)","v":"Cancer Prevalence"},"2011/12","10K",4225,null,199679,2.12,2.06,2.1800000000000002,17.708492343693909,19.812199445991954,null,1.984,1.8440000000000001,"A","Y57","X24","1031","Wilson"]
[103,{"$f":"VLOOKUP(tblData[[#This Row],[Indicator ID]],'Similar 10 CCGs'!$A$6:$C$160,3,FALSE)","v":"Cancer Prevalence"},"2011/12","10L",2958,null,140954,2.1,2.0299999999999998,2.1800000000000002,17.708492343693909,19.812199445991954,null,2.3029999999999999,2.242,"","Y57","X24","1031","Wilson"]
[103,{"$f":"VLOOKUP(tblData[[#This Row],[Indicator ID]],'Similar 10 CCGs'!$A$6:$C$160,3,FALSE)","v":"Cancer Prevalence"},"2011/12","10M",1972,null,113978,1.73,1.66,1.81,17.708492343693909,19.812199445991954,null,1.9860000000000002,1.86,"C","Y57","X24","1031","Wilson"]
[103,{"$f":"VLOOKUP(tblData[[#This Row],[Indicator ID]],'Similar 10 CCGs'!$A$6:$C$160,3,FALSE)","v":"Cancer Prevalence"},"2011/12","10N",2064,null,107019,1.93,1.85,2.0099999999999998,17.708492343693909,19.812199445991954,null,1.7879999999999998,1.704,"A","Y57","X24","1031","Wilson"]
[103,{"$f":"VLOOKUP(tblData[[#This Row],[Indicator ID]],'Similar 10 CCGs'!$A$6:$C$160,3,FALSE)","v":"Cancer Prevalence"},"2011/12","10Q",13021,null,694252,1.88,1.85,1.91,17.708492343693909,19.812199445991954,null,1.9309999999999998,1.7559999999999998,"A","Y57","X24","1031","Wilson"]
[103,{"$f":"VLOOKUP(tblData[[#This Row],[Indicator ID]],'Similar 10 CCGs'!$A$6:$C$160,3,FALSE)","v":"Cancer Prevalence"},"2011/12","10R",3304,null,216450,1.53,1.48,1.58,17.708492343693909,19.812199445991954,null,1.609,1.49,"","Y57","X24","1031","Wilson"]
[103,{"$f":"VLOOKUP(tblData[[#This Row],[Indicator ID]],'Similar 10 CCGs'!$A$6:$C$160,3,FALSE)","v":"Cancer Prevalence"},"2011/12","10T",1317,null,143386,0.92,0.87,0.97,17.708492343693909,19.812199445991954,null,1.397,1.26,"C","Y57","X24","1031","Wilson"]
[103,{"$f":"VLOOKUP(tblData[[#This Row],[Indicator ID]],'Similar 10 CCGs'!$A$6:$C$160,3,FALSE)","v":"Cancer Prevalence"},"2011/12","10V",4463,null,208985,2.14,2.08,2.2000000000000002,17.708492343693909,19.812199445991954,null,2.1149999999999998,2.008,"A","Y57","X24","1031","Wilson"]
[103,{"$f":"VLOOKUP(tblData[[#This Row],[Indicator ID]],'Similar 10 CCGs'!$A$6:$C$160,3,FALSE)","v":"Cancer Prevalence"},"2011/12","10W",1355,null,129334,1.05,1,1.1100000000000001,17.708492343693909,19.812199445991954,null,1.4849999999999999,1.3480000000000001,"C","Y57","X24","1031","Wilson"]
[103,{"$f":"VLOOKUP(tblData[[#This Row],[Indicator ID]],'Similar 10 CCGs'!$A$6:$C$160,3,FALSE)","v":"Cancer Prevalence"},"2011/12","10X",3456,null,267022,1.29,1.25,1.33,17.708492343693909,19.812199445991954,null,1.5589999999999999,1.4139999999999999,"C","Y57","X24","1031","Wilson"]
[103,{"$f":"VLOOKUP(tblData[[#This Row],[Indicator ID]],'Similar 10 CCGs'!$A$6:$C$160,3,FALSE)","v":"Cancer Prevalence"},"2011/12","10Y",3571,null,198019,1.8,1.74,1.86,17.708492343693909,19.812199445991954,null,1.9060000000000001,1.7440000000000002,"","Y57","X24","1031","Wilson"]
[103,{"$f":"VLOOKUP(tblData[[#This Row],[Indicator ID]],'Similar 10 CCGs'!$A$6:$C$160,3,FALSE)","v":"Cancer Prevalence"},"2011/12","11A",11540,null,539951,2.14,2.1,2.1800000000000002,17.708492343693909,19.812199445991954,null,2.0989999999999998,1.9239999999999999,"A","Y57","X24","1031","Wilson"]
[103,{"$f":"VLOOKUP(tblData[[#This Row],[Indicator ID]],'Similar 10 CCGs'!$A$6:$C$160,3,FALSE)","v":"Cancer Prevalence"},"2011/12","11C",2552,null,150550,1.7,1.64,1.77,17.708492343693909,19.812199445991954,null,1.8909999999999996,1.7380000000000002,"","Y57","X24","1031","Wilson"]
[103,{"$f":"VLOOKUP(tblData[[#This Row],[Indicator ID]],'Similar 10 CCGs'!$A$6:$C$160,3,FALSE)","v":"Cancer Prevalence"},"2011/12","11D",2992,null,154220,1.94,1.87,2.0099999999999998,17.708492343693909,19.812199445991954,null,1.8829999999999998,1.752,"A","Y57","X24","1031","Wilson"]
[103,{"$f":"VLOOKUP(tblData[[#This Row],[Indicator ID]],'Similar 10 CCGs'!$A$6:$C$160,3,FALSE)","v":"Cancer Prevalence"},"2011/12","11E",3966,null,197180,2.0099999999999998,1.95,2.0699999999999998,17.708492343693909,19.812199445991954,null,1.9929999999999999,1.8620000000000001,"B","Y57","X24","1031","Wilson"]
[103,{"$f":"VLOOKUP(tblData[[#This Row],[Indicator ID]],'Similar 10 CCGs'!$A$6:$C$160,3,FALSE)","v":"Cancer Prevalence"},"2011/12","11H",7216,null,475661,1.52,1.49,1.56,17.708492343693909,19.812199445991954,null,1.5940000000000001,1.486,"","Y57","X24","1031","Wilson"]
[103,{"$f":"VLOOKUP(tblData[[#This Row],[Indicator ID]],'Similar 10 CCGs'!$A$6:$C$160,3,FALSE)","v":"Cancer Prevalence"},"2011/12","11J",19120,null,765896,2.5,2.4700000000000002,2.54,17.708492343693909,19.812199445991954,null,2.113,1.952,"A","Y57","X24","1031","Wilson"]
[103,{"$f":"VLOOKUP(tblData[[#This Row],[Indicator ID]],'Similar 10 CCGs'!$A$6:$C$160,3,FALSE)","v":"Cancer Prevalence"},"2011/12","11M",12378,null,615239,2.0099999999999998,1.98,2.0499999999999998,17.708492343693909,19.812199445991954,null,1.9760000000000002,1.7900000000000003,"","Y57","X24","1031","Wilson"]
[103,{"$f":"VLOOKUP(tblData[[#This Row],[Indicator ID]],'Similar 10 CCGs'!$A$6:$C$160,3,FALSE)","v":"Cancer Prevalence"},"2011/12","11N",12045,null,555618,2.17,2.13,2.21,17.708492343693909,19.812199445991954,null,2.2439999999999998,2.0579999999999998,"","Y57","X24","1031","Wilson"]
[103,{"$f":"VLOOKUP(tblData[[#This Row],[Indicator ID]],'Similar 10 CCGs'!$A$6:$C$160,3,FALSE)","v":"Cancer Prevalence"},"2011/12","11T",4779,null,211203,2.2599999999999998,2.2000000000000002,2.3199999999999998,17.708492343693909,19.812199445991954,null,2.1579999999999999,2.0559999999999996,"A","Y57","X24","1031","Wilson"]
[103,{"$f":"VLOOKUP(tblData[[#This Row],[Indicator ID]],'Similar 10 CCGs'!$A$6:$C$160,3,FALSE)","v":"Cancer Prevalence"},"2011/12","11X",13027,null,543498,2.4,2.36,2.44,17.708492343693909,19.812199445991954,null,2.1390000000000002,1.982,"A","Y57","X24","1031","Wilson"]
[103,{"$f":"VLOOKUP(tblData[[#This Row],[Indicator ID]],'Similar 10 CCGs'!$A$6:$C$160,3,FALSE)","v":"Cancer Prevalence"},"2011/12","12A",5332,null,256061,2.08,2.0299999999999998,2.14,17.708492343693909,19.812199445991954,null,1.8719999999999999,1.72,"A","Y57","X24","1031","Wilson"]
[103,{"$f":"VLOOKUP(tblData[[#This Row],[Indicator ID]],'Similar 10 CCGs'!$A$6:$C$160,3,FALSE)","v":"Cancer Prevalence"},"2011/12","12D",3414,null,221360,1.54,1.49,1.59,17.708492343693909,19.812199445991954,null,1.7550000000000001,1.6339999999999999,"","Y57","X24","1031","Wilson"]
[103,{"$f":"VLOOKUP(tblData[[#This Row],[Indicator ID]],'Similar 10 CCGs'!$A$6:$C$160,3,FALSE)","v":"Cancer Prevalence"},"2011/12","12F",6562,null,331592,1.98,1.93,2.0299999999999998,17.708492343693909,18.137282784043258,null,1.9089999999999996,1.8039999999999998,"A","Y54","X24","1031","Wilson"]
[103,{"$f":"VLOOKUP(tblData[[#This Row],[Indicator ID]],'Similar 10 CCGs'!$A$6:$C$160,3,FALSE)","v":"Cancer Prevalence"},"2011/12","13P",11108,null,727002,1.53,1.5,1.56,17.708492343693909,18.15603427402182,null,1.5180000000000002,1.4159999999999999,"","Y55","X24","1031","Wilson"]
[103,{"$f":"VLOOKUP(tblData[[#This Row],[Indicator ID]],'Similar 10 CCGs'!$A$6:$C$160,3,FALSE)","v":"Cancer Prevalence"},"2011/12","99A",8610,null,492711,1.75,1.71,1.79,17.708492343693909,18.137282784043258,null,1.5880000000000003,1.45,"A","Y54","X24","1031","Wilson"]
[103,{"$f":"VLOOKUP(tblData[[#This Row],[Indicator ID]],'Similar 10 CCGs'!$A$6:$C$160,3,FALSE)","v":"Cancer Prevalence"},"2011/12","99C",4334,null,214926,2.02,1.96,2.08,17.708492343693909,18.137282784043258,null,1.9039999999999999,1.8259999999999998,"A","Y54","X24","1031","Wilson"]
[103,{"$f":"VLOOKUP(tblData[[#This Row],[Indicator ID]],'Similar 10 CCGs'!$A$6:$C$160,3,FALSE)","v":"Cancer Prevalence"},"2011/12","99D",3516,null,156440,2.25,2.1800000000000002,2.3199999999999998,17.708492343693909,18.15603427402182,null,2.2339999999999995,2.1580000000000004,"B","Y55","X24","1031","Wilson"]
[103,{"$f":"VLOOKUP(tblData[[#This Row],[Indicator ID]],'Similar 10 CCGs'!$A$6:$C$160,3,FALSE)","v":"Cancer Prevalence"},"2011/12","99E",4532,null,262252,1.73,1.68,1.78,17.708492343693909,18.15603427402182,null,1.863,1.7,"","Y55","X24","1031","Wilson"]
[103,{"$f":"VLOOKUP(tblData[[#This Row],[Indicator ID]],'Similar 10 CCGs'!$A$6:$C$160,3,FALSE)","v":"Cancer Prevalence"},"2011/12","99F",3363,null,177806,1.89,1.83,1.95,17.708492343693909,18.15603427402182,null,2.0409999999999995,1.94,"","Y55","X24","1031","Wilson"]
[103,{"$f":"VLOOKUP(tblData[[#This Row],[Indicator ID]],'Similar 10 CCGs'!$A$6:$C$160,3,FALSE)","v":"Cancer Prevalence"},"2011/12","99G",3185,null,186028,1.71,1.65,1.77,17.708492343693909,18.15603427402182,null,1.9829999999999999,1.8879999999999999,"C","Y55","X24","1031","Wilson"]
[103,{"$f":"VLOOKUP(tblData[[#This Row],[Indicator ID]],'Similar 10 CCGs'!$A$6:$C$160,3,FALSE)","v":"Cancer Prevalence"},"2011/12","99H",5699,null,289448,1.97,1.92,2.02,17.708492343693909,19.812199445991954,null,1.9149999999999998,1.8,"A","Y57","X24","1031","Wilson"]
[103,{"$f":"VLOOKUP(tblData[[#This Row],[Indicator ID]],'Similar 10 CCGs'!$A$6:$C$160,3,FALSE)","v":"Cancer Prevalence"},"2011/12","99J",9009,null,466241,1.93,1.89,1.97,17.708492343693909,19.812199445991954,null,1.9159999999999999,1.7599999999999998,"B","Y57","X24","1031","Wilson"]
[103,{"$f":"VLOOKUP(tblData[[#This Row],[Indicator ID]],'Similar 10 CCGs'!$A$6:$C$160,3,FALSE)","v":"Cancer Prevalence"},"2011/12","99K",3765,null,164555,2.29,2.2200000000000002,2.36,17.708492343693909,19.812199445991954,null,2.2290000000000001,2.16,"A","Y57","X24","1031","Wilson"]
[103,{"$f":"VLOOKUP(tblData[[#This Row],[Indicator ID]],'Similar 10 CCGs'!$A$6:$C$160,3,FALSE)","v":"Cancer Prevalence"},"2011/12","99M",3682,null,216963,1.7,1.65,1.76,17.708492343693909,19.812199445991954,null,1.8369999999999997,1.6879999999999999,"C","Y57","X24","1031","Wilson"]
[103,{"$f":"VLOOKUP(tblData[[#This Row],[Indicator ID]],'Similar 10 CCGs'!$A$6:$C$160,3,FALSE)","v":"Cancer Prevalence"},"2011/12","99N",10209,null,471598,2.16,2.12,2.2000000000000002,17.708492343693909,19.812199445991954,null,2.004,1.8419999999999999,"A","Y57","X24","1031","Wilson"]
[103,{"$f":"VLOOKUP(tblData[[#This Row],[Indicator ID]],'Similar 10 CCGs'!$A$6:$C$160,3,FALSE)","v":"Cancer Prevalence"},"2011/12","99P",18630,null,898677,2.0699999999999998,2.04,2.1,17.708492343693909,19.812199445991954,null,2.0609999999999999,1.8460000000000001,"B","Y57","X24","1031","Wilson"]
[103,{"$f":"VLOOKUP(tblData[[#This Row],[Indicator ID]],'Similar 10 CCGs'!$A$6:$C$160,3,FALSE)","v":"Cancer Prevalence"},"2011/12","99Q",6743,null,285265,2.36,2.2999999999999998,2.42,17.708492343693909,19.812199445991954,null,2.2370000000000001,2.1019999999999999,"A","Y57","X24","1031","Wilson"]
[104,{"$f":"VLOOKUP(tblData[[#This Row],[Indicator ID]],'Similar 10 CCGs'!$A$6:$C$160,3,FALSE)","v":"Cardiovascular Disease Primary Prevention Prevalence"},"2011/12","00C",1582,null,105927,1.49,1.42,1.56,17.162835421962559,17.394728912103801,null,1.827,1.6420000000000001,"C","Y54","X24","1041","Wilson"]
[104,{"$f":"VLOOKUP(tblData[[#This Row],[Indicator ID]],'Similar 10 CCGs'!$A$6:$C$160,3,FALSE)","v":"Cardiovascular Disease Primary Prevention Prevalence"},"2011/12","00D",5993,null,287801,2.08,2.0299999999999998,2.13,17.162835421962559,17.394728912103801,null,1.796,1.6160000000000001,"A","Y54","X24","1041","Wilson"]
[104,{"$f":"VLOOKUP(tblData[[#This Row],[Indicator ID]],'Similar 10 CCGs'!$A$6:$C$160,3,FALSE)","v":"Cardiovascular Disease Primary Prevention Prevalence"},"2011/12","00F",3966,null,206317,1.92,1.86,1.98,17.162835421962559,17.394728912103801,null,1.8160000000000001,1.6,"B","Y54","X24","1041","Wilson"]
[104,{"$f":"VLOOKUP(tblData[[#This Row],[Indicator ID]],'Similar 10 CCGs'!$A$6:$C$160,3,FALSE)","v":"Cardiovascular Disease Primary Prevention Prevalence"},"2011/12","00G",1794,null,149906,1.2,1.1499999999999999,1.26,17.162835421962559,17.394728912103801,null,1.47,1.33,"C","Y54","X24","1041","Wilson"]
[104,{"$f":"VLOOKUP(tblData[[#This Row],[Indicator ID]],'Similar 10 CCGs'!$A$6:$C$160,3,FALSE)","v":"Cardiovascular Disease Primary Prevention Prevalence"},"2011/12","00H",1775,null,130014,1.37,1.31,1.43,17.162835421962559,17.394728912103801,null,1.8520000000000003,1.6079999999999999,"C","Y54","X24","1041","Wilson"]
[104,{"$f":"VLOOKUP(tblData[[#This Row],[Indicator ID]],'Similar 10 CCGs'!$A$6:$C$160,3,FALSE)","v":"Cardiovascular Disease Primary Prevention Prevalence"},"2011/12","00J",3963,null,248033,1.6,1.55,1.65,17.162835421962559,17.394728912103801,null,1.8440000000000001,1.6059999999999999,"C","Y54","X24","1041","Wilson"]
[104,{"$f":"VLOOKUP(tblData[[#This Row],[Indicator ID]],'Similar 10 CCGs'!$A$6:$C$160,3,FALSE)","v":"Cardiovascular Disease Primary Prevention Prevalence"},"2011/12","00K",4895,null,288881,1.69,1.64,1.74,17.162835421962559,17.394728912103801,null,1.8439999999999999,1.722,"","Y54","X24","1041","Wilson"]
[104,{"$f":"VLOOKUP(tblData[[#This Row],[Indicator ID]],'Similar 10 CCGs'!$A$6:$C$160,3,FALSE)","v":"Cardiovascular Disease Primary Prevention Prevalence"},"2011/12","00L",6481,null,321055,2.02,1.97,2.0699999999999998,17.162835421962559,17.394728912103801,null,1.911,1.698,"A","Y54","X24","1041","Wilson"]
[104,{"$f":"VLOOKUP(tblData[[#This Row],[Indicator ID]],'Similar 10 CCGs'!$A$6:$C$160,3,FALSE)","v":"Cardiovascular Disease Primary Prevention Prevalence"},"2011/12","00M",4958,null,289937,1.71,1.66,1.76,17.162835421962559,17.394728912103801,null,1.8960000000000001,1.6380000000000003,"","Y54","X24","1041","Wilson"]
[104,{"$f":"VLOOKUP(tblData[[#This Row],[Indicator ID]],'Similar 10 CCGs'!$A$6:$C$160,3,FALSE)","v":"Cardiovascular Disease Primary Prevention Prevalence"},"2011/12","00N",3078,null,154487,1.99,1.92,2.06,17.162835421962559,17.394728912103801,null,1.921,1.784,"B","Y54","X24","1041","Wilson"]
[104,{"$f":"VLOOKUP(tblData[[#This Row],[Indicator ID]],'Similar 10 CCGs'!$A$6:$C$160,3,FALSE)","v":"Cardiovascular Disease Primary Prevention Prevalence"},"2011/12","00P",5997,null,284652,2.11,2.06,2.16,17.162835421962559,17.394728912103801,null,1.9829999999999999,1.8040000000000003,"A","Y54","X24","1041","Wilson"]
[104,{"$f":"VLOOKUP(tblData[[#This Row],[Indicator ID]],'Similar 10 CCGs'!$A$6:$C$160,3,FALSE)","v":"Cardiovascular Disease Primary Prevention Prevalence"},"2011/12","00Q",2597,null,168871,1.54,1.48,1.6,17.162835421962559,17.394728912103801,null,1.6740000000000002,1.524,"","Y54","X24","1041","Wilson"]
[104,{"$f":"VLOOKUP(tblData[[#This Row],[Indicator ID]],'Similar 10 CCGs'!$A$6:$C$160,3,FALSE)","v":"Cardiovascular Disease Primary Prevention Prevalence"},"2011/12","00R",3554,null,172380,2.06,1.99,2.13,17.162835421962559,17.394728912103801,null,1.9989999999999999,1.81,"A","Y54","X24","1041","Wilson"]
[104,{"$f":"VLOOKUP(tblData[[#This Row],[Indicator ID]],'Similar 10 CCGs'!$A$6:$C$160,3,FALSE)","v":"Cardiovascular Disease Primary Prevention Prevalence"},"2011/12","00T",4684,null,296304,1.58,1.54,1.63,17.162835421962559,17.394728912103801,null,1.796,1.5779999999999998,"","Y54","X24","1041","Wilson"]
[104,{"$f":"VLOOKUP(tblData[[#This Row],[Indicator ID]],'Similar 10 CCGs'!$A$6:$C$160,3,FALSE)","v":"Cardiovascular Disease Primary Prevention Prevalence"},"2011/12","00V",2790,null,188744,1.48,1.43,1.54,17.162835421962559,17.394728912103801,null,1.8190000000000002,1.6539999999999999,"C","Y54","X24","1041","Wilson"]
[104,{"$f":"VLOOKUP(tblData[[#This Row],[Indicator ID]],'Similar 10 CCGs'!$A$6:$C$160,3,FALSE)","v":"Cardiovascular Disease Primary Prevention Prevalence"},"2011/12","00W",2895,null,214540,1.35,1.3,1.4,17.162835421962559,17.394728912103801,null,1.6339999999999999,1.482,"C","Y54","X24","1041","Wilson"]
[104,{"$f":"VLOOKUP(tblData[[#This Row],[Indicator ID]],'Similar 10 CCGs'!$A$6:$C$160,3,FALSE)","v":"Cardiovascular Disease Primary Prevention Prevalence"},"2011/12","00X",3176,null,173442,1.83,1.77,1.89,17.162835421962559,17.394728912103801,null,1.7350000000000001,1.5680000000000001,"A","Y54","X24","1041","Wilson"]
[104,{"$f":"VLOOKUP(tblData[[#This Row],[Indicator ID]],'Similar 10 CCGs'!$A$6:$C$160,3,FALSE)","v":"Cardiovascular Disease Primary Prevention Prevalence"},"2011/12","00Y",4508,null,240773,1.87,1.82,1.92,17.162835421962559,17.394728912103801,null,1.641,1.516,"A","Y54","X24","1041","Wilson"]
[104,{"$f":"VLOOKUP(tblData[[#This Row],[Indicator ID]],'Similar 10 CCGs'!$A$6:$C$160,3,FALSE)","v":"Cardiovascular Disease Primary Prevention Prevalence"},"2011/12","01A",6312,null,368985,1.71,1.67,1.75,17.162835421962559,17.394728912103801,null,1.7629999999999999,1.54,"B","Y54","X24","1041","Wilson"]
[104,{"$f":"VLOOKUP(tblData[[#This Row],[Indicator ID]],'Similar 10 CCGs'!$A$6:$C$160,3,FALSE)","v":"Cardiovascular Disease Primary Prevention Prevalence"},"2011/12","01C",3652,null,201866,1.81,1.75,1.87,17.162835421962559,17.394728912103801,null,1.8419999999999999,1.6640000000000001,"B","Y54","X24","1041","Wilson"]
[104,{"$f":"VLOOKUP(tblData[[#This Row],[Indicator ID]],'Similar 10 CCGs'!$A$6:$C$160,3,FALSE)","v":"Cardiovascular Disease Primary Prevention Prevalence"},"2011/12","01D",4426,null,224196,1.97,1.91,2.0299999999999998,17.162835421962559,17.394728912103801,null,1.7230000000000003,1.484,"A","Y54","X24","1041","Wilson"]
[104,{"$f":"VLOOKUP(tblData[[#This Row],[Indicator ID]],'Similar 10 CCGs'!$A$6:$C$160,3,FALSE)","v":"Cardiovascular Disease Primary Prevention Prevalence"},"2011/12","01E",3316,null,212272,1.56,1.51,1.61,17.162835421962559,17.394728912103801,null,1.8219999999999998,1.6240000000000001,"","Y54","X24","1041","Wilson"]
[104,{"$f":"VLOOKUP(tblData[[#This Row],[Indicator ID]],'Similar 10 CCGs'!$A$6:$C$160,3,FALSE)","v":"Cardiovascular Disease Primary Prevention Prevalence"},"2011/12","01F",2488,null,128154,1.94,1.87,2.02,17.162835421962559,17.394728912103801,null,1.9300000000000002,1.702,"B","Y54","X24","1041","Wilson"]
[104,{"$f":"VLOOKUP(tblData[[#This Row],[Indicator ID]],'Similar 10 CCGs'!$A$6:$C$160,3,FALSE)","v":"Cardiovascular Disease Primary Prevention Prevalence"},"2011/12","01G",4097,null,249243,1.64,1.59,1.69,17.162835421962559,17.394728912103801,null,1.8599999999999999,1.6160000000000001,"","Y54","X24","1041","Wilson"]
[104,{"$f":"VLOOKUP(tblData[[#This Row],[Indicator ID]],'Similar 10 CCGs'!$A$6:$C$160,3,FALSE)","v":"Cardiovascular Disease Primary Prevention Prevalence"},"2011/12","01H",9800,null,525627,1.86,1.82,1.9,17.162835421962559,17.394728912103801,null,1.8350000000000002,1.6199999999999999,"A","Y54","X24","1041","Wilson"]
[104,{"$f":"VLOOKUP(tblData[[#This Row],[Indicator ID]],'Similar 10 CCGs'!$A$6:$C$160,3,FALSE)","v":"Cardiovascular Disease Primary Prevention Prevalence"},"2011/12","01J",2630,null,160868,1.63,1.57,1.69,17.162835421962559,17.394728912103801,null,1.9649999999999999,1.7559999999999998,"","Y54","X24","1041","Wilson"]
[104,{"$f":"VLOOKUP(tblData[[#This Row],[Indicator ID]],'Similar 10 CCGs'!$A$6:$C$160,3,FALSE)","v":"Cardiovascular Disease Primary Prevention Prevalence"},"2011/12","01K",2553,null,161065,1.59,1.53,1.65,17.162835421962559,17.394728912103801,null,1.5429999999999999,1.39,"B","Y54","X24","1041","Wilson"]
[104,{"$f":"VLOOKUP(tblData[[#This Row],[Indicator ID]],'Similar 10 CCGs'!$A$6:$C$160,3,FALSE)","v":"Cardiovascular Disease Primary Prevention Prevalence"},"2011/12","01M",3437,null,186773,1.84,1.78,1.9,17.162835421962559,17.394728912103801,null,1.6179999999999999,1.466,"B","Y54","X24","1041","Wilson"]
[104,{"$f":"VLOOKUP(tblData[[#This Row],[Indicator ID]],'Similar 10 CCGs'!$A$6:$C$160,3,FALSE)","v":"Cardiovascular Disease Primary Prevention Prevalence"},"2011/12","01N",2713,null,166809,1.63,1.57,1.69,17.162835421962559,17.394728912103801,null,1.784,1.5459999999999998,"B","Y54","X24","1041","Wilson"]
[104,{"$f":"VLOOKUP(tblData[[#This Row],[Indicator ID]],'Similar 10 CCGs'!$A$6:$C$160,3,FALSE)","v":"Cardiovascular Disease Primary Prevention Prevalence"},"2011/12","01R",3413,null,174182,1.96,1.9,2.0299999999999998,17.162835421962559,17.394728912103801,null,1.7469999999999999,1.6339999999999999,"A","Y54","X24","1041","Wilson"]
[104,{"$f":"VLOOKUP(tblData[[#This Row],[Indicator ID]],'Similar 10 CCGs'!$A$6:$C$160,3,FALSE)","v":"Cardiovascular Disease Primary Prevention Prevalence"},"2011/12","01T",3241,null,155295,2.09,2.02,2.16,17.162835421962559,17.394728912103801,null,1.9750000000000001,1.8960000000000001,"A","Y54","X24","1041","Wilson"]
[104,{"$f":"VLOOKUP(tblData[[#This Row],[Indicator ID]],'Similar 10 CCGs'!$A$6:$C$160,3,FALSE)","v":"Cardiovascular Disease Primary Prevention Prevalence"},"2011/12","01V",2272,null,121921,1.86,1.79,1.94,17.162835421962559,17.394728912103801,null,1.8069999999999999,1.5960000000000001,"B","Y54","X24","1041","Wilson"]
[104,{"$f":"VLOOKUP(tblData[[#This Row],[Indicator ID]],'Similar 10 CCGs'!$A$6:$C$160,3,FALSE)","v":"Cardiovascular Disease Primary Prevention Prevalence"},"2011/12","01W",5458,null,299243,1.82,1.77,1.87,17.162835421962559,17.394728912103801,null,1.8649999999999998,1.7280000000000002,"B","Y54","X24","1041","Wilson"]
[104,{"$f":"VLOOKUP(tblData[[#This Row],[Indicator ID]],'Similar 10 CCGs'!$A$6:$C$160,3,FALSE)","v":"Cardiovascular Disease Primary Prevention Prevalence"},"2011/12","01X",3885,null,192980,2.0099999999999998,1.95,2.0699999999999998,17.162835421962559,17.394728912103801,null,1.8580000000000001,1.7239999999999998,"A","Y54","X24","1041","Wilson"]
[104,{"$f":"VLOOKUP(tblData[[#This Row],[Indicator ID]],'Similar 10 CCGs'!$A$6:$C$160,3,FALSE)","v":"Cardiovascular Disease Primary Prevention Prevalence"},"2011/12","01Y",4194,null,240654,1.74,1.69,1.79,17.162835421962559,17.394728912103801,null,1.927,1.7260000000000002,"","Y54","X24","1041","Wilson"]
[104,{"$f":"VLOOKUP(tblData[[#This Row],[Indicator ID]],'Similar 10 CCGs'!$A$6:$C$160,3,FALSE)","v":"Cardiovascular Disease Primary Prevention Prevalence"},"2011/12","02A",3585,null,231440,1.55,1.5,1.6,17.162835421962559,17.394728912103801,null,1.778,1.6339999999999999,"C","Y54","X24","1041","Wilson"]
[104,{"$f":"VLOOKUP(tblData[[#This Row],[Indicator ID]],'Similar 10 CCGs'!$A$6:$C$160,3,FALSE)","v":"Cardiovascular Disease Primary Prevention Prevalence"},"2011/12","02D",1946,null,102110,1.91,1.83,2,17.162835421962559,17.394728912103801,null,1.7289999999999999,1.5960000000000001,"A","Y54","X24","1041","Wilson"]
[104,{"$f":"VLOOKUP(tblData[[#This Row],[Indicator ID]],'Similar 10 CCGs'!$A$6:$C$160,3,FALSE)","v":"Cardiovascular Disease Primary Prevention Prevalence"},"2011/12","02E",3910,null,208781,1.87,1.81,1.93,17.162835421962559,17.394728912103801,null,1.823,1.7479999999999998,"A","Y54","X24","1041","Wilson"]
[104,{"$f":"VLOOKUP(tblData[[#This Row],[Indicator ID]],'Similar 10 CCGs'!$A$6:$C$160,3,FALSE)","v":"Cardiovascular Disease Primary Prevention Prevalence"},"2011/12","02F",4488,null,254295,1.76,1.71,1.81,17.162835421962559,17.394728912103801,null,1.7939999999999998,1.6359999999999999,"","Y54","X24","1041","Wilson"]
[104,{"$f":"VLOOKUP(tblData[[#This Row],[Indicator ID]],'Similar 10 CCGs'!$A$6:$C$160,3,FALSE)","v":"Cardiovascular Disease Primary Prevention Prevalence"},"2011/12","02G",2154,null,111867,1.93,1.85,2.0099999999999998,17.162835421962559,17.394728912103801,null,1.8310000000000002,1.6519999999999999,"A","Y54","X24","1041","Wilson"]
[104,{"$f":"VLOOKUP(tblData[[#This Row],[Indicator ID]],'Similar 10 CCGs'!$A$6:$C$160,3,FALSE)","v":"Cardiovascular Disease Primary Prevention Prevalence"},"2011/12","02H",5666,null,320354,1.77,1.72,1.82,17.162835421962559,17.394728912103801,null,1.8119999999999998,1.6819999999999999,"","Y54","X24","1041","Wilson"]
[104,{"$f":"VLOOKUP(tblData[[#This Row],[Indicator ID]],'Similar 10 CCGs'!$A$6:$C$160,3,FALSE)","v":"Cardiovascular Disease Primary Prevention Prevalence"},"2011/12","02M",3294,null,151706,2.17,2.1,2.2400000000000002,17.162835421962559,17.394728912103801,null,1.7859999999999996,1.6780000000000002,"A","Y54","X24","1041","Wilson"]
[104,{"$f":"VLOOKUP(tblData[[#This Row],[Indicator ID]],'Similar 10 CCGs'!$A$6:$C$160,3,FALSE)","v":"Cardiovascular Disease Primary Prevention Prevalence"},"2011/12","02N",2652,null,155635,1.7,1.64,1.77,17.162835421962559,17.394728912103801,null,1.7609999999999999,1.5720000000000001,"","Y54","X24","1041","Wilson"]
[104,{"$f":"VLOOKUP(tblData[[#This Row],[Indicator ID]],'Similar 10 CCGs'!$A$6:$C$160,3,FALSE)","v":"Cardiovascular Disease Primary Prevention Prevalence"},"2011/12","02P",4662,null,245317,1.9,1.85,1.95,17.162835421962559,17.394728912103801,null,1.857,1.6939999999999997,"A","Y54","X24","1041","Wilson"]
[104,{"$f":"VLOOKUP(tblData[[#This Row],[Indicator ID]],'Similar 10 CCGs'!$A$6:$C$160,3,FALSE)","v":"Cardiovascular Disease Primary Prevention Prevalence"},"2011/12","02Q",1501,null,111651,1.34,1.27,1.41,17.162835421962559,17.394728912103801,null,1.8180000000000001,1.6719999999999999,"C","Y54","X24","1041","Wilson"]
[104,{"$f":"VLOOKUP(tblData[[#This Row],[Indicator ID]],'Similar 10 CCGs'!$A$6:$C$160,3,FALSE)","v":"Cardiovascular Disease Primary Prevention Prevalence"},"2011/12","02R",4677,null,330270,1.42,1.38,1.46,17.162835421962559,17.394728912103801,null,1.7930000000000004,1.5760000000000001,"C","Y54","X24","1041","Wilson"]
[104,{"$f":"VLOOKUP(tblData[[#This Row],[Indicator ID]],'Similar 10 CCGs'!$A$6:$C$160,3,FALSE)","v":"Cardiovascular Disease Primary Prevention Prevalence"},"2011/12","02T",3348,null,212976,1.57,1.52,1.62,17.162835421962559,17.394728912103801,null,1.706,1.6,"C","Y54","X24","1041","Wilson"]
[104,{"$f":"VLOOKUP(tblData[[#This Row],[Indicator ID]],'Similar 10 CCGs'!$A$6:$C$160,3,FALSE)","v":"Cardiovascular Disease Primary Prevention Prevalence"},"2011/12","02V",3210,null,201657,1.59,1.54,1.65,17.162835421962559,17.394728912103801,null,1.6120000000000001,1.518,"","Y54","X24","1041","Wilson"]
[104,{"$f":"VLOOKUP(tblData[[#This Row],[Indicator ID]],'Similar 10 CCGs'!$A$6:$C$160,3,FALSE)","v":"Cardiovascular Disease Primary Prevention Prevalence"},"2011/12","02W",1546,null,118636,1.3,1.24,1.37,17.162835421962559,17.394728912103801,null,1.65,1.5559999999999998,"C","Y54","X24","1041","Wilson"]
[104,{"$f":"VLOOKUP(tblData[[#This Row],[Indicator ID]],'Similar 10 CCGs'!$A$6:$C$160,3,FALSE)","v":"Cardiovascular Disease Primary Prevention Prevalence"},"2011/12","02X",5284,null,308637,1.71,1.66,1.76,17.162835421962559,17.394728912103801,null,1.8399999999999999,1.6679999999999999,"","Y54","X24","1041","Wilson"]
[104,{"$f":"VLOOKUP(tblData[[#This Row],[Indicator ID]],'Similar 10 CCGs'!$A$6:$C$160,3,FALSE)","v":"Cardiovascular Disease Primary Prevention Prevalence"},"2011/12","02Y",5643,null,301167,1.87,1.82,1.92,17.162835421962559,17.394728912103801,null,1.9170000000000003,1.69,"","Y54","X24","1041","Wilson"]
[104,{"$f":"VLOOKUP(tblData[[#This Row],[Indicator ID]],'Similar 10 CCGs'!$A$6:$C$160,3,FALSE)","v":"Cardiovascular Disease Primary Prevention Prevalence"},"2011/12","03A",3536,null,239050,1.48,1.43,1.53,17.162835421962559,17.394728912103801,null,1.7109999999999999,1.5959999999999999,"C","Y54","X24","1041","Wilson"]
[104,{"$f":"VLOOKUP(tblData[[#This Row],[Indicator ID]],'Similar 10 CCGs'!$A$6:$C$160,3,FALSE)","v":"Cardiovascular Disease Primary Prevention Prevalence"},"2011/12","03C",4680,null,359415,1.3,1.26,1.34,17.162835421962559,17.394728912103801,null,1.4389999999999998,1.3059999999999998,"","Y54","X24","1041","Wilson"]
[104,{"$f":"VLOOKUP(tblData[[#This Row],[Indicator ID]],'Similar 10 CCGs'!$A$6:$C$160,3,FALSE)","v":"Cardiovascular Disease Primary Prevention Prevalence"},"2011/12","03D",2783,null,141465,1.97,1.9,2.04,17.162835421962559,17.394728912103801,null,1.9280000000000002,1.784,"B","Y54","X24","1041","Wilson"]
[104,{"$f":"VLOOKUP(tblData[[#This Row],[Indicator ID]],'Similar 10 CCGs'!$A$6:$C$160,3,FALSE)","v":"Cardiovascular Disease Primary Prevention Prevalence"},"2011/12","03E",2544,null,159597,1.59,1.53,1.65,17.162835421962559,17.394728912103801,null,1.8280000000000001,1.6839999999999999,"C","Y54","X24","1041","Wilson"]
[104,{"$f":"VLOOKUP(tblData[[#This Row],[Indicator ID]],'Similar 10 CCGs'!$A$6:$C$160,3,FALSE)","v":"Cardiovascular Disease Primary Prevention Prevalence"},"2011/12","03F",5089,null,290050,1.75,1.7,1.8,17.162835421962559,17.394728912103801,null,1.9300000000000002,1.7260000000000002,"","Y54","X24","1041","Wilson"]
[104,{"$f":"VLOOKUP(tblData[[#This Row],[Indicator ID]],'Similar 10 CCGs'!$A$6:$C$160,3,FALSE)","v":"Cardiovascular Disease Primary Prevention Prevalence"},"2011/12","03G",4056,null,258661,1.57,1.52,1.62,17.162835421962559,17.394728912103801,null,1.7629999999999999,1.5719999999999998,"","Y54","X24","1041","Wilson"]
[104,{"$f":"VLOOKUP(tblData[[#This Row],[Indicator ID]],'Similar 10 CCGs'!$A$6:$C$160,3,FALSE)","v":"Cardiovascular Disease Primary Prevention Prevalence"},"2011/12","03H",3496,null,167731,2.08,2.0099999999999998,2.15,17.162835421962559,17.394728912103801,null,1.7600000000000002,1.5740000000000001,"A","Y54","X24","1041","Wilson"]
[104,{"$f":"VLOOKUP(tblData[[#This Row],[Indicator ID]],'Similar 10 CCGs'!$A$6:$C$160,3,FALSE)","v":"Cardiovascular Disease Primary Prevention Prevalence"},"2011/12","03J",3179,null,185008,1.72,1.66,1.78,17.162835421962559,17.394728912103801,null,1.6039999999999999,1.4220000000000002,"B","Y54","X24","1041","Wilson"]
[104,{"$f":"VLOOKUP(tblData[[#This Row],[Indicator ID]],'Similar 10 CCGs'!$A$6:$C$160,3,FALSE)","v":"Cardiovascular Disease Primary Prevention Prevalence"},"2011/12","03K",2878,null,168661,1.71,1.65,1.77,17.162835421962559,17.394728912103801,null,1.7749999999999999,1.5580000000000001,"","Y54","X24","1041","Wilson"]
[104,{"$f":"VLOOKUP(tblData[[#This Row],[Indicator ID]],'Similar 10 CCGs'!$A$6:$C$160,3,FALSE)","v":"Cardiovascular Disease Primary Prevention Prevalence"},"2011/12","03L",5295,null,254708,2.08,2.0299999999999998,2.14,17.162835421962559,17.394728912103801,null,1.9149999999999998,1.752,"A","Y54","X24","1041","Wilson"]
[104,{"$f":"VLOOKUP(tblData[[#This Row],[Indicator ID]],'Similar 10 CCGs'!$A$6:$C$160,3,FALSE)","v":"Cardiovascular Disease Primary Prevention Prevalence"},"2011/12","03M",2297,null,118017,1.95,1.87,2.0299999999999998,17.162835421962559,17.394728912103801,null,1.8819999999999997,1.6259999999999999,"A","Y54","X24","1041","Wilson"]
[104,{"$f":"VLOOKUP(tblData[[#This Row],[Indicator ID]],'Similar 10 CCGs'!$A$6:$C$160,3,FALSE)","v":"Cardiovascular Disease Primary Prevention Prevalence"},"2011/12","03N",8068,null,565185,1.43,1.4,1.46,17.162835421962559,17.394728912103801,null,1.6480000000000001,1.5,"","Y54","X24","1041","Wilson"]
[104,{"$f":"VLOOKUP(tblData[[#This Row],[Indicator ID]],'Similar 10 CCGs'!$A$6:$C$160,3,FALSE)","v":"Cardiovascular Disease Primary Prevention Prevalence"},"2011/12","03Q",5163,null,340298,1.52,1.48,1.56,17.162835421962559,17.394728912103801,null,1.7569999999999997,1.6239999999999999,"C","Y54","X24","1041","Wilson"]
[104,{"$f":"VLOOKUP(tblData[[#This Row],[Indicator ID]],'Similar 10 CCGs'!$A$6:$C$160,3,FALSE)","v":"Cardiovascular Disease Primary Prevention Prevalence"},"2011/12","03R",6546,null,354100,1.85,1.81,1.89,17.162835421962559,17.394728912103801,null,1.8379999999999999,1.734,"","Y54","X24","1041","Wilson"]
[104,{"$f":"VLOOKUP(tblData[[#This Row],[Indicator ID]],'Similar 10 CCGs'!$A$6:$C$160,3,FALSE)","v":"Cardiovascular Disease Primary Prevention Prevalence"},"2011/12","03T",4067,null,241613,1.68,1.63,1.73,17.162835421962559,17.672123789206918,null,1.9619999999999997,1.768,"C","Y55","X24","1041","Wilson"]
[104,{"$f":"VLOOKUP(tblData[[#This Row],[Indicator ID]],'Similar 10 CCGs'!$A$6:$C$160,3,FALSE)","v":"Cardiovascular Disease Primary Prevention Prevalence"},"2011/12","03V",1137,null,69200,1.64,1.55,1.74,17.162835421962559,17.672123789206918,null,1.8089999999999999,1.6359999999999999,"","Y55","X24","1041","Wilson"]
[104,{"$f":"VLOOKUP(tblData[[#This Row],[Indicator ID]],'Similar 10 CCGs'!$A$6:$C$160,3,FALSE)","v":"Cardiovascular Disease Primary Prevention Prevalence"},"2011/12","03W",5439,null,315168,1.73,1.69,1.78,17.162835421962559,17.672123789206918,null,1.67,1.5739999999999998,"","Y55","X24","1041","Wilson"]
[104,{"$f":"VLOOKUP(tblData[[#This Row],[Indicator ID]],'Similar 10 CCGs'!$A$6:$C$160,3,FALSE)","v":"Cardiovascular Disease Primary Prevention Prevalence"},"2011/12","03X",1513,null,97292,1.56,1.48,1.64,17.162835421962559,17.672123789206918,null,1.7080000000000002,1.5760000000000001,"","Y55","X24","1041","Wilson"]
[104,{"$f":"VLOOKUP(tblData[[#This Row],[Indicator ID]],'Similar 10 CCGs'!$A$6:$C$160,3,FALSE)","v":"Cardiovascular Disease Primary Prevention Prevalence"},"2011/12","03Y",2037,null,102317,1.99,1.91,2.08,17.162835421962559,17.672123789206918,null,1.6350000000000002,1.4740000000000002,"A","Y55","X24","1041","Wilson"]
[104,{"$f":"VLOOKUP(tblData[[#This Row],[Indicator ID]],'Similar 10 CCGs'!$A$6:$C$160,3,FALSE)","v":"Cardiovascular Disease Primary Prevention Prevalence"},"2011/12","04C",6284,null,373376,1.68,1.64,1.72,17.162835421962559,17.672123789206918,null,1.605,1.4520000000000002,"B","Y55","X24","1041","Wilson"]
[104,{"$f":"VLOOKUP(tblData[[#This Row],[Indicator ID]],'Similar 10 CCGs'!$A$6:$C$160,3,FALSE)","v":"Cardiovascular Disease Primary Prevention Prevalence"},"2011/12","04D",3804,null,226047,1.68,1.63,1.73,17.162835421962559,17.672123789206918,null,1.857,1.6280000000000001,"","Y55","X24","1041","Wilson"]
[104,{"$f":"VLOOKUP(tblData[[#This Row],[Indicator ID]],'Similar 10 CCGs'!$A$6:$C$160,3,FALSE)","v":"Cardiovascular Disease Primary Prevention Prevalence"},"2011/12","04E",2837,null,183762,1.54,1.48,1.6,17.162835421962559,17.672123789206918,null,1.863,1.746,"","Y55","X24","1041","Wilson"]
[104,{"$f":"VLOOKUP(tblData[[#This Row],[Indicator ID]],'Similar 10 CCGs'!$A$6:$C$160,3,FALSE)","v":"Cardiovascular Disease Primary Prevention Prevalence"},"2011/12","04F",5211,null,265437,1.96,1.91,2.0099999999999998,17.162835421962559,17.672123789206918,null,1.671,1.5219999999999998,"A","Y55","X24","1041","Wilson"]
[104,{"$f":"VLOOKUP(tblData[[#This Row],[Indicator ID]],'Similar 10 CCGs'!$A$6:$C$160,3,FALSE)","v":"Cardiovascular Disease Primary Prevention Prevalence"},"2011/12","04G",11867,null,628635,1.89,1.86,1.92,17.162835421962559,17.672123789206918,null,1.6639999999999997,1.5500000000000003,"A","Y55","X24","1041","Wilson"]
[104,{"$f":"VLOOKUP(tblData[[#This Row],[Indicator ID]],'Similar 10 CCGs'!$A$6:$C$160,3,FALSE)","v":"Cardiovascular Disease Primary Prevention Prevalence"},"2011/12","04H",2015,null,128014,1.57,1.5,1.64,17.162835421962559,17.672123789206918,null,1.8599999999999999,1.6859999999999999,"C","Y55","X24","1041","Wilson"]
[104,{"$f":"VLOOKUP(tblData[[#This Row],[Indicator ID]],'Similar 10 CCGs'!$A$6:$C$160,3,FALSE)","v":"Cardiovascular Disease Primary Prevention Prevalence"},"2011/12","04J",5164,null,279817,1.85,1.8,1.9,17.162835421962559,17.672123789206918,null,1.9010000000000002,1.6859999999999999,"B","Y55","X24","1041","Wilson"]
[104,{"$f":"VLOOKUP(tblData[[#This Row],[Indicator ID]],'Similar 10 CCGs'!$A$6:$C$160,3,FALSE)","v":"Cardiovascular Disease Primary Prevention Prevalence"},"2011/12","04K",4939,null,347901,1.42,1.38,1.46,17.162835421962559,17.672123789206918,null,1.48,1.3399999999999999,"","Y55","X24","1041","Wilson"]
[104,{"$f":"VLOOKUP(tblData[[#This Row],[Indicator ID]],'Similar 10 CCGs'!$A$6:$C$160,3,FALSE)","v":"Cardiovascular Disease Primary Prevention Prevalence"},"2011/12","04L",2081,null,144732,1.44,1.38,1.5,17.162835421962559,17.672123789206918,null,1.77,1.6440000000000001,"","Y55","X24","1041","Wilson"]
[104,{"$f":"VLOOKUP(tblData[[#This Row],[Indicator ID]],'Similar 10 CCGs'!$A$6:$C$160,3,FALSE)","v":"Cardiovascular Disease Primary Prevention Prevalence"},"2011/12","04M",1350,null,93461,1.44,1.37,1.52,17.162835421962559,17.672123789206918,null,1.7369999999999997,1.5879999999999999,"C","Y55","X24","1041","Wilson"]
[104,{"$f":"VLOOKUP(tblData[[#This Row],[Indicator ID]],'Similar 10 CCGs'!$A$6:$C$160,3,FALSE)","v":"Cardiovascular Disease Primary Prevention Prevalence"},"2011/12","04N",1786,null,121763,1.47,1.4,1.54,17.162835421962559,17.672123789206918,null,1.8289999999999995,1.65,"","Y55","X24","1041","Wilson"]
[104,{"$f":"VLOOKUP(tblData[[#This Row],[Indicator ID]],'Similar 10 CCGs'!$A$6:$C$160,3,FALSE)","v":"Cardiovascular Disease Primary Prevention Prevalence"},"2011/12","04Q",2465,null,129209,1.91,1.84,1.99,17.162835421962559,17.672123789206918,null,1.7939999999999998,1.5779999999999998,"A","Y55","X24","1041","Wilson"]
[104,{"$f":"VLOOKUP(tblData[[#This Row],[Indicator ID]],'Similar 10 CCGs'!$A$6:$C$160,3,FALSE)","v":"Cardiovascular Disease Primary Prevention Prevalence"},"2011/12","04R",8165,null,524920,1.56,1.53,1.59,17.162835421962559,17.672123789206918,null,1.746,1.6099999999999999,"C","Y55","X24","1041","Wilson"]
[104,{"$f":"VLOOKUP(tblData[[#This Row],[Indicator ID]],'Similar 10 CCGs'!$A$6:$C$160,3,FALSE)","v":"Cardiovascular Disease Primary Prevention Prevalence"},"2011/12","04V",6622,null,368905,1.8,1.76,1.84,17.162835421962559,17.672123789206918,null,1.7609999999999999,1.546,"","Y55","X24","1041","Wilson"]
[104,{"$f":"VLOOKUP(tblData[[#This Row],[Indicator ID]],'Similar 10 CCGs'!$A$6:$C$160,3,FALSE)","v":"Cardiovascular Disease Primary Prevention Prevalence"},"2011/12","04X",3406,null,245730,1.39,1.34,1.44,17.162835421962559,17.672123789206918,null,1.7250000000000001,1.5760000000000001,"C","Y55","X24","1041","Wilson"]
[104,{"$f":"VLOOKUP(tblData[[#This Row],[Indicator ID]],'Similar 10 CCGs'!$A$6:$C$160,3,FALSE)","v":"Cardiovascular Disease Primary Prevention Prevalence"},"2011/12","04Y",2406,null,131791,1.83,1.76,1.9,17.162835421962559,17.672123789206918,null,1.7239999999999998,1.6,"B","Y55","X24","1041","Wilson"]
[104,{"$f":"VLOOKUP(tblData[[#This Row],[Indicator ID]],'Similar 10 CCGs'!$A$6:$C$160,3,FALSE)","v":"Cardiovascular Disease Primary Prevention Prevalence"},"2011/12","05A",8583,null,463980,1.85,1.81,1.89,17.162835421962559,17.672123789206918,null,1.7240000000000002,1.4900000000000002,"A","Y55","X24","1041","Wilson"]
[104,{"$f":"VLOOKUP(tblData[[#This Row],[Indicator ID]],'Similar 10 CCGs'!$A$6:$C$160,3,FALSE)","v":"Cardiovascular Disease Primary Prevention Prevalence"},"2011/12","05C",6051,null,313830,1.93,1.88,1.98,17.162835421962559,17.672123789206918,null,1.6260000000000001,1.514,"A","Y55","X24","1041","Wilson"]
[104,{"$f":"VLOOKUP(tblData[[#This Row],[Indicator ID]],'Similar 10 CCGs'!$A$6:$C$160,3,FALSE)","v":"Cardiovascular Disease Primary Prevention Prevalence"},"2011/12","05D",2186,null,133795,1.63,1.56,1.7,17.162835421962559,17.672123789206918,null,1.722,1.5920000000000001,"","Y55","X24","1041","Wilson"]
[104,{"$f":"VLOOKUP(tblData[[#This Row],[Indicator ID]],'Similar 10 CCGs'!$A$6:$C$160,3,FALSE)","v":"Cardiovascular Disease Primary Prevention Prevalence"},"2011/12","05F",3809,null,181868,2.09,2.0299999999999998,2.16,17.162835421962559,17.672123789206918,null,1.9289999999999998,1.7719999999999998,"A","Y55","X24","1041","Wilson"]
[104,{"$f":"VLOOKUP(tblData[[#This Row],[Indicator ID]],'Similar 10 CCGs'!$A$6:$C$160,3,FALSE)","v":"Cardiovascular Disease Primary Prevention Prevalence"},"2011/12","05G",4905,null,213223,2.2999999999999998,2.2400000000000002,2.36,17.162835421962559,17.672123789206918,null,1.8699999999999999,1.6859999999999999,"A","Y55","X24","1041","Wilson"]
[104,{"$f":"VLOOKUP(tblData[[#This Row],[Indicator ID]],'Similar 10 CCGs'!$A$6:$C$160,3,FALSE)","v":"Cardiovascular Disease Primary Prevention Prevalence"},"2011/12","05H",3240,null,183653,1.76,1.7,1.82,17.162835421962559,17.672123789206918,null,1.8259999999999998,1.6800000000000002,"B","Y55","X24","1041","Wilson"]
[104,{"$f":"VLOOKUP(tblData[[#This Row],[Indicator ID]],'Similar 10 CCGs'!$A$6:$C$160,3,FALSE)","v":"Cardiovascular Disease Primary Prevention Prevalence"},"2011/12","05J",3073,null,171390,1.79,1.73,1.85,17.162835421962559,17.672123789206918,null,1.7449999999999999,1.6120000000000001,"B","Y55","X24","1041","Wilson"]
[104,{"$f":"VLOOKUP(tblData[[#This Row],[Indicator ID]],'Similar 10 CCGs'!$A$6:$C$160,3,FALSE)","v":"Cardiovascular Disease Primary Prevention Prevalence"},"2011/12","05L",9137,null,531050,1.72,1.69,1.76,17.162835421962559,17.672123789206918,null,1.6539999999999999,1.5099999999999998,"B","Y55","X24","1041","Wilson"]
[104,{"$f":"VLOOKUP(tblData[[#This Row],[Indicator ID]],'Similar 10 CCGs'!$A$6:$C$160,3,FALSE)","v":"Cardiovascular Disease Primary Prevention Prevalence"},"2011/12","05N",6189,null,297973,2.08,2.0299999999999998,2.13,17.162835421962559,17.672123789206918,null,1.9410000000000003,1.8260000000000001,"A","Y55","X24","1041","Wilson"]
[104,{"$f":"VLOOKUP(tblData[[#This Row],[Indicator ID]],'Similar 10 CCGs'!$A$6:$C$160,3,FALSE)","v":"Cardiovascular Disease Primary Prevention Prevalence"},"2011/12","05P",3853,null,235280,1.64,1.59,1.69,17.162835421962559,17.672123789206918,null,1.8,1.6380000000000003,"","Y55","X24","1041","Wilson"]
[104,{"$f":"VLOOKUP(tblData[[#This Row],[Indicator ID]],'Similar 10 CCGs'!$A$6:$C$160,3,FALSE)","v":"Cardiovascular Disease Primary Prevention Prevalence"},"2011/12","05Q",3621,null,209085,1.73,1.68,1.79,17.162835421962559,17.672123789206918,null,1.7549999999999997,1.6479999999999997,"A","Y55","X24","1041","Wilson"]
[104,{"$f":"VLOOKUP(tblData[[#This Row],[Indicator ID]],'Similar 10 CCGs'!$A$6:$C$160,3,FALSE)","v":"Cardiovascular Disease Primary Prevention Prevalence"},"2011/12","05R",4435,null,271512,1.63,1.58,1.68,17.162835421962559,17.672123789206918,null,1.8239999999999998,1.67,"C","Y55","X24","1041","Wilson"]
[104,{"$f":"VLOOKUP(tblData[[#This Row],[Indicator ID]],'Similar 10 CCGs'!$A$6:$C$160,3,FALSE)","v":"Cardiovascular Disease Primary Prevention Prevalence"},"2011/12","05T",4383,null,292433,1.5,1.46,1.54,17.162835421962559,17.672123789206918,null,1.8679999999999999,1.7439999999999998,"C","Y55","X24","1041","Wilson"]
[104,{"$f":"VLOOKUP(tblData[[#This Row],[Indicator ID]],'Similar 10 CCGs'!$A$6:$C$160,3,FALSE)","v":"Cardiovascular Disease Primary Prevention Prevalence"},"2011/12","05V",2909,null,144593,2.0099999999999998,1.94,2.08,17.162835421962559,17.672123789206918,null,1.8879999999999999,1.6839999999999999,"A","Y55","X24","1041","Wilson"]
[104,{"$f":"VLOOKUP(tblData[[#This Row],[Indicator ID]],'Similar 10 CCGs'!$A$6:$C$160,3,FALSE)","v":"Cardiovascular Disease Primary Prevention Prevalence"},"2011/12","05W",7341,null,278090,2.64,2.58,2.7,17.162835421962559,17.672123789206918,null,1.7420000000000002,1.5779999999999998,"A","Y55","X24","1041","Wilson"]
[104,{"$f":"VLOOKUP(tblData[[#This Row],[Indicator ID]],'Similar 10 CCGs'!$A$6:$C$160,3,FALSE)","v":"Cardiovascular Disease Primary Prevention Prevalence"},"2011/12","05X",3392,null,172024,1.97,1.91,2.04,17.162835421962559,17.672123789206918,null,1.7269999999999999,1.6039999999999999,"A","Y55","X24","1041","Wilson"]
[104,{"$f":"VLOOKUP(tblData[[#This Row],[Indicator ID]],'Similar 10 CCGs'!$A$6:$C$160,3,FALSE)","v":"Cardiovascular Disease Primary Prevention Prevalence"},"2011/12","05Y",5000,null,270491,1.85,1.8,1.9,17.162835421962559,17.672123789206918,null,1.8039999999999998,1.5479999999999998,"A","Y55","X24","1041","Wilson"]
[104,{"$f":"VLOOKUP(tblData[[#This Row],[Indicator ID]],'Similar 10 CCGs'!$A$6:$C$160,3,FALSE)","v":"Cardiovascular Disease Primary Prevention Prevalence"},"2011/12","06A",4298,null,260354,1.65,1.6,1.7,17.162835421962559,17.672123789206918,null,1.86,1.6179999999999999,"","Y55","X24","1041","Wilson"]
[104,{"$f":"VLOOKUP(tblData[[#This Row],[Indicator ID]],'Similar 10 CCGs'!$A$6:$C$160,3,FALSE)","v":"Cardiovascular Disease Primary Prevention Prevalence"},"2011/12","06D",2293,null,112154,2.04,1.96,2.12,17.162835421962559,17.672123789206918,null,1.8079999999999998,1.6379999999999999,"A","Y55","X24","1041","Wilson"]
[104,{"$f":"VLOOKUP(tblData[[#This Row],[Indicator ID]],'Similar 10 CCGs'!$A$6:$C$160,3,FALSE)","v":"Cardiovascular Disease Primary Prevention Prevalence"},"2011/12","06F",6878,null,436707,1.57,1.53,1.61,17.162835421962559,17.672123789206918,null,1.643,1.5139999999999998,"","Y55","X24","1041","Wilson"]
[104,{"$f":"VLOOKUP(tblData[[#This Row],[Indicator ID]],'Similar 10 CCGs'!$A$6:$C$160,3,FALSE)","v":"Cardiovascular Disease Primary Prevention Prevalence"},"2011/12","06H",15148,null,862150,1.76,1.73,1.79,17.162835421962559,17.672123789206918,null,1.7090000000000001,1.5960000000000001,"A","Y55","X24","1041","Wilson"]
[104,{"$f":"VLOOKUP(tblData[[#This Row],[Indicator ID]],'Similar 10 CCGs'!$A$6:$C$160,3,FALSE)","v":"Cardiovascular Disease Primary Prevention Prevalence"},"2011/12","06K",9618,null,566468,1.7,1.67,1.73,17.162835421962559,17.672123789206918,null,1.6160000000000001,1.5420000000000003,"A","Y55","X24","1041","Wilson"]
[104,{"$f":"VLOOKUP(tblData[[#This Row],[Indicator ID]],'Similar 10 CCGs'!$A$6:$C$160,3,FALSE)","v":"Cardiovascular Disease Primary Prevention Prevalence"},"2011/12","06L",6791,null,387143,1.75,1.71,1.79,17.162835421962559,17.672123789206918,null,1.754,1.5719999999999998,"","Y55","X24","1041","Wilson"]
[104,{"$f":"VLOOKUP(tblData[[#This Row],[Indicator ID]],'Similar 10 CCGs'!$A$6:$C$160,3,FALSE)","v":"Cardiovascular Disease Primary Prevention Prevalence"},"2011/12","06M",5756,null,230830,2.4900000000000002,2.4300000000000002,2.5499999999999998,17.162835421962559,17.672123789206918,null,1.8719999999999999,1.6759999999999997,"A","Y55","X24","1041","Wilson"]
[104,{"$f":"VLOOKUP(tblData[[#This Row],[Indicator ID]],'Similar 10 CCGs'!$A$6:$C$160,3,FALSE)","v":"Cardiovascular Disease Primary Prevention Prevalence"},"2011/12","06N",9779,null,599780,1.63,1.6,1.66,17.162835421962559,17.672123789206918,null,1.6680000000000004,1.5580000000000003,"","Y55","X24","1041","Wilson"]
[104,{"$f":"VLOOKUP(tblData[[#This Row],[Indicator ID]],'Similar 10 CCGs'!$A$6:$C$160,3,FALSE)","v":"Cardiovascular Disease Primary Prevention Prevalence"},"2011/12","06P",3532,null,213020,1.66,1.61,1.72,17.162835421962559,17.672123789206918,null,1.6280000000000001,1.462,"","Y55","X24","1041","Wilson"]
[104,{"$f":"VLOOKUP(tblData[[#This Row],[Indicator ID]],'Similar 10 CCGs'!$A$6:$C$160,3,FALSE)","v":"Cardiovascular Disease Primary Prevention Prevalence"},"2011/12","06Q",5575,null,379032,1.47,1.43,1.51,17.162835421962559,17.672123789206918,null,1.6879999999999999,1.6080000000000001,"C","Y55","X24","1041","Wilson"]
[104,{"$f":"VLOOKUP(tblData[[#This Row],[Indicator ID]],'Similar 10 CCGs'!$A$6:$C$160,3,FALSE)","v":"Cardiovascular Disease Primary Prevention Prevalence"},"2011/12","06T",7236,null,327531,2.21,2.16,2.2599999999999998,17.162835421962559,17.672123789206918,null,1.895,1.6960000000000002,"A","Y55","X24","1041","Wilson"]
[104,{"$f":"VLOOKUP(tblData[[#This Row],[Indicator ID]],'Similar 10 CCGs'!$A$6:$C$160,3,FALSE)","v":"Cardiovascular Disease Primary Prevention Prevalence"},"2011/12","06V",3099,null,167483,1.85,1.79,1.92,17.162835421962559,17.672123789206918,null,1.9290000000000003,1.782,"","Y55","X24","1041","Wilson"]
[104,{"$f":"VLOOKUP(tblData[[#This Row],[Indicator ID]],'Similar 10 CCGs'!$A$6:$C$160,3,FALSE)","v":"Cardiovascular Disease Primary Prevention Prevalence"},"2011/12","06W",2410,null,208562,1.1599999999999999,1.1100000000000001,1.21,17.162835421962559,17.672123789206918,null,1.7949999999999995,1.6060000000000003,"C","Y55","X24","1041","Wilson"]
[104,{"$f":"VLOOKUP(tblData[[#This Row],[Indicator ID]],'Similar 10 CCGs'!$A$6:$C$160,3,FALSE)","v":"Cardiovascular Disease Primary Prevention Prevalence"},"2011/12","06Y",3789,null,220178,1.72,1.67,1.78,17.162835421962559,17.672123789206918,null,1.8679999999999997,1.7,"","Y55","X24","1041","Wilson"]
[104,{"$f":"VLOOKUP(tblData[[#This Row],[Indicator ID]],'Similar 10 CCGs'!$A$6:$C$160,3,FALSE)","v":"Cardiovascular Disease Primary Prevention Prevalence"},"2011/12","07G",3264,null,161318,2.02,1.95,2.09,17.162835421962559,17.672123789206918,null,1.6130000000000002,1.4259999999999999,"A","Y55","X24","1041","Wilson"]
[104,{"$f":"VLOOKUP(tblData[[#This Row],[Indicator ID]],'Similar 10 CCGs'!$A$6:$C$160,3,FALSE)","v":"Cardiovascular Disease Primary Prevention Prevalence"},"2011/12","07H",5058,null,291230,1.74,1.69,1.79,17.162835421962559,17.672123789206918,null,1.6810000000000003,1.538,"A","Y55","X24","1041","Wilson"]
[104,{"$f":"VLOOKUP(tblData[[#This Row],[Indicator ID]],'Similar 10 CCGs'!$A$6:$C$160,3,FALSE)","v":"Cardiovascular Disease Primary Prevention Prevalence"},"2011/12","07J",3202,null,164506,1.95,1.88,2.02,17.162835421962559,17.672123789206918,null,1.9579999999999997,1.746,"B","Y55","X24","1041","Wilson"]
[104,{"$f":"VLOOKUP(tblData[[#This Row],[Indicator ID]],'Similar 10 CCGs'!$A$6:$C$160,3,FALSE)","v":"Cardiovascular Disease Primary Prevention Prevalence"},"2011/12","07K",4601,null,236634,1.94,1.89,2,17.162835421962559,17.672123789206918,null,1.907,1.75,"B","Y55","X24","1041","Wilson"]
[104,{"$f":"VLOOKUP(tblData[[#This Row],[Indicator ID]],'Similar 10 CCGs'!$A$6:$C$160,3,FALSE)","v":"Cardiovascular Disease Primary Prevention Prevalence"},"2011/12","07L",4078,null,201601,2.02,1.96,2.08,17.162835421962559,16.843169039887517,null,1.7000000000000004,1.5580000000000003,"A","Y56","X24","1041","Wilson"]
[104,{"$f":"VLOOKUP(tblData[[#This Row],[Indicator ID]],'Similar 10 CCGs'!$A$6:$C$160,3,FALSE)","v":"Cardiovascular Disease Primary Prevention Prevalence"},"2011/12","07M",6505,null,378983,1.72,1.68,1.76,17.162835421962559,16.843169039887517,null,1.6320000000000003,1.4159999999999999,"A","Y56","X24","1041","Wilson"]
[104,{"$f":"VLOOKUP(tblData[[#This Row],[Indicator ID]],'Similar 10 CCGs'!$A$6:$C$160,3,FALSE)","v":"Cardiovascular Disease Primary Prevention Prevalence"},"2011/12","07N",3773,null,228448,1.65,1.6,1.7,17.162835421962559,16.843169039887517,null,1.6650000000000003,1.47,"B","Y56","X24","1041","Wilson"]
[104,{"$f":"VLOOKUP(tblData[[#This Row],[Indicator ID]],'Similar 10 CCGs'!$A$6:$C$160,3,FALSE)","v":"Cardiovascular Disease Primary Prevention Prevalence"},"2011/12","07P",7350,null,333639,2.2000000000000002,2.15,2.25,17.162835421962559,16.843169039887517,null,1.6839999999999999,1.5640000000000001,"A","Y56","X24","1041","Wilson"]
[104,{"$f":"VLOOKUP(tblData[[#This Row],[Indicator ID]],'Similar 10 CCGs'!$A$6:$C$160,3,FALSE)","v":"Cardiovascular Disease Primary Prevention Prevalence"},"2011/12","07Q",6132,null,325750,1.88,1.83,1.93,17.162835421962559,16.843169039887517,null,1.639,1.52,"A","Y56","X24","1041","Wilson"]
[104,{"$f":"VLOOKUP(tblData[[#This Row],[Indicator ID]],'Similar 10 CCGs'!$A$6:$C$160,3,FALSE)","v":"Cardiovascular Disease Primary Prevention Prevalence"},"2011/12","07R",3731,null,258783,1.44,1.39,1.49,17.162835421962559,16.843169039887517,null,1.46,1.3599999999999999,"","Y56","X24","1041","Wilson"]
[104,{"$f":"VLOOKUP(tblData[[#This Row],[Indicator ID]],'Similar 10 CCGs'!$A$6:$C$160,3,FALSE)","v":"Cardiovascular Disease Primary Prevention Prevalence"},"2011/12","07T",4882,null,286478,1.7,1.65,1.75,17.162835421962559,16.843169039887517,null,1.7499999999999996,1.5839999999999999,"","Y56","X24","1041","Wilson"]
[104,{"$f":"VLOOKUP(tblData[[#This Row],[Indicator ID]],'Similar 10 CCGs'!$A$6:$C$160,3,FALSE)","v":"Cardiovascular Disease Primary Prevention Prevalence"},"2011/12","07V",6046,null,383343,1.58,1.54,1.62,17.162835421962559,16.843169039887517,null,1.8699999999999999,1.7259999999999998,"C","Y56","X24","1041","Wilson"]
[104,{"$f":"VLOOKUP(tblData[[#This Row],[Indicator ID]],'Similar 10 CCGs'!$A$6:$C$160,3,FALSE)","v":"Cardiovascular Disease Primary Prevention Prevalence"},"2011/12","07W",6181,null,393933,1.57,1.53,1.61,17.162835421962559,16.843169039887517,null,1.72,1.5559999999999998,"","Y56","X24","1041","Wilson"]
[104,{"$f":"VLOOKUP(tblData[[#This Row],[Indicator ID]],'Similar 10 CCGs'!$A$6:$C$160,3,FALSE)","v":"Cardiovascular Disease Primary Prevention Prevalence"},"2011/12","07X",5649,null,288724,1.96,1.91,2.0099999999999998,17.162835421962559,16.843169039887517,null,1.778,1.6359999999999999,"A","Y56","X24","1041","Wilson"]
[104,{"$f":"VLOOKUP(tblData[[#This Row],[Indicator ID]],'Similar 10 CCGs'!$A$6:$C$160,3,FALSE)","v":"Cardiovascular Disease Primary Prevention Prevalence"},"2011/12","07Y",4060,null,280205,1.45,1.41,1.49,17.162835421962559,16.843169039887517,null,1.7090000000000003,1.54,"C","Y56","X24","1041","Wilson"]
[104,{"$f":"VLOOKUP(tblData[[#This Row],[Indicator ID]],'Similar 10 CCGs'!$A$6:$C$160,3,FALSE)","v":"Cardiovascular Disease Primary Prevention Prevalence"},"2011/12","08A",5178,null,276087,1.88,1.83,1.93,17.162835421962559,16.843169039887517,null,1.827,1.6659999999999999,"A","Y56","X24","1041","Wilson"]
[104,{"$f":"VLOOKUP(tblData[[#This Row],[Indicator ID]],'Similar 10 CCGs'!$A$6:$C$160,3,FALSE)","v":"Cardiovascular Disease Primary Prevention Prevalence"},"2011/12","08C",2906,null,198466,1.46,1.41,1.51,17.162835421962559,16.843169039887517,null,1.6870000000000001,1.536,"C","Y56","X24","1041","Wilson"]
[104,{"$f":"VLOOKUP(tblData[[#This Row],[Indicator ID]],'Similar 10 CCGs'!$A$6:$C$160,3,FALSE)","v":"Cardiovascular Disease Primary Prevention Prevalence"},"2011/12","08D",4522,null,273462,1.65,1.6,1.7,17.162835421962559,16.843169039887517,null,1.825,1.6539999999999999,"","Y56","X24","1041","Wilson"]
[104,{"$f":"VLOOKUP(tblData[[#This Row],[Indicator ID]],'Similar 10 CCGs'!$A$6:$C$160,3,FALSE)","v":"Cardiovascular Disease Primary Prevention Prevalence"},"2011/12","08E",3865,null,224682,1.72,1.67,1.77,17.162835421962559,16.843169039887517,null,1.597,1.458,"A","Y56","X24","1041","Wilson"]
[104,{"$f":"VLOOKUP(tblData[[#This Row],[Indicator ID]],'Similar 10 CCGs'!$A$6:$C$160,3,FALSE)","v":"Cardiovascular Disease Primary Prevention Prevalence"},"2011/12","08F",3805,null,257279,1.48,1.43,1.53,17.162835421962559,16.843169039887517,null,1.7230000000000001,1.5939999999999999,"C","Y56","X24","1041","Wilson"]
[104,{"$f":"VLOOKUP(tblData[[#This Row],[Indicator ID]],'Similar 10 CCGs'!$A$6:$C$160,3,FALSE)","v":"Cardiovascular Disease Primary Prevention Prevalence"},"2011/12","08G",5576,null,282436,1.97,1.92,2.02,17.162835421962559,16.843169039887517,null,1.5569999999999999,1.4,"A","Y56","X24","1041","Wilson"]
[104,{"$f":"VLOOKUP(tblData[[#This Row],[Indicator ID]],'Similar 10 CCGs'!$A$6:$C$160,3,FALSE)","v":"Cardiovascular Disease Primary Prevention Prevalence"},"2011/12","08H",3768,null,220190,1.71,1.66,1.76,17.162835421962559,16.843169039887517,null,1.6260000000000001,1.4140000000000001,"A","Y56","X24","1041","Wilson"]
[104,{"$f":"VLOOKUP(tblData[[#This Row],[Indicator ID]],'Similar 10 CCGs'!$A$6:$C$160,3,FALSE)","v":"Cardiovascular Disease Primary Prevention Prevalence"},"2011/12","08J",2257,null,188991,1.19,1.1399999999999999,1.24,17.162835421962559,16.843169039887517,null,1.6069999999999998,1.4520000000000002,"C","Y56","X24","1041","Wilson"]
[104,{"$f":"VLOOKUP(tblData[[#This Row],[Indicator ID]],'Similar 10 CCGs'!$A$6:$C$160,3,FALSE)","v":"Cardiovascular Disease Primary Prevention Prevalence"},"2011/12","08K",6220,null,381991,1.63,1.59,1.67,17.162835421962559,16.843169039887517,null,1.766,1.61,"","Y56","X24","1041","Wilson"]
[104,{"$f":"VLOOKUP(tblData[[#This Row],[Indicator ID]],'Similar 10 CCGs'!$A$6:$C$160,3,FALSE)","v":"Cardiovascular Disease Primary Prevention Prevalence"},"2011/12","08L",5883,null,306263,1.92,1.87,1.97,17.162835421962559,16.843169039887517,null,1.7709999999999997,1.6059999999999999,"A","Y56","X24","1041","Wilson"]
[104,{"$f":"VLOOKUP(tblData[[#This Row],[Indicator ID]],'Similar 10 CCGs'!$A$6:$C$160,3,FALSE)","v":"Cardiovascular Disease Primary Prevention Prevalence"},"2011/12","08M",6639,null,368016,1.8,1.76,1.84,17.162835421962559,16.843169039887517,null,1.7009999999999998,1.5580000000000001,"A","Y56","X24","1041","Wilson"]
[104,{"$f":"VLOOKUP(tblData[[#This Row],[Indicator ID]],'Similar 10 CCGs'!$A$6:$C$160,3,FALSE)","v":"Cardiovascular Disease Primary Prevention Prevalence"},"2011/12","08N",4859,null,287529,1.69,1.64,1.74,17.162835421962559,16.843169039887517,null,1.6430000000000002,1.516,"B","Y56","X24","1041","Wilson"]
[104,{"$f":"VLOOKUP(tblData[[#This Row],[Indicator ID]],'Similar 10 CCGs'!$A$6:$C$160,3,FALSE)","v":"Cardiovascular Disease Primary Prevention Prevalence"},"2011/12","08P",2796,null,197994,1.41,1.36,1.46,17.162835421962559,16.843169039887517,null,1.536,1.3859999999999999,"","Y56","X24","1041","Wilson"]
[104,{"$f":"VLOOKUP(tblData[[#This Row],[Indicator ID]],'Similar 10 CCGs'!$A$6:$C$160,3,FALSE)","v":"Cardiovascular Disease Primary Prevention Prevalence"},"2011/12","08Q",5812,null,327517,1.77,1.73,1.82,17.162835421962559,16.843169039887517,null,1.7429999999999999,1.5819999999999999,"B","Y56","X24","1041","Wilson"]
[104,{"$f":"VLOOKUP(tblData[[#This Row],[Indicator ID]],'Similar 10 CCGs'!$A$6:$C$160,3,FALSE)","v":"Cardiovascular Disease Primary Prevention Prevalence"},"2011/12","08R",3333,null,212502,1.57,1.52,1.62,17.162835421962559,16.843169039887517,null,1.5730000000000002,1.4039999999999999,"B","Y56","X24","1041","Wilson"]
[104,{"$f":"VLOOKUP(tblData[[#This Row],[Indicator ID]],'Similar 10 CCGs'!$A$6:$C$160,3,FALSE)","v":"Cardiovascular Disease Primary Prevention Prevalence"},"2011/12","08T",3018,null,184345,1.64,1.58,1.7,17.162835421962559,16.843169039887517,null,1.6280000000000001,1.4319999999999999,"B","Y56","X24","1041","Wilson"]
[104,{"$f":"VLOOKUP(tblData[[#This Row],[Indicator ID]],'Similar 10 CCGs'!$A$6:$C$160,3,FALSE)","v":"Cardiovascular Disease Primary Prevention Prevalence"},"2011/12","08V",4785,null,278239,1.72,1.67,1.77,17.162835421962559,16.843169039887517,null,1.6299999999999997,1.44,"A","Y56","X24","1041","Wilson"]
[104,{"$f":"VLOOKUP(tblData[[#This Row],[Indicator ID]],'Similar 10 CCGs'!$A$6:$C$160,3,FALSE)","v":"Cardiovascular Disease Primary Prevention Prevalence"},"2011/12","08W",5326,null,293890,1.81,1.76,1.86,17.162835421962559,16.843169039887517,null,1.7810000000000001,1.6140000000000001,"A","Y56","X24","1041","Wilson"]
[104,{"$f":"VLOOKUP(tblData[[#This Row],[Indicator ID]],'Similar 10 CCGs'!$A$6:$C$160,3,FALSE)","v":"Cardiovascular Disease Primary Prevention Prevalence"},"2011/12","08X",5180,null,353385,1.47,1.43,1.51,17.162835421962559,16.843169039887517,null,1.6170000000000002,1.4460000000000002,"","Y56","X24","1041","Wilson"]
[104,{"$f":"VLOOKUP(tblData[[#This Row],[Indicator ID]],'Similar 10 CCGs'!$A$6:$C$160,3,FALSE)","v":"Cardiovascular Disease Primary Prevention Prevalence"},"2011/12","08Y",2999,null,224877,1.33,1.28,1.38,17.162835421962559,16.843169039887517,null,1.5220000000000002,1.3859999999999999,"C","Y56","X24","1041","Wilson"]
[104,{"$f":"VLOOKUP(tblData[[#This Row],[Indicator ID]],'Similar 10 CCGs'!$A$6:$C$160,3,FALSE)","v":"Cardiovascular Disease Primary Prevention Prevalence"},"2011/12","09A",2653,null,193826,1.37,1.32,1.42,17.162835421962559,16.843169039887517,null,1.45,1.3640000000000001,"","Y56","X24","1041","Wilson"]
[104,{"$f":"VLOOKUP(tblData[[#This Row],[Indicator ID]],'Similar 10 CCGs'!$A$6:$C$160,3,FALSE)","v":"Cardiovascular Disease Primary Prevention Prevalence"},"2011/12","09C",2123,null,123049,1.73,1.66,1.8,17.162835421962559,16.507762816351306,null,1.706,1.5859999999999999,"B","Y57","X24","1041","Wilson"]
[104,{"$f":"VLOOKUP(tblData[[#This Row],[Indicator ID]],'Similar 10 CCGs'!$A$6:$C$160,3,FALSE)","v":"Cardiovascular Disease Primary Prevention Prevalence"},"2011/12","09D",4032,null,302041,1.33,1.29,1.37,17.162835421962559,16.507762816351306,null,1.6059999999999999,1.4339999999999999,"C","Y57","X24","1041","Wilson"]
[104,{"$f":"VLOOKUP(tblData[[#This Row],[Indicator ID]],'Similar 10 CCGs'!$A$6:$C$160,3,FALSE)","v":"Cardiovascular Disease Primary Prevention Prevalence"},"2011/12","09E",3466,null,212778,1.63,1.58,1.68,17.162835421962559,16.507762816351306,null,1.6689999999999998,1.486,"B","Y57","X24","1041","Wilson"]
[104,{"$f":"VLOOKUP(tblData[[#This Row],[Indicator ID]],'Similar 10 CCGs'!$A$6:$C$160,3,FALSE)","v":"Cardiovascular Disease Primary Prevention Prevalence"},"2011/12","09F",3365,null,185366,1.82,1.76,1.88,17.162835421962559,16.507762816351306,null,1.9619999999999997,1.734,"","Y57","X24","1041","Wilson"]
[104,{"$f":"VLOOKUP(tblData[[#This Row],[Indicator ID]],'Similar 10 CCGs'!$A$6:$C$160,3,FALSE)","v":"Cardiovascular Disease Primary Prevention Prevalence"},"2011/12","09G",8193,null,486276,1.68,1.64,1.72,17.162835421962559,16.507762816351306,null,1.839,1.6640000000000001,"","Y57","X24","1041","Wilson"]
[104,{"$f":"VLOOKUP(tblData[[#This Row],[Indicator ID]],'Similar 10 CCGs'!$A$6:$C$160,3,FALSE)","v":"Cardiovascular Disease Primary Prevention Prevalence"},"2011/12","09H",1632,null,125753,1.3,1.24,1.36,17.162835421962559,16.507762816351306,null,1.7,1.5379999999999998,"C","Y57","X24","1041","Wilson"]
[104,{"$f":"VLOOKUP(tblData[[#This Row],[Indicator ID]],'Similar 10 CCGs'!$A$6:$C$160,3,FALSE)","v":"Cardiovascular Disease Primary Prevention Prevalence"},"2011/12","09J",3432,null,249384,1.38,1.33,1.43,17.162835421962559,16.507762816351306,null,1.671,1.53,"C","Y57","X24","1041","Wilson"]
[104,{"$f":"VLOOKUP(tblData[[#This Row],[Indicator ID]],'Similar 10 CCGs'!$A$6:$C$160,3,FALSE)","v":"Cardiovascular Disease Primary Prevention Prevalence"},"2011/12","09L",2287,null,170399,1.34,1.29,1.4,17.162835421962559,16.507762816351306,null,1.657,1.504,"C","Y57","X24","1041","Wilson"]
[104,{"$f":"VLOOKUP(tblData[[#This Row],[Indicator ID]],'Similar 10 CCGs'!$A$6:$C$160,3,FALSE)","v":"Cardiovascular Disease Primary Prevention Prevalence"},"2011/12","09N",3586,null,213404,1.68,1.63,1.74,17.162835421962559,16.507762816351306,null,1.7989999999999999,1.6320000000000001,"","Y57","X24","1041","Wilson"]
[104,{"$f":"VLOOKUP(tblData[[#This Row],[Indicator ID]],'Similar 10 CCGs'!$A$6:$C$160,3,FALSE)","v":"Cardiovascular Disease Primary Prevention Prevalence"},"2011/12","09P",4179,null,183565,2.2799999999999998,2.21,2.35,17.162835421962559,16.507762816351306,null,1.923,1.746,"A","Y57","X24","1041","Wilson"]
[104,{"$f":"VLOOKUP(tblData[[#This Row],[Indicator ID]],'Similar 10 CCGs'!$A$6:$C$160,3,FALSE)","v":"Cardiovascular Disease Primary Prevention Prevalence"},"2011/12","09W",4584,null,281126,1.63,1.58,1.68,17.162835421962559,16.507762816351306,null,1.718,1.5739999999999998,"","Y57","X24","1041","Wilson"]
[104,{"$f":"VLOOKUP(tblData[[#This Row],[Indicator ID]],'Similar 10 CCGs'!$A$6:$C$160,3,FALSE)","v":"Cardiovascular Disease Primary Prevention Prevalence"},"2011/12","09X",3994,null,224363,1.78,1.73,1.84,17.162835421962559,16.507762816351306,null,1.653,1.5,"A","Y57","X24","1041","Wilson"]
[104,{"$f":"VLOOKUP(tblData[[#This Row],[Indicator ID]],'Similar 10 CCGs'!$A$6:$C$160,3,FALSE)","v":"Cardiovascular Disease Primary Prevention Prevalence"},"2011/12","09Y",5476,null,349206,1.57,1.53,1.61,17.162835421962559,16.507762816351306,null,1.6809999999999998,1.53,"","Y57","X24","1041","Wilson"]
[104,{"$f":"VLOOKUP(tblData[[#This Row],[Indicator ID]],'Similar 10 CCGs'!$A$6:$C$160,3,FALSE)","v":"Cardiovascular Disease Primary Prevention Prevalence"},"2011/12","10A",3755,null,199887,1.88,1.82,1.94,17.162835421962559,16.507762816351306,null,1.8169999999999997,1.544,"B","Y57","X24","1041","Wilson"]
[104,{"$f":"VLOOKUP(tblData[[#This Row],[Indicator ID]],'Similar 10 CCGs'!$A$6:$C$160,3,FALSE)","v":"Cardiovascular Disease Primary Prevention Prevalence"},"2011/12","10C",1471,null,90403,1.63,1.55,1.71,17.162835421962559,16.507762816351306,null,1.6789999999999998,1.5279999999999998,"B","Y57","X24","1041","Wilson"]
[104,{"$f":"VLOOKUP(tblData[[#This Row],[Indicator ID]],'Similar 10 CCGs'!$A$6:$C$160,3,FALSE)","v":"Cardiovascular Disease Primary Prevention Prevalence"},"2011/12","10D",1866,null,106368,1.75,1.67,1.83,17.162835421962559,16.507762816351306,null,1.6850000000000001,1.52,"B","Y57","X24","1041","Wilson"]
[104,{"$f":"VLOOKUP(tblData[[#This Row],[Indicator ID]],'Similar 10 CCGs'!$A$6:$C$160,3,FALSE)","v":"Cardiovascular Disease Primary Prevention Prevalence"},"2011/12","10E",2585,null,140872,1.83,1.76,1.9,17.162835421962559,16.507762816351306,null,1.8369999999999997,1.6420000000000001,"A","Y57","X24","1041","Wilson"]
[104,{"$f":"VLOOKUP(tblData[[#This Row],[Indicator ID]],'Similar 10 CCGs'!$A$6:$C$160,3,FALSE)","v":"Cardiovascular Disease Primary Prevention Prevalence"},"2011/12","10G",2229,null,136117,1.64,1.57,1.71,17.162835421962559,16.507762816351306,null,1.6219999999999999,1.448,"A","Y57","X24","1041","Wilson"]
[104,{"$f":"VLOOKUP(tblData[[#This Row],[Indicator ID]],'Similar 10 CCGs'!$A$6:$C$160,3,FALSE)","v":"Cardiovascular Disease Primary Prevention Prevalence"},"2011/12","10H",5221,null,322894,1.62,1.58,1.66,17.162835421962559,16.507762816351306,null,1.6679999999999999,1.5660000000000001,"B","Y57","X24","1041","Wilson"]
[104,{"$f":"VLOOKUP(tblData[[#This Row],[Indicator ID]],'Similar 10 CCGs'!$A$6:$C$160,3,FALSE)","v":"Cardiovascular Disease Primary Prevention Prevalence"},"2011/12","10J",3387,null,214526,1.58,1.53,1.63,17.162835421962559,16.507762816351306,null,1.655,1.516,"","Y57","X24","1041","Wilson"]
[104,{"$f":"VLOOKUP(tblData[[#This Row],[Indicator ID]],'Similar 10 CCGs'!$A$6:$C$160,3,FALSE)","v":"Cardiovascular Disease Primary Prevention Prevalence"},"2011/12","10K",3381,null,199679,1.69,1.63,1.75,17.162835421962559,16.507762816351306,null,1.7450000000000003,1.5960000000000001,"","Y57","X24","1041","Wilson"]
[104,{"$f":"VLOOKUP(tblData[[#This Row],[Indicator ID]],'Similar 10 CCGs'!$A$6:$C$160,3,FALSE)","v":"Cardiovascular Disease Primary Prevention Prevalence"},"2011/12","10L",2087,null,140954,1.48,1.42,1.54,17.162835421962559,16.507762816351306,null,2.0049999999999999,1.8399999999999999,"C","Y57","X24","1041","Wilson"]
[104,{"$f":"VLOOKUP(tblData[[#This Row],[Indicator ID]],'Similar 10 CCGs'!$A$6:$C$160,3,FALSE)","v":"Cardiovascular Disease Primary Prevention Prevalence"},"2011/12","10M",1652,null,113978,1.45,1.38,1.52,17.162835421962559,16.507762816351306,null,1.7120000000000002,1.5919999999999999,"","Y57","X24","1041","Wilson"]
[104,{"$f":"VLOOKUP(tblData[[#This Row],[Indicator ID]],'Similar 10 CCGs'!$A$6:$C$160,3,FALSE)","v":"Cardiovascular Disease Primary Prevention Prevalence"},"2011/12","10N",1610,null,107019,1.5,1.43,1.57,17.162835421962559,16.507762816351306,null,1.6369999999999998,1.468,"","Y57","X24","1041","Wilson"]
[104,{"$f":"VLOOKUP(tblData[[#This Row],[Indicator ID]],'Similar 10 CCGs'!$A$6:$C$160,3,FALSE)","v":"Cardiovascular Disease Primary Prevention Prevalence"},"2011/12","10Q",10530,null,694252,1.52,1.49,1.55,17.162835421962559,16.507762816351306,null,1.7189999999999999,1.6,"","Y57","X24","1041","Wilson"]
[104,{"$f":"VLOOKUP(tblData[[#This Row],[Indicator ID]],'Similar 10 CCGs'!$A$6:$C$160,3,FALSE)","v":"Cardiovascular Disease Primary Prevention Prevalence"},"2011/12","10R",3114,null,216450,1.44,1.39,1.49,17.162835421962559,16.507762816351306,null,1.5169999999999999,1.3900000000000001,"","Y57","X24","1041","Wilson"]
[104,{"$f":"VLOOKUP(tblData[[#This Row],[Indicator ID]],'Similar 10 CCGs'!$A$6:$C$160,3,FALSE)","v":"Cardiovascular Disease Primary Prevention Prevalence"},"2011/12","10T",2163,null,143386,1.51,1.45,1.57,17.162835421962559,16.507762816351306,null,1.661,1.5219999999999998,"C","Y57","X24","1041","Wilson"]
[104,{"$f":"VLOOKUP(tblData[[#This Row],[Indicator ID]],'Similar 10 CCGs'!$A$6:$C$160,3,FALSE)","v":"Cardiovascular Disease Primary Prevention Prevalence"},"2011/12","10V",3365,null,208985,1.61,1.56,1.66,17.162835421962559,16.507762816351306,null,1.855,1.6740000000000002,"C","Y57","X24","1041","Wilson"]
[104,{"$f":"VLOOKUP(tblData[[#This Row],[Indicator ID]],'Similar 10 CCGs'!$A$6:$C$160,3,FALSE)","v":"Cardiovascular Disease Primary Prevention Prevalence"},"2011/12","10W",1977,null,129334,1.53,1.46,1.6,17.162835421962559,16.507762816351306,null,1.5779999999999998,1.4280000000000002,"B","Y57","X24","1041","Wilson"]
[104,{"$f":"VLOOKUP(tblData[[#This Row],[Indicator ID]],'Similar 10 CCGs'!$A$6:$C$160,3,FALSE)","v":"Cardiovascular Disease Primary Prevention Prevalence"},"2011/12","10X",4263,null,267022,1.6,1.55,1.65,17.162835421962559,16.507762816351306,null,1.468,1.3260000000000001,"A","Y57","X24","1041","Wilson"]
[104,{"$f":"VLOOKUP(tblData[[#This Row],[Indicator ID]],'Similar 10 CCGs'!$A$6:$C$160,3,FALSE)","v":"Cardiovascular Disease Primary Prevention Prevalence"},"2011/12","10Y",3514,null,198019,1.77,1.71,1.83,17.162835421962559,16.507762816351306,null,1.5790000000000002,1.444,"B","Y57","X24","1041","Wilson"]
[104,{"$f":"VLOOKUP(tblData[[#This Row],[Indicator ID]],'Similar 10 CCGs'!$A$6:$C$160,3,FALSE)","v":"Cardiovascular Disease Primary Prevention Prevalence"},"2011/12","11A",8749,null,539951,1.62,1.59,1.65,17.162835421962559,16.507762816351306,null,1.6819999999999999,1.5679999999999998,"","Y57","X24","1041","Wilson"]
[104,{"$f":"VLOOKUP(tblData[[#This Row],[Indicator ID]],'Similar 10 CCGs'!$A$6:$C$160,3,FALSE)","v":"Cardiovascular Disease Primary Prevention Prevalence"},"2011/12","11C",1922,null,150550,1.28,1.22,1.34,17.162835421962559,16.507762816351306,null,1.7010000000000001,1.5799999999999998,"C","Y57","X24","1041","Wilson"]
[104,{"$f":"VLOOKUP(tblData[[#This Row],[Indicator ID]],'Similar 10 CCGs'!$A$6:$C$160,3,FALSE)","v":"Cardiovascular Disease Primary Prevention Prevalence"},"2011/12","11D",2146,null,154220,1.39,1.33,1.45,17.162835421962559,16.507762816351306,null,1.6030000000000002,1.49,"C","Y57","X24","1041","Wilson"]
[104,{"$f":"VLOOKUP(tblData[[#This Row],[Indicator ID]],'Similar 10 CCGs'!$A$6:$C$160,3,FALSE)","v":"Cardiovascular Disease Primary Prevention Prevalence"},"2011/12","11E",3572,null,197180,1.81,1.75,1.87,17.162835421962559,16.507762816351306,null,1.6440000000000001,1.472,"A","Y57","X24","1041","Wilson"]
[104,{"$f":"VLOOKUP(tblData[[#This Row],[Indicator ID]],'Similar 10 CCGs'!$A$6:$C$160,3,FALSE)","v":"Cardiovascular Disease Primary Prevention Prevalence"},"2011/12","11H",6775,null,475661,1.42,1.39,1.45,17.162835421962559,16.507762816351306,null,1.6209999999999998,1.3919999999999999,"C","Y57","X24","1041","Wilson"]
[104,{"$f":"VLOOKUP(tblData[[#This Row],[Indicator ID]],'Similar 10 CCGs'!$A$6:$C$160,3,FALSE)","v":"Cardiovascular Disease Primary Prevention Prevalence"},"2011/12","11J",12648,null,765896,1.65,1.62,1.68,17.162835421962559,16.507762816351306,null,1.7189999999999999,1.61,"","Y57","X24","1041","Wilson"]
[104,{"$f":"VLOOKUP(tblData[[#This Row],[Indicator ID]],'Similar 10 CCGs'!$A$6:$C$160,3,FALSE)","v":"Cardiovascular Disease Primary Prevention Prevalence"},"2011/12","11M",10361,null,615239,1.68,1.65,1.71,17.162835421962559,16.507762816351306,null,1.6839999999999999,1.5500000000000003,"","Y57","X24","1041","Wilson"]
[104,{"$f":"VLOOKUP(tblData[[#This Row],[Indicator ID]],'Similar 10 CCGs'!$A$6:$C$160,3,FALSE)","v":"Cardiovascular Disease Primary Prevention Prevalence"},"2011/12","11N",8677,null,555618,1.56,1.53,1.59,17.162835421962559,16.507762816351306,null,1.8460000000000005,1.6759999999999997,"C","Y57","X24","1041","Wilson"]
[104,{"$f":"VLOOKUP(tblData[[#This Row],[Indicator ID]],'Similar 10 CCGs'!$A$6:$C$160,3,FALSE)","v":"Cardiovascular Disease Primary Prevention Prevalence"},"2011/12","11T",4007,null,211203,1.9,1.84,1.96,17.162835421962559,16.507762816351306,null,1.8239999999999994,1.65,"B","Y57","X24","1041","Wilson"]
[104,{"$f":"VLOOKUP(tblData[[#This Row],[Indicator ID]],'Similar 10 CCGs'!$A$6:$C$160,3,FALSE)","v":"Cardiovascular Disease Primary Prevention Prevalence"},"2011/12","11X",11495,null,543498,2.12,2.08,2.16,17.162835421962559,16.507762816351306,null,1.671,1.5740000000000001,"A","Y57","X24","1041","Wilson"]
[104,{"$f":"VLOOKUP(tblData[[#This Row],[Indicator ID]],'Similar 10 CCGs'!$A$6:$C$160,3,FALSE)","v":"Cardiovascular Disease Primary Prevention Prevalence"},"2011/12","12A",4652,null,256061,1.82,1.77,1.87,17.162835421962559,16.507762816351306,null,1.6649999999999998,1.5539999999999998,"A","Y57","X24","1041","Wilson"]
[104,{"$f":"VLOOKUP(tblData[[#This Row],[Indicator ID]],'Similar 10 CCGs'!$A$6:$C$160,3,FALSE)","v":"Cardiovascular Disease Primary Prevention Prevalence"},"2011/12","12D",3940,null,221360,1.78,1.73,1.84,17.162835421962559,16.507762816351306,null,1.6320000000000001,1.448,"B","Y57","X24","1041","Wilson"]
[104,{"$f":"VLOOKUP(tblData[[#This Row],[Indicator ID]],'Similar 10 CCGs'!$A$6:$C$160,3,FALSE)","v":"Cardiovascular Disease Primary Prevention Prevalence"},"2011/12","12F",6289,null,331592,1.9,1.85,1.95,17.162835421962559,17.394728912103801,null,1.9700000000000002,1.8660000000000001,"B","Y54","X24","1041","Wilson"]
[104,{"$f":"VLOOKUP(tblData[[#This Row],[Indicator ID]],'Similar 10 CCGs'!$A$6:$C$160,3,FALSE)","v":"Cardiovascular Disease Primary Prevention Prevalence"},"2011/12","13P",10427,null,727002,1.43,1.4,1.46,17.162835421962559,17.672123789206918,null,1.7269999999999999,1.5519999999999998,"C","Y55","X24","1041","Wilson"]
[104,{"$f":"VLOOKUP(tblData[[#This Row],[Indicator ID]],'Similar 10 CCGs'!$A$6:$C$160,3,FALSE)","v":"Cardiovascular Disease Primary Prevention Prevalence"},"2011/12","99A",9340,null,492711,1.9,1.86,1.94,17.162835421962559,17.394728912103801,null,1.7259999999999998,1.4819999999999998,"A","Y54","X24","1041","Wilson"]
[104,{"$f":"VLOOKUP(tblData[[#This Row],[Indicator ID]],'Similar 10 CCGs'!$A$6:$C$160,3,FALSE)","v":"Cardiovascular Disease Primary Prevention Prevalence"},"2011/12","99C",3717,null,214926,1.73,1.68,1.79,17.162835421962559,17.394728912103801,null,1.8000000000000003,1.6380000000000003,"","Y54","X24","1041","Wilson"]
[104,{"$f":"VLOOKUP(tblData[[#This Row],[Indicator ID]],'Similar 10 CCGs'!$A$6:$C$160,3,FALSE)","v":"Cardiovascular Disease Primary Prevention Prevalence"},"2011/12","99D",3433,null,156440,2.19,2.12,2.2599999999999998,17.162835421962559,17.672123789206918,null,1.8219999999999998,1.6800000000000002,"A","Y55","X24","1041","Wilson"]
[104,{"$f":"VLOOKUP(tblData[[#This Row],[Indicator ID]],'Similar 10 CCGs'!$A$6:$C$160,3,FALSE)","v":"Cardiovascular Disease Primary Prevention Prevalence"},"2011/12","99E",4978,null,262252,1.9,1.85,1.95,17.162835421962559,17.672123789206918,null,1.7030000000000001,1.58,"A","Y55","X24","1041","Wilson"]
[104,{"$f":"VLOOKUP(tblData[[#This Row],[Indicator ID]],'Similar 10 CCGs'!$A$6:$C$160,3,FALSE)","v":"Cardiovascular Disease Primary Prevention Prevalence"},"2011/12","99F",3683,null,177806,2.0699999999999998,2,2.14,17.162835421962559,17.672123789206918,null,1.6639999999999997,1.5379999999999998,"A","Y55","X24","1041","Wilson"]
[104,{"$f":"VLOOKUP(tblData[[#This Row],[Indicator ID]],'Similar 10 CCGs'!$A$6:$C$160,3,FALSE)","v":"Cardiovascular Disease Primary Prevention Prevalence"},"2011/12","99G",3892,null,186028,2.09,2.0299999999999998,2.16,17.162835421962559,17.672123789206918,null,1.8040000000000003,1.6440000000000001,"A","Y55","X24","1041","Wilson"]
[104,{"$f":"VLOOKUP(tblData[[#This Row],[Indicator ID]],'Similar 10 CCGs'!$A$6:$C$160,3,FALSE)","v":"Cardiovascular Disease Primary Prevention Prevalence"},"2011/12","99H",4753,null,289448,1.64,1.59,1.69,17.162835421962559,16.507762816351306,null,1.6200000000000003,1.4700000000000002,"B","Y57","X24","1041","Wilson"]
[104,{"$f":"VLOOKUP(tblData[[#This Row],[Indicator ID]],'Similar 10 CCGs'!$A$6:$C$160,3,FALSE)","v":"Cardiovascular Disease Primary Prevention Prevalence"},"2011/12","99J",7197,null,466241,1.54,1.51,1.58,17.162835421962559,16.507762816351306,null,1.6480000000000001,1.57,"","Y57","X24","1041","Wilson"]
[104,{"$f":"VLOOKUP(tblData[[#This Row],[Indicator ID]],'Similar 10 CCGs'!$A$6:$C$160,3,FALSE)","v":"Cardiovascular Disease Primary Prevention Prevalence"},"2011/12","99K",3282,null,164555,1.99,1.92,2.06,17.162835421962559,16.507762816351306,null,1.782,1.5819999999999999,"A","Y57","X24","1041","Wilson"]
[104,{"$f":"VLOOKUP(tblData[[#This Row],[Indicator ID]],'Similar 10 CCGs'!$A$6:$C$160,3,FALSE)","v":"Cardiovascular Disease Primary Prevention Prevalence"},"2011/12","99M",3688,null,216963,1.7,1.65,1.76,17.162835421962559,16.507762816351306,null,1.6280000000000001,1.5,"B","Y57","X24","1041","Wilson"]
[104,{"$f":"VLOOKUP(tblData[[#This Row],[Indicator ID]],'Similar 10 CCGs'!$A$6:$C$160,3,FALSE)","v":"Cardiovascular Disease Primary Prevention Prevalence"},"2011/12","99N",7690,null,471598,1.63,1.59,1.67,17.162835421962559,16.507762816351306,null,1.6679999999999999,1.54,"","Y57","X24","1041","Wilson"]
[104,{"$f":"VLOOKUP(tblData[[#This Row],[Indicator ID]],'Similar 10 CCGs'!$A$6:$C$160,3,FALSE)","v":"Cardiovascular Disease Primary Prevention Prevalence"},"2011/12","99P",15434,null,898677,1.72,1.69,1.75,17.162835421962559,16.507762816351306,null,1.7220000000000002,1.5820000000000001,"B","Y57","X24","1041","Wilson"]
[104,{"$f":"VLOOKUP(tblData[[#This Row],[Indicator ID]],'Similar 10 CCGs'!$A$6:$C$160,3,FALSE)","v":"Cardiovascular Disease Primary Prevention Prevalence"},"2011/12","99Q",5168,null,285265,1.81,1.76,1.86,17.162835421962559,16.507762816351306,null,1.9129999999999998,1.6739999999999999,"B","Y57","X24","1041","Wilson"]
[105,{"$f":"VLOOKUP(tblData[[#This Row],[Indicator ID]],'Similar 10 CCGs'!$A$6:$C$160,3,FALSE)","v":"Chronic Kidney Disease (ages 18+) Prevalence"},"2011/12","00C",3716,null,83855,4.43,4.29,4.57,42.722594991222351,46.865058704352116,null,5.4350000000000005,4.9719999999999995,"","Y54","X24","1051","Wilson"]
[105,{"$f":"VLOOKUP(tblData[[#This Row],[Indicator ID]],'Similar 10 CCGs'!$A$6:$C$160,3,FALSE)","v":"Chronic Kidney Disease (ages 18+) Prevalence"},"2011/12","00D",10850,null,229809,4.72,4.63,4.8099999999999996,42.722594991222351,46.865058704352116,null,5.3869999999999996,4.6899999999999995,"","Y54","X24","1051","Wilson"]
[105,{"$f":"VLOOKUP(tblData[[#This Row],[Indicator ID]],'Similar 10 CCGs'!$A$6:$C$160,3,FALSE)","v":"Chronic Kidney Disease (ages 18+) Prevalence"},"2011/12","00F",8629,null,166435,5.18,5.07,5.29,42.722594991222351,46.865058704352116,null,5.1209999999999996,4.2919999999999998,"A","Y54","X24","1051","Wilson"]
[105,{"$f":"VLOOKUP(tblData[[#This Row],[Indicator ID]],'Similar 10 CCGs'!$A$6:$C$160,3,FALSE)","v":"Chronic Kidney Disease (ages 18+) Prevalence"},"2011/12","00G",6917,null,119880,5.77,5.64,5.9,42.722594991222351,46.865058704352116,null,4.0960000000000001,3.4219999999999997,"A","Y54","X24","1051","Wilson"]
[105,{"$f":"VLOOKUP(tblData[[#This Row],[Indicator ID]],'Similar 10 CCGs'!$A$6:$C$160,3,FALSE)","v":"Chronic Kidney Disease (ages 18+) Prevalence"},"2011/12","00H",7301,null,100835,7.24,7.08,7.4,42.722594991222351,46.865058704352116,null,4.266,3.8759999999999999,"A","Y54","X24","1051","Wilson"]
[105,{"$f":"VLOOKUP(tblData[[#This Row],[Indicator ID]],'Similar 10 CCGs'!$A$6:$C$160,3,FALSE)","v":"Chronic Kidney Disease (ages 18+) Prevalence"},"2011/12","00J",9317,null,198882,4.68,4.59,4.7699999999999996,42.722594991222351,46.865058704352116,null,4.944,4.09,"B","Y54","X24","1051","Wilson"]
[105,{"$f":"VLOOKUP(tblData[[#This Row],[Indicator ID]],'Similar 10 CCGs'!$A$6:$C$160,3,FALSE)","v":"Chronic Kidney Disease (ages 18+) Prevalence"},"2011/12","00K",9954,null,226569,4.3899999999999997,4.3099999999999996,4.4800000000000004,42.722594991222351,46.865058704352116,null,5.0589999999999993,4.3699999999999992,"","Y54","X24","1051","Wilson"]
[105,{"$f":"VLOOKUP(tblData[[#This Row],[Indicator ID]],'Similar 10 CCGs'!$A$6:$C$160,3,FALSE)","v":"Chronic Kidney Disease (ages 18+) Prevalence"},"2011/12","00L",16714,null,260331,6.42,6.33,6.51,42.722594991222351,46.865058704352116,null,5.4949999999999992,4.726,"A","Y54","X24","1051","Wilson"]
[105,{"$f":"VLOOKUP(tblData[[#This Row],[Indicator ID]],'Similar 10 CCGs'!$A$6:$C$160,3,FALSE)","v":"Chronic Kidney Disease (ages 18+) Prevalence"},"2011/12","00M",9817,null,227298,4.32,4.24,4.4000000000000004,42.722594991222351,46.865058704352116,null,4.4320000000000004,3.8719999999999999,"","Y54","X24","1051","Wilson"]
[105,{"$f":"VLOOKUP(tblData[[#This Row],[Indicator ID]],'Similar 10 CCGs'!$A$6:$C$160,3,FALSE)","v":"Chronic Kidney Disease (ages 18+) Prevalence"},"2011/12","00N",2767,null,124592,2.2200000000000002,2.14,2.2999999999999998,42.722594991222351,46.865058704352116,null,5.0289999999999999,4.5939999999999994,"C","Y54","X24","1051","Wilson"]
[105,{"$f":"VLOOKUP(tblData[[#This Row],[Indicator ID]],'Similar 10 CCGs'!$A$6:$C$160,3,FALSE)","v":"Chronic Kidney Disease (ages 18+) Prevalence"},"2011/12","00P",8873,null,228010,3.89,3.81,3.97,42.722594991222351,46.865058704352116,null,4.2240000000000002,3.5040000000000004,"","Y54","X24","1051","Wilson"]
[105,{"$f":"VLOOKUP(tblData[[#This Row],[Indicator ID]],'Similar 10 CCGs'!$A$6:$C$160,3,FALSE)","v":"Chronic Kidney Disease (ages 18+) Prevalence"},"2011/12","00Q",4746,null,127077,3.73,3.63,3.84,42.722594991222351,46.865058704352116,null,4.302999999999999,3.6779999999999999,"","Y54","X24","1051","Wilson"]
[105,{"$f":"VLOOKUP(tblData[[#This Row],[Indicator ID]],'Similar 10 CCGs'!$A$6:$C$160,3,FALSE)","v":"Chronic Kidney Disease (ages 18+) Prevalence"},"2011/12","00R",13428,null,139170,9.65,9.5,9.81,42.722594991222351,46.865058704352116,null,4.125,3.536,"A","Y54","X24","1051","Wilson"]
[105,{"$f":"VLOOKUP(tblData[[#This Row],[Indicator ID]],'Similar 10 CCGs'!$A$6:$C$160,3,FALSE)","v":"Chronic Kidney Disease (ages 18+) Prevalence"},"2011/12","00T",13088,null,228990,5.72,5.63,5.82,42.722594991222351,46.865058704352116,null,4.1959999999999997,3.8200000000000003,"A","Y54","X24","1051","Wilson"]
[105,{"$f":"VLOOKUP(tblData[[#This Row],[Indicator ID]],'Similar 10 CCGs'!$A$6:$C$160,3,FALSE)","v":"Chronic Kidney Disease (ages 18+) Prevalence"},"2011/12","00V",6674,null,147304,4.53,4.42,4.6399999999999997,42.722594991222351,46.865058704352116,null,4.6070000000000002,4.0139999999999993,"A","Y54","X24","1051","Wilson"]
[105,{"$f":"VLOOKUP(tblData[[#This Row],[Indicator ID]],'Similar 10 CCGs'!$A$6:$C$160,3,FALSE)","v":"Chronic Kidney Disease (ages 18+) Prevalence"},"2011/12","00W",3213,null,163972,1.96,1.89,2.0299999999999998,42.722594991222351,46.865058704352116,null,3.3639999999999999,2.7519999999999998,"C","Y54","X24","1051","Wilson"]
[105,{"$f":"VLOOKUP(tblData[[#This Row],[Indicator ID]],'Similar 10 CCGs'!$A$6:$C$160,3,FALSE)","v":"Chronic Kidney Disease (ages 18+) Prevalence"},"2011/12","00X",6987,null,138521,5.04,4.93,5.16,42.722594991222351,46.865058704352116,null,5.8889999999999993,5.1239999999999997,"","Y54","X24","1051","Wilson"]
[105,{"$f":"VLOOKUP(tblData[[#This Row],[Indicator ID]],'Similar 10 CCGs'!$A$6:$C$160,3,FALSE)","v":"Chronic Kidney Disease (ages 18+) Prevalence"},"2011/12","00Y",6840,null,182740,3.74,3.65,3.83,42.722594991222351,46.865058704352116,null,4.5359999999999996,4.1319999999999997,"","Y54","X24","1051","Wilson"]
[105,{"$f":"VLOOKUP(tblData[[#This Row],[Indicator ID]],'Similar 10 CCGs'!$A$6:$C$160,3,FALSE)","v":"Chronic Kidney Disease (ages 18+) Prevalence"},"2011/12","01A",10373,null,287805,3.6,3.53,3.67,42.722594991222351,46.865058704352116,null,4.3359999999999994,3.9519999999999995,"C","Y54","X24","1051","Wilson"]
[105,{"$f":"VLOOKUP(tblData[[#This Row],[Indicator ID]],'Similar 10 CCGs'!$A$6:$C$160,3,FALSE)","v":"Chronic Kidney Disease (ages 18+) Prevalence"},"2011/12","01C",7243,null,163696,4.42,4.32,4.5199999999999996,42.722594991222351,46.865058704352116,null,5.0380000000000003,4.3400000000000007,"C","Y54","X24","1051","Wilson"]
[105,{"$f":"VLOOKUP(tblData[[#This Row],[Indicator ID]],'Similar 10 CCGs'!$A$6:$C$160,3,FALSE)","v":"Chronic Kidney Disease (ages 18+) Prevalence"},"2011/12","01D",7489,null,172644,4.34,4.24,4.4400000000000004,42.722594991222351,46.865058704352116,null,4.6980000000000004,3.9939999999999998,"","Y54","X24","1051","Wilson"]
[105,{"$f":"VLOOKUP(tblData[[#This Row],[Indicator ID]],'Similar 10 CCGs'!$A$6:$C$160,3,FALSE)","v":"Chronic Kidney Disease (ages 18+) Prevalence"},"2011/12","01E",7096,null,166665,4.26,4.16,4.3600000000000003,42.722594991222351,46.865058704352116,null,4.4309999999999992,3.8819999999999992,"","Y54","X24","1051","Wilson"]
[105,{"$f":"VLOOKUP(tblData[[#This Row],[Indicator ID]],'Similar 10 CCGs'!$A$6:$C$160,3,FALSE)","v":"Chronic Kidney Disease (ages 18+) Prevalence"},"2011/12","01F",4544,null,100296,4.53,4.4000000000000004,4.66,42.722594991222351,46.865058704352116,null,4.6989999999999998,4.0819999999999999,"","Y54","X24","1051","Wilson"]
[105,{"$f":"VLOOKUP(tblData[[#This Row],[Indicator ID]],'Similar 10 CCGs'!$A$6:$C$160,3,FALSE)","v":"Chronic Kidney Disease (ages 18+) Prevalence"},"2011/12","01G",7496,null,194440,3.86,3.78,3.95,42.722594991222351,46.865058704352116,null,4.5410000000000004,3.964,"","Y54","X24","1051","Wilson"]
[105,{"$f":"VLOOKUP(tblData[[#This Row],[Indicator ID]],'Similar 10 CCGs'!$A$6:$C$160,3,FALSE)","v":"Chronic Kidney Disease (ages 18+) Prevalence"},"2011/12","01H",21753,null,426398,5.0999999999999996,5.03,5.17,42.722594991222351,46.865058704352116,null,5.4720000000000013,4.8079999999999998,"B","Y54","X24","1051","Wilson"]
[105,{"$f":"VLOOKUP(tblData[[#This Row],[Indicator ID]],'Similar 10 CCGs'!$A$6:$C$160,3,FALSE)","v":"Chronic Kidney Disease (ages 18+) Prevalence"},"2011/12","01J",5173,null,126112,4.0999999999999996,3.99,4.21,42.722594991222351,46.865058704352116,null,4.761000000000001,3.9260000000000006,"","Y54","X24","1051","Wilson"]
[105,{"$f":"VLOOKUP(tblData[[#This Row],[Indicator ID]],'Similar 10 CCGs'!$A$6:$C$160,3,FALSE)","v":"Chronic Kidney Disease (ages 18+) Prevalence"},"2011/12","01K",8634,null,128879,6.7,6.56,6.84,42.722594991222351,46.865058704352116,null,4.1070000000000002,3.5379999999999994,"A","Y54","X24","1051","Wilson"]
[105,{"$f":"VLOOKUP(tblData[[#This Row],[Indicator ID]],'Similar 10 CCGs'!$A$6:$C$160,3,FALSE)","v":"Chronic Kidney Disease (ages 18+) Prevalence"},"2011/12","01M",4070,null,141923,2.87,2.78,2.96,42.722594991222351,46.865058704352116,null,4.7330000000000005,4.1139999999999999,"C","Y54","X24","1051","Wilson"]
[105,{"$f":"VLOOKUP(tblData[[#This Row],[Indicator ID]],'Similar 10 CCGs'!$A$6:$C$160,3,FALSE)","v":"Chronic Kidney Disease (ages 18+) Prevalence"},"2011/12","01N",3797,null,130241,2.92,2.83,3.01,42.722594991222351,46.865058704352116,null,4.0580000000000007,3.8180000000000001,"C","Y54","X24","1051","Wilson"]
[105,{"$f":"VLOOKUP(tblData[[#This Row],[Indicator ID]],'Similar 10 CCGs'!$A$6:$C$160,3,FALSE)","v":"Chronic Kidney Disease (ages 18+) Prevalence"},"2011/12","01R",7624,null,138851,5.49,5.37,5.61,42.722594991222351,46.865058704352116,null,4.8569999999999993,4.4800000000000004,"A","Y54","X24","1051","Wilson"]
[105,{"$f":"VLOOKUP(tblData[[#This Row],[Indicator ID]],'Similar 10 CCGs'!$A$6:$C$160,3,FALSE)","v":"Chronic Kidney Disease (ages 18+) Prevalence"},"2011/12","01T",6391,null,124437,5.14,5.0199999999999996,5.26,42.722594991222351,46.865058704352116,null,4.7629999999999999,4.0260000000000007,"A","Y54","X24","1051","Wilson"]
[105,{"$f":"VLOOKUP(tblData[[#This Row],[Indicator ID]],'Similar 10 CCGs'!$A$6:$C$160,3,FALSE)","v":"Chronic Kidney Disease (ages 18+) Prevalence"},"2011/12","01V",4969,null,99915,4.97,4.84,5.1100000000000003,42.722594991222351,46.865058704352116,null,6.0709999999999997,4.6139999999999999,"","Y54","X24","1051","Wilson"]
[105,{"$f":"VLOOKUP(tblData[[#This Row],[Indicator ID]],'Similar 10 CCGs'!$A$6:$C$160,3,FALSE)","v":"Chronic Kidney Disease (ages 18+) Prevalence"},"2011/12","01W",8436,null,238205,3.54,3.47,3.61,42.722594991222351,46.865058704352116,null,4.8549999999999995,4.3220000000000001,"C","Y54","X24","1051","Wilson"]
[105,{"$f":"VLOOKUP(tblData[[#This Row],[Indicator ID]],'Similar 10 CCGs'!$A$6:$C$160,3,FALSE)","v":"Chronic Kidney Disease (ages 18+) Prevalence"},"2011/12","01X",7620,null,154012,4.95,4.84,5.0599999999999996,42.722594991222351,46.865058704352116,null,4.8049999999999997,4.0380000000000003,"B","Y54","X24","1051","Wilson"]
[105,{"$f":"VLOOKUP(tblData[[#This Row],[Indicator ID]],'Similar 10 CCGs'!$A$6:$C$160,3,FALSE)","v":"Chronic Kidney Disease (ages 18+) Prevalence"},"2011/12","01Y",6305,null,188821,3.34,3.26,3.42,42.722594991222351,46.865058704352116,null,4.7220000000000004,4.3579999999999997,"C","Y54","X24","1051","Wilson"]
[105,{"$f":"VLOOKUP(tblData[[#This Row],[Indicator ID]],'Similar 10 CCGs'!$A$6:$C$160,3,FALSE)","v":"Chronic Kidney Disease (ages 18+) Prevalence"},"2011/12","02A",7672,null,181635,4.22,4.13,4.3099999999999996,42.722594991222351,46.865058704352116,null,4.2690000000000001,3.5920000000000001,"A","Y54","X24","1051","Wilson"]
[105,{"$f":"VLOOKUP(tblData[[#This Row],[Indicator ID]],'Similar 10 CCGs'!$A$6:$C$160,3,FALSE)","v":"Chronic Kidney Disease (ages 18+) Prevalence"},"2011/12","02D",4437,null,80682,5.5,5.34,5.66,42.722594991222351,46.865058704352116,null,4.6109999999999998,4.0920000000000005,"A","Y54","X24","1051","Wilson"]
[105,{"$f":"VLOOKUP(tblData[[#This Row],[Indicator ID]],'Similar 10 CCGs'!$A$6:$C$160,3,FALSE)","v":"Chronic Kidney Disease (ages 18+) Prevalence"},"2011/12","02E",7405,null,164713,4.5,4.4000000000000004,4.5999999999999996,42.722594991222351,46.865058704352116,null,4.9870000000000001,4.427999999999999,"B","Y54","X24","1051","Wilson"]
[105,{"$f":"VLOOKUP(tblData[[#This Row],[Indicator ID]],'Similar 10 CCGs'!$A$6:$C$160,3,FALSE)","v":"Chronic Kidney Disease (ages 18+) Prevalence"},"2011/12","02F",7322,null,204743,3.58,3.5,3.66,42.722594991222351,46.865058704352116,null,5.3680000000000003,4.5879999999999992,"C","Y54","X24","1051","Wilson"]
[105,{"$f":"VLOOKUP(tblData[[#This Row],[Indicator ID]],'Similar 10 CCGs'!$A$6:$C$160,3,FALSE)","v":"Chronic Kidney Disease (ages 18+) Prevalence"},"2011/12","02G",3658,null,89107,4.1100000000000003,3.98,4.24,42.722594991222351,46.865058704352116,null,5.2799999999999994,4.8520000000000003,"","Y54","X24","1051","Wilson"]
[105,{"$f":"VLOOKUP(tblData[[#This Row],[Indicator ID]],'Similar 10 CCGs'!$A$6:$C$160,3,FALSE)","v":"Chronic Kidney Disease (ages 18+) Prevalence"},"2011/12","02H",13962,null,253736,5.5,5.41,5.59,42.722594991222351,46.865058704352116,null,5.089999999999999,4.3579999999999997,"A","Y54","X24","1051","Wilson"]
[105,{"$f":"VLOOKUP(tblData[[#This Row],[Indicator ID]],'Similar 10 CCGs'!$A$6:$C$160,3,FALSE)","v":"Chronic Kidney Disease (ages 18+) Prevalence"},"2011/12","02M",11759,null,124598,9.44,9.2799999999999994,9.6,42.722594991222351,46.865058704352116,null,5.4139999999999997,4.5019999999999998,"A","Y54","X24","1051","Wilson"]
[105,{"$f":"VLOOKUP(tblData[[#This Row],[Indicator ID]],'Similar 10 CCGs'!$A$6:$C$160,3,FALSE)","v":"Chronic Kidney Disease (ages 18+) Prevalence"},"2011/12","02N",5523,null,123076,4.49,4.38,4.6100000000000003,42.722594991222351,46.865058704352116,null,4.7230000000000008,4.04,"","Y54","X24","1051","Wilson"]
[105,{"$f":"VLOOKUP(tblData[[#This Row],[Indicator ID]],'Similar 10 CCGs'!$A$6:$C$160,3,FALSE)","v":"Chronic Kidney Disease (ages 18+) Prevalence"},"2011/12","02P",12409,null,194547,6.38,6.27,6.49,42.722594991222351,46.865058704352116,null,5.1790000000000003,4.726,"A","Y54","X24","1051","Wilson"]
[105,{"$f":"VLOOKUP(tblData[[#This Row],[Indicator ID]],'Similar 10 CCGs'!$A$6:$C$160,3,FALSE)","v":"Chronic Kidney Disease (ages 18+) Prevalence"},"2011/12","02Q",5969,null,89524,6.67,6.51,6.84,42.722594991222351,46.865058704352116,null,5.173,4.7279999999999998,"A","Y54","X24","1051","Wilson"]
[105,{"$f":"VLOOKUP(tblData[[#This Row],[Indicator ID]],'Similar 10 CCGs'!$A$6:$C$160,3,FALSE)","v":"Chronic Kidney Disease (ages 18+) Prevalence"},"2011/12","02R",11427,null,250938,4.55,4.47,4.63,42.722594991222351,46.865058704352116,null,4.4130000000000003,3.9019999999999997,"A","Y54","X24","1051","Wilson"]
[105,{"$f":"VLOOKUP(tblData[[#This Row],[Indicator ID]],'Similar 10 CCGs'!$A$6:$C$160,3,FALSE)","v":"Chronic Kidney Disease (ages 18+) Prevalence"},"2011/12","02T",7538,null,166608,4.5199999999999996,4.42,4.62,42.722594991222351,46.865058704352116,null,4.2960000000000012,3.7920000000000003,"","Y54","X24","1051","Wilson"]
[105,{"$f":"VLOOKUP(tblData[[#This Row],[Indicator ID]],'Similar 10 CCGs'!$A$6:$C$160,3,FALSE)","v":"Chronic Kidney Disease (ages 18+) Prevalence"},"2011/12","02V",6813,null,159747,4.26,4.16,4.3600000000000003,42.722594991222351,46.865058704352116,null,4.2709999999999999,3.8759999999999999,"","Y54","X24","1051","Wilson"]
[105,{"$f":"VLOOKUP(tblData[[#This Row],[Indicator ID]],'Similar 10 CCGs'!$A$6:$C$160,3,FALSE)","v":"Chronic Kidney Disease (ages 18+) Prevalence"},"2011/12","02W",2307,null,81042,2.85,2.74,2.97,42.722594991222351,46.865058704352116,null,3.4579999999999997,2.71,"","Y54","X24","1051","Wilson"]
[105,{"$f":"VLOOKUP(tblData[[#This Row],[Indicator ID]],'Similar 10 CCGs'!$A$6:$C$160,3,FALSE)","v":"Chronic Kidney Disease (ages 18+) Prevalence"},"2011/12","02X",16433,null,243361,6.75,6.65,6.85,42.722594991222351,46.865058704352116,null,5.0759999999999996,4.6219999999999999,"A","Y54","X24","1051","Wilson"]
[105,{"$f":"VLOOKUP(tblData[[#This Row],[Indicator ID]],'Similar 10 CCGs'!$A$6:$C$160,3,FALSE)","v":"Chronic Kidney Disease (ages 18+) Prevalence"},"2011/12","02Y",12135,null,244980,4.95,4.8600000000000003,5.04,42.722594991222351,46.865058704352116,null,5.3280000000000003,4.5039999999999996,"","Y54","X24","1051","Wilson"]
[105,{"$f":"VLOOKUP(tblData[[#This Row],[Indicator ID]],'Similar 10 CCGs'!$A$6:$C$160,3,FALSE)","v":"Chronic Kidney Disease (ages 18+) Prevalence"},"2011/12","03A",6995,null,187206,3.74,3.65,3.83,42.722594991222351,46.865058704352116,null,5.0649999999999995,4.1019999999999994,"C","Y54","X24","1051","Wilson"]
[105,{"$f":"VLOOKUP(tblData[[#This Row],[Indicator ID]],'Similar 10 CCGs'!$A$6:$C$160,3,FALSE)","v":"Chronic Kidney Disease (ages 18+) Prevalence"},"2011/12","03C",10047,null,285841,3.51,3.44,3.58,42.722594991222351,46.865058704352116,null,4.4539999999999997,3.7280000000000002,"C","Y54","X24","1051","Wilson"]
[105,{"$f":"VLOOKUP(tblData[[#This Row],[Indicator ID]],'Similar 10 CCGs'!$A$6:$C$160,3,FALSE)","v":"Chronic Kidney Disease (ages 18+) Prevalence"},"2011/12","03D",4040,null,115267,3.5,3.4,3.61,42.722594991222351,46.865058704352116,null,4.9079999999999995,4.2219999999999995,"C","Y54","X24","1051","Wilson"]
[105,{"$f":"VLOOKUP(tblData[[#This Row],[Indicator ID]],'Similar 10 CCGs'!$A$6:$C$160,3,FALSE)","v":"Chronic Kidney Disease (ages 18+) Prevalence"},"2011/12","03E",5151,null,128684,4,3.89,4.1100000000000003,42.722594991222351,46.865058704352116,null,4.8770000000000007,4.4659999999999993,"C","Y54","X24","1051","Wilson"]
[105,{"$f":"VLOOKUP(tblData[[#This Row],[Indicator ID]],'Similar 10 CCGs'!$A$6:$C$160,3,FALSE)","v":"Chronic Kidney Disease (ages 18+) Prevalence"},"2011/12","03F",9453,null,226712,4.17,4.09,4.25,42.722594991222351,46.865058704352116,null,4.4380000000000006,3.9019999999999997,"","Y54","X24","1051","Wilson"]
[105,{"$f":"VLOOKUP(tblData[[#This Row],[Indicator ID]],'Similar 10 CCGs'!$A$6:$C$160,3,FALSE)","v":"Chronic Kidney Disease (ages 18+) Prevalence"},"2011/12","03G",8955,null,200452,4.47,4.38,4.5599999999999996,42.722594991222351,46.865058704352116,null,4.2590000000000003,3.8319999999999994,"","Y54","X24","1051","Wilson"]
[105,{"$f":"VLOOKUP(tblData[[#This Row],[Indicator ID]],'Similar 10 CCGs'!$A$6:$C$160,3,FALSE)","v":"Chronic Kidney Disease (ages 18+) Prevalence"},"2011/12","03H",7205,null,132476,5.44,5.32,5.56,42.722594991222351,46.865058704352116,null,5.4769999999999985,4.7699999999999996,"A","Y54","X24","1051","Wilson"]
[105,{"$f":"VLOOKUP(tblData[[#This Row],[Indicator ID]],'Similar 10 CCGs'!$A$6:$C$160,3,FALSE)","v":"Chronic Kidney Disease (ages 18+) Prevalence"},"2011/12","03J",6899,null,139939,4.93,4.82,5.04,42.722594991222351,46.865058704352116,null,4.5009999999999994,3.6060000000000003,"A","Y54","X24","1051","Wilson"]
[105,{"$f":"VLOOKUP(tblData[[#This Row],[Indicator ID]],'Similar 10 CCGs'!$A$6:$C$160,3,FALSE)","v":"Chronic Kidney Disease (ages 18+) Prevalence"},"2011/12","03K",6560,null,134493,4.88,4.7699999999999996,5,42.722594991222351,46.865058704352116,null,5.1069999999999993,4.5279999999999996,"","Y54","X24","1051","Wilson"]
[105,{"$f":"VLOOKUP(tblData[[#This Row],[Indicator ID]],'Similar 10 CCGs'!$A$6:$C$160,3,FALSE)","v":"Chronic Kidney Disease (ages 18+) Prevalence"},"2011/12","03L",9930,null,200360,4.96,4.87,5.0599999999999996,42.722594991222351,46.865058704352116,null,4.9610000000000003,4.194,"B","Y54","X24","1051","Wilson"]
[105,{"$f":"VLOOKUP(tblData[[#This Row],[Indicator ID]],'Similar 10 CCGs'!$A$6:$C$160,3,FALSE)","v":"Chronic Kidney Disease (ages 18+) Prevalence"},"2011/12","03M",3736,null,95816,3.9,3.78,4.0199999999999996,42.722594991222351,46.865058704352116,null,5.2249999999999996,4.42,"C","Y54","X24","1051","Wilson"]
[105,{"$f":"VLOOKUP(tblData[[#This Row],[Indicator ID]],'Similar 10 CCGs'!$A$6:$C$160,3,FALSE)","v":"Chronic Kidney Disease (ages 18+) Prevalence"},"2011/12","03N",21496,null,444560,4.84,4.78,4.9000000000000004,42.722594991222351,46.865058704352116,null,4.3970000000000002,3.8939999999999997,"A","Y54","X24","1051","Wilson"]
[105,{"$f":"VLOOKUP(tblData[[#This Row],[Indicator ID]],'Similar 10 CCGs'!$A$6:$C$160,3,FALSE)","v":"Chronic Kidney Disease (ages 18+) Prevalence"},"2011/12","03Q",10369,null,273758,3.79,3.72,3.86,42.722594991222351,46.865058704352116,null,4.6580000000000004,3.944,"","Y54","X24","1051","Wilson"]
[105,{"$f":"VLOOKUP(tblData[[#This Row],[Indicator ID]],'Similar 10 CCGs'!$A$6:$C$160,3,FALSE)","v":"Chronic Kidney Disease (ages 18+) Prevalence"},"2011/12","03R",12954,null,281138,4.6100000000000003,4.53,4.6900000000000004,42.722594991222351,46.865058704352116,null,5.0190000000000001,4.2359999999999998,"","Y54","X24","1051","Wilson"]
[105,{"$f":"VLOOKUP(tblData[[#This Row],[Indicator ID]],'Similar 10 CCGs'!$A$6:$C$160,3,FALSE)","v":"Chronic Kidney Disease (ages 18+) Prevalence"},"2011/12","03T",14671,null,197440,7.43,7.32,7.55,42.722594991222351,45.802281965414068,null,5.5639999999999992,4.8139999999999992,"A","Y55","X24","1051","Wilson"]
[105,{"$f":"VLOOKUP(tblData[[#This Row],[Indicator ID]],'Similar 10 CCGs'!$A$6:$C$160,3,FALSE)","v":"Chronic Kidney Disease (ages 18+) Prevalence"},"2011/12","03V",2213,null,53568,4.13,3.96,4.3,42.722594991222351,45.802281965414068,null,4.6130000000000004,4.2080000000000002,"","Y55","X24","1051","Wilson"]
[105,{"$f":"VLOOKUP(tblData[[#This Row],[Indicator ID]],'Similar 10 CCGs'!$A$6:$C$160,3,FALSE)","v":"Chronic Kidney Disease (ages 18+) Prevalence"},"2011/12","03W",10826,null,252608,4.29,4.21,4.37,42.722594991222351,45.802281965414068,null,4.4320000000000004,4.024,"","Y55","X24","1051","Wilson"]
[105,{"$f":"VLOOKUP(tblData[[#This Row],[Indicator ID]],'Similar 10 CCGs'!$A$6:$C$160,3,FALSE)","v":"Chronic Kidney Disease (ages 18+) Prevalence"},"2011/12","03X",5270,null,78168,6.74,6.57,6.92,42.722594991222351,45.802281965414068,null,5.5409999999999995,4.6980000000000004,"A","Y55","X24","1051","Wilson"]
[105,{"$f":"VLOOKUP(tblData[[#This Row],[Indicator ID]],'Similar 10 CCGs'!$A$6:$C$160,3,FALSE)","v":"Chronic Kidney Disease (ages 18+) Prevalence"},"2011/12","03Y",4668,null,82213,5.68,5.52,5.84,42.722594991222351,45.802281965414068,null,5.8849999999999998,5.0139999999999993,"A","Y55","X24","1051","Wilson"]
[105,{"$f":"VLOOKUP(tblData[[#This Row],[Indicator ID]],'Similar 10 CCGs'!$A$6:$C$160,3,FALSE)","v":"Chronic Kidney Disease (ages 18+) Prevalence"},"2011/12","04C",8623,null,283806,3.04,2.98,3.1,42.722594991222351,45.802281965414068,null,3.2840000000000003,2.6419999999999999,"C","Y55","X24","1051","Wilson"]
[105,{"$f":"VLOOKUP(tblData[[#This Row],[Indicator ID]],'Similar 10 CCGs'!$A$6:$C$160,3,FALSE)","v":"Chronic Kidney Disease (ages 18+) Prevalence"},"2011/12","04D",11051,null,179653,6.15,6.04,6.26,42.722594991222351,45.802281965414068,null,4.9390000000000009,4.4739999999999993,"A","Y55","X24","1051","Wilson"]
[105,{"$f":"VLOOKUP(tblData[[#This Row],[Indicator ID]],'Similar 10 CCGs'!$A$6:$C$160,3,FALSE)","v":"Chronic Kidney Disease (ages 18+) Prevalence"},"2011/12","04E",7516,null,146042,5.15,5.04,5.26,42.722594991222351,45.802281965414068,null,5.47,4.9039999999999999,"","Y55","X24","1051","Wilson"]
[105,{"$f":"VLOOKUP(tblData[[#This Row],[Indicator ID]],'Similar 10 CCGs'!$A$6:$C$160,3,FALSE)","v":"Chronic Kidney Disease (ages 18+) Prevalence"},"2011/12","04F",4577,null,201994,2.27,2.21,2.34,42.722594991222351,45.802281965414068,null,4.0469999999999997,3.0760000000000001,"C","Y55","X24","1051","Wilson"]
[105,{"$f":"VLOOKUP(tblData[[#This Row],[Indicator ID]],'Similar 10 CCGs'!$A$6:$C$160,3,FALSE)","v":"Chronic Kidney Disease (ages 18+) Prevalence"},"2011/12","04G",21540,null,492032,4.38,4.32,4.4400000000000004,42.722594991222351,45.802281965414068,null,4.2619999999999996,3.6100000000000003,"A","Y55","X24","1051","Wilson"]
[105,{"$f":"VLOOKUP(tblData[[#This Row],[Indicator ID]],'Similar 10 CCGs'!$A$6:$C$160,3,FALSE)","v":"Chronic Kidney Disease (ages 18+) Prevalence"},"2011/12","04H",5398,null,102518,5.27,5.13,5.41,42.722594991222351,45.802281965414068,null,5.3469999999999995,4.8379999999999992,"A","Y55","X24","1051","Wilson"]
[105,{"$f":"VLOOKUP(tblData[[#This Row],[Indicator ID]],'Similar 10 CCGs'!$A$6:$C$160,3,FALSE)","v":"Chronic Kidney Disease (ages 18+) Prevalence"},"2011/12","04J",15164,null,227537,6.66,6.56,6.76,42.722594991222351,45.802281965414068,null,5.3729999999999993,4.5299999999999994,"A","Y55","X24","1051","Wilson"]
[105,{"$f":"VLOOKUP(tblData[[#This Row],[Indicator ID]],'Similar 10 CCGs'!$A$6:$C$160,3,FALSE)","v":"Chronic Kidney Disease (ages 18+) Prevalence"},"2011/12","04K",11207,null,267819,4.18,4.0999999999999996,4.26,42.722594991222351,45.802281965414068,null,3.8730000000000002,3.0759999999999996,"A","Y55","X24","1051","Wilson"]
[105,{"$f":"VLOOKUP(tblData[[#This Row],[Indicator ID]],'Similar 10 CCGs'!$A$6:$C$160,3,FALSE)","v":"Chronic Kidney Disease (ages 18+) Prevalence"},"2011/12","04L",10087,null,116280,8.67,8.51,8.83,42.722594991222351,45.802281965414068,null,5.4449999999999994,4.7320000000000002,"A","Y55","X24","1051","Wilson"]
[105,{"$f":"VLOOKUP(tblData[[#This Row],[Indicator ID]],'Similar 10 CCGs'!$A$6:$C$160,3,FALSE)","v":"Chronic Kidney Disease (ages 18+) Prevalence"},"2011/12","04M",4823,null,75601,6.38,6.21,6.56,42.722594991222351,45.802281965414068,null,5.2700000000000005,4.0659999999999998,"A","Y55","X24","1051","Wilson"]
[105,{"$f":"VLOOKUP(tblData[[#This Row],[Indicator ID]],'Similar 10 CCGs'!$A$6:$C$160,3,FALSE)","v":"Chronic Kidney Disease (ages 18+) Prevalence"},"2011/12","04N",5878,null,97617,6.02,5.87,6.17,42.722594991222351,45.802281965414068,null,4.47,3.8660000000000005,"A","Y55","X24","1051","Wilson"]
[105,{"$f":"VLOOKUP(tblData[[#This Row],[Indicator ID]],'Similar 10 CCGs'!$A$6:$C$160,3,FALSE)","v":"Chronic Kidney Disease (ages 18+) Prevalence"},"2011/12","04Q",6345,null,103368,6.14,6,6.29,42.722594991222351,45.802281965414068,null,4.7590000000000003,4.08,"A","Y55","X24","1051","Wilson"]
[105,{"$f":"VLOOKUP(tblData[[#This Row],[Indicator ID]],'Similar 10 CCGs'!$A$6:$C$160,3,FALSE)","v":"Chronic Kidney Disease (ages 18+) Prevalence"},"2011/12","04R",19508,null,414242,4.71,4.6500000000000004,4.7699999999999996,42.722594991222351,45.802281965414068,null,4.4000000000000004,3.8140000000000001,"A","Y55","X24","1051","Wilson"]
[105,{"$f":"VLOOKUP(tblData[[#This Row],[Indicator ID]],'Similar 10 CCGs'!$A$6:$C$160,3,FALSE)","v":"Chronic Kidney Disease (ages 18+) Prevalence"},"2011/12","04V",12264,null,293651,4.18,4.1100000000000003,4.25,42.722594991222351,45.802281965414068,null,4.8750000000000009,4.282,"C","Y55","X24","1051","Wilson"]
[105,{"$f":"VLOOKUP(tblData[[#This Row],[Indicator ID]],'Similar 10 CCGs'!$A$6:$C$160,3,FALSE)","v":"Chronic Kidney Disease (ages 18+) Prevalence"},"2011/12","04X",7794,null,184310,4.2300000000000004,4.1399999999999997,4.32,42.722594991222351,45.802281965414068,null,3.8129999999999997,3.0760000000000001,"A","Y55","X24","1051","Wilson"]
[105,{"$f":"VLOOKUP(tblData[[#This Row],[Indicator ID]],'Similar 10 CCGs'!$A$6:$C$160,3,FALSE)","v":"Chronic Kidney Disease (ages 18+) Prevalence"},"2011/12","04Y",4264,null,105146,4.0599999999999996,3.94,4.18,42.722594991222351,45.802281965414068,null,5.6210000000000004,4.7859999999999996,"C","Y55","X24","1051","Wilson"]
[105,{"$f":"VLOOKUP(tblData[[#This Row],[Indicator ID]],'Similar 10 CCGs'!$A$6:$C$160,3,FALSE)","v":"Chronic Kidney Disease (ages 18+) Prevalence"},"2011/12","05A",14105,null,360162,3.92,3.86,3.98,42.722594991222351,45.802281965414068,null,4.3650000000000002,3.9019999999999997,"C","Y55","X24","1051","Wilson"]
[105,{"$f":"VLOOKUP(tblData[[#This Row],[Indicator ID]],'Similar 10 CCGs'!$A$6:$C$160,3,FALSE)","v":"Chronic Kidney Disease (ages 18+) Prevalence"},"2011/12","05C",15207,null,249403,6.1,6.01,6.19,42.722594991222351,45.802281965414068,null,5.2140000000000004,4.0419999999999998,"A","Y55","X24","1051","Wilson"]
[105,{"$f":"VLOOKUP(tblData[[#This Row],[Indicator ID]],'Similar 10 CCGs'!$A$6:$C$160,3,FALSE)","v":"Chronic Kidney Disease (ages 18+) Prevalence"},"2011/12","05D",4160,null,105584,3.94,3.82,4.0599999999999996,42.722594991222351,45.802281965414068,null,5.319,4.4919999999999991,"","Y55","X24","1051","Wilson"]
[105,{"$f":"VLOOKUP(tblData[[#This Row],[Indicator ID]],'Similar 10 CCGs'!$A$6:$C$160,3,FALSE)","v":"Chronic Kidney Disease (ages 18+) Prevalence"},"2011/12","05F",7621,null,147630,5.16,5.05,5.27,42.722594991222351,45.802281965414068,null,4.9400000000000004,4.1219999999999999,"A","Y55","X24","1051","Wilson"]
[105,{"$f":"VLOOKUP(tblData[[#This Row],[Indicator ID]],'Similar 10 CCGs'!$A$6:$C$160,3,FALSE)","v":"Chronic Kidney Disease (ages 18+) Prevalence"},"2011/12","05G",7855,null,172649,4.55,4.45,4.6500000000000004,42.722594991222351,45.802281965414068,null,5.677999999999999,5.0140000000000002,"C","Y55","X24","1051","Wilson"]
[105,{"$f":"VLOOKUP(tblData[[#This Row],[Indicator ID]],'Similar 10 CCGs'!$A$6:$C$160,3,FALSE)","v":"Chronic Kidney Disease (ages 18+) Prevalence"},"2011/12","05H",7784,null,146241,5.32,5.21,5.44,42.722594991222351,45.802281965414068,null,5.3620000000000001,4.7919999999999998,"A","Y55","X24","1051","Wilson"]
[105,{"$f":"VLOOKUP(tblData[[#This Row],[Indicator ID]],'Similar 10 CCGs'!$A$6:$C$160,3,FALSE)","v":"Chronic Kidney Disease (ages 18+) Prevalence"},"2011/12","05J",6860,null,136054,5.04,4.93,5.16,42.722594991222351,45.802281965414068,null,5.3850000000000007,4.4719999999999995,"A","Y55","X24","1051","Wilson"]
[105,{"$f":"VLOOKUP(tblData[[#This Row],[Indicator ID]],'Similar 10 CCGs'!$A$6:$C$160,3,FALSE)","v":"Chronic Kidney Disease (ages 18+) Prevalence"},"2011/12","05L",17663,null,401785,4.4000000000000004,4.34,4.46,42.722594991222351,45.802281965414068,null,3.5700000000000003,2.9059999999999997,"A","Y55","X24","1051","Wilson"]
[105,{"$f":"VLOOKUP(tblData[[#This Row],[Indicator ID]],'Similar 10 CCGs'!$A$6:$C$160,3,FALSE)","v":"Chronic Kidney Disease (ages 18+) Prevalence"},"2011/12","05N",15202,null,241796,6.29,6.19,6.39,42.722594991222351,45.802281965414068,null,4.8470000000000004,3.97,"A","Y55","X24","1051","Wilson"]
[105,{"$f":"VLOOKUP(tblData[[#This Row],[Indicator ID]],'Similar 10 CCGs'!$A$6:$C$160,3,FALSE)","v":"Chronic Kidney Disease (ages 18+) Prevalence"},"2011/12","05P",8095,null,186246,4.3499999999999996,4.26,4.4400000000000004,42.722594991222351,45.802281965414068,null,4.4359999999999999,3.8240000000000003,"","Y55","X24","1051","Wilson"]
[105,{"$f":"VLOOKUP(tblData[[#This Row],[Indicator ID]],'Similar 10 CCGs'!$A$6:$C$160,3,FALSE)","v":"Chronic Kidney Disease (ages 18+) Prevalence"},"2011/12","05Q",7018,null,167020,4.2,4.0999999999999996,4.3,42.722594991222351,45.802281965414068,null,5.3740000000000006,4.4959999999999996,"","Y55","X24","1051","Wilson"]
[105,{"$f":"VLOOKUP(tblData[[#This Row],[Indicator ID]],'Similar 10 CCGs'!$A$6:$C$160,3,FALSE)","v":"Chronic Kidney Disease (ages 18+) Prevalence"},"2011/12","05R",10861,null,219983,4.9400000000000004,4.8499999999999996,5.03,42.722594991222351,45.802281965414068,null,4.5849999999999991,4.1480000000000006,"","Y55","X24","1051","Wilson"]
[105,{"$f":"VLOOKUP(tblData[[#This Row],[Indicator ID]],'Similar 10 CCGs'!$A$6:$C$160,3,FALSE)","v":"Chronic Kidney Disease (ages 18+) Prevalence"},"2011/12","05T",11721,null,235378,4.9800000000000004,4.8899999999999997,5.07,42.722594991222351,45.802281965414068,null,5.1559999999999997,4.4400000000000004,"","Y55","X24","1051","Wilson"]
[105,{"$f":"VLOOKUP(tblData[[#This Row],[Indicator ID]],'Similar 10 CCGs'!$A$6:$C$160,3,FALSE)","v":"Chronic Kidney Disease (ages 18+) Prevalence"},"2011/12","05V",4405,null,117601,3.75,3.64,3.86,42.722594991222351,45.802281965414068,null,5.2039999999999988,4.4639999999999995,"C","Y55","X24","1051","Wilson"]
[105,{"$f":"VLOOKUP(tblData[[#This Row],[Indicator ID]],'Similar 10 CCGs'!$A$6:$C$160,3,FALSE)","v":"Chronic Kidney Disease (ages 18+) Prevalence"},"2011/12","05W",8926,null,217461,4.0999999999999996,4.0199999999999996,4.18,42.722594991222351,45.802281965414068,null,4.5310000000000006,3.9159999999999995,"","Y55","X24","1051","Wilson"]
[105,{"$f":"VLOOKUP(tblData[[#This Row],[Indicator ID]],'Similar 10 CCGs'!$A$6:$C$160,3,FALSE)","v":"Chronic Kidney Disease (ages 18+) Prevalence"},"2011/12","05X",5929,null,133211,4.45,4.34,4.5599999999999996,42.722594991222351,45.802281965414068,null,4.3810000000000002,3.8920000000000003,"B","Y55","X24","1051","Wilson"]
[105,{"$f":"VLOOKUP(tblData[[#This Row],[Indicator ID]],'Similar 10 CCGs'!$A$6:$C$160,3,FALSE)","v":"Chronic Kidney Disease (ages 18+) Prevalence"},"2011/12","05Y",10347,null,208080,4.97,4.88,5.0599999999999996,42.722594991222351,45.802281965414068,null,4.7700000000000005,4.0140000000000002,"A","Y55","X24","1051","Wilson"]
[105,{"$f":"VLOOKUP(tblData[[#This Row],[Indicator ID]],'Similar 10 CCGs'!$A$6:$C$160,3,FALSE)","v":"Chronic Kidney Disease (ages 18+) Prevalence"},"2011/12","06A",9710,null,203055,4.78,4.6900000000000004,4.87,42.722594991222351,45.802281965414068,null,4.6070000000000002,3.7679999999999998,"A","Y55","X24","1051","Wilson"]
[105,{"$f":"VLOOKUP(tblData[[#This Row],[Indicator ID]],'Similar 10 CCGs'!$A$6:$C$160,3,FALSE)","v":"Chronic Kidney Disease (ages 18+) Prevalence"},"2011/12","06D",5582,null,91160,6.12,5.97,6.28,42.722594991222351,45.802281965414068,null,5.5659999999999998,4.7460000000000004,"A","Y55","X24","1051","Wilson"]
[105,{"$f":"VLOOKUP(tblData[[#This Row],[Indicator ID]],'Similar 10 CCGs'!$A$6:$C$160,3,FALSE)","v":"Chronic Kidney Disease (ages 18+) Prevalence"},"2011/12","06F",12022,null,342099,3.51,3.45,3.57,42.722594991222351,45.802281965414068,null,4.5250000000000004,3.6420000000000003,"","Y55","X24","1051","Wilson"]
[105,{"$f":"VLOOKUP(tblData[[#This Row],[Indicator ID]],'Similar 10 CCGs'!$A$6:$C$160,3,FALSE)","v":"Chronic Kidney Disease (ages 18+) Prevalence"},"2011/12","06H",24753,null,678643,3.65,3.61,3.69,42.722594991222351,45.802281965414068,null,4.6560000000000006,4.0739999999999998,"C","Y55","X24","1051","Wilson"]
[105,{"$f":"VLOOKUP(tblData[[#This Row],[Indicator ID]],'Similar 10 CCGs'!$A$6:$C$160,3,FALSE)","v":"Chronic Kidney Disease (ages 18+) Prevalence"},"2011/12","06K",15964,null,443488,3.6,3.55,3.66,42.722594991222351,45.802281965414068,null,4.343,3.8899999999999997,"","Y55","X24","1051","Wilson"]
[105,{"$f":"VLOOKUP(tblData[[#This Row],[Indicator ID]],'Similar 10 CCGs'!$A$6:$C$160,3,FALSE)","v":"Chronic Kidney Disease (ages 18+) Prevalence"},"2011/12","06L",14133,null,308978,4.57,4.5,4.6399999999999997,42.722594991222351,45.802281965414068,null,4.6610000000000005,3.9980000000000002,"C","Y55","X24","1051","Wilson"]
[105,{"$f":"VLOOKUP(tblData[[#This Row],[Indicator ID]],'Similar 10 CCGs'!$A$6:$C$160,3,FALSE)","v":"Chronic Kidney Disease (ages 18+) Prevalence"},"2011/12","06M",11126,null,186578,5.96,5.85,6.07,42.722594991222351,45.802281965414068,null,5.5340000000000007,4.7080000000000002,"A","Y55","X24","1051","Wilson"]
[105,{"$f":"VLOOKUP(tblData[[#This Row],[Indicator ID]],'Similar 10 CCGs'!$A$6:$C$160,3,FALSE)","v":"Chronic Kidney Disease (ages 18+) Prevalence"},"2011/12","06N",18225,null,468110,3.89,3.84,3.95,42.722594991222351,45.802281965414068,null,4.2180000000000009,3.6420000000000003,"A","Y55","X24","1051","Wilson"]
[105,{"$f":"VLOOKUP(tblData[[#This Row],[Indicator ID]],'Similar 10 CCGs'!$A$6:$C$160,3,FALSE)","v":"Chronic Kidney Disease (ages 18+) Prevalence"},"2011/12","06P",3934,null,158382,2.48,2.4,2.56,42.722594991222351,45.802281965414068,null,3.8019999999999996,3.2340000000000004,"C","Y55","X24","1051","Wilson"]
[105,{"$f":"VLOOKUP(tblData[[#This Row],[Indicator ID]],'Similar 10 CCGs'!$A$6:$C$160,3,FALSE)","v":"Chronic Kidney Disease (ages 18+) Prevalence"},"2011/12","06Q",14671,null,300849,4.88,4.8,4.96,42.722594991222351,45.802281965414068,null,4.0330000000000004,3.6700000000000004,"A","Y55","X24","1051","Wilson"]
[105,{"$f":"VLOOKUP(tblData[[#This Row],[Indicator ID]],'Similar 10 CCGs'!$A$6:$C$160,3,FALSE)","v":"Chronic Kidney Disease (ages 18+) Prevalence"},"2011/12","06T",15308,null,262013,5.84,5.75,5.93,42.722594991222351,45.802281965414068,null,4.9260000000000002,4.2320000000000002,"A","Y55","X24","1051","Wilson"]
[105,{"$f":"VLOOKUP(tblData[[#This Row],[Indicator ID]],'Similar 10 CCGs'!$A$6:$C$160,3,FALSE)","v":"Chronic Kidney Disease (ages 18+) Prevalence"},"2011/12","06V",8207,null,139226,5.89,5.77,6.01,42.722594991222351,45.802281965414068,null,5.5579999999999998,4.3,"A","Y55","X24","1051","Wilson"]
[105,{"$f":"VLOOKUP(tblData[[#This Row],[Indicator ID]],'Similar 10 CCGs'!$A$6:$C$160,3,FALSE)","v":"Chronic Kidney Disease (ages 18+) Prevalence"},"2011/12","06W",6076,null,167249,3.63,3.54,3.72,42.722594991222351,45.802281965414068,null,3.9520000000000004,3.2839999999999998,"C","Y55","X24","1051","Wilson"]
[105,{"$f":"VLOOKUP(tblData[[#This Row],[Indicator ID]],'Similar 10 CCGs'!$A$6:$C$160,3,FALSE)","v":"Chronic Kidney Disease (ages 18+) Prevalence"},"2011/12","06Y",8107,null,177163,4.58,4.4800000000000004,4.68,42.722594991222351,45.802281965414068,null,4.9130000000000003,4.2799999999999994,"","Y55","X24","1051","Wilson"]
[105,{"$f":"VLOOKUP(tblData[[#This Row],[Indicator ID]],'Similar 10 CCGs'!$A$6:$C$160,3,FALSE)","v":"Chronic Kidney Disease (ages 18+) Prevalence"},"2011/12","07G",5022,null,122393,4.0999999999999996,3.99,4.21,42.722594991222351,45.802281965414068,null,3.9859999999999998,2.9279999999999999,"A","Y55","X24","1051","Wilson"]
[105,{"$f":"VLOOKUP(tblData[[#This Row],[Indicator ID]],'Similar 10 CCGs'!$A$6:$C$160,3,FALSE)","v":"Chronic Kidney Disease (ages 18+) Prevalence"},"2011/12","07H",8068,null,229050,3.52,3.45,3.6,42.722594991222351,45.802281965414068,null,4.5510000000000002,4.0199999999999996,"C","Y55","X24","1051","Wilson"]
[105,{"$f":"VLOOKUP(tblData[[#This Row],[Indicator ID]],'Similar 10 CCGs'!$A$6:$C$160,3,FALSE)","v":"Chronic Kidney Disease (ages 18+) Prevalence"},"2011/12","07J",7322,null,134307,5.45,5.33,5.57,42.722594991222351,45.802281965414068,null,5.3439999999999994,4.4119999999999999,"A","Y55","X24","1051","Wilson"]
[105,{"$f":"VLOOKUP(tblData[[#This Row],[Indicator ID]],'Similar 10 CCGs'!$A$6:$C$160,3,FALSE)","v":"Chronic Kidney Disease (ages 18+) Prevalence"},"2011/12","07K",6593,null,190923,3.45,3.37,3.53,42.722594991222351,45.802281965414068,null,5.0529999999999999,4.5059999999999993,"C","Y55","X24","1051","Wilson"]
[105,{"$f":"VLOOKUP(tblData[[#This Row],[Indicator ID]],'Similar 10 CCGs'!$A$6:$C$160,3,FALSE)","v":"Chronic Kidney Disease (ages 18+) Prevalence"},"2011/12","07L",4142,null,146473,2.83,2.75,2.92,42.722594991222351,26.332734839215266,null,3.1550000000000002,2.6019999999999994,"","Y56","X24","1051","Wilson"]
[105,{"$f":"VLOOKUP(tblData[[#This Row],[Indicator ID]],'Similar 10 CCGs'!$A$6:$C$160,3,FALSE)","v":"Chronic Kidney Disease (ages 18+) Prevalence"},"2011/12","07M",8979,null,292649,3.07,3.01,3.13,42.722594991222351,26.332734839215266,null,3.9509999999999996,2.8280000000000003,"C","Y56","X24","1051","Wilson"]
[105,{"$f":"VLOOKUP(tblData[[#This Row],[Indicator ID]],'Similar 10 CCGs'!$A$6:$C$160,3,FALSE)","v":"Chronic Kidney Disease (ages 18+) Prevalence"},"2011/12","07N",6499,null,177419,3.66,3.57,3.75,42.722594991222351,26.332734839215266,null,4.2940000000000005,3.3980000000000006,"","Y56","X24","1051","Wilson"]
[105,{"$f":"VLOOKUP(tblData[[#This Row],[Indicator ID]],'Similar 10 CCGs'!$A$6:$C$160,3,FALSE)","v":"Chronic Kidney Disease (ages 18+) Prevalence"},"2011/12","07P",6061,null,258944,2.34,2.2799999999999998,2.4,42.722594991222351,26.332734839215266,null,2.9889999999999999,2.4539999999999997,"","Y56","X24","1051","Wilson"]
[105,{"$f":"VLOOKUP(tblData[[#This Row],[Indicator ID]],'Similar 10 CCGs'!$A$6:$C$160,3,FALSE)","v":"Chronic Kidney Disease (ages 18+) Prevalence"},"2011/12","07Q",10693,null,256796,4.16,4.08,4.24,42.722594991222351,26.332734839215266,null,4.3830000000000009,3.4340000000000002,"A","Y56","X24","1051","Wilson"]
[105,{"$f":"VLOOKUP(tblData[[#This Row],[Indicator ID]],'Similar 10 CCGs'!$A$6:$C$160,3,FALSE)","v":"Chronic Kidney Disease (ages 18+) Prevalence"},"2011/12","07R",4312,null,210391,2.0499999999999998,1.99,2.11,42.722594991222351,26.332734839215266,null,2.9619999999999997,2.0739999999999998,"","Y56","X24","1051","Wilson"]
[105,{"$f":"VLOOKUP(tblData[[#This Row],[Indicator ID]],'Similar 10 CCGs'!$A$6:$C$160,3,FALSE)","v":"Chronic Kidney Disease (ages 18+) Prevalence"},"2011/12","07T",4081,null,221871,1.84,1.78,1.9,42.722594991222351,26.332734839215266,null,2.2389999999999999,1.89,"C","Y56","X24","1051","Wilson"]
[105,{"$f":"VLOOKUP(tblData[[#This Row],[Indicator ID]],'Similar 10 CCGs'!$A$6:$C$160,3,FALSE)","v":"Chronic Kidney Disease (ages 18+) Prevalence"},"2011/12","07V",9926,null,295899,3.35,3.29,3.42,42.722594991222351,26.332734839215266,null,2.7860000000000005,2.4180000000000001,"","Y56","X24","1051","Wilson"]
[105,{"$f":"VLOOKUP(tblData[[#This Row],[Indicator ID]],'Similar 10 CCGs'!$A$6:$C$160,3,FALSE)","v":"Chronic Kidney Disease (ages 18+) Prevalence"},"2011/12","07W",7551,null,305175,2.4700000000000002,2.42,2.5299999999999998,42.722594991222351,26.332734839215266,null,3.2440000000000007,2.8299999999999996,"","Y56","X24","1051","Wilson"]
[105,{"$f":"VLOOKUP(tblData[[#This Row],[Indicator ID]],'Similar 10 CCGs'!$A$6:$C$160,3,FALSE)","v":"Chronic Kidney Disease (ages 18+) Prevalence"},"2011/12","07X",6620,null,219150,3.02,2.95,3.09,42.722594991222351,26.332734839215266,null,3.0910000000000002,2.516,"","Y56","X24","1051","Wilson"]
[105,{"$f":"VLOOKUP(tblData[[#This Row],[Indicator ID]],'Similar 10 CCGs'!$A$6:$C$160,3,FALSE)","v":"Chronic Kidney Disease (ages 18+) Prevalence"},"2011/12","07Y",6602,null,217127,3.04,2.97,3.11,42.722594991222351,26.332734839215266,null,2.976,2.5979999999999999,"A","Y56","X24","1051","Wilson"]
[105,{"$f":"VLOOKUP(tblData[[#This Row],[Indicator ID]],'Similar 10 CCGs'!$A$6:$C$160,3,FALSE)","v":"Chronic Kidney Disease (ages 18+) Prevalence"},"2011/12","08A",7474,null,210857,3.54,3.46,3.62,42.722594991222351,26.332734839215266,null,2.8610000000000002,2.4180000000000001,"B","Y56","X24","1051","Wilson"]
[105,{"$f":"VLOOKUP(tblData[[#This Row],[Indicator ID]],'Similar 10 CCGs'!$A$6:$C$160,3,FALSE)","v":"Chronic Kidney Disease (ages 18+) Prevalence"},"2011/12","08C",3123,null,160881,1.94,1.87,2.0099999999999998,42.722594991222351,26.332734839215266,null,2.2050000000000001,1.8920000000000001,"","Y56","X24","1051","Wilson"]
[105,{"$f":"VLOOKUP(tblData[[#This Row],[Indicator ID]],'Similar 10 CCGs'!$A$6:$C$160,3,FALSE)","v":"Chronic Kidney Disease (ages 18+) Prevalence"},"2011/12","08D",4130,null,213880,1.93,1.87,1.99,42.722594991222351,26.332734839215266,null,2.5589999999999997,1.9940000000000002,"C","Y56","X24","1051","Wilson"]
[105,{"$f":"VLOOKUP(tblData[[#This Row],[Indicator ID]],'Similar 10 CCGs'!$A$6:$C$160,3,FALSE)","v":"Chronic Kidney Disease (ages 18+) Prevalence"},"2011/12","08E",5431,null,174788,3.11,3.03,3.19,42.722594991222351,26.332734839215266,null,2.9699999999999998,2.6719999999999997,"","Y56","X24","1051","Wilson"]
[105,{"$f":"VLOOKUP(tblData[[#This Row],[Indicator ID]],'Similar 10 CCGs'!$A$6:$C$160,3,FALSE)","v":"Chronic Kidney Disease (ages 18+) Prevalence"},"2011/12","08F",7950,null,204063,3.9,3.82,3.98,42.722594991222351,26.332734839215266,null,4.8800000000000008,4.0540000000000003,"C","Y56","X24","1051","Wilson"]
[105,{"$f":"VLOOKUP(tblData[[#This Row],[Indicator ID]],'Similar 10 CCGs'!$A$6:$C$160,3,FALSE)","v":"Chronic Kidney Disease (ages 18+) Prevalence"},"2011/12","08G",7093,null,217711,3.26,3.19,3.34,42.722594991222351,26.332734839215266,null,3.6019999999999994,2.9180000000000001,"","Y56","X24","1051","Wilson"]
[105,{"$f":"VLOOKUP(tblData[[#This Row],[Indicator ID]],'Similar 10 CCGs'!$A$6:$C$160,3,FALSE)","v":"Chronic Kidney Disease (ages 18+) Prevalence"},"2011/12","08H",3451,null,179658,1.92,1.86,1.98,42.722594991222351,26.332734839215266,null,1.9430000000000001,1.786,"B","Y56","X24","1051","Wilson"]
[105,{"$f":"VLOOKUP(tblData[[#This Row],[Indicator ID]],'Similar 10 CCGs'!$A$6:$C$160,3,FALSE)","v":"Chronic Kidney Disease (ages 18+) Prevalence"},"2011/12","08J",4019,null,148135,2.71,2.63,2.79,42.722594991222351,26.332734839215266,null,3.6640000000000001,3.1059999999999999,"C","Y56","X24","1051","Wilson"]
[105,{"$f":"VLOOKUP(tblData[[#This Row],[Indicator ID]],'Similar 10 CCGs'!$A$6:$C$160,3,FALSE)","v":"Chronic Kidney Disease (ages 18+) Prevalence"},"2011/12","08K",5990,null,310072,1.93,1.88,1.98,42.722594991222351,26.332734839215266,null,2.2250000000000001,1.8620000000000001,"","Y56","X24","1051","Wilson"]
[105,{"$f":"VLOOKUP(tblData[[#This Row],[Indicator ID]],'Similar 10 CCGs'!$A$6:$C$160,3,FALSE)","v":"Chronic Kidney Disease (ages 18+) Prevalence"},"2011/12","08L",5101,null,238535,2.14,2.08,2.2000000000000002,42.722594991222351,26.332734839215266,null,2.4409999999999998,1.8939999999999997,"C","Y56","X24","1051","Wilson"]
[105,{"$f":"VLOOKUP(tblData[[#This Row],[Indicator ID]],'Similar 10 CCGs'!$A$6:$C$160,3,FALSE)","v":"Chronic Kidney Disease (ages 18+) Prevalence"},"2011/12","08M",5174,null,276736,1.87,1.82,1.92,42.722594991222351,26.332734839215266,null,2.8169999999999997,2.1160000000000001,"C","Y56","X24","1051","Wilson"]
[105,{"$f":"VLOOKUP(tblData[[#This Row],[Indicator ID]],'Similar 10 CCGs'!$A$6:$C$160,3,FALSE)","v":"Chronic Kidney Disease (ages 18+) Prevalence"},"2011/12","08N",7191,null,218321,3.29,3.22,3.37,42.722594991222351,26.332734839215266,null,3.3839999999999995,2.782,"A","Y56","X24","1051","Wilson"]
[105,{"$f":"VLOOKUP(tblData[[#This Row],[Indicator ID]],'Similar 10 CCGs'!$A$6:$C$160,3,FALSE)","v":"Chronic Kidney Disease (ages 18+) Prevalence"},"2011/12","08P",4472,null,155847,2.87,2.79,2.95,42.722594991222351,26.332734839215266,null,3.9279999999999999,3.504,"C","Y56","X24","1051","Wilson"]
[105,{"$f":"VLOOKUP(tblData[[#This Row],[Indicator ID]],'Similar 10 CCGs'!$A$6:$C$160,3,FALSE)","v":"Chronic Kidney Disease (ages 18+) Prevalence"},"2011/12","08Q",5335,null,261845,2.04,1.99,2.09,42.722594991222351,26.332734839215266,null,2.2189999999999999,1.8699999999999999,"B","Y56","X24","1051","Wilson"]
[105,{"$f":"VLOOKUP(tblData[[#This Row],[Indicator ID]],'Similar 10 CCGs'!$A$6:$C$160,3,FALSE)","v":"Chronic Kidney Disease (ages 18+) Prevalence"},"2011/12","08R",4758,null,167081,2.85,2.77,2.93,42.722594991222351,26.332734839215266,null,2.9990000000000001,2.532,"","Y56","X24","1051","Wilson"]
[105,{"$f":"VLOOKUP(tblData[[#This Row],[Indicator ID]],'Similar 10 CCGs'!$A$6:$C$160,3,FALSE)","v":"Chronic Kidney Disease (ages 18+) Prevalence"},"2011/12","08T",5280,null,143481,3.68,3.58,3.78,42.722594991222351,26.332734839215266,null,3.6740000000000004,3.1160000000000001,"","Y56","X24","1051","Wilson"]
[105,{"$f":"VLOOKUP(tblData[[#This Row],[Indicator ID]],'Similar 10 CCGs'!$A$6:$C$160,3,FALSE)","v":"Chronic Kidney Disease (ages 18+) Prevalence"},"2011/12","08V",4072,null,215379,1.89,1.83,1.95,42.722594991222351,26.332734839215266,null,2.9699999999999998,2.34,"","Y56","X24","1051","Wilson"]
[105,{"$f":"VLOOKUP(tblData[[#This Row],[Indicator ID]],'Similar 10 CCGs'!$A$6:$C$160,3,FALSE)","v":"Chronic Kidney Disease (ages 18+) Prevalence"},"2011/12","08W",6493,null,225416,2.88,2.81,2.95,42.722594991222351,26.332734839215266,null,2.7690000000000001,2.1440000000000001,"A","Y56","X24","1051","Wilson"]
[105,{"$f":"VLOOKUP(tblData[[#This Row],[Indicator ID]],'Similar 10 CCGs'!$A$6:$C$160,3,FALSE)","v":"Chronic Kidney Disease (ages 18+) Prevalence"},"2011/12","08X",4926,null,285308,1.73,1.68,1.78,42.722594991222351,26.332734839215266,null,2.5640000000000001,2.0319999999999996,"C","Y56","X24","1051","Wilson"]
[105,{"$f":"VLOOKUP(tblData[[#This Row],[Indicator ID]],'Similar 10 CCGs'!$A$6:$C$160,3,FALSE)","v":"Chronic Kidney Disease (ages 18+) Prevalence"},"2011/12","08Y",3757,null,185448,2.0299999999999998,1.97,2.1,42.722594991222351,26.332734839215266,null,2.3419999999999996,1.8119999999999998,"B","Y56","X24","1051","Wilson"]
[105,{"$f":"VLOOKUP(tblData[[#This Row],[Indicator ID]],'Similar 10 CCGs'!$A$6:$C$160,3,FALSE)","v":"Chronic Kidney Disease (ages 18+) Prevalence"},"2011/12","09A",2479,null,160455,1.54,1.48,1.6,42.722594991222351,26.332734839215266,null,2.8250000000000002,1.9339999999999997,"C","Y56","X24","1051","Wilson"]
[105,{"$f":"VLOOKUP(tblData[[#This Row],[Indicator ID]],'Similar 10 CCGs'!$A$6:$C$160,3,FALSE)","v":"Chronic Kidney Disease (ages 18+) Prevalence"},"2011/12","09C",4038,null,95723,4.22,4.09,4.3499999999999996,42.722594991222351,44.669279850135133,null,4.3680000000000003,3.722,"","Y57","X24","1051","Wilson"]
[105,{"$f":"VLOOKUP(tblData[[#This Row],[Indicator ID]],'Similar 10 CCGs'!$A$6:$C$160,3,FALSE)","v":"Chronic Kidney Disease (ages 18+) Prevalence"},"2011/12","09D",8783,null,244601,3.59,3.52,3.66,42.722594991222351,44.669279850135133,null,4.5510000000000002,3.8,"C","Y57","X24","1051","Wilson"]
[105,{"$f":"VLOOKUP(tblData[[#This Row],[Indicator ID]],'Similar 10 CCGs'!$A$6:$C$160,3,FALSE)","v":"Chronic Kidney Disease (ages 18+) Prevalence"},"2011/12","09E",7649,null,169492,4.51,4.41,4.6100000000000003,42.722594991222351,44.669279850135133,null,4.6189999999999998,3.7119999999999997,"","Y57","X24","1051","Wilson"]
[105,{"$f":"VLOOKUP(tblData[[#This Row],[Indicator ID]],'Similar 10 CCGs'!$A$6:$C$160,3,FALSE)","v":"Chronic Kidney Disease (ages 18+) Prevalence"},"2011/12","09F",9679,null,151104,6.41,6.29,6.53,42.722594991222351,44.669279850135133,null,6.0909999999999993,5.0600000000000005,"A","Y57","X24","1051","Wilson"]
[105,{"$f":"VLOOKUP(tblData[[#This Row],[Indicator ID]],'Similar 10 CCGs'!$A$6:$C$160,3,FALSE)","v":"Chronic Kidney Disease (ages 18+) Prevalence"},"2011/12","09G",17780,null,396482,4.4800000000000004,4.42,4.54,42.722594991222351,44.669279850135133,null,5.6740000000000004,4.96,"C","Y57","X24","1051","Wilson"]
[105,{"$f":"VLOOKUP(tblData[[#This Row],[Indicator ID]],'Similar 10 CCGs'!$A$6:$C$160,3,FALSE)","v":"Chronic Kidney Disease (ages 18+) Prevalence"},"2011/12","09H",4381,null,97416,4.5,4.37,4.63,42.722594991222351,44.669279850135133,null,4.367,3.3220000000000001,"A","Y57","X24","1051","Wilson"]
[105,{"$f":"VLOOKUP(tblData[[#This Row],[Indicator ID]],'Similar 10 CCGs'!$A$6:$C$160,3,FALSE)","v":"Chronic Kidney Disease (ages 18+) Prevalence"},"2011/12","09J",16566,null,194748,8.51,8.39,8.6300000000000008,42.722594991222351,44.669279850135133,null,3.8820000000000001,3.3,"A","Y57","X24","1051","Wilson"]
[105,{"$f":"VLOOKUP(tblData[[#This Row],[Indicator ID]],'Similar 10 CCGs'!$A$6:$C$160,3,FALSE)","v":"Chronic Kidney Disease (ages 18+) Prevalence"},"2011/12","09L",5241,null,133356,3.93,3.83,4.04,42.722594991222351,44.669279850135133,null,4.5680000000000005,3.4619999999999997,"","Y57","X24","1051","Wilson"]
[105,{"$f":"VLOOKUP(tblData[[#This Row],[Indicator ID]],'Similar 10 CCGs'!$A$6:$C$160,3,FALSE)","v":"Chronic Kidney Disease (ages 18+) Prevalence"},"2011/12","09N",6877,null,169060,4.07,3.98,4.17,42.722594991222351,44.669279850135133,null,4.907,4.2119999999999997,"","Y57","X24","1051","Wilson"]
[105,{"$f":"VLOOKUP(tblData[[#This Row],[Indicator ID]],'Similar 10 CCGs'!$A$6:$C$160,3,FALSE)","v":"Chronic Kidney Disease (ages 18+) Prevalence"},"2011/12","09P",6750,null,148853,4.53,4.43,4.6399999999999997,42.722594991222351,44.669279850135133,null,5.4760000000000009,4.6180000000000003,"","Y57","X24","1051","Wilson"]
[105,{"$f":"VLOOKUP(tblData[[#This Row],[Indicator ID]],'Similar 10 CCGs'!$A$6:$C$160,3,FALSE)","v":"Chronic Kidney Disease (ages 18+) Prevalence"},"2011/12","09W",8313,null,216780,3.83,3.75,3.91,42.722594991222351,44.669279850135133,null,4.51,3.6079999999999997,"","Y57","X24","1051","Wilson"]
[105,{"$f":"VLOOKUP(tblData[[#This Row],[Indicator ID]],'Similar 10 CCGs'!$A$6:$C$160,3,FALSE)","v":"Chronic Kidney Disease (ages 18+) Prevalence"},"2011/12","09X",7356,null,177948,4.13,4.04,4.22,42.722594991222351,44.669279850135133,null,4.58,4.1340000000000003,"","Y57","X24","1051","Wilson"]
[105,{"$f":"VLOOKUP(tblData[[#This Row],[Indicator ID]],'Similar 10 CCGs'!$A$6:$C$160,3,FALSE)","v":"Chronic Kidney Disease (ages 18+) Prevalence"},"2011/12","09Y",12484,null,276017,4.5199999999999996,4.4400000000000004,4.5999999999999996,42.722594991222351,44.669279850135133,null,4.0550000000000006,3.5339999999999998,"B","Y57","X24","1051","Wilson"]
[105,{"$f":"VLOOKUP(tblData[[#This Row],[Indicator ID]],'Similar 10 CCGs'!$A$6:$C$160,3,FALSE)","v":"Chronic Kidney Disease (ages 18+) Prevalence"},"2011/12","10A",7500,null,160194,4.68,4.58,4.78,42.722594991222351,44.669279850135133,null,5.4250000000000007,4.7200000000000006,"","Y57","X24","1051","Wilson"]
[105,{"$f":"VLOOKUP(tblData[[#This Row],[Indicator ID]],'Similar 10 CCGs'!$A$6:$C$160,3,FALSE)","v":"Chronic Kidney Disease (ages 18+) Prevalence"},"2011/12","10C",3126,null,71556,4.37,4.22,4.5199999999999996,42.722594991222351,44.669279850135133,null,3.6910000000000003,3.1840000000000002,"","Y57","X24","1051","Wilson"]
[105,{"$f":"VLOOKUP(tblData[[#This Row],[Indicator ID]],'Similar 10 CCGs'!$A$6:$C$160,3,FALSE)","v":"Chronic Kidney Disease (ages 18+) Prevalence"},"2011/12","10D",3435,null,82653,4.16,4.03,4.3,42.722594991222351,44.669279850135133,null,4.9139999999999997,4.3119999999999994,"","Y57","X24","1051","Wilson"]
[105,{"$f":"VLOOKUP(tblData[[#This Row],[Indicator ID]],'Similar 10 CCGs'!$A$6:$C$160,3,FALSE)","v":"Chronic Kidney Disease (ages 18+) Prevalence"},"2011/12","10E",6076,null,111613,5.44,5.31,5.57,42.722594991222351,44.669279850135133,null,4.859,4.0780000000000003,"","Y57","X24","1051","Wilson"]
[105,{"$f":"VLOOKUP(tblData[[#This Row],[Indicator ID]],'Similar 10 CCGs'!$A$6:$C$160,3,FALSE)","v":"Chronic Kidney Disease (ages 18+) Prevalence"},"2011/12","10G",2886,null,105644,2.73,2.63,2.83,42.722594991222351,44.669279850135133,null,4.0860000000000003,3.63,"C","Y57","X24","1051","Wilson"]
[105,{"$f":"VLOOKUP(tblData[[#This Row],[Indicator ID]],'Similar 10 CCGs'!$A$6:$C$160,3,FALSE)","v":"Chronic Kidney Disease (ages 18+) Prevalence"},"2011/12","10H",8652,null,252958,3.42,3.35,3.49,42.722594991222351,44.669279850135133,null,4.1609999999999996,3.786,"C","Y57","X24","1051","Wilson"]
[105,{"$f":"VLOOKUP(tblData[[#This Row],[Indicator ID]],'Similar 10 CCGs'!$A$6:$C$160,3,FALSE)","v":"Chronic Kidney Disease (ages 18+) Prevalence"},"2011/12","10J",7468,null,168702,4.43,4.33,4.53,42.722594991222351,44.669279850135133,null,3.7490000000000001,3.2339999999999995,"A","Y57","X24","1051","Wilson"]
[105,{"$f":"VLOOKUP(tblData[[#This Row],[Indicator ID]],'Similar 10 CCGs'!$A$6:$C$160,3,FALSE)","v":"Chronic Kidney Disease (ages 18+) Prevalence"},"2011/12","10K",6425,null,159432,4.03,3.93,4.13,42.722594991222351,44.669279850135133,null,4.9670000000000005,4.0059999999999993,"","Y57","X24","1051","Wilson"]
[105,{"$f":"VLOOKUP(tblData[[#This Row],[Indicator ID]],'Similar 10 CCGs'!$A$6:$C$160,3,FALSE)","v":"Chronic Kidney Disease (ages 18+) Prevalence"},"2011/12","10L",5089,null,115649,4.4000000000000004,4.28,4.5199999999999996,42.722594991222351,44.669279850135133,null,5.4489999999999998,4.5640000000000001,"C","Y57","X24","1051","Wilson"]
[105,{"$f":"VLOOKUP(tblData[[#This Row],[Indicator ID]],'Similar 10 CCGs'!$A$6:$C$160,3,FALSE)","v":"Chronic Kidney Disease (ages 18+) Prevalence"},"2011/12","10M",3393,null,89003,3.81,3.69,3.94,42.722594991222351,44.669279850135133,null,4.3049999999999997,3.7280000000000002,"","Y57","X24","1051","Wilson"]
[105,{"$f":"VLOOKUP(tblData[[#This Row],[Indicator ID]],'Similar 10 CCGs'!$A$6:$C$160,3,FALSE)","v":"Chronic Kidney Disease (ages 18+) Prevalence"},"2011/12","10N",3604,null,84209,4.28,4.1500000000000004,4.42,42.722594991222351,44.669279850135133,null,4.13,3.6719999999999997,"A","Y57","X24","1051","Wilson"]
[105,{"$f":"VLOOKUP(tblData[[#This Row],[Indicator ID]],'Similar 10 CCGs'!$A$6:$C$160,3,FALSE)","v":"Chronic Kidney Disease (ages 18+) Prevalence"},"2011/12","10Q",22504,null,548017,4.1100000000000003,4.0599999999999996,4.16,42.722594991222351,44.669279850135133,null,4.4689999999999994,3.806,"","Y57","X24","1051","Wilson"]
[105,{"$f":"VLOOKUP(tblData[[#This Row],[Indicator ID]],'Similar 10 CCGs'!$A$6:$C$160,3,FALSE)","v":"Chronic Kidney Disease (ages 18+) Prevalence"},"2011/12","10R",5890,null,170453,3.46,3.37,3.55,42.722594991222351,44.669279850135133,null,4.0460000000000003,3.72,"C","Y57","X24","1051","Wilson"]
[105,{"$f":"VLOOKUP(tblData[[#This Row],[Indicator ID]],'Similar 10 CCGs'!$A$6:$C$160,3,FALSE)","v":"Chronic Kidney Disease (ages 18+) Prevalence"},"2011/12","10T",3030,null,106314,2.85,2.75,2.95,42.722594991222351,44.669279850135133,null,3.5699999999999994,2.992,"","Y57","X24","1051","Wilson"]
[105,{"$f":"VLOOKUP(tblData[[#This Row],[Indicator ID]],'Similar 10 CCGs'!$A$6:$C$160,3,FALSE)","v":"Chronic Kidney Disease (ages 18+) Prevalence"},"2011/12","10V",6527,null,167429,3.9,3.81,3.99,42.722594991222351,44.669279850135133,null,4.8100000000000005,4.17,"C","Y57","X24","1051","Wilson"]
[105,{"$f":"VLOOKUP(tblData[[#This Row],[Indicator ID]],'Similar 10 CCGs'!$A$6:$C$160,3,FALSE)","v":"Chronic Kidney Disease (ages 18+) Prevalence"},"2011/12","10W",3483,null,98608,3.53,3.42,3.65,42.722594991222351,44.669279850135133,null,3.7789999999999999,3.3860000000000001,"B","Y57","X24","1051","Wilson"]
[105,{"$f":"VLOOKUP(tblData[[#This Row],[Indicator ID]],'Similar 10 CCGs'!$A$6:$C$160,3,FALSE)","v":"Chronic Kidney Disease (ages 18+) Prevalence"},"2011/12","10X",7936,null,209859,3.78,3.7,3.86,42.722594991222351,44.669279850135133,null,3.8890000000000002,3.4219999999999997,"","Y57","X24","1051","Wilson"]
[105,{"$f":"VLOOKUP(tblData[[#This Row],[Indicator ID]],'Similar 10 CCGs'!$A$6:$C$160,3,FALSE)","v":"Chronic Kidney Disease (ages 18+) Prevalence"},"2011/12","10Y",4933,null,155067,3.18,3.09,3.27,42.722594991222351,44.669279850135133,null,4.7350000000000003,3.8340000000000005,"C","Y57","X24","1051","Wilson"]
[105,{"$f":"VLOOKUP(tblData[[#This Row],[Indicator ID]],'Similar 10 CCGs'!$A$6:$C$160,3,FALSE)","v":"Chronic Kidney Disease (ages 18+) Prevalence"},"2011/12","11A",19045,null,434230,4.3899999999999997,4.33,4.45,42.722594991222351,44.669279850135133,null,4.6130000000000004,4.0679999999999996,"","Y57","X24","1051","Wilson"]
[105,{"$f":"VLOOKUP(tblData[[#This Row],[Indicator ID]],'Similar 10 CCGs'!$A$6:$C$160,3,FALSE)","v":"Chronic Kidney Disease (ages 18+) Prevalence"},"2011/12","11C",3903,null,118882,3.28,3.18,3.38,42.722594991222351,44.669279850135133,null,4.1290000000000004,3.5160000000000005,"C","Y57","X24","1051","Wilson"]
[105,{"$f":"VLOOKUP(tblData[[#This Row],[Indicator ID]],'Similar 10 CCGs'!$A$6:$C$160,3,FALSE)","v":"Chronic Kidney Disease (ages 18+) Prevalence"},"2011/12","11D",4873,null,121028,4.03,3.92,4.1399999999999997,42.722594991222351,44.669279850135133,null,3.8910000000000005,3.4359999999999999,"A","Y57","X24","1051","Wilson"]
[105,{"$f":"VLOOKUP(tblData[[#This Row],[Indicator ID]],'Similar 10 CCGs'!$A$6:$C$160,3,FALSE)","v":"Chronic Kidney Disease (ages 18+) Prevalence"},"2011/12","11E",5350,null,158392,3.38,3.29,3.47,42.722594991222351,44.669279850135133,null,4.7359999999999998,3.8359999999999999,"C","Y57","X24","1051","Wilson"]
[105,{"$f":"VLOOKUP(tblData[[#This Row],[Indicator ID]],'Similar 10 CCGs'!$A$6:$C$160,3,FALSE)","v":"Chronic Kidney Disease (ages 18+) Prevalence"},"2011/12","11H",15947,null,376213,4.24,4.18,4.3,42.722594991222351,44.669279850135133,null,3.9859999999999998,3.6640000000000001,"A","Y57","X24","1051","Wilson"]
[105,{"$f":"VLOOKUP(tblData[[#This Row],[Indicator ID]],'Similar 10 CCGs'!$A$6:$C$160,3,FALSE)","v":"Chronic Kidney Disease (ages 18+) Prevalence"},"2011/12","11J",34947,null,625451,5.59,5.53,5.65,42.722594991222351,44.669279850135133,null,4.6679999999999993,4.1259999999999994,"A","Y57","X24","1051","Wilson"]
[105,{"$f":"VLOOKUP(tblData[[#This Row],[Indicator ID]],'Similar 10 CCGs'!$A$6:$C$160,3,FALSE)","v":"Chronic Kidney Disease (ages 18+) Prevalence"},"2011/12","11M",26909,null,491307,5.48,5.42,5.54,42.722594991222351,44.669279850135133,null,4.4649999999999999,4.008,"A","Y57","X24","1051","Wilson"]
[105,{"$f":"VLOOKUP(tblData[[#This Row],[Indicator ID]],'Similar 10 CCGs'!$A$6:$C$160,3,FALSE)","v":"Chronic Kidney Disease (ages 18+) Prevalence"},"2011/12","11N",22815,null,451244,5.0599999999999996,5,5.12,42.722594991222351,44.669279850135133,null,5.221000000000001,4.6980000000000004,"","Y57","X24","1051","Wilson"]
[105,{"$f":"VLOOKUP(tblData[[#This Row],[Indicator ID]],'Similar 10 CCGs'!$A$6:$C$160,3,FALSE)","v":"Chronic Kidney Disease (ages 18+) Prevalence"},"2011/12","11T",8174,null,169477,4.82,4.72,4.92,42.722594991222351,44.669279850135133,null,4.8630000000000004,4.3340000000000005,"","Y57","X24","1051","Wilson"]
[105,{"$f":"VLOOKUP(tblData[[#This Row],[Indicator ID]],'Similar 10 CCGs'!$A$6:$C$160,3,FALSE)","v":"Chronic Kidney Disease (ages 18+) Prevalence"},"2011/12","11X",23491,null,436008,5.39,5.32,5.46,42.722594991222351,44.669279850135133,null,4.7119999999999997,4.3100000000000005,"A","Y57","X24","1051","Wilson"]
[105,{"$f":"VLOOKUP(tblData[[#This Row],[Indicator ID]],'Similar 10 CCGs'!$A$6:$C$160,3,FALSE)","v":"Chronic Kidney Disease (ages 18+) Prevalence"},"2011/12","12A",9769,null,201603,4.8499999999999996,4.76,4.9400000000000004,42.722594991222351,44.669279850135133,null,3.8720000000000008,3.3760000000000003,"A","Y57","X24","1051","Wilson"]
[105,{"$f":"VLOOKUP(tblData[[#This Row],[Indicator ID]],'Similar 10 CCGs'!$A$6:$C$160,3,FALSE)","v":"Chronic Kidney Disease (ages 18+) Prevalence"},"2011/12","12D",3875,null,172698,2.2400000000000002,2.17,2.31,42.722594991222351,44.669279850135133,null,4.6870000000000003,3.8820000000000001,"C","Y57","X24","1051","Wilson"]
[105,{"$f":"VLOOKUP(tblData[[#This Row],[Indicator ID]],'Similar 10 CCGs'!$A$6:$C$160,3,FALSE)","v":"Chronic Kidney Disease (ages 18+) Prevalence"},"2011/12","12F",13352,null,264099,5.0599999999999996,4.9800000000000004,5.14,42.722594991222351,46.865058704352116,null,4.5909999999999993,3.7960000000000003,"A","Y54","X24","1051","Wilson"]
[105,{"$f":"VLOOKUP(tblData[[#This Row],[Indicator ID]],'Similar 10 CCGs'!$A$6:$C$160,3,FALSE)","v":"Chronic Kidney Disease (ages 18+) Prevalence"},"2011/12","13P",23837,null,551462,4.32,4.2699999999999996,4.37,42.722594991222351,45.802281965414068,null,4.391,3.8980000000000006,"B","Y55","X24","1051","Wilson"]
[105,{"$f":"VLOOKUP(tblData[[#This Row],[Indicator ID]],'Similar 10 CCGs'!$A$6:$C$160,3,FALSE)","v":"Chronic Kidney Disease (ages 18+) Prevalence"},"2011/12","99A",18496,null,391554,4.72,4.6500000000000004,4.79,42.722594991222351,46.865058704352116,null,3.9710000000000001,3.6079999999999997,"A","Y54","X24","1051","Wilson"]
[105,{"$f":"VLOOKUP(tblData[[#This Row],[Indicator ID]],'Similar 10 CCGs'!$A$6:$C$160,3,FALSE)","v":"Chronic Kidney Disease (ages 18+) Prevalence"},"2011/12","99C",10140,null,172637,5.87,5.76,5.98,42.722594991222351,46.865058704352116,null,5.3549999999999995,4.18,"A","Y54","X24","1051","Wilson"]
[105,{"$f":"VLOOKUP(tblData[[#This Row],[Indicator ID]],'Similar 10 CCGs'!$A$6:$C$160,3,FALSE)","v":"Chronic Kidney Disease (ages 18+) Prevalence"},"2011/12","99D",6859,null,126417,5.43,5.31,5.56,42.722594991222351,45.802281965414068,null,4.6590000000000007,3.94,"A","Y55","X24","1051","Wilson"]
[105,{"$f":"VLOOKUP(tblData[[#This Row],[Indicator ID]],'Similar 10 CCGs'!$A$6:$C$160,3,FALSE)","v":"Chronic Kidney Disease (ages 18+) Prevalence"},"2011/12","99E",9379,null,205567,4.5599999999999996,4.47,4.6500000000000004,42.722594991222351,45.802281965414068,null,4.729000000000001,3.7039999999999997,"B","Y55","X24","1051","Wilson"]
[105,{"$f":"VLOOKUP(tblData[[#This Row],[Indicator ID]],'Similar 10 CCGs'!$A$6:$C$160,3,FALSE)","v":"Chronic Kidney Disease (ages 18+) Prevalence"},"2011/12","99F",5527,null,143480,3.85,3.75,3.95,42.722594991222351,45.802281965414068,null,5.2359999999999998,4.18,"C","Y55","X24","1051","Wilson"]
[105,{"$f":"VLOOKUP(tblData[[#This Row],[Indicator ID]],'Similar 10 CCGs'!$A$6:$C$160,3,FALSE)","v":"Chronic Kidney Disease (ages 18+) Prevalence"},"2011/12","99G",5805,null,147553,3.93,3.83,4.03,42.722594991222351,45.802281965414068,null,4.5319999999999991,3.7719999999999998,"","Y55","X24","1051","Wilson"]
[105,{"$f":"VLOOKUP(tblData[[#This Row],[Indicator ID]],'Similar 10 CCGs'!$A$6:$C$160,3,FALSE)","v":"Chronic Kidney Disease (ages 18+) Prevalence"},"2011/12","99H",9043,null,228820,3.95,3.87,4.03,42.722594991222351,44.669279850135133,null,4.3040000000000003,3.9599999999999995,"","Y57","X24","1051","Wilson"]
[105,{"$f":"VLOOKUP(tblData[[#This Row],[Indicator ID]],'Similar 10 CCGs'!$A$6:$C$160,3,FALSE)","v":"Chronic Kidney Disease (ages 18+) Prevalence"},"2011/12","99J",15668,null,366591,4.2699999999999996,4.21,4.34,42.722594991222351,44.669279850135133,null,4.2009999999999996,3.5960000000000001,"","Y57","X24","1051","Wilson"]
[105,{"$f":"VLOOKUP(tblData[[#This Row],[Indicator ID]],'Similar 10 CCGs'!$A$6:$C$160,3,FALSE)","v":"Chronic Kidney Disease (ages 18+) Prevalence"},"2011/12","99K",6502,null,131846,4.93,4.8099999999999996,5.05,42.722594991222351,44.669279850135133,null,4.7860000000000005,4.07,"A","Y57","X24","1051","Wilson"]
[105,{"$f":"VLOOKUP(tblData[[#This Row],[Indicator ID]],'Similar 10 CCGs'!$A$6:$C$160,3,FALSE)","v":"Chronic Kidney Disease (ages 18+) Prevalence"},"2011/12","99M",6487,null,169624,3.82,3.73,3.91,42.722594991222351,44.669279850135133,null,3.7860000000000005,3.1240000000000001,"C","Y57","X24","1051","Wilson"]
[105,{"$f":"VLOOKUP(tblData[[#This Row],[Indicator ID]],'Similar 10 CCGs'!$A$6:$C$160,3,FALSE)","v":"Chronic Kidney Disease (ages 18+) Prevalence"},"2011/12","99N",12757,null,375571,3.4,3.34,3.46,42.722594991222351,44.669279850135133,null,4.5359999999999996,4.0119999999999996,"C","Y57","X24","1051","Wilson"]
[105,{"$f":"VLOOKUP(tblData[[#This Row],[Indicator ID]],'Similar 10 CCGs'!$A$6:$C$160,3,FALSE)","v":"Chronic Kidney Disease (ages 18+) Prevalence"},"2011/12","99P",36266,null,722366,5.0199999999999996,4.97,5.07,42.722594991222351,44.669279850135133,null,4.7859999999999996,4.2480000000000002,"A","Y57","X24","1051","Wilson"]
[105,{"$f":"VLOOKUP(tblData[[#This Row],[Indicator ID]],'Similar 10 CCGs'!$A$6:$C$160,3,FALSE)","v":"Chronic Kidney Disease (ages 18+) Prevalence"},"2011/12","99Q",11698,null,233368,5.01,4.92,5.0999999999999996,42.722594991222351,44.669279850135133,null,6.032,4.8520000000000003,"","Y57","X24","1051","Wilson"]
[106,{"$f":"VLOOKUP(tblData[[#This Row],[Indicator ID]],'Similar 10 CCGs'!$A$6:$C$160,3,FALSE)","v":"Chronic Obstructive Pulmonary Disease Prevalence"},"2011/12","00C",2541,null,105927,2.4,2.31,2.4900000000000002,16.902271545019882,21.997569279390895,null,2.379,1.9579999999999997,"A","Y54","X24","1061","Wilson"]
[106,{"$f":"VLOOKUP(tblData[[#This Row],[Indicator ID]],'Similar 10 CCGs'!$A$6:$C$160,3,FALSE)","v":"Chronic Obstructive Pulmonary Disease Prevalence"},"2011/12","00D",8461,null,287801,2.94,2.88,3,16.902271545019882,21.997569279390895,null,2.4869999999999997,2.3239999999999998,"A","Y54","X24","1061","Wilson"]
[106,{"$f":"VLOOKUP(tblData[[#This Row],[Indicator ID]],'Similar 10 CCGs'!$A$6:$C$160,3,FALSE)","v":"Chronic Obstructive Pulmonary Disease Prevalence"},"2011/12","00F",5276,null,206317,2.56,2.4900000000000002,2.63,16.902271545019882,21.997569279390895,null,2.7169999999999996,2.3980000000000001,"B","Y54","X24","1061","Wilson"]
[106,{"$f":"VLOOKUP(tblData[[#This Row],[Indicator ID]],'Similar 10 CCGs'!$A$6:$C$160,3,FALSE)","v":"Chronic Obstructive Pulmonary Disease Prevalence"},"2011/12","00G",2640,null,149906,1.76,1.69,1.83,16.902271545019882,21.997569279390895,null,1.7459999999999998,1.4860000000000002,"A","Y54","X24","1061","Wilson"]
[106,{"$f":"VLOOKUP(tblData[[#This Row],[Indicator ID]],'Similar 10 CCGs'!$A$6:$C$160,3,FALSE)","v":"Chronic Obstructive Pulmonary Disease Prevalence"},"2011/12","00H",3223,null,130014,2.48,2.4,2.57,16.902271545019882,21.997569279390895,null,2.3120000000000003,2.1100000000000003,"A","Y54","X24","1061","Wilson"]
[106,{"$f":"VLOOKUP(tblData[[#This Row],[Indicator ID]],'Similar 10 CCGs'!$A$6:$C$160,3,FALSE)","v":"Chronic Obstructive Pulmonary Disease Prevalence"},"2011/12","00J",5704,null,248033,2.2999999999999998,2.2400000000000002,2.36,16.902271545019882,21.997569279390895,null,2.0059999999999998,1.6620000000000001,"A","Y54","X24","1061","Wilson"]
[106,{"$f":"VLOOKUP(tblData[[#This Row],[Indicator ID]],'Similar 10 CCGs'!$A$6:$C$160,3,FALSE)","v":"Chronic Obstructive Pulmonary Disease Prevalence"},"2011/12","00K",6983,null,288881,2.42,2.36,2.48,16.902271545019882,21.997569279390895,null,2.4229999999999996,2.1160000000000005,"A","Y54","X24","1061","Wilson"]
[106,{"$f":"VLOOKUP(tblData[[#This Row],[Indicator ID]],'Similar 10 CCGs'!$A$6:$C$160,3,FALSE)","v":"Chronic Obstructive Pulmonary Disease Prevalence"},"2011/12","00L",7747,null,321055,2.41,2.36,2.46,16.902271545019882,21.997569279390895,null,1.9449999999999998,1.7119999999999997,"A","Y54","X24","1061","Wilson"]
[106,{"$f":"VLOOKUP(tblData[[#This Row],[Indicator ID]],'Similar 10 CCGs'!$A$6:$C$160,3,FALSE)","v":"Chronic Obstructive Pulmonary Disease Prevalence"},"2011/12","00M",7589,null,289937,2.62,2.56,2.68,16.902271545019882,21.997569279390895,null,2.4770000000000003,2.2040000000000002,"A","Y54","X24","1061","Wilson"]
[106,{"$f":"VLOOKUP(tblData[[#This Row],[Indicator ID]],'Similar 10 CCGs'!$A$6:$C$160,3,FALSE)","v":"Chronic Obstructive Pulmonary Disease Prevalence"},"2011/12","00N",5349,null,154487,3.46,3.37,3.55,16.902271545019882,21.997569279390895,null,2.52,2.2180000000000004,"A","Y54","X24","1061","Wilson"]
[106,{"$f":"VLOOKUP(tblData[[#This Row],[Indicator ID]],'Similar 10 CCGs'!$A$6:$C$160,3,FALSE)","v":"Chronic Obstructive Pulmonary Disease Prevalence"},"2011/12","00P",8750,null,284652,3.07,3.01,3.13,16.902271545019882,21.997569279390895,null,2.5989999999999998,2.306,"A","Y54","X24","1061","Wilson"]
[106,{"$f":"VLOOKUP(tblData[[#This Row],[Indicator ID]],'Similar 10 CCGs'!$A$6:$C$160,3,FALSE)","v":"Chronic Obstructive Pulmonary Disease Prevalence"},"2011/12","00Q",3575,null,168871,2.12,2.0499999999999998,2.19,16.902271545019882,21.997569279390895,null,1.9950000000000003,1.718,"A","Y54","X24","1061","Wilson"]
[106,{"$f":"VLOOKUP(tblData[[#This Row],[Indicator ID]],'Similar 10 CCGs'!$A$6:$C$160,3,FALSE)","v":"Chronic Obstructive Pulmonary Disease Prevalence"},"2011/12","00R",5098,null,172380,2.96,2.88,3.04,16.902271545019882,21.997569279390895,null,2.6520000000000001,2.1779999999999999,"A","Y54","X24","1061","Wilson"]
[106,{"$f":"VLOOKUP(tblData[[#This Row],[Indicator ID]],'Similar 10 CCGs'!$A$6:$C$160,3,FALSE)","v":"Chronic Obstructive Pulmonary Disease Prevalence"},"2011/12","00T",6257,null,296304,2.11,2.06,2.16,16.902271545019882,21.997569279390895,null,2.2730000000000001,2.1380000000000003,"C","Y54","X24","1061","Wilson"]
[106,{"$f":"VLOOKUP(tblData[[#This Row],[Indicator ID]],'Similar 10 CCGs'!$A$6:$C$160,3,FALSE)","v":"Chronic Obstructive Pulmonary Disease Prevalence"},"2011/12","00V",3570,null,188744,1.89,1.83,1.95,16.902271545019882,21.997569279390895,null,2.0669999999999997,1.7739999999999998,"","Y54","X24","1061","Wilson"]
[106,{"$f":"VLOOKUP(tblData[[#This Row],[Indicator ID]],'Similar 10 CCGs'!$A$6:$C$160,3,FALSE)","v":"Chronic Obstructive Pulmonary Disease Prevalence"},"2011/12","00W",2809,null,214540,1.31,1.26,1.36,16.902271545019882,21.997569279390895,null,1.4129999999999998,1.0900000000000001,"","Y54","X24","1061","Wilson"]
[106,{"$f":"VLOOKUP(tblData[[#This Row],[Indicator ID]],'Similar 10 CCGs'!$A$6:$C$160,3,FALSE)","v":"Chronic Obstructive Pulmonary Disease Prevalence"},"2011/12","00X",3494,null,173442,2.0099999999999998,1.95,2.08,16.902271545019882,21.997569279390895,null,2.1030000000000002,1.7580000000000002,"B","Y54","X24","1061","Wilson"]
[106,{"$f":"VLOOKUP(tblData[[#This Row],[Indicator ID]],'Similar 10 CCGs'!$A$6:$C$160,3,FALSE)","v":"Chronic Obstructive Pulmonary Disease Prevalence"},"2011/12","00Y",5254,null,240773,2.1800000000000002,2.12,2.2400000000000002,16.902271545019882,21.997569279390895,null,2.1079999999999997,1.9439999999999997,"A","Y54","X24","1061","Wilson"]
[106,{"$f":"VLOOKUP(tblData[[#This Row],[Indicator ID]],'Similar 10 CCGs'!$A$6:$C$160,3,FALSE)","v":"Chronic Obstructive Pulmonary Disease Prevalence"},"2011/12","01A",8479,null,368985,2.2999999999999998,2.25,2.35,16.902271545019882,21.997569279390895,null,2.2110000000000003,2.032,"A","Y54","X24","1061","Wilson"]
[106,{"$f":"VLOOKUP(tblData[[#This Row],[Indicator ID]],'Similar 10 CCGs'!$A$6:$C$160,3,FALSE)","v":"Chronic Obstructive Pulmonary Disease Prevalence"},"2011/12","01C",3157,null,201866,1.56,1.51,1.61,16.902271545019882,21.997569279390895,null,1.6519999999999999,1.4739999999999998,"","Y54","X24","1061","Wilson"]
[106,{"$f":"VLOOKUP(tblData[[#This Row],[Indicator ID]],'Similar 10 CCGs'!$A$6:$C$160,3,FALSE)","v":"Chronic Obstructive Pulmonary Disease Prevalence"},"2011/12","01D",4947,null,224196,2.21,2.15,2.27,16.902271545019882,21.997569279390895,null,2.2809999999999997,2.1179999999999999,"B","Y54","X24","1061","Wilson"]
[106,{"$f":"VLOOKUP(tblData[[#This Row],[Indicator ID]],'Similar 10 CCGs'!$A$6:$C$160,3,FALSE)","v":"Chronic Obstructive Pulmonary Disease Prevalence"},"2011/12","01E",3972,null,212272,1.87,1.81,1.93,16.902271545019882,21.997569279390895,null,2.133,1.8679999999999999,"","Y54","X24","1061","Wilson"]
[106,{"$f":"VLOOKUP(tblData[[#This Row],[Indicator ID]],'Similar 10 CCGs'!$A$6:$C$160,3,FALSE)","v":"Chronic Obstructive Pulmonary Disease Prevalence"},"2011/12","01F",3106,null,128154,2.42,2.34,2.5099999999999998,16.902271545019882,21.997569279390895,null,2.5170000000000003,2.266,"B","Y54","X24","1061","Wilson"]
[106,{"$f":"VLOOKUP(tblData[[#This Row],[Indicator ID]],'Similar 10 CCGs'!$A$6:$C$160,3,FALSE)","v":"Chronic Obstructive Pulmonary Disease Prevalence"},"2011/12","01G",6823,null,249243,2.74,2.68,2.8,16.902271545019882,21.997569279390895,null,2.4940000000000002,2.3559999999999999,"A","Y54","X24","1061","Wilson"]
[106,{"$f":"VLOOKUP(tblData[[#This Row],[Indicator ID]],'Similar 10 CCGs'!$A$6:$C$160,3,FALSE)","v":"Chronic Obstructive Pulmonary Disease Prevalence"},"2011/12","01H",11033,null,525627,2.1,2.06,2.14,16.902271545019882,21.997569279390895,null,1.9319999999999999,1.65,"A","Y54","X24","1061","Wilson"]
[106,{"$f":"VLOOKUP(tblData[[#This Row],[Indicator ID]],'Similar 10 CCGs'!$A$6:$C$160,3,FALSE)","v":"Chronic Obstructive Pulmonary Disease Prevalence"},"2011/12","01J",5369,null,160868,3.34,3.25,3.43,16.902271545019882,21.997569279390895,null,2.5639999999999996,2.33,"A","Y54","X24","1061","Wilson"]
[106,{"$f":"VLOOKUP(tblData[[#This Row],[Indicator ID]],'Similar 10 CCGs'!$A$6:$C$160,3,FALSE)","v":"Chronic Obstructive Pulmonary Disease Prevalence"},"2011/12","01K",3387,null,161065,2.1,2.0299999999999998,2.17,16.902271545019882,21.997569279390895,null,1.6910000000000001,1.458,"A","Y54","X24","1061","Wilson"]
[106,{"$f":"VLOOKUP(tblData[[#This Row],[Indicator ID]],'Similar 10 CCGs'!$A$6:$C$160,3,FALSE)","v":"Chronic Obstructive Pulmonary Disease Prevalence"},"2011/12","01M",4280,null,186773,2.29,2.2200000000000002,2.36,16.902271545019882,21.997569279390895,null,2.0940000000000003,1.7719999999999998,"B","Y54","X24","1061","Wilson"]
[106,{"$f":"VLOOKUP(tblData[[#This Row],[Indicator ID]],'Similar 10 CCGs'!$A$6:$C$160,3,FALSE)","v":"Chronic Obstructive Pulmonary Disease Prevalence"},"2011/12","01N",3366,null,166809,2.02,1.95,2.09,16.902271545019882,21.997569279390895,null,2.4180000000000001,1.9280000000000002,"","Y54","X24","1061","Wilson"]
[106,{"$f":"VLOOKUP(tblData[[#This Row],[Indicator ID]],'Similar 10 CCGs'!$A$6:$C$160,3,FALSE)","v":"Chronic Obstructive Pulmonary Disease Prevalence"},"2011/12","01R",2864,null,174182,1.64,1.58,1.7,16.902271545019882,21.997569279390895,null,1.802,1.6620000000000001,"B","Y54","X24","1061","Wilson"]
[106,{"$f":"VLOOKUP(tblData[[#This Row],[Indicator ID]],'Similar 10 CCGs'!$A$6:$C$160,3,FALSE)","v":"Chronic Obstructive Pulmonary Disease Prevalence"},"2011/12","01T",4345,null,155295,2.8,2.72,2.88,16.902271545019882,21.997569279390895,null,2.6709999999999998,2.3280000000000003,"A","Y54","X24","1061","Wilson"]
[106,{"$f":"VLOOKUP(tblData[[#This Row],[Indicator ID]],'Similar 10 CCGs'!$A$6:$C$160,3,FALSE)","v":"Chronic Obstructive Pulmonary Disease Prevalence"},"2011/12","01V",2363,null,121921,1.94,1.86,2.02,16.902271545019882,21.997569279390895,null,2.1509999999999998,1.8920000000000001,"","Y54","X24","1061","Wilson"]
[106,{"$f":"VLOOKUP(tblData[[#This Row],[Indicator ID]],'Similar 10 CCGs'!$A$6:$C$160,3,FALSE)","v":"Chronic Obstructive Pulmonary Disease Prevalence"},"2011/12","01W",6109,null,299243,2.04,1.99,2.09,16.902271545019882,21.997569279390895,null,2.1270000000000002,1.736,"","Y54","X24","1061","Wilson"]
[106,{"$f":"VLOOKUP(tblData[[#This Row],[Indicator ID]],'Similar 10 CCGs'!$A$6:$C$160,3,FALSE)","v":"Chronic Obstructive Pulmonary Disease Prevalence"},"2011/12","01X",5708,null,192980,2.96,2.89,3.04,16.902271545019882,21.997569279390895,null,2.5499999999999998,2.2160000000000002,"A","Y54","X24","1061","Wilson"]
[106,{"$f":"VLOOKUP(tblData[[#This Row],[Indicator ID]],'Similar 10 CCGs'!$A$6:$C$160,3,FALSE)","v":"Chronic Obstructive Pulmonary Disease Prevalence"},"2011/12","01Y",5936,null,240654,2.4700000000000002,2.41,2.5299999999999998,16.902271545019882,21.997569279390895,null,2.46,2.1719999999999997,"A","Y54","X24","1061","Wilson"]
[106,{"$f":"VLOOKUP(tblData[[#This Row],[Indicator ID]],'Similar 10 CCGs'!$A$6:$C$160,3,FALSE)","v":"Chronic Obstructive Pulmonary Disease Prevalence"},"2011/12","02A",3858,null,231440,1.67,1.62,1.72,16.902271545019882,21.997569279390895,null,1.7709999999999997,1.6859999999999999,"","Y54","X24","1061","Wilson"]
[106,{"$f":"VLOOKUP(tblData[[#This Row],[Indicator ID]],'Similar 10 CCGs'!$A$6:$C$160,3,FALSE)","v":"Chronic Obstructive Pulmonary Disease Prevalence"},"2011/12","02D",2202,null,102110,2.16,2.0699999999999998,2.25,16.902271545019882,21.997569279390895,null,1.7280000000000002,1.556,"A","Y54","X24","1061","Wilson"]
[106,{"$f":"VLOOKUP(tblData[[#This Row],[Indicator ID]],'Similar 10 CCGs'!$A$6:$C$160,3,FALSE)","v":"Chronic Obstructive Pulmonary Disease Prevalence"},"2011/12","02E",3630,null,208781,1.74,1.68,1.8,16.902271545019882,21.997569279390895,null,2.036,1.7399999999999998,"B","Y54","X24","1061","Wilson"]
[106,{"$f":"VLOOKUP(tblData[[#This Row],[Indicator ID]],'Similar 10 CCGs'!$A$6:$C$160,3,FALSE)","v":"Chronic Obstructive Pulmonary Disease Prevalence"},"2011/12","02F",4212,null,254295,1.66,1.61,1.71,16.902271545019882,21.997569279390895,null,1.8660000000000003,1.6199999999999999,"B","Y54","X24","1061","Wilson"]
[106,{"$f":"VLOOKUP(tblData[[#This Row],[Indicator ID]],'Similar 10 CCGs'!$A$6:$C$160,3,FALSE)","v":"Chronic Obstructive Pulmonary Disease Prevalence"},"2011/12","02G",2373,null,111867,2.12,2.04,2.21,16.902271545019882,21.997569279390895,null,2.2039999999999997,1.8399999999999999,"A","Y54","X24","1061","Wilson"]
[106,{"$f":"VLOOKUP(tblData[[#This Row],[Indicator ID]],'Similar 10 CCGs'!$A$6:$C$160,3,FALSE)","v":"Chronic Obstructive Pulmonary Disease Prevalence"},"2011/12","02H",6871,null,320354,2.14,2.09,2.19,16.902271545019882,21.997569279390895,null,2.4790000000000001,2.2280000000000002,"","Y54","X24","1061","Wilson"]
[106,{"$f":"VLOOKUP(tblData[[#This Row],[Indicator ID]],'Similar 10 CCGs'!$A$6:$C$160,3,FALSE)","v":"Chronic Obstructive Pulmonary Disease Prevalence"},"2011/12","02M",3471,null,151706,2.29,2.2200000000000002,2.37,16.902271545019882,21.997569279390895,null,1.8919999999999999,1.714,"A","Y54","X24","1061","Wilson"]
[106,{"$f":"VLOOKUP(tblData[[#This Row],[Indicator ID]],'Similar 10 CCGs'!$A$6:$C$160,3,FALSE)","v":"Chronic Obstructive Pulmonary Disease Prevalence"},"2011/12","02N",2993,null,155635,1.92,1.85,1.99,16.902271545019882,21.997569279390895,null,1.7690000000000001,1.5620000000000001,"A","Y54","X24","1061","Wilson"]
[106,{"$f":"VLOOKUP(tblData[[#This Row],[Indicator ID]],'Similar 10 CCGs'!$A$6:$C$160,3,FALSE)","v":"Chronic Obstructive Pulmonary Disease Prevalence"},"2011/12","02P",7397,null,245317,3.02,2.95,3.09,16.902271545019882,21.997569279390895,null,2.44,2.1659999999999999,"A","Y54","X24","1061","Wilson"]
[106,{"$f":"VLOOKUP(tblData[[#This Row],[Indicator ID]],'Similar 10 CCGs'!$A$6:$C$160,3,FALSE)","v":"Chronic Obstructive Pulmonary Disease Prevalence"},"2011/12","02Q",2640,null,111651,2.36,2.27,2.4500000000000002,16.902271545019882,21.997569279390895,null,2.2610000000000001,1.952,"A","Y54","X24","1061","Wilson"]
[106,{"$f":"VLOOKUP(tblData[[#This Row],[Indicator ID]],'Similar 10 CCGs'!$A$6:$C$160,3,FALSE)","v":"Chronic Obstructive Pulmonary Disease Prevalence"},"2011/12","02R",7459,null,330270,2.2599999999999998,2.21,2.31,16.902271545019882,21.997569279390895,null,2.1420000000000003,2.0220000000000002,"A","Y54","X24","1061","Wilson"]
[106,{"$f":"VLOOKUP(tblData[[#This Row],[Indicator ID]],'Similar 10 CCGs'!$A$6:$C$160,3,FALSE)","v":"Chronic Obstructive Pulmonary Disease Prevalence"},"2011/12","02T",3819,null,212976,1.79,1.73,1.85,16.902271545019882,21.997569279390895,null,1.8170000000000002,1.6080000000000001,"","Y54","X24","1061","Wilson"]
[106,{"$f":"VLOOKUP(tblData[[#This Row],[Indicator ID]],'Similar 10 CCGs'!$A$6:$C$160,3,FALSE)","v":"Chronic Obstructive Pulmonary Disease Prevalence"},"2011/12","02V",2819,null,201657,1.4,1.35,1.45,16.902271545019882,21.997569279390895,null,1.7579999999999998,1.54,"C","Y54","X24","1061","Wilson"]
[106,{"$f":"VLOOKUP(tblData[[#This Row],[Indicator ID]],'Similar 10 CCGs'!$A$6:$C$160,3,FALSE)","v":"Chronic Obstructive Pulmonary Disease Prevalence"},"2011/12","02W",1285,null,118636,1.08,1.02,1.1399999999999999,16.902271545019882,21.997569279390895,null,1.4510000000000001,1.1099999999999999,"C","Y54","X24","1061","Wilson"]
[106,{"$f":"VLOOKUP(tblData[[#This Row],[Indicator ID]],'Similar 10 CCGs'!$A$6:$C$160,3,FALSE)","v":"Chronic Obstructive Pulmonary Disease Prevalence"},"2011/12","02X",7822,null,308637,2.5299999999999998,2.48,2.59,16.902271545019882,21.997569279390895,null,2.508,2.2839999999999998,"A","Y54","X24","1061","Wilson"]
[106,{"$f":"VLOOKUP(tblData[[#This Row],[Indicator ID]],'Similar 10 CCGs'!$A$6:$C$160,3,FALSE)","v":"Chronic Obstructive Pulmonary Disease Prevalence"},"2011/12","02Y",6036,null,301167,2,1.95,2.0499999999999998,16.902271545019882,21.997569279390895,null,1.8320000000000001,1.552,"A","Y54","X24","1061","Wilson"]
[106,{"$f":"VLOOKUP(tblData[[#This Row],[Indicator ID]],'Similar 10 CCGs'!$A$6:$C$160,3,FALSE)","v":"Chronic Obstructive Pulmonary Disease Prevalence"},"2011/12","03A",3661,null,239050,1.53,1.48,1.58,16.902271545019882,21.997569279390895,null,1.9599999999999997,1.69,"C","Y54","X24","1061","Wilson"]
[106,{"$f":"VLOOKUP(tblData[[#This Row],[Indicator ID]],'Similar 10 CCGs'!$A$6:$C$160,3,FALSE)","v":"Chronic Obstructive Pulmonary Disease Prevalence"},"2011/12","03C",5566,null,359415,1.55,1.51,1.59,16.902271545019882,21.997569279390895,null,1.7269999999999999,1.5,"","Y54","X24","1061","Wilson"]
[106,{"$f":"VLOOKUP(tblData[[#This Row],[Indicator ID]],'Similar 10 CCGs'!$A$6:$C$160,3,FALSE)","v":"Chronic Obstructive Pulmonary Disease Prevalence"},"2011/12","03D",2472,null,141465,1.75,1.68,1.82,16.902271545019882,21.997569279390895,null,1.6920000000000002,1.5459999999999998,"","Y54","X24","1061","Wilson"]
[106,{"$f":"VLOOKUP(tblData[[#This Row],[Indicator ID]],'Similar 10 CCGs'!$A$6:$C$160,3,FALSE)","v":"Chronic Obstructive Pulmonary Disease Prevalence"},"2011/12","03E",2501,null,159597,1.57,1.51,1.63,16.902271545019882,21.997569279390895,null,1.6609999999999996,1.5299999999999998,"","Y54","X24","1061","Wilson"]
[106,{"$f":"VLOOKUP(tblData[[#This Row],[Indicator ID]],'Similar 10 CCGs'!$A$6:$C$160,3,FALSE)","v":"Chronic Obstructive Pulmonary Disease Prevalence"},"2011/12","03F",6778,null,290050,2.34,2.29,2.4,16.902271545019882,21.997569279390895,null,2.6110000000000002,2.4079999999999999,"B","Y54","X24","1061","Wilson"]
[106,{"$f":"VLOOKUP(tblData[[#This Row],[Indicator ID]],'Similar 10 CCGs'!$A$6:$C$160,3,FALSE)","v":"Chronic Obstructive Pulmonary Disease Prevalence"},"2011/12","03G",6190,null,258661,2.39,2.33,2.4500000000000002,16.902271545019882,21.997569279390895,null,2.1739999999999999,1.8799999999999997,"A","Y54","X24","1061","Wilson"]
[106,{"$f":"VLOOKUP(tblData[[#This Row],[Indicator ID]],'Similar 10 CCGs'!$A$6:$C$160,3,FALSE)","v":"Chronic Obstructive Pulmonary Disease Prevalence"},"2011/12","03H",3612,null,167731,2.15,2.08,2.2200000000000002,16.902271545019882,21.997569279390895,null,2.44,2.1260000000000003,"","Y54","X24","1061","Wilson"]
[106,{"$f":"VLOOKUP(tblData[[#This Row],[Indicator ID]],'Similar 10 CCGs'!$A$6:$C$160,3,FALSE)","v":"Chronic Obstructive Pulmonary Disease Prevalence"},"2011/12","03J",3340,null,185008,1.81,1.75,1.87,16.902271545019882,21.997569279390895,null,1.9729999999999996,1.6799999999999997,"B","Y54","X24","1061","Wilson"]
[106,{"$f":"VLOOKUP(tblData[[#This Row],[Indicator ID]],'Similar 10 CCGs'!$A$6:$C$160,3,FALSE)","v":"Chronic Obstructive Pulmonary Disease Prevalence"},"2011/12","03K",3168,null,168661,1.88,1.82,1.95,16.902271545019882,21.997569279390895,null,2.0489999999999999,1.7880000000000003,"","Y54","X24","1061","Wilson"]
[106,{"$f":"VLOOKUP(tblData[[#This Row],[Indicator ID]],'Similar 10 CCGs'!$A$6:$C$160,3,FALSE)","v":"Chronic Obstructive Pulmonary Disease Prevalence"},"2011/12","03L",6431,null,254708,2.52,2.46,2.58,16.902271545019882,21.997569279390895,null,2.508,2.2959999999999998,"A","Y54","X24","1061","Wilson"]
[106,{"$f":"VLOOKUP(tblData[[#This Row],[Indicator ID]],'Similar 10 CCGs'!$A$6:$C$160,3,FALSE)","v":"Chronic Obstructive Pulmonary Disease Prevalence"},"2011/12","03M",2097,null,118017,1.78,1.71,1.86,16.902271545019882,21.997569279390895,null,2.0270000000000001,1.7759999999999998,"","Y54","X24","1061","Wilson"]
[106,{"$f":"VLOOKUP(tblData[[#This Row],[Indicator ID]],'Similar 10 CCGs'!$A$6:$C$160,3,FALSE)","v":"Chronic Obstructive Pulmonary Disease Prevalence"},"2011/12","03N",10542,null,565185,1.87,1.83,1.91,16.902271545019882,21.997569279390895,null,1.907,1.6099999999999999,"B","Y54","X24","1061","Wilson"]
[106,{"$f":"VLOOKUP(tblData[[#This Row],[Indicator ID]],'Similar 10 CCGs'!$A$6:$C$160,3,FALSE)","v":"Chronic Obstructive Pulmonary Disease Prevalence"},"2011/12","03Q",5302,null,340298,1.56,1.52,1.6,16.902271545019882,21.997569279390895,null,1.621,1.4019999999999999,"","Y54","X24","1061","Wilson"]
[106,{"$f":"VLOOKUP(tblData[[#This Row],[Indicator ID]],'Similar 10 CCGs'!$A$6:$C$160,3,FALSE)","v":"Chronic Obstructive Pulmonary Disease Prevalence"},"2011/12","03R",9270,null,354100,2.62,2.57,2.67,16.902271545019882,21.997569279390895,null,2.42,2.14,"A","Y54","X24","1061","Wilson"]
[106,{"$f":"VLOOKUP(tblData[[#This Row],[Indicator ID]],'Similar 10 CCGs'!$A$6:$C$160,3,FALSE)","v":"Chronic Obstructive Pulmonary Disease Prevalence"},"2011/12","03T",5700,null,241613,2.36,2.2999999999999998,2.42,16.902271545019882,16.770698448519578,null,2.101,1.9140000000000001,"A","Y55","X24","1061","Wilson"]
[106,{"$f":"VLOOKUP(tblData[[#This Row],[Indicator ID]],'Similar 10 CCGs'!$A$6:$C$160,3,FALSE)","v":"Chronic Obstructive Pulmonary Disease Prevalence"},"2011/12","03V",1759,null,69200,2.54,2.4300000000000002,2.66,16.902271545019882,16.770698448519578,null,2.2060000000000004,1.8759999999999999,"A","Y55","X24","1061","Wilson"]
[106,{"$f":"VLOOKUP(tblData[[#This Row],[Indicator ID]],'Similar 10 CCGs'!$A$6:$C$160,3,FALSE)","v":"Chronic Obstructive Pulmonary Disease Prevalence"},"2011/12","03W",4662,null,315168,1.48,1.44,1.52,16.902271545019882,16.770698448519578,null,1.4169999999999998,1.232,"","Y55","X24","1061","Wilson"]
[106,{"$f":"VLOOKUP(tblData[[#This Row],[Indicator ID]],'Similar 10 CCGs'!$A$6:$C$160,3,FALSE)","v":"Chronic Obstructive Pulmonary Disease Prevalence"},"2011/12","03X",2018,null,97292,2.0699999999999998,1.98,2.16,16.902271545019882,16.770698448519578,null,2.0260000000000002,1.7899999999999998,"B","Y55","X24","1061","Wilson"]
[106,{"$f":"VLOOKUP(tblData[[#This Row],[Indicator ID]],'Similar 10 CCGs'!$A$6:$C$160,3,FALSE)","v":"Chronic Obstructive Pulmonary Disease Prevalence"},"2011/12","03Y",2782,null,102317,2.72,2.62,2.82,16.902271545019882,16.770698448519578,null,2.2370000000000001,1.9440000000000002,"A","Y55","X24","1061","Wilson"]
[106,{"$f":"VLOOKUP(tblData[[#This Row],[Indicator ID]],'Similar 10 CCGs'!$A$6:$C$160,3,FALSE)","v":"Chronic Obstructive Pulmonary Disease Prevalence"},"2011/12","04C",4853,null,373376,1.3,1.26,1.34,16.902271545019882,16.770698448519578,null,1.345,0.998,"C","Y55","X24","1061","Wilson"]
[106,{"$f":"VLOOKUP(tblData[[#This Row],[Indicator ID]],'Similar 10 CCGs'!$A$6:$C$160,3,FALSE)","v":"Chronic Obstructive Pulmonary Disease Prevalence"},"2011/12","04D",4255,null,226047,1.88,1.82,1.94,16.902271545019882,16.770698448519578,null,1.9189999999999994,1.732,"B","Y55","X24","1061","Wilson"]
[106,{"$f":"VLOOKUP(tblData[[#This Row],[Indicator ID]],'Similar 10 CCGs'!$A$6:$C$160,3,FALSE)","v":"Chronic Obstructive Pulmonary Disease Prevalence"},"2011/12","04E",4252,null,183762,2.31,2.2400000000000002,2.38,16.902271545019882,16.770698448519578,null,2.508,2.258,"A","Y55","X24","1061","Wilson"]
[106,{"$f":"VLOOKUP(tblData[[#This Row],[Indicator ID]],'Similar 10 CCGs'!$A$6:$C$160,3,FALSE)","v":"Chronic Obstructive Pulmonary Disease Prevalence"},"2011/12","04F",3683,null,265437,1.39,1.35,1.44,16.902271545019882,16.770698448519578,null,1.3729999999999998,1.1739999999999999,"B","Y55","X24","1061","Wilson"]
[106,{"$f":"VLOOKUP(tblData[[#This Row],[Indicator ID]],'Similar 10 CCGs'!$A$6:$C$160,3,FALSE)","v":"Chronic Obstructive Pulmonary Disease Prevalence"},"2011/12","04G",10151,null,628635,1.61,1.58,1.64,16.902271545019882,16.770698448519578,null,1.4769999999999999,1.3119999999999998,"A","Y55","X24","1061","Wilson"]
[106,{"$f":"VLOOKUP(tblData[[#This Row],[Indicator ID]],'Similar 10 CCGs'!$A$6:$C$160,3,FALSE)","v":"Chronic Obstructive Pulmonary Disease Prevalence"},"2011/12","04H",2488,null,128014,1.94,1.87,2.02,16.902271545019882,16.770698448519578,null,1.9919999999999998,1.7619999999999998,"B","Y55","X24","1061","Wilson"]
[106,{"$f":"VLOOKUP(tblData[[#This Row],[Indicator ID]],'Similar 10 CCGs'!$A$6:$C$160,3,FALSE)","v":"Chronic Obstructive Pulmonary Disease Prevalence"},"2011/12","04J",5709,null,279817,2.04,1.99,2.09,16.902271545019882,16.770698448519578,null,1.89,1.6219999999999999,"A","Y55","X24","1061","Wilson"]
[106,{"$f":"VLOOKUP(tblData[[#This Row],[Indicator ID]],'Similar 10 CCGs'!$A$6:$C$160,3,FALSE)","v":"Chronic Obstructive Pulmonary Disease Prevalence"},"2011/12","04K",5143,null,347901,1.48,1.44,1.52,16.902271545019882,16.770698448519578,null,1.738,1.4100000000000001,"","Y55","X24","1061","Wilson"]
[106,{"$f":"VLOOKUP(tblData[[#This Row],[Indicator ID]],'Similar 10 CCGs'!$A$6:$C$160,3,FALSE)","v":"Chronic Obstructive Pulmonary Disease Prevalence"},"2011/12","04L",2735,null,144732,1.89,1.82,1.96,16.902271545019882,16.770698448519578,null,1.9900000000000002,1.766,"B","Y55","X24","1061","Wilson"]
[106,{"$f":"VLOOKUP(tblData[[#This Row],[Indicator ID]],'Similar 10 CCGs'!$A$6:$C$160,3,FALSE)","v":"Chronic Obstructive Pulmonary Disease Prevalence"},"2011/12","04M",1797,null,93461,1.92,1.83,2.0099999999999998,16.902271545019882,16.770698448519578,null,1.8379999999999996,1.6760000000000002,"A","Y55","X24","1061","Wilson"]
[106,{"$f":"VLOOKUP(tblData[[#This Row],[Indicator ID]],'Similar 10 CCGs'!$A$6:$C$160,3,FALSE)","v":"Chronic Obstructive Pulmonary Disease Prevalence"},"2011/12","04N",1557,null,121763,1.28,1.22,1.34,16.902271545019882,16.770698448519578,null,1.4889999999999999,1.282,"C","Y55","X24","1061","Wilson"]
[106,{"$f":"VLOOKUP(tblData[[#This Row],[Indicator ID]],'Similar 10 CCGs'!$A$6:$C$160,3,FALSE)","v":"Chronic Obstructive Pulmonary Disease Prevalence"},"2011/12","04Q",2149,null,129209,1.66,1.59,1.73,16.902271545019882,16.770698448519578,null,1.6560000000000001,1.51,"B","Y55","X24","1061","Wilson"]
[106,{"$f":"VLOOKUP(tblData[[#This Row],[Indicator ID]],'Similar 10 CCGs'!$A$6:$C$160,3,FALSE)","v":"Chronic Obstructive Pulmonary Disease Prevalence"},"2011/12","04R",9088,null,524920,1.73,1.7,1.77,16.902271545019882,16.770698448519578,null,1.639,1.4339999999999999,"A","Y55","X24","1061","Wilson"]
[106,{"$f":"VLOOKUP(tblData[[#This Row],[Indicator ID]],'Similar 10 CCGs'!$A$6:$C$160,3,FALSE)","v":"Chronic Obstructive Pulmonary Disease Prevalence"},"2011/12","04V",5756,null,368905,1.56,1.52,1.6,16.902271545019882,16.770698448519578,null,1.629,1.4039999999999999,"C","Y55","X24","1061","Wilson"]
[106,{"$f":"VLOOKUP(tblData[[#This Row],[Indicator ID]],'Similar 10 CCGs'!$A$6:$C$160,3,FALSE)","v":"Chronic Obstructive Pulmonary Disease Prevalence"},"2011/12","04X",3236,null,245730,1.32,1.28,1.37,16.902271545019882,16.770698448519578,null,1.8360000000000003,1.4600000000000002,"C","Y55","X24","1061","Wilson"]
[106,{"$f":"VLOOKUP(tblData[[#This Row],[Indicator ID]],'Similar 10 CCGs'!$A$6:$C$160,3,FALSE)","v":"Chronic Obstructive Pulmonary Disease Prevalence"},"2011/12","04Y",2728,null,131791,2.0699999999999998,1.99,2.15,16.902271545019882,16.770698448519578,null,2.008,1.7540000000000002,"A","Y55","X24","1061","Wilson"]
[106,{"$f":"VLOOKUP(tblData[[#This Row],[Indicator ID]],'Similar 10 CCGs'!$A$6:$C$160,3,FALSE)","v":"Chronic Obstructive Pulmonary Disease Prevalence"},"2011/12","05A",7607,null,463980,1.64,1.6,1.68,16.902271545019882,16.770698448519578,null,1.9090000000000003,1.5880000000000001,"C","Y55","X24","1061","Wilson"]
[106,{"$f":"VLOOKUP(tblData[[#This Row],[Indicator ID]],'Similar 10 CCGs'!$A$6:$C$160,3,FALSE)","v":"Chronic Obstructive Pulmonary Disease Prevalence"},"2011/12","05C",5367,null,313830,1.71,1.67,1.76,16.902271545019882,16.770698448519578,null,1.9419999999999997,1.732,"","Y55","X24","1061","Wilson"]
[106,{"$f":"VLOOKUP(tblData[[#This Row],[Indicator ID]],'Similar 10 CCGs'!$A$6:$C$160,3,FALSE)","v":"Chronic Obstructive Pulmonary Disease Prevalence"},"2011/12","05D",2126,null,133795,1.59,1.52,1.66,16.902271545019882,16.770698448519578,null,1.7690000000000001,1.6259999999999999,"","Y55","X24","1061","Wilson"]
[106,{"$f":"VLOOKUP(tblData[[#This Row],[Indicator ID]],'Similar 10 CCGs'!$A$6:$C$160,3,FALSE)","v":"Chronic Obstructive Pulmonary Disease Prevalence"},"2011/12","05F",3198,null,181868,1.76,1.7,1.82,16.902271545019882,16.770698448519578,null,1.909,1.6839999999999999,"B","Y55","X24","1061","Wilson"]
[106,{"$f":"VLOOKUP(tblData[[#This Row],[Indicator ID]],'Similar 10 CCGs'!$A$6:$C$160,3,FALSE)","v":"Chronic Obstructive Pulmonary Disease Prevalence"},"2011/12","05G",4186,null,213223,1.96,1.9,2.02,16.902271545019882,16.770698448519578,null,2.0119999999999996,1.706,"B","Y55","X24","1061","Wilson"]
[106,{"$f":"VLOOKUP(tblData[[#This Row],[Indicator ID]],'Similar 10 CCGs'!$A$6:$C$160,3,FALSE)","v":"Chronic Obstructive Pulmonary Disease Prevalence"},"2011/12","05H",3320,null,183653,1.81,1.75,1.87,16.902271545019882,16.770698448519578,null,2.141,1.8079999999999998,"","Y55","X24","1061","Wilson"]
[106,{"$f":"VLOOKUP(tblData[[#This Row],[Indicator ID]],'Similar 10 CCGs'!$A$6:$C$160,3,FALSE)","v":"Chronic Obstructive Pulmonary Disease Prevalence"},"2011/12","05J",2931,null,171390,1.71,1.65,1.77,16.902271545019882,16.770698448519578,null,1.857,1.718,"","Y55","X24","1061","Wilson"]
[106,{"$f":"VLOOKUP(tblData[[#This Row],[Indicator ID]],'Similar 10 CCGs'!$A$6:$C$160,3,FALSE)","v":"Chronic Obstructive Pulmonary Disease Prevalence"},"2011/12","05L",8112,null,531050,1.53,1.5,1.56,16.902271545019882,16.770698448519578,null,1.4659999999999997,1.0979999999999999,"C","Y55","X24","1061","Wilson"]
[106,{"$f":"VLOOKUP(tblData[[#This Row],[Indicator ID]],'Similar 10 CCGs'!$A$6:$C$160,3,FALSE)","v":"Chronic Obstructive Pulmonary Disease Prevalence"},"2011/12","05N",4867,null,297973,1.63,1.59,1.68,16.902271545019882,16.770698448519578,null,1.8120000000000005,1.5980000000000001,"","Y55","X24","1061","Wilson"]
[106,{"$f":"VLOOKUP(tblData[[#This Row],[Indicator ID]],'Similar 10 CCGs'!$A$6:$C$160,3,FALSE)","v":"Chronic Obstructive Pulmonary Disease Prevalence"},"2011/12","05P",4301,null,235280,1.83,1.78,1.88,16.902271545019882,16.770698448519578,null,1.77,1.6879999999999999,"A","Y55","X24","1061","Wilson"]
[106,{"$f":"VLOOKUP(tblData[[#This Row],[Indicator ID]],'Similar 10 CCGs'!$A$6:$C$160,3,FALSE)","v":"Chronic Obstructive Pulmonary Disease Prevalence"},"2011/12","05Q",3388,null,209085,1.62,1.57,1.68,16.902271545019882,16.770698448519578,null,1.7770000000000004,1.5840000000000001,"A","Y55","X24","1061","Wilson"]
[106,{"$f":"VLOOKUP(tblData[[#This Row],[Indicator ID]],'Similar 10 CCGs'!$A$6:$C$160,3,FALSE)","v":"Chronic Obstructive Pulmonary Disease Prevalence"},"2011/12","05R",3839,null,271512,1.41,1.37,1.45,16.902271545019882,16.770698448519578,null,1.6759999999999997,1.532,"C","Y55","X24","1061","Wilson"]
[106,{"$f":"VLOOKUP(tblData[[#This Row],[Indicator ID]],'Similar 10 CCGs'!$A$6:$C$160,3,FALSE)","v":"Chronic Obstructive Pulmonary Disease Prevalence"},"2011/12","05T",4507,null,292433,1.54,1.5,1.59,16.902271545019882,16.770698448519578,null,1.8039999999999998,1.5479999999999998,"","Y55","X24","1061","Wilson"]
[106,{"$f":"VLOOKUP(tblData[[#This Row],[Indicator ID]],'Similar 10 CCGs'!$A$6:$C$160,3,FALSE)","v":"Chronic Obstructive Pulmonary Disease Prevalence"},"2011/12","05V",1883,null,144593,1.3,1.24,1.36,16.902271545019882,16.770698448519578,null,1.7419999999999998,1.5719999999999998,"C","Y55","X24","1061","Wilson"]
[106,{"$f":"VLOOKUP(tblData[[#This Row],[Indicator ID]],'Similar 10 CCGs'!$A$6:$C$160,3,FALSE)","v":"Chronic Obstructive Pulmonary Disease Prevalence"},"2011/12","05W",6157,null,278090,2.21,2.16,2.27,16.902271545019882,16.770698448519578,null,2.5170000000000003,2.3199999999999998,"","Y55","X24","1061","Wilson"]
[106,{"$f":"VLOOKUP(tblData[[#This Row],[Indicator ID]],'Similar 10 CCGs'!$A$6:$C$160,3,FALSE)","v":"Chronic Obstructive Pulmonary Disease Prevalence"},"2011/12","05X",3305,null,172024,1.92,1.86,1.99,16.902271545019882,16.770698448519578,null,1.968,1.702,"","Y55","X24","1061","Wilson"]
[106,{"$f":"VLOOKUP(tblData[[#This Row],[Indicator ID]],'Similar 10 CCGs'!$A$6:$C$160,3,FALSE)","v":"Chronic Obstructive Pulmonary Disease Prevalence"},"2011/12","05Y",5943,null,270491,2.2000000000000002,2.15,2.2599999999999998,16.902271545019882,16.770698448519578,null,2.1970000000000001,2.0060000000000002,"","Y55","X24","1061","Wilson"]
[106,{"$f":"VLOOKUP(tblData[[#This Row],[Indicator ID]],'Similar 10 CCGs'!$A$6:$C$160,3,FALSE)","v":"Chronic Obstructive Pulmonary Disease Prevalence"},"2011/12","06A",4491,null,260354,1.72,1.67,1.77,16.902271545019882,16.770698448519578,null,2.0699999999999998,1.7619999999999998,"C","Y55","X24","1061","Wilson"]
[106,{"$f":"VLOOKUP(tblData[[#This Row],[Indicator ID]],'Similar 10 CCGs'!$A$6:$C$160,3,FALSE)","v":"Chronic Obstructive Pulmonary Disease Prevalence"},"2011/12","06D",1983,null,112154,1.77,1.69,1.85,16.902271545019882,16.770698448519578,null,1.8940000000000001,1.7,"B","Y55","X24","1061","Wilson"]
[106,{"$f":"VLOOKUP(tblData[[#This Row],[Indicator ID]],'Similar 10 CCGs'!$A$6:$C$160,3,FALSE)","v":"Chronic Obstructive Pulmonary Disease Prevalence"},"2011/12","06F",6052,null,436707,1.39,1.36,1.43,16.902271545019882,16.770698448519578,null,1.492,1.3480000000000001,"B","Y55","X24","1061","Wilson"]
[106,{"$f":"VLOOKUP(tblData[[#This Row],[Indicator ID]],'Similar 10 CCGs'!$A$6:$C$160,3,FALSE)","v":"Chronic Obstructive Pulmonary Disease Prevalence"},"2011/12","06H",13352,null,862150,1.55,1.52,1.58,16.902271545019882,16.770698448519578,null,1.556,1.3820000000000001,"","Y55","X24","1061","Wilson"]
[106,{"$f":"VLOOKUP(tblData[[#This Row],[Indicator ID]],'Similar 10 CCGs'!$A$6:$C$160,3,FALSE)","v":"Chronic Obstructive Pulmonary Disease Prevalence"},"2011/12","06K",8231,null,566468,1.45,1.42,1.48,16.902271545019882,16.770698448519578,null,1.448,1.3239999999999998,"A","Y55","X24","1061","Wilson"]
[106,{"$f":"VLOOKUP(tblData[[#This Row],[Indicator ID]],'Similar 10 CCGs'!$A$6:$C$160,3,FALSE)","v":"Chronic Obstructive Pulmonary Disease Prevalence"},"2011/12","06L",6011,null,387143,1.55,1.51,1.59,16.902271545019882,16.770698448519578,null,1.6890000000000001,1.4380000000000002,"C","Y55","X24","1061","Wilson"]
[106,{"$f":"VLOOKUP(tblData[[#This Row],[Indicator ID]],'Similar 10 CCGs'!$A$6:$C$160,3,FALSE)","v":"Chronic Obstructive Pulmonary Disease Prevalence"},"2011/12","06M",5600,null,230830,2.4300000000000002,2.37,2.4900000000000002,16.902271545019882,16.770698448519578,null,2.0759999999999996,1.8780000000000001,"A","Y55","X24","1061","Wilson"]
[106,{"$f":"VLOOKUP(tblData[[#This Row],[Indicator ID]],'Similar 10 CCGs'!$A$6:$C$160,3,FALSE)","v":"Chronic Obstructive Pulmonary Disease Prevalence"},"2011/12","06N",7591,null,599780,1.27,1.24,1.3,16.902271545019882,16.770698448519578,null,1.4339999999999997,1.278,"","Y55","X24","1061","Wilson"]
[106,{"$f":"VLOOKUP(tblData[[#This Row],[Indicator ID]],'Similar 10 CCGs'!$A$6:$C$160,3,FALSE)","v":"Chronic Obstructive Pulmonary Disease Prevalence"},"2011/12","06P",2497,null,213020,1.17,1.1299999999999999,1.22,16.902271545019882,16.770698448519578,null,1.526,1.0720000000000001,"","Y55","X24","1061","Wilson"]
[106,{"$f":"VLOOKUP(tblData[[#This Row],[Indicator ID]],'Similar 10 CCGs'!$A$6:$C$160,3,FALSE)","v":"Chronic Obstructive Pulmonary Disease Prevalence"},"2011/12","06Q",4860,null,379032,1.28,1.24,1.32,16.902271545019882,16.770698448519578,null,1.347,1.1539999999999999,"","Y55","X24","1061","Wilson"]
[106,{"$f":"VLOOKUP(tblData[[#This Row],[Indicator ID]],'Similar 10 CCGs'!$A$6:$C$160,3,FALSE)","v":"Chronic Obstructive Pulmonary Disease Prevalence"},"2011/12","06T",6734,null,327531,2.06,2.0099999999999998,2.11,16.902271545019882,16.770698448519578,null,1.8509999999999998,1.6199999999999999,"A","Y55","X24","1061","Wilson"]
[106,{"$f":"VLOOKUP(tblData[[#This Row],[Indicator ID]],'Similar 10 CCGs'!$A$6:$C$160,3,FALSE)","v":"Chronic Obstructive Pulmonary Disease Prevalence"},"2011/12","06V",3338,null,167483,1.99,1.92,2.06,16.902271545019882,16.770698448519578,null,1.8689999999999998,1.6260000000000001,"B","Y55","X24","1061","Wilson"]
[106,{"$f":"VLOOKUP(tblData[[#This Row],[Indicator ID]],'Similar 10 CCGs'!$A$6:$C$160,3,FALSE)","v":"Chronic Obstructive Pulmonary Disease Prevalence"},"2011/12","06W",3354,null,208562,1.61,1.56,1.66,16.902271545019882,16.770698448519578,null,2.0659999999999998,1.5720000000000001,"","Y55","X24","1061","Wilson"]
[106,{"$f":"VLOOKUP(tblData[[#This Row],[Indicator ID]],'Similar 10 CCGs'!$A$6:$C$160,3,FALSE)","v":"Chronic Obstructive Pulmonary Disease Prevalence"},"2011/12","06Y",3594,null,220178,1.63,1.58,1.68,16.902271545019882,16.770698448519578,null,1.6730000000000005,1.508,"","Y55","X24","1061","Wilson"]
[106,{"$f":"VLOOKUP(tblData[[#This Row],[Indicator ID]],'Similar 10 CCGs'!$A$6:$C$160,3,FALSE)","v":"Chronic Obstructive Pulmonary Disease Prevalence"},"2011/12","07G",2709,null,161318,1.68,1.62,1.74,16.902271545019882,16.770698448519578,null,1.5070000000000001,1.3359999999999999,"A","Y55","X24","1061","Wilson"]
[106,{"$f":"VLOOKUP(tblData[[#This Row],[Indicator ID]],'Similar 10 CCGs'!$A$6:$C$160,3,FALSE)","v":"Chronic Obstructive Pulmonary Disease Prevalence"},"2011/12","07H",4547,null,291230,1.56,1.52,1.61,16.902271545019882,16.770698448519578,null,1.5429999999999999,1.302,"A","Y55","X24","1061","Wilson"]
[106,{"$f":"VLOOKUP(tblData[[#This Row],[Indicator ID]],'Similar 10 CCGs'!$A$6:$C$160,3,FALSE)","v":"Chronic Obstructive Pulmonary Disease Prevalence"},"2011/12","07J",3873,null,164506,2.35,2.2799999999999998,2.42,16.902271545019882,16.770698448519578,null,2.0739999999999998,1.8579999999999999,"A","Y55","X24","1061","Wilson"]
[106,{"$f":"VLOOKUP(tblData[[#This Row],[Indicator ID]],'Similar 10 CCGs'!$A$6:$C$160,3,FALSE)","v":"Chronic Obstructive Pulmonary Disease Prevalence"},"2011/12","07K",4331,null,236634,1.83,1.78,1.88,16.902271545019882,16.770698448519578,null,1.6879999999999999,1.5719999999999998,"A","Y55","X24","1061","Wilson"]
[106,{"$f":"VLOOKUP(tblData[[#This Row],[Indicator ID]],'Similar 10 CCGs'!$A$6:$C$160,3,FALSE)","v":"Chronic Obstructive Pulmonary Disease Prevalence"},"2011/12","07L",2995,null,201601,1.49,1.44,1.54,16.902271545019882,10.650647210356805,null,1.25,0.96599999999999997,"A","Y56","X24","1061","Wilson"]
[106,{"$f":"VLOOKUP(tblData[[#This Row],[Indicator ID]],'Similar 10 CCGs'!$A$6:$C$160,3,FALSE)","v":"Chronic Obstructive Pulmonary Disease Prevalence"},"2011/12","07M",3985,null,378983,1.05,1.02,1.08,16.902271545019882,10.650647210356805,null,1.3699999999999999,1.226,"C","Y56","X24","1061","Wilson"]
[106,{"$f":"VLOOKUP(tblData[[#This Row],[Indicator ID]],'Similar 10 CCGs'!$A$6:$C$160,3,FALSE)","v":"Chronic Obstructive Pulmonary Disease Prevalence"},"2011/12","07N",3633,null,228448,1.59,1.54,1.64,16.902271545019882,10.650647210356805,null,1.5009999999999999,1.3199999999999998,"A","Y56","X24","1061","Wilson"]
[106,{"$f":"VLOOKUP(tblData[[#This Row],[Indicator ID]],'Similar 10 CCGs'!$A$6:$C$160,3,FALSE)","v":"Chronic Obstructive Pulmonary Disease Prevalence"},"2011/12","07P",2589,null,333639,0.78,0.75,0.81,16.902271545019882,10.650647210356805,null,1.0429999999999999,0.86999999999999988,"C","Y56","X24","1061","Wilson"]
[106,{"$f":"VLOOKUP(tblData[[#This Row],[Indicator ID]],'Similar 10 CCGs'!$A$6:$C$160,3,FALSE)","v":"Chronic Obstructive Pulmonary Disease Prevalence"},"2011/12","07Q",4232,null,325750,1.3,1.26,1.34,16.902271545019882,10.650647210356805,null,1.4730000000000001,1.282,"C","Y56","X24","1061","Wilson"]
[106,{"$f":"VLOOKUP(tblData[[#This Row],[Indicator ID]],'Similar 10 CCGs'!$A$6:$C$160,3,FALSE)","v":"Chronic Obstructive Pulmonary Disease Prevalence"},"2011/12","07R",2579,null,258783,1,0.96,1.04,16.902271545019882,10.650647210356805,null,1.4780000000000002,1.21,"","Y56","X24","1061","Wilson"]
[106,{"$f":"VLOOKUP(tblData[[#This Row],[Indicator ID]],'Similar 10 CCGs'!$A$6:$C$160,3,FALSE)","v":"Chronic Obstructive Pulmonary Disease Prevalence"},"2011/12","07T",2654,null,286478,0.93,0.9,0.97,16.902271545019882,10.650647210356805,null,1.0509999999999999,0.85799999999999998,"","Y56","X24","1061","Wilson"]
[106,{"$f":"VLOOKUP(tblData[[#This Row],[Indicator ID]],'Similar 10 CCGs'!$A$6:$C$160,3,FALSE)","v":"Chronic Obstructive Pulmonary Disease Prevalence"},"2011/12","07V",3769,null,383343,0.98,0.95,1.01,16.902271545019882,10.650647210356805,null,1.0880000000000003,0.92400000000000004,"C","Y56","X24","1061","Wilson"]
[106,{"$f":"VLOOKUP(tblData[[#This Row],[Indicator ID]],'Similar 10 CCGs'!$A$6:$C$160,3,FALSE)","v":"Chronic Obstructive Pulmonary Disease Prevalence"},"2011/12","07W",3251,null,393933,0.83,0.8,0.86,16.902271545019882,10.650647210356805,null,1.0820000000000001,0.88200000000000001,"","Y56","X24","1061","Wilson"]
[106,{"$f":"VLOOKUP(tblData[[#This Row],[Indicator ID]],'Similar 10 CCGs'!$A$6:$C$160,3,FALSE)","v":"Chronic Obstructive Pulmonary Disease Prevalence"},"2011/12","07X",3105,null,288724,1.08,1.04,1.1200000000000001,16.902271545019882,10.650647210356805,null,1.2759999999999998,1.05,"C","Y56","X24","1061","Wilson"]
[106,{"$f":"VLOOKUP(tblData[[#This Row],[Indicator ID]],'Similar 10 CCGs'!$A$6:$C$160,3,FALSE)","v":"Chronic Obstructive Pulmonary Disease Prevalence"},"2011/12","07Y",2608,null,280205,0.93,0.9,0.97,16.902271545019882,10.650647210356805,null,1.0109999999999999,0.8620000000000001,"","Y56","X24","1061","Wilson"]
[106,{"$f":"VLOOKUP(tblData[[#This Row],[Indicator ID]],'Similar 10 CCGs'!$A$6:$C$160,3,FALSE)","v":"Chronic Obstructive Pulmonary Disease Prevalence"},"2011/12","08A",3756,null,276087,1.36,1.32,1.4,16.902271545019882,10.650647210356805,null,1.2080000000000002,0.90999999999999992,"","Y56","X24","1061","Wilson"]
[106,{"$f":"VLOOKUP(tblData[[#This Row],[Indicator ID]],'Similar 10 CCGs'!$A$6:$C$160,3,FALSE)","v":"Chronic Obstructive Pulmonary Disease Prevalence"},"2011/12","08C",2130,null,198466,1.07,1.03,1.1200000000000001,16.902271545019882,10.650647210356805,null,1.0009999999999999,0.86599999999999999,"B","Y56","X24","1061","Wilson"]
[106,{"$f":"VLOOKUP(tblData[[#This Row],[Indicator ID]],'Similar 10 CCGs'!$A$6:$C$160,3,FALSE)","v":"Chronic Obstructive Pulmonary Disease Prevalence"},"2011/12","08D",2079,null,273462,0.76,0.73,0.79,16.902271545019882,10.650647210356805,null,1.1080000000000001,0.91000000000000014,"C","Y56","X24","1061","Wilson"]
[106,{"$f":"VLOOKUP(tblData[[#This Row],[Indicator ID]],'Similar 10 CCGs'!$A$6:$C$160,3,FALSE)","v":"Chronic Obstructive Pulmonary Disease Prevalence"},"2011/12","08E",1950,null,224682,0.87,0.83,0.91,16.902271545019882,10.650647210356805,null,1.0510000000000002,0.94599999999999995,"C","Y56","X24","1061","Wilson"]
[106,{"$f":"VLOOKUP(tblData[[#This Row],[Indicator ID]],'Similar 10 CCGs'!$A$6:$C$160,3,FALSE)","v":"Chronic Obstructive Pulmonary Disease Prevalence"},"2011/12","08F",4234,null,257279,1.65,1.6,1.7,16.902271545019882,10.650647210356805,null,1.6220000000000003,1.468,"","Y56","X24","1061","Wilson"]
[106,{"$f":"VLOOKUP(tblData[[#This Row],[Indicator ID]],'Similar 10 CCGs'!$A$6:$C$160,3,FALSE)","v":"Chronic Obstructive Pulmonary Disease Prevalence"},"2011/12","08G",3352,null,282436,1.19,1.1499999999999999,1.23,16.902271545019882,10.650647210356805,null,1.3459999999999999,1.016,"","Y56","X24","1061","Wilson"]
[106,{"$f":"VLOOKUP(tblData[[#This Row],[Indicator ID]],'Similar 10 CCGs'!$A$6:$C$160,3,FALSE)","v":"Chronic Obstructive Pulmonary Disease Prevalence"},"2011/12","08H",3218,null,220190,1.46,1.41,1.51,16.902271545019882,10.650647210356805,null,0.98299999999999998,0.85,"A","Y56","X24","1061","Wilson"]
[106,{"$f":"VLOOKUP(tblData[[#This Row],[Indicator ID]],'Similar 10 CCGs'!$A$6:$C$160,3,FALSE)","v":"Chronic Obstructive Pulmonary Disease Prevalence"},"2011/12","08J",2009,null,188991,1.06,1.01,1.1100000000000001,16.902271545019882,10.650647210356805,null,1.294,1.1219999999999999,"","Y56","X24","1061","Wilson"]
[106,{"$f":"VLOOKUP(tblData[[#This Row],[Indicator ID]],'Similar 10 CCGs'!$A$6:$C$160,3,FALSE)","v":"Chronic Obstructive Pulmonary Disease Prevalence"},"2011/12","08K",3404,null,381991,0.89,0.86,0.92,16.902271545019882,10.650647210356805,null,0.99,0.83599999999999997,"","Y56","X24","1061","Wilson"]
[106,{"$f":"VLOOKUP(tblData[[#This Row],[Indicator ID]],'Similar 10 CCGs'!$A$6:$C$160,3,FALSE)","v":"Chronic Obstructive Pulmonary Disease Prevalence"},"2011/12","08L",3497,null,306263,1.1399999999999999,1.1000000000000001,1.18,16.902271545019882,10.650647210356805,null,1.024,0.85199999999999998,"","Y56","X24","1061","Wilson"]
[106,{"$f":"VLOOKUP(tblData[[#This Row],[Indicator ID]],'Similar 10 CCGs'!$A$6:$C$160,3,FALSE)","v":"Chronic Obstructive Pulmonary Disease Prevalence"},"2011/12","08M",2994,null,368016,0.81,0.78,0.84,16.902271545019882,10.650647210356805,null,1.093,0.8859999999999999,"C","Y56","X24","1061","Wilson"]
[106,{"$f":"VLOOKUP(tblData[[#This Row],[Indicator ID]],'Similar 10 CCGs'!$A$6:$C$160,3,FALSE)","v":"Chronic Obstructive Pulmonary Disease Prevalence"},"2011/12","08N",2502,null,287529,0.87,0.84,0.9,16.902271545019882,10.650647210356805,null,1.175,0.94599999999999995,"C","Y56","X24","1061","Wilson"]
[106,{"$f":"VLOOKUP(tblData[[#This Row],[Indicator ID]],'Similar 10 CCGs'!$A$6:$C$160,3,FALSE)","v":"Chronic Obstructive Pulmonary Disease Prevalence"},"2011/12","08P",1970,null,197994,0.99,0.95,1.03,16.902271545019882,10.650647210356805,null,1.1579999999999999,1.0660000000000001,"","Y56","X24","1061","Wilson"]
[106,{"$f":"VLOOKUP(tblData[[#This Row],[Indicator ID]],'Similar 10 CCGs'!$A$6:$C$160,3,FALSE)","v":"Chronic Obstructive Pulmonary Disease Prevalence"},"2011/12","08Q",3899,null,327517,1.19,1.1499999999999999,1.23,16.902271545019882,10.650647210356805,null,1.0250000000000001,0.85199999999999998,"A","Y56","X24","1061","Wilson"]
[106,{"$f":"VLOOKUP(tblData[[#This Row],[Indicator ID]],'Similar 10 CCGs'!$A$6:$C$160,3,FALSE)","v":"Chronic Obstructive Pulmonary Disease Prevalence"},"2011/12","08R",2274,null,212502,1.07,1.03,1.1100000000000001,16.902271545019882,10.650647210356805,null,1.036,0.92200000000000004,"A","Y56","X24","1061","Wilson"]
[106,{"$f":"VLOOKUP(tblData[[#This Row],[Indicator ID]],'Similar 10 CCGs'!$A$6:$C$160,3,FALSE)","v":"Chronic Obstructive Pulmonary Disease Prevalence"},"2011/12","08T",2383,null,184345,1.29,1.24,1.34,16.902271545019882,10.650647210356805,null,1.498,1.294,"","Y56","X24","1061","Wilson"]
[106,{"$f":"VLOOKUP(tblData[[#This Row],[Indicator ID]],'Similar 10 CCGs'!$A$6:$C$160,3,FALSE)","v":"Chronic Obstructive Pulmonary Disease Prevalence"},"2011/12","08V",3237,null,278239,1.1599999999999999,1.1200000000000001,1.2,16.902271545019882,10.650647210356805,null,1.0829999999999997,0.874,"A","Y56","X24","1061","Wilson"]
[106,{"$f":"VLOOKUP(tblData[[#This Row],[Indicator ID]],'Similar 10 CCGs'!$A$6:$C$160,3,FALSE)","v":"Chronic Obstructive Pulmonary Disease Prevalence"},"2011/12","08W",2814,null,293890,0.96,0.93,1,16.902271545019882,10.650647210356805,null,1.0870000000000002,0.85600000000000009,"","Y56","X24","1061","Wilson"]
[106,{"$f":"VLOOKUP(tblData[[#This Row],[Indicator ID]],'Similar 10 CCGs'!$A$6:$C$160,3,FALSE)","v":"Chronic Obstructive Pulmonary Disease Prevalence"},"2011/12","08X",3167,null,353385,0.9,0.87,0.93,16.902271545019882,10.650647210356805,null,1.0690000000000002,0.85199999999999998,"","Y56","X24","1061","Wilson"]
[106,{"$f":"VLOOKUP(tblData[[#This Row],[Indicator ID]],'Similar 10 CCGs'!$A$6:$C$160,3,FALSE)","v":"Chronic Obstructive Pulmonary Disease Prevalence"},"2011/12","08Y",2727,null,224877,1.21,1.17,1.26,16.902271545019882,10.650647210356805,null,1.0540000000000003,0.91799999999999993,"A","Y56","X24","1061","Wilson"]
[106,{"$f":"VLOOKUP(tblData[[#This Row],[Indicator ID]],'Similar 10 CCGs'!$A$6:$C$160,3,FALSE)","v":"Chronic Obstructive Pulmonary Disease Prevalence"},"2011/12","09A",1708,null,193826,0.88,0.84,0.92,16.902271545019882,10.650647210356805,null,1.361,1.0740000000000001,"","Y56","X24","1061","Wilson"]
[106,{"$f":"VLOOKUP(tblData[[#This Row],[Indicator ID]],'Similar 10 CCGs'!$A$6:$C$160,3,FALSE)","v":"Chronic Obstructive Pulmonary Disease Prevalence"},"2011/12","09C",1905,null,123049,1.55,1.48,1.62,16.902271545019882,15.340137994838084,null,1.5770000000000002,1.3779999999999999,"B","Y57","X24","1061","Wilson"]
[106,{"$f":"VLOOKUP(tblData[[#This Row],[Indicator ID]],'Similar 10 CCGs'!$A$6:$C$160,3,FALSE)","v":"Chronic Obstructive Pulmonary Disease Prevalence"},"2011/12","09D",3583,null,302041,1.19,1.1499999999999999,1.23,16.902271545019882,15.340137994838084,null,2.0829999999999997,1.736,"C","Y57","X24","1061","Wilson"]
[106,{"$f":"VLOOKUP(tblData[[#This Row],[Indicator ID]],'Similar 10 CCGs'!$A$6:$C$160,3,FALSE)","v":"Chronic Obstructive Pulmonary Disease Prevalence"},"2011/12","09E",3407,null,212778,1.6,1.55,1.65,16.902271545019882,15.340137994838084,null,1.794,1.5460000000000003,"C","Y57","X24","1061","Wilson"]
[106,{"$f":"VLOOKUP(tblData[[#This Row],[Indicator ID]],'Similar 10 CCGs'!$A$6:$C$160,3,FALSE)","v":"Chronic Obstructive Pulmonary Disease Prevalence"},"2011/12","09F",3769,null,185366,2.0299999999999998,1.97,2.1,16.902271545019882,15.340137994838084,null,2.0920000000000001,1.8900000000000001,"","Y57","X24","1061","Wilson"]
[106,{"$f":"VLOOKUP(tblData[[#This Row],[Indicator ID]],'Similar 10 CCGs'!$A$6:$C$160,3,FALSE)","v":"Chronic Obstructive Pulmonary Disease Prevalence"},"2011/12","09G",8401,null,486276,1.73,1.69,1.77,16.902271545019882,15.340137994838084,null,1.9650000000000003,1.7559999999999998,"","Y57","X24","1061","Wilson"]
[106,{"$f":"VLOOKUP(tblData[[#This Row],[Indicator ID]],'Similar 10 CCGs'!$A$6:$C$160,3,FALSE)","v":"Chronic Obstructive Pulmonary Disease Prevalence"},"2011/12","09H",1851,null,125753,1.47,1.4,1.54,16.902271545019882,15.340137994838084,null,1.5799999999999998,1.3960000000000001,"B","Y57","X24","1061","Wilson"]
[106,{"$f":"VLOOKUP(tblData[[#This Row],[Indicator ID]],'Similar 10 CCGs'!$A$6:$C$160,3,FALSE)","v":"Chronic Obstructive Pulmonary Disease Prevalence"},"2011/12","09J",3712,null,249384,1.49,1.44,1.54,16.902271545019882,15.340137994838084,null,1.5409999999999999,1.3959999999999999,"","Y57","X24","1061","Wilson"]
[106,{"$f":"VLOOKUP(tblData[[#This Row],[Indicator ID]],'Similar 10 CCGs'!$A$6:$C$160,3,FALSE)","v":"Chronic Obstructive Pulmonary Disease Prevalence"},"2011/12","09L",2194,null,170399,1.29,1.24,1.34,16.902271545019882,15.340137994838084,null,1.3599999999999999,1.1859999999999999,"","Y57","X24","1061","Wilson"]
[106,{"$f":"VLOOKUP(tblData[[#This Row],[Indicator ID]],'Similar 10 CCGs'!$A$6:$C$160,3,FALSE)","v":"Chronic Obstructive Pulmonary Disease Prevalence"},"2011/12","09N",2481,null,213404,1.1599999999999999,1.1200000000000001,1.21,16.902271545019882,15.340137994838084,null,1.4910000000000001,1.3240000000000003,"C","Y57","X24","1061","Wilson"]
[106,{"$f":"VLOOKUP(tblData[[#This Row],[Indicator ID]],'Similar 10 CCGs'!$A$6:$C$160,3,FALSE)","v":"Chronic Obstructive Pulmonary Disease Prevalence"},"2011/12","09P",4026,null,183565,2.19,2.12,2.2599999999999998,16.902271545019882,15.340137994838084,null,2.093,1.8640000000000001,"A","Y57","X24","1061","Wilson"]
[106,{"$f":"VLOOKUP(tblData[[#This Row],[Indicator ID]],'Similar 10 CCGs'!$A$6:$C$160,3,FALSE)","v":"Chronic Obstructive Pulmonary Disease Prevalence"},"2011/12","09W",4839,null,281126,1.72,1.67,1.77,16.902271545019882,15.340137994838084,null,1.748,1.55,"A","Y57","X24","1061","Wilson"]
[106,{"$f":"VLOOKUP(tblData[[#This Row],[Indicator ID]],'Similar 10 CCGs'!$A$6:$C$160,3,FALSE)","v":"Chronic Obstructive Pulmonary Disease Prevalence"},"2011/12","09X",2648,null,224363,1.18,1.1399999999999999,1.23,16.902271545019882,15.340137994838084,null,1.373,1.2040000000000002,"C","Y57","X24","1061","Wilson"]
[106,{"$f":"VLOOKUP(tblData[[#This Row],[Indicator ID]],'Similar 10 CCGs'!$A$6:$C$160,3,FALSE)","v":"Chronic Obstructive Pulmonary Disease Prevalence"},"2011/12","09Y",4491,null,349206,1.29,1.25,1.33,16.902271545019882,15.340137994838084,null,1.3259999999999998,1.1779999999999999,"","Y57","X24","1061","Wilson"]
[106,{"$f":"VLOOKUP(tblData[[#This Row],[Indicator ID]],'Similar 10 CCGs'!$A$6:$C$160,3,FALSE)","v":"Chronic Obstructive Pulmonary Disease Prevalence"},"2011/12","10A",4124,null,199887,2.06,2,2.12,16.902271545019882,15.340137994838084,null,2.0569999999999999,1.766,"B","Y57","X24","1061","Wilson"]
[106,{"$f":"VLOOKUP(tblData[[#This Row],[Indicator ID]],'Similar 10 CCGs'!$A$6:$C$160,3,FALSE)","v":"Chronic Obstructive Pulmonary Disease Prevalence"},"2011/12","10C",1066,null,90403,1.18,1.1100000000000001,1.25,16.902271545019882,15.340137994838084,null,1.2839999999999998,1.0579999999999998,"C","Y57","X24","1061","Wilson"]
[106,{"$f":"VLOOKUP(tblData[[#This Row],[Indicator ID]],'Similar 10 CCGs'!$A$6:$C$160,3,FALSE)","v":"Chronic Obstructive Pulmonary Disease Prevalence"},"2011/12","10D",1992,null,106368,1.87,1.79,1.95,16.902271545019882,15.340137994838084,null,1.9389999999999996,1.7240000000000002,"A","Y57","X24","1061","Wilson"]
[106,{"$f":"VLOOKUP(tblData[[#This Row],[Indicator ID]],'Similar 10 CCGs'!$A$6:$C$160,3,FALSE)","v":"Chronic Obstructive Pulmonary Disease Prevalence"},"2011/12","10E",3603,null,140872,2.56,2.48,2.64,16.902271545019882,15.340137994838084,null,2.4969999999999999,2.1259999999999999,"A","Y57","X24","1061","Wilson"]
[106,{"$f":"VLOOKUP(tblData[[#This Row],[Indicator ID]],'Similar 10 CCGs'!$A$6:$C$160,3,FALSE)","v":"Chronic Obstructive Pulmonary Disease Prevalence"},"2011/12","10G",1417,null,136117,1.04,0.99,1.1000000000000001,16.902271545019882,15.340137994838084,null,1.3199999999999996,1.1320000000000001,"","Y57","X24","1061","Wilson"]
[106,{"$f":"VLOOKUP(tblData[[#This Row],[Indicator ID]],'Similar 10 CCGs'!$A$6:$C$160,3,FALSE)","v":"Chronic Obstructive Pulmonary Disease Prevalence"},"2011/12","10H",3652,null,322894,1.1299999999999999,1.0900000000000001,1.17,16.902271545019882,15.340137994838084,null,1.3449999999999998,1.19,"C","Y57","X24","1061","Wilson"]
[106,{"$f":"VLOOKUP(tblData[[#This Row],[Indicator ID]],'Similar 10 CCGs'!$A$6:$C$160,3,FALSE)","v":"Chronic Obstructive Pulmonary Disease Prevalence"},"2011/12","10J",2512,null,214526,1.17,1.1299999999999999,1.22,16.902271545019882,15.340137994838084,null,1.361,1.19,"C","Y57","X24","1061","Wilson"]
[106,{"$f":"VLOOKUP(tblData[[#This Row],[Indicator ID]],'Similar 10 CCGs'!$A$6:$C$160,3,FALSE)","v":"Chronic Obstructive Pulmonary Disease Prevalence"},"2011/12","10K",2910,null,199679,1.46,1.41,1.51,16.902271545019882,15.340137994838084,null,1.643,1.4,"","Y57","X24","1061","Wilson"]
[106,{"$f":"VLOOKUP(tblData[[#This Row],[Indicator ID]],'Similar 10 CCGs'!$A$6:$C$160,3,FALSE)","v":"Chronic Obstructive Pulmonary Disease Prevalence"},"2011/12","10L",2470,null,140954,1.75,1.68,1.82,16.902271545019882,15.340137994838084,null,2.1339999999999999,1.92,"C","Y57","X24","1061","Wilson"]
[106,{"$f":"VLOOKUP(tblData[[#This Row],[Indicator ID]],'Similar 10 CCGs'!$A$6:$C$160,3,FALSE)","v":"Chronic Obstructive Pulmonary Disease Prevalence"},"2011/12","10M",1330,null,113978,1.17,1.1100000000000001,1.23,16.902271545019882,15.340137994838084,null,1.42,1.2399999999999998,"","Y57","X24","1061","Wilson"]
[106,{"$f":"VLOOKUP(tblData[[#This Row],[Indicator ID]],'Similar 10 CCGs'!$A$6:$C$160,3,FALSE)","v":"Chronic Obstructive Pulmonary Disease Prevalence"},"2011/12","10N",1244,null,107019,1.1599999999999999,1.1000000000000001,1.23,16.902271545019882,15.340137994838084,null,1.494,1.1859999999999999,"","Y57","X24","1061","Wilson"]
[106,{"$f":"VLOOKUP(tblData[[#This Row],[Indicator ID]],'Similar 10 CCGs'!$A$6:$C$160,3,FALSE)","v":"Chronic Obstructive Pulmonary Disease Prevalence"},"2011/12","10Q",8129,null,694252,1.17,1.1399999999999999,1.2,16.902271545019882,15.340137994838084,null,1.6099999999999999,1.452,"C","Y57","X24","1061","Wilson"]
[106,{"$f":"VLOOKUP(tblData[[#This Row],[Indicator ID]],'Similar 10 CCGs'!$A$6:$C$160,3,FALSE)","v":"Chronic Obstructive Pulmonary Disease Prevalence"},"2011/12","10R",3671,null,216450,1.7,1.65,1.76,16.902271545019882,15.340137994838084,null,1.8709999999999998,1.5100000000000002,"","Y57","X24","1061","Wilson"]
[106,{"$f":"VLOOKUP(tblData[[#This Row],[Indicator ID]],'Similar 10 CCGs'!$A$6:$C$160,3,FALSE)","v":"Chronic Obstructive Pulmonary Disease Prevalence"},"2011/12","10T",1510,null,143386,1.05,1,1.1000000000000001,16.902271545019882,15.340137994838084,null,1.3649999999999998,0.97799999999999998,"C","Y57","X24","1061","Wilson"]
[106,{"$f":"VLOOKUP(tblData[[#This Row],[Indicator ID]],'Similar 10 CCGs'!$A$6:$C$160,3,FALSE)","v":"Chronic Obstructive Pulmonary Disease Prevalence"},"2011/12","10V",3545,null,208985,1.7,1.65,1.76,16.902271545019882,15.340137994838084,null,1.7169999999999999,1.5640000000000001,"","Y57","X24","1061","Wilson"]
[106,{"$f":"VLOOKUP(tblData[[#This Row],[Indicator ID]],'Similar 10 CCGs'!$A$6:$C$160,3,FALSE)","v":"Chronic Obstructive Pulmonary Disease Prevalence"},"2011/12","10W",1127,null,129334,0.87,0.82,0.92,16.902271545019882,15.340137994838084,null,1.6379999999999999,1.448,"C","Y57","X24","1061","Wilson"]
[106,{"$f":"VLOOKUP(tblData[[#This Row],[Indicator ID]],'Similar 10 CCGs'!$A$6:$C$160,3,FALSE)","v":"Chronic Obstructive Pulmonary Disease Prevalence"},"2011/12","10X",5103,null,267022,1.91,1.86,1.96,16.902271545019882,15.340137994838084,null,1.7410000000000001,1.4860000000000002,"A","Y57","X24","1061","Wilson"]
[106,{"$f":"VLOOKUP(tblData[[#This Row],[Indicator ID]],'Similar 10 CCGs'!$A$6:$C$160,3,FALSE)","v":"Chronic Obstructive Pulmonary Disease Prevalence"},"2011/12","10Y",2764,null,198019,1.4,1.35,1.45,16.902271545019882,15.340137994838084,null,1.3489999999999998,1.1819999999999999,"B","Y57","X24","1061","Wilson"]
[106,{"$f":"VLOOKUP(tblData[[#This Row],[Indicator ID]],'Similar 10 CCGs'!$A$6:$C$160,3,FALSE)","v":"Chronic Obstructive Pulmonary Disease Prevalence"},"2011/12","11A",7688,null,539951,1.42,1.39,1.45,16.902271545019882,15.340137994838084,null,1.583,1.45,"","Y57","X24","1061","Wilson"]
[106,{"$f":"VLOOKUP(tblData[[#This Row],[Indicator ID]],'Similar 10 CCGs'!$A$6:$C$160,3,FALSE)","v":"Chronic Obstructive Pulmonary Disease Prevalence"},"2011/12","11C",1511,null,150550,1,0.95,1.05,16.902271545019882,15.340137994838084,null,1.3709999999999998,1.1159999999999999,"C","Y57","X24","1061","Wilson"]
[106,{"$f":"VLOOKUP(tblData[[#This Row],[Indicator ID]],'Similar 10 CCGs'!$A$6:$C$160,3,FALSE)","v":"Chronic Obstructive Pulmonary Disease Prevalence"},"2011/12","11D",1450,null,154220,0.94,0.89,0.99,16.902271545019882,15.340137994838084,null,1.1679999999999997,1.0939999999999999,"C","Y57","X24","1061","Wilson"]
[106,{"$f":"VLOOKUP(tblData[[#This Row],[Indicator ID]],'Similar 10 CCGs'!$A$6:$C$160,3,FALSE)","v":"Chronic Obstructive Pulmonary Disease Prevalence"},"2011/12","11E",2639,null,197180,1.34,1.29,1.39,16.902271545019882,15.340137994838084,null,1.714,1.5660000000000001,"C","Y57","X24","1061","Wilson"]
[106,{"$f":"VLOOKUP(tblData[[#This Row],[Indicator ID]],'Similar 10 CCGs'!$A$6:$C$160,3,FALSE)","v":"Chronic Obstructive Pulmonary Disease Prevalence"},"2011/12","11H",7723,null,475661,1.62,1.58,1.66,16.902271545019882,15.340137994838084,null,2.0840000000000001,1.6019999999999999,"C","Y57","X24","1061","Wilson"]
[106,{"$f":"VLOOKUP(tblData[[#This Row],[Indicator ID]],'Similar 10 CCGs'!$A$6:$C$160,3,FALSE)","v":"Chronic Obstructive Pulmonary Disease Prevalence"},"2011/12","11J",12848,null,765896,1.68,1.65,1.71,16.902271545019882,15.340137994838084,null,1.7129999999999999,1.56,"","Y57","X24","1061","Wilson"]
[106,{"$f":"VLOOKUP(tblData[[#This Row],[Indicator ID]],'Similar 10 CCGs'!$A$6:$C$160,3,FALSE)","v":"Chronic Obstructive Pulmonary Disease Prevalence"},"2011/12","11M",9861,null,615239,1.6,1.57,1.63,16.902271545019882,15.340137994838084,null,1.5630000000000002,1.4079999999999999,"","Y57","X24","1061","Wilson"]
[106,{"$f":"VLOOKUP(tblData[[#This Row],[Indicator ID]],'Similar 10 CCGs'!$A$6:$C$160,3,FALSE)","v":"Chronic Obstructive Pulmonary Disease Prevalence"},"2011/12","11N",10376,null,555618,1.87,1.83,1.91,16.902271545019882,15.340137994838084,null,1.8380000000000003,1.5960000000000001,"A","Y57","X24","1061","Wilson"]
[106,{"$f":"VLOOKUP(tblData[[#This Row],[Indicator ID]],'Similar 10 CCGs'!$A$6:$C$160,3,FALSE)","v":"Chronic Obstructive Pulmonary Disease Prevalence"},"2011/12","11T",3772,null,211203,1.79,1.73,1.85,16.902271545019882,15.340137994838084,null,1.5639999999999998,1.4239999999999999,"B","Y57","X24","1061","Wilson"]
[106,{"$f":"VLOOKUP(tblData[[#This Row],[Indicator ID]],'Similar 10 CCGs'!$A$6:$C$160,3,FALSE)","v":"Chronic Obstructive Pulmonary Disease Prevalence"},"2011/12","11X",9924,null,543498,1.83,1.79,1.87,16.902271545019882,15.340137994838084,null,1.704,1.5219999999999998,"A","Y57","X24","1061","Wilson"]
[106,{"$f":"VLOOKUP(tblData[[#This Row],[Indicator ID]],'Similar 10 CCGs'!$A$6:$C$160,3,FALSE)","v":"Chronic Obstructive Pulmonary Disease Prevalence"},"2011/12","12A",3498,null,256061,1.37,1.33,1.42,16.902271545019882,15.340137994838084,null,1.359,1.1619999999999999,"","Y57","X24","1061","Wilson"]
[106,{"$f":"VLOOKUP(tblData[[#This Row],[Indicator ID]],'Similar 10 CCGs'!$A$6:$C$160,3,FALSE)","v":"Chronic Obstructive Pulmonary Disease Prevalence"},"2011/12","12D",3614,null,221360,1.63,1.58,1.68,16.902271545019882,15.340137994838084,null,1.425,1.212,"B","Y57","X24","1061","Wilson"]
[106,{"$f":"VLOOKUP(tblData[[#This Row],[Indicator ID]],'Similar 10 CCGs'!$A$6:$C$160,3,FALSE)","v":"Chronic Obstructive Pulmonary Disease Prevalence"},"2011/12","12F",7598,null,331592,2.29,2.2400000000000002,2.34,16.902271545019882,21.997569279390895,null,2.7570000000000001,2.4240000000000004,"","Y54","X24","1061","Wilson"]
[106,{"$f":"VLOOKUP(tblData[[#This Row],[Indicator ID]],'Similar 10 CCGs'!$A$6:$C$160,3,FALSE)","v":"Chronic Obstructive Pulmonary Disease Prevalence"},"2011/12","13P",11520,null,727002,1.58,1.55,1.61,16.902271545019882,16.770698448519578,null,1.8359999999999999,1.48,"C","Y55","X24","1061","Wilson"]
[106,{"$f":"VLOOKUP(tblData[[#This Row],[Indicator ID]],'Similar 10 CCGs'!$A$6:$C$160,3,FALSE)","v":"Chronic Obstructive Pulmonary Disease Prevalence"},"2011/12","99A",13658,null,492711,2.77,2.72,2.82,16.902271545019882,21.997569279390895,null,2.1590000000000003,1.722,"A","Y54","X24","1061","Wilson"]
[106,{"$f":"VLOOKUP(tblData[[#This Row],[Indicator ID]],'Similar 10 CCGs'!$A$6:$C$160,3,FALSE)","v":"Chronic Obstructive Pulmonary Disease Prevalence"},"2011/12","99C",4722,null,214926,2.2000000000000002,2.14,2.2599999999999998,16.902271545019882,21.997569279390895,null,2.504,2.0640000000000001,"","Y54","X24","1061","Wilson"]
[106,{"$f":"VLOOKUP(tblData[[#This Row],[Indicator ID]],'Similar 10 CCGs'!$A$6:$C$160,3,FALSE)","v":"Chronic Obstructive Pulmonary Disease Prevalence"},"2011/12","99D",2890,null,156440,1.85,1.78,1.92,16.902271545019882,16.770698448519578,null,1.585,1.4379999999999999,"A","Y55","X24","1061","Wilson"]
[106,{"$f":"VLOOKUP(tblData[[#This Row],[Indicator ID]],'Similar 10 CCGs'!$A$6:$C$160,3,FALSE)","v":"Chronic Obstructive Pulmonary Disease Prevalence"},"2011/12","99E",4677,null,262252,1.78,1.73,1.83,16.902271545019882,16.770698448519578,null,1.4649999999999999,1.298,"A","Y55","X24","1061","Wilson"]
[106,{"$f":"VLOOKUP(tblData[[#This Row],[Indicator ID]],'Similar 10 CCGs'!$A$6:$C$160,3,FALSE)","v":"Chronic Obstructive Pulmonary Disease Prevalence"},"2011/12","99F",3384,null,177806,1.9,1.84,1.96,16.902271545019882,16.770698448519578,null,1.7210000000000001,1.5420000000000003,"A","Y55","X24","1061","Wilson"]
[106,{"$f":"VLOOKUP(tblData[[#This Row],[Indicator ID]],'Similar 10 CCGs'!$A$6:$C$160,3,FALSE)","v":"Chronic Obstructive Pulmonary Disease Prevalence"},"2011/12","99G",3215,null,186028,1.73,1.67,1.79,16.902271545019882,16.770698448519578,null,2.3699999999999997,1.9259999999999997,"C","Y55","X24","1061","Wilson"]
[106,{"$f":"VLOOKUP(tblData[[#This Row],[Indicator ID]],'Similar 10 CCGs'!$A$6:$C$160,3,FALSE)","v":"Chronic Obstructive Pulmonary Disease Prevalence"},"2011/12","99H",3272,null,289448,1.1299999999999999,1.0900000000000001,1.17,16.902271545019882,15.340137994838084,null,1.2909999999999999,1.1400000000000001,"C","Y57","X24","1061","Wilson"]
[106,{"$f":"VLOOKUP(tblData[[#This Row],[Indicator ID]],'Similar 10 CCGs'!$A$6:$C$160,3,FALSE)","v":"Chronic Obstructive Pulmonary Disease Prevalence"},"2011/12","99J",6463,null,466241,1.39,1.36,1.42,16.902271545019882,15.340137994838084,null,1.48,1.3880000000000001,"B","Y57","X24","1061","Wilson"]
[106,{"$f":"VLOOKUP(tblData[[#This Row],[Indicator ID]],'Similar 10 CCGs'!$A$6:$C$160,3,FALSE)","v":"Chronic Obstructive Pulmonary Disease Prevalence"},"2011/12","99K",2492,null,164555,1.51,1.45,1.57,16.902271545019882,15.340137994838084,null,1.6310000000000002,1.4860000000000002,"B","Y57","X24","1061","Wilson"]
[106,{"$f":"VLOOKUP(tblData[[#This Row],[Indicator ID]],'Similar 10 CCGs'!$A$6:$C$160,3,FALSE)","v":"Chronic Obstructive Pulmonary Disease Prevalence"},"2011/12","99M",2575,null,216963,1.19,1.1499999999999999,1.24,16.902271545019882,15.340137994838084,null,1.2369999999999997,1.0479999999999998,"","Y57","X24","1061","Wilson"]
[106,{"$f":"VLOOKUP(tblData[[#This Row],[Indicator ID]],'Similar 10 CCGs'!$A$6:$C$160,3,FALSE)","v":"Chronic Obstructive Pulmonary Disease Prevalence"},"2011/12","99N",7052,null,471598,1.5,1.47,1.54,16.902271545019882,15.340137994838084,null,1.4929999999999999,1.3859999999999999,"A","Y57","X24","1061","Wilson"]
[106,{"$f":"VLOOKUP(tblData[[#This Row],[Indicator ID]],'Similar 10 CCGs'!$A$6:$C$160,3,FALSE)","v":"Chronic Obstructive Pulmonary Disease Prevalence"},"2011/12","99P",16191,null,898677,1.8,1.77,1.83,16.902271545019882,15.340137994838084,null,1.6560000000000001,1.4700000000000002,"A","Y57","X24","1061","Wilson"]
[106,{"$f":"VLOOKUP(tblData[[#This Row],[Indicator ID]],'Similar 10 CCGs'!$A$6:$C$160,3,FALSE)","v":"Chronic Obstructive Pulmonary Disease Prevalence"},"2011/12","99Q",5651,null,285265,1.98,1.93,2.0299999999999998,16.902271545019882,15.340137994838084,null,1.988,1.7399999999999998,"A","Y57","X24","1061","Wilson"]
[107,{"$f":"VLOOKUP(tblData[[#This Row],[Indicator ID]],'Similar 10 CCGs'!$A$6:$C$160,3,FALSE)","v":"Coronary Heart Disease Prevalence"},"2011/12","00C",4351,null,105927,4.1100000000000003,3.99,4.2300000000000004,33.777996839375305,41.045114319729123,null,4.4169999999999998,3.9420000000000002,"B","Y54","X24","1071","Wilson"]
[107,{"$f":"VLOOKUP(tblData[[#This Row],[Indicator ID]],'Similar 10 CCGs'!$A$6:$C$160,3,FALSE)","v":"Coronary Heart Disease Prevalence"},"2011/12","00D",15339,null,287801,5.33,5.25,5.41,33.777996839375305,41.045114319729123,null,4.32,4.1180000000000003,"A","Y54","X24","1071","Wilson"]
[107,{"$f":"VLOOKUP(tblData[[#This Row],[Indicator ID]],'Similar 10 CCGs'!$A$6:$C$160,3,FALSE)","v":"Coronary Heart Disease Prevalence"},"2011/12","00F",9102,null,206317,4.41,4.32,4.5,33.777996839375305,41.045114319729123,null,4.62,4.2919999999999998,"","Y54","X24","1071","Wilson"]
[107,{"$f":"VLOOKUP(tblData[[#This Row],[Indicator ID]],'Similar 10 CCGs'!$A$6:$C$160,3,FALSE)","v":"Coronary Heart Disease Prevalence"},"2011/12","00G",4646,null,149906,3.1,3.01,3.19,33.777996839375305,41.045114319729123,null,3.226,2.7679999999999998,"B","Y54","X24","1071","Wilson"]
[107,{"$f":"VLOOKUP(tblData[[#This Row],[Indicator ID]],'Similar 10 CCGs'!$A$6:$C$160,3,FALSE)","v":"Coronary Heart Disease Prevalence"},"2011/12","00H",5237,null,130014,4.03,3.92,4.1399999999999997,33.777996839375305,41.045114319729123,null,4.0980000000000008,3.8959999999999999,"B","Y54","X24","1071","Wilson"]
[107,{"$f":"VLOOKUP(tblData[[#This Row],[Indicator ID]],'Similar 10 CCGs'!$A$6:$C$160,3,FALSE)","v":"Coronary Heart Disease Prevalence"},"2011/12","00J",11559,null,248033,4.66,4.58,4.74,33.777996839375305,41.045114319729123,null,3.8670000000000009,3.4079999999999999,"A","Y54","X24","1071","Wilson"]
[107,{"$f":"VLOOKUP(tblData[[#This Row],[Indicator ID]],'Similar 10 CCGs'!$A$6:$C$160,3,FALSE)","v":"Coronary Heart Disease Prevalence"},"2011/12","00K",12399,null,288881,4.29,4.22,4.3600000000000003,33.777996839375305,41.045114319729123,null,4.28,3.9359999999999999,"A","Y54","X24","1071","Wilson"]
[107,{"$f":"VLOOKUP(tblData[[#This Row],[Indicator ID]],'Similar 10 CCGs'!$A$6:$C$160,3,FALSE)","v":"Coronary Heart Disease Prevalence"},"2011/12","00L",16039,null,321055,5,4.93,5.08,33.777996839375305,41.045114319729123,null,4.2050000000000001,3.7700000000000005,"A","Y54","X24","1071","Wilson"]
[107,{"$f":"VLOOKUP(tblData[[#This Row],[Indicator ID]],'Similar 10 CCGs'!$A$6:$C$160,3,FALSE)","v":"Coronary Heart Disease Prevalence"},"2011/12","00M",12815,null,289937,4.42,4.3499999999999996,4.5,33.777996839375305,41.045114319729123,null,4.1740000000000004,3.81,"A","Y54","X24","1071","Wilson"]
[107,{"$f":"VLOOKUP(tblData[[#This Row],[Indicator ID]],'Similar 10 CCGs'!$A$6:$C$160,3,FALSE)","v":"Coronary Heart Disease Prevalence"},"2011/12","00N",7537,null,154487,4.88,4.7699999999999996,4.99,33.777996839375305,41.045114319729123,null,4.3770000000000007,4.008,"A","Y54","X24","1071","Wilson"]
[107,{"$f":"VLOOKUP(tblData[[#This Row],[Indicator ID]],'Similar 10 CCGs'!$A$6:$C$160,3,FALSE)","v":"Coronary Heart Disease Prevalence"},"2011/12","00P",14563,null,284652,5.12,5.04,5.2,33.777996839375305,41.045114319729123,null,4.38,4.1500000000000004,"A","Y54","X24","1071","Wilson"]
[107,{"$f":"VLOOKUP(tblData[[#This Row],[Indicator ID]],'Similar 10 CCGs'!$A$6:$C$160,3,FALSE)","v":"Coronary Heart Disease Prevalence"},"2011/12","00Q",6659,null,168871,3.94,3.85,4.03,33.777996839375305,41.045114319729123,null,3.5939999999999999,3.16,"A","Y54","X24","1071","Wilson"]
[107,{"$f":"VLOOKUP(tblData[[#This Row],[Indicator ID]],'Similar 10 CCGs'!$A$6:$C$160,3,FALSE)","v":"Coronary Heart Disease Prevalence"},"2011/12","00R",8271,null,172380,4.8,4.7,4.9000000000000004,33.777996839375305,41.045114319729123,null,4.367,3.9859999999999998,"A","Y54","X24","1071","Wilson"]
[107,{"$f":"VLOOKUP(tblData[[#This Row],[Indicator ID]],'Similar 10 CCGs'!$A$6:$C$160,3,FALSE)","v":"Coronary Heart Disease Prevalence"},"2011/12","00T",10468,null,296304,3.53,3.46,3.6,33.777996839375305,41.045114319729123,null,3.9509999999999996,3.7340000000000004,"C","Y54","X24","1071","Wilson"]
[107,{"$f":"VLOOKUP(tblData[[#This Row],[Indicator ID]],'Similar 10 CCGs'!$A$6:$C$160,3,FALSE)","v":"Coronary Heart Disease Prevalence"},"2011/12","00V",7030,null,188744,3.72,3.64,3.81,33.777996839375305,41.045114319729123,null,3.6690000000000005,3.34,"","Y54","X24","1071","Wilson"]
[107,{"$f":"VLOOKUP(tblData[[#This Row],[Indicator ID]],'Similar 10 CCGs'!$A$6:$C$160,3,FALSE)","v":"Coronary Heart Disease Prevalence"},"2011/12","00W",4535,null,214540,2.11,2.0499999999999998,2.17,33.777996839375305,41.045114319729123,null,2.5369999999999999,2.0620000000000003,"C","Y54","X24","1071","Wilson"]
[107,{"$f":"VLOOKUP(tblData[[#This Row],[Indicator ID]],'Similar 10 CCGs'!$A$6:$C$160,3,FALSE)","v":"Coronary Heart Disease Prevalence"},"2011/12","00X",7324,null,173442,4.22,4.13,4.32,33.777996839375305,41.045114319729123,null,4.081999999999999,3.6859999999999999,"A","Y54","X24","1071","Wilson"]
[107,{"$f":"VLOOKUP(tblData[[#This Row],[Indicator ID]],'Similar 10 CCGs'!$A$6:$C$160,3,FALSE)","v":"Coronary Heart Disease Prevalence"},"2011/12","00Y",8230,null,240773,3.42,3.35,3.49,33.777996839375305,41.045114319729123,null,3.8929999999999998,3.7520000000000002,"","Y54","X24","1071","Wilson"]
[107,{"$f":"VLOOKUP(tblData[[#This Row],[Indicator ID]],'Similar 10 CCGs'!$A$6:$C$160,3,FALSE)","v":"Coronary Heart Disease Prevalence"},"2011/12","01A",15482,null,368985,4.2,4.1399999999999997,4.2699999999999996,33.777996839375305,41.045114319729123,null,3.871,3.6280000000000001,"A","Y54","X24","1071","Wilson"]
[107,{"$f":"VLOOKUP(tblData[[#This Row],[Indicator ID]],'Similar 10 CCGs'!$A$6:$C$160,3,FALSE)","v":"Coronary Heart Disease Prevalence"},"2011/12","01C",7409,null,201866,3.67,3.59,3.75,33.777996839375305,41.045114319729123,null,3.7670000000000003,3.508,"B","Y54","X24","1071","Wilson"]
[107,{"$f":"VLOOKUP(tblData[[#This Row],[Indicator ID]],'Similar 10 CCGs'!$A$6:$C$160,3,FALSE)","v":"Coronary Heart Disease Prevalence"},"2011/12","01D",8878,null,224196,3.96,3.88,4.04,33.777996839375305,41.045114319729123,null,3.8909999999999996,3.6480000000000006,"B","Y54","X24","1071","Wilson"]
[107,{"$f":"VLOOKUP(tblData[[#This Row],[Indicator ID]],'Similar 10 CCGs'!$A$6:$C$160,3,FALSE)","v":"Coronary Heart Disease Prevalence"},"2011/12","01E",7685,null,212272,3.62,3.54,3.7,33.777996839375305,41.045114319729123,null,4.032,3.8660000000000005,"","Y54","X24","1071","Wilson"]
[107,{"$f":"VLOOKUP(tblData[[#This Row],[Indicator ID]],'Similar 10 CCGs'!$A$6:$C$160,3,FALSE)","v":"Coronary Heart Disease Prevalence"},"2011/12","01F",5651,null,128154,4.41,4.3,4.5199999999999996,33.777996839375305,41.045114319729123,null,4.2,3.8039999999999998,"A","Y54","X24","1071","Wilson"]
[107,{"$f":"VLOOKUP(tblData[[#This Row],[Indicator ID]],'Similar 10 CCGs'!$A$6:$C$160,3,FALSE)","v":"Coronary Heart Disease Prevalence"},"2011/12","01G",9651,null,249243,3.87,3.8,3.95,33.777996839375305,41.045114319729123,null,4.2839999999999998,4.016,"A","Y54","X24","1071","Wilson"]
[107,{"$f":"VLOOKUP(tblData[[#This Row],[Indicator ID]],'Similar 10 CCGs'!$A$6:$C$160,3,FALSE)","v":"Coronary Heart Disease Prevalence"},"2011/12","01H",25064,null,525627,4.7699999999999996,4.71,4.83,33.777996839375305,41.045114319729123,null,4.1890000000000009,3.6620000000000004,"A","Y54","X24","1071","Wilson"]
[107,{"$f":"VLOOKUP(tblData[[#This Row],[Indicator ID]],'Similar 10 CCGs'!$A$6:$C$160,3,FALSE)","v":"Coronary Heart Disease Prevalence"},"2011/12","01J",7296,null,160868,4.54,4.4400000000000004,4.6399999999999997,33.777996839375305,41.045114319729123,null,4.2580000000000009,3.88,"A","Y54","X24","1071","Wilson"]
[107,{"$f":"VLOOKUP(tblData[[#This Row],[Indicator ID]],'Similar 10 CCGs'!$A$6:$C$160,3,FALSE)","v":"Coronary Heart Disease Prevalence"},"2011/12","01K",6586,null,161065,4.09,3.99,4.1900000000000004,33.777996839375305,41.045114319729123,null,3.339,2.8159999999999998,"A","Y54","X24","1071","Wilson"]
[107,{"$f":"VLOOKUP(tblData[[#This Row],[Indicator ID]],'Similar 10 CCGs'!$A$6:$C$160,3,FALSE)","v":"Coronary Heart Disease Prevalence"},"2011/12","01M",6107,null,186773,3.27,3.19,3.35,33.777996839375305,41.045114319729123,null,3.5930000000000009,3.2699999999999996,"","Y54","X24","1071","Wilson"]
[107,{"$f":"VLOOKUP(tblData[[#This Row],[Indicator ID]],'Similar 10 CCGs'!$A$6:$C$160,3,FALSE)","v":"Coronary Heart Disease Prevalence"},"2011/12","01N",5331,null,166809,3.2,3.12,3.29,33.777996839375305,41.045114319729123,null,3.8249999999999993,3.2480000000000002,"","Y54","X24","1071","Wilson"]
[107,{"$f":"VLOOKUP(tblData[[#This Row],[Indicator ID]],'Similar 10 CCGs'!$A$6:$C$160,3,FALSE)","v":"Coronary Heart Disease Prevalence"},"2011/12","01R",6820,null,174182,3.92,3.83,4.01,33.777996839375305,41.045114319729123,null,3.7300000000000004,3.5199999999999996,"A","Y54","X24","1071","Wilson"]
[107,{"$f":"VLOOKUP(tblData[[#This Row],[Indicator ID]],'Similar 10 CCGs'!$A$6:$C$160,3,FALSE)","v":"Coronary Heart Disease Prevalence"},"2011/12","01T",6883,null,155295,4.43,4.33,4.53,33.777996839375305,41.045114319729123,null,4.4720000000000004,4.0979999999999999,"B","Y54","X24","1071","Wilson"]
[107,{"$f":"VLOOKUP(tblData[[#This Row],[Indicator ID]],'Similar 10 CCGs'!$A$6:$C$160,3,FALSE)","v":"Coronary Heart Disease Prevalence"},"2011/12","01V",5488,null,121921,4.5,4.3899999999999997,4.62,33.777996839375305,41.045114319729123,null,4.242,3.8319999999999999,"A","Y54","X24","1071","Wilson"]
[107,{"$f":"VLOOKUP(tblData[[#This Row],[Indicator ID]],'Similar 10 CCGs'!$A$6:$C$160,3,FALSE)","v":"Coronary Heart Disease Prevalence"},"2011/12","01W",12006,null,299243,4.01,3.94,4.08,33.777996839375305,41.045114319729123,null,4.1020000000000003,3.71,"","Y54","X24","1071","Wilson"]
[107,{"$f":"VLOOKUP(tblData[[#This Row],[Indicator ID]],'Similar 10 CCGs'!$A$6:$C$160,3,FALSE)","v":"Coronary Heart Disease Prevalence"},"2011/12","01X",9211,null,192980,4.7699999999999996,4.68,4.87,33.777996839375305,41.045114319729123,null,4.3709999999999996,4.0659999999999998,"A","Y54","X24","1071","Wilson"]
[107,{"$f":"VLOOKUP(tblData[[#This Row],[Indicator ID]],'Similar 10 CCGs'!$A$6:$C$160,3,FALSE)","v":"Coronary Heart Disease Prevalence"},"2011/12","01Y",10040,null,240654,4.17,4.09,4.25,33.777996839375305,41.045114319729123,null,4.274,3.9279999999999999,"B","Y54","X24","1071","Wilson"]
[107,{"$f":"VLOOKUP(tblData[[#This Row],[Indicator ID]],'Similar 10 CCGs'!$A$6:$C$160,3,FALSE)","v":"Coronary Heart Disease Prevalence"},"2011/12","02A",8577,null,231440,3.71,3.63,3.79,33.777996839375305,41.045114319729123,null,3.5330000000000004,3.2159999999999997,"A","Y54","X24","1071","Wilson"]
[107,{"$f":"VLOOKUP(tblData[[#This Row],[Indicator ID]],'Similar 10 CCGs'!$A$6:$C$160,3,FALSE)","v":"Coronary Heart Disease Prevalence"},"2011/12","02D",3873,null,102110,3.79,3.67,3.91,33.777996839375305,41.045114319729123,null,3.5859999999999999,3.2559999999999993,"A","Y54","X24","1071","Wilson"]
[107,{"$f":"VLOOKUP(tblData[[#This Row],[Indicator ID]],'Similar 10 CCGs'!$A$6:$C$160,3,FALSE)","v":"Coronary Heart Disease Prevalence"},"2011/12","02E",7943,null,208781,3.8,3.72,3.88,33.777996839375305,41.045114319729123,null,3.9530000000000003,3.5159999999999996,"A","Y54","X24","1071","Wilson"]
[107,{"$f":"VLOOKUP(tblData[[#This Row],[Indicator ID]],'Similar 10 CCGs'!$A$6:$C$160,3,FALSE)","v":"Coronary Heart Disease Prevalence"},"2011/12","02F",9307,null,254295,3.66,3.59,3.73,33.777996839375305,41.045114319729123,null,3.9060000000000001,3.5119999999999996,"A","Y54","X24","1071","Wilson"]
[107,{"$f":"VLOOKUP(tblData[[#This Row],[Indicator ID]],'Similar 10 CCGs'!$A$6:$C$160,3,FALSE)","v":"Coronary Heart Disease Prevalence"},"2011/12","02G",4444,null,111867,3.97,3.86,4.09,33.777996839375305,41.045114319729123,null,3.9909999999999997,3.7039999999999997,"A","Y54","X24","1071","Wilson"]
[107,{"$f":"VLOOKUP(tblData[[#This Row],[Indicator ID]],'Similar 10 CCGs'!$A$6:$C$160,3,FALSE)","v":"Coronary Heart Disease Prevalence"},"2011/12","02H",14213,null,320354,4.4400000000000004,4.37,4.51,33.777996839375305,41.045114319729123,null,4.4060000000000006,4.1579999999999995,"A","Y54","X24","1071","Wilson"]
[107,{"$f":"VLOOKUP(tblData[[#This Row],[Indicator ID]],'Similar 10 CCGs'!$A$6:$C$160,3,FALSE)","v":"Coronary Heart Disease Prevalence"},"2011/12","02M",7965,null,151706,5.25,5.14,5.36,33.777996839375305,41.045114319729123,null,4.1840000000000002,3.8319999999999999,"A","Y54","X24","1071","Wilson"]
[107,{"$f":"VLOOKUP(tblData[[#This Row],[Indicator ID]],'Similar 10 CCGs'!$A$6:$C$160,3,FALSE)","v":"Coronary Heart Disease Prevalence"},"2011/12","02N",6551,null,155635,4.21,4.1100000000000003,4.3099999999999996,33.777996839375305,41.045114319729123,null,3.7270000000000003,3.3579999999999997,"A","Y54","X24","1071","Wilson"]
[107,{"$f":"VLOOKUP(tblData[[#This Row],[Indicator ID]],'Similar 10 CCGs'!$A$6:$C$160,3,FALSE)","v":"Coronary Heart Disease Prevalence"},"2011/12","02P",12125,null,245317,4.9400000000000004,4.8499999999999996,5.03,33.777996839375305,41.045114319729123,null,4.3780000000000001,4.0540000000000003,"A","Y54","X24","1071","Wilson"]
[107,{"$f":"VLOOKUP(tblData[[#This Row],[Indicator ID]],'Similar 10 CCGs'!$A$6:$C$160,3,FALSE)","v":"Coronary Heart Disease Prevalence"},"2011/12","02Q",4476,null,111651,4.01,3.9,4.13,33.777996839375305,41.045114319729123,null,4.2549999999999999,3.9120000000000004,"B","Y54","X24","1071","Wilson"]
[107,{"$f":"VLOOKUP(tblData[[#This Row],[Indicator ID]],'Similar 10 CCGs'!$A$6:$C$160,3,FALSE)","v":"Coronary Heart Disease Prevalence"},"2011/12","02R",11971,null,330270,3.62,3.56,3.68,33.777996839375305,41.045114319729123,null,3.879,3.7119999999999997,"","Y54","X24","1071","Wilson"]
[107,{"$f":"VLOOKUP(tblData[[#This Row],[Indicator ID]],'Similar 10 CCGs'!$A$6:$C$160,3,FALSE)","v":"Coronary Heart Disease Prevalence"},"2011/12","02T",8468,null,212976,3.98,3.9,4.0599999999999996,33.777996839375305,41.045114319729123,null,3.589,3.2019999999999995,"B","Y54","X24","1071","Wilson"]
[107,{"$f":"VLOOKUP(tblData[[#This Row],[Indicator ID]],'Similar 10 CCGs'!$A$6:$C$160,3,FALSE)","v":"Coronary Heart Disease Prevalence"},"2011/12","02V",6843,null,201657,3.39,3.31,3.47,33.777996839375305,41.045114319729123,null,3.5610000000000008,3.218,"C","Y54","X24","1071","Wilson"]
[107,{"$f":"VLOOKUP(tblData[[#This Row],[Indicator ID]],'Similar 10 CCGs'!$A$6:$C$160,3,FALSE)","v":"Coronary Heart Disease Prevalence"},"2011/12","02W",2785,null,118636,2.35,2.27,2.44,33.777996839375305,41.045114319729123,null,2.9489999999999998,2.4579999999999997,"C","Y54","X24","1071","Wilson"]
[107,{"$f":"VLOOKUP(tblData[[#This Row],[Indicator ID]],'Similar 10 CCGs'!$A$6:$C$160,3,FALSE)","v":"Coronary Heart Disease Prevalence"},"2011/12","02X",12982,null,308637,4.21,4.1399999999999997,4.28,33.777996839375305,41.045114319729123,null,4.4960000000000004,4.2560000000000002,"","Y54","X24","1071","Wilson"]
[107,{"$f":"VLOOKUP(tblData[[#This Row],[Indicator ID]],'Similar 10 CCGs'!$A$6:$C$160,3,FALSE)","v":"Coronary Heart Disease Prevalence"},"2011/12","02Y",14337,null,301167,4.76,4.68,4.84,33.777996839375305,41.045114319729123,null,3.8980000000000006,3.5,"A","Y54","X24","1071","Wilson"]
[107,{"$f":"VLOOKUP(tblData[[#This Row],[Indicator ID]],'Similar 10 CCGs'!$A$6:$C$160,3,FALSE)","v":"Coronary Heart Disease Prevalence"},"2011/12","03A",8613,null,239050,3.6,3.53,3.68,33.777996839375305,41.045114319729123,null,3.6340000000000003,3.1779999999999999,"C","Y54","X24","1071","Wilson"]
[107,{"$f":"VLOOKUP(tblData[[#This Row],[Indicator ID]],'Similar 10 CCGs'!$A$6:$C$160,3,FALSE)","v":"Coronary Heart Disease Prevalence"},"2011/12","03C",11308,null,359415,3.15,3.09,3.21,33.777996839375305,41.045114319729123,null,3.1509999999999998,2.6560000000000001,"B","Y54","X24","1071","Wilson"]
[107,{"$f":"VLOOKUP(tblData[[#This Row],[Indicator ID]],'Similar 10 CCGs'!$A$6:$C$160,3,FALSE)","v":"Coronary Heart Disease Prevalence"},"2011/12","03D",6013,null,141465,4.25,4.1500000000000004,4.3600000000000003,33.777996839375305,41.045114319729123,null,3.8809999999999993,3.5579999999999998,"B","Y54","X24","1071","Wilson"]
[107,{"$f":"VLOOKUP(tblData[[#This Row],[Indicator ID]],'Similar 10 CCGs'!$A$6:$C$160,3,FALSE)","v":"Coronary Heart Disease Prevalence"},"2011/12","03E",6329,null,159597,3.97,3.88,4.07,33.777996839375305,41.045114319729123,null,3.7769999999999997,3.4340000000000002,"B","Y54","X24","1071","Wilson"]
[107,{"$f":"VLOOKUP(tblData[[#This Row],[Indicator ID]],'Similar 10 CCGs'!$A$6:$C$160,3,FALSE)","v":"Coronary Heart Disease Prevalence"},"2011/12","03F",11276,null,290050,3.89,3.82,3.96,33.777996839375305,41.045114319729123,null,4.423,4.1560000000000006,"","Y54","X24","1071","Wilson"]
[107,{"$f":"VLOOKUP(tblData[[#This Row],[Indicator ID]],'Similar 10 CCGs'!$A$6:$C$160,3,FALSE)","v":"Coronary Heart Disease Prevalence"},"2011/12","03G",10207,null,258661,3.95,3.88,4.03,33.777996839375305,41.045114319729123,null,3.9279999999999999,3.6940000000000004,"A","Y54","X24","1071","Wilson"]
[107,{"$f":"VLOOKUP(tblData[[#This Row],[Indicator ID]],'Similar 10 CCGs'!$A$6:$C$160,3,FALSE)","v":"Coronary Heart Disease Prevalence"},"2011/12","03H",6956,null,167731,4.1500000000000004,4.0599999999999996,4.25,33.777996839375305,41.045114319729123,null,4.2569999999999997,3.8319999999999999,"B","Y54","X24","1071","Wilson"]
[107,{"$f":"VLOOKUP(tblData[[#This Row],[Indicator ID]],'Similar 10 CCGs'!$A$6:$C$160,3,FALSE)","v":"Coronary Heart Disease Prevalence"},"2011/12","03J",7437,null,185008,4.0199999999999996,3.93,4.1100000000000003,33.777996839375305,41.045114319729123,null,3.5579999999999998,3.2039999999999997,"A","Y54","X24","1071","Wilson"]
[107,{"$f":"VLOOKUP(tblData[[#This Row],[Indicator ID]],'Similar 10 CCGs'!$A$6:$C$160,3,FALSE)","v":"Coronary Heart Disease Prevalence"},"2011/12","03K",7766,null,168661,4.5999999999999996,4.5,4.7,33.777996839375305,41.045114319729123,null,3.9779999999999993,3.7039999999999997,"A","Y54","X24","1071","Wilson"]
[107,{"$f":"VLOOKUP(tblData[[#This Row],[Indicator ID]],'Similar 10 CCGs'!$A$6:$C$160,3,FALSE)","v":"Coronary Heart Disease Prevalence"},"2011/12","03L",11508,null,254708,4.5199999999999996,4.4400000000000004,4.5999999999999996,33.777996839375305,41.045114319729123,null,4.3830000000000009,4.1639999999999997,"A","Y54","X24","1071","Wilson"]
[107,{"$f":"VLOOKUP(tblData[[#This Row],[Indicator ID]],'Similar 10 CCGs'!$A$6:$C$160,3,FALSE)","v":"Coronary Heart Disease Prevalence"},"2011/12","03M",5825,null,118017,4.9400000000000004,4.82,5.07,33.777996839375305,41.045114319729123,null,4.2,3.8899999999999997,"A","Y54","X24","1071","Wilson"]
[107,{"$f":"VLOOKUP(tblData[[#This Row],[Indicator ID]],'Similar 10 CCGs'!$A$6:$C$160,3,FALSE)","v":"Coronary Heart Disease Prevalence"},"2011/12","03N",21917,null,565185,3.88,3.83,3.93,33.777996839375305,41.045114319729123,null,3.5199999999999996,3.0260000000000002,"A","Y54","X24","1071","Wilson"]
[107,{"$f":"VLOOKUP(tblData[[#This Row],[Indicator ID]],'Similar 10 CCGs'!$A$6:$C$160,3,FALSE)","v":"Coronary Heart Disease Prevalence"},"2011/12","03Q",12358,null,340298,3.63,3.57,3.69,33.777996839375305,41.045114319729123,null,3.5009999999999999,3.0680000000000001,"","Y54","X24","1071","Wilson"]
[107,{"$f":"VLOOKUP(tblData[[#This Row],[Indicator ID]],'Similar 10 CCGs'!$A$6:$C$160,3,FALSE)","v":"Coronary Heart Disease Prevalence"},"2011/12","03R",15751,null,354100,4.45,4.38,4.5199999999999996,33.777996839375305,41.045114319729123,null,4.2760000000000007,3.96,"A","Y54","X24","1071","Wilson"]
[107,{"$f":"VLOOKUP(tblData[[#This Row],[Indicator ID]],'Similar 10 CCGs'!$A$6:$C$160,3,FALSE)","v":"Coronary Heart Disease Prevalence"},"2011/12","03T",12709,null,241613,5.26,5.17,5.35,33.777996839375305,34.277192060661918,null,4.2679999999999998,3.976,"A","Y55","X24","1071","Wilson"]
[107,{"$f":"VLOOKUP(tblData[[#This Row],[Indicator ID]],'Similar 10 CCGs'!$A$6:$C$160,3,FALSE)","v":"Coronary Heart Disease Prevalence"},"2011/12","03V",2313,null,69200,3.34,3.21,3.48,33.777996839375305,34.277192060661918,null,4.0389999999999997,3.6400000000000006,"","Y55","X24","1071","Wilson"]
[107,{"$f":"VLOOKUP(tblData[[#This Row],[Indicator ID]],'Similar 10 CCGs'!$A$6:$C$160,3,FALSE)","v":"Coronary Heart Disease Prevalence"},"2011/12","03W",10747,null,315168,3.41,3.35,3.47,33.777996839375305,34.277192060661918,null,3.3010000000000006,3.0260000000000002,"","Y55","X24","1071","Wilson"]
[107,{"$f":"VLOOKUP(tblData[[#This Row],[Indicator ID]],'Similar 10 CCGs'!$A$6:$C$160,3,FALSE)","v":"Coronary Heart Disease Prevalence"},"2011/12","03X",3629,null,97292,3.73,3.61,3.85,33.777996839375305,34.277192060661918,null,4.0400000000000009,3.6779999999999999,"","Y55","X24","1071","Wilson"]
[107,{"$f":"VLOOKUP(tblData[[#This Row],[Indicator ID]],'Similar 10 CCGs'!$A$6:$C$160,3,FALSE)","v":"Coronary Heart Disease Prevalence"},"2011/12","03Y",4932,null,102317,4.82,4.6900000000000004,4.95,33.777996839375305,34.277192060661918,null,4.0929999999999991,3.786,"A","Y55","X24","1071","Wilson"]
[107,{"$f":"VLOOKUP(tblData[[#This Row],[Indicator ID]],'Similar 10 CCGs'!$A$6:$C$160,3,FALSE)","v":"Coronary Heart Disease Prevalence"},"2011/12","04C",10101,null,373376,2.71,2.66,2.76,33.777996839375305,34.277192060661918,null,2.6839999999999997,2.2320000000000002,"","Y55","X24","1071","Wilson"]
[107,{"$f":"VLOOKUP(tblData[[#This Row],[Indicator ID]],'Similar 10 CCGs'!$A$6:$C$160,3,FALSE)","v":"Coronary Heart Disease Prevalence"},"2011/12","04D",9149,null,226047,4.05,3.97,4.13,33.777996839375305,34.277192060661918,null,4.0120000000000005,3.72,"A","Y55","X24","1071","Wilson"]
[107,{"$f":"VLOOKUP(tblData[[#This Row],[Indicator ID]],'Similar 10 CCGs'!$A$6:$C$160,3,FALSE)","v":"Coronary Heart Disease Prevalence"},"2011/12","04E",7934,null,183762,4.32,4.2300000000000004,4.41,33.777996839375305,34.277192060661918,null,4.520999999999999,4.3140000000000001,"A","Y55","X24","1071","Wilson"]
[107,{"$f":"VLOOKUP(tblData[[#This Row],[Indicator ID]],'Similar 10 CCGs'!$A$6:$C$160,3,FALSE)","v":"Coronary Heart Disease Prevalence"},"2011/12","04F",6185,null,265437,2.33,2.27,2.39,33.777996839375305,34.277192060661918,null,2.819,2.6700000000000004,"C","Y55","X24","1071","Wilson"]
[107,{"$f":"VLOOKUP(tblData[[#This Row],[Indicator ID]],'Similar 10 CCGs'!$A$6:$C$160,3,FALSE)","v":"Coronary Heart Disease Prevalence"},"2011/12","04G",19418,null,628635,3.09,3.05,3.13,33.777996839375305,34.277192060661918,null,3.1590000000000003,2.8780000000000001,"","Y55","X24","1071","Wilson"]
[107,{"$f":"VLOOKUP(tblData[[#This Row],[Indicator ID]],'Similar 10 CCGs'!$A$6:$C$160,3,FALSE)","v":"Coronary Heart Disease Prevalence"},"2011/12","04H",5163,null,128014,4.03,3.92,4.1399999999999997,33.777996839375305,34.277192060661918,null,4.0200000000000005,3.694,"B","Y55","X24","1071","Wilson"]
[107,{"$f":"VLOOKUP(tblData[[#This Row],[Indicator ID]],'Similar 10 CCGs'!$A$6:$C$160,3,FALSE)","v":"Coronary Heart Disease Prevalence"},"2011/12","04J",12241,null,279817,4.37,4.29,4.45,33.777996839375305,34.277192060661918,null,4.1690000000000005,3.7119999999999997,"A","Y55","X24","1071","Wilson"]
[107,{"$f":"VLOOKUP(tblData[[#This Row],[Indicator ID]],'Similar 10 CCGs'!$A$6:$C$160,3,FALSE)","v":"Coronary Heart Disease Prevalence"},"2011/12","04K",9707,null,347901,2.79,2.74,2.85,33.777996839375305,34.277192060661918,null,2.9259999999999997,2.4119999999999999,"B","Y55","X24","1071","Wilson"]
[107,{"$f":"VLOOKUP(tblData[[#This Row],[Indicator ID]],'Similar 10 CCGs'!$A$6:$C$160,3,FALSE)","v":"Coronary Heart Disease Prevalence"},"2011/12","04L",5583,null,144732,3.86,3.76,3.96,33.777996839375305,34.277192060661918,null,3.9829999999999997,3.6179999999999999,"B","Y55","X24","1071","Wilson"]
[107,{"$f":"VLOOKUP(tblData[[#This Row],[Indicator ID]],'Similar 10 CCGs'!$A$6:$C$160,3,FALSE)","v":"Coronary Heart Disease Prevalence"},"2011/12","04M",3784,null,93461,4.05,3.93,4.18,33.777996839375305,34.277192060661918,null,3.91,3.6819999999999999,"A","Y55","X24","1071","Wilson"]
[107,{"$f":"VLOOKUP(tblData[[#This Row],[Indicator ID]],'Similar 10 CCGs'!$A$6:$C$160,3,FALSE)","v":"Coronary Heart Disease Prevalence"},"2011/12","04N",4396,null,121763,3.61,3.51,3.72,33.777996839375305,34.277192060661918,null,3.4619999999999997,3.0539999999999998,"B","Y55","X24","1071","Wilson"]
[107,{"$f":"VLOOKUP(tblData[[#This Row],[Indicator ID]],'Similar 10 CCGs'!$A$6:$C$160,3,FALSE)","v":"Coronary Heart Disease Prevalence"},"2011/12","04Q",5547,null,129209,4.29,4.18,4.4000000000000004,33.777996839375305,34.277192060661918,null,3.7169999999999996,3.4380000000000002,"A","Y55","X24","1071","Wilson"]
[107,{"$f":"VLOOKUP(tblData[[#This Row],[Indicator ID]],'Similar 10 CCGs'!$A$6:$C$160,3,FALSE)","v":"Coronary Heart Disease Prevalence"},"2011/12","04R",18729,null,524920,3.57,3.52,3.62,33.777996839375305,34.277192060661918,null,3.4240000000000004,3.1160000000000001,"A","Y55","X24","1071","Wilson"]
[107,{"$f":"VLOOKUP(tblData[[#This Row],[Indicator ID]],'Similar 10 CCGs'!$A$6:$C$160,3,FALSE)","v":"Coronary Heart Disease Prevalence"},"2011/12","04V",11762,null,368905,3.19,3.13,3.25,33.777996839375305,34.277192060661918,null,3.5770000000000004,3.2479999999999998,"C","Y55","X24","1071","Wilson"]
[107,{"$f":"VLOOKUP(tblData[[#This Row],[Indicator ID]],'Similar 10 CCGs'!$A$6:$C$160,3,FALSE)","v":"Coronary Heart Disease Prevalence"},"2011/12","04X",6607,null,245730,2.69,2.63,2.75,33.777996839375305,34.277192060661918,null,3.2550000000000003,2.8159999999999998,"","Y55","X24","1071","Wilson"]
[107,{"$f":"VLOOKUP(tblData[[#This Row],[Indicator ID]],'Similar 10 CCGs'!$A$6:$C$160,3,FALSE)","v":"Coronary Heart Disease Prevalence"},"2011/12","04Y",5357,null,131791,4.0599999999999996,3.95,4.17,33.777996839375305,34.277192060661918,null,3.9820000000000007,3.6020000000000003,"A","Y55","X24","1071","Wilson"]
[107,{"$f":"VLOOKUP(tblData[[#This Row],[Indicator ID]],'Similar 10 CCGs'!$A$6:$C$160,3,FALSE)","v":"Coronary Heart Disease Prevalence"},"2011/12","05A",13016,null,463980,2.81,2.76,2.86,33.777996839375305,34.277192060661918,null,3.5549999999999997,3.1339999999999999,"C","Y55","X24","1071","Wilson"]
[107,{"$f":"VLOOKUP(tblData[[#This Row],[Indicator ID]],'Similar 10 CCGs'!$A$6:$C$160,3,FALSE)","v":"Coronary Heart Disease Prevalence"},"2011/12","05C",12995,null,313830,4.1399999999999997,4.07,4.21,33.777996839375305,34.277192060661918,null,3.8989999999999996,3.5539999999999998,"A","Y55","X24","1071","Wilson"]
[107,{"$f":"VLOOKUP(tblData[[#This Row],[Indicator ID]],'Similar 10 CCGs'!$A$6:$C$160,3,FALSE)","v":"Coronary Heart Disease Prevalence"},"2011/12","05D",4646,null,133795,3.47,3.37,3.57,33.777996839375305,34.277192060661918,null,3.7129999999999996,3.2619999999999996,"","Y55","X24","1071","Wilson"]
[107,{"$f":"VLOOKUP(tblData[[#This Row],[Indicator ID]],'Similar 10 CCGs'!$A$6:$C$160,3,FALSE)","v":"Coronary Heart Disease Prevalence"},"2011/12","05F",6449,null,181868,3.55,3.47,3.64,33.777996839375305,34.277192060661918,null,4.1070000000000011,3.7659999999999996,"","Y55","X24","1071","Wilson"]
[107,{"$f":"VLOOKUP(tblData[[#This Row],[Indicator ID]],'Similar 10 CCGs'!$A$6:$C$160,3,FALSE)","v":"Coronary Heart Disease Prevalence"},"2011/12","05G",8694,null,213223,4.08,4,4.16,33.777996839375305,34.277192060661918,null,4.229000000000001,3.8939999999999997,"","Y55","X24","1071","Wilson"]
[107,{"$f":"VLOOKUP(tblData[[#This Row],[Indicator ID]],'Similar 10 CCGs'!$A$6:$C$160,3,FALSE)","v":"Coronary Heart Disease Prevalence"},"2011/12","05H",6053,null,183653,3.3,3.22,3.38,33.777996839375305,34.277192060661918,null,4.141,3.85,"C","Y55","X24","1071","Wilson"]
[107,{"$f":"VLOOKUP(tblData[[#This Row],[Indicator ID]],'Similar 10 CCGs'!$A$6:$C$160,3,FALSE)","v":"Coronary Heart Disease Prevalence"},"2011/12","05J",6090,null,171390,3.55,3.46,3.64,33.777996839375305,34.277192060661918,null,3.7810000000000001,3.5439999999999996,"","Y55","X24","1071","Wilson"]
[107,{"$f":"VLOOKUP(tblData[[#This Row],[Indicator ID]],'Similar 10 CCGs'!$A$6:$C$160,3,FALSE)","v":"Coronary Heart Disease Prevalence"},"2011/12","05L",16422,null,531050,3.09,3.04,3.14,33.777996839375305,34.277192060661918,null,2.9090000000000003,2.4980000000000002,"","Y55","X24","1071","Wilson"]
[107,{"$f":"VLOOKUP(tblData[[#This Row],[Indicator ID]],'Similar 10 CCGs'!$A$6:$C$160,3,FALSE)","v":"Coronary Heart Disease Prevalence"},"2011/12","05N",11310,null,297973,3.8,3.73,3.87,33.777996839375305,34.277192060661918,null,4.0789999999999997,3.6619999999999999,"","Y55","X24","1071","Wilson"]
[107,{"$f":"VLOOKUP(tblData[[#This Row],[Indicator ID]],'Similar 10 CCGs'!$A$6:$C$160,3,FALSE)","v":"Coronary Heart Disease Prevalence"},"2011/12","05P",8430,null,235280,3.58,3.51,3.66,33.777996839375305,34.277192060661918,null,3.6010000000000004,3.3159999999999998,"B","Y55","X24","1071","Wilson"]
[107,{"$f":"VLOOKUP(tblData[[#This Row],[Indicator ID]],'Similar 10 CCGs'!$A$6:$C$160,3,FALSE)","v":"Coronary Heart Disease Prevalence"},"2011/12","05Q",7584,null,209085,3.63,3.55,3.71,33.777996839375305,34.277192060661918,null,3.7250000000000001,3.4780000000000002,"A","Y55","X24","1071","Wilson"]
[107,{"$f":"VLOOKUP(tblData[[#This Row],[Indicator ID]],'Similar 10 CCGs'!$A$6:$C$160,3,FALSE)","v":"Coronary Heart Disease Prevalence"},"2011/12","05R",8693,null,271512,3.2,3.13,3.27,33.777996839375305,34.277192060661918,null,3.7469999999999999,3.4380000000000002,"C","Y55","X24","1071","Wilson"]
[107,{"$f":"VLOOKUP(tblData[[#This Row],[Indicator ID]],'Similar 10 CCGs'!$A$6:$C$160,3,FALSE)","v":"Coronary Heart Disease Prevalence"},"2011/12","05T",9808,null,292433,3.35,3.29,3.42,33.777996839375305,34.277192060661918,null,3.9740000000000002,3.5680000000000001,"C","Y55","X24","1071","Wilson"]
[107,{"$f":"VLOOKUP(tblData[[#This Row],[Indicator ID]],'Similar 10 CCGs'!$A$6:$C$160,3,FALSE)","v":"Coronary Heart Disease Prevalence"},"2011/12","05V",5514,null,144593,3.81,3.71,3.91,33.777996839375305,34.277192060661918,null,3.9590000000000005,3.7519999999999998,"","Y55","X24","1071","Wilson"]
[107,{"$f":"VLOOKUP(tblData[[#This Row],[Indicator ID]],'Similar 10 CCGs'!$A$6:$C$160,3,FALSE)","v":"Coronary Heart Disease Prevalence"},"2011/12","05W",11236,null,278090,4.04,3.97,4.1100000000000003,33.777996839375305,34.277192060661918,null,4.2480000000000002,3.9359999999999999,"","Y55","X24","1071","Wilson"]
[107,{"$f":"VLOOKUP(tblData[[#This Row],[Indicator ID]],'Similar 10 CCGs'!$A$6:$C$160,3,FALSE)","v":"Coronary Heart Disease Prevalence"},"2011/12","05X",5464,null,172024,3.18,3.1,3.26,33.777996839375305,34.277192060661918,null,3.6900000000000004,3.2800000000000002,"C","Y55","X24","1071","Wilson"]
[107,{"$f":"VLOOKUP(tblData[[#This Row],[Indicator ID]],'Similar 10 CCGs'!$A$6:$C$160,3,FALSE)","v":"Coronary Heart Disease Prevalence"},"2011/12","05Y",10857,null,270491,4.01,3.94,4.08,33.777996839375305,34.277192060661918,null,3.9080000000000004,3.66,"","Y55","X24","1071","Wilson"]
[107,{"$f":"VLOOKUP(tblData[[#This Row],[Indicator ID]],'Similar 10 CCGs'!$A$6:$C$160,3,FALSE)","v":"Coronary Heart Disease Prevalence"},"2011/12","06A",9824,null,260354,3.77,3.7,3.84,33.777996839375305,34.277192060661918,null,3.7249999999999992,3.2960000000000003,"C","Y55","X24","1071","Wilson"]
[107,{"$f":"VLOOKUP(tblData[[#This Row],[Indicator ID]],'Similar 10 CCGs'!$A$6:$C$160,3,FALSE)","v":"Coronary Heart Disease Prevalence"},"2011/12","06D",4350,null,112154,3.88,3.77,3.99,33.777996839375305,34.277192060661918,null,3.97,3.6920000000000002,"B","Y55","X24","1071","Wilson"]
[107,{"$f":"VLOOKUP(tblData[[#This Row],[Indicator ID]],'Similar 10 CCGs'!$A$6:$C$160,3,FALSE)","v":"Coronary Heart Disease Prevalence"},"2011/12","06F",13493,null,436707,3.09,3.04,3.14,33.777996839375305,34.277192060661918,null,3.1200000000000006,2.9560000000000004,"A","Y55","X24","1071","Wilson"]
[107,{"$f":"VLOOKUP(tblData[[#This Row],[Indicator ID]],'Similar 10 CCGs'!$A$6:$C$160,3,FALSE)","v":"Coronary Heart Disease Prevalence"},"2011/12","06H",25650,null,862150,2.98,2.94,3.02,33.777996839375305,34.277192060661918,null,3.3530000000000002,2.93,"","Y55","X24","1071","Wilson"]
[107,{"$f":"VLOOKUP(tblData[[#This Row],[Indicator ID]],'Similar 10 CCGs'!$A$6:$C$160,3,FALSE)","v":"Coronary Heart Disease Prevalence"},"2011/12","06K",16952,null,566468,2.99,2.95,3.03,33.777996839375305,34.277192060661918,null,3.1210000000000004,2.8880000000000003,"A","Y55","X24","1071","Wilson"]
[107,{"$f":"VLOOKUP(tblData[[#This Row],[Indicator ID]],'Similar 10 CCGs'!$A$6:$C$160,3,FALSE)","v":"Coronary Heart Disease Prevalence"},"2011/12","06L",14696,null,387143,3.8,3.74,3.86,33.777996839375305,34.277192060661918,null,3.6930000000000001,3.226,"","Y55","X24","1071","Wilson"]
[107,{"$f":"VLOOKUP(tblData[[#This Row],[Indicator ID]],'Similar 10 CCGs'!$A$6:$C$160,3,FALSE)","v":"Coronary Heart Disease Prevalence"},"2011/12","06M",9724,null,230830,4.21,4.13,4.29,33.777996839375305,34.277192060661918,null,4.3340000000000005,3.8439999999999999,"","Y55","X24","1071","Wilson"]
[107,{"$f":"VLOOKUP(tblData[[#This Row],[Indicator ID]],'Similar 10 CCGs'!$A$6:$C$160,3,FALSE)","v":"Coronary Heart Disease Prevalence"},"2011/12","06N",16246,null,599780,2.71,2.67,2.75,33.777996839375305,34.277192060661918,null,3.0900000000000007,2.9359999999999999,"","Y55","X24","1071","Wilson"]
[107,{"$f":"VLOOKUP(tblData[[#This Row],[Indicator ID]],'Similar 10 CCGs'!$A$6:$C$160,3,FALSE)","v":"Coronary Heart Disease Prevalence"},"2011/12","06P",5408,null,213020,2.54,2.4700000000000002,2.61,33.777996839375305,34.277192060661918,null,3.0910000000000002,2.5640000000000001,"","Y55","X24","1071","Wilson"]
[107,{"$f":"VLOOKUP(tblData[[#This Row],[Indicator ID]],'Similar 10 CCGs'!$A$6:$C$160,3,FALSE)","v":"Coronary Heart Disease Prevalence"},"2011/12","06Q",12209,null,379032,3.22,3.16,3.28,33.777996839375305,34.277192060661918,null,3.1079999999999997,2.8479999999999999,"B","Y55","X24","1071","Wilson"]
[107,{"$f":"VLOOKUP(tblData[[#This Row],[Indicator ID]],'Similar 10 CCGs'!$A$6:$C$160,3,FALSE)","v":"Coronary Heart Disease Prevalence"},"2011/12","06T",12618,null,327531,3.85,3.78,3.92,33.777996839375305,34.277192060661918,null,3.9380000000000002,3.5959999999999992,"","Y55","X24","1071","Wilson"]
[107,{"$f":"VLOOKUP(tblData[[#This Row],[Indicator ID]],'Similar 10 CCGs'!$A$6:$C$160,3,FALSE)","v":"Coronary Heart Disease Prevalence"},"2011/12","06V",7633,null,167483,4.5599999999999996,4.46,4.66,33.777996839375305,34.277192060661918,null,4.2610000000000001,3.903999999999999,"B","Y55","X24","1071","Wilson"]
[107,{"$f":"VLOOKUP(tblData[[#This Row],[Indicator ID]],'Similar 10 CCGs'!$A$6:$C$160,3,FALSE)","v":"Coronary Heart Disease Prevalence"},"2011/12","06W",6289,null,208562,3.02,2.95,3.09,33.777996839375305,34.277192060661918,null,3.7329999999999997,3.032,"C","Y55","X24","1071","Wilson"]
[107,{"$f":"VLOOKUP(tblData[[#This Row],[Indicator ID]],'Similar 10 CCGs'!$A$6:$C$160,3,FALSE)","v":"Coronary Heart Disease Prevalence"},"2011/12","06Y",8105,null,220178,3.68,3.6,3.76,33.777996839375305,34.277192060661918,null,3.847,3.4539999999999997,"","Y55","X24","1071","Wilson"]
[107,{"$f":"VLOOKUP(tblData[[#This Row],[Indicator ID]],'Similar 10 CCGs'!$A$6:$C$160,3,FALSE)","v":"Coronary Heart Disease Prevalence"},"2011/12","07G",4607,null,161318,2.86,2.78,2.94,33.777996839375305,34.277192060661918,null,2.9089999999999998,2.6859999999999999,"B","Y55","X24","1071","Wilson"]
[107,{"$f":"VLOOKUP(tblData[[#This Row],[Indicator ID]],'Similar 10 CCGs'!$A$6:$C$160,3,FALSE)","v":"Coronary Heart Disease Prevalence"},"2011/12","07H",8895,null,291230,3.05,2.99,3.11,33.777996839375305,34.277192060661918,null,3.3240000000000003,2.9880000000000004,"","Y55","X24","1071","Wilson"]
[107,{"$f":"VLOOKUP(tblData[[#This Row],[Indicator ID]],'Similar 10 CCGs'!$A$6:$C$160,3,FALSE)","v":"Coronary Heart Disease Prevalence"},"2011/12","07J",7786,null,164506,4.7300000000000004,4.63,4.83,33.777996839375305,34.277192060661918,null,4.354000000000001,3.9560000000000004,"A","Y55","X24","1071","Wilson"]
[107,{"$f":"VLOOKUP(tblData[[#This Row],[Indicator ID]],'Similar 10 CCGs'!$A$6:$C$160,3,FALSE)","v":"Coronary Heart Disease Prevalence"},"2011/12","07K",8209,null,236634,3.47,3.4,3.54,33.777996839375305,34.277192060661918,null,3.8870000000000005,3.5340000000000003,"C","Y55","X24","1071","Wilson"]
[107,{"$f":"VLOOKUP(tblData[[#This Row],[Indicator ID]],'Similar 10 CCGs'!$A$6:$C$160,3,FALSE)","v":"Coronary Heart Disease Prevalence"},"2011/12","07L",4441,null,201601,2.2000000000000002,2.14,2.2599999999999998,33.777996839375305,21.69300125710566,null,2.508,2.1560000000000001,"C","Y56","X24","1071","Wilson"]
[107,{"$f":"VLOOKUP(tblData[[#This Row],[Indicator ID]],'Similar 10 CCGs'!$A$6:$C$160,3,FALSE)","v":"Coronary Heart Disease Prevalence"},"2011/12","07M",10418,null,378983,2.75,2.7,2.8,33.777996839375305,21.69300125710566,null,2.7270000000000003,2.4980000000000002,"B","Y56","X24","1071","Wilson"]
[107,{"$f":"VLOOKUP(tblData[[#This Row],[Indicator ID]],'Similar 10 CCGs'!$A$6:$C$160,3,FALSE)","v":"Coronary Heart Disease Prevalence"},"2011/12","07N",6737,null,228448,2.95,2.88,3.02,33.777996839375305,21.69300125710566,null,3.0179999999999998,2.7979999999999996,"","Y56","X24","1071","Wilson"]
[107,{"$f":"VLOOKUP(tblData[[#This Row],[Indicator ID]],'Similar 10 CCGs'!$A$6:$C$160,3,FALSE)","v":"Coronary Heart Disease Prevalence"},"2011/12","07P",7593,null,333639,2.2799999999999998,2.23,2.33,33.777996839375305,21.69300125710566,null,2.29,1.9920000000000002,"A","Y56","X24","1071","Wilson"]
[107,{"$f":"VLOOKUP(tblData[[#This Row],[Indicator ID]],'Similar 10 CCGs'!$A$6:$C$160,3,FALSE)","v":"Coronary Heart Disease Prevalence"},"2011/12","07Q",10109,null,325750,3.1,3.04,3.16,33.777996839375305,21.69300125710566,null,3.0480000000000005,2.8600000000000003,"","Y56","X24","1071","Wilson"]
[107,{"$f":"VLOOKUP(tblData[[#This Row],[Indicator ID]],'Similar 10 CCGs'!$A$6:$C$160,3,FALSE)","v":"Coronary Heart Disease Prevalence"},"2011/12","07R",4152,null,258783,1.6,1.55,1.65,33.777996839375305,21.69300125710566,null,2.4339999999999997,2.028,"C","Y56","X24","1071","Wilson"]
[107,{"$f":"VLOOKUP(tblData[[#This Row],[Indicator ID]],'Similar 10 CCGs'!$A$6:$C$160,3,FALSE)","v":"Coronary Heart Disease Prevalence"},"2011/12","07T",4574,null,286478,1.6,1.55,1.65,33.777996839375305,21.69300125710566,null,1.7929999999999999,1.554,"C","Y56","X24","1071","Wilson"]
[107,{"$f":"VLOOKUP(tblData[[#This Row],[Indicator ID]],'Similar 10 CCGs'!$A$6:$C$160,3,FALSE)","v":"Coronary Heart Disease Prevalence"},"2011/12","07V",8751,null,383343,2.2799999999999998,2.23,2.33,33.777996839375305,21.69300125710566,null,2.2299999999999995,1.9920000000000002,"C","Y56","X24","1071","Wilson"]
[107,{"$f":"VLOOKUP(tblData[[#This Row],[Indicator ID]],'Similar 10 CCGs'!$A$6:$C$160,3,FALSE)","v":"Coronary Heart Disease Prevalence"},"2011/12","07W",9946,null,393933,2.52,2.4700000000000002,2.57,33.777996839375305,21.69300125710566,null,2.5479999999999996,2.266,"A","Y56","X24","1071","Wilson"]
[107,{"$f":"VLOOKUP(tblData[[#This Row],[Indicator ID]],'Similar 10 CCGs'!$A$6:$C$160,3,FALSE)","v":"Coronary Heart Disease Prevalence"},"2011/12","07X",7611,null,288724,2.64,2.58,2.7,33.777996839375305,21.69300125710566,null,2.444,2.1379999999999999,"","Y56","X24","1071","Wilson"]
[107,{"$f":"VLOOKUP(tblData[[#This Row],[Indicator ID]],'Similar 10 CCGs'!$A$6:$C$160,3,FALSE)","v":"Coronary Heart Disease Prevalence"},"2011/12","07Y",6501,null,280205,2.3199999999999998,2.2599999999999998,2.38,33.777996839375305,21.69300125710566,null,2.5030000000000001,2.306,"A","Y56","X24","1071","Wilson"]
[107,{"$f":"VLOOKUP(tblData[[#This Row],[Indicator ID]],'Similar 10 CCGs'!$A$6:$C$160,3,FALSE)","v":"Coronary Heart Disease Prevalence"},"2011/12","08A",6086,null,276087,2.2000000000000002,2.15,2.2599999999999998,33.777996839375305,21.69300125710566,null,2.3519999999999994,1.9920000000000002,"","Y56","X24","1071","Wilson"]
[107,{"$f":"VLOOKUP(tblData[[#This Row],[Indicator ID]],'Similar 10 CCGs'!$A$6:$C$160,3,FALSE)","v":"Coronary Heart Disease Prevalence"},"2011/12","08C",3456,null,198466,1.74,1.68,1.8,33.777996839375305,21.69300125710566,null,1.839,1.5100000000000002,"B","Y56","X24","1071","Wilson"]
[107,{"$f":"VLOOKUP(tblData[[#This Row],[Indicator ID]],'Similar 10 CCGs'!$A$6:$C$160,3,FALSE)","v":"Coronary Heart Disease Prevalence"},"2011/12","08D",4598,null,273462,1.68,1.63,1.73,33.777996839375305,21.69300125710566,null,2.0449999999999995,1.7700000000000002,"C","Y56","X24","1071","Wilson"]
[107,{"$f":"VLOOKUP(tblData[[#This Row],[Indicator ID]],'Similar 10 CCGs'!$A$6:$C$160,3,FALSE)","v":"Coronary Heart Disease Prevalence"},"2011/12","08E",6581,null,224682,2.93,2.86,3,33.777996839375305,21.69300125710566,null,2.5129999999999999,2.37,"A","Y56","X24","1071","Wilson"]
[107,{"$f":"VLOOKUP(tblData[[#This Row],[Indicator ID]],'Similar 10 CCGs'!$A$6:$C$160,3,FALSE)","v":"Coronary Heart Disease Prevalence"},"2011/12","08F",8023,null,257279,3.12,3.05,3.19,33.777996839375305,21.69300125710566,null,3.5040000000000004,3.1879999999999997,"","Y56","X24","1071","Wilson"]
[107,{"$f":"VLOOKUP(tblData[[#This Row],[Indicator ID]],'Similar 10 CCGs'!$A$6:$C$160,3,FALSE)","v":"Coronary Heart Disease Prevalence"},"2011/12","08G",6966,null,282436,2.4700000000000002,2.41,2.5299999999999998,33.777996839375305,21.69300125710566,null,2.8479999999999999,2.52,"","Y56","X24","1071","Wilson"]
[107,{"$f":"VLOOKUP(tblData[[#This Row],[Indicator ID]],'Similar 10 CCGs'!$A$6:$C$160,3,FALSE)","v":"Coronary Heart Disease Prevalence"},"2011/12","08H",3927,null,220190,1.78,1.73,1.84,33.777996839375305,21.69300125710566,null,1.796,1.6379999999999999,"B","Y56","X24","1071","Wilson"]
[107,{"$f":"VLOOKUP(tblData[[#This Row],[Indicator ID]],'Similar 10 CCGs'!$A$6:$C$160,3,FALSE)","v":"Coronary Heart Disease Prevalence"},"2011/12","08J",4451,null,188991,2.36,2.29,2.4300000000000002,33.777996839375305,21.69300125710566,null,2.7589999999999999,2.6179999999999999,"C","Y56","X24","1071","Wilson"]
[107,{"$f":"VLOOKUP(tblData[[#This Row],[Indicator ID]],'Similar 10 CCGs'!$A$6:$C$160,3,FALSE)","v":"Coronary Heart Disease Prevalence"},"2011/12","08K",5115,null,381991,1.34,1.3,1.38,33.777996839375305,21.69300125710566,null,1.8199999999999998,1.6059999999999999,"C","Y56","X24","1071","Wilson"]
[107,{"$f":"VLOOKUP(tblData[[#This Row],[Indicator ID]],'Similar 10 CCGs'!$A$6:$C$160,3,FALSE)","v":"Coronary Heart Disease Prevalence"},"2011/12","08L",5561,null,306263,1.82,1.77,1.87,33.777996839375305,21.69300125710566,null,1.8669999999999998,1.5260000000000002,"C","Y56","X24","1071","Wilson"]
[107,{"$f":"VLOOKUP(tblData[[#This Row],[Indicator ID]],'Similar 10 CCGs'!$A$6:$C$160,3,FALSE)","v":"Coronary Heart Disease Prevalence"},"2011/12","08M",6576,null,368016,1.79,1.75,1.83,33.777996839375305,21.69300125710566,null,2.2469999999999999,1.8280000000000001,"","Y56","X24","1071","Wilson"]
[107,{"$f":"VLOOKUP(tblData[[#This Row],[Indicator ID]],'Similar 10 CCGs'!$A$6:$C$160,3,FALSE)","v":"Coronary Heart Disease Prevalence"},"2011/12","08N",7836,null,287529,2.73,2.67,2.79,33.777996839375305,21.69300125710566,null,2.7939999999999996,2.492,"A","Y56","X24","1071","Wilson"]
[107,{"$f":"VLOOKUP(tblData[[#This Row],[Indicator ID]],'Similar 10 CCGs'!$A$6:$C$160,3,FALSE)","v":"Coronary Heart Disease Prevalence"},"2011/12","08P",3929,null,197994,1.98,1.92,2.04,33.777996839375305,21.69300125710566,null,2.6710000000000003,2.5379999999999998,"C","Y56","X24","1071","Wilson"]
[107,{"$f":"VLOOKUP(tblData[[#This Row],[Indicator ID]],'Similar 10 CCGs'!$A$6:$C$160,3,FALSE)","v":"Coronary Heart Disease Prevalence"},"2011/12","08Q",4708,null,327517,1.44,1.4,1.48,33.777996839375305,21.69300125710566,null,1.8089999999999999,1.5859999999999999,"C","Y56","X24","1071","Wilson"]
[107,{"$f":"VLOOKUP(tblData[[#This Row],[Indicator ID]],'Similar 10 CCGs'!$A$6:$C$160,3,FALSE)","v":"Coronary Heart Disease Prevalence"},"2011/12","08R",4643,null,212502,2.1800000000000002,2.12,2.2400000000000002,33.777996839375305,21.69300125710566,null,2.3220000000000001,2.0619999999999998,"","Y56","X24","1071","Wilson"]
[107,{"$f":"VLOOKUP(tblData[[#This Row],[Indicator ID]],'Similar 10 CCGs'!$A$6:$C$160,3,FALSE)","v":"Coronary Heart Disease Prevalence"},"2011/12","08T",4888,null,184345,2.65,2.58,2.72,33.777996839375305,21.69300125710566,null,3.0650000000000004,2.758,"C","Y56","X24","1071","Wilson"]
[107,{"$f":"VLOOKUP(tblData[[#This Row],[Indicator ID]],'Similar 10 CCGs'!$A$6:$C$160,3,FALSE)","v":"Coronary Heart Disease Prevalence"},"2011/12","08V",4847,null,278239,1.74,1.69,1.79,33.777996839375305,21.69300125710566,null,2.4130000000000003,2.0780000000000003,"","Y56","X24","1071","Wilson"]
[107,{"$f":"VLOOKUP(tblData[[#This Row],[Indicator ID]],'Similar 10 CCGs'!$A$6:$C$160,3,FALSE)","v":"Coronary Heart Disease Prevalence"},"2011/12","08W",6114,null,293890,2.08,2.0299999999999998,2.13,33.777996839375305,21.69300125710566,null,2.1849999999999996,1.8960000000000001,"","Y56","X24","1071","Wilson"]
[107,{"$f":"VLOOKUP(tblData[[#This Row],[Indicator ID]],'Similar 10 CCGs'!$A$6:$C$160,3,FALSE)","v":"Coronary Heart Disease Prevalence"},"2011/12","08X",5537,null,353385,1.57,1.53,1.61,33.777996839375305,21.69300125710566,null,2.1029999999999998,1.8460000000000001,"C","Y56","X24","1071","Wilson"]
[107,{"$f":"VLOOKUP(tblData[[#This Row],[Indicator ID]],'Similar 10 CCGs'!$A$6:$C$160,3,FALSE)","v":"Coronary Heart Disease Prevalence"},"2011/12","08Y",4384,null,224877,1.95,1.89,2.0099999999999998,33.777996839375305,21.69300125710566,null,2.0289999999999999,1.6739999999999999,"A","Y56","X24","1071","Wilson"]
[107,{"$f":"VLOOKUP(tblData[[#This Row],[Indicator ID]],'Similar 10 CCGs'!$A$6:$C$160,3,FALSE)","v":"Coronary Heart Disease Prevalence"},"2011/12","09A",3832,null,193826,1.98,1.92,2.04,33.777996839375305,21.69300125710566,null,2.2319999999999998,1.7280000000000002,"A","Y56","X24","1071","Wilson"]
[107,{"$f":"VLOOKUP(tblData[[#This Row],[Indicator ID]],'Similar 10 CCGs'!$A$6:$C$160,3,FALSE)","v":"Coronary Heart Disease Prevalence"},"2011/12","09C",3814,null,123049,3.1,3,3.2,33.777996839375305,32.724234929293601,null,3.4359999999999999,2.8980000000000001,"","Y57","X24","1071","Wilson"]
[107,{"$f":"VLOOKUP(tblData[[#This Row],[Indicator ID]],'Similar 10 CCGs'!$A$6:$C$160,3,FALSE)","v":"Coronary Heart Disease Prevalence"},"2011/12","09D",7021,null,302041,2.3199999999999998,2.27,2.37,33.777996839375305,32.724234929293601,null,3.6639999999999993,2.97,"C","Y57","X24","1071","Wilson"]
[107,{"$f":"VLOOKUP(tblData[[#This Row],[Indicator ID]],'Similar 10 CCGs'!$A$6:$C$160,3,FALSE)","v":"Coronary Heart Disease Prevalence"},"2011/12","09E",7057,null,212778,3.32,3.24,3.4,33.777996839375305,32.724234929293601,null,3.6710000000000003,3.28,"C","Y57","X24","1071","Wilson"]
[107,{"$f":"VLOOKUP(tblData[[#This Row],[Indicator ID]],'Similar 10 CCGs'!$A$6:$C$160,3,FALSE)","v":"Coronary Heart Disease Prevalence"},"2011/12","09F",8315,null,185366,4.49,4.4000000000000004,4.59,33.777996839375305,32.724234929293601,null,4.4380000000000006,4.0419999999999998,"B","Y57","X24","1071","Wilson"]
[107,{"$f":"VLOOKUP(tblData[[#This Row],[Indicator ID]],'Similar 10 CCGs'!$A$6:$C$160,3,FALSE)","v":"Coronary Heart Disease Prevalence"},"2011/12","09G",21162,null,486276,4.3499999999999996,4.29,4.41,33.777996839375305,32.724234929293601,null,4.2770000000000001,3.8420000000000001,"A","Y57","X24","1071","Wilson"]
[107,{"$f":"VLOOKUP(tblData[[#This Row],[Indicator ID]],'Similar 10 CCGs'!$A$6:$C$160,3,FALSE)","v":"Coronary Heart Disease Prevalence"},"2011/12","09H",3682,null,125753,2.93,2.84,3.02,33.777996839375305,32.724234929293601,null,3.2089999999999996,2.8339999999999996,"B","Y57","X24","1071","Wilson"]
[107,{"$f":"VLOOKUP(tblData[[#This Row],[Indicator ID]],'Similar 10 CCGs'!$A$6:$C$160,3,FALSE)","v":"Coronary Heart Disease Prevalence"},"2011/12","09J",7490,null,249384,3,2.93,3.07,33.777996839375305,32.724234929293601,null,3.1770000000000005,2.94,"","Y57","X24","1071","Wilson"]
[107,{"$f":"VLOOKUP(tblData[[#This Row],[Indicator ID]],'Similar 10 CCGs'!$A$6:$C$160,3,FALSE)","v":"Coronary Heart Disease Prevalence"},"2011/12","09L",4948,null,170399,2.9,2.82,2.98,33.777996839375305,32.724234929293601,null,3.0090000000000003,2.7879999999999998,"","Y57","X24","1071","Wilson"]
[107,{"$f":"VLOOKUP(tblData[[#This Row],[Indicator ID]],'Similar 10 CCGs'!$A$6:$C$160,3,FALSE)","v":"Coronary Heart Disease Prevalence"},"2011/12","09N",5751,null,213404,2.69,2.62,2.76,33.777996839375305,32.724234929293601,null,3.569,3.218,"C","Y57","X24","1071","Wilson"]
[107,{"$f":"VLOOKUP(tblData[[#This Row],[Indicator ID]],'Similar 10 CCGs'!$A$6:$C$160,3,FALSE)","v":"Coronary Heart Disease Prevalence"},"2011/12","09P",7604,null,183565,4.1399999999999997,4.05,4.2300000000000004,33.777996839375305,32.724234929293601,null,4.4820000000000011,4.0260000000000007,"","Y57","X24","1071","Wilson"]
[107,{"$f":"VLOOKUP(tblData[[#This Row],[Indicator ID]],'Similar 10 CCGs'!$A$6:$C$160,3,FALSE)","v":"Coronary Heart Disease Prevalence"},"2011/12","09W",8040,null,281126,2.86,2.8,2.92,33.777996839375305,32.724234929293601,null,3.3659999999999997,3.032,"","Y57","X24","1071","Wilson"]
[107,{"$f":"VLOOKUP(tblData[[#This Row],[Indicator ID]],'Similar 10 CCGs'!$A$6:$C$160,3,FALSE)","v":"Coronary Heart Disease Prevalence"},"2011/12","09X",6696,null,224363,2.98,2.91,3.05,33.777996839375305,32.724234929293601,null,3.161,2.8679999999999999,"","Y57","X24","1071","Wilson"]
[107,{"$f":"VLOOKUP(tblData[[#This Row],[Indicator ID]],'Similar 10 CCGs'!$A$6:$C$160,3,FALSE)","v":"Coronary Heart Disease Prevalence"},"2011/12","09Y",9358,null,349206,2.68,2.63,2.73,33.777996839375305,32.724234929293601,null,2.9880000000000004,2.8420000000000001,"C","Y57","X24","1071","Wilson"]
[107,{"$f":"VLOOKUP(tblData[[#This Row],[Indicator ID]],'Similar 10 CCGs'!$A$6:$C$160,3,FALSE)","v":"Coronary Heart Disease Prevalence"},"2011/12","10A",7637,null,199887,3.82,3.74,3.9,33.777996839375305,32.724234929293601,null,4.1590000000000007,3.782,"","Y57","X24","1071","Wilson"]
[107,{"$f":"VLOOKUP(tblData[[#This Row],[Indicator ID]],'Similar 10 CCGs'!$A$6:$C$160,3,FALSE)","v":"Coronary Heart Disease Prevalence"},"2011/12","10C",2618,null,90403,2.9,2.79,3.01,33.777996839375305,32.724234929293601,null,2.972,2.6360000000000001,"","Y57","X24","1071","Wilson"]
[107,{"$f":"VLOOKUP(tblData[[#This Row],[Indicator ID]],'Similar 10 CCGs'!$A$6:$C$160,3,FALSE)","v":"Coronary Heart Disease Prevalence"},"2011/12","10D",3285,null,106368,3.09,2.99,3.2,33.777996839375305,32.724234929293601,null,3.7930000000000006,3.4060000000000001,"","Y57","X24","1071","Wilson"]
[107,{"$f":"VLOOKUP(tblData[[#This Row],[Indicator ID]],'Similar 10 CCGs'!$A$6:$C$160,3,FALSE)","v":"Coronary Heart Disease Prevalence"},"2011/12","10E",5417,null,140872,3.85,3.75,3.95,33.777996839375305,32.724234929293601,null,4.2989999999999995,3.9880000000000004,"","Y57","X24","1071","Wilson"]
[107,{"$f":"VLOOKUP(tblData[[#This Row],[Indicator ID]],'Similar 10 CCGs'!$A$6:$C$160,3,FALSE)","v":"Coronary Heart Disease Prevalence"},"2011/12","10G",3452,null,136117,2.54,2.46,2.63,33.777996839375305,32.724234929293601,null,2.8639999999999999,2.7040000000000002,"","Y57","X24","1071","Wilson"]
[107,{"$f":"VLOOKUP(tblData[[#This Row],[Indicator ID]],'Similar 10 CCGs'!$A$6:$C$160,3,FALSE)","v":"Coronary Heart Disease Prevalence"},"2011/12","10H",9267,null,322894,2.87,2.81,2.93,33.777996839375305,32.724234929293601,null,3,2.7939999999999996,"","Y57","X24","1071","Wilson"]
[107,{"$f":"VLOOKUP(tblData[[#This Row],[Indicator ID]],'Similar 10 CCGs'!$A$6:$C$160,3,FALSE)","v":"Coronary Heart Disease Prevalence"},"2011/12","10J",5708,null,214526,2.66,2.59,2.73,33.777996839375305,32.724234929293601,null,2.9380000000000002,2.7359999999999998,"C","Y57","X24","1071","Wilson"]
[107,{"$f":"VLOOKUP(tblData[[#This Row],[Indicator ID]],'Similar 10 CCGs'!$A$6:$C$160,3,FALSE)","v":"Coronary Heart Disease Prevalence"},"2011/12","10K",7517,null,199679,3.76,3.68,3.84,33.777996839375305,32.724234929293601,null,3.4889999999999999,3.1920000000000002,"A","Y57","X24","1071","Wilson"]
[107,{"$f":"VLOOKUP(tblData[[#This Row],[Indicator ID]],'Similar 10 CCGs'!$A$6:$C$160,3,FALSE)","v":"Coronary Heart Disease Prevalence"},"2011/12","10L",5723,null,140954,4.0599999999999996,3.96,4.16,33.777996839375305,32.724234929293601,null,4.4210000000000003,3.9939999999999998,"","Y57","X24","1071","Wilson"]
[107,{"$f":"VLOOKUP(tblData[[#This Row],[Indicator ID]],'Similar 10 CCGs'!$A$6:$C$160,3,FALSE)","v":"Coronary Heart Disease Prevalence"},"2011/12","10M",2852,null,113978,2.5,2.41,2.59,33.777996839375305,32.724234929293601,null,3.2250000000000001,2.8560000000000003,"C","Y57","X24","1071","Wilson"]
[107,{"$f":"VLOOKUP(tblData[[#This Row],[Indicator ID]],'Similar 10 CCGs'!$A$6:$C$160,3,FALSE)","v":"Coronary Heart Disease Prevalence"},"2011/12","10N",2698,null,107019,2.52,2.4300000000000002,2.62,33.777996839375305,32.724234929293601,null,3.1459999999999999,2.7,"","Y57","X24","1071","Wilson"]
[107,{"$f":"VLOOKUP(tblData[[#This Row],[Indicator ID]],'Similar 10 CCGs'!$A$6:$C$160,3,FALSE)","v":"Coronary Heart Disease Prevalence"},"2011/12","10Q",18192,null,694252,2.62,2.58,2.66,33.777996839375305,32.724234929293601,null,3.3380000000000001,2.972,"C","Y57","X24","1071","Wilson"]
[107,{"$f":"VLOOKUP(tblData[[#This Row],[Indicator ID]],'Similar 10 CCGs'!$A$6:$C$160,3,FALSE)","v":"Coronary Heart Disease Prevalence"},"2011/12","10R",6615,null,216450,3.06,2.99,3.13,33.777996839375305,32.724234929293601,null,3.3450000000000002,2.762,"","Y57","X24","1071","Wilson"]
[107,{"$f":"VLOOKUP(tblData[[#This Row],[Indicator ID]],'Similar 10 CCGs'!$A$6:$C$160,3,FALSE)","v":"Coronary Heart Disease Prevalence"},"2011/12","10T",3742,null,143386,2.61,2.5299999999999998,2.69,33.777996839375305,32.724234929293601,null,2.9489999999999998,2.5499999999999998,"","Y57","X24","1071","Wilson"]
[107,{"$f":"VLOOKUP(tblData[[#This Row],[Indicator ID]],'Similar 10 CCGs'!$A$6:$C$160,3,FALSE)","v":"Coronary Heart Disease Prevalence"},"2011/12","10V",8062,null,208985,3.86,3.78,3.94,33.777996839375305,32.724234929293601,null,3.7120000000000006,3.5879999999999996,"A","Y57","X24","1071","Wilson"]
[107,{"$f":"VLOOKUP(tblData[[#This Row],[Indicator ID]],'Similar 10 CCGs'!$A$6:$C$160,3,FALSE)","v":"Coronary Heart Disease Prevalence"},"2011/12","10W",2255,null,129334,1.74,1.67,1.81,33.777996839375305,32.724234929293601,null,2.9639999999999995,2.6440000000000001,"C","Y57","X24","1071","Wilson"]
[107,{"$f":"VLOOKUP(tblData[[#This Row],[Indicator ID]],'Similar 10 CCGs'!$A$6:$C$160,3,FALSE)","v":"Coronary Heart Disease Prevalence"},"2011/12","10X",7088,null,267022,2.65,2.59,2.71,33.777996839375305,32.724234929293601,null,3.1909999999999998,2.7380000000000004,"","Y57","X24","1071","Wilson"]
[107,{"$f":"VLOOKUP(tblData[[#This Row],[Indicator ID]],'Similar 10 CCGs'!$A$6:$C$160,3,FALSE)","v":"Coronary Heart Disease Prevalence"},"2011/12","10Y",6324,null,198019,3.19,3.11,3.27,33.777996839375305,32.724234929293601,null,3.07,2.7239999999999998,"B","Y57","X24","1071","Wilson"]
[107,{"$f":"VLOOKUP(tblData[[#This Row],[Indicator ID]],'Similar 10 CCGs'!$A$6:$C$160,3,FALSE)","v":"Coronary Heart Disease Prevalence"},"2011/12","11A",18673,null,539951,3.46,3.41,3.51,33.777996839375305,32.724234929293601,null,3.556,3.2160000000000002,"B","Y57","X24","1071","Wilson"]
[107,{"$f":"VLOOKUP(tblData[[#This Row],[Indicator ID]],'Similar 10 CCGs'!$A$6:$C$160,3,FALSE)","v":"Coronary Heart Disease Prevalence"},"2011/12","11C",4040,null,150550,2.68,2.6,2.76,33.777996839375305,32.724234929293601,null,2.9180000000000001,2.6619999999999999,"","Y57","X24","1071","Wilson"]
[107,{"$f":"VLOOKUP(tblData[[#This Row],[Indicator ID]],'Similar 10 CCGs'!$A$6:$C$160,3,FALSE)","v":"Coronary Heart Disease Prevalence"},"2011/12","11D",3929,null,154220,2.5499999999999998,2.4700000000000002,2.63,33.777996839375305,32.724234929293601,null,2.823,2.6719999999999997,"","Y57","X24","1071","Wilson"]
[107,{"$f":"VLOOKUP(tblData[[#This Row],[Indicator ID]],'Similar 10 CCGs'!$A$6:$C$160,3,FALSE)","v":"Coronary Heart Disease Prevalence"},"2011/12","11E",5797,null,197180,2.94,2.87,3.02,33.777996839375305,32.724234929293601,null,3.6130000000000009,3.3019999999999996,"C","Y57","X24","1071","Wilson"]
[107,{"$f":"VLOOKUP(tblData[[#This Row],[Indicator ID]],'Similar 10 CCGs'!$A$6:$C$160,3,FALSE)","v":"Coronary Heart Disease Prevalence"},"2011/12","11H",11879,null,475661,2.5,2.46,2.54,33.777996839375305,32.724234929293601,null,3.4489999999999994,2.7719999999999998,"C","Y57","X24","1071","Wilson"]
[107,{"$f":"VLOOKUP(tblData[[#This Row],[Indicator ID]],'Similar 10 CCGs'!$A$6:$C$160,3,FALSE)","v":"Coronary Heart Disease Prevalence"},"2011/12","11J",31948,null,765896,4.17,4.13,4.21,33.777996839375305,32.724234929293601,null,3.7359999999999998,3.306,"A","Y57","X24","1071","Wilson"]
[107,{"$f":"VLOOKUP(tblData[[#This Row],[Indicator ID]],'Similar 10 CCGs'!$A$6:$C$160,3,FALSE)","v":"Coronary Heart Disease Prevalence"},"2011/12","11M",19917,null,615239,3.24,3.2,3.28,33.777996839375305,32.724234929293601,null,3.4200000000000004,3.09,"C","Y57","X24","1071","Wilson"]
[107,{"$f":"VLOOKUP(tblData[[#This Row],[Indicator ID]],'Similar 10 CCGs'!$A$6:$C$160,3,FALSE)","v":"Coronary Heart Disease Prevalence"},"2011/12","11N",22375,null,555618,4.03,3.98,4.08,33.777996839375305,32.724234929293601,null,4.1290000000000004,3.6479999999999997,"B","Y57","X24","1071","Wilson"]
[107,{"$f":"VLOOKUP(tblData[[#This Row],[Indicator ID]],'Similar 10 CCGs'!$A$6:$C$160,3,FALSE)","v":"Coronary Heart Disease Prevalence"},"2011/12","11T",7961,null,211203,3.77,3.69,3.85,33.777996839375305,32.724234929293601,null,3.5659999999999998,3.2459999999999996,"","Y57","X24","1071","Wilson"]
[107,{"$f":"VLOOKUP(tblData[[#This Row],[Indicator ID]],'Similar 10 CCGs'!$A$6:$C$160,3,FALSE)","v":"Coronary Heart Disease Prevalence"},"2011/12","11X",21129,null,543498,3.89,3.84,3.94,33.777996839375305,32.724234929293601,null,3.8610000000000007,3.38,"A","Y57","X24","1071","Wilson"]
[107,{"$f":"VLOOKUP(tblData[[#This Row],[Indicator ID]],'Similar 10 CCGs'!$A$6:$C$160,3,FALSE)","v":"Coronary Heart Disease Prevalence"},"2011/12","12A",7798,null,256061,3.05,2.98,3.12,33.777996839375305,32.724234929293601,null,3.0249999999999999,2.7160000000000002,"","Y57","X24","1071","Wilson"]
[107,{"$f":"VLOOKUP(tblData[[#This Row],[Indicator ID]],'Similar 10 CCGs'!$A$6:$C$160,3,FALSE)","v":"Coronary Heart Disease Prevalence"},"2011/12","12D",6195,null,221360,2.8,2.73,2.87,33.777996839375305,32.724234929293601,null,3.03,2.7280000000000002,"C","Y57","X24","1071","Wilson"]
[107,{"$f":"VLOOKUP(tblData[[#This Row],[Indicator ID]],'Similar 10 CCGs'!$A$6:$C$160,3,FALSE)","v":"Coronary Heart Disease Prevalence"},"2011/12","12F",13639,null,331592,4.1100000000000003,4.04,4.18,33.777996839375305,41.045114319729123,null,4.6890000000000001,4.3699999999999992,"","Y54","X24","1071","Wilson"]
[107,{"$f":"VLOOKUP(tblData[[#This Row],[Indicator ID]],'Similar 10 CCGs'!$A$6:$C$160,3,FALSE)","v":"Coronary Heart Disease Prevalence"},"2011/12","13P",23304,null,727002,3.21,3.17,3.25,33.777996839375305,34.277192060661918,null,3.3370000000000006,2.8959999999999999,"","Y55","X24","1071","Wilson"]
[107,{"$f":"VLOOKUP(tblData[[#This Row],[Indicator ID]],'Similar 10 CCGs'!$A$6:$C$160,3,FALSE)","v":"Coronary Heart Disease Prevalence"},"2011/12","99A",19076,null,492711,3.87,3.82,3.92,33.777996839375305,41.045114319729123,null,3.589,2.9080000000000004,"A","Y54","X24","1071","Wilson"]
[107,{"$f":"VLOOKUP(tblData[[#This Row],[Indicator ID]],'Similar 10 CCGs'!$A$6:$C$160,3,FALSE)","v":"Coronary Heart Disease Prevalence"},"2011/12","99C",9872,null,214926,4.59,4.5,4.68,33.777996839375305,41.045114319729123,null,4.3959999999999999,4.0280000000000005,"A","Y54","X24","1071","Wilson"]
[107,{"$f":"VLOOKUP(tblData[[#This Row],[Indicator ID]],'Similar 10 CCGs'!$A$6:$C$160,3,FALSE)","v":"Coronary Heart Disease Prevalence"},"2011/12","99D",6419,null,156440,4.0999999999999996,4,4.2,33.777996839375305,34.277192060661918,null,3.7189999999999999,3.4780000000000002,"A","Y55","X24","1071","Wilson"]
[107,{"$f":"VLOOKUP(tblData[[#This Row],[Indicator ID]],'Similar 10 CCGs'!$A$6:$C$160,3,FALSE)","v":"Coronary Heart Disease Prevalence"},"2011/12","99E",8547,null,262252,3.26,3.19,3.33,33.777996839375305,34.277192060661918,null,3.1860000000000004,2.8979999999999997,"A","Y55","X24","1071","Wilson"]
[107,{"$f":"VLOOKUP(tblData[[#This Row],[Indicator ID]],'Similar 10 CCGs'!$A$6:$C$160,3,FALSE)","v":"Coronary Heart Disease Prevalence"},"2011/12","99F",6592,null,177806,3.71,3.62,3.8,33.777996839375305,34.277192060661918,null,3.6960000000000002,3.532,"B","Y55","X24","1071","Wilson"]
[107,{"$f":"VLOOKUP(tblData[[#This Row],[Indicator ID]],'Similar 10 CCGs'!$A$6:$C$160,3,FALSE)","v":"Coronary Heart Disease Prevalence"},"2011/12","99G",6235,null,186028,3.35,3.27,3.43,33.777996839375305,34.277192060661918,null,4.1650000000000009,3.7739999999999996,"C","Y55","X24","1071","Wilson"]
[107,{"$f":"VLOOKUP(tblData[[#This Row],[Indicator ID]],'Similar 10 CCGs'!$A$6:$C$160,3,FALSE)","v":"Coronary Heart Disease Prevalence"},"2011/12","99H",8812,null,289448,3.04,2.98,3.1,33.777996839375305,32.724234929293601,null,2.9580000000000006,2.7320000000000002,"","Y57","X24","1071","Wilson"]
[107,{"$f":"VLOOKUP(tblData[[#This Row],[Indicator ID]],'Similar 10 CCGs'!$A$6:$C$160,3,FALSE)","v":"Coronary Heart Disease Prevalence"},"2011/12","99J",13374,null,466241,2.87,2.82,2.92,33.777996839375305,32.724234929293601,null,3.3250000000000002,3.1459999999999999,"","Y57","X24","1071","Wilson"]
[107,{"$f":"VLOOKUP(tblData[[#This Row],[Indicator ID]],'Similar 10 CCGs'!$A$6:$C$160,3,FALSE)","v":"Coronary Heart Disease Prevalence"},"2011/12","99K",5412,null,164555,3.29,3.2,3.38,33.777996839375305,32.724234929293601,null,3.7690000000000006,3.4620000000000006,"","Y57","X24","1071","Wilson"]
[107,{"$f":"VLOOKUP(tblData[[#This Row],[Indicator ID]],'Similar 10 CCGs'!$A$6:$C$160,3,FALSE)","v":"Coronary Heart Disease Prevalence"},"2011/12","99M",5656,null,216963,2.61,2.54,2.68,33.777996839375305,32.724234929293601,null,2.835,2.6459999999999999,"C","Y57","X24","1071","Wilson"]
[107,{"$f":"VLOOKUP(tblData[[#This Row],[Indicator ID]],'Similar 10 CCGs'!$A$6:$C$160,3,FALSE)","v":"Coronary Heart Disease Prevalence"},"2011/12","99N",15483,null,471598,3.28,3.23,3.33,33.777996839375305,32.724234929293601,null,3.3319999999999999,3.0819999999999999,"A","Y57","X24","1071","Wilson"]
[107,{"$f":"VLOOKUP(tblData[[#This Row],[Indicator ID]],'Similar 10 CCGs'!$A$6:$C$160,3,FALSE)","v":"Coronary Heart Disease Prevalence"},"2011/12","99P",34092,null,898677,3.79,3.75,3.83,33.777996839375305,32.724234929293601,null,3.5820000000000007,3.0780000000000003,"A","Y57","X24","1071","Wilson"]
[107,{"$f":"VLOOKUP(tblData[[#This Row],[Indicator ID]],'Similar 10 CCGs'!$A$6:$C$160,3,FALSE)","v":"Coronary Heart Disease Prevalence"},"2011/12","99Q",11349,null,285265,3.98,3.91,4.05,33.777996839375305,32.724234929293601,null,4.218,3.7199999999999998,"","Y57","X24","1071","Wilson"]
[108,{"$f":"VLOOKUP(tblData[[#This Row],[Indicator ID]],'Similar 10 CCGs'!$A$6:$C$160,3,FALSE)","v":"Dementia Prevalence"},"2011/12","00C",794,null,105927,0.75,0.7,0.8,5.2901238654539489,5.8169904708134226,null,0.56600000000000017,0.51400000000000001,"A","Y54","X24","1081","Wilson"]
[108,{"$f":"VLOOKUP(tblData[[#This Row],[Indicator ID]],'Similar 10 CCGs'!$A$6:$C$160,3,FALSE)","v":"Dementia Prevalence"},"2011/12","00D",1865,null,287801,0.65,0.62,0.68,5.2901238654539489,5.8169904708134226,null,0.61799999999999999,0.56200000000000006,"A","Y54","X24","1081","Wilson"]
[108,{"$f":"VLOOKUP(tblData[[#This Row],[Indicator ID]],'Similar 10 CCGs'!$A$6:$C$160,3,FALSE)","v":"Dementia Prevalence"},"2011/12","00F",1423,null,206317,0.69,0.66,0.73,5.2901238654539489,5.8169904708134226,null,0.64200000000000002,0.58400000000000007,"A","Y54","X24","1081","Wilson"]
[108,{"$f":"VLOOKUP(tblData[[#This Row],[Indicator ID]],'Similar 10 CCGs'!$A$6:$C$160,3,FALSE)","v":"Dementia Prevalence"},"2011/12","00G",722,null,149906,0.48,0.45,0.52,5.2901238654539489,5.8169904708134226,null,0.52600000000000002,0.45600000000000007,"B","Y54","X24","1081","Wilson"]
[108,{"$f":"VLOOKUP(tblData[[#This Row],[Indicator ID]],'Similar 10 CCGs'!$A$6:$C$160,3,FALSE)","v":"Dementia Prevalence"},"2011/12","00H",789,null,130014,0.61,0.56999999999999995,0.65,5.2901238654539489,5.8169904708134226,null,0.56400000000000006,0.51,"B","Y54","X24","1081","Wilson"]
[108,{"$f":"VLOOKUP(tblData[[#This Row],[Indicator ID]],'Similar 10 CCGs'!$A$6:$C$160,3,FALSE)","v":"Dementia Prevalence"},"2011/12","00J",1443,null,248033,0.57999999999999996,0.55000000000000004,0.61,5.2901238654539489,5.8169904708134226,null,0.56600000000000006,0.51999999999999991,"B","Y54","X24","1081","Wilson"]
[108,{"$f":"VLOOKUP(tblData[[#This Row],[Indicator ID]],'Similar 10 CCGs'!$A$6:$C$160,3,FALSE)","v":"Dementia Prevalence"},"2011/12","00K",1539,null,288881,0.53,0.5,0.56000000000000005,5.2901238654539489,5.8169904708134226,null,0.55200000000000005,0.5,"B","Y54","X24","1081","Wilson"]
[108,{"$f":"VLOOKUP(tblData[[#This Row],[Indicator ID]],'Similar 10 CCGs'!$A$6:$C$160,3,FALSE)","v":"Dementia Prevalence"},"2011/12","00L",2038,null,321055,0.63,0.6,0.66,5.2901238654539489,5.8169904708134226,null,0.61999999999999988,0.55800000000000005,"","Y54","X24","1081","Wilson"]
[108,{"$f":"VLOOKUP(tblData[[#This Row],[Indicator ID]],'Similar 10 CCGs'!$A$6:$C$160,3,FALSE)","v":"Dementia Prevalence"},"2011/12","00M",1668,null,289937,0.57999999999999996,0.55000000000000004,0.61,5.2901238654539489,5.8169904708134226,null,0.56100000000000005,0.51800000000000002,"A","Y54","X24","1081","Wilson"]
[108,{"$f":"VLOOKUP(tblData[[#This Row],[Indicator ID]],'Similar 10 CCGs'!$A$6:$C$160,3,FALSE)","v":"Dementia Prevalence"},"2011/12","00N",1258,null,154487,0.81,0.77,0.86,5.2901238654539489,5.8169904708134226,null,0.61099999999999999,0.57400000000000007,"A","Y54","X24","1081","Wilson"]
[108,{"$f":"VLOOKUP(tblData[[#This Row],[Indicator ID]],'Similar 10 CCGs'!$A$6:$C$160,3,FALSE)","v":"Dementia Prevalence"},"2011/12","00P",1661,null,284652,0.57999999999999996,0.55000000000000004,0.61,5.2901238654539489,5.8169904708134226,null,0.61899999999999999,0.56600000000000006,"","Y54","X24","1081","Wilson"]
[108,{"$f":"VLOOKUP(tblData[[#This Row],[Indicator ID]],'Similar 10 CCGs'!$A$6:$C$160,3,FALSE)","v":"Dementia Prevalence"},"2011/12","00Q",779,null,168871,0.46,0.43,0.49,5.2901238654539489,5.8169904708134226,null,0.52,0.46600000000000003,"","Y54","X24","1081","Wilson"]
[108,{"$f":"VLOOKUP(tblData[[#This Row],[Indicator ID]],'Similar 10 CCGs'!$A$6:$C$160,3,FALSE)","v":"Dementia Prevalence"},"2011/12","00R",1129,null,172380,0.65,0.61,0.69,5.2901238654539489,5.8169904708134226,null,0.6170000000000001,0.57800000000000007,"A","Y54","X24","1081","Wilson"]
[108,{"$f":"VLOOKUP(tblData[[#This Row],[Indicator ID]],'Similar 10 CCGs'!$A$6:$C$160,3,FALSE)","v":"Dementia Prevalence"},"2011/12","00T",1601,null,296304,0.54,0.51,0.56999999999999995,5.2901238654539489,5.8169904708134226,null,0.55000000000000004,0.51600000000000001,"","Y54","X24","1081","Wilson"]
[108,{"$f":"VLOOKUP(tblData[[#This Row],[Indicator ID]],'Similar 10 CCGs'!$A$6:$C$160,3,FALSE)","v":"Dementia Prevalence"},"2011/12","00V",1008,null,188744,0.53,0.5,0.56000000000000005,5.2901238654539489,5.8169904708134226,null,0.53800000000000003,0.49000000000000005,"","Y54","X24","1081","Wilson"]
[108,{"$f":"VLOOKUP(tblData[[#This Row],[Indicator ID]],'Similar 10 CCGs'!$A$6:$C$160,3,FALSE)","v":"Dementia Prevalence"},"2011/12","00W",529,null,214540,0.25,0.23,0.27,5.2901238654539489,5.8169904708134226,null,0.40800000000000003,0.34799999999999998,"C","Y54","X24","1081","Wilson"]
[108,{"$f":"VLOOKUP(tblData[[#This Row],[Indicator ID]],'Similar 10 CCGs'!$A$6:$C$160,3,FALSE)","v":"Dementia Prevalence"},"2011/12","00X",948,null,173442,0.55000000000000004,0.52,0.59,5.2901238654539489,5.8169904708134226,null,0.57400000000000007,0.51800000000000002,"B","Y54","X24","1081","Wilson"]
[108,{"$f":"VLOOKUP(tblData[[#This Row],[Indicator ID]],'Similar 10 CCGs'!$A$6:$C$160,3,FALSE)","v":"Dementia Prevalence"},"2011/12","00Y",1320,null,240773,0.55000000000000004,0.52,0.57999999999999996,5.2901238654539489,5.8169904708134226,null,0.53,0.49000000000000005,"A","Y54","X24","1081","Wilson"]
[108,{"$f":"VLOOKUP(tblData[[#This Row],[Indicator ID]],'Similar 10 CCGs'!$A$6:$C$160,3,FALSE)","v":"Dementia Prevalence"},"2011/12","01A",2055,null,368985,0.56000000000000005,0.54,0.57999999999999996,5.2901238654539489,5.8169904708134226,null,0.55800000000000005,0.53400000000000003,"B","Y54","X24","1081","Wilson"]
[108,{"$f":"VLOOKUP(tblData[[#This Row],[Indicator ID]],'Similar 10 CCGs'!$A$6:$C$160,3,FALSE)","v":"Dementia Prevalence"},"2011/12","01C",1450,null,201866,0.72,0.68,0.76,5.2901238654539489,5.8169904708134226,null,0.60600000000000009,0.54600000000000004,"A","Y54","X24","1081","Wilson"]
[108,{"$f":"VLOOKUP(tblData[[#This Row],[Indicator ID]],'Similar 10 CCGs'!$A$6:$C$160,3,FALSE)","v":"Dementia Prevalence"},"2011/12","01D",1133,null,224196,0.51,0.48,0.54,5.2901238654539489,5.8169904708134226,null,0.55800000000000005,0.52200000000000002,"","Y54","X24","1081","Wilson"]
[108,{"$f":"VLOOKUP(tblData[[#This Row],[Indicator ID]],'Similar 10 CCGs'!$A$6:$C$160,3,FALSE)","v":"Dementia Prevalence"},"2011/12","01E",1106,null,212272,0.52,0.49,0.55000000000000004,5.2901238654539489,5.8169904708134226,null,0.57599999999999996,0.55400000000000005,"C","Y54","X24","1081","Wilson"]
[108,{"$f":"VLOOKUP(tblData[[#This Row],[Indicator ID]],'Similar 10 CCGs'!$A$6:$C$160,3,FALSE)","v":"Dementia Prevalence"},"2011/12","01F",690,null,128154,0.54,0.5,0.57999999999999996,5.2901238654539489,5.8169904708134226,null,0.55099999999999993,0.49400000000000005,"B","Y54","X24","1081","Wilson"]
[108,{"$f":"VLOOKUP(tblData[[#This Row],[Indicator ID]],'Similar 10 CCGs'!$A$6:$C$160,3,FALSE)","v":"Dementia Prevalence"},"2011/12","01G",1322,null,249243,0.53,0.5,0.56000000000000005,5.2901238654539489,5.8169904708134226,null,0.56700000000000006,0.52800000000000002,"B","Y54","X24","1081","Wilson"]
[108,{"$f":"VLOOKUP(tblData[[#This Row],[Indicator ID]],'Similar 10 CCGs'!$A$6:$C$160,3,FALSE)","v":"Dementia Prevalence"},"2011/12","01H",3996,null,525627,0.76,0.74,0.78,5.2901238654539489,5.8169904708134226,null,0.66200000000000003,0.59800000000000009,"A","Y54","X24","1081","Wilson"]
[108,{"$f":"VLOOKUP(tblData[[#This Row],[Indicator ID]],'Similar 10 CCGs'!$A$6:$C$160,3,FALSE)","v":"Dementia Prevalence"},"2011/12","01J",941,null,160868,0.57999999999999996,0.54,0.62,5.2901238654539489,5.8169904708134226,null,0.55500000000000005,0.504,"B","Y54","X24","1081","Wilson"]
[108,{"$f":"VLOOKUP(tblData[[#This Row],[Indicator ID]],'Similar 10 CCGs'!$A$6:$C$160,3,FALSE)","v":"Dementia Prevalence"},"2011/12","01K",1103,null,161065,0.68,0.64,0.72,5.2901238654539489,5.8169904708134226,null,0.52699999999999991,0.48,"A","Y54","X24","1081","Wilson"]
[108,{"$f":"VLOOKUP(tblData[[#This Row],[Indicator ID]],'Similar 10 CCGs'!$A$6:$C$160,3,FALSE)","v":"Dementia Prevalence"},"2011/12","01M",773,null,186773,0.41,0.38,0.44,5.2901238654539489,5.8169904708134226,null,0.54699999999999993,0.51,"C","Y54","X24","1081","Wilson"]
[108,{"$f":"VLOOKUP(tblData[[#This Row],[Indicator ID]],'Similar 10 CCGs'!$A$6:$C$160,3,FALSE)","v":"Dementia Prevalence"},"2011/12","01N",796,null,166809,0.48,0.45,0.51,5.2901238654539489,5.8169904708134226,null,0.54,0.49000000000000005,"B","Y54","X24","1081","Wilson"]
[108,{"$f":"VLOOKUP(tblData[[#This Row],[Indicator ID]],'Similar 10 CCGs'!$A$6:$C$160,3,FALSE)","v":"Dementia Prevalence"},"2011/12","01R",966,null,174182,0.55000000000000004,0.52,0.59,5.2901238654539489,5.8169904708134226,null,0.56500000000000006,0.51,"B","Y54","X24","1081","Wilson"]
[108,{"$f":"VLOOKUP(tblData[[#This Row],[Indicator ID]],'Similar 10 CCGs'!$A$6:$C$160,3,FALSE)","v":"Dementia Prevalence"},"2011/12","01T",995,null,155295,0.64,0.6,0.68,5.2901238654539489,5.8169904708134226,null,0.61999999999999988,0.56200000000000006,"B","Y54","X24","1081","Wilson"]
[108,{"$f":"VLOOKUP(tblData[[#This Row],[Indicator ID]],'Similar 10 CCGs'!$A$6:$C$160,3,FALSE)","v":"Dementia Prevalence"},"2011/12","01V",1038,null,121921,0.85,0.8,0.9,5.2901238654539489,5.8169904708134226,null,0.70799999999999996,0.60600000000000009,"A","Y54","X24","1081","Wilson"]
[108,{"$f":"VLOOKUP(tblData[[#This Row],[Indicator ID]],'Similar 10 CCGs'!$A$6:$C$160,3,FALSE)","v":"Dementia Prevalence"},"2011/12","01W",1843,null,299243,0.62,0.59,0.65,5.2901238654539489,5.8169904708134226,null,0.57599999999999985,0.53400000000000003,"A","Y54","X24","1081","Wilson"]
[108,{"$f":"VLOOKUP(tblData[[#This Row],[Indicator ID]],'Similar 10 CCGs'!$A$6:$C$160,3,FALSE)","v":"Dementia Prevalence"},"2011/12","01X",1094,null,192980,0.56999999999999995,0.54,0.6,5.2901238654539489,5.8169904708134226,null,0.61,0.54400000000000004,"B","Y54","X24","1081","Wilson"]
[108,{"$f":"VLOOKUP(tblData[[#This Row],[Indicator ID]],'Similar 10 CCGs'!$A$6:$C$160,3,FALSE)","v":"Dementia Prevalence"},"2011/12","01Y",1335,null,240654,0.55000000000000004,0.52,0.57999999999999996,5.2901238654539489,5.8169904708134226,null,0.54600000000000004,0.502,"B","Y54","X24","1081","Wilson"]
[108,{"$f":"VLOOKUP(tblData[[#This Row],[Indicator ID]],'Similar 10 CCGs'!$A$6:$C$160,3,FALSE)","v":"Dementia Prevalence"},"2011/12","02A",1157,null,231440,0.5,0.47,0.53,5.2901238654539489,5.8169904708134226,null,0.53899999999999992,0.502,"B","Y54","X24","1081","Wilson"]
[108,{"$f":"VLOOKUP(tblData[[#This Row],[Indicator ID]],'Similar 10 CCGs'!$A$6:$C$160,3,FALSE)","v":"Dementia Prevalence"},"2011/12","02D",574,null,102110,0.56000000000000005,0.52,0.61,5.2901238654539489,5.8169904708134226,null,0.55899999999999994,0.50600000000000001,"B","Y54","X24","1081","Wilson"]
[108,{"$f":"VLOOKUP(tblData[[#This Row],[Indicator ID]],'Similar 10 CCGs'!$A$6:$C$160,3,FALSE)","v":"Dementia Prevalence"},"2011/12","02E",1173,null,208781,0.56000000000000005,0.53,0.59,5.2901238654539489,5.8169904708134226,null,0.51300000000000012,0.48,"A","Y54","X24","1081","Wilson"]
[108,{"$f":"VLOOKUP(tblData[[#This Row],[Indicator ID]],'Similar 10 CCGs'!$A$6:$C$160,3,FALSE)","v":"Dementia Prevalence"},"2011/12","02F",1483,null,254295,0.57999999999999996,0.55000000000000004,0.61,5.2901238654539489,5.8169904708134226,null,0.61899999999999999,0.55000000000000004,"B","Y54","X24","1081","Wilson"]
[108,{"$f":"VLOOKUP(tblData[[#This Row],[Indicator ID]],'Similar 10 CCGs'!$A$6:$C$160,3,FALSE)","v":"Dementia Prevalence"},"2011/12","02G",669,null,111867,0.6,0.56000000000000005,0.65,5.2901238654539489,5.8169904708134226,null,0.56400000000000006,0.52600000000000002,"B","Y54","X24","1081","Wilson"]
[108,{"$f":"VLOOKUP(tblData[[#This Row],[Indicator ID]],'Similar 10 CCGs'!$A$6:$C$160,3,FALSE)","v":"Dementia Prevalence"},"2011/12","02H",1554,null,320354,0.49,0.47,0.51,5.2901238654539489,5.8169904708134226,null,0.57999999999999996,0.54,"C","Y54","X24","1081","Wilson"]
[108,{"$f":"VLOOKUP(tblData[[#This Row],[Indicator ID]],'Similar 10 CCGs'!$A$6:$C$160,3,FALSE)","v":"Dementia Prevalence"},"2011/12","02M",1144,null,151706,0.75,0.71,0.79,5.2901238654539489,5.8169904708134226,null,0.75300000000000011,0.65999999999999992,"A","Y54","X24","1081","Wilson"]
[108,{"$f":"VLOOKUP(tblData[[#This Row],[Indicator ID]],'Similar 10 CCGs'!$A$6:$C$160,3,FALSE)","v":"Dementia Prevalence"},"2011/12","02N",1106,null,155635,0.71,0.67,0.75,5.2901238654539489,5.8169904708134226,null,0.58899999999999997,0.50600000000000001,"A","Y54","X24","1081","Wilson"]
[108,{"$f":"VLOOKUP(tblData[[#This Row],[Indicator ID]],'Similar 10 CCGs'!$A$6:$C$160,3,FALSE)","v":"Dementia Prevalence"},"2011/12","02P",1239,null,245317,0.51,0.48,0.54,5.2901238654539489,5.8169904708134226,null,0.58100000000000007,0.53400000000000003,"","Y54","X24","1081","Wilson"]
[108,{"$f":"VLOOKUP(tblData[[#This Row],[Indicator ID]],'Similar 10 CCGs'!$A$6:$C$160,3,FALSE)","v":"Dementia Prevalence"},"2011/12","02Q",692,null,111651,0.62,0.57999999999999996,0.67,5.2901238654539489,5.8169904708134226,null,0.58600000000000008,0.51400000000000001,"A","Y54","X24","1081","Wilson"]
[108,{"$f":"VLOOKUP(tblData[[#This Row],[Indicator ID]],'Similar 10 CCGs'!$A$6:$C$160,3,FALSE)","v":"Dementia Prevalence"},"2011/12","02R",2007,null,330270,0.61,0.57999999999999996,0.64,5.2901238654539489,5.8169904708134226,null,0.52700000000000002,0.49000000000000005,"A","Y54","X24","1081","Wilson"]
[108,{"$f":"VLOOKUP(tblData[[#This Row],[Indicator ID]],'Similar 10 CCGs'!$A$6:$C$160,3,FALSE)","v":"Dementia Prevalence"},"2011/12","02T",1171,null,212976,0.55000000000000004,0.52,0.57999999999999996,5.2901238654539489,5.8169904708134226,null,0.55199999999999994,0.504,"B","Y54","X24","1081","Wilson"]
[108,{"$f":"VLOOKUP(tblData[[#This Row],[Indicator ID]],'Similar 10 CCGs'!$A$6:$C$160,3,FALSE)","v":"Dementia Prevalence"},"2011/12","02V",1064,null,201657,0.53,0.5,0.56000000000000005,5.2901238654539489,5.8169904708134226,null,0.56299999999999994,0.52200000000000002,"","Y54","X24","1081","Wilson"]
[108,{"$f":"VLOOKUP(tblData[[#This Row],[Indicator ID]],'Similar 10 CCGs'!$A$6:$C$160,3,FALSE)","v":"Dementia Prevalence"},"2011/12","02W",281,null,118636,0.24,0.21,0.27,5.2901238654539489,5.8169904708134226,null,0.40600000000000003,0.31,"C","Y54","X24","1081","Wilson"]
[108,{"$f":"VLOOKUP(tblData[[#This Row],[Indicator ID]],'Similar 10 CCGs'!$A$6:$C$160,3,FALSE)","v":"Dementia Prevalence"},"2011/12","02X",1986,null,308637,0.64,0.61,0.67,5.2901238654539489,5.8169904708134226,null,0.60199999999999998,0.53200000000000003,"A","Y54","X24","1081","Wilson"]
[108,{"$f":"VLOOKUP(tblData[[#This Row],[Indicator ID]],'Similar 10 CCGs'!$A$6:$C$160,3,FALSE)","v":"Dementia Prevalence"},"2011/12","02Y",1649,null,301167,0.55000000000000004,0.52,0.57999999999999996,5.2901238654539489,5.8169904708134226,null,0.63900000000000001,0.59399999999999997,"","Y54","X24","1081","Wilson"]
[108,{"$f":"VLOOKUP(tblData[[#This Row],[Indicator ID]],'Similar 10 CCGs'!$A$6:$C$160,3,FALSE)","v":"Dementia Prevalence"},"2011/12","03A",1298,null,239050,0.54,0.51,0.56999999999999995,5.2901238654539489,5.8169904708134226,null,0.52900000000000003,0.48399999999999999,"B","Y54","X24","1081","Wilson"]
[108,{"$f":"VLOOKUP(tblData[[#This Row],[Indicator ID]],'Similar 10 CCGs'!$A$6:$C$160,3,FALSE)","v":"Dementia Prevalence"},"2011/12","03C",1768,null,359415,0.49,0.47,0.51,5.2901238654539489,5.8169904708134226,null,0.52200000000000002,0.44800000000000006,"","Y54","X24","1081","Wilson"]
[108,{"$f":"VLOOKUP(tblData[[#This Row],[Indicator ID]],'Similar 10 CCGs'!$A$6:$C$160,3,FALSE)","v":"Dementia Prevalence"},"2011/12","03D",943,null,141465,0.67,0.63,0.71,5.2901238654539489,5.8169904708134226,null,0.625,0.54800000000000004,"A","Y54","X24","1081","Wilson"]
[108,{"$f":"VLOOKUP(tblData[[#This Row],[Indicator ID]],'Similar 10 CCGs'!$A$6:$C$160,3,FALSE)","v":"Dementia Prevalence"},"2011/12","03E",1236,null,159597,0.77,0.73,0.81,5.2901238654539489,5.8169904708134226,null,0.60799999999999998,0.56200000000000006,"A","Y54","X24","1081","Wilson"]
[108,{"$f":"VLOOKUP(tblData[[#This Row],[Indicator ID]],'Similar 10 CCGs'!$A$6:$C$160,3,FALSE)","v":"Dementia Prevalence"},"2011/12","03F",1289,null,290050,0.44,0.42,0.46,5.2901238654539489,5.8169904708134226,null,0.56199999999999994,0.53200000000000003,"C","Y54","X24","1081","Wilson"]
[108,{"$f":"VLOOKUP(tblData[[#This Row],[Indicator ID]],'Similar 10 CCGs'!$A$6:$C$160,3,FALSE)","v":"Dementia Prevalence"},"2011/12","03G",1525,null,258661,0.59,0.56000000000000005,0.62,5.2901238654539489,5.8169904708134226,null,0.54600000000000004,0.52800000000000002,"A","Y54","X24","1081","Wilson"]
[108,{"$f":"VLOOKUP(tblData[[#This Row],[Indicator ID]],'Similar 10 CCGs'!$A$6:$C$160,3,FALSE)","v":"Dementia Prevalence"},"2011/12","03H",1011,null,167731,0.6,0.56000000000000005,0.64,5.2901238654539489,5.8169904708134226,null,0.59400000000000008,0.52600000000000002,"B","Y54","X24","1081","Wilson"]
[108,{"$f":"VLOOKUP(tblData[[#This Row],[Indicator ID]],'Similar 10 CCGs'!$A$6:$C$160,3,FALSE)","v":"Dementia Prevalence"},"2011/12","03J",946,null,185008,0.51,0.48,0.54,5.2901238654539489,5.8169904708134226,null,0.504,0.438,"A","Y54","X24","1081","Wilson"]
[108,{"$f":"VLOOKUP(tblData[[#This Row],[Indicator ID]],'Similar 10 CCGs'!$A$6:$C$160,3,FALSE)","v":"Dementia Prevalence"},"2011/12","03K",904,null,168661,0.54,0.51,0.57999999999999996,5.2901238654539489,5.8169904708134226,null,0.57800000000000007,0.51999999999999991,"","Y54","X24","1081","Wilson"]
[108,{"$f":"VLOOKUP(tblData[[#This Row],[Indicator ID]],'Similar 10 CCGs'!$A$6:$C$160,3,FALSE)","v":"Dementia Prevalence"},"2011/12","03L",1718,null,254708,0.67,0.64,0.7,5.2901238654539489,5.8169904708134226,null,0.55800000000000005,0.52400000000000002,"A","Y54","X24","1081","Wilson"]
[108,{"$f":"VLOOKUP(tblData[[#This Row],[Indicator ID]],'Similar 10 CCGs'!$A$6:$C$160,3,FALSE)","v":"Dementia Prevalence"},"2011/12","03M",779,null,118017,0.66,0.62,0.71,5.2901238654539489,5.8169904708134226,null,0.70499999999999996,0.59400000000000008,"B","Y54","X24","1081","Wilson"]
[108,{"$f":"VLOOKUP(tblData[[#This Row],[Indicator ID]],'Similar 10 CCGs'!$A$6:$C$160,3,FALSE)","v":"Dementia Prevalence"},"2011/12","03N",4130,null,565185,0.73,0.71,0.75,5.2901238654539489,5.8169904708134226,null,0.53100000000000003,0.48200000000000004,"A","Y54","X24","1081","Wilson"]
[108,{"$f":"VLOOKUP(tblData[[#This Row],[Indicator ID]],'Similar 10 CCGs'!$A$6:$C$160,3,FALSE)","v":"Dementia Prevalence"},"2011/12","03Q",1854,null,340298,0.54,0.52,0.56999999999999995,5.2901238654539489,5.8169904708134226,null,0.55999999999999994,0.53,"","Y54","X24","1081","Wilson"]
[108,{"$f":"VLOOKUP(tblData[[#This Row],[Indicator ID]],'Similar 10 CCGs'!$A$6:$C$160,3,FALSE)","v":"Dementia Prevalence"},"2011/12","03R",1946,null,354100,0.55000000000000004,0.53,0.56999999999999995,5.2901238654539489,5.8169904708134226,null,0.57300000000000006,0.52200000000000002,"","Y54","X24","1081","Wilson"]
[108,{"$f":"VLOOKUP(tblData[[#This Row],[Indicator ID]],'Similar 10 CCGs'!$A$6:$C$160,3,FALSE)","v":"Dementia Prevalence"},"2011/12","03T",1544,null,241613,0.64,0.61,0.67,5.2901238654539489,5.2927484967072553,null,0.73399999999999999,0.61,"B","Y55","X24","1081","Wilson"]
[108,{"$f":"VLOOKUP(tblData[[#This Row],[Indicator ID]],'Similar 10 CCGs'!$A$6:$C$160,3,FALSE)","v":"Dementia Prevalence"},"2011/12","03V",335,null,69200,0.48,0.43,0.53,5.2901238654539489,5.2927484967072553,null,0.54600000000000004,0.50400000000000011,"","Y55","X24","1081","Wilson"]
[108,{"$f":"VLOOKUP(tblData[[#This Row],[Indicator ID]],'Similar 10 CCGs'!$A$6:$C$160,3,FALSE)","v":"Dementia Prevalence"},"2011/12","03W",1748,null,315168,0.55000000000000004,0.52,0.57999999999999996,5.2901238654539489,5.2927484967072553,null,0.59,0.55000000000000004,"B","Y55","X24","1081","Wilson"]
[108,{"$f":"VLOOKUP(tblData[[#This Row],[Indicator ID]],'Similar 10 CCGs'!$A$6:$C$160,3,FALSE)","v":"Dementia Prevalence"},"2011/12","03X",626,null,97292,0.64,0.59,0.69,5.2901238654539489,5.2927484967072553,null,0.59899999999999998,0.53,"B","Y55","X24","1081","Wilson"]
[108,{"$f":"VLOOKUP(tblData[[#This Row],[Indicator ID]],'Similar 10 CCGs'!$A$6:$C$160,3,FALSE)","v":"Dementia Prevalence"},"2011/12","03Y",669,null,102317,0.65,0.6,0.7,5.2901238654539489,5.2927484967072553,null,0.59800000000000009,0.52200000000000002,"A","Y55","X24","1081","Wilson"]
[108,{"$f":"VLOOKUP(tblData[[#This Row],[Indicator ID]],'Similar 10 CCGs'!$A$6:$C$160,3,FALSE)","v":"Dementia Prevalence"},"2011/12","04C",1616,null,373376,0.43,0.41,0.45,5.2901238654539489,5.2927484967072553,null,0.38899999999999996,0.30800000000000005,"","Y55","X24","1081","Wilson"]
[108,{"$f":"VLOOKUP(tblData[[#This Row],[Indicator ID]],'Similar 10 CCGs'!$A$6:$C$160,3,FALSE)","v":"Dementia Prevalence"},"2011/12","04D",1396,null,226047,0.62,0.59,0.65,5.2901238654539489,5.2927484967072553,null,0.55300000000000005,0.52200000000000002,"A","Y55","X24","1081","Wilson"]
[108,{"$f":"VLOOKUP(tblData[[#This Row],[Indicator ID]],'Similar 10 CCGs'!$A$6:$C$160,3,FALSE)","v":"Dementia Prevalence"},"2011/12","04E",1066,null,183762,0.57999999999999996,0.55000000000000004,0.62,5.2901238654539489,5.2927484967072553,null,0.59400000000000008,0.53,"B","Y55","X24","1081","Wilson"]
[108,{"$f":"VLOOKUP(tblData[[#This Row],[Indicator ID]],'Similar 10 CCGs'!$A$6:$C$160,3,FALSE)","v":"Dementia Prevalence"},"2011/12","04F",862,null,265437,0.32,0.3,0.34,5.2901238654539489,5.2927484967072553,null,0.46600000000000003,0.41399999999999998,"C","Y55","X24","1081","Wilson"]
[108,{"$f":"VLOOKUP(tblData[[#This Row],[Indicator ID]],'Similar 10 CCGs'!$A$6:$C$160,3,FALSE)","v":"Dementia Prevalence"},"2011/12","04G",3378,null,628635,0.54,0.52,0.56000000000000005,5.2901238654539489,5.2927484967072553,null,0.52600000000000002,0.47199999999999998,"B","Y55","X24","1081","Wilson"]
[108,{"$f":"VLOOKUP(tblData[[#This Row],[Indicator ID]],'Similar 10 CCGs'!$A$6:$C$160,3,FALSE)","v":"Dementia Prevalence"},"2011/12","04H",560,null,128014,0.44,0.41,0.48,5.2901238654539489,5.2927484967072553,null,0.57899999999999996,0.54799999999999993,"C","Y55","X24","1081","Wilson"]
[108,{"$f":"VLOOKUP(tblData[[#This Row],[Indicator ID]],'Similar 10 CCGs'!$A$6:$C$160,3,FALSE)","v":"Dementia Prevalence"},"2011/12","04J",1823,null,279817,0.65,0.62,0.68,5.2901238654539489,5.2927484967072553,null,0.57499999999999996,0.51400000000000001,"A","Y55","X24","1081","Wilson"]
[108,{"$f":"VLOOKUP(tblData[[#This Row],[Indicator ID]],'Similar 10 CCGs'!$A$6:$C$160,3,FALSE)","v":"Dementia Prevalence"},"2011/12","04K",1519,null,347901,0.44,0.42,0.46,5.2901238654539489,5.2927484967072553,null,0.48499999999999999,0.39200000000000002,"B","Y55","X24","1081","Wilson"]
[108,{"$f":"VLOOKUP(tblData[[#This Row],[Indicator ID]],'Similar 10 CCGs'!$A$6:$C$160,3,FALSE)","v":"Dementia Prevalence"},"2011/12","04L",971,null,144732,0.67,0.63,0.71,5.2901238654539489,5.2927484967072553,null,0.6,0.53,"A","Y55","X24","1081","Wilson"]
[108,{"$f":"VLOOKUP(tblData[[#This Row],[Indicator ID]],'Similar 10 CCGs'!$A$6:$C$160,3,FALSE)","v":"Dementia Prevalence"},"2011/12","04M",747,null,93461,0.8,0.74,0.86,5.2901238654539489,5.2927484967072553,null,0.63300000000000001,0.55000000000000004,"A","Y55","X24","1081","Wilson"]
[108,{"$f":"VLOOKUP(tblData[[#This Row],[Indicator ID]],'Similar 10 CCGs'!$A$6:$C$160,3,FALSE)","v":"Dementia Prevalence"},"2011/12","04N",760,null,121763,0.62,0.57999999999999996,0.67,5.2901238654539489,5.2927484967072553,null,0.58699999999999997,0.55400000000000005,"B","Y55","X24","1081","Wilson"]
[108,{"$f":"VLOOKUP(tblData[[#This Row],[Indicator ID]],'Similar 10 CCGs'!$A$6:$C$160,3,FALSE)","v":"Dementia Prevalence"},"2011/12","04Q",771,null,129209,0.6,0.56000000000000005,0.64,5.2901238654539489,5.2927484967072553,null,0.57600000000000007,0.52200000000000002,"B","Y55","X24","1081","Wilson"]
[108,{"$f":"VLOOKUP(tblData[[#This Row],[Indicator ID]],'Similar 10 CCGs'!$A$6:$C$160,3,FALSE)","v":"Dementia Prevalence"},"2011/12","04R",2773,null,524920,0.53,0.51,0.55000000000000004,5.2901238654539489,5.2927484967072553,null,0.55499999999999994,0.49800000000000005,"B","Y55","X24","1081","Wilson"]
[108,{"$f":"VLOOKUP(tblData[[#This Row],[Indicator ID]],'Similar 10 CCGs'!$A$6:$C$160,3,FALSE)","v":"Dementia Prevalence"},"2011/12","04V",1841,null,368905,0.5,0.48,0.52,5.2901238654539489,5.2927484967072553,null,0.55800000000000005,0.53600000000000003,"C","Y55","X24","1081","Wilson"]
[108,{"$f":"VLOOKUP(tblData[[#This Row],[Indicator ID]],'Similar 10 CCGs'!$A$6:$C$160,3,FALSE)","v":"Dementia Prevalence"},"2011/12","04X",1372,null,245730,0.56000000000000005,0.53,0.59,5.2901238654539489,5.2927484967072553,null,0.46100000000000002,0.38800000000000001,"A","Y55","X24","1081","Wilson"]
[108,{"$f":"VLOOKUP(tblData[[#This Row],[Indicator ID]],'Similar 10 CCGs'!$A$6:$C$160,3,FALSE)","v":"Dementia Prevalence"},"2011/12","04Y",675,null,131791,0.51,0.47,0.55000000000000004,5.2901238654539489,5.2927484967072553,null,0.58799999999999997,0.53999999999999992,"","Y55","X24","1081","Wilson"]
[108,{"$f":"VLOOKUP(tblData[[#This Row],[Indicator ID]],'Similar 10 CCGs'!$A$6:$C$160,3,FALSE)","v":"Dementia Prevalence"},"2011/12","05A",2401,null,463980,0.52,0.5,0.54,5.2901238654539489,5.2927484967072553,null,0.52200000000000002,0.45600000000000007,"","Y55","X24","1081","Wilson"]
[108,{"$f":"VLOOKUP(tblData[[#This Row],[Indicator ID]],'Similar 10 CCGs'!$A$6:$C$160,3,FALSE)","v":"Dementia Prevalence"},"2011/12","05C",1647,null,313830,0.52,0.5,0.55000000000000004,5.2901238654539489,5.2927484967072553,null,0.56799999999999995,0.50600000000000001,"","Y55","X24","1081","Wilson"]
[108,{"$f":"VLOOKUP(tblData[[#This Row],[Indicator ID]],'Similar 10 CCGs'!$A$6:$C$160,3,FALSE)","v":"Dementia Prevalence"},"2011/12","05D",709,null,133795,0.53,0.49,0.56999999999999995,5.2901238654539489,5.2927484967072553,null,0.52399999999999991,0.48200000000000004,"B","Y55","X24","1081","Wilson"]
[108,{"$f":"VLOOKUP(tblData[[#This Row],[Indicator ID]],'Similar 10 CCGs'!$A$6:$C$160,3,FALSE)","v":"Dementia Prevalence"},"2011/12","05F",1020,null,181868,0.56000000000000005,0.53,0.6,5.2901238654539489,5.2927484967072553,null,0.66200000000000003,0.57599999999999996,"","Y55","X24","1081","Wilson"]
[108,{"$f":"VLOOKUP(tblData[[#This Row],[Indicator ID]],'Similar 10 CCGs'!$A$6:$C$160,3,FALSE)","v":"Dementia Prevalence"},"2011/12","05G",1219,null,213223,0.56999999999999995,0.54,0.6,5.2901238654539489,5.2927484967072553,null,0.57400000000000007,0.51400000000000001,"","Y55","X24","1081","Wilson"]
[108,{"$f":"VLOOKUP(tblData[[#This Row],[Indicator ID]],'Similar 10 CCGs'!$A$6:$C$160,3,FALSE)","v":"Dementia Prevalence"},"2011/12","05H",967,null,183653,0.53,0.5,0.56000000000000005,5.2901238654539489,5.2927484967072553,null,0.56500000000000017,0.52200000000000002,"","Y55","X24","1081","Wilson"]
[108,{"$f":"VLOOKUP(tblData[[#This Row],[Indicator ID]],'Similar 10 CCGs'!$A$6:$C$160,3,FALSE)","v":"Dementia Prevalence"},"2011/12","05J",969,null,171390,0.56999999999999995,0.54,0.61,5.2901238654539489,5.2927484967072553,null,0.54400000000000004,0.49399999999999994,"B","Y55","X24","1081","Wilson"]
[108,{"$f":"VLOOKUP(tblData[[#This Row],[Indicator ID]],'Similar 10 CCGs'!$A$6:$C$160,3,FALSE)","v":"Dementia Prevalence"},"2011/12","05L",2293,null,531050,0.43,0.41,0.45,5.2901238654539489,5.2927484967072553,null,0.43599999999999994,0.35399999999999998,"","Y55","X24","1081","Wilson"]
[108,{"$f":"VLOOKUP(tblData[[#This Row],[Indicator ID]],'Similar 10 CCGs'!$A$6:$C$160,3,FALSE)","v":"Dementia Prevalence"},"2011/12","05N",2021,null,297973,0.68,0.65,0.71,5.2901238654539489,5.2927484967072553,null,0.60500000000000009,0.56399999999999995,"A","Y55","X24","1081","Wilson"]
[108,{"$f":"VLOOKUP(tblData[[#This Row],[Indicator ID]],'Similar 10 CCGs'!$A$6:$C$160,3,FALSE)","v":"Dementia Prevalence"},"2011/12","05P",1277,null,235280,0.54,0.51,0.56999999999999995,5.2901238654539489,5.2927484967072553,null,0.55400000000000005,0.49800000000000005,"B","Y55","X24","1081","Wilson"]
[108,{"$f":"VLOOKUP(tblData[[#This Row],[Indicator ID]],'Similar 10 CCGs'!$A$6:$C$160,3,FALSE)","v":"Dementia Prevalence"},"2011/12","05Q",1024,null,209085,0.49,0.46,0.52,5.2901238654539489,5.2927484967072553,null,0.57200000000000006,0.51999999999999991,"C","Y55","X24","1081","Wilson"]
[108,{"$f":"VLOOKUP(tblData[[#This Row],[Indicator ID]],'Similar 10 CCGs'!$A$6:$C$160,3,FALSE)","v":"Dementia Prevalence"},"2011/12","05R",1606,null,271512,0.59,0.56000000000000005,0.62,5.2901238654539489,5.2927484967072553,null,0.621,0.55400000000000005,"","Y55","X24","1081","Wilson"]
[108,{"$f":"VLOOKUP(tblData[[#This Row],[Indicator ID]],'Similar 10 CCGs'!$A$6:$C$160,3,FALSE)","v":"Dementia Prevalence"},"2011/12","05T",1574,null,292433,0.54,0.51,0.56999999999999995,5.2901238654539489,5.2927484967072553,null,0.59400000000000008,0.55400000000000005,"","Y55","X24","1081","Wilson"]
[108,{"$f":"VLOOKUP(tblData[[#This Row],[Indicator ID]],'Similar 10 CCGs'!$A$6:$C$160,3,FALSE)","v":"Dementia Prevalence"},"2011/12","05V",723,null,144593,0.5,0.46,0.54,5.2901238654539489,5.2927484967072553,null,0.61199999999999999,0.56000000000000005,"C","Y55","X24","1081","Wilson"]
[108,{"$f":"VLOOKUP(tblData[[#This Row],[Indicator ID]],'Similar 10 CCGs'!$A$6:$C$160,3,FALSE)","v":"Dementia Prevalence"},"2011/12","05W",1601,null,278090,0.57999999999999996,0.55000000000000004,0.61,5.2901238654539489,5.2927484967072553,null,0.55700000000000005,0.51600000000000001,"B","Y55","X24","1081","Wilson"]
[108,{"$f":"VLOOKUP(tblData[[#This Row],[Indicator ID]],'Similar 10 CCGs'!$A$6:$C$160,3,FALSE)","v":"Dementia Prevalence"},"2011/12","05X",693,null,172024,0.4,0.37,0.43,5.2901238654539489,5.2927484967072553,null,0.53900000000000003,0.5,"C","Y55","X24","1081","Wilson"]
[108,{"$f":"VLOOKUP(tblData[[#This Row],[Indicator ID]],'Similar 10 CCGs'!$A$6:$C$160,3,FALSE)","v":"Dementia Prevalence"},"2011/12","05Y",1195,null,270491,0.44,0.42,0.47,5.2901238654539489,5.2927484967072553,null,0.56699999999999995,0.53,"C","Y55","X24","1081","Wilson"]
[108,{"$f":"VLOOKUP(tblData[[#This Row],[Indicator ID]],'Similar 10 CCGs'!$A$6:$C$160,3,FALSE)","v":"Dementia Prevalence"},"2011/12","06A",1413,null,260354,0.54,0.51,0.56999999999999995,5.2901238654539489,5.2927484967072553,null,0.52600000000000002,0.46200000000000002,"B","Y55","X24","1081","Wilson"]
[108,{"$f":"VLOOKUP(tblData[[#This Row],[Indicator ID]],'Similar 10 CCGs'!$A$6:$C$160,3,FALSE)","v":"Dementia Prevalence"},"2011/12","06D",699,null,112154,0.62,0.57999999999999996,0.67,5.2901238654539489,5.2927484967072553,null,0.627,0.56399999999999995,"B","Y55","X24","1081","Wilson"]
[108,{"$f":"VLOOKUP(tblData[[#This Row],[Indicator ID]],'Similar 10 CCGs'!$A$6:$C$160,3,FALSE)","v":"Dementia Prevalence"},"2011/12","06F",2038,null,436707,0.47,0.45,0.49,5.2901238654539489,5.2927484967072553,null,0.5149999999999999,0.49000000000000005,"","Y55","X24","1081","Wilson"]
[108,{"$f":"VLOOKUP(tblData[[#This Row],[Indicator ID]],'Similar 10 CCGs'!$A$6:$C$160,3,FALSE)","v":"Dementia Prevalence"},"2011/12","06H",4173,null,862150,0.48,0.47,0.49,5.2901238654539489,5.2927484967072553,null,0.58699999999999997,0.496,"","Y55","X24","1081","Wilson"]
[108,{"$f":"VLOOKUP(tblData[[#This Row],[Indicator ID]],'Similar 10 CCGs'!$A$6:$C$160,3,FALSE)","v":"Dementia Prevalence"},"2011/12","06K",2783,null,566468,0.49,0.47,0.51,5.2901238654539489,5.2927484967072553,null,0.54900000000000004,0.49199999999999999,"","Y55","X24","1081","Wilson"]
[108,{"$f":"VLOOKUP(tblData[[#This Row],[Indicator ID]],'Similar 10 CCGs'!$A$6:$C$160,3,FALSE)","v":"Dementia Prevalence"},"2011/12","06L",2429,null,387143,0.63,0.61,0.66,5.2901238654539489,5.2927484967072553,null,0.57000000000000006,0.52600000000000002,"B","Y55","X24","1081","Wilson"]
[108,{"$f":"VLOOKUP(tblData[[#This Row],[Indicator ID]],'Similar 10 CCGs'!$A$6:$C$160,3,FALSE)","v":"Dementia Prevalence"},"2011/12","06M",1864,null,230830,0.81,0.77,0.85,5.2901238654539489,5.2927484967072553,null,0.64900000000000002,0.55600000000000005,"A","Y55","X24","1081","Wilson"]
[108,{"$f":"VLOOKUP(tblData[[#This Row],[Indicator ID]],'Similar 10 CCGs'!$A$6:$C$160,3,FALSE)","v":"Dementia Prevalence"},"2011/12","06N",2693,null,599780,0.45,0.43,0.47,5.2901238654539489,5.2927484967072553,null,0.53400000000000003,0.49199999999999999,"","Y55","X24","1081","Wilson"]
[108,{"$f":"VLOOKUP(tblData[[#This Row],[Indicator ID]],'Similar 10 CCGs'!$A$6:$C$160,3,FALSE)","v":"Dementia Prevalence"},"2011/12","06P",707,null,213020,0.33,0.31,0.36,5.2901238654539489,5.2927484967072553,null,0.43600000000000005,0.33400000000000002,"","Y55","X24","1081","Wilson"]
[108,{"$f":"VLOOKUP(tblData[[#This Row],[Indicator ID]],'Similar 10 CCGs'!$A$6:$C$160,3,FALSE)","v":"Dementia Prevalence"},"2011/12","06Q",2013,null,379032,0.53,0.51,0.55000000000000004,5.2901238654539489,5.2927484967072553,null,0.53899999999999992,0.48,"","Y55","X24","1081","Wilson"]
[108,{"$f":"VLOOKUP(tblData[[#This Row],[Indicator ID]],'Similar 10 CCGs'!$A$6:$C$160,3,FALSE)","v":"Dementia Prevalence"},"2011/12","06T",1772,null,327531,0.54,0.52,0.56999999999999995,5.2901238654539489,5.2927484967072553,null,0.63000000000000012,0.54200000000000004,"","Y55","X24","1081","Wilson"]
[108,{"$f":"VLOOKUP(tblData[[#This Row],[Indicator ID]],'Similar 10 CCGs'!$A$6:$C$160,3,FALSE)","v":"Dementia Prevalence"},"2011/12","06V",1335,null,167483,0.8,0.76,0.84,5.2901238654539489,5.2927484967072553,null,0.69500000000000006,0.59599999999999997,"A","Y55","X24","1081","Wilson"]
[108,{"$f":"VLOOKUP(tblData[[#This Row],[Indicator ID]],'Similar 10 CCGs'!$A$6:$C$160,3,FALSE)","v":"Dementia Prevalence"},"2011/12","06W",1048,null,208562,0.5,0.47,0.53,5.2901238654539489,5.2927484967072553,null,0.58299999999999996,0.53,"C","Y55","X24","1081","Wilson"]
[108,{"$f":"VLOOKUP(tblData[[#This Row],[Indicator ID]],'Similar 10 CCGs'!$A$6:$C$160,3,FALSE)","v":"Dementia Prevalence"},"2011/12","06Y",1393,null,220178,0.63,0.6,0.66,5.2901238654539489,5.2927484967072553,null,0.59500000000000008,0.55600000000000005,"B","Y55","X24","1081","Wilson"]
[108,{"$f":"VLOOKUP(tblData[[#This Row],[Indicator ID]],'Similar 10 CCGs'!$A$6:$C$160,3,FALSE)","v":"Dementia Prevalence"},"2011/12","07G",617,null,161318,0.38,0.35,0.41,5.2901238654539489,5.2927484967072553,null,0.45800000000000007,0.39799999999999996,"","Y55","X24","1081","Wilson"]
[108,{"$f":"VLOOKUP(tblData[[#This Row],[Indicator ID]],'Similar 10 CCGs'!$A$6:$C$160,3,FALSE)","v":"Dementia Prevalence"},"2011/12","07H",1722,null,291230,0.59,0.56000000000000005,0.62,5.2901238654539489,5.2927484967072553,null,0.51,0.47400000000000003,"A","Y55","X24","1081","Wilson"]
[108,{"$f":"VLOOKUP(tblData[[#This Row],[Indicator ID]],'Similar 10 CCGs'!$A$6:$C$160,3,FALSE)","v":"Dementia Prevalence"},"2011/12","07J",926,null,164506,0.56000000000000005,0.53,0.6,5.2901238654539489,5.2927484967072553,null,0.71199999999999997,0.59400000000000008,"C","Y55","X24","1081","Wilson"]
[108,{"$f":"VLOOKUP(tblData[[#This Row],[Indicator ID]],'Similar 10 CCGs'!$A$6:$C$160,3,FALSE)","v":"Dementia Prevalence"},"2011/12","07K",1367,null,236634,0.57999999999999996,0.55000000000000004,0.61,5.2901238654539489,5.2927484967072553,null,0.60600000000000009,0.56000000000000005,"","Y55","X24","1081","Wilson"]
[108,{"$f":"VLOOKUP(tblData[[#This Row],[Indicator ID]],'Similar 10 CCGs'!$A$6:$C$160,3,FALSE)","v":"Dementia Prevalence"},"2011/12","07L",564,null,201601,0.28000000000000003,0.26,0.3,5.2901238654539489,3.504331042772407,null,0.374,0.30600000000000005,"C","Y56","X24","1081","Wilson"]
[108,{"$f":"VLOOKUP(tblData[[#This Row],[Indicator ID]],'Similar 10 CCGs'!$A$6:$C$160,3,FALSE)","v":"Dementia Prevalence"},"2011/12","07M",2308,null,378983,0.61,0.59,0.64,5.2901238654539489,3.504331042772407,null,0.44400000000000006,0.38,"A","Y56","X24","1081","Wilson"]
[108,{"$f":"VLOOKUP(tblData[[#This Row],[Indicator ID]],'Similar 10 CCGs'!$A$6:$C$160,3,FALSE)","v":"Dementia Prevalence"},"2011/12","07N",1153,null,228448,0.5,0.47,0.53,5.2901238654539489,3.504331042772407,null,0.48499999999999999,0.44000000000000006,"B","Y56","X24","1081","Wilson"]
[108,{"$f":"VLOOKUP(tblData[[#This Row],[Indicator ID]],'Similar 10 CCGs'!$A$6:$C$160,3,FALSE)","v":"Dementia Prevalence"},"2011/12","07P",1059,null,333639,0.32,0.3,0.34,5.2901238654539489,3.504331042772407,null,0.35300000000000004,0.31800000000000006,"B","Y56","X24","1081","Wilson"]
[108,{"$f":"VLOOKUP(tblData[[#This Row],[Indicator ID]],'Similar 10 CCGs'!$A$6:$C$160,3,FALSE)","v":"Dementia Prevalence"},"2011/12","07Q",1690,null,325750,0.52,0.5,0.55000000000000004,5.2901238654539489,3.504331042772407,null,0.503,0.47200000000000009,"B","Y56","X24","1081","Wilson"]
[108,{"$f":"VLOOKUP(tblData[[#This Row],[Indicator ID]],'Similar 10 CCGs'!$A$6:$C$160,3,FALSE)","v":"Dementia Prevalence"},"2011/12","07R",810,null,258783,0.31,0.28999999999999998,0.33,5.2901238654539489,3.504331042772407,null,0.42199999999999999,0.33600000000000002,"B","Y56","X24","1081","Wilson"]
[108,{"$f":"VLOOKUP(tblData[[#This Row],[Indicator ID]],'Similar 10 CCGs'!$A$6:$C$160,3,FALSE)","v":"Dementia Prevalence"},"2011/12","07T",607,null,286478,0.21,0.19,0.23,5.2901238654539489,3.504331042772407,null,0.30599999999999999,0.26,"C","Y56","X24","1081","Wilson"]
[108,{"$f":"VLOOKUP(tblData[[#This Row],[Indicator ID]],'Similar 10 CCGs'!$A$6:$C$160,3,FALSE)","v":"Dementia Prevalence"},"2011/12","07V",1540,null,383343,0.4,0.38,0.42,5.2901238654539489,3.504331042772407,null,0.36399999999999999,0.30400000000000005,"","Y56","X24","1081","Wilson"]
[108,{"$f":"VLOOKUP(tblData[[#This Row],[Indicator ID]],'Similar 10 CCGs'!$A$6:$C$160,3,FALSE)","v":"Dementia Prevalence"},"2011/12","07W",1370,null,393933,0.35,0.33,0.37,5.2901238654539489,3.504331042772407,null,0.38200000000000001,0.33399999999999996,"B","Y56","X24","1081","Wilson"]
[108,{"$f":"VLOOKUP(tblData[[#This Row],[Indicator ID]],'Similar 10 CCGs'!$A$6:$C$160,3,FALSE)","v":"Dementia Prevalence"},"2011/12","07X",1183,null,288724,0.41,0.39,0.43,5.2901238654539489,3.504331042772407,null,0.38699999999999996,0.312,"B","Y56","X24","1081","Wilson"]
[108,{"$f":"VLOOKUP(tblData[[#This Row],[Indicator ID]],'Similar 10 CCGs'!$A$6:$C$160,3,FALSE)","v":"Dementia Prevalence"},"2011/12","07Y",883,null,280205,0.32,0.3,0.34,5.2901238654539489,3.504331042772407,null,0.35499999999999998,0.31200000000000006,"","Y56","X24","1081","Wilson"]
[108,{"$f":"VLOOKUP(tblData[[#This Row],[Indicator ID]],'Similar 10 CCGs'!$A$6:$C$160,3,FALSE)","v":"Dementia Prevalence"},"2011/12","08A",1044,null,276087,0.38,0.36,0.4,5.2901238654539489,3.504331042772407,null,0.35500000000000004,0.30400000000000005,"","Y56","X24","1081","Wilson"]
[108,{"$f":"VLOOKUP(tblData[[#This Row],[Indicator ID]],'Similar 10 CCGs'!$A$6:$C$160,3,FALSE)","v":"Dementia Prevalence"},"2011/12","08C",495,null,198466,0.25,0.23,0.27,5.2901238654539489,3.504331042772407,null,0.31,0.26400000000000001,"","Y56","X24","1081","Wilson"]
[108,{"$f":"VLOOKUP(tblData[[#This Row],[Indicator ID]],'Similar 10 CCGs'!$A$6:$C$160,3,FALSE)","v":"Dementia Prevalence"},"2011/12","08D",684,null,273462,0.25,0.23,0.27,5.2901238654539489,3.504331042772407,null,0.33300000000000002,0.28200000000000003,"C","Y56","X24","1081","Wilson"]
[108,{"$f":"VLOOKUP(tblData[[#This Row],[Indicator ID]],'Similar 10 CCGs'!$A$6:$C$160,3,FALSE)","v":"Dementia Prevalence"},"2011/12","08E",792,null,224682,0.35,0.33,0.38,5.2901238654539489,3.504331042772407,null,0.37,0.31400000000000006,"","Y56","X24","1081","Wilson"]
[108,{"$f":"VLOOKUP(tblData[[#This Row],[Indicator ID]],'Similar 10 CCGs'!$A$6:$C$160,3,FALSE)","v":"Dementia Prevalence"},"2011/12","08F",1303,null,257279,0.51,0.48,0.54,5.2901238654539489,3.504331042772407,null,0.53800000000000003,0.49000000000000005,"B","Y56","X24","1081","Wilson"]
[108,{"$f":"VLOOKUP(tblData[[#This Row],[Indicator ID]],'Similar 10 CCGs'!$A$6:$C$160,3,FALSE)","v":"Dementia Prevalence"},"2011/12","08G",960,null,282436,0.34,0.32,0.36,5.2901238654539489,3.504331042772407,null,0.45200000000000007,0.35799999999999998,"","Y56","X24","1081","Wilson"]
[108,{"$f":"VLOOKUP(tblData[[#This Row],[Indicator ID]],'Similar 10 CCGs'!$A$6:$C$160,3,FALSE)","v":"Dementia Prevalence"},"2011/12","08H",861,null,220190,0.39,0.36,0.42,5.2901238654539489,3.504331042772407,null,0.28199999999999997,0.23799999999999999,"A","Y56","X24","1081","Wilson"]
[108,{"$f":"VLOOKUP(tblData[[#This Row],[Indicator ID]],'Similar 10 CCGs'!$A$6:$C$160,3,FALSE)","v":"Dementia Prevalence"},"2011/12","08J",691,null,188991,0.37,0.34,0.4,5.2901238654539489,3.504331042772407,null,0.47700000000000004,0.42199999999999999,"","Y56","X24","1081","Wilson"]
[108,{"$f":"VLOOKUP(tblData[[#This Row],[Indicator ID]],'Similar 10 CCGs'!$A$6:$C$160,3,FALSE)","v":"Dementia Prevalence"},"2011/12","08K",1024,null,381991,0.27,0.25,0.28999999999999998,5.2901238654539489,3.504331042772407,null,0.28500000000000003,0.24199999999999999,"","Y56","X24","1081","Wilson"]
[108,{"$f":"VLOOKUP(tblData[[#This Row],[Indicator ID]],'Similar 10 CCGs'!$A$6:$C$160,3,FALSE)","v":"Dementia Prevalence"},"2011/12","08L",1014,null,306263,0.33,0.31,0.35,5.2901238654539489,3.504331042772407,null,0.29799999999999999,0.252,"","Y56","X24","1081","Wilson"]
[108,{"$f":"VLOOKUP(tblData[[#This Row],[Indicator ID]],'Similar 10 CCGs'!$A$6:$C$160,3,FALSE)","v":"Dementia Prevalence"},"2011/12","08M",875,null,368016,0.24,0.22,0.26,5.2901238654539489,3.504331042772407,null,0.34299999999999997,0.26400000000000001,"","Y56","X24","1081","Wilson"]
[108,{"$f":"VLOOKUP(tblData[[#This Row],[Indicator ID]],'Similar 10 CCGs'!$A$6:$C$160,3,FALSE)","v":"Dementia Prevalence"},"2011/12","08N",1009,null,287529,0.35,0.33,0.37,5.2901238654539489,3.504331042772407,null,0.40300000000000002,0.31400000000000006,"","Y56","X24","1081","Wilson"]
[108,{"$f":"VLOOKUP(tblData[[#This Row],[Indicator ID]],'Similar 10 CCGs'!$A$6:$C$160,3,FALSE)","v":"Dementia Prevalence"},"2011/12","08P",870,null,197994,0.44,0.41,0.47,5.2901238654539489,3.504331042772407,null,0.47599999999999998,0.44000000000000006,"B","Y56","X24","1081","Wilson"]
[108,{"$f":"VLOOKUP(tblData[[#This Row],[Indicator ID]],'Similar 10 CCGs'!$A$6:$C$160,3,FALSE)","v":"Dementia Prevalence"},"2011/12","08Q",845,null,327517,0.26,0.24,0.28000000000000003,5.2901238654539489,3.504331042772407,null,0.30100000000000005,0.25,"","Y56","X24","1081","Wilson"]
[108,{"$f":"VLOOKUP(tblData[[#This Row],[Indicator ID]],'Similar 10 CCGs'!$A$6:$C$160,3,FALSE)","v":"Dementia Prevalence"},"2011/12","08R",807,null,212502,0.38,0.35,0.41,5.2901238654539489,3.504331042772407,null,0.39500000000000002,0.32400000000000001,"B","Y56","X24","1081","Wilson"]
[108,{"$f":"VLOOKUP(tblData[[#This Row],[Indicator ID]],'Similar 10 CCGs'!$A$6:$C$160,3,FALSE)","v":"Dementia Prevalence"},"2011/12","08T",780,null,184345,0.42,0.39,0.45,5.2901238654539489,3.504331042772407,null,0.504,0.45400000000000001,"C","Y56","X24","1081","Wilson"]
[108,{"$f":"VLOOKUP(tblData[[#This Row],[Indicator ID]],'Similar 10 CCGs'!$A$6:$C$160,3,FALSE)","v":"Dementia Prevalence"},"2011/12","08V",587,null,278239,0.21,0.19,0.23,5.2901238654539489,3.504331042772407,null,0.36599999999999999,0.30800000000000005,"C","Y56","X24","1081","Wilson"]
[108,{"$f":"VLOOKUP(tblData[[#This Row],[Indicator ID]],'Similar 10 CCGs'!$A$6:$C$160,3,FALSE)","v":"Dementia Prevalence"},"2011/12","08W",987,null,293890,0.34,0.32,0.36,5.2901238654539489,3.504331042772407,null,0.33300000000000002,0.27800000000000002,"B","Y56","X24","1081","Wilson"]
[108,{"$f":"VLOOKUP(tblData[[#This Row],[Indicator ID]],'Similar 10 CCGs'!$A$6:$C$160,3,FALSE)","v":"Dementia Prevalence"},"2011/12","08X",946,null,353385,0.27,0.25,0.28999999999999998,5.2901238654539489,3.504331042772407,null,0.33999999999999997,0.29600000000000004,"","Y56","X24","1081","Wilson"]
[108,{"$f":"VLOOKUP(tblData[[#This Row],[Indicator ID]],'Similar 10 CCGs'!$A$6:$C$160,3,FALSE)","v":"Dementia Prevalence"},"2011/12","08Y",798,null,224877,0.35,0.33,0.38,5.2901238654539489,3.504331042772407,null,0.35699999999999998,0.28000000000000003,"A","Y56","X24","1081","Wilson"]
[108,{"$f":"VLOOKUP(tblData[[#This Row],[Indicator ID]],'Similar 10 CCGs'!$A$6:$C$160,3,FALSE)","v":"Dementia Prevalence"},"2011/12","09A",621,null,193826,0.32,0.3,0.35,5.2901238654539489,3.504331042772407,null,0.40499999999999997,0.31000000000000005,"A","Y56","X24","1081","Wilson"]
[108,{"$f":"VLOOKUP(tblData[[#This Row],[Indicator ID]],'Similar 10 CCGs'!$A$6:$C$160,3,FALSE)","v":"Dementia Prevalence"},"2011/12","09C",583,null,123049,0.47,0.43,0.51,5.2901238654539489,5.8221562279056771,null,0.54400000000000004,0.48799999999999999,"B","Y57","X24","1081","Wilson"]
[108,{"$f":"VLOOKUP(tblData[[#This Row],[Indicator ID]],'Similar 10 CCGs'!$A$6:$C$160,3,FALSE)","v":"Dementia Prevalence"},"2011/12","09D",1132,null,302041,0.37,0.35,0.39,5.2901238654539489,5.8221562279056771,null,0.56000000000000005,0.502,"C","Y57","X24","1081","Wilson"]
[108,{"$f":"VLOOKUP(tblData[[#This Row],[Indicator ID]],'Similar 10 CCGs'!$A$6:$C$160,3,FALSE)","v":"Dementia Prevalence"},"2011/12","09E",1174,null,212778,0.55000000000000004,0.52,0.57999999999999996,5.2901238654539489,5.8221562279056771,null,0.55800000000000005,0.51600000000000001,"B","Y57","X24","1081","Wilson"]
[108,{"$f":"VLOOKUP(tblData[[#This Row],[Indicator ID]],'Similar 10 CCGs'!$A$6:$C$160,3,FALSE)","v":"Dementia Prevalence"},"2011/12","09F",1637,null,185366,0.88,0.84,0.92,5.2901238654539489,5.8221562279056771,null,0.71599999999999997,0.60799999999999998,"A","Y57","X24","1081","Wilson"]
[108,{"$f":"VLOOKUP(tblData[[#This Row],[Indicator ID]],'Similar 10 CCGs'!$A$6:$C$160,3,FALSE)","v":"Dementia Prevalence"},"2011/12","09G",3532,null,486276,0.73,0.71,0.75,5.2901238654539489,5.8221562279056771,null,0.67200000000000004,0.60200000000000009,"A","Y57","X24","1081","Wilson"]
[108,{"$f":"VLOOKUP(tblData[[#This Row],[Indicator ID]],'Similar 10 CCGs'!$A$6:$C$160,3,FALSE)","v":"Dementia Prevalence"},"2011/12","09H",568,null,125753,0.45,0.41,0.49,5.2901238654539489,5.8221562279056771,null,0.48200000000000004,0.42799999999999994,"B","Y57","X24","1081","Wilson"]
[108,{"$f":"VLOOKUP(tblData[[#This Row],[Indicator ID]],'Similar 10 CCGs'!$A$6:$C$160,3,FALSE)","v":"Dementia Prevalence"},"2011/12","09J",1263,null,249384,0.51,0.48,0.54,5.2901238654539489,5.8221562279056771,null,0.50700000000000001,0.46600000000000003,"B","Y57","X24","1081","Wilson"]
[108,{"$f":"VLOOKUP(tblData[[#This Row],[Indicator ID]],'Similar 10 CCGs'!$A$6:$C$160,3,FALSE)","v":"Dementia Prevalence"},"2011/12","09L",1006,null,170399,0.59,0.55000000000000004,0.63,5.2901238654539489,5.8221562279056771,null,0.51899999999999991,0.47000000000000003,"A","Y57","X24","1081","Wilson"]
[108,{"$f":"VLOOKUP(tblData[[#This Row],[Indicator ID]],'Similar 10 CCGs'!$A$6:$C$160,3,FALSE)","v":"Dementia Prevalence"},"2011/12","09N",1292,null,213404,0.61,0.57999999999999996,0.64,5.2901238654539489,5.8221562279056771,null,0.58000000000000007,0.53800000000000003,"A","Y57","X24","1081","Wilson"]
[108,{"$f":"VLOOKUP(tblData[[#This Row],[Indicator ID]],'Similar 10 CCGs'!$A$6:$C$160,3,FALSE)","v":"Dementia Prevalence"},"2011/12","09P",1547,null,183565,0.84,0.8,0.88,5.2901238654539489,5.8221562279056771,null,0.68300000000000005,0.57800000000000007,"A","Y57","X24","1081","Wilson"]
[108,{"$f":"VLOOKUP(tblData[[#This Row],[Indicator ID]],'Similar 10 CCGs'!$A$6:$C$160,3,FALSE)","v":"Dementia Prevalence"},"2011/12","09W",1274,null,281126,0.45,0.43,0.48,5.2901238654539489,5.8221562279056771,null,0.499,0.45600000000000007,"","Y57","X24","1081","Wilson"]
[108,{"$f":"VLOOKUP(tblData[[#This Row],[Indicator ID]],'Similar 10 CCGs'!$A$6:$C$160,3,FALSE)","v":"Dementia Prevalence"},"2011/12","09X",1371,null,224363,0.61,0.57999999999999996,0.64,5.2901238654539489,5.8221562279056771,null,0.55999999999999994,0.504,"A","Y57","X24","1081","Wilson"]
[108,{"$f":"VLOOKUP(tblData[[#This Row],[Indicator ID]],'Similar 10 CCGs'!$A$6:$C$160,3,FALSE)","v":"Dementia Prevalence"},"2011/12","09Y",1945,null,349206,0.56000000000000005,0.54,0.59,5.2901238654539489,5.8221562279056771,null,0.51800000000000002,0.46799999999999997,"B","Y57","X24","1081","Wilson"]
[108,{"$f":"VLOOKUP(tblData[[#This Row],[Indicator ID]],'Similar 10 CCGs'!$A$6:$C$160,3,FALSE)","v":"Dementia Prevalence"},"2011/12","10A",1182,null,199887,0.59,0.56000000000000005,0.62,5.2901238654539489,5.8221562279056771,null,0.6130000000000001,0.52200000000000002,"B","Y57","X24","1081","Wilson"]
[108,{"$f":"VLOOKUP(tblData[[#This Row],[Indicator ID]],'Similar 10 CCGs'!$A$6:$C$160,3,FALSE)","v":"Dementia Prevalence"},"2011/12","10C",451,null,90403,0.5,0.46,0.55000000000000004,5.2901238654539489,5.8221562279056771,null,0.504,0.438,"B","Y57","X24","1081","Wilson"]
[108,{"$f":"VLOOKUP(tblData[[#This Row],[Indicator ID]],'Similar 10 CCGs'!$A$6:$C$160,3,FALSE)","v":"Dementia Prevalence"},"2011/12","10D",486,null,106368,0.46,0.42,0.5,5.2901238654539489,5.8221562279056771,null,0.54300000000000004,0.47400000000000003,"","Y57","X24","1081","Wilson"]
[108,{"$f":"VLOOKUP(tblData[[#This Row],[Indicator ID]],'Similar 10 CCGs'!$A$6:$C$160,3,FALSE)","v":"Dementia Prevalence"},"2011/12","10E",773,null,140872,0.55000000000000004,0.51,0.59,5.2901238654539489,5.8221562279056771,null,0.627,0.56000000000000005,"B","Y57","X24","1081","Wilson"]
[108,{"$f":"VLOOKUP(tblData[[#This Row],[Indicator ID]],'Similar 10 CCGs'!$A$6:$C$160,3,FALSE)","v":"Dementia Prevalence"},"2011/12","10G",499,null,136117,0.37,0.34,0.4,5.2901238654539489,5.8221562279056771,null,0.49800000000000005,0.45800000000000002,"C","Y57","X24","1081","Wilson"]
[108,{"$f":"VLOOKUP(tblData[[#This Row],[Indicator ID]],'Similar 10 CCGs'!$A$6:$C$160,3,FALSE)","v":"Dementia Prevalence"},"2011/12","10H",1440,null,322894,0.45,0.43,0.47,5.2901238654539489,5.8221562279056771,null,0.53300000000000003,0.48599999999999993,"C","Y57","X24","1081","Wilson"]
[108,{"$f":"VLOOKUP(tblData[[#This Row],[Indicator ID]],'Similar 10 CCGs'!$A$6:$C$160,3,FALSE)","v":"Dementia Prevalence"},"2011/12","10J",1020,null,214526,0.48,0.45,0.51,5.2901238654539489,5.8221562279056771,null,0.51400000000000001,0.46200000000000002,"","Y57","X24","1081","Wilson"]
[108,{"$f":"VLOOKUP(tblData[[#This Row],[Indicator ID]],'Similar 10 CCGs'!$A$6:$C$160,3,FALSE)","v":"Dementia Prevalence"},"2011/12","10K",1367,null,199679,0.68,0.65,0.72,5.2901238654539489,5.8221562279056771,null,0.58299999999999996,0.5,"A","Y57","X24","1081","Wilson"]
[108,{"$f":"VLOOKUP(tblData[[#This Row],[Indicator ID]],'Similar 10 CCGs'!$A$6:$C$160,3,FALSE)","v":"Dementia Prevalence"},"2011/12","10L",1339,null,140954,0.95,0.9,1,5.2901238654539489,5.8221562279056771,null,0.67299999999999993,0.57800000000000007,"A","Y57","X24","1081","Wilson"]
[108,{"$f":"VLOOKUP(tblData[[#This Row],[Indicator ID]],'Similar 10 CCGs'!$A$6:$C$160,3,FALSE)","v":"Dementia Prevalence"},"2011/12","10M",528,null,113978,0.46,0.42,0.5,5.2901238654539489,5.8221562279056771,null,0.55399999999999994,0.50800000000000001,"","Y57","X24","1081","Wilson"]
[108,{"$f":"VLOOKUP(tblData[[#This Row],[Indicator ID]],'Similar 10 CCGs'!$A$6:$C$160,3,FALSE)","v":"Dementia Prevalence"},"2011/12","10N",522,null,107019,0.49,0.45,0.53,5.2901238654539489,5.8221562279056771,null,0.51700000000000002,0.47400000000000003,"B","Y57","X24","1081","Wilson"]
[108,{"$f":"VLOOKUP(tblData[[#This Row],[Indicator ID]],'Similar 10 CCGs'!$A$6:$C$160,3,FALSE)","v":"Dementia Prevalence"},"2011/12","10Q",3231,null,694252,0.47,0.45,0.49,5.2901238654539489,5.8221562279056771,null,0.56299999999999994,0.48399999999999999,"C","Y57","X24","1081","Wilson"]
[108,{"$f":"VLOOKUP(tblData[[#This Row],[Indicator ID]],'Similar 10 CCGs'!$A$6:$C$160,3,FALSE)","v":"Dementia Prevalence"},"2011/12","10R",1374,null,216450,0.63,0.6,0.66,5.2901238654539489,5.8221562279056771,null,0.502,0.45600000000000007,"A","Y57","X24","1081","Wilson"]
[108,{"$f":"VLOOKUP(tblData[[#This Row],[Indicator ID]],'Similar 10 CCGs'!$A$6:$C$160,3,FALSE)","v":"Dementia Prevalence"},"2011/12","10T",329,null,143386,0.23,0.21,0.26,5.2901238654539489,5.8221562279056771,null,0.45300000000000001,0.33799999999999997,"C","Y57","X24","1081","Wilson"]
[108,{"$f":"VLOOKUP(tblData[[#This Row],[Indicator ID]],'Similar 10 CCGs'!$A$6:$C$160,3,FALSE)","v":"Dementia Prevalence"},"2011/12","10V",1549,null,208985,0.74,0.7,0.78,5.2901238654539489,5.8221562279056771,null,0.58099999999999996,0.51400000000000001,"A","Y57","X24","1081","Wilson"]
[108,{"$f":"VLOOKUP(tblData[[#This Row],[Indicator ID]],'Similar 10 CCGs'!$A$6:$C$160,3,FALSE)","v":"Dementia Prevalence"},"2011/12","10W",383,null,129334,0.3,0.27,0.33,5.2901238654539489,5.8221562279056771,null,0.49400000000000005,0.44000000000000006,"C","Y57","X24","1081","Wilson"]
[108,{"$f":"VLOOKUP(tblData[[#This Row],[Indicator ID]],'Similar 10 CCGs'!$A$6:$C$160,3,FALSE)","v":"Dementia Prevalence"},"2011/12","10X",1439,null,267022,0.54,0.51,0.56999999999999995,5.2901238654539489,5.8221562279056771,null,0.49300000000000005,0.43599999999999994,"A","Y57","X24","1081","Wilson"]
[108,{"$f":"VLOOKUP(tblData[[#This Row],[Indicator ID]],'Similar 10 CCGs'!$A$6:$C$160,3,FALSE)","v":"Dementia Prevalence"},"2011/12","10Y",1003,null,198019,0.51,0.48,0.54,5.2901238654539489,5.8221562279056771,null,0.52299999999999991,0.47400000000000003,"","Y57","X24","1081","Wilson"]
[108,{"$f":"VLOOKUP(tblData[[#This Row],[Indicator ID]],'Similar 10 CCGs'!$A$6:$C$160,3,FALSE)","v":"Dementia Prevalence"},"2011/12","11A",3976,null,539951,0.74,0.72,0.76,5.2901238654539489,5.8221562279056771,null,0.60599999999999998,0.52200000000000002,"A","Y57","X24","1081","Wilson"]
[108,{"$f":"VLOOKUP(tblData[[#This Row],[Indicator ID]],'Similar 10 CCGs'!$A$6:$C$160,3,FALSE)","v":"Dementia Prevalence"},"2011/12","11C",720,null,150550,0.48,0.45,0.52,5.2901238654539489,5.8221562279056771,null,0.495,0.45800000000000002,"B","Y57","X24","1081","Wilson"]
[108,{"$f":"VLOOKUP(tblData[[#This Row],[Indicator ID]],'Similar 10 CCGs'!$A$6:$C$160,3,FALSE)","v":"Dementia Prevalence"},"2011/12","11D",750,null,154220,0.49,0.46,0.53,5.2901238654539489,5.8221562279056771,null,0.49800000000000005,0.442,"B","Y57","X24","1081","Wilson"]
[108,{"$f":"VLOOKUP(tblData[[#This Row],[Indicator ID]],'Similar 10 CCGs'!$A$6:$C$160,3,FALSE)","v":"Dementia Prevalence"},"2011/12","11E",1022,null,197180,0.52,0.49,0.55000000000000004,5.2901238654539489,5.8221562279056771,null,0.58200000000000007,0.52400000000000002,"","Y57","X24","1081","Wilson"]
[108,{"$f":"VLOOKUP(tblData[[#This Row],[Indicator ID]],'Similar 10 CCGs'!$A$6:$C$160,3,FALSE)","v":"Dementia Prevalence"},"2011/12","11H",2164,null,475661,0.45,0.43,0.47,5.2901238654539489,5.8221562279056771,null,0.53400000000000003,0.46600000000000003,"C","Y57","X24","1081","Wilson"]
[108,{"$f":"VLOOKUP(tblData[[#This Row],[Indicator ID]],'Similar 10 CCGs'!$A$6:$C$160,3,FALSE)","v":"Dementia Prevalence"},"2011/12","11J",5568,null,765896,0.73,0.71,0.75,5.2901238654539489,5.8221562279056771,null,0.64100000000000001,0.55000000000000004,"A","Y57","X24","1081","Wilson"]
[108,{"$f":"VLOOKUP(tblData[[#This Row],[Indicator ID]],'Similar 10 CCGs'!$A$6:$C$160,3,FALSE)","v":"Dementia Prevalence"},"2011/12","11M",4037,null,615239,0.66,0.64,0.68,5.2901238654539489,5.8221562279056771,null,0.59,0.51200000000000012,"B","Y57","X24","1081","Wilson"]
[108,{"$f":"VLOOKUP(tblData[[#This Row],[Indicator ID]],'Similar 10 CCGs'!$A$6:$C$160,3,FALSE)","v":"Dementia Prevalence"},"2011/12","11N",4144,null,555618,0.75,0.73,0.77,5.2901238654539489,5.8221562279056771,null,0.66500000000000004,0.60200000000000009,"A","Y57","X24","1081","Wilson"]
[108,{"$f":"VLOOKUP(tblData[[#This Row],[Indicator ID]],'Similar 10 CCGs'!$A$6:$C$160,3,FALSE)","v":"Dementia Prevalence"},"2011/12","11T",1415,null,211203,0.67,0.64,0.71,5.2901238654539489,5.8221562279056771,null,0.6120000000000001,0.55600000000000005,"A","Y57","X24","1081","Wilson"]
[108,{"$f":"VLOOKUP(tblData[[#This Row],[Indicator ID]],'Similar 10 CCGs'!$A$6:$C$160,3,FALSE)","v":"Dementia Prevalence"},"2011/12","11X",3681,null,543498,0.68,0.66,0.7,5.2901238654539489,5.8221562279056771,null,0.63900000000000001,0.55000000000000004,"A","Y57","X24","1081","Wilson"]
[108,{"$f":"VLOOKUP(tblData[[#This Row],[Indicator ID]],'Similar 10 CCGs'!$A$6:$C$160,3,FALSE)","v":"Dementia Prevalence"},"2011/12","12A",1187,null,256061,0.46,0.43,0.49,5.2901238654539489,5.8221562279056771,null,0.53200000000000003,0.45800000000000002,"","Y57","X24","1081","Wilson"]
[108,{"$f":"VLOOKUP(tblData[[#This Row],[Indicator ID]],'Similar 10 CCGs'!$A$6:$C$160,3,FALSE)","v":"Dementia Prevalence"},"2011/12","12D",986,null,221360,0.45,0.42,0.48,5.2901238654539489,5.8221562279056771,null,0.49400000000000005,0.442,"","Y57","X24","1081","Wilson"]
[108,{"$f":"VLOOKUP(tblData[[#This Row],[Indicator ID]],'Similar 10 CCGs'!$A$6:$C$160,3,FALSE)","v":"Dementia Prevalence"},"2011/12","12F",2055,null,331592,0.62,0.59,0.65,5.2901238654539489,5.8169904708134226,null,0.60899999999999999,0.54,"B","Y54","X24","1081","Wilson"]
[108,{"$f":"VLOOKUP(tblData[[#This Row],[Indicator ID]],'Similar 10 CCGs'!$A$6:$C$160,3,FALSE)","v":"Dementia Prevalence"},"2011/12","13P",3288,null,727002,0.45,0.43,0.47,5.2901238654539489,5.2927484967072553,null,0.504,0.44800000000000006,"C","Y55","X24","1081","Wilson"]
[108,{"$f":"VLOOKUP(tblData[[#This Row],[Indicator ID]],'Similar 10 CCGs'!$A$6:$C$160,3,FALSE)","v":"Dementia Prevalence"},"2011/12","99A",2457,null,492711,0.5,0.48,0.52,5.2901238654539489,5.8169904708134226,null,0.52800000000000002,0.45400000000000001,"","Y54","X24","1081","Wilson"]
[108,{"$f":"VLOOKUP(tblData[[#This Row],[Indicator ID]],'Similar 10 CCGs'!$A$6:$C$160,3,FALSE)","v":"Dementia Prevalence"},"2011/12","99C",1368,null,214926,0.64,0.61,0.67,5.2901238654539489,5.8169904708134226,null,0.629,0.56600000000000006,"A","Y54","X24","1081","Wilson"]
[108,{"$f":"VLOOKUP(tblData[[#This Row],[Indicator ID]],'Similar 10 CCGs'!$A$6:$C$160,3,FALSE)","v":"Dementia Prevalence"},"2011/12","99D",1012,null,156440,0.65,0.61,0.69,5.2901238654539489,5.2927484967072553,null,0.60799999999999998,0.55400000000000005,"A","Y55","X24","1081","Wilson"]
[108,{"$f":"VLOOKUP(tblData[[#This Row],[Indicator ID]],'Similar 10 CCGs'!$A$6:$C$160,3,FALSE)","v":"Dementia Prevalence"},"2011/12","99E",1301,null,262252,0.5,0.47,0.53,5.2901238654539489,5.2927484967072553,null,0.52400000000000002,0.47800000000000004,"","Y55","X24","1081","Wilson"]
[108,{"$f":"VLOOKUP(tblData[[#This Row],[Indicator ID]],'Similar 10 CCGs'!$A$6:$C$160,3,FALSE)","v":"Dementia Prevalence"},"2011/12","99F",811,null,177806,0.46,0.43,0.49,5.2901238654539489,5.2927484967072553,null,0.64100000000000001,0.55999999999999994,"C","Y55","X24","1081","Wilson"]
[108,{"$f":"VLOOKUP(tblData[[#This Row],[Indicator ID]],'Similar 10 CCGs'!$A$6:$C$160,3,FALSE)","v":"Dementia Prevalence"},"2011/12","99G",1089,null,186028,0.59,0.56000000000000005,0.63,5.2901238654539489,5.2927484967072553,null,0.60199999999999998,0.53800000000000003,"B","Y55","X24","1081","Wilson"]
[108,{"$f":"VLOOKUP(tblData[[#This Row],[Indicator ID]],'Similar 10 CCGs'!$A$6:$C$160,3,FALSE)","v":"Dementia Prevalence"},"2011/12","99H",1709,null,289448,0.59,0.56000000000000005,0.62,5.2901238654539489,5.8221562279056771,null,0.52200000000000002,0.47599999999999998,"A","Y57","X24","1081","Wilson"]
[108,{"$f":"VLOOKUP(tblData[[#This Row],[Indicator ID]],'Similar 10 CCGs'!$A$6:$C$160,3,FALSE)","v":"Dementia Prevalence"},"2011/12","99J",2390,null,466241,0.51,0.49,0.53,5.2901238654539489,5.8221562279056771,null,0.56100000000000005,0.5,"","Y57","X24","1081","Wilson"]
[108,{"$f":"VLOOKUP(tblData[[#This Row],[Indicator ID]],'Similar 10 CCGs'!$A$6:$C$160,3,FALSE)","v":"Dementia Prevalence"},"2011/12","99K",901,null,164555,0.55000000000000004,0.52,0.59,5.2901238654539489,5.8221562279056771,null,0.63200000000000001,0.58600000000000008,"","Y57","X24","1081","Wilson"]
[108,{"$f":"VLOOKUP(tblData[[#This Row],[Indicator ID]],'Similar 10 CCGs'!$A$6:$C$160,3,FALSE)","v":"Dementia Prevalence"},"2011/12","99M",986,null,216963,0.45,0.42,0.48,5.2901238654539489,5.8221562279056771,null,0.47700000000000004,0.442,"","Y57","X24","1081","Wilson"]
[108,{"$f":"VLOOKUP(tblData[[#This Row],[Indicator ID]],'Similar 10 CCGs'!$A$6:$C$160,3,FALSE)","v":"Dementia Prevalence"},"2011/12","99N",2342,null,471598,0.5,0.48,0.52,5.2901238654539489,5.8221562279056771,null,0.57999999999999996,0.50800000000000001,"","Y57","X24","1081","Wilson"]
[108,{"$f":"VLOOKUP(tblData[[#This Row],[Indicator ID]],'Similar 10 CCGs'!$A$6:$C$160,3,FALSE)","v":"Dementia Prevalence"},"2011/12","99P",5240,null,898677,0.57999999999999996,0.56000000000000005,0.6,5.2901238654539489,5.8221562279056771,null,0.63400000000000001,0.53600000000000003,"","Y57","X24","1081","Wilson"]
[108,{"$f":"VLOOKUP(tblData[[#This Row],[Indicator ID]],'Similar 10 CCGs'!$A$6:$C$160,3,FALSE)","v":"Dementia Prevalence"},"2011/12","99Q",2311,null,285265,0.81,0.78,0.84,5.2901238654539489,5.8221562279056771,null,0.67500000000000004,0.58400000000000007,"A","Y57","X24","1081","Wilson"]
[109,{"$f":"VLOOKUP(tblData[[#This Row],[Indicator ID]],'Similar 10 CCGs'!$A$6:$C$160,3,FALSE)","v":"Depression (ages 18+) Prevalence"},"2011/12","00C",11196,null,83855,13.35,13.12,13.58,116.83805026143919,131.88010710290698,null,12.222,9.5220000000000002,"A","Y54","X24","1091","Wilson"]
[109,{"$f":"VLOOKUP(tblData[[#This Row],[Indicator ID]],'Similar 10 CCGs'!$A$6:$C$160,3,FALSE)","v":"Depression (ages 18+) Prevalence"},"2011/12","00D",37682,null,229809,16.399999999999999,16.25,16.55,116.83805026143919,131.88010710290698,null,13.881,11.974,"A","Y54","X24","1091","Wilson"]
[109,{"$f":"VLOOKUP(tblData[[#This Row],[Indicator ID]],'Similar 10 CCGs'!$A$6:$C$160,3,FALSE)","v":"Depression (ages 18+) Prevalence"},"2011/12","00F",30872,null,166435,18.55,18.36,18.739999999999998,116.83805026143919,131.88010710290698,null,13.927999999999997,11.438000000000001,"A","Y54","X24","1091","Wilson"]
[109,{"$f":"VLOOKUP(tblData[[#This Row],[Indicator ID]],'Similar 10 CCGs'!$A$6:$C$160,3,FALSE)","v":"Depression (ages 18+) Prevalence"},"2011/12","00G",14934,null,119880,12.46,12.27,12.65,116.83805026143919,131.88010710290698,null,11.849999999999998,10.312000000000001,"A","Y54","X24","1091","Wilson"]
[109,{"$f":"VLOOKUP(tblData[[#This Row],[Indicator ID]],'Similar 10 CCGs'!$A$6:$C$160,3,FALSE)","v":"Depression (ages 18+) Prevalence"},"2011/12","00H",13619,null,100835,13.51,13.3,13.72,116.83805026143919,131.88010710290698,null,13.053999999999998,11.414,"A","Y54","X24","1091","Wilson"]
[109,{"$f":"VLOOKUP(tblData[[#This Row],[Indicator ID]],'Similar 10 CCGs'!$A$6:$C$160,3,FALSE)","v":"Depression (ages 18+) Prevalence"},"2011/12","00J",26078,null,198882,13.11,12.96,13.26,116.83805026143919,131.88010710290698,null,12.591999999999999,9.7720000000000002,"","Y54","X24","1091","Wilson"]
[109,{"$f":"VLOOKUP(tblData[[#This Row],[Indicator ID]],'Similar 10 CCGs'!$A$6:$C$160,3,FALSE)","v":"Depression (ages 18+) Prevalence"},"2011/12","00K",34101,null,226569,15.05,14.9,15.2,116.83805026143919,131.88010710290698,null,13.484,11.672000000000001,"A","Y54","X24","1091","Wilson"]
[109,{"$f":"VLOOKUP(tblData[[#This Row],[Indicator ID]],'Similar 10 CCGs'!$A$6:$C$160,3,FALSE)","v":"Depression (ages 18+) Prevalence"},"2011/12","00L",40803,null,260331,15.67,15.53,15.81,116.83805026143919,131.88010710290698,null,12.181000000000001,10.478,"A","Y54","X24","1091","Wilson"]
[109,{"$f":"VLOOKUP(tblData[[#This Row],[Indicator ID]],'Similar 10 CCGs'!$A$6:$C$160,3,FALSE)","v":"Depression (ages 18+) Prevalence"},"2011/12","00M",33270,null,227298,14.64,14.5,14.79,116.83805026143919,131.88010710290698,null,13.205999999999998,10.132,"A","Y54","X24","1091","Wilson"]
[109,{"$f":"VLOOKUP(tblData[[#This Row],[Indicator ID]],'Similar 10 CCGs'!$A$6:$C$160,3,FALSE)","v":"Depression (ages 18+) Prevalence"},"2011/12","00N",22138,null,124592,17.77,17.559999999999999,17.98,116.83805026143919,131.88010710290698,null,13.712999999999999,10.294,"A","Y54","X24","1091","Wilson"]
[109,{"$f":"VLOOKUP(tblData[[#This Row],[Indicator ID]],'Similar 10 CCGs'!$A$6:$C$160,3,FALSE)","v":"Depression (ages 18+) Prevalence"},"2011/12","00P",46273,null,228010,20.29,20.13,20.46,116.83805026143919,131.88010710290698,null,15.138999999999999,14.087999999999999,"A","Y54","X24","1091","Wilson"]
[109,{"$f":"VLOOKUP(tblData[[#This Row],[Indicator ID]],'Similar 10 CCGs'!$A$6:$C$160,3,FALSE)","v":"Depression (ages 18+) Prevalence"},"2011/12","00Q",17773,null,127077,13.99,13.8,14.18,116.83805026143919,131.88010710290698,null,11.126000000000001,9.5680000000000014,"A","Y54","X24","1091","Wilson"]
[109,{"$f":"VLOOKUP(tblData[[#This Row],[Indicator ID]],'Similar 10 CCGs'!$A$6:$C$160,3,FALSE)","v":"Depression (ages 18+) Prevalence"},"2011/12","00R",25955,null,139170,18.649999999999999,18.45,18.86,116.83805026143919,131.88010710290698,null,14.447999999999999,11.628,"A","Y54","X24","1091","Wilson"]
[109,{"$f":"VLOOKUP(tblData[[#This Row],[Indicator ID]],'Similar 10 CCGs'!$A$6:$C$160,3,FALSE)","v":"Depression (ages 18+) Prevalence"},"2011/12","00T",26117,null,228990,11.41,11.28,11.54,116.83805026143919,131.88010710290698,null,12.769,11.325999999999999,"C","Y54","X24","1091","Wilson"]
[109,{"$f":"VLOOKUP(tblData[[#This Row],[Indicator ID]],'Similar 10 CCGs'!$A$6:$C$160,3,FALSE)","v":"Depression (ages 18+) Prevalence"},"2011/12","00V",14497,null,147304,9.84,9.69,9.99,116.83805026143919,131.88010710290698,null,12.619000000000002,10.524000000000001,"C","Y54","X24","1091","Wilson"]
[109,{"$f":"VLOOKUP(tblData[[#This Row],[Indicator ID]],'Similar 10 CCGs'!$A$6:$C$160,3,FALSE)","v":"Depression (ages 18+) Prevalence"},"2011/12","00W",17009,null,163972,10.37,10.220000000000001,10.52,116.83805026143919,131.88010710290698,null,10.236000000000001,8.2479999999999993,"","Y54","X24","1091","Wilson"]
[109,{"$f":"VLOOKUP(tblData[[#This Row],[Indicator ID]],'Similar 10 CCGs'!$A$6:$C$160,3,FALSE)","v":"Depression (ages 18+) Prevalence"},"2011/12","00X",19068,null,138521,13.77,13.59,13.95,116.83805026143919,131.88010710290698,null,12.645,10.786000000000001,"A","Y54","X24","1091","Wilson"]
[109,{"$f":"VLOOKUP(tblData[[#This Row],[Indicator ID]],'Similar 10 CCGs'!$A$6:$C$160,3,FALSE)","v":"Depression (ages 18+) Prevalence"},"2011/12","00Y",22817,null,182740,12.49,12.34,12.64,116.83805026143919,131.88010710290698,null,11.718999999999999,10.020000000000001,"A","Y54","X24","1091","Wilson"]
[109,{"$f":"VLOOKUP(tblData[[#This Row],[Indicator ID]],'Similar 10 CCGs'!$A$6:$C$160,3,FALSE)","v":"Depression (ages 18+) Prevalence"},"2011/12","01A",39594,null,287805,13.76,13.63,13.89,116.83805026143919,131.88010710290698,null,13.395,11.946,"A","Y54","X24","1091","Wilson"]
[109,{"$f":"VLOOKUP(tblData[[#This Row],[Indicator ID]],'Similar 10 CCGs'!$A$6:$C$160,3,FALSE)","v":"Depression (ages 18+) Prevalence"},"2011/12","01C",24723,null,163696,15.1,14.93,15.27,116.83805026143919,131.88010710290698,null,14.234999999999999,12.57,"A","Y54","X24","1091","Wilson"]
[109,{"$f":"VLOOKUP(tblData[[#This Row],[Indicator ID]],'Similar 10 CCGs'!$A$6:$C$160,3,FALSE)","v":"Depression (ages 18+) Prevalence"},"2011/12","01D",20709,null,172644,12,11.85,12.15,116.83805026143919,131.88010710290698,null,12.684999999999999,11.208000000000002,"","Y54","X24","1091","Wilson"]
[109,{"$f":"VLOOKUP(tblData[[#This Row],[Indicator ID]],'Similar 10 CCGs'!$A$6:$C$160,3,FALSE)","v":"Depression (ages 18+) Prevalence"},"2011/12","01E",24203,null,166665,14.52,14.35,14.69,116.83805026143919,131.88010710290698,null,12.964999999999998,11.238,"A","Y54","X24","1091","Wilson"]
[109,{"$f":"VLOOKUP(tblData[[#This Row],[Indicator ID]],'Similar 10 CCGs'!$A$6:$C$160,3,FALSE)","v":"Depression (ages 18+) Prevalence"},"2011/12","01F",12471,null,100296,12.43,12.23,12.64,116.83805026143919,131.88010710290698,null,14.612,13.282,"","Y54","X24","1091","Wilson"]
[109,{"$f":"VLOOKUP(tblData[[#This Row],[Indicator ID]],'Similar 10 CCGs'!$A$6:$C$160,3,FALSE)","v":"Depression (ages 18+) Prevalence"},"2011/12","01G",17793,null,194440,9.15,9.02,9.2799999999999994,116.83805026143919,131.88010710290698,null,13.922000000000001,11.641999999999999,"C","Y54","X24","1091","Wilson"]
[109,{"$f":"VLOOKUP(tblData[[#This Row],[Indicator ID]],'Similar 10 CCGs'!$A$6:$C$160,3,FALSE)","v":"Depression (ages 18+) Prevalence"},"2011/12","01H",58108,null,426398,13.63,13.53,13.73,116.83805026143919,131.88010710290698,null,13.097000000000003,11.661999999999999,"A","Y54","X24","1091","Wilson"]
[109,{"$f":"VLOOKUP(tblData[[#This Row],[Indicator ID]],'Similar 10 CCGs'!$A$6:$C$160,3,FALSE)","v":"Depression (ages 18+) Prevalence"},"2011/12","01J",9078,null,126112,7.2,7.06,7.34,116.83805026143919,131.88010710290698,null,14.502999999999997,11.856,"C","Y54","X24","1091","Wilson"]
[109,{"$f":"VLOOKUP(tblData[[#This Row],[Indicator ID]],'Similar 10 CCGs'!$A$6:$C$160,3,FALSE)","v":"Depression (ages 18+) Prevalence"},"2011/12","01K",19166,null,128879,14.87,14.68,15.07,116.83805026143919,131.88010710290698,null,12.305999999999999,10.974,"A","Y54","X24","1091","Wilson"]
[109,{"$f":"VLOOKUP(tblData[[#This Row],[Indicator ID]],'Similar 10 CCGs'!$A$6:$C$160,3,FALSE)","v":"Depression (ages 18+) Prevalence"},"2011/12","01M",18149,null,141923,12.79,12.62,12.96,116.83805026143919,131.88010710290698,null,11.502000000000001,10.37,"A","Y54","X24","1091","Wilson"]
[109,{"$f":"VLOOKUP(tblData[[#This Row],[Indicator ID]],'Similar 10 CCGs'!$A$6:$C$160,3,FALSE)","v":"Depression (ages 18+) Prevalence"},"2011/12","01N",18519,null,130241,14.22,14.03,14.41,116.83805026143919,131.88010710290698,null,12.118999999999998,8.8440000000000012,"A","Y54","X24","1091","Wilson"]
[109,{"$f":"VLOOKUP(tblData[[#This Row],[Indicator ID]],'Similar 10 CCGs'!$A$6:$C$160,3,FALSE)","v":"Depression (ages 18+) Prevalence"},"2011/12","01R",22126,null,138851,15.94,15.75,16.13,116.83805026143919,131.88010710290698,null,13.018000000000001,11.437999999999999,"A","Y54","X24","1091","Wilson"]
[109,{"$f":"VLOOKUP(tblData[[#This Row],[Indicator ID]],'Similar 10 CCGs'!$A$6:$C$160,3,FALSE)","v":"Depression (ages 18+) Prevalence"},"2011/12","01T",19962,null,124437,16.04,15.84,16.239999999999998,116.83805026143919,131.88010710290698,null,15.055999999999997,12.414,"A","Y54","X24","1091","Wilson"]
[109,{"$f":"VLOOKUP(tblData[[#This Row],[Indicator ID]],'Similar 10 CCGs'!$A$6:$C$160,3,FALSE)","v":"Depression (ages 18+) Prevalence"},"2011/12","01V",12603,null,99915,12.61,12.41,12.82,116.83805026143919,131.88010710290698,null,13.381,11.044,"","Y54","X24","1091","Wilson"]
[109,{"$f":"VLOOKUP(tblData[[#This Row],[Indicator ID]],'Similar 10 CCGs'!$A$6:$C$160,3,FALSE)","v":"Depression (ages 18+) Prevalence"},"2011/12","01W",32584,null,238205,13.68,13.54,13.82,116.83805026143919,131.88010710290698,null,12.878,11.284000000000001,"A","Y54","X24","1091","Wilson"]
[109,{"$f":"VLOOKUP(tblData[[#This Row],[Indicator ID]],'Similar 10 CCGs'!$A$6:$C$160,3,FALSE)","v":"Depression (ages 18+) Prevalence"},"2011/12","01X",24812,null,154012,16.11,15.93,16.29,116.83805026143919,131.88010710290698,null,13.603000000000003,11.376000000000001,"A","Y54","X24","1091","Wilson"]
[109,{"$f":"VLOOKUP(tblData[[#This Row],[Indicator ID]],'Similar 10 CCGs'!$A$6:$C$160,3,FALSE)","v":"Depression (ages 18+) Prevalence"},"2011/12","01Y",26513,null,188821,14.04,13.88,14.2,116.83805026143919,131.88010710290698,null,14.394,13.044,"A","Y54","X24","1091","Wilson"]
[109,{"$f":"VLOOKUP(tblData[[#This Row],[Indicator ID]],'Similar 10 CCGs'!$A$6:$C$160,3,FALSE)","v":"Depression (ages 18+) Prevalence"},"2011/12","02A",22064,null,181635,12.15,12,12.3,116.83805026143919,131.88010710290698,null,10.913,8.402000000000001,"A","Y54","X24","1091","Wilson"]
[109,{"$f":"VLOOKUP(tblData[[#This Row],[Indicator ID]],'Similar 10 CCGs'!$A$6:$C$160,3,FALSE)","v":"Depression (ages 18+) Prevalence"},"2011/12","02D",12111,null,80682,15.01,14.77,15.26,116.83805026143919,131.88010710290698,null,12.428000000000001,10.879999999999999,"A","Y54","X24","1091","Wilson"]
[109,{"$f":"VLOOKUP(tblData[[#This Row],[Indicator ID]],'Similar 10 CCGs'!$A$6:$C$160,3,FALSE)","v":"Depression (ages 18+) Prevalence"},"2011/12","02E",21853,null,164713,13.27,13.11,13.43,116.83805026143919,131.88010710290698,null,13.116,10.866,"A","Y54","X24","1091","Wilson"]
[109,{"$f":"VLOOKUP(tblData[[#This Row],[Indicator ID]],'Similar 10 CCGs'!$A$6:$C$160,3,FALSE)","v":"Depression (ages 18+) Prevalence"},"2011/12","02F",30138,null,204743,14.72,14.57,14.87,116.83805026143919,131.88010710290698,null,12.138,10.866,"A","Y54","X24","1091","Wilson"]
[109,{"$f":"VLOOKUP(tblData[[#This Row],[Indicator ID]],'Similar 10 CCGs'!$A$6:$C$160,3,FALSE)","v":"Depression (ages 18+) Prevalence"},"2011/12","02G",11160,null,89107,12.52,12.3,12.74,116.83805026143919,131.88010710290698,null,12.993,10.422000000000001,"A","Y54","X24","1091","Wilson"]
[109,{"$f":"VLOOKUP(tblData[[#This Row],[Indicator ID]],'Similar 10 CCGs'!$A$6:$C$160,3,FALSE)","v":"Depression (ages 18+) Prevalence"},"2011/12","02H",26402,null,253736,10.41,10.29,10.53,116.83805026143919,131.88010710290698,null,13.694999999999999,12.215999999999999,"C","Y54","X24","1091","Wilson"]
[109,{"$f":"VLOOKUP(tblData[[#This Row],[Indicator ID]],'Similar 10 CCGs'!$A$6:$C$160,3,FALSE)","v":"Depression (ages 18+) Prevalence"},"2011/12","02M",19043,null,124598,15.28,15.08,15.48,116.83805026143919,131.88010710290698,null,13.516,11.552000000000001,"A","Y54","X24","1091","Wilson"]
[109,{"$f":"VLOOKUP(tblData[[#This Row],[Indicator ID]],'Similar 10 CCGs'!$A$6:$C$160,3,FALSE)","v":"Depression (ages 18+) Prevalence"},"2011/12","02N",15284,null,123076,12.42,12.24,12.61,116.83805026143919,131.88010710290698,null,13.116,12.07,"","Y54","X24","1091","Wilson"]
[109,{"$f":"VLOOKUP(tblData[[#This Row],[Indicator ID]],'Similar 10 CCGs'!$A$6:$C$160,3,FALSE)","v":"Depression (ages 18+) Prevalence"},"2011/12","02P",30673,null,194547,15.77,15.61,15.93,116.83805026143919,131.88010710290698,null,12.396000000000001,9.6180000000000003,"A","Y54","X24","1091","Wilson"]
[109,{"$f":"VLOOKUP(tblData[[#This Row],[Indicator ID]],'Similar 10 CCGs'!$A$6:$C$160,3,FALSE)","v":"Depression (ages 18+) Prevalence"},"2011/12","02Q",10500,null,89524,11.73,11.52,11.94,116.83805026143919,131.88010710290698,null,12.24,9.6799999999999979,"A","Y54","X24","1091","Wilson"]
[109,{"$f":"VLOOKUP(tblData[[#This Row],[Indicator ID]],'Similar 10 CCGs'!$A$6:$C$160,3,FALSE)","v":"Depression (ages 18+) Prevalence"},"2011/12","02R",31239,null,250938,12.45,12.32,12.58,116.83805026143919,131.88010710290698,null,11.847,10.020000000000001,"A","Y54","X24","1091","Wilson"]
[109,{"$f":"VLOOKUP(tblData[[#This Row],[Indicator ID]],'Similar 10 CCGs'!$A$6:$C$160,3,FALSE)","v":"Depression (ages 18+) Prevalence"},"2011/12","02T",24814,null,166608,14.89,14.72,15.06,116.83805026143919,131.88010710290698,null,11.315000000000001,9.7900000000000009,"A","Y54","X24","1091","Wilson"]
[109,{"$f":"VLOOKUP(tblData[[#This Row],[Indicator ID]],'Similar 10 CCGs'!$A$6:$C$160,3,FALSE)","v":"Depression (ages 18+) Prevalence"},"2011/12","02V",18269,null,159747,11.44,11.28,11.6,116.83805026143919,131.88010710290698,null,12.494,10.748000000000001,"A","Y54","X24","1091","Wilson"]
[109,{"$f":"VLOOKUP(tblData[[#This Row],[Indicator ID]],'Similar 10 CCGs'!$A$6:$C$160,3,FALSE)","v":"Depression (ages 18+) Prevalence"},"2011/12","02W",4246,null,81042,5.24,5.09,5.4,116.83805026143919,131.88010710290698,null,9.8090000000000011,7.7060000000000004,"C","Y54","X24","1091","Wilson"]
[109,{"$f":"VLOOKUP(tblData[[#This Row],[Indicator ID]],'Similar 10 CCGs'!$A$6:$C$160,3,FALSE)","v":"Depression (ages 18+) Prevalence"},"2011/12","02X",31179,null,243361,12.81,12.68,12.94,116.83805026143919,131.88010710290698,null,13.487,10.84,"","Y54","X24","1091","Wilson"]
[109,{"$f":"VLOOKUP(tblData[[#This Row],[Indicator ID]],'Similar 10 CCGs'!$A$6:$C$160,3,FALSE)","v":"Depression (ages 18+) Prevalence"},"2011/12","02Y",25800,null,244980,10.53,10.41,10.65,116.83805026143919,131.88010710290698,null,13.98,12.878,"C","Y54","X24","1091","Wilson"]
[109,{"$f":"VLOOKUP(tblData[[#This Row],[Indicator ID]],'Similar 10 CCGs'!$A$6:$C$160,3,FALSE)","v":"Depression (ages 18+) Prevalence"},"2011/12","03A",23456,null,187206,12.53,12.38,12.68,116.83805026143919,131.88010710290698,null,12.613,10.416,"","Y54","X24","1091","Wilson"]
[109,{"$f":"VLOOKUP(tblData[[#This Row],[Indicator ID]],'Similar 10 CCGs'!$A$6:$C$160,3,FALSE)","v":"Depression (ages 18+) Prevalence"},"2011/12","03C",31258,null,285841,10.94,10.83,11.05,116.83805026143919,131.88010710290698,null,11.983000000000001,10.534000000000001,"","Y54","X24","1091","Wilson"]
[109,{"$f":"VLOOKUP(tblData[[#This Row],[Indicator ID]],'Similar 10 CCGs'!$A$6:$C$160,3,FALSE)","v":"Depression (ages 18+) Prevalence"},"2011/12","03D",15516,null,115267,13.46,13.26,13.66,116.83805026143919,131.88010710290698,null,12.763999999999999,11.428000000000001,"A","Y54","X24","1091","Wilson"]
[109,{"$f":"VLOOKUP(tblData[[#This Row],[Indicator ID]],'Similar 10 CCGs'!$A$6:$C$160,3,FALSE)","v":"Depression (ages 18+) Prevalence"},"2011/12","03E",17922,null,128684,13.93,13.74,14.12,116.83805026143919,131.88010710290698,null,13.714000000000002,12.244,"A","Y54","X24","1091","Wilson"]
[109,{"$f":"VLOOKUP(tblData[[#This Row],[Indicator ID]],'Similar 10 CCGs'!$A$6:$C$160,3,FALSE)","v":"Depression (ages 18+) Prevalence"},"2011/12","03F",15531,null,226712,6.85,6.75,6.95,116.83805026143919,131.88010710290698,null,14.581,12.733999999999998,"C","Y54","X24","1091","Wilson"]
[109,{"$f":"VLOOKUP(tblData[[#This Row],[Indicator ID]],'Similar 10 CCGs'!$A$6:$C$160,3,FALSE)","v":"Depression (ages 18+) Prevalence"},"2011/12","03G",22803,null,200452,11.38,11.24,11.52,116.83805026143919,131.88010710290698,null,12.73,10.768000000000001,"","Y54","X24","1091","Wilson"]
[109,{"$f":"VLOOKUP(tblData[[#This Row],[Indicator ID]],'Similar 10 CCGs'!$A$6:$C$160,3,FALSE)","v":"Depression (ages 18+) Prevalence"},"2011/12","03H",11357,null,132476,8.57,8.42,8.7200000000000006,116.83805026143919,131.88010710290698,null,12.491,10.803999999999998,"C","Y54","X24","1091","Wilson"]
[109,{"$f":"VLOOKUP(tblData[[#This Row],[Indicator ID]],'Similar 10 CCGs'!$A$6:$C$160,3,FALSE)","v":"Depression (ages 18+) Prevalence"},"2011/12","03J",9110,null,139939,6.51,6.38,6.64,116.83805026143919,131.88010710290698,null,11.796000000000001,10.597999999999999,"C","Y54","X24","1091","Wilson"]
[109,{"$f":"VLOOKUP(tblData[[#This Row],[Indicator ID]],'Similar 10 CCGs'!$A$6:$C$160,3,FALSE)","v":"Depression (ages 18+) Prevalence"},"2011/12","03K",12035,null,134493,8.9499999999999993,8.8000000000000007,9.1,116.83805026143919,131.88010710290698,null,11.86,10.154,"C","Y54","X24","1091","Wilson"]
[109,{"$f":"VLOOKUP(tblData[[#This Row],[Indicator ID]],'Similar 10 CCGs'!$A$6:$C$160,3,FALSE)","v":"Depression (ages 18+) Prevalence"},"2011/12","03L",29854,null,200360,14.9,14.74,15.06,116.83805026143919,131.88010710290698,null,14.082999999999998,12.620000000000001,"A","Y54","X24","1091","Wilson"]
[109,{"$f":"VLOOKUP(tblData[[#This Row],[Indicator ID]],'Similar 10 CCGs'!$A$6:$C$160,3,FALSE)","v":"Depression (ages 18+) Prevalence"},"2011/12","03M",13474,null,95816,14.06,13.84,14.28,116.83805026143919,131.88010710290698,null,12.622,11.226000000000001,"A","Y54","X24","1091","Wilson"]
[109,{"$f":"VLOOKUP(tblData[[#This Row],[Indicator ID]],'Similar 10 CCGs'!$A$6:$C$160,3,FALSE)","v":"Depression (ages 18+) Prevalence"},"2011/12","03N",54532,null,444560,12.27,12.17,12.37,116.83805026143919,131.88010710290698,null,12.093999999999999,10.334,"B","Y54","X24","1091","Wilson"]
[109,{"$f":"VLOOKUP(tblData[[#This Row],[Indicator ID]],'Similar 10 CCGs'!$A$6:$C$160,3,FALSE)","v":"Depression (ages 18+) Prevalence"},"2011/12","03Q",35728,null,273758,13.05,12.92,13.18,116.83805026143919,131.88010710290698,null,12.373000000000001,10.923999999999999,"","Y54","X24","1091","Wilson"]
[109,{"$f":"VLOOKUP(tblData[[#This Row],[Indicator ID]],'Similar 10 CCGs'!$A$6:$C$160,3,FALSE)","v":"Depression (ages 18+) Prevalence"},"2011/12","03R",37711,null,281138,13.41,13.28,13.54,116.83805026143919,131.88010710290698,null,13.528,11.756,"C","Y54","X24","1091","Wilson"]
[109,{"$f":"VLOOKUP(tblData[[#This Row],[Indicator ID]],'Similar 10 CCGs'!$A$6:$C$160,3,FALSE)","v":"Depression (ages 18+) Prevalence"},"2011/12","03T",24140,null,197440,12.23,12.09,12.38,116.83805026143919,118.2198812416531,null,13.598999999999998,11.562000000000001,"","Y55","X24","1091","Wilson"]
[109,{"$f":"VLOOKUP(tblData[[#This Row],[Indicator ID]],'Similar 10 CCGs'!$A$6:$C$160,3,FALSE)","v":"Depression (ages 18+) Prevalence"},"2011/12","03V",7480,null,53568,13.96,13.67,14.26,116.83805026143919,118.2198812416531,null,13.187000000000001,11.23,"A","Y55","X24","1091","Wilson"]
[109,{"$f":"VLOOKUP(tblData[[#This Row],[Indicator ID]],'Similar 10 CCGs'!$A$6:$C$160,3,FALSE)","v":"Depression (ages 18+) Prevalence"},"2011/12","03W",33613,null,252608,13.31,13.18,13.44,116.83805026143919,118.2198812416531,null,12.290999999999999,10.871999999999998,"","Y55","X24","1091","Wilson"]
[109,{"$f":"VLOOKUP(tblData[[#This Row],[Indicator ID]],'Similar 10 CCGs'!$A$6:$C$160,3,FALSE)","v":"Depression (ages 18+) Prevalence"},"2011/12","03X",9327,null,78168,11.93,11.7,12.16,116.83805026143919,118.2198812416531,null,11.357999999999999,9.7119999999999997,"A","Y55","X24","1091","Wilson"]
[109,{"$f":"VLOOKUP(tblData[[#This Row],[Indicator ID]],'Similar 10 CCGs'!$A$6:$C$160,3,FALSE)","v":"Depression (ages 18+) Prevalence"},"2011/12","03Y",8648,null,82213,10.52,10.31,10.73,116.83805026143919,118.2198812416531,null,12.524000000000001,10.248000000000001,"","Y55","X24","1091","Wilson"]
[109,{"$f":"VLOOKUP(tblData[[#This Row],[Indicator ID]],'Similar 10 CCGs'!$A$6:$C$160,3,FALSE)","v":"Depression (ages 18+) Prevalence"},"2011/12","04C",30831,null,283806,10.86,10.75,10.97,116.83805026143919,118.2198812416531,null,9.6880000000000006,7.6259999999999994,"","Y55","X24","1091","Wilson"]
[109,{"$f":"VLOOKUP(tblData[[#This Row],[Indicator ID]],'Similar 10 CCGs'!$A$6:$C$160,3,FALSE)","v":"Depression (ages 18+) Prevalence"},"2011/12","04D",22061,null,179653,12.28,12.13,12.43,116.83805026143919,118.2198812416531,null,11.785999999999998,9.7059999999999995,"","Y55","X24","1091","Wilson"]
[109,{"$f":"VLOOKUP(tblData[[#This Row],[Indicator ID]],'Similar 10 CCGs'!$A$6:$C$160,3,FALSE)","v":"Depression (ages 18+) Prevalence"},"2011/12","04E",12349,null,146042,8.4600000000000009,8.32,8.6,116.83805026143919,118.2198812416531,null,14.102,12.128,"C","Y55","X24","1091","Wilson"]
[109,{"$f":"VLOOKUP(tblData[[#This Row],[Indicator ID]],'Similar 10 CCGs'!$A$6:$C$160,3,FALSE)","v":"Depression (ages 18+) Prevalence"},"2011/12","04F",19843,null,201994,9.82,9.69,9.9499999999999993,116.83805026143919,118.2198812416531,null,10.593999999999999,8.5659999999999989,"A","Y55","X24","1091","Wilson"]
[109,{"$f":"VLOOKUP(tblData[[#This Row],[Indicator ID]],'Similar 10 CCGs'!$A$6:$C$160,3,FALSE)","v":"Depression (ages 18+) Prevalence"},"2011/12","04G",70914,null,492032,14.41,14.31,14.51,116.83805026143919,118.2198812416531,null,11.577999999999999,10.356,"A","Y55","X24","1091","Wilson"]
[109,{"$f":"VLOOKUP(tblData[[#This Row],[Indicator ID]],'Similar 10 CCGs'!$A$6:$C$160,3,FALSE)","v":"Depression (ages 18+) Prevalence"},"2011/12","04H",12874,null,102518,12.56,12.36,12.76,116.83805026143919,118.2198812416531,null,12.138999999999999,9.597999999999999,"A","Y55","X24","1091","Wilson"]
[109,{"$f":"VLOOKUP(tblData[[#This Row],[Indicator ID]],'Similar 10 CCGs'!$A$6:$C$160,3,FALSE)","v":"Depression (ages 18+) Prevalence"},"2011/12","04J",30397,null,227537,13.36,13.22,13.5,116.83805026143919,118.2198812416531,null,12.981,11.186000000000002,"A","Y55","X24","1091","Wilson"]
[109,{"$f":"VLOOKUP(tblData[[#This Row],[Indicator ID]],'Similar 10 CCGs'!$A$6:$C$160,3,FALSE)","v":"Depression (ages 18+) Prevalence"},"2011/12","04K",28196,null,267819,10.53,10.41,10.65,116.83805026143919,118.2198812416531,null,11.944999999999999,10.522,"","Y55","X24","1091","Wilson"]
[109,{"$f":"VLOOKUP(tblData[[#This Row],[Indicator ID]],'Similar 10 CCGs'!$A$6:$C$160,3,FALSE)","v":"Depression (ages 18+) Prevalence"},"2011/12","04L",13122,null,116280,11.28,11.1,11.46,116.83805026143919,118.2198812416531,null,12.331999999999997,10.506,"","Y55","X24","1091","Wilson"]
[109,{"$f":"VLOOKUP(tblData[[#This Row],[Indicator ID]],'Similar 10 CCGs'!$A$6:$C$160,3,FALSE)","v":"Depression (ages 18+) Prevalence"},"2011/12","04M",8963,null,75601,11.86,11.63,12.09,116.83805026143919,118.2198812416531,null,12.395,11.01,"B","Y55","X24","1091","Wilson"]
[109,{"$f":"VLOOKUP(tblData[[#This Row],[Indicator ID]],'Similar 10 CCGs'!$A$6:$C$160,3,FALSE)","v":"Depression (ages 18+) Prevalence"},"2011/12","04N",9557,null,97617,9.7899999999999991,9.61,9.98,116.83805026143919,118.2198812416531,null,13.01,11.972,"C","Y55","X24","1091","Wilson"]
[109,{"$f":"VLOOKUP(tblData[[#This Row],[Indicator ID]],'Similar 10 CCGs'!$A$6:$C$160,3,FALSE)","v":"Depression (ages 18+) Prevalence"},"2011/12","04Q",13899,null,103368,13.45,13.24,13.66,116.83805026143919,118.2198812416531,null,13.278,11.98,"B","Y55","X24","1091","Wilson"]
[109,{"$f":"VLOOKUP(tblData[[#This Row],[Indicator ID]],'Similar 10 CCGs'!$A$6:$C$160,3,FALSE)","v":"Depression (ages 18+) Prevalence"},"2011/12","04R",46982,null,414242,11.34,11.24,11.44,116.83805026143919,118.2198812416531,null,12.510999999999999,10.626000000000001,"","Y55","X24","1091","Wilson"]
[109,{"$f":"VLOOKUP(tblData[[#This Row],[Indicator ID]],'Similar 10 CCGs'!$A$6:$C$160,3,FALSE)","v":"Depression (ages 18+) Prevalence"},"2011/12","04V",46224,null,293651,15.74,15.61,15.87,116.83805026143919,118.2198812416531,null,12.099,10.638,"A","Y55","X24","1091","Wilson"]
[109,{"$f":"VLOOKUP(tblData[[#This Row],[Indicator ID]],'Similar 10 CCGs'!$A$6:$C$160,3,FALSE)","v":"Depression (ages 18+) Prevalence"},"2011/12","04X",23453,null,184310,12.72,12.57,12.87,116.83805026143919,118.2198812416531,null,11.132,9.52,"A","Y55","X24","1091","Wilson"]
[109,{"$f":"VLOOKUP(tblData[[#This Row],[Indicator ID]],'Similar 10 CCGs'!$A$6:$C$160,3,FALSE)","v":"Depression (ages 18+) Prevalence"},"2011/12","04Y",11001,null,105146,10.46,10.28,10.65,116.83805026143919,118.2198812416531,null,11.645999999999997,9.99,"","Y55","X24","1091","Wilson"]
[109,{"$f":"VLOOKUP(tblData[[#This Row],[Indicator ID]],'Similar 10 CCGs'!$A$6:$C$160,3,FALSE)","v":"Depression (ages 18+) Prevalence"},"2011/12","05A",38569,null,360162,10.71,10.61,10.81,116.83805026143919,118.2198812416531,null,12.166999999999998,10.209999999999999,"C","Y55","X24","1091","Wilson"]
[109,{"$f":"VLOOKUP(tblData[[#This Row],[Indicator ID]],'Similar 10 CCGs'!$A$6:$C$160,3,FALSE)","v":"Depression (ages 18+) Prevalence"},"2011/12","05C",26285,null,249403,10.54,10.42,10.66,116.83805026143919,118.2198812416531,null,11.099999999999998,9.4920000000000009,"","Y55","X24","1091","Wilson"]
[109,{"$f":"VLOOKUP(tblData[[#This Row],[Indicator ID]],'Similar 10 CCGs'!$A$6:$C$160,3,FALSE)","v":"Depression (ages 18+) Prevalence"},"2011/12","05D",12887,null,105584,12.21,12.01,12.41,116.83805026143919,118.2198812416531,null,11.53,9.0459999999999994,"","Y55","X24","1091","Wilson"]
[109,{"$f":"VLOOKUP(tblData[[#This Row],[Indicator ID]],'Similar 10 CCGs'!$A$6:$C$160,3,FALSE)","v":"Depression (ages 18+) Prevalence"},"2011/12","05F",19054,null,147630,12.91,12.74,13.08,116.83805026143919,118.2198812416531,null,12.513999999999999,11.044,"A","Y55","X24","1091","Wilson"]
[109,{"$f":"VLOOKUP(tblData[[#This Row],[Indicator ID]],'Similar 10 CCGs'!$A$6:$C$160,3,FALSE)","v":"Depression (ages 18+) Prevalence"},"2011/12","05G",17884,null,172649,10.36,10.220000000000001,10.5,116.83805026143919,118.2198812416531,null,12.909000000000001,10.802000000000001,"C","Y55","X24","1091","Wilson"]
[109,{"$f":"VLOOKUP(tblData[[#This Row],[Indicator ID]],'Similar 10 CCGs'!$A$6:$C$160,3,FALSE)","v":"Depression (ages 18+) Prevalence"},"2011/12","05H",11471,null,146241,7.84,7.7,7.98,116.83805026143919,118.2198812416531,null,12.906000000000001,11.180000000000001,"C","Y55","X24","1091","Wilson"]
[109,{"$f":"VLOOKUP(tblData[[#This Row],[Indicator ID]],'Similar 10 CCGs'!$A$6:$C$160,3,FALSE)","v":"Depression (ages 18+) Prevalence"},"2011/12","05J",19603,null,136054,14.41,14.22,14.6,116.83805026143919,118.2198812416531,null,11.712,9.9300000000000015,"A","Y55","X24","1091","Wilson"]
[109,{"$f":"VLOOKUP(tblData[[#This Row],[Indicator ID]],'Similar 10 CCGs'!$A$6:$C$160,3,FALSE)","v":"Depression (ages 18+) Prevalence"},"2011/12","05L",34449,null,401785,8.57,8.48,8.66,116.83805026143919,118.2198812416531,null,9.9409999999999989,7.85,"C","Y55","X24","1091","Wilson"]
[109,{"$f":"VLOOKUP(tblData[[#This Row],[Indicator ID]],'Similar 10 CCGs'!$A$6:$C$160,3,FALSE)","v":"Depression (ages 18+) Prevalence"},"2011/12","05N",32814,null,241796,13.57,13.43,13.71,116.83805026143919,118.2198812416531,null,13.518000000000001,12.323999999999998,"B","Y55","X24","1091","Wilson"]
[109,{"$f":"VLOOKUP(tblData[[#This Row],[Indicator ID]],'Similar 10 CCGs'!$A$6:$C$160,3,FALSE)","v":"Depression (ages 18+) Prevalence"},"2011/12","05P",23569,null,186246,12.65,12.5,12.8,116.83805026143919,118.2198812416531,null,10.023999999999997,7.5040000000000004,"A","Y55","X24","1091","Wilson"]
[109,{"$f":"VLOOKUP(tblData[[#This Row],[Indicator ID]],'Similar 10 CCGs'!$A$6:$C$160,3,FALSE)","v":"Depression (ages 18+) Prevalence"},"2011/12","05Q",19799,null,167020,11.85,11.7,12.01,116.83805026143919,118.2198812416531,null,12.530000000000001,10.894,"A","Y55","X24","1091","Wilson"]
[109,{"$f":"VLOOKUP(tblData[[#This Row],[Indicator ID]],'Similar 10 CCGs'!$A$6:$C$160,3,FALSE)","v":"Depression (ages 18+) Prevalence"},"2011/12","05R",26665,null,219983,12.12,11.98,12.26,116.83805026143919,118.2198812416531,null,13.821999999999999,12.481999999999999,"C","Y55","X24","1091","Wilson"]
[109,{"$f":"VLOOKUP(tblData[[#This Row],[Indicator ID]],'Similar 10 CCGs'!$A$6:$C$160,3,FALSE)","v":"Depression (ages 18+) Prevalence"},"2011/12","05T",30588,null,235378,13,12.86,13.14,116.83805026143919,118.2198812416531,null,13.669,11.93,"","Y55","X24","1091","Wilson"]
[109,{"$f":"VLOOKUP(tblData[[#This Row],[Indicator ID]],'Similar 10 CCGs'!$A$6:$C$160,3,FALSE)","v":"Depression (ages 18+) Prevalence"},"2011/12","05V",14672,null,117601,12.48,12.29,12.67,116.83805026143919,118.2198812416531,null,13.658000000000001,11.681999999999999,"","Y55","X24","1091","Wilson"]
[109,{"$f":"VLOOKUP(tblData[[#This Row],[Indicator ID]],'Similar 10 CCGs'!$A$6:$C$160,3,FALSE)","v":"Depression (ages 18+) Prevalence"},"2011/12","05W",35071,null,217461,16.13,15.98,16.29,116.83805026143919,118.2198812416531,null,13.168000000000001,10.552,"A","Y55","X24","1091","Wilson"]
[109,{"$f":"VLOOKUP(tblData[[#This Row],[Indicator ID]],'Similar 10 CCGs'!$A$6:$C$160,3,FALSE)","v":"Depression (ages 18+) Prevalence"},"2011/12","05X",20864,null,133211,15.66,15.47,15.86,116.83805026143919,118.2198812416531,null,12.290000000000001,10.246,"A","Y55","X24","1091","Wilson"]
[109,{"$f":"VLOOKUP(tblData[[#This Row],[Indicator ID]],'Similar 10 CCGs'!$A$6:$C$160,3,FALSE)","v":"Depression (ages 18+) Prevalence"},"2011/12","05Y",22814,null,208080,10.96,10.83,11.09,116.83805026143919,118.2198812416531,null,12.478000000000002,10.742000000000001,"","Y55","X24","1091","Wilson"]
[109,{"$f":"VLOOKUP(tblData[[#This Row],[Indicator ID]],'Similar 10 CCGs'!$A$6:$C$160,3,FALSE)","v":"Depression (ages 18+) Prevalence"},"2011/12","06A",23028,null,203055,11.34,11.2,11.48,116.83805026143919,118.2198812416531,null,12.499000000000001,10.852,"","Y55","X24","1091","Wilson"]
[109,{"$f":"VLOOKUP(tblData[[#This Row],[Indicator ID]],'Similar 10 CCGs'!$A$6:$C$160,3,FALSE)","v":"Depression (ages 18+) Prevalence"},"2011/12","06D",16003,null,91160,17.55,17.3,17.8,116.83805026143919,118.2198812416531,null,13.119,10.827999999999999,"A","Y55","X24","1091","Wilson"]
[109,{"$f":"VLOOKUP(tblData[[#This Row],[Indicator ID]],'Similar 10 CCGs'!$A$6:$C$160,3,FALSE)","v":"Depression (ages 18+) Prevalence"},"2011/12","06F",43404,null,342099,12.69,12.58,12.8,116.83805026143919,118.2198812416531,null,10.613999999999999,9.2000000000000011,"A","Y55","X24","1091","Wilson"]
[109,{"$f":"VLOOKUP(tblData[[#This Row],[Indicator ID]],'Similar 10 CCGs'!$A$6:$C$160,3,FALSE)","v":"Depression (ages 18+) Prevalence"},"2011/12","06H",86360,null,678643,12.73,12.65,12.81,116.83805026143919,118.2198812416531,null,12.225999999999999,11.112,"A","Y55","X24","1091","Wilson"]
[109,{"$f":"VLOOKUP(tblData[[#This Row],[Indicator ID]],'Similar 10 CCGs'!$A$6:$C$160,3,FALSE)","v":"Depression (ages 18+) Prevalence"},"2011/12","06K",49413,null,443488,11.14,11.05,11.23,116.83805026143919,118.2198812416531,null,11.246,10.042000000000002,"","Y55","X24","1091","Wilson"]
[109,{"$f":"VLOOKUP(tblData[[#This Row],[Indicator ID]],'Similar 10 CCGs'!$A$6:$C$160,3,FALSE)","v":"Depression (ages 18+) Prevalence"},"2011/12","06L",43798,null,308978,14.18,14.06,14.3,116.83805026143919,118.2198812416531,null,12.350999999999999,10.632,"A","Y55","X24","1091","Wilson"]
[109,{"$f":"VLOOKUP(tblData[[#This Row],[Indicator ID]],'Similar 10 CCGs'!$A$6:$C$160,3,FALSE)","v":"Depression (ages 18+) Prevalence"},"2011/12","06M",28561,null,186578,15.31,15.15,15.47,116.83805026143919,118.2198812416531,null,12.225999999999999,10.458000000000002,"A","Y55","X24","1091","Wilson"]
[109,{"$f":"VLOOKUP(tblData[[#This Row],[Indicator ID]],'Similar 10 CCGs'!$A$6:$C$160,3,FALSE)","v":"Depression (ages 18+) Prevalence"},"2011/12","06N",57327,null,468110,12.25,12.16,12.34,116.83805026143919,118.2198812416531,null,11.347999999999999,10.158000000000001,"A","Y55","X24","1091","Wilson"]
[109,{"$f":"VLOOKUP(tblData[[#This Row],[Indicator ID]],'Similar 10 CCGs'!$A$6:$C$160,3,FALSE)","v":"Depression (ages 18+) Prevalence"},"2011/12","06P",12000,null,158382,7.58,7.45,7.71,116.83805026143919,118.2198812416531,null,9.85,7.49,"","Y55","X24","1091","Wilson"]
[109,{"$f":"VLOOKUP(tblData[[#This Row],[Indicator ID]],'Similar 10 CCGs'!$A$6:$C$160,3,FALSE)","v":"Depression (ages 18+) Prevalence"},"2011/12","06Q",26730,null,300849,8.8800000000000008,8.7799999999999994,8.98,116.83805026143919,118.2198812416531,null,11.880999999999998,10.486000000000001,"C","Y55","X24","1091","Wilson"]
[109,{"$f":"VLOOKUP(tblData[[#This Row],[Indicator ID]],'Similar 10 CCGs'!$A$6:$C$160,3,FALSE)","v":"Depression (ages 18+) Prevalence"},"2011/12","06T",27061,null,262013,10.33,10.210000000000001,10.45,116.83805026143919,118.2198812416531,null,13.3,11.586,"C","Y55","X24","1091","Wilson"]
[109,{"$f":"VLOOKUP(tblData[[#This Row],[Indicator ID]],'Similar 10 CCGs'!$A$6:$C$160,3,FALSE)","v":"Depression (ages 18+) Prevalence"},"2011/12","06V",18061,null,139226,12.97,12.79,13.15,116.83805026143919,118.2198812416531,null,14.024000000000001,12.266,"","Y55","X24","1091","Wilson"]
[109,{"$f":"VLOOKUP(tblData[[#This Row],[Indicator ID]],'Similar 10 CCGs'!$A$6:$C$160,3,FALSE)","v":"Depression (ages 18+) Prevalence"},"2011/12","06W",17121,null,167249,10.24,10.1,10.39,116.83805026143919,118.2198812416531,null,13.700999999999999,11.068000000000001,"","Y55","X24","1091","Wilson"]
[109,{"$f":"VLOOKUP(tblData[[#This Row],[Indicator ID]],'Similar 10 CCGs'!$A$6:$C$160,3,FALSE)","v":"Depression (ages 18+) Prevalence"},"2011/12","06Y",21860,null,177163,12.34,12.19,12.49,116.83805026143919,118.2198812416531,null,13.079999999999998,11.892000000000001,"","Y55","X24","1091","Wilson"]
[109,{"$f":"VLOOKUP(tblData[[#This Row],[Indicator ID]],'Similar 10 CCGs'!$A$6:$C$160,3,FALSE)","v":"Depression (ages 18+) Prevalence"},"2011/12","07G",10508,null,122393,8.59,8.43,8.75,116.83805026143919,118.2198812416531,null,11.228,9.3439999999999994,"","Y55","X24","1091","Wilson"]
[109,{"$f":"VLOOKUP(tblData[[#This Row],[Indicator ID]],'Similar 10 CCGs'!$A$6:$C$160,3,FALSE)","v":"Depression (ages 18+) Prevalence"},"2011/12","07H",28076,null,229050,12.26,12.13,12.39,116.83805026143919,118.2198812416531,null,12.641,10.728,"A","Y55","X24","1091","Wilson"]
[109,{"$f":"VLOOKUP(tblData[[#This Row],[Indicator ID]],'Similar 10 CCGs'!$A$6:$C$160,3,FALSE)","v":"Depression (ages 18+) Prevalence"},"2011/12","07J",17661,null,134307,13.15,12.97,13.33,116.83805026143919,118.2198812416531,null,12.895999999999997,10.974,"A","Y55","X24","1091","Wilson"]
[109,{"$f":"VLOOKUP(tblData[[#This Row],[Indicator ID]],'Similar 10 CCGs'!$A$6:$C$160,3,FALSE)","v":"Depression (ages 18+) Prevalence"},"2011/12","07K",26983,null,190923,14.13,13.97,14.29,116.83805026143919,118.2198812416531,null,13.279,12.402000000000001,"A","Y55","X24","1091","Wilson"]
[109,{"$f":"VLOOKUP(tblData[[#This Row],[Indicator ID]],'Similar 10 CCGs'!$A$6:$C$160,3,FALSE)","v":"Depression (ages 18+) Prevalence"},"2011/12","07L",6954,null,146473,4.75,4.6399999999999997,4.8600000000000003,116.83805026143919,80.714616065951375,null,8.8249999999999993,7.3559999999999999,"C","Y56","X24","1091","Wilson"]
[109,{"$f":"VLOOKUP(tblData[[#This Row],[Indicator ID]],'Similar 10 CCGs'!$A$6:$C$160,3,FALSE)","v":"Depression (ages 18+) Prevalence"},"2011/12","07M",24754,null,292649,8.4600000000000009,8.36,8.56,116.83805026143919,80.714616065951375,null,9.8729999999999993,8.33,"","Y56","X24","1091","Wilson"]
[109,{"$f":"VLOOKUP(tblData[[#This Row],[Indicator ID]],'Similar 10 CCGs'!$A$6:$C$160,3,FALSE)","v":"Depression (ages 18+) Prevalence"},"2011/12","07N",13669,null,177419,7.7,7.58,7.82,116.83805026143919,80.714616065951375,null,9.7100000000000009,7.6719999999999997,"C","Y56","X24","1091","Wilson"]
[109,{"$f":"VLOOKUP(tblData[[#This Row],[Indicator ID]],'Similar 10 CCGs'!$A$6:$C$160,3,FALSE)","v":"Depression (ages 18+) Prevalence"},"2011/12","07P",17145,null,258944,6.62,6.52,6.72,116.83805026143919,80.714616065951375,null,7.6789999999999994,6.7120000000000006,"C","Y56","X24","1091","Wilson"]
[109,{"$f":"VLOOKUP(tblData[[#This Row],[Indicator ID]],'Similar 10 CCGs'!$A$6:$C$160,3,FALSE)","v":"Depression (ages 18+) Prevalence"},"2011/12","07Q",30787,null,256796,11.99,11.86,12.12,116.83805026143919,80.714616065951375,null,10.015000000000001,7.9,"A","Y56","X24","1091","Wilson"]
[109,{"$f":"VLOOKUP(tblData[[#This Row],[Indicator ID]],'Similar 10 CCGs'!$A$6:$C$160,3,FALSE)","v":"Depression (ages 18+) Prevalence"},"2011/12","07R",20098,null,210391,9.5500000000000007,9.43,9.68,116.83805026143919,80.714616065951375,null,11.285,9.4460000000000015,"A","Y56","X24","1091","Wilson"]
[109,{"$f":"VLOOKUP(tblData[[#This Row],[Indicator ID]],'Similar 10 CCGs'!$A$6:$C$160,3,FALSE)","v":"Depression (ages 18+) Prevalence"},"2011/12","07T",22748,null,221871,10.25,10.119999999999999,10.38,116.83805026143919,80.714616065951375,null,8.3199999999999985,7.1880000000000006,"A","Y56","X24","1091","Wilson"]
[109,{"$f":"VLOOKUP(tblData[[#This Row],[Indicator ID]],'Similar 10 CCGs'!$A$6:$C$160,3,FALSE)","v":"Depression (ages 18+) Prevalence"},"2011/12","07V",21996,null,295899,7.43,7.34,7.53,116.83805026143919,80.714616065951375,null,7.8099999999999978,6.6280000000000001,"C","Y56","X24","1091","Wilson"]
[109,{"$f":"VLOOKUP(tblData[[#This Row],[Indicator ID]],'Similar 10 CCGs'!$A$6:$C$160,3,FALSE)","v":"Depression (ages 18+) Prevalence"},"2011/12","07W",19822,null,305175,6.5,6.41,6.59,116.83805026143919,80.714616065951375,null,8.3819999999999979,6.7120000000000006,"C","Y56","X24","1091","Wilson"]
[109,{"$f":"VLOOKUP(tblData[[#This Row],[Indicator ID]],'Similar 10 CCGs'!$A$6:$C$160,3,FALSE)","v":"Depression (ages 18+) Prevalence"},"2011/12","07X",17508,null,219150,7.99,7.88,8.1,116.83805026143919,80.714616065951375,null,8.0090000000000003,6.9740000000000011,"","Y56","X24","1091","Wilson"]
[109,{"$f":"VLOOKUP(tblData[[#This Row],[Indicator ID]],'Similar 10 CCGs'!$A$6:$C$160,3,FALSE)","v":"Depression (ages 18+) Prevalence"},"2011/12","07Y",14583,null,217127,6.72,6.62,6.83,116.83805026143919,80.714616065951375,null,8.1149999999999984,6.668000000000001,"","Y56","X24","1091","Wilson"]
[109,{"$f":"VLOOKUP(tblData[[#This Row],[Indicator ID]],'Similar 10 CCGs'!$A$6:$C$160,3,FALSE)","v":"Depression (ages 18+) Prevalence"},"2011/12","08A",16651,null,210857,7.9,7.79,8.02,116.83805026143919,80.714616065951375,null,8.1350000000000016,6.5340000000000007,"C","Y56","X24","1091","Wilson"]
[109,{"$f":"VLOOKUP(tblData[[#This Row],[Indicator ID]],'Similar 10 CCGs'!$A$6:$C$160,3,FALSE)","v":"Depression (ages 18+) Prevalence"},"2011/12","08C",12411,null,160881,7.71,7.58,7.84,116.83805026143919,80.714616065951375,null,8.5009999999999994,7.0340000000000007,"","Y56","X24","1091","Wilson"]
[109,{"$f":"VLOOKUP(tblData[[#This Row],[Indicator ID]],'Similar 10 CCGs'!$A$6:$C$160,3,FALSE)","v":"Depression (ages 18+) Prevalence"},"2011/12","08D",15849,null,213880,7.41,7.3,7.52,116.83805026143919,80.714616065951375,null,8.227999999999998,6.6219999999999999,"","Y56","X24","1091","Wilson"]
[109,{"$f":"VLOOKUP(tblData[[#This Row],[Indicator ID]],'Similar 10 CCGs'!$A$6:$C$160,3,FALSE)","v":"Depression (ages 18+) Prevalence"},"2011/12","08E",12736,null,174788,7.29,7.17,7.41,116.83805026143919,80.714616065951375,null,8.1010000000000009,6.9179999999999993,"","Y56","X24","1091","Wilson"]
[109,{"$f":"VLOOKUP(tblData[[#This Row],[Indicator ID]],'Similar 10 CCGs'!$A$6:$C$160,3,FALSE)","v":"Depression (ages 18+) Prevalence"},"2011/12","08F",11146,null,204063,5.46,5.36,5.56,116.83805026143919,80.714616065951375,null,11.278,9.918000000000001,"C","Y56","X24","1091","Wilson"]
[109,{"$f":"VLOOKUP(tblData[[#This Row],[Indicator ID]],'Similar 10 CCGs'!$A$6:$C$160,3,FALSE)","v":"Depression (ages 18+) Prevalence"},"2011/12","08G",19982,null,217711,9.18,9.06,9.3000000000000007,116.83805026143919,80.714616065951375,null,9.2539999999999996,7.31,"A","Y56","X24","1091","Wilson"]
[109,{"$f":"VLOOKUP(tblData[[#This Row],[Indicator ID]],'Similar 10 CCGs'!$A$6:$C$160,3,FALSE)","v":"Depression (ages 18+) Prevalence"},"2011/12","08H",22692,null,179658,12.63,12.48,12.78,116.83805026143919,80.714616065951375,null,8.5130000000000017,7.2120000000000006,"A","Y56","X24","1091","Wilson"]
[109,{"$f":"VLOOKUP(tblData[[#This Row],[Indicator ID]],'Similar 10 CCGs'!$A$6:$C$160,3,FALSE)","v":"Depression (ages 18+) Prevalence"},"2011/12","08J",10844,null,148135,7.32,7.19,7.45,116.83805026143919,80.714616065951375,null,10.220000000000001,8.4420000000000002,"C","Y56","X24","1091","Wilson"]
[109,{"$f":"VLOOKUP(tblData[[#This Row],[Indicator ID]],'Similar 10 CCGs'!$A$6:$C$160,3,FALSE)","v":"Depression (ages 18+) Prevalence"},"2011/12","08K",26284,null,310072,8.48,8.3800000000000008,8.58,116.83805026143919,80.714616065951375,null,7.884999999999998,6.9420000000000002,"B","Y56","X24","1091","Wilson"]
[109,{"$f":"VLOOKUP(tblData[[#This Row],[Indicator ID]],'Similar 10 CCGs'!$A$6:$C$160,3,FALSE)","v":"Depression (ages 18+) Prevalence"},"2011/12","08L",24802,null,238535,10.4,10.28,10.52,116.83805026143919,80.714616065951375,null,7.4889999999999999,6.5340000000000007,"A","Y56","X24","1091","Wilson"]
[109,{"$f":"VLOOKUP(tblData[[#This Row],[Indicator ID]],'Similar 10 CCGs'!$A$6:$C$160,3,FALSE)","v":"Depression (ages 18+) Prevalence"},"2011/12","08M",18002,null,276736,6.51,6.42,6.6,116.83805026143919,80.714616065951375,null,8.5939999999999976,6.8079999999999998,"C","Y56","X24","1091","Wilson"]
[109,{"$f":"VLOOKUP(tblData[[#This Row],[Indicator ID]],'Similar 10 CCGs'!$A$6:$C$160,3,FALSE)","v":"Depression (ages 18+) Prevalence"},"2011/12","08N",14129,null,218321,6.47,6.37,6.57,116.83805026143919,80.714616065951375,null,8.293000000000001,6.92,"C","Y56","X24","1091","Wilson"]
[109,{"$f":"VLOOKUP(tblData[[#This Row],[Indicator ID]],'Similar 10 CCGs'!$A$6:$C$160,3,FALSE)","v":"Depression (ages 18+) Prevalence"},"2011/12","08P",10497,null,155847,6.74,6.62,6.87,116.83805026143919,80.714616065951375,null,11.552999999999999,9.6579999999999995,"C","Y56","X24","1091","Wilson"]
[109,{"$f":"VLOOKUP(tblData[[#This Row],[Indicator ID]],'Similar 10 CCGs'!$A$6:$C$160,3,FALSE)","v":"Depression (ages 18+) Prevalence"},"2011/12","08Q",20266,null,261845,7.74,7.64,7.84,116.83805026143919,80.714616065951375,null,8.5709999999999997,7.2100000000000009,"","Y56","X24","1091","Wilson"]
[109,{"$f":"VLOOKUP(tblData[[#This Row],[Indicator ID]],'Similar 10 CCGs'!$A$6:$C$160,3,FALSE)","v":"Depression (ages 18+) Prevalence"},"2011/12","08R",14917,null,167081,8.93,8.7899999999999991,9.07,116.83805026143919,80.714616065951375,null,8.4220000000000006,6.7480000000000002,"A","Y56","X24","1091","Wilson"]
[109,{"$f":"VLOOKUP(tblData[[#This Row],[Indicator ID]],'Similar 10 CCGs'!$A$6:$C$160,3,FALSE)","v":"Depression (ages 18+) Prevalence"},"2011/12","08T",14993,null,143481,10.45,10.29,10.61,116.83805026143919,80.714616065951375,null,9.7830000000000013,7.3780000000000001,"","Y56","X24","1091","Wilson"]
[109,{"$f":"VLOOKUP(tblData[[#This Row],[Indicator ID]],'Similar 10 CCGs'!$A$6:$C$160,3,FALSE)","v":"Depression (ages 18+) Prevalence"},"2011/12","08V",20461,null,215379,9.5,9.3800000000000008,9.6199999999999992,116.83805026143919,80.714616065951375,null,8.4839999999999982,6.5540000000000003,"A","Y56","X24","1091","Wilson"]
[109,{"$f":"VLOOKUP(tblData[[#This Row],[Indicator ID]],'Similar 10 CCGs'!$A$6:$C$160,3,FALSE)","v":"Depression (ages 18+) Prevalence"},"2011/12","08W",14560,null,225416,6.46,6.36,6.56,116.83805026143919,80.714616065951375,null,7.8760000000000021,6.5419999999999998,"","Y56","X24","1091","Wilson"]
[109,{"$f":"VLOOKUP(tblData[[#This Row],[Indicator ID]],'Similar 10 CCGs'!$A$6:$C$160,3,FALSE)","v":"Depression (ages 18+) Prevalence"},"2011/12","08X",22398,null,285308,7.85,7.75,7.95,116.83805026143919,80.714616065951375,null,8.6380000000000017,6.742,"","Y56","X24","1091","Wilson"]
[109,{"$f":"VLOOKUP(tblData[[#This Row],[Indicator ID]],'Similar 10 CCGs'!$A$6:$C$160,3,FALSE)","v":"Depression (ages 18+) Prevalence"},"2011/12","08Y",17373,null,185448,9.3699999999999992,9.24,9.5,116.83805026143919,80.714616065951375,null,8.6780000000000008,7.3519999999999994,"A","Y56","X24","1091","Wilson"]
[109,{"$f":"VLOOKUP(tblData[[#This Row],[Indicator ID]],'Similar 10 CCGs'!$A$6:$C$160,3,FALSE)","v":"Depression (ages 18+) Prevalence"},"2011/12","09A",10377,null,160455,6.47,6.35,6.59,116.83805026143919,80.714616065951375,null,10.731,8.9940000000000015,"C","Y56","X24","1091","Wilson"]
[109,{"$f":"VLOOKUP(tblData[[#This Row],[Indicator ID]],'Similar 10 CCGs'!$A$6:$C$160,3,FALSE)","v":"Depression (ages 18+) Prevalence"},"2011/12","09C",12661,null,95723,13.23,13.02,13.45,116.83805026143919,120.94354266820311,null,13.176999999999998,11.996,"A","Y57","X24","1091","Wilson"]
[109,{"$f":"VLOOKUP(tblData[[#This Row],[Indicator ID]],'Similar 10 CCGs'!$A$6:$C$160,3,FALSE)","v":"Depression (ages 18+) Prevalence"},"2011/12","09D",31044,null,244601,12.69,12.56,12.82,116.83805026143919,120.94354266820311,null,13.573999999999998,11.634,"","Y57","X24","1091","Wilson"]
[109,{"$f":"VLOOKUP(tblData[[#This Row],[Indicator ID]],'Similar 10 CCGs'!$A$6:$C$160,3,FALSE)","v":"Depression (ages 18+) Prevalence"},"2011/12","09E",15863,null,169492,9.36,9.2200000000000006,9.5,116.83805026143919,120.94354266820311,null,13.200999999999999,11.802000000000001,"C","Y57","X24","1091","Wilson"]
[109,{"$f":"VLOOKUP(tblData[[#This Row],[Indicator ID]],'Similar 10 CCGs'!$A$6:$C$160,3,FALSE)","v":"Depression (ages 18+) Prevalence"},"2011/12","09F",22447,null,151104,14.86,14.68,15.04,116.83805026143919,120.94354266820311,null,13.119,11.308000000000002,"A","Y57","X24","1091","Wilson"]
[109,{"$f":"VLOOKUP(tblData[[#This Row],[Indicator ID]],'Similar 10 CCGs'!$A$6:$C$160,3,FALSE)","v":"Depression (ages 18+) Prevalence"},"2011/12","09G",52560,null,396482,13.26,13.15,13.37,116.83805026143919,120.94354266820311,null,12.547999999999998,11.35,"A","Y57","X24","1091","Wilson"]
[109,{"$f":"VLOOKUP(tblData[[#This Row],[Indicator ID]],'Similar 10 CCGs'!$A$6:$C$160,3,FALSE)","v":"Depression (ages 18+) Prevalence"},"2011/12","09H",10754,null,97416,11.04,10.84,11.24,116.83805026143919,120.94354266820311,null,12.041999999999998,10.196000000000002,"A","Y57","X24","1091","Wilson"]
[109,{"$f":"VLOOKUP(tblData[[#This Row],[Indicator ID]],'Similar 10 CCGs'!$A$6:$C$160,3,FALSE)","v":"Depression (ages 18+) Prevalence"},"2011/12","09J",14867,null,194748,7.63,7.51,7.75,116.83805026143919,120.94354266820311,null,12.222,10.952000000000002,"C","Y57","X24","1091","Wilson"]
[109,{"$f":"VLOOKUP(tblData[[#This Row],[Indicator ID]],'Similar 10 CCGs'!$A$6:$C$160,3,FALSE)","v":"Depression (ages 18+) Prevalence"},"2011/12","09L",15023,null,133356,11.27,11.1,11.44,116.83805026143919,120.94354266820311,null,11.466999999999999,9.6020000000000003,"B","Y57","X24","1091","Wilson"]
[109,{"$f":"VLOOKUP(tblData[[#This Row],[Indicator ID]],'Similar 10 CCGs'!$A$6:$C$160,3,FALSE)","v":"Depression (ages 18+) Prevalence"},"2011/12","09N",21133,null,169060,12.5,12.34,12.66,116.83805026143919,120.94354266820311,null,12.813999999999998,11.102,"B","Y57","X24","1091","Wilson"]
[109,{"$f":"VLOOKUP(tblData[[#This Row],[Indicator ID]],'Similar 10 CCGs'!$A$6:$C$160,3,FALSE)","v":"Depression (ages 18+) Prevalence"},"2011/12","09P",22015,null,148853,14.79,14.61,14.97,116.83805026143919,120.94354266820311,null,12.791999999999998,10.974,"A","Y57","X24","1091","Wilson"]
[109,{"$f":"VLOOKUP(tblData[[#This Row],[Indicator ID]],'Similar 10 CCGs'!$A$6:$C$160,3,FALSE)","v":"Depression (ages 18+) Prevalence"},"2011/12","09W",22829,null,216780,10.53,10.4,10.66,116.83805026143919,120.94354266820311,null,12.305999999999999,10.312000000000001,"A","Y57","X24","1091","Wilson"]
[109,{"$f":"VLOOKUP(tblData[[#This Row],[Indicator ID]],'Similar 10 CCGs'!$A$6:$C$160,3,FALSE)","v":"Depression (ages 18+) Prevalence"},"2011/12","09X",20049,null,177948,11.27,11.12,11.42,116.83805026143919,120.94354266820311,null,11.873999999999999,9.8520000000000003,"","Y57","X24","1091","Wilson"]
[109,{"$f":"VLOOKUP(tblData[[#This Row],[Indicator ID]],'Similar 10 CCGs'!$A$6:$C$160,3,FALSE)","v":"Depression (ages 18+) Prevalence"},"2011/12","09Y",28966,null,276017,10.49,10.38,10.6,116.83805026143919,120.94354266820311,null,11.382999999999999,10.064000000000002,"","Y57","X24","1091","Wilson"]
[109,{"$f":"VLOOKUP(tblData[[#This Row],[Indicator ID]],'Similar 10 CCGs'!$A$6:$C$160,3,FALSE)","v":"Depression (ages 18+) Prevalence"},"2011/12","10A",16535,null,160194,10.32,10.17,10.47,116.83805026143919,120.94354266820311,null,12.965,11.546000000000001,"C","Y57","X24","1091","Wilson"]
[109,{"$f":"VLOOKUP(tblData[[#This Row],[Indicator ID]],'Similar 10 CCGs'!$A$6:$C$160,3,FALSE)","v":"Depression (ages 18+) Prevalence"},"2011/12","10C",8133,null,71556,11.37,11.14,11.6,116.83805026143919,120.94354266820311,null,11.858999999999998,10.407999999999999,"B","Y57","X24","1091","Wilson"]
[109,{"$f":"VLOOKUP(tblData[[#This Row],[Indicator ID]],'Similar 10 CCGs'!$A$6:$C$160,3,FALSE)","v":"Depression (ages 18+) Prevalence"},"2011/12","10D",8668,null,82653,10.49,10.28,10.7,116.83805026143919,120.94354266820311,null,11.898999999999999,9.8600000000000012,"","Y57","X24","1091","Wilson"]
[109,{"$f":"VLOOKUP(tblData[[#This Row],[Indicator ID]],'Similar 10 CCGs'!$A$6:$C$160,3,FALSE)","v":"Depression (ages 18+) Prevalence"},"2011/12","10E",12731,null,111613,11.41,11.22,11.6,116.83805026143919,120.94354266820311,null,12.949000000000002,10.731999999999999,"","Y57","X24","1091","Wilson"]
[109,{"$f":"VLOOKUP(tblData[[#This Row],[Indicator ID]],'Similar 10 CCGs'!$A$6:$C$160,3,FALSE)","v":"Depression (ages 18+) Prevalence"},"2011/12","10G",13719,null,105644,12.99,12.79,13.19,116.83805026143919,120.94354266820311,null,12.042999999999999,10.633999999999999,"A","Y57","X24","1091","Wilson"]
[109,{"$f":"VLOOKUP(tblData[[#This Row],[Indicator ID]],'Similar 10 CCGs'!$A$6:$C$160,3,FALSE)","v":"Depression (ages 18+) Prevalence"},"2011/12","10H",27435,null,252958,10.85,10.73,10.97,116.83805026143919,120.94354266820311,null,11.59,9.9920000000000009,"","Y57","X24","1091","Wilson"]
[109,{"$f":"VLOOKUP(tblData[[#This Row],[Indicator ID]],'Similar 10 CCGs'!$A$6:$C$160,3,FALSE)","v":"Depression (ages 18+) Prevalence"},"2011/12","10J",23106,null,168702,13.7,13.54,13.86,116.83805026143919,120.94354266820311,null,11.625,10.097999999999999,"A","Y57","X24","1091","Wilson"]
[109,{"$f":"VLOOKUP(tblData[[#This Row],[Indicator ID]],'Similar 10 CCGs'!$A$6:$C$160,3,FALSE)","v":"Depression (ages 18+) Prevalence"},"2011/12","10K",20663,null,159432,12.96,12.8,13.13,116.83805026143919,120.94354266820311,null,11.560999999999998,9.984,"A","Y57","X24","1091","Wilson"]
[109,{"$f":"VLOOKUP(tblData[[#This Row],[Indicator ID]],'Similar 10 CCGs'!$A$6:$C$160,3,FALSE)","v":"Depression (ages 18+) Prevalence"},"2011/12","10L",10265,null,115649,8.8800000000000008,8.7200000000000006,9.0500000000000007,116.83805026143919,120.94354266820311,null,13.322999999999999,11.827999999999999,"C","Y57","X24","1091","Wilson"]
[109,{"$f":"VLOOKUP(tblData[[#This Row],[Indicator ID]],'Similar 10 CCGs'!$A$6:$C$160,3,FALSE)","v":"Depression (ages 18+) Prevalence"},"2011/12","10M",11212,null,89003,12.6,12.38,12.82,116.83805026143919,120.94354266820311,null,12.963999999999999,11.901999999999999,"B","Y57","X24","1091","Wilson"]
[109,{"$f":"VLOOKUP(tblData[[#This Row],[Indicator ID]],'Similar 10 CCGs'!$A$6:$C$160,3,FALSE)","v":"Depression (ages 18+) Prevalence"},"2011/12","10N",12243,null,84209,14.54,14.3,14.78,116.83805026143919,120.94354266820311,null,11.758999999999999,10.007999999999999,"A","Y57","X24","1091","Wilson"]
[109,{"$f":"VLOOKUP(tblData[[#This Row],[Indicator ID]],'Similar 10 CCGs'!$A$6:$C$160,3,FALSE)","v":"Depression (ages 18+) Prevalence"},"2011/12","10Q",66258,null,548017,12.09,12,12.18,116.83805026143919,120.94354266820311,null,12.481,11.37,"","Y57","X24","1091","Wilson"]
[109,{"$f":"VLOOKUP(tblData[[#This Row],[Indicator ID]],'Similar 10 CCGs'!$A$6:$C$160,3,FALSE)","v":"Depression (ages 18+) Prevalence"},"2011/12","10R",17889,null,170453,10.49,10.35,10.64,116.83805026143919,120.94354266820311,null,11.452999999999999,9.5300000000000011,"","Y57","X24","1091","Wilson"]
[109,{"$f":"VLOOKUP(tblData[[#This Row],[Indicator ID]],'Similar 10 CCGs'!$A$6:$C$160,3,FALSE)","v":"Depression (ages 18+) Prevalence"},"2011/12","10T",9996,null,106314,9.4,9.23,9.58,116.83805026143919,120.94354266820311,null,8.9870000000000001,6.9139999999999997,"A","Y57","X24","1091","Wilson"]
[109,{"$f":"VLOOKUP(tblData[[#This Row],[Indicator ID]],'Similar 10 CCGs'!$A$6:$C$160,3,FALSE)","v":"Depression (ages 18+) Prevalence"},"2011/12","10V",19983,null,167429,11.94,11.79,12.1,116.83805026143919,120.94354266820311,null,13.396000000000001,11.168000000000001,"","Y57","X24","1091","Wilson"]
[109,{"$f":"VLOOKUP(tblData[[#This Row],[Indicator ID]],'Similar 10 CCGs'!$A$6:$C$160,3,FALSE)","v":"Depression (ages 18+) Prevalence"},"2011/12","10W",8641,null,98608,8.76,8.59,8.94,116.83805026143919,120.94354266820311,null,11.810999999999998,10.370000000000001,"C","Y57","X24","1091","Wilson"]
[109,{"$f":"VLOOKUP(tblData[[#This Row],[Indicator ID]],'Similar 10 CCGs'!$A$6:$C$160,3,FALSE)","v":"Depression (ages 18+) Prevalence"},"2011/12","10X",25294,null,209859,12.05,11.91,12.19,116.83805026143919,120.94354266820311,null,11.245999999999999,9.4940000000000015,"A","Y57","X24","1091","Wilson"]
[109,{"$f":"VLOOKUP(tblData[[#This Row],[Indicator ID]],'Similar 10 CCGs'!$A$6:$C$160,3,FALSE)","v":"Depression (ages 18+) Prevalence"},"2011/12","10Y",21419,null,155067,13.81,13.64,13.98,116.83805026143919,120.94354266820311,null,11.632,10.167999999999999,"A","Y57","X24","1091","Wilson"]
[109,{"$f":"VLOOKUP(tblData[[#This Row],[Indicator ID]],'Similar 10 CCGs'!$A$6:$C$160,3,FALSE)","v":"Depression (ages 18+) Prevalence"},"2011/12","11A",50194,null,434230,11.56,11.47,11.66,116.83805026143919,120.94354266820311,null,12.155000000000001,10.688000000000001,"","Y57","X24","1091","Wilson"]
[109,{"$f":"VLOOKUP(tblData[[#This Row],[Indicator ID]],'Similar 10 CCGs'!$A$6:$C$160,3,FALSE)","v":"Depression (ages 18+) Prevalence"},"2011/12","11C",10299,null,118882,8.66,8.5,8.82,116.83805026143919,120.94354266820311,null,12.520999999999999,11.193999999999999,"C","Y57","X24","1091","Wilson"]
[109,{"$f":"VLOOKUP(tblData[[#This Row],[Indicator ID]],'Similar 10 CCGs'!$A$6:$C$160,3,FALSE)","v":"Depression (ages 18+) Prevalence"},"2011/12","11D",15769,null,121028,13.03,12.84,13.22,116.83805026143919,120.94354266820311,null,11.863,10.629999999999999,"A","Y57","X24","1091","Wilson"]
[109,{"$f":"VLOOKUP(tblData[[#This Row],[Indicator ID]],'Similar 10 CCGs'!$A$6:$C$160,3,FALSE)","v":"Depression (ages 18+) Prevalence"},"2011/12","11E",20831,null,158392,13.15,12.98,13.32,116.83805026143919,120.94354266820311,null,12.751999999999999,11.042,"B","Y57","X24","1091","Wilson"]
[109,{"$f":"VLOOKUP(tblData[[#This Row],[Indicator ID]],'Similar 10 CCGs'!$A$6:$C$160,3,FALSE)","v":"Depression (ages 18+) Prevalence"},"2011/12","11H",52792,null,376213,14.03,13.92,14.14,116.83805026143919,120.94354266820311,null,11.86,9.4880000000000013,"A","Y57","X24","1091","Wilson"]
[109,{"$f":"VLOOKUP(tblData[[#This Row],[Indicator ID]],'Similar 10 CCGs'!$A$6:$C$160,3,FALSE)","v":"Depression (ages 18+) Prevalence"},"2011/12","11J",77164,null,625451,12.34,12.26,12.42,116.83805026143919,120.94354266820311,null,12.375999999999999,11.209999999999999,"","Y57","X24","1091","Wilson"]
[109,{"$f":"VLOOKUP(tblData[[#This Row],[Indicator ID]],'Similar 10 CCGs'!$A$6:$C$160,3,FALSE)","v":"Depression (ages 18+) Prevalence"},"2011/12","11M",46318,null,491307,9.43,9.35,9.51,116.83805026143919,120.94354266820311,null,12.028,10.553999999999998,"C","Y57","X24","1091","Wilson"]
[109,{"$f":"VLOOKUP(tblData[[#This Row],[Indicator ID]],'Similar 10 CCGs'!$A$6:$C$160,3,FALSE)","v":"Depression (ages 18+) Prevalence"},"2011/12","11N",59218,null,451244,13.12,13.02,13.22,116.83805026143919,120.94354266820311,null,12.516999999999999,10.837999999999999,"A","Y57","X24","1091","Wilson"]
[109,{"$f":"VLOOKUP(tblData[[#This Row],[Indicator ID]],'Similar 10 CCGs'!$A$6:$C$160,3,FALSE)","v":"Depression (ages 18+) Prevalence"},"2011/12","11T",28023,null,169477,16.53,16.350000000000001,16.71,116.83805026143919,120.94354266820311,null,13.957999999999998,12.312000000000001,"A","Y57","X24","1091","Wilson"]
[109,{"$f":"VLOOKUP(tblData[[#This Row],[Indicator ID]],'Similar 10 CCGs'!$A$6:$C$160,3,FALSE)","v":"Depression (ages 18+) Prevalence"},"2011/12","11X",62079,null,436008,14.24,14.14,14.34,116.83805026143919,120.94354266820311,null,12.104000000000001,10.770000000000001,"A","Y57","X24","1091","Wilson"]
[109,{"$f":"VLOOKUP(tblData[[#This Row],[Indicator ID]],'Similar 10 CCGs'!$A$6:$C$160,3,FALSE)","v":"Depression (ages 18+) Prevalence"},"2011/12","12A",27089,null,201603,13.44,13.29,13.59,116.83805026143919,120.94354266820311,null,11.696,10.469999999999999,"A","Y57","X24","1091","Wilson"]
[109,{"$f":"VLOOKUP(tblData[[#This Row],[Indicator ID]],'Similar 10 CCGs'!$A$6:$C$160,3,FALSE)","v":"Depression (ages 18+) Prevalence"},"2011/12","12D",22641,null,172698,13.11,12.95,13.27,116.83805026143919,120.94354266820311,null,11.995000000000001,10.23,"A","Y57","X24","1091","Wilson"]
[109,{"$f":"VLOOKUP(tblData[[#This Row],[Indicator ID]],'Similar 10 CCGs'!$A$6:$C$160,3,FALSE)","v":"Depression (ages 18+) Prevalence"},"2011/12","12F",38744,null,264099,14.67,14.54,14.81,116.83805026143919,131.88010710290698,null,15.478,13.634,"","Y54","X24","1091","Wilson"]
[109,{"$f":"VLOOKUP(tblData[[#This Row],[Indicator ID]],'Similar 10 CCGs'!$A$6:$C$160,3,FALSE)","v":"Depression (ages 18+) Prevalence"},"2011/12","13P",52699,null,551462,9.56,9.48,9.64,116.83805026143919,118.2198812416531,null,11.183000000000002,10.152000000000001,"C","Y55","X24","1091","Wilson"]
[109,{"$f":"VLOOKUP(tblData[[#This Row],[Indicator ID]],'Similar 10 CCGs'!$A$6:$C$160,3,FALSE)","v":"Depression (ages 18+) Prevalence"},"2011/12","99A",54269,null,391554,13.86,13.75,13.97,116.83805026143919,131.88010710290698,null,13.231999999999996,10.602,"A","Y54","X24","1091","Wilson"]
[109,{"$f":"VLOOKUP(tblData[[#This Row],[Indicator ID]],'Similar 10 CCGs'!$A$6:$C$160,3,FALSE)","v":"Depression (ages 18+) Prevalence"},"2011/12","99C",22667,null,172637,13.13,12.97,13.29,116.83805026143919,131.88010710290698,null,13.783999999999997,11.173999999999999,"","Y54","X24","1091","Wilson"]
[109,{"$f":"VLOOKUP(tblData[[#This Row],[Indicator ID]],'Similar 10 CCGs'!$A$6:$C$160,3,FALSE)","v":"Depression (ages 18+) Prevalence"},"2011/12","99D",20381,null,126417,16.12,15.92,16.32,116.83805026143919,118.2198812416531,null,13.350999999999999,12.168000000000001,"A","Y55","X24","1091","Wilson"]
[109,{"$f":"VLOOKUP(tblData[[#This Row],[Indicator ID]],'Similar 10 CCGs'!$A$6:$C$160,3,FALSE)","v":"Depression (ages 18+) Prevalence"},"2011/12","99E",16897,null,205567,8.2200000000000006,8.1,8.34,116.83805026143919,118.2198812416531,null,12.248999999999999,10.378,"C","Y55","X24","1091","Wilson"]
[109,{"$f":"VLOOKUP(tblData[[#This Row],[Indicator ID]],'Similar 10 CCGs'!$A$6:$C$160,3,FALSE)","v":"Depression (ages 18+) Prevalence"},"2011/12","99F",11548,null,143480,8.0500000000000007,7.91,8.19,116.83805026143919,118.2198812416531,null,12.953999999999999,11.771999999999998,"C","Y55","X24","1091","Wilson"]
[109,{"$f":"VLOOKUP(tblData[[#This Row],[Indicator ID]],'Similar 10 CCGs'!$A$6:$C$160,3,FALSE)","v":"Depression (ages 18+) Prevalence"},"2011/12","99G",11731,null,147553,7.95,7.81,8.09,116.83805026143919,118.2198812416531,null,13.745000000000001,11.836,"C","Y55","X24","1091","Wilson"]
[109,{"$f":"VLOOKUP(tblData[[#This Row],[Indicator ID]],'Similar 10 CCGs'!$A$6:$C$160,3,FALSE)","v":"Depression (ages 18+) Prevalence"},"2011/12","99H",25394,null,228820,11.1,10.97,11.23,116.83805026143919,120.94354266820311,null,11.446000000000002,9.9420000000000019,"A","Y57","X24","1091","Wilson"]
[109,{"$f":"VLOOKUP(tblData[[#This Row],[Indicator ID]],'Similar 10 CCGs'!$A$6:$C$160,3,FALSE)","v":"Depression (ages 18+) Prevalence"},"2011/12","99J",38182,null,366591,10.42,10.32,10.52,116.83805026143919,120.94354266820311,null,11.733000000000001,10.356,"","Y57","X24","1091","Wilson"]
[109,{"$f":"VLOOKUP(tblData[[#This Row],[Indicator ID]],'Similar 10 CCGs'!$A$6:$C$160,3,FALSE)","v":"Depression (ages 18+) Prevalence"},"2011/12","99K",17443,null,131846,13.23,13.05,13.41,116.83805026143919,120.94354266820311,null,13.487,12.14,"","Y57","X24","1091","Wilson"]
[109,{"$f":"VLOOKUP(tblData[[#This Row],[Indicator ID]],'Similar 10 CCGs'!$A$6:$C$160,3,FALSE)","v":"Depression (ages 18+) Prevalence"},"2011/12","99M",23721,null,169624,13.98,13.82,14.15,116.83805026143919,120.94354266820311,null,11.646999999999998,10.040000000000001,"A","Y57","X24","1091","Wilson"]
[109,{"$f":"VLOOKUP(tblData[[#This Row],[Indicator ID]],'Similar 10 CCGs'!$A$6:$C$160,3,FALSE)","v":"Depression (ages 18+) Prevalence"},"2011/12","99N",41273,null,375571,10.99,10.89,11.09,116.83805026143919,120.94354266820311,null,11.885,10.286000000000001,"","Y57","X24","1091","Wilson"]
[109,{"$f":"VLOOKUP(tblData[[#This Row],[Indicator ID]],'Similar 10 CCGs'!$A$6:$C$160,3,FALSE)","v":"Depression (ages 18+) Prevalence"},"2011/12","99P",97237,null,722366,13.46,13.38,13.54,116.83805026143919,120.94354266820311,null,12.489000000000001,11.352,"A","Y57","X24","1091","Wilson"]
[109,{"$f":"VLOOKUP(tblData[[#This Row],[Indicator ID]],'Similar 10 CCGs'!$A$6:$C$160,3,FALSE)","v":"Depression (ages 18+) Prevalence"},"2011/12","99Q",28246,null,233368,12.1,11.97,12.23,116.83805026143919,120.94354266820311,null,13.858000000000001,12.172000000000001,"","Y57","X24","1091","Wilson"]
[110,{"$f":"VLOOKUP(tblData[[#This Row],[Indicator ID]],'Similar 10 CCGs'!$A$6:$C$160,3,FALSE)","v":"Diabetes Mellitus (Diabetes) (ages 17+) Prevalence"},"2011/12","00C",5471,null,85120,6.43,6.27,6.6,57.582362669203029,60.096917447549941,null,6.5250000000000012,6.2140000000000004,"A","Y54","X24","1101","Wilson"]
[110,{"$f":"VLOOKUP(tblData[[#This Row],[Indicator ID]],'Similar 10 CCGs'!$A$6:$C$160,3,FALSE)","v":"Diabetes Mellitus (Diabetes) (ages 17+) Prevalence"},"2011/12","00D",15799,null,233296,6.77,6.67,6.87,57.582362669203029,60.096917447549941,null,6.2990000000000013,6.048,"A","Y54","X24","1101","Wilson"]
[110,{"$f":"VLOOKUP(tblData[[#This Row],[Indicator ID]],'Similar 10 CCGs'!$A$6:$C$160,3,FALSE)","v":"Diabetes Mellitus (Diabetes) (ages 17+) Prevalence"},"2011/12","00F",10267,null,168985,6.08,5.97,6.19,57.582362669203029,60.096917447549941,null,6.5370000000000008,6.2159999999999993,"C","Y54","X24","1101","Wilson"]
[110,{"$f":"VLOOKUP(tblData[[#This Row],[Indicator ID]],'Similar 10 CCGs'!$A$6:$C$160,3,FALSE)","v":"Diabetes Mellitus (Diabetes) (ages 17+) Prevalence"},"2011/12","00G",5373,null,123194,4.3600000000000003,4.25,4.4800000000000004,57.582362669203029,60.096917447549941,null,5.0820000000000007,4.5839999999999996,"C","Y54","X24","1101","Wilson"]
[110,{"$f":"VLOOKUP(tblData[[#This Row],[Indicator ID]],'Similar 10 CCGs'!$A$6:$C$160,3,FALSE)","v":"Diabetes Mellitus (Diabetes) (ages 17+) Prevalence"},"2011/12","00H",6561,null,102589,6.4,6.25,6.55,57.582362669203029,60.096917447549941,null,6.3860000000000001,5.8019999999999996,"B","Y54","X24","1101","Wilson"]
[110,{"$f":"VLOOKUP(tblData[[#This Row],[Indicator ID]],'Similar 10 CCGs'!$A$6:$C$160,3,FALSE)","v":"Diabetes Mellitus (Diabetes) (ages 17+) Prevalence"},"2011/12","00J",12743,null,202816,6.28,6.18,6.39,57.582362669203029,60.096917447549941,null,5.887999999999999,5.4339999999999993,"A","Y54","X24","1101","Wilson"]
[110,{"$f":"VLOOKUP(tblData[[#This Row],[Indicator ID]],'Similar 10 CCGs'!$A$6:$C$160,3,FALSE)","v":"Diabetes Mellitus (Diabetes) (ages 17+) Prevalence"},"2011/12","00K",12705,null,230374,5.51,5.42,5.6,57.582362669203029,60.096917447549941,null,6.3639999999999999,6.1040000000000001,"C","Y54","X24","1101","Wilson"]
[110,{"$f":"VLOOKUP(tblData[[#This Row],[Indicator ID]],'Similar 10 CCGs'!$A$6:$C$160,3,FALSE)","v":"Diabetes Mellitus (Diabetes) (ages 17+) Prevalence"},"2011/12","00L",17442,null,263891,6.61,6.52,6.71,57.582362669203029,60.096917447549941,null,6.3630000000000004,5.9379999999999997,"A","Y54","X24","1101","Wilson"]
[110,{"$f":"VLOOKUP(tblData[[#This Row],[Indicator ID]],'Similar 10 CCGs'!$A$6:$C$160,3,FALSE)","v":"Diabetes Mellitus (Diabetes) (ages 17+) Prevalence"},"2011/12","00M",13749,null,231323,5.94,5.84,6.04,57.582362669203029,60.096917447549941,null,6.2120000000000006,5.8340000000000005,"","Y54","X24","1101","Wilson"]
[110,{"$f":"VLOOKUP(tblData[[#This Row],[Indicator ID]],'Similar 10 CCGs'!$A$6:$C$160,3,FALSE)","v":"Diabetes Mellitus (Diabetes) (ages 17+) Prevalence"},"2011/12","00N",8509,null,126531,6.72,6.58,6.86,57.582362669203029,60.096917447549941,null,6.319,5.9539999999999997,"A","Y54","X24","1101","Wilson"]
[110,{"$f":"VLOOKUP(tblData[[#This Row],[Indicator ID]],'Similar 10 CCGs'!$A$6:$C$160,3,FALSE)","v":"Diabetes Mellitus (Diabetes) (ages 17+) Prevalence"},"2011/12","00P",14107,null,231790,6.09,5.99,6.19,57.582362669203029,60.096917447549941,null,6.285000000000001,5.9459999999999997,"B","Y54","X24","1101","Wilson"]
[110,{"$f":"VLOOKUP(tblData[[#This Row],[Indicator ID]],'Similar 10 CCGs'!$A$6:$C$160,3,FALSE)","v":"Diabetes Mellitus (Diabetes) (ages 17+) Prevalence"},"2011/12","00Q",8841,null,129420,6.83,6.69,6.97,57.582362669203029,60.096917447549941,null,6.7519999999999998,6.2859999999999996,"A","Y54","X24","1101","Wilson"]
[110,{"$f":"VLOOKUP(tblData[[#This Row],[Indicator ID]],'Similar 10 CCGs'!$A$6:$C$160,3,FALSE)","v":"Diabetes Mellitus (Diabetes) (ages 17+) Prevalence"},"2011/12","00R",9336,null,141318,6.61,6.48,6.74,57.582362669203029,60.096917447549941,null,6.2279999999999998,5.8,"A","Y54","X24","1101","Wilson"]
[110,{"$f":"VLOOKUP(tblData[[#This Row],[Indicator ID]],'Similar 10 CCGs'!$A$6:$C$160,3,FALSE)","v":"Diabetes Mellitus (Diabetes) (ages 17+) Prevalence"},"2011/12","00T",16724,null,232878,7.18,7.08,7.29,57.582362669203029,60.096917447549941,null,6.4719999999999995,6.0039999999999996,"A","Y54","X24","1101","Wilson"]
[110,{"$f":"VLOOKUP(tblData[[#This Row],[Indicator ID]],'Similar 10 CCGs'!$A$6:$C$160,3,FALSE)","v":"Diabetes Mellitus (Diabetes) (ages 17+) Prevalence"},"2011/12","00V",8454,null,149611,5.65,5.53,5.77,57.582362669203029,60.096917447549941,null,6.1079999999999997,5.76,"","Y54","X24","1101","Wilson"]
[110,{"$f":"VLOOKUP(tblData[[#This Row],[Indicator ID]],'Similar 10 CCGs'!$A$6:$C$160,3,FALSE)","v":"Diabetes Mellitus (Diabetes) (ages 17+) Prevalence"},"2011/12","00W",9105,null,168194,5.41,5.3,5.52,57.582362669203029,60.096917447549941,null,5.8039999999999994,4.8040000000000003,"","Y54","X24","1101","Wilson"]
[110,{"$f":"VLOOKUP(tblData[[#This Row],[Indicator ID]],'Similar 10 CCGs'!$A$6:$C$160,3,FALSE)","v":"Diabetes Mellitus (Diabetes) (ages 17+) Prevalence"},"2011/12","00X",8705,null,140545,6.19,6.07,6.32,57.582362669203029,60.096917447549941,null,6.221000000000001,5.8280000000000003,"B","Y54","X24","1101","Wilson"]
[110,{"$f":"VLOOKUP(tblData[[#This Row],[Indicator ID]],'Similar 10 CCGs'!$A$6:$C$160,3,FALSE)","v":"Diabetes Mellitus (Diabetes) (ages 17+) Prevalence"},"2011/12","00Y",11740,null,185937,6.31,6.2,6.42,57.582362669203029,60.096917447549941,null,6.527000000000001,5.952,"","Y54","X24","1101","Wilson"]
[110,{"$f":"VLOOKUP(tblData[[#This Row],[Indicator ID]],'Similar 10 CCGs'!$A$6:$C$160,3,FALSE)","v":"Diabetes Mellitus (Diabetes) (ages 17+) Prevalence"},"2011/12","01A",18086,null,292520,6.18,6.09,6.27,57.582362669203029,60.096917447549941,null,6.3290000000000006,5.8920000000000003,"B","Y54","X24","1101","Wilson"]
[110,{"$f":"VLOOKUP(tblData[[#This Row],[Indicator ID]],'Similar 10 CCGs'!$A$6:$C$160,3,FALSE)","v":"Diabetes Mellitus (Diabetes) (ages 17+) Prevalence"},"2011/12","01C",9327,null,165718,5.63,5.52,5.74,57.582362669203029,60.096917447549941,null,5.7959999999999994,5.4039999999999999,"","Y54","X24","1101","Wilson"]
[110,{"$f":"VLOOKUP(tblData[[#This Row],[Indicator ID]],'Similar 10 CCGs'!$A$6:$C$160,3,FALSE)","v":"Diabetes Mellitus (Diabetes) (ages 17+) Prevalence"},"2011/12","01D",11234,null,175636,6.4,6.29,6.52,57.582362669203029,60.096917447549941,null,6.5720000000000001,6.048,"","Y54","X24","1101","Wilson"]
[110,{"$f":"VLOOKUP(tblData[[#This Row],[Indicator ID]],'Similar 10 CCGs'!$A$6:$C$160,3,FALSE)","v":"Diabetes Mellitus (Diabetes) (ages 17+) Prevalence"},"2011/12","01E",9655,null,169896,5.68,5.57,5.79,57.582362669203029,60.096917447549941,null,6.0539999999999994,5.7220000000000004,"","Y54","X24","1101","Wilson"]
[110,{"$f":"VLOOKUP(tblData[[#This Row],[Indicator ID]],'Similar 10 CCGs'!$A$6:$C$160,3,FALSE)","v":"Diabetes Mellitus (Diabetes) (ages 17+) Prevalence"},"2011/12","01F",7108,null,101965,6.97,6.82,7.13,57.582362669203029,60.096917447549941,null,6.2120000000000006,5.8420000000000005,"A","Y54","X24","1101","Wilson"]
[110,{"$f":"VLOOKUP(tblData[[#This Row],[Indicator ID]],'Similar 10 CCGs'!$A$6:$C$160,3,FALSE)","v":"Diabetes Mellitus (Diabetes) (ages 17+) Prevalence"},"2011/12","01G",11117,null,198073,5.61,5.51,5.71,57.582362669203029,60.096917447549941,null,6.2379999999999995,5.8819999999999997,"","Y54","X24","1101","Wilson"]
[110,{"$f":"VLOOKUP(tblData[[#This Row],[Indicator ID]],'Similar 10 CCGs'!$A$6:$C$160,3,FALSE)","v":"Diabetes Mellitus (Diabetes) (ages 17+) Prevalence"},"2011/12","01H",24258,null,432450,5.61,5.54,5.68,57.582362669203029,60.096917447549941,null,6.1800000000000006,5.7159999999999993,"","Y54","X24","1101","Wilson"]
[110,{"$f":"VLOOKUP(tblData[[#This Row],[Indicator ID]],'Similar 10 CCGs'!$A$6:$C$160,3,FALSE)","v":"Diabetes Mellitus (Diabetes) (ages 17+) Prevalence"},"2011/12","01J",8447,null,128379,6.58,6.45,6.72,57.582362669203029,60.096917447549941,null,6.2790000000000008,5.8819999999999997,"B","Y54","X24","1101","Wilson"]
[110,{"$f":"VLOOKUP(tblData[[#This Row],[Indicator ID]],'Similar 10 CCGs'!$A$6:$C$160,3,FALSE)","v":"Diabetes Mellitus (Diabetes) (ages 17+) Prevalence"},"2011/12","01K",7349,null,131840,5.57,5.45,5.7,57.582362669203029,60.096917447549941,null,5.1259999999999994,4.4700000000000006,"A","Y54","X24","1101","Wilson"]
[110,{"$f":"VLOOKUP(tblData[[#This Row],[Indicator ID]],'Similar 10 CCGs'!$A$6:$C$160,3,FALSE)","v":"Diabetes Mellitus (Diabetes) (ages 17+) Prevalence"},"2011/12","01M",8458,null,144611,5.85,5.73,5.97,57.582362669203029,60.096917447549941,null,6.7089999999999987,6.1319999999999997,"","Y54","X24","1101","Wilson"]
[110,{"$f":"VLOOKUP(tblData[[#This Row],[Indicator ID]],'Similar 10 CCGs'!$A$6:$C$160,3,FALSE)","v":"Diabetes Mellitus (Diabetes) (ages 17+) Prevalence"},"2011/12","01N",7209,null,133238,5.41,5.29,5.53,57.582362669203029,60.096917447549941,null,5.7989999999999995,5.2939999999999996,"","Y54","X24","1101","Wilson"]
[110,{"$f":"VLOOKUP(tblData[[#This Row],[Indicator ID]],'Similar 10 CCGs'!$A$6:$C$160,3,FALSE)","v":"Diabetes Mellitus (Diabetes) (ages 17+) Prevalence"},"2011/12","01R",8477,null,140986,6.01,5.89,6.14,57.582362669203029,60.096917447549941,null,5.8879999999999999,5.67,"A","Y54","X24","1101","Wilson"]
[110,{"$f":"VLOOKUP(tblData[[#This Row],[Indicator ID]],'Similar 10 CCGs'!$A$6:$C$160,3,FALSE)","v":"Diabetes Mellitus (Diabetes) (ages 17+) Prevalence"},"2011/12","01T",7453,null,126484,5.89,5.76,6.02,57.582362669203029,60.096917447549941,null,6.3790000000000004,6.1240000000000006,"C","Y54","X24","1101","Wilson"]
[110,{"$f":"VLOOKUP(tblData[[#This Row],[Indicator ID]],'Similar 10 CCGs'!$A$6:$C$160,3,FALSE)","v":"Diabetes Mellitus (Diabetes) (ages 17+) Prevalence"},"2011/12","01V",6159,null,101254,6.08,5.93,6.23,57.582362669203029,60.096917447549941,null,6.0620000000000003,5.8540000000000001,"B","Y54","X24","1101","Wilson"]
[110,{"$f":"VLOOKUP(tblData[[#This Row],[Indicator ID]],'Similar 10 CCGs'!$A$6:$C$160,3,FALSE)","v":"Diabetes Mellitus (Diabetes) (ages 17+) Prevalence"},"2011/12","01W",13372,null,241702,5.53,5.44,5.62,57.582362669203029,60.096917447549941,null,6.0860000000000003,5.86,"C","Y54","X24","1101","Wilson"]
[110,{"$f":"VLOOKUP(tblData[[#This Row],[Indicator ID]],'Similar 10 CCGs'!$A$6:$C$160,3,FALSE)","v":"Diabetes Mellitus (Diabetes) (ages 17+) Prevalence"},"2011/12","01X",10504,null,156332,6.72,6.6,6.85,57.582362669203029,60.096917447549941,null,6.3,6.1180000000000003,"A","Y54","X24","1101","Wilson"]
[110,{"$f":"VLOOKUP(tblData[[#This Row],[Indicator ID]],'Similar 10 CCGs'!$A$6:$C$160,3,FALSE)","v":"Diabetes Mellitus (Diabetes) (ages 17+) Prevalence"},"2011/12","01Y",12326,null,191905,6.42,6.31,6.53,57.582362669203029,60.096917447549941,null,6.2810000000000006,5.87,"B","Y54","X24","1101","Wilson"]
[110,{"$f":"VLOOKUP(tblData[[#This Row],[Indicator ID]],'Similar 10 CCGs'!$A$6:$C$160,3,FALSE)","v":"Diabetes Mellitus (Diabetes) (ages 17+) Prevalence"},"2011/12","02A",10669,null,184294,5.79,5.68,5.9,57.582362669203029,60.096917447549941,null,5.7329999999999997,5.5620000000000003,"B","Y54","X24","1101","Wilson"]
[110,{"$f":"VLOOKUP(tblData[[#This Row],[Indicator ID]],'Similar 10 CCGs'!$A$6:$C$160,3,FALSE)","v":"Diabetes Mellitus (Diabetes) (ages 17+) Prevalence"},"2011/12","02D",4916,null,81902,6,5.84,6.16,57.582362669203029,60.096917447549941,null,5.798,5.5760000000000005,"A","Y54","X24","1101","Wilson"]
[110,{"$f":"VLOOKUP(tblData[[#This Row],[Indicator ID]],'Similar 10 CCGs'!$A$6:$C$160,3,FALSE)","v":"Diabetes Mellitus (Diabetes) (ages 17+) Prevalence"},"2011/12","02E",9859,null,167202,5.9,5.79,6.01,57.582362669203029,60.096917447549941,null,6.1059999999999999,5.8220000000000001,"","Y54","X24","1101","Wilson"]
[110,{"$f":"VLOOKUP(tblData[[#This Row],[Indicator ID]],'Similar 10 CCGs'!$A$6:$C$160,3,FALSE)","v":"Diabetes Mellitus (Diabetes) (ages 17+) Prevalence"},"2011/12","02F",11542,null,207961,5.55,5.45,5.65,57.582362669203029,60.096917447549941,null,6.1049999999999995,5.6899999999999995,"","Y54","X24","1101","Wilson"]
[110,{"$f":"VLOOKUP(tblData[[#This Row],[Indicator ID]],'Similar 10 CCGs'!$A$6:$C$160,3,FALSE)","v":"Diabetes Mellitus (Diabetes) (ages 17+) Prevalence"},"2011/12","02G",5403,null,90562,5.97,5.82,6.13,57.582362669203029,60.096917447549941,null,6.1809999999999992,5.8239999999999998,"","Y54","X24","1101","Wilson"]
[110,{"$f":"VLOOKUP(tblData[[#This Row],[Indicator ID]],'Similar 10 CCGs'!$A$6:$C$160,3,FALSE)","v":"Diabetes Mellitus (Diabetes) (ages 17+) Prevalence"},"2011/12","02H",16674,null,257684,6.47,6.38,6.57,57.582362669203029,60.096917447549941,null,6.2760000000000007,5.9820000000000011,"A","Y54","X24","1101","Wilson"]
[110,{"$f":"VLOOKUP(tblData[[#This Row],[Indicator ID]],'Similar 10 CCGs'!$A$6:$C$160,3,FALSE)","v":"Diabetes Mellitus (Diabetes) (ages 17+) Prevalence"},"2011/12","02M",7929,null,126268,6.28,6.15,6.42,57.582362669203029,60.096917447549941,null,6.0730000000000004,5.6820000000000004,"B","Y54","X24","1101","Wilson"]
[110,{"$f":"VLOOKUP(tblData[[#This Row],[Indicator ID]],'Similar 10 CCGs'!$A$6:$C$160,3,FALSE)","v":"Diabetes Mellitus (Diabetes) (ages 17+) Prevalence"},"2011/12","02N",7569,null,124840,6.06,5.93,6.19,57.582362669203029,60.096917447549941,null,5.8140000000000001,5.4379999999999997,"A","Y54","X24","1101","Wilson"]
[110,{"$f":"VLOOKUP(tblData[[#This Row],[Indicator ID]],'Similar 10 CCGs'!$A$6:$C$160,3,FALSE)","v":"Diabetes Mellitus (Diabetes) (ages 17+) Prevalence"},"2011/12","02P",13029,null,197569,6.59,6.48,6.7,57.582362669203029,60.096917447549941,null,6.3710000000000004,6.0860000000000003,"A","Y54","X24","1101","Wilson"]
[110,{"$f":"VLOOKUP(tblData[[#This Row],[Indicator ID]],'Similar 10 CCGs'!$A$6:$C$160,3,FALSE)","v":"Diabetes Mellitus (Diabetes) (ages 17+) Prevalence"},"2011/12","02Q",5847,null,90863,6.43,6.27,6.59,57.582362669203029,60.096917447549941,null,6.3810000000000002,6.0579999999999998,"B","Y54","X24","1101","Wilson"]
[110,{"$f":"VLOOKUP(tblData[[#This Row],[Indicator ID]],'Similar 10 CCGs'!$A$6:$C$160,3,FALSE)","v":"Diabetes Mellitus (Diabetes) (ages 17+) Prevalence"},"2011/12","02R",17482,null,255128,6.85,6.75,6.95,57.582362669203029,60.096917447549941,null,6.6119999999999992,6.0959999999999992,"A","Y54","X24","1101","Wilson"]
[110,{"$f":"VLOOKUP(tblData[[#This Row],[Indicator ID]],'Similar 10 CCGs'!$A$6:$C$160,3,FALSE)","v":"Diabetes Mellitus (Diabetes) (ages 17+) Prevalence"},"2011/12","02T",9463,null,169201,5.59,5.48,5.7,57.582362669203029,60.096917447549941,null,5.9850000000000003,5.6260000000000003,"C","Y54","X24","1101","Wilson"]
[110,{"$f":"VLOOKUP(tblData[[#This Row],[Indicator ID]],'Similar 10 CCGs'!$A$6:$C$160,3,FALSE)","v":"Diabetes Mellitus (Diabetes) (ages 17+) Prevalence"},"2011/12","02V",8562,null,162239,5.28,5.17,5.39,57.582362669203029,60.096917447549941,null,5.6019999999999994,5.258,"C","Y54","X24","1101","Wilson"]
[110,{"$f":"VLOOKUP(tblData[[#This Row],[Indicator ID]],'Similar 10 CCGs'!$A$6:$C$160,3,FALSE)","v":"Diabetes Mellitus (Diabetes) (ages 17+) Prevalence"},"2011/12","02W",6910,null,83251,8.3000000000000007,8.11,8.49,57.582362669203029,60.096917447549941,null,6.9700000000000006,6.5419999999999998,"A","Y54","X24","1101","Wilson"]
[110,{"$f":"VLOOKUP(tblData[[#This Row],[Indicator ID]],'Similar 10 CCGs'!$A$6:$C$160,3,FALSE)","v":"Diabetes Mellitus (Diabetes) (ages 17+) Prevalence"},"2011/12","02X",17110,null,247248,6.92,6.82,7.02,57.582362669203029,60.096917447549941,null,6.2770000000000001,6.0259999999999998,"A","Y54","X24","1101","Wilson"]
[110,{"$f":"VLOOKUP(tblData[[#This Row],[Indicator ID]],'Similar 10 CCGs'!$A$6:$C$160,3,FALSE)","v":"Diabetes Mellitus (Diabetes) (ages 17+) Prevalence"},"2011/12","02Y",15650,null,248467,6.3,6.21,6.4,57.582362669203029,60.096917447549941,null,5.875,5.35,"A","Y54","X24","1101","Wilson"]
[110,{"$f":"VLOOKUP(tblData[[#This Row],[Indicator ID]],'Similar 10 CCGs'!$A$6:$C$160,3,FALSE)","v":"Diabetes Mellitus (Diabetes) (ages 17+) Prevalence"},"2011/12","03A",10084,null,190497,5.29,5.19,5.39,57.582362669203029,60.096917447549941,null,6.0659999999999998,5.653999999999999,"C","Y54","X24","1101","Wilson"]
[110,{"$f":"VLOOKUP(tblData[[#This Row],[Indicator ID]],'Similar 10 CCGs'!$A$6:$C$160,3,FALSE)","v":"Diabetes Mellitus (Diabetes) (ages 17+) Prevalence"},"2011/12","03C",12611,null,293286,4.3,4.2300000000000004,4.37,57.582362669203029,60.096917447549941,null,5.0080000000000009,4.5060000000000002,"C","Y54","X24","1101","Wilson"]
[110,{"$f":"VLOOKUP(tblData[[#This Row],[Indicator ID]],'Similar 10 CCGs'!$A$6:$C$160,3,FALSE)","v":"Diabetes Mellitus (Diabetes) (ages 17+) Prevalence"},"2011/12","03D",6202,null,116787,5.31,5.18,5.44,57.582362669203029,60.096917447549941,null,5.77,5.4359999999999999,"C","Y54","X24","1101","Wilson"]
[110,{"$f":"VLOOKUP(tblData[[#This Row],[Indicator ID]],'Similar 10 CCGs'!$A$6:$C$160,3,FALSE)","v":"Diabetes Mellitus (Diabetes) (ages 17+) Prevalence"},"2011/12","03E",6147,null,130385,4.71,4.5999999999999996,4.83,57.582362669203029,60.096917447549941,null,5.6709999999999994,5.2859999999999996,"C","Y54","X24","1101","Wilson"]
[110,{"$f":"VLOOKUP(tblData[[#This Row],[Indicator ID]],'Similar 10 CCGs'!$A$6:$C$160,3,FALSE)","v":"Diabetes Mellitus (Diabetes) (ages 17+) Prevalence"},"2011/12","03F",13698,null,231133,5.93,5.83,6.03,57.582362669203029,60.096917447549941,null,6.2480000000000002,5.8639999999999999,"","Y54","X24","1101","Wilson"]
[110,{"$f":"VLOOKUP(tblData[[#This Row],[Indicator ID]],'Similar 10 CCGs'!$A$6:$C$160,3,FALSE)","v":"Diabetes Mellitus (Diabetes) (ages 17+) Prevalence"},"2011/12","03G",12104,null,203783,5.94,5.84,6.04,57.582362669203029,60.096917447549941,null,6.1230000000000002,5.6140000000000008,"","Y54","X24","1101","Wilson"]
[110,{"$f":"VLOOKUP(tblData[[#This Row],[Indicator ID]],'Similar 10 CCGs'!$A$6:$C$160,3,FALSE)","v":"Diabetes Mellitus (Diabetes) (ages 17+) Prevalence"},"2011/12","03H",8587,null,134663,6.38,6.25,6.51,57.582362669203029,60.096917447549941,null,6.543000000000001,6.18,"A","Y54","X24","1101","Wilson"]
[110,{"$f":"VLOOKUP(tblData[[#This Row],[Indicator ID]],'Similar 10 CCGs'!$A$6:$C$160,3,FALSE)","v":"Diabetes Mellitus (Diabetes) (ages 17+) Prevalence"},"2011/12","03J",9396,null,142366,6.6,6.47,6.73,57.582362669203029,60.096917447549941,null,6.6,6.0200000000000005,"B","Y54","X24","1101","Wilson"]
[110,{"$f":"VLOOKUP(tblData[[#This Row],[Indicator ID]],'Similar 10 CCGs'!$A$6:$C$160,3,FALSE)","v":"Diabetes Mellitus (Diabetes) (ages 17+) Prevalence"},"2011/12","03K",9019,null,136513,6.61,6.48,6.74,57.582362669203029,60.096917447549941,null,6.3639999999999999,6.048,"A","Y54","X24","1101","Wilson"]
[110,{"$f":"VLOOKUP(tblData[[#This Row],[Indicator ID]],'Similar 10 CCGs'!$A$6:$C$160,3,FALSE)","v":"Diabetes Mellitus (Diabetes) (ages 17+) Prevalence"},"2011/12","03L",12615,null,203563,6.2,6.1,6.31,57.582362669203029,60.096917447549941,null,6.5030000000000001,6.17,"","Y54","X24","1101","Wilson"]
[110,{"$f":"VLOOKUP(tblData[[#This Row],[Indicator ID]],'Similar 10 CCGs'!$A$6:$C$160,3,FALSE)","v":"Diabetes Mellitus (Diabetes) (ages 17+) Prevalence"},"2011/12","03M",5278,null,97267,5.43,5.29,5.57,57.582362669203029,60.096917447549941,null,6.2490000000000006,5.6739999999999995,"C","Y54","X24","1101","Wilson"]
[110,{"$f":"VLOOKUP(tblData[[#This Row],[Indicator ID]],'Similar 10 CCGs'!$A$6:$C$160,3,FALSE)","v":"Diabetes Mellitus (Diabetes) (ages 17+) Prevalence"},"2011/12","03N",26405,null,454294,5.81,5.74,5.88,57.582362669203029,60.096917447549941,null,5.6509999999999998,5.258,"A","Y54","X24","1101","Wilson"]
[110,{"$f":"VLOOKUP(tblData[[#This Row],[Indicator ID]],'Similar 10 CCGs'!$A$6:$C$160,3,FALSE)","v":"Diabetes Mellitus (Diabetes) (ages 17+) Prevalence"},"2011/12","03Q",13515,null,278854,4.8499999999999996,4.7699999999999996,4.93,57.582362669203029,60.096917447549941,null,5.452,4.9180000000000001,"C","Y54","X24","1101","Wilson"]
[110,{"$f":"VLOOKUP(tblData[[#This Row],[Indicator ID]],'Similar 10 CCGs'!$A$6:$C$160,3,FALSE)","v":"Diabetes Mellitus (Diabetes) (ages 17+) Prevalence"},"2011/12","03R",17612,null,285550,6.17,6.08,6.26,57.582362669203029,60.096917447549941,null,6.3040000000000003,5.984,"B","Y54","X24","1101","Wilson"]
[110,{"$f":"VLOOKUP(tblData[[#This Row],[Indicator ID]],'Similar 10 CCGs'!$A$6:$C$160,3,FALSE)","v":"Diabetes Mellitus (Diabetes) (ages 17+) Prevalence"},"2011/12","03T",15430,null,200151,7.71,7.59,7.83,57.582362669203029,59.879358826115208,null,6.2989999999999995,5.9219999999999997,"A","Y55","X24","1101","Wilson"]
[110,{"$f":"VLOOKUP(tblData[[#This Row],[Indicator ID]],'Similar 10 CCGs'!$A$6:$C$160,3,FALSE)","v":"Diabetes Mellitus (Diabetes) (ages 17+) Prevalence"},"2011/12","03V",3030,null,54449,5.56,5.37,5.76,57.582362669203029,59.879358826115208,null,6.1899999999999995,5.8840000000000003,"","Y55","X24","1101","Wilson"]
[110,{"$f":"VLOOKUP(tblData[[#This Row],[Indicator ID]],'Similar 10 CCGs'!$A$6:$C$160,3,FALSE)","v":"Diabetes Mellitus (Diabetes) (ages 17+) Prevalence"},"2011/12","03W",14312,null,256226,5.59,5.5,5.68,57.582362669203029,59.879358826115208,null,5.133,4.71,"A","Y55","X24","1101","Wilson"]
[110,{"$f":"VLOOKUP(tblData[[#This Row],[Indicator ID]],'Similar 10 CCGs'!$A$6:$C$160,3,FALSE)","v":"Diabetes Mellitus (Diabetes) (ages 17+) Prevalence"},"2011/12","03X",4825,null,79358,6.08,5.92,6.25,57.582362669203029,59.879358826115208,null,6.1909999999999998,5.8720000000000008,"B","Y55","X24","1101","Wilson"]
[110,{"$f":"VLOOKUP(tblData[[#This Row],[Indicator ID]],'Similar 10 CCGs'!$A$6:$C$160,3,FALSE)","v":"Diabetes Mellitus (Diabetes) (ages 17+) Prevalence"},"2011/12","03Y",6251,null,83445,7.49,7.31,7.67,57.582362669203029,59.879358826115208,null,6.2,5.992,"A","Y55","X24","1101","Wilson"]
[110,{"$f":"VLOOKUP(tblData[[#This Row],[Indicator ID]],'Similar 10 CCGs'!$A$6:$C$160,3,FALSE)","v":"Diabetes Mellitus (Diabetes) (ages 17+) Prevalence"},"2011/12","04C",21138,null,290433,7.28,7.19,7.38,57.582362669203029,59.879358826115208,null,6.3710000000000004,5.6680000000000001,"A","Y55","X24","1101","Wilson"]
[110,{"$f":"VLOOKUP(tblData[[#This Row],[Indicator ID]],'Similar 10 CCGs'!$A$6:$C$160,3,FALSE)","v":"Diabetes Mellitus (Diabetes) (ages 17+) Prevalence"},"2011/12","04D",10714,null,182930,5.86,5.75,5.97,57.582362669203029,59.879358826115208,null,6.1619999999999999,5.8599999999999994,"","Y55","X24","1101","Wilson"]
[110,{"$f":"VLOOKUP(tblData[[#This Row],[Indicator ID]],'Similar 10 CCGs'!$A$6:$C$160,3,FALSE)","v":"Diabetes Mellitus (Diabetes) (ages 17+) Prevalence"},"2011/12","04E",9150,null,148287,6.17,6.05,6.29,57.582362669203029,59.879358826115208,null,6.4330000000000016,6.0280000000000005,"","Y55","X24","1101","Wilson"]
[110,{"$f":"VLOOKUP(tblData[[#This Row],[Indicator ID]],'Similar 10 CCGs'!$A$6:$C$160,3,FALSE)","v":"Diabetes Mellitus (Diabetes) (ages 17+) Prevalence"},"2011/12","04F",10143,null,205158,4.9400000000000004,4.8499999999999996,5.03,57.582362669203029,59.879358826115208,null,5.5470000000000006,5.1819999999999995,"C","Y55","X24","1101","Wilson"]
[110,{"$f":"VLOOKUP(tblData[[#This Row],[Indicator ID]],'Similar 10 CCGs'!$A$6:$C$160,3,FALSE)","v":"Diabetes Mellitus (Diabetes) (ages 17+) Prevalence"},"2011/12","04G",28140,null,499604,5.63,5.57,5.69,57.582362669203029,59.879358826115208,null,5.4279999999999999,4.9560000000000004,"B","Y55","X24","1101","Wilson"]
[110,{"$f":"VLOOKUP(tblData[[#This Row],[Indicator ID]],'Similar 10 CCGs'!$A$6:$C$160,3,FALSE)","v":"Diabetes Mellitus (Diabetes) (ages 17+) Prevalence"},"2011/12","04H",5900,null,104019,5.67,5.53,5.81,57.582362669203029,59.879358826115208,null,6.3889999999999993,6.0620000000000003,"C","Y55","X24","1101","Wilson"]
[110,{"$f":"VLOOKUP(tblData[[#This Row],[Indicator ID]],'Similar 10 CCGs'!$A$6:$C$160,3,FALSE)","v":"Diabetes Mellitus (Diabetes) (ages 17+) Prevalence"},"2011/12","04J",14817,null,230721,6.42,6.32,6.52,57.582362669203029,59.879358826115208,null,6.2159999999999993,5.7620000000000005,"A","Y55","X24","1101","Wilson"]
[110,{"$f":"VLOOKUP(tblData[[#This Row],[Indicator ID]],'Similar 10 CCGs'!$A$6:$C$160,3,FALSE)","v":"Diabetes Mellitus (Diabetes) (ages 17+) Prevalence"},"2011/12","04K",13916,null,275789,5.05,4.97,5.13,57.582362669203029,59.879358826115208,null,5.0119999999999996,4.548,"","Y55","X24","1101","Wilson"]
[110,{"$f":"VLOOKUP(tblData[[#This Row],[Indicator ID]],'Similar 10 CCGs'!$A$6:$C$160,3,FALSE)","v":"Diabetes Mellitus (Diabetes) (ages 17+) Prevalence"},"2011/12","04L",7028,null,117948,5.96,5.83,6.1,57.582362669203029,59.879358826115208,null,6.1970000000000001,5.8860000000000001,"B","Y55","X24","1101","Wilson"]
[110,{"$f":"VLOOKUP(tblData[[#This Row],[Indicator ID]],'Similar 10 CCGs'!$A$6:$C$160,3,FALSE)","v":"Diabetes Mellitus (Diabetes) (ages 17+) Prevalence"},"2011/12","04M",4394,null,76663,5.73,5.57,5.9,57.582362669203029,59.879358826115208,null,5.9640000000000013,5.8460000000000001,"A","Y55","X24","1101","Wilson"]
[110,{"$f":"VLOOKUP(tblData[[#This Row],[Indicator ID]],'Similar 10 CCGs'!$A$6:$C$160,3,FALSE)","v":"Diabetes Mellitus (Diabetes) (ages 17+) Prevalence"},"2011/12","04N",4677,null,98940,4.7300000000000004,4.5999999999999996,4.8600000000000003,57.582362669203029,59.879358826115208,null,5.3089999999999993,4.8360000000000003,"C","Y55","X24","1101","Wilson"]
[110,{"$f":"VLOOKUP(tblData[[#This Row],[Indicator ID]],'Similar 10 CCGs'!$A$6:$C$160,3,FALSE)","v":"Diabetes Mellitus (Diabetes) (ages 17+) Prevalence"},"2011/12","04Q",6238,null,104827,5.95,5.81,6.09,57.582362669203029,59.879358826115208,null,5.6239999999999997,5.2380000000000004,"A","Y55","X24","1101","Wilson"]
[110,{"$f":"VLOOKUP(tblData[[#This Row],[Indicator ID]],'Similar 10 CCGs'!$A$6:$C$160,3,FALSE)","v":"Diabetes Mellitus (Diabetes) (ages 17+) Prevalence"},"2011/12","04R",27162,null,420878,6.45,6.38,6.52,57.582362669203029,59.879358826115208,null,5.6229999999999993,5.3579999999999997,"A","Y55","X24","1101","Wilson"]
[110,{"$f":"VLOOKUP(tblData[[#This Row],[Indicator ID]],'Similar 10 CCGs'!$A$6:$C$160,3,FALSE)","v":"Diabetes Mellitus (Diabetes) (ages 17+) Prevalence"},"2011/12","04V",17038,null,298925,5.7,5.62,5.78,57.582362669203029,59.879358826115208,null,5.718,5.2060000000000004,"","Y55","X24","1101","Wilson"]
[110,{"$f":"VLOOKUP(tblData[[#This Row],[Indicator ID]],'Similar 10 CCGs'!$A$6:$C$160,3,FALSE)","v":"Diabetes Mellitus (Diabetes) (ages 17+) Prevalence"},"2011/12","04X",13206,null,188119,7.02,6.91,7.14,57.582362669203029,59.879358826115208,null,6.7750000000000004,6.3019999999999996,"A","Y55","X24","1101","Wilson"]
[110,{"$f":"VLOOKUP(tblData[[#This Row],[Indicator ID]],'Similar 10 CCGs'!$A$6:$C$160,3,FALSE)","v":"Diabetes Mellitus (Diabetes) (ages 17+) Prevalence"},"2011/12","04Y",6727,null,106804,6.3,6.16,6.45,57.582362669203029,59.879358826115208,null,6.1859999999999999,5.8900000000000006,"A","Y55","X24","1101","Wilson"]
[110,{"$f":"VLOOKUP(tblData[[#This Row],[Indicator ID]],'Similar 10 CCGs'!$A$6:$C$160,3,FALSE)","v":"Diabetes Mellitus (Diabetes) (ages 17+) Prevalence"},"2011/12","05A",20857,null,367458,5.68,5.61,5.76,57.582362669203029,59.879358826115208,null,6.0219999999999994,5.4640000000000004,"","Y55","X24","1101","Wilson"]
[110,{"$f":"VLOOKUP(tblData[[#This Row],[Indicator ID]],'Similar 10 CCGs'!$A$6:$C$160,3,FALSE)","v":"Diabetes Mellitus (Diabetes) (ages 17+) Prevalence"},"2011/12","05C",15670,null,253250,6.19,6.1,6.28,57.582362669203029,59.879358826115208,null,5.9510000000000005,5.734,"A","Y55","X24","1101","Wilson"]
[110,{"$f":"VLOOKUP(tblData[[#This Row],[Indicator ID]],'Similar 10 CCGs'!$A$6:$C$160,3,FALSE)","v":"Diabetes Mellitus (Diabetes) (ages 17+) Prevalence"},"2011/12","05D",6395,null,107186,5.97,5.83,6.11,57.582362669203029,59.879358826115208,null,6.0700000000000012,5.71,"A","Y55","X24","1101","Wilson"]
[110,{"$f":"VLOOKUP(tblData[[#This Row],[Indicator ID]],'Similar 10 CCGs'!$A$6:$C$160,3,FALSE)","v":"Diabetes Mellitus (Diabetes) (ages 17+) Prevalence"},"2011/12","05F",8827,null,149623,5.9,5.78,6.02,57.582362669203029,59.879358826115208,null,6.05,5.5699999999999994,"A","Y55","X24","1101","Wilson"]
[110,{"$f":"VLOOKUP(tblData[[#This Row],[Indicator ID]],'Similar 10 CCGs'!$A$6:$C$160,3,FALSE)","v":"Diabetes Mellitus (Diabetes) (ages 17+) Prevalence"},"2011/12","05G",11617,null,175422,6.62,6.5,6.74,57.582362669203029,59.879358826115208,null,6.2829999999999995,5.8539999999999992,"A","Y55","X24","1101","Wilson"]
[110,{"$f":"VLOOKUP(tblData[[#This Row],[Indicator ID]],'Similar 10 CCGs'!$A$6:$C$160,3,FALSE)","v":"Diabetes Mellitus (Diabetes) (ages 17+) Prevalence"},"2011/12","05H",9499,null,148468,6.4,6.28,6.53,57.582362669203029,59.879358826115208,null,6.2230000000000008,5.83,"A","Y55","X24","1101","Wilson"]
[110,{"$f":"VLOOKUP(tblData[[#This Row],[Indicator ID]],'Similar 10 CCGs'!$A$6:$C$160,3,FALSE)","v":"Diabetes Mellitus (Diabetes) (ages 17+) Prevalence"},"2011/12","05J",7733,null,138075,5.6,5.48,5.72,57.582362669203029,59.879358826115208,null,6.0010000000000003,5.806,"C","Y55","X24","1101","Wilson"]
[110,{"$f":"VLOOKUP(tblData[[#This Row],[Indicator ID]],'Similar 10 CCGs'!$A$6:$C$160,3,FALSE)","v":"Diabetes Mellitus (Diabetes) (ages 17+) Prevalence"},"2011/12","05L",32533,null,409828,7.94,7.86,8.02,57.582362669203029,59.879358826115208,null,6.7259999999999991,6.2759999999999989,"A","Y55","X24","1101","Wilson"]
[110,{"$f":"VLOOKUP(tblData[[#This Row],[Indicator ID]],'Similar 10 CCGs'!$A$6:$C$160,3,FALSE)","v":"Diabetes Mellitus (Diabetes) (ages 17+) Prevalence"},"2011/12","05N",13691,null,245126,5.59,5.5,5.68,57.582362669203029,59.879358826115208,null,5.8699999999999992,5.42,"","Y55","X24","1101","Wilson"]
[110,{"$f":"VLOOKUP(tblData[[#This Row],[Indicator ID]],'Similar 10 CCGs'!$A$6:$C$160,3,FALSE)","v":"Diabetes Mellitus (Diabetes) (ages 17+) Prevalence"},"2011/12","05P",11152,null,189084,5.9,5.79,6.01,57.582362669203029,59.879358826115208,null,5.7990000000000013,5.5620000000000003,"A","Y55","X24","1101","Wilson"]
[110,{"$f":"VLOOKUP(tblData[[#This Row],[Indicator ID]],'Similar 10 CCGs'!$A$6:$C$160,3,FALSE)","v":"Diabetes Mellitus (Diabetes) (ages 17+) Prevalence"},"2011/12","05Q",10012,null,169480,5.91,5.8,6.02,57.582362669203029,59.879358826115208,null,5.9119999999999999,5.6280000000000001,"A","Y55","X24","1101","Wilson"]
[110,{"$f":"VLOOKUP(tblData[[#This Row],[Indicator ID]],'Similar 10 CCGs'!$A$6:$C$160,3,FALSE)","v":"Diabetes Mellitus (Diabetes) (ages 17+) Prevalence"},"2011/12","05R",10730,null,222883,4.8099999999999996,4.72,4.9000000000000004,57.582362669203029,59.879358826115208,null,5.613999999999999,5.2439999999999998,"C","Y55","X24","1101","Wilson"]
[110,{"$f":"VLOOKUP(tblData[[#This Row],[Indicator ID]],'Similar 10 CCGs'!$A$6:$C$160,3,FALSE)","v":"Diabetes Mellitus (Diabetes) (ages 17+) Prevalence"},"2011/12","05T",14392,null,238756,6.03,5.94,6.13,57.582362669203029,59.879358826115208,null,5.8040000000000003,5.3319999999999999,"A","Y55","X24","1101","Wilson"]
[110,{"$f":"VLOOKUP(tblData[[#This Row],[Indicator ID]],'Similar 10 CCGs'!$A$6:$C$160,3,FALSE)","v":"Diabetes Mellitus (Diabetes) (ages 17+) Prevalence"},"2011/12","05V",6491,null,119304,5.44,5.31,5.57,57.582362669203029,59.879358826115208,null,5.8429999999999991,5.38,"C","Y55","X24","1101","Wilson"]
[110,{"$f":"VLOOKUP(tblData[[#This Row],[Indicator ID]],'Similar 10 CCGs'!$A$6:$C$160,3,FALSE)","v":"Diabetes Mellitus (Diabetes) (ages 17+) Prevalence"},"2011/12","05W",15446,null,221207,6.98,6.87,7.09,57.582362669203029,59.879358826115208,null,5.9920000000000009,5.7280000000000006,"A","Y55","X24","1101","Wilson"]
[110,{"$f":"VLOOKUP(tblData[[#This Row],[Indicator ID]],'Similar 10 CCGs'!$A$6:$C$160,3,FALSE)","v":"Diabetes Mellitus (Diabetes) (ages 17+) Prevalence"},"2011/12","06Y",9992,null,179587,5.56,5.46,5.67,57.582362669203029,59.879358826115208,null,5.6529999999999996,5.1959999999999997,"","Y55","X24","1101","Wilson"]
[110,{"$f":"VLOOKUP(tblData[[#This Row],[Indicator ID]],'Similar 10 CCGs'!$A$6:$C$160,3,FALSE)","v":"Diabetes Mellitus (Diabetes) (ages 17+) Prevalence"},"2011/12","07Y",13434,null,220554,6.09,5.99,6.19,57.582362669203029,55.929766771232622,null,6.8539999999999992,6.1820000000000004,"B","Y56","X24","1101","Wilson"]
[110,{"$f":"VLOOKUP(tblData[[#This Row],[Indicator ID]],'Similar 10 CCGs'!$A$6:$C$160,3,FALSE)","v":"Diabetes Mellitus (Diabetes) (ages 17+) Prevalence"},"2011/12","08T",7856,null,145623,5.39,5.28,5.51,57.582362669203029,55.929766771232622,null,5.6270000000000007,5.3319999999999999,"","Y56","X24","1101","Wilson"]
[110,{"$f":"VLOOKUP(tblData[[#This Row],[Indicator ID]],'Similar 10 CCGs'!$A$6:$C$160,3,FALSE)","v":"Diabetes Mellitus (Diabetes) (ages 17+) Prevalence"},"2011/12","09P",8906,null,150967,5.9,5.78,6.02,57.582362669203029,53.160150555881906,null,6.4060000000000006,5.8780000000000001,"","Y57","X24","1101","Wilson"]
[110,{"$f":"VLOOKUP(tblData[[#This Row],[Indicator ID]],'Similar 10 CCGs'!$A$6:$C$160,3,FALSE)","v":"Diabetes Mellitus (Diabetes) (ages 17+) Prevalence"},"2011/12","10Q",25017,null,558040,4.4800000000000004,4.43,4.53,57.582362669203029,53.160150555881906,null,5.5739999999999998,5.218,"C","Y57","X24","1101","Wilson"]
[110,{"$f":"VLOOKUP(tblData[[#This Row],[Indicator ID]],'Similar 10 CCGs'!$A$6:$C$160,3,FALSE)","v":"Diabetes Mellitus (Diabetes) (ages 17+) Prevalence"},"2011/12","11X",25624,null,442327,5.79,5.72,5.86,57.582362669203029,53.160150555881906,null,5.7390000000000017,5.3519999999999994,"A","Y57","X24","1101","Wilson"]
[110,{"$f":"VLOOKUP(tblData[[#This Row],[Indicator ID]],'Similar 10 CCGs'!$A$6:$C$160,3,FALSE)","v":"Diabetes Mellitus (Diabetes) (ages 17+) Prevalence"},"2011/12","99N",19908,null,380861,5.23,5.16,5.3,57.582362669203029,53.160150555881906,null,5.5209999999999999,5.2039999999999997,"B","Y57","X24","1101","Wilson"]
[111,{"$f":"VLOOKUP(tblData[[#This Row],[Indicator ID]],'Similar 10 CCGs'!$A$6:$C$160,3,FALSE)","v":"Epilepsy (ages 18+) Prevalence"},"2011/12","00T",1984,null,228990,0.87,0.83,0.91,7.7829433458994801,8.8760441924837554,null,0.94900000000000007,0.89,"","Y54","X24","1111","Wilson"]
[111,{"$f":"VLOOKUP(tblData[[#This Row],[Indicator ID]],'Similar 10 CCGs'!$A$6:$C$160,3,FALSE)","v":"Epilepsy (ages 18+) Prevalence"},"2011/12","01K",1143,null,128879,0.89,0.84,0.94,7.7829433458994801,8.8760441924837554,null,0.79300000000000004,0.73199999999999998,"A","Y54","X24","1111","Wilson"]
[111,{"$f":"VLOOKUP(tblData[[#This Row],[Indicator ID]],'Similar 10 CCGs'!$A$6:$C$160,3,FALSE)","v":"Epilepsy (ages 18+) Prevalence"},"2011/12","02Q",721,null,89524,0.81,0.75,0.87,7.7829433458994801,8.8760441924837554,null,0.92899999999999994,0.86199999999999988,"","Y54","X24","1111","Wilson"]
[111,{"$f":"VLOOKUP(tblData[[#This Row],[Indicator ID]],'Similar 10 CCGs'!$A$6:$C$160,3,FALSE)","v":"Epilepsy (ages 18+) Prevalence"},"2011/12","03L",1921,null,200360,0.96,0.92,1,7.7829433458994801,8.8760441924837554,null,0.94600000000000006,0.90600000000000003,"B","Y54","X24","1111","Wilson"]
[111,{"$f":"VLOOKUP(tblData[[#This Row],[Indicator ID]],'Similar 10 CCGs'!$A$6:$C$160,3,FALSE)","v":"Epilepsy (ages 18+) Prevalence"},"2011/12","04H",970,null,102518,0.95,0.89,1.01,7.7829433458994801,7.9969396152151857,null,0.9,0.82400000000000007,"A","Y55","X24","1111","Wilson"]
[111,{"$f":"VLOOKUP(tblData[[#This Row],[Indicator ID]],'Similar 10 CCGs'!$A$6:$C$160,3,FALSE)","v":"Epilepsy (ages 18+) Prevalence"},"2011/12","05G",1556,null,172649,0.9,0.86,0.95,7.7829433458994801,7.9969396152151857,null,0.91200000000000014,0.85799999999999998,"B","Y55","X24","1111","Wilson"]
[111,{"$f":"VLOOKUP(tblData[[#This Row],[Indicator ID]],'Similar 10 CCGs'!$A$6:$C$160,3,FALSE)","v":"Epilepsy (ages 18+) Prevalence"},"2011/12","06H",4903,null,678643,0.72,0.7,0.74,7.7829433458994801,7.9969396152151857,null,0.76800000000000002,0.71199999999999997,"","Y55","X24","1111","Wilson"]
[111,{"$f":"VLOOKUP(tblData[[#This Row],[Indicator ID]],'Similar 10 CCGs'!$A$6:$C$160,3,FALSE)","v":"Epilepsy (ages 18+) Prevalence"},"2011/12","07L",990,null,146473,0.68,0.64,0.72,7.7829433458994801,5.6357357488170647,null,0.66600000000000015,0.58599999999999997,"B","Y56","X24","1111","Wilson"]
[111,{"$f":"VLOOKUP(tblData[[#This Row],[Indicator ID]],'Similar 10 CCGs'!$A$6:$C$160,3,FALSE)","v":"Epilepsy (ages 18+) Prevalence"},"2011/12","08G",1343,null,217711,0.62,0.59,0.65,7.7829433458994801,5.6357357488170647,null,0.70099999999999996,0.58399999999999996,"","Y56","X24","1111","Wilson"]
[111,{"$f":"VLOOKUP(tblData[[#This Row],[Indicator ID]],'Similar 10 CCGs'!$A$6:$C$160,3,FALSE)","v":"Epilepsy (ages 18+) Prevalence"},"2011/12","09A",742,null,160455,0.46,0.43,0.49,7.7829433458994801,5.6357357488170647,null,0.63500000000000001,0.52400000000000002,"","Y56","X24","1111","Wilson"]
[111,{"$f":"VLOOKUP(tblData[[#This Row],[Indicator ID]],'Similar 10 CCGs'!$A$6:$C$160,3,FALSE)","v":"Epilepsy (ages 18+) Prevalence"},"2011/12","10C",450,null,71556,0.63,0.56999999999999995,0.69,7.7829433458994801,7.6551715055226603,null,0.70499999999999996,0.65999999999999992,"C","Y57","X24","1111","Wilson"]
[111,{"$f":"VLOOKUP(tblData[[#This Row],[Indicator ID]],'Similar 10 CCGs'!$A$6:$C$160,3,FALSE)","v":"Epilepsy (ages 18+) Prevalence"},"2011/12","11E",1169,null,158392,0.74,0.7,0.78,7.7829433458994801,7.6551715055226603,null,0.80099999999999993,0.73599999999999999,"B","Y57","X24","1111","Wilson"]
[111,{"$f":"VLOOKUP(tblData[[#This Row],[Indicator ID]],'Similar 10 CCGs'!$A$6:$C$160,3,FALSE)","v":"Epilepsy (ages 18+) Prevalence"},"2011/12","99C",1620,null,172637,0.94,0.9,0.99,7.7829433458994801,8.8760441924837554,null,0.90199999999999991,0.84800000000000009,"A","Y54","X24","1111","Wilson"]
[112,{"$f":"VLOOKUP(tblData[[#This Row],[Indicator ID]],'Similar 10 CCGs'!$A$6:$C$160,3,FALSE)","v":"Heart Failure Prevalence"},"2011/12","00H",1070,null,130014,0.82,0.77,0.87,7.1181411890256578,8.129302463695403,null,0.81099999999999994,0.7579999999999999,"B","Y54","X24","1121","Wilson"]
[112,{"$f":"VLOOKUP(tblData[[#This Row],[Indicator ID]],'Similar 10 CCGs'!$A$6:$C$160,3,FALSE)","v":"Heart Failure Prevalence"},"2011/12","01C",1631,null,201866,0.81,0.77,0.85,7.1181411890256578,8.129302463695403,null,0.81199999999999994,0.72,"B","Y54","X24","1121","Wilson"]
[112,{"$f":"VLOOKUP(tblData[[#This Row],[Indicator ID]],'Similar 10 CCGs'!$A$6:$C$160,3,FALSE)","v":"Heart Failure Prevalence"},"2011/12","01Y",1740,null,240654,0.72,0.69,0.75,7.1181411890256578,8.129302463695403,null,0.79600000000000004,0.70799999999999996,"","Y54","X24","1121","Wilson"]
[112,{"$f":"VLOOKUP(tblData[[#This Row],[Indicator ID]],'Similar 10 CCGs'!$A$6:$C$160,3,FALSE)","v":"Heart Failure Prevalence"},"2011/12","02Y",2430,null,301167,0.81,0.78,0.84,7.1181411890256578,8.129302463695403,null,0.86899999999999999,0.79799999999999993,"","Y54","X24","1121","Wilson"]
[112,{"$f":"VLOOKUP(tblData[[#This Row],[Indicator ID]],'Similar 10 CCGs'!$A$6:$C$160,3,FALSE)","v":"Heart Failure Prevalence"},"2011/12","03T",2427,null,241613,1,0.96,1.04,7.1181411890256578,7.5844743810970332,null,0.89499999999999991,0.80600000000000005,"A","Y55","X24","1121","Wilson"]
[112,{"$f":"VLOOKUP(tblData[[#This Row],[Indicator ID]],'Similar 10 CCGs'!$A$6:$C$160,3,FALSE)","v":"Heart Failure Prevalence"},"2011/12","04N",927,null,121763,0.76,0.71,0.81,7.1181411890256578,7.5844743810970332,null,0.75800000000000001,0.628,"B","Y55","X24","1121","Wilson"]
[112,{"$f":"VLOOKUP(tblData[[#This Row],[Indicator ID]],'Similar 10 CCGs'!$A$6:$C$160,3,FALSE)","v":"Heart Failure Prevalence"},"2011/12","05Q",1684,null,209085,0.81,0.77,0.85,7.1181411890256578,7.5844743810970332,null,0.7410000000000001,0.69,"A","Y55","X24","1121","Wilson"]
[112,{"$f":"VLOOKUP(tblData[[#This Row],[Indicator ID]],'Similar 10 CCGs'!$A$6:$C$160,3,FALSE)","v":"Heart Failure Prevalence"},"2011/12","06P",1119,null,213020,0.53,0.5,0.56000000000000005,7.1181411890256578,7.5844743810970332,null,0.62200000000000011,0.51,"","Y55","X24","1121","Wilson"]
[112,{"$f":"VLOOKUP(tblData[[#This Row],[Indicator ID]],'Similar 10 CCGs'!$A$6:$C$160,3,FALSE)","v":"Heart Failure Prevalence"},"2011/12","07L",803,null,201601,0.4,0.37,0.43,7.1181411890256578,4.9584709780434988,null,0.54500000000000004,0.47800000000000004,"C","Y56","X24","1121","Wilson"]
[112,{"$f":"VLOOKUP(tblData[[#This Row],[Indicator ID]],'Similar 10 CCGs'!$A$6:$C$160,3,FALSE)","v":"Heart Failure Prevalence"},"2011/12","08N",1424,null,287529,0.5,0.47,0.53,7.1181411890256578,4.9584709780434988,null,0.55800000000000005,0.48799999999999999,"B","Y56","X24","1121","Wilson"]
[112,{"$f":"VLOOKUP(tblData[[#This Row],[Indicator ID]],'Similar 10 CCGs'!$A$6:$C$160,3,FALSE)","v":"Heart Failure Prevalence"},"2011/12","09H",781,null,125753,0.62,0.57999999999999996,0.66,7.1181411890256578,6.8038642831522909,null,0.65300000000000002,0.55599999999999994,"B","Y57","X24","1121","Wilson"]
[112,{"$f":"VLOOKUP(tblData[[#This Row],[Indicator ID]],'Similar 10 CCGs'!$A$6:$C$160,3,FALSE)","v":"Heart Failure Prevalence"},"2011/12","10L",1127,null,140954,0.8,0.75,0.85,7.1181411890256578,6.8038642831522909,null,0.90900000000000014,0.83800000000000008,"","Y57","X24","1121","Wilson"]
[112,{"$f":"VLOOKUP(tblData[[#This Row],[Indicator ID]],'Similar 10 CCGs'!$A$6:$C$160,3,FALSE)","v":"Heart Failure Prevalence"},"2011/12","11J",6954,null,765896,0.91,0.89,0.93,7.1181411890256578,6.8038642831522909,null,0.80899999999999994,0.72000000000000008,"A","Y57","X24","1121","Wilson"]
[112,{"$f":"VLOOKUP(tblData[[#This Row],[Indicator ID]],'Similar 10 CCGs'!$A$6:$C$160,3,FALSE)","v":"Heart Failure Prevalence"},"2011/12","99H",1555,null,289448,0.54,0.51,0.56999999999999995,7.1181411890256578,6.8038642831522909,null,0.6170000000000001,0.5159999999999999,"","Y57","X24","1121","Wilson"]
[113,{"$f":"VLOOKUP(tblData[[#This Row],[Indicator ID]],'Similar 10 CCGs'!$A$6:$C$160,3,FALSE)","v":"Heart Failure Due to LVD Prevalence"},"2011/12","00N",1413,null,154487,0.91,0.86,0.96,3.8571125906093413,4.7200387824842629,null,0.52700000000000002,0.41,"A","Y54","X24","1131","Wilson"]
[113,{"$f":"VLOOKUP(tblData[[#This Row],[Indicator ID]],'Similar 10 CCGs'!$A$6:$C$160,3,FALSE)","v":"Heart Failure Due to LVD Prevalence"},"2011/12","01H",3150,null,525627,0.6,0.57999999999999996,0.62,3.8571125906093413,4.7200387824842629,null,0.49199999999999999,0.42800000000000005,"A","Y54","X24","1131","Wilson"]
[113,{"$f":"VLOOKUP(tblData[[#This Row],[Indicator ID]],'Similar 10 CCGs'!$A$6:$C$160,3,FALSE)","v":"Heart Failure Due to LVD Prevalence"},"2011/12","01J",825,null,160868,0.51,0.48,0.55000000000000004,3.8571125906093413,4.7200387824842629,null,0.51100000000000001,0.36399999999999999,"","Y54","X24","1131","Wilson"]
[113,{"$f":"VLOOKUP(tblData[[#This Row],[Indicator ID]],'Similar 10 CCGs'!$A$6:$C$160,3,FALSE)","v":"Heart Failure Due to LVD Prevalence"},"2011/12","03F",805,null,290050,0.28000000000000003,0.26,0.3,3.8571125906093413,4.7200387824842629,null,0.46600000000000008,0.36,"C","Y54","X24","1131","Wilson"]
[113,{"$f":"VLOOKUP(tblData[[#This Row],[Indicator ID]],'Similar 10 CCGs'!$A$6:$C$160,3,FALSE)","v":"Heart Failure Due to LVD Prevalence"},"2011/12","03G",1148,null,258661,0.44,0.42,0.47,3.8571125906093413,4.7200387824842629,null,0.441,0.37,"A","Y54","X24","1131","Wilson"]
[113,{"$f":"VLOOKUP(tblData[[#This Row],[Indicator ID]],'Similar 10 CCGs'!$A$6:$C$160,3,FALSE)","v":"Heart Failure Due to LVD Prevalence"},"2011/12","04E",605,null,183762,0.33,0.3,0.36,3.8571125906093413,4.0220199009831825,null,0.501,0.43,"C","Y55","X24","1131","Wilson"]
[113,{"$f":"VLOOKUP(tblData[[#This Row],[Indicator ID]],'Similar 10 CCGs'!$A$6:$C$160,3,FALSE)","v":"Heart Failure Due to LVD Prevalence"},"2011/12","05C",1472,null,313830,0.47,0.45,0.49,3.8571125906093413,4.0220199009831825,null,0.41699999999999998,0.33399999999999996,"A","Y55","X24","1131","Wilson"]
[113,{"$f":"VLOOKUP(tblData[[#This Row],[Indicator ID]],'Similar 10 CCGs'!$A$6:$C$160,3,FALSE)","v":"Heart Failure Due to LVD Prevalence"},"2011/12","06A",1775,null,260354,0.68,0.65,0.71,3.8571125906093413,4.0220199009831825,null,0.42899999999999999,0.34199999999999997,"A","Y55","X24","1131","Wilson"]
[113,{"$f":"VLOOKUP(tblData[[#This Row],[Indicator ID]],'Similar 10 CCGs'!$A$6:$C$160,3,FALSE)","v":"Heart Failure Due to LVD Prevalence"},"2011/12","07H",1478,null,291230,0.51,0.48,0.54,3.8571125906093413,4.0220199009831825,null,0.34799999999999998,0.29200000000000004,"A","Y55","X24","1131","Wilson"]
[113,{"$f":"VLOOKUP(tblData[[#This Row],[Indicator ID]],'Similar 10 CCGs'!$A$6:$C$160,3,FALSE)","v":"Heart Failure Due to LVD Prevalence"},"2011/12","08C",380,null,198466,0.19,0.17,0.21,3.8571125906093413,2.2844504644363255,null,0.23199999999999998,0.20200000000000001,"","Y56","X24","1131","Wilson"]
[113,{"$f":"VLOOKUP(tblData[[#This Row],[Indicator ID]],'Similar 10 CCGs'!$A$6:$C$160,3,FALSE)","v":"Heart Failure Due to LVD Prevalence"},"2011/12","08W",623,null,293890,0.21,0.19,0.23,3.8571125906093413,2.2844504644363255,null,0.23899999999999996,0.20400000000000001,"","Y56","X24","1131","Wilson"]
[113,{"$f":"VLOOKUP(tblData[[#This Row],[Indicator ID]],'Similar 10 CCGs'!$A$6:$C$160,3,FALSE)","v":"Heart Failure Due to LVD Prevalence"},"2011/12","09X",656,null,224363,0.28999999999999998,0.27,0.31,3.8571125906093413,3.6938559327250018,null,0.33199999999999996,0.254,"","Y57","X24","1131","Wilson"]
[113,{"$f":"VLOOKUP(tblData[[#This Row],[Indicator ID]],'Similar 10 CCGs'!$A$6:$C$160,3,FALSE)","v":"Heart Failure Due to LVD Prevalence"},"2011/12","10T",318,null,143386,0.22,0.2,0.25,3.8571125906093413,3.6938559327250018,null,0.29700000000000004,0.22599999999999998,"","Y57","X24","1131","Wilson"]
[113,{"$f":"VLOOKUP(tblData[[#This Row],[Indicator ID]],'Similar 10 CCGs'!$A$6:$C$160,3,FALSE)","v":"Heart Failure Due to LVD Prevalence"},"2011/12","99D",701,null,156440,0.45,0.42,0.48,3.8571125906093413,4.0220199009831825,null,0.47000000000000003,0.40800000000000003,"","Y55","X24","1131","Wilson"]
[114,{"$f":"VLOOKUP(tblData[[#This Row],[Indicator ID]],'Similar 10 CCGs'!$A$6:$C$160,3,FALSE)","v":"Hypertension Prevalence"},"2011/12","00C",15190,null,105927,14.34,14.13,14.55,136.29653725231395,142.77760626186037,null,15.785999999999998,14.948000000000002,"","Y54","X24","1141","Wilson"]
[114,{"$f":"VLOOKUP(tblData[[#This Row],[Indicator ID]],'Similar 10 CCGs'!$A$6:$C$160,3,FALSE)","v":"Hypertension Prevalence"},"2011/12","00X",24918,null,173442,14.37,14.21,14.54,136.29653725231395,142.77760626186037,null,15.084999999999999,14.268000000000001,"C","Y54","X24","1141","Wilson"]
[114,{"$f":"VLOOKUP(tblData[[#This Row],[Indicator ID]],'Similar 10 CCGs'!$A$6:$C$160,3,FALSE)","v":"Hypertension Prevalence"},"2011/12","01V",19744,null,121921,16.190000000000001,15.98,16.399999999999999,136.29653725231395,142.77760626186037,null,16.042999999999999,15.318000000000001,"B","Y54","X24","1141","Wilson"]
[114,{"$f":"VLOOKUP(tblData[[#This Row],[Indicator ID]],'Similar 10 CCGs'!$A$6:$C$160,3,FALSE)","v":"Hypertension Prevalence"},"2011/12","02T",28166,null,212976,13.22,13.08,13.36,136.29653725231395,142.77760626186037,null,14.151,13.446000000000002,"C","Y54","X24","1141","Wilson"]
[114,{"$f":"VLOOKUP(tblData[[#This Row],[Indicator ID]],'Similar 10 CCGs'!$A$6:$C$160,3,FALSE)","v":"Hypertension Prevalence"},"2011/12","03N",74737,null,565185,13.22,13.13,13.31,136.29653725231395,142.77760626186037,null,13.38,12.5,"A","Y54","X24","1141","Wilson"]
[114,{"$f":"VLOOKUP(tblData[[#This Row],[Indicator ID]],'Similar 10 CCGs'!$A$6:$C$160,3,FALSE)","v":"Hypertension Prevalence"},"2011/12","04K",36500,null,347901,10.49,10.39,10.59,136.29653725231395,142.66572348984039,null,11.315000000000001,10.320000000000002,"","Y55","X24","1141","Wilson"]
[114,{"$f":"VLOOKUP(tblData[[#This Row],[Indicator ID]],'Similar 10 CCGs'!$A$6:$C$160,3,FALSE)","v":"Hypertension Prevalence"},"2011/12","05L",74826,null,531050,14.09,14,14.18,136.29653725231395,142.66572348984039,null,12.372,11.447999999999999,"A","Y55","X24","1141","Wilson"]
[114,{"$f":"VLOOKUP(tblData[[#This Row],[Indicator ID]],'Similar 10 CCGs'!$A$6:$C$160,3,FALSE)","v":"Hypertension Prevalence"},"2011/12","06L",54095,null,387143,13.97,13.86,14.08,136.29653725231395,142.66572348984039,null,14.836000000000002,13.946000000000002,"C","Y55","X24","1141","Wilson"]
[114,{"$f":"VLOOKUP(tblData[[#This Row],[Indicator ID]],'Similar 10 CCGs'!$A$6:$C$160,3,FALSE)","v":"Hypertension Prevalence"},"2011/12","07N",31683,null,228448,13.87,13.73,14.01,136.29653725231395,110.83402853893013,null,13.474,12.59,"B","Y56","X24","1141","Wilson"]
[114,{"$f":"VLOOKUP(tblData[[#This Row],[Indicator ID]],'Similar 10 CCGs'!$A$6:$C$160,3,FALSE)","v":"Hypertension Prevalence"},"2011/12","08D",29417,null,273462,10.76,10.64,10.88,136.29653725231395,110.83402853893013,null,11.218999999999999,9.8840000000000003,"","Y56","X24","1141","Wilson"]
[114,{"$f":"VLOOKUP(tblData[[#This Row],[Indicator ID]],'Similar 10 CCGs'!$A$6:$C$160,3,FALSE)","v":"Hypertension Prevalence"},"2011/12","09E",28549,null,212778,13.42,13.28,13.57,136.29653725231395,137.57517125550936,null,13.700999999999999,12.745999999999999,"","Y57","X24","1141","Wilson"]
[114,{"$f":"VLOOKUP(tblData[[#This Row],[Indicator ID]],'Similar 10 CCGs'!$A$6:$C$160,3,FALSE)","v":"Hypertension Prevalence"},"2011/12","10G",15221,null,136117,11.18,11.01,11.35,136.29653725231395,137.57517125550936,null,12.930000000000001,12.065999999999999,"C","Y57","X24","1141","Wilson"]
[114,{"$f":"VLOOKUP(tblData[[#This Row],[Indicator ID]],'Similar 10 CCGs'!$A$6:$C$160,3,FALSE)","v":"Hypertension Prevalence"},"2011/12","11D",18742,null,154220,12.15,11.99,12.31,136.29653725231395,137.57517125550936,null,12.6,11.751999999999999,"","Y57","X24","1141","Wilson"]
[114,{"$f":"VLOOKUP(tblData[[#This Row],[Indicator ID]],'Similar 10 CCGs'!$A$6:$C$160,3,FALSE)","v":"Hypertension Prevalence"},"2011/12","99E",39144,null,262252,14.93,14.79,15.07,136.29653725231395,142.66572348984039,null,13.885,13.262,"A","Y55","X24","1141","Wilson"]
[115,{"$f":"VLOOKUP(tblData[[#This Row],[Indicator ID]],'Similar 10 CCGs'!$A$6:$C$160,3,FALSE)","v":"Hypothyroidism Prevalence"},"2011/12","00K",10683,null,288881,3.7,3.63,3.77,31.188116529467816,32.271220572449295,null,3.2509999999999999,2.9159999999999999,"A","Y54","X24","1151","Wilson"]
[115,{"$f":"VLOOKUP(tblData[[#This Row],[Indicator ID]],'Similar 10 CCGs'!$A$6:$C$160,3,FALSE)","v":"Hypothyroidism Prevalence"},"2011/12","01E",6601,null,212272,3.11,3.04,3.18,31.188116529467816,32.271220572449295,null,3.3699999999999997,2.87,"A","Y54","X24","1151","Wilson"]
[115,{"$f":"VLOOKUP(tblData[[#This Row],[Indicator ID]],'Similar 10 CCGs'!$A$6:$C$160,3,FALSE)","v":"Hypothyroidism Prevalence"},"2011/12","02D",3031,null,102110,2.97,2.87,3.08,31.188116529467816,32.271220572449295,null,3.286,2.964,"","Y54","X24","1151","Wilson"]
[115,{"$f":"VLOOKUP(tblData[[#This Row],[Indicator ID]],'Similar 10 CCGs'!$A$6:$C$160,3,FALSE)","v":"Hypothyroidism Prevalence"},"2011/12","03C",8173,null,359415,2.27,2.2200000000000002,2.3199999999999998,31.188116529467816,32.271220572449295,null,2.839,2.4340000000000002,"C","Y54","X24","1151","Wilson"]
[115,{"$f":"VLOOKUP(tblData[[#This Row],[Indicator ID]],'Similar 10 CCGs'!$A$6:$C$160,3,FALSE)","v":"Hypothyroidism Prevalence"},"2011/12","03X",3106,null,97292,3.19,3.08,3.3,31.188116529467816,32.840055681408174,null,3.5750000000000002,3.3540000000000001,"","Y55","X24","1151","Wilson"]
[115,{"$f":"VLOOKUP(tblData[[#This Row],[Indicator ID]],'Similar 10 CCGs'!$A$6:$C$160,3,FALSE)","v":"Hypothyroidism Prevalence"},"2011/12","04V",10729,null,368905,2.91,2.86,2.96,31.188116529467816,32.840055681408174,null,3.375,3.01,"C","Y55","X24","1151","Wilson"]
[115,{"$f":"VLOOKUP(tblData[[#This Row],[Indicator ID]],'Similar 10 CCGs'!$A$6:$C$160,3,FALSE)","v":"Hypothyroidism Prevalence"},"2011/12","05V",5386,null,144593,3.72,3.62,3.82,31.188116529467816,32.840055681408174,null,3.5110000000000001,3.1220000000000003,"B","Y55","X24","1151","Wilson"]
[115,{"$f":"VLOOKUP(tblData[[#This Row],[Indicator ID]],'Similar 10 CCGs'!$A$6:$C$160,3,FALSE)","v":"Hypothyroidism Prevalence"},"2011/12","06V",7321,null,167483,4.37,4.2699999999999996,4.47,31.188116529467816,32.840055681408174,null,3.9279999999999999,3.5140000000000002,"A","Y55","X24","1151","Wilson"]
[115,{"$f":"VLOOKUP(tblData[[#This Row],[Indicator ID]],'Similar 10 CCGs'!$A$6:$C$160,3,FALSE)","v":"Hypothyroidism Prevalence"},"2011/12","07X",6917,null,288724,2.4,2.34,2.46,31.188116529467816,23.119587883471773,null,2.67,2.1480000000000001,"C","Y56","X24","1151","Wilson"]
[115,{"$f":"VLOOKUP(tblData[[#This Row],[Indicator ID]],'Similar 10 CCGs'!$A$6:$C$160,3,FALSE)","v":"Hypothyroidism Prevalence"},"2011/12","08Q",5104,null,327517,1.56,1.52,1.6,31.188116529467816,23.119587883471773,null,1.8620000000000001,1.6559999999999999,"","Y56","X24","1151","Wilson"]
[115,{"$f":"VLOOKUP(tblData[[#This Row],[Indicator ID]],'Similar 10 CCGs'!$A$6:$C$160,3,FALSE)","v":"Hypothyroidism Prevalence"},"2011/12","09L",6990,null,170399,4.0999999999999996,4.01,4.2,31.188116529467816,33.09599811874461,null,3.2240000000000002,2.7920000000000003,"A","Y57","X24","1151","Wilson"]
[115,{"$f":"VLOOKUP(tblData[[#This Row],[Indicator ID]],'Similar 10 CCGs'!$A$6:$C$160,3,FALSE)","v":"Hypothyroidism Prevalence"},"2011/12","10N",3427,null,107019,3.2,3.1,3.31,31.188116529467816,33.09599811874461,null,3.1360000000000001,2.88,"A","Y57","X24","1151","Wilson"]
[115,{"$f":"VLOOKUP(tblData[[#This Row],[Indicator ID]],'Similar 10 CCGs'!$A$6:$C$160,3,FALSE)","v":"Hypothyroidism Prevalence"},"2011/12","11N",21036,null,555618,3.79,3.74,3.84,31.188116529467816,33.09599811874461,null,3.717000000000001,3.4259999999999997,"A","Y57","X24","1151","Wilson"]
[115,{"$f":"VLOOKUP(tblData[[#This Row],[Indicator ID]],'Similar 10 CCGs'!$A$6:$C$160,3,FALSE)","v":"Hypothyroidism Prevalence"},"2011/12","11T",7765,null,211203,3.68,3.6,3.76,31.188116529467816,33.09599811874461,null,3.524,3.0700000000000003,"A","Y57","X24","1151","Wilson"]
[116,{"$f":"VLOOKUP(tblData[[#This Row],[Indicator ID]],'Similar 10 CCGs'!$A$6:$C$160,3,FALSE)","v":"Learning Disabilities (ages 18+) Prevalence"},"2011/12","00F",807,null,166435,0.48,0.45,0.51,4.5348627507235122,5.0960696180180642,null,0.61199999999999999,0.53800000000000003,"C","Y54","X24","1161","Wilson"]
[116,{"$f":"VLOOKUP(tblData[[#This Row],[Indicator ID]],'Similar 10 CCGs'!$A$6:$C$160,3,FALSE)","v":"Learning Disabilities (ages 18+) Prevalence"},"2011/12","00R",773,null,139170,0.56000000000000005,0.52,0.6,4.5348627507235122,5.0960696180180642,null,0.56199999999999994,0.48799999999999999,"B","Y54","X24","1161","Wilson"]
[116,{"$f":"VLOOKUP(tblData[[#This Row],[Indicator ID]],'Similar 10 CCGs'!$A$6:$C$160,3,FALSE)","v":"Learning Disabilities (ages 18+) Prevalence"},"2011/12","01N",647,null,130241,0.5,0.46,0.54,4.5348627507235122,5.0960696180180642,null,0.53999999999999992,0.45600000000000007,"","Y54","X24","1161","Wilson"]
[116,{"$f":"VLOOKUP(tblData[[#This Row],[Indicator ID]],'Similar 10 CCGs'!$A$6:$C$160,3,FALSE)","v":"Learning Disabilities (ages 18+) Prevalence"},"2011/12","02P",1026,null,194547,0.53,0.5,0.56000000000000005,4.5348627507235122,5.0960696180180642,null,0.56100000000000005,0.496,"B","Y54","X24","1161","Wilson"]
[116,{"$f":"VLOOKUP(tblData[[#This Row],[Indicator ID]],'Similar 10 CCGs'!$A$6:$C$160,3,FALSE)","v":"Learning Disabilities (ages 18+) Prevalence"},"2011/12","03J",1038,null,139939,0.74,0.7,0.79,4.5348627507235122,5.0960696180180642,null,0.52699999999999991,0.442,"A","Y54","X24","1161","Wilson"]
[116,{"$f":"VLOOKUP(tblData[[#This Row],[Indicator ID]],'Similar 10 CCGs'!$A$6:$C$160,3,FALSE)","v":"Learning Disabilities (ages 18+) Prevalence"},"2011/12","04G",2348,null,492032,0.48,0.46,0.5,4.5348627507235122,4.6867073716457046,null,0.44600000000000001,0.39399999999999996,"A","Y55","X24","1161","Wilson"]
[116,{"$f":"VLOOKUP(tblData[[#This Row],[Indicator ID]],'Similar 10 CCGs'!$A$6:$C$160,3,FALSE)","v":"Learning Disabilities (ages 18+) Prevalence"},"2011/12","05F",840,null,147630,0.56999999999999995,0.53,0.61,4.5348627507235122,4.6867073716457046,null,0.52100000000000002,0.45800000000000002,"A","Y55","X24","1161","Wilson"]
[116,{"$f":"VLOOKUP(tblData[[#This Row],[Indicator ID]],'Similar 10 CCGs'!$A$6:$C$160,3,FALSE)","v":"Learning Disabilities (ages 18+) Prevalence"},"2011/12","06F",1469,null,342099,0.43,0.41,0.45,4.5348627507235122,4.6867073716457046,null,0.38200000000000001,0.312,"A","Y55","X24","1161","Wilson"]
[116,{"$f":"VLOOKUP(tblData[[#This Row],[Indicator ID]],'Similar 10 CCGs'!$A$6:$C$160,3,FALSE)","v":"Learning Disabilities (ages 18+) Prevalence"},"2011/12","07K",872,null,190923,0.46,0.43,0.49,4.5348627507235122,4.6867073716457046,null,0.47000000000000003,0.41600000000000004,"B","Y55","X24","1161","Wilson"]
[116,{"$f":"VLOOKUP(tblData[[#This Row],[Indicator ID]],'Similar 10 CCGs'!$A$6:$C$160,3,FALSE)","v":"Learning Disabilities (ages 18+) Prevalence"},"2011/12","08E",760,null,174788,0.43,0.4,0.46,4.5348627507235122,3.3623781968147117,null,0.35099999999999998,0.30200000000000005,"A","Y56","X24","1161","Wilson"]
[116,{"$f":"VLOOKUP(tblData[[#This Row],[Indicator ID]],'Similar 10 CCGs'!$A$6:$C$160,3,FALSE)","v":"Learning Disabilities (ages 18+) Prevalence"},"2011/12","08T",806,null,143481,0.56000000000000005,0.52,0.6,4.5348627507235122,3.3623781968147117,null,0.38200000000000001,0.316,"A","Y56","X24","1161","Wilson"]
[116,{"$f":"VLOOKUP(tblData[[#This Row],[Indicator ID]],'Similar 10 CCGs'!$A$6:$C$160,3,FALSE)","v":"Learning Disabilities (ages 18+) Prevalence"},"2011/12","10C",149,null,71556,0.21,0.18,0.25,4.5348627507235122,4.4634543077531328,null,0.35699999999999998,0.30600000000000005,"C","Y57","X24","1161","Wilson"]
[116,{"$f":"VLOOKUP(tblData[[#This Row],[Indicator ID]],'Similar 10 CCGs'!$A$6:$C$160,3,FALSE)","v":"Learning Disabilities (ages 18+) Prevalence"},"2011/12","10X",901,null,209859,0.43,0.4,0.46,4.5348627507235122,4.4634543077531328,null,0.46299999999999997,0.41799999999999998,"B","Y57","X24","1161","Wilson"]
[116,{"$f":"VLOOKUP(tblData[[#This Row],[Indicator ID]],'Similar 10 CCGs'!$A$6:$C$160,3,FALSE)","v":"Learning Disabilities (ages 18+) Prevalence"},"2011/12","99A",1959,null,391554,0.5,0.48,0.52,4.5348627507235122,5.0960696180180642,null,0.52200000000000002,0.45600000000000007,"B","Y54","X24","1161","Wilson"]
[117,{"$f":"VLOOKUP(tblData[[#This Row],[Indicator ID]],'Similar 10 CCGs'!$A$6:$C$160,3,FALSE)","v":"Mental Health Prevalence"},"2011/12","00F",1918,null,206317,0.93,0.89,0.97,8.1513198241132585,8.4328718369724189,null,0.82099999999999995,0.70399999999999996,"A","Y54","X24","1171","Wilson"]
[117,{"$f":"VLOOKUP(tblData[[#This Row],[Indicator ID]],'Similar 10 CCGs'!$A$6:$C$160,3,FALSE)","v":"Mental Health Prevalence"},"2011/12","01A",3497,null,368985,0.95,0.92,0.98,8.1513198241132585,8.4328718369724189,null,0.85099999999999998,0.81199999999999994,"A","Y54","X24","1171","Wilson"]
[117,{"$f":"VLOOKUP(tblData[[#This Row],[Indicator ID]],'Similar 10 CCGs'!$A$6:$C$160,3,FALSE)","v":"Mental Health Prevalence"},"2011/12","01X",1806,null,192980,0.94,0.9,0.98,8.1513198241132585,8.4328718369724189,null,0.77600000000000002,0.67399999999999993,"A","Y54","X24","1171","Wilson"]
[117,{"$f":"VLOOKUP(tblData[[#This Row],[Indicator ID]],'Similar 10 CCGs'!$A$6:$C$160,3,FALSE)","v":"Mental Health Prevalence"},"2011/12","02W",1026,null,118636,0.86,0.81,0.91,8.1513198241132585,8.4328718369724189,null,0.94900000000000007,0.83399999999999996,"","Y54","X24","1171","Wilson"]
[117,{"$f":"VLOOKUP(tblData[[#This Row],[Indicator ID]],'Similar 10 CCGs'!$A$6:$C$160,3,FALSE)","v":"Mental Health Prevalence"},"2011/12","03R",2662,null,354100,0.75,0.72,0.78,8.1513198241132585,8.4328718369724189,null,0.75399999999999989,0.67999999999999994,"B","Y54","X24","1171","Wilson"]
[117,{"$f":"VLOOKUP(tblData[[#This Row],[Indicator ID]],'Similar 10 CCGs'!$A$6:$C$160,3,FALSE)","v":"Mental Health Prevalence"},"2011/12","04M",669,null,93461,0.72,0.67,0.78,8.1513198241132585,7.5032444134358913,null,0.68200000000000005,0.59599999999999997,"A","Y55","X24","1171","Wilson"]
[117,{"$f":"VLOOKUP(tblData[[#This Row],[Indicator ID]],'Similar 10 CCGs'!$A$6:$C$160,3,FALSE)","v":"Mental Health Prevalence"},"2011/12","05R",1926,null,271512,0.71,0.68,0.74,8.1513198241132585,7.5032444134358913,null,0.67500000000000004,0.60600000000000009,"B","Y55","X24","1171","Wilson"]
[117,{"$f":"VLOOKUP(tblData[[#This Row],[Indicator ID]],'Similar 10 CCGs'!$A$6:$C$160,3,FALSE)","v":"Mental Health Prevalence"},"2011/12","06P",1853,null,213020,0.87,0.83,0.91,8.1513198241132585,7.5032444134358913,null,0.88300000000000023,0.78,"B","Y55","X24","1171","Wilson"]
[117,{"$f":"VLOOKUP(tblData[[#This Row],[Indicator ID]],'Similar 10 CCGs'!$A$6:$C$160,3,FALSE)","v":"Mental Health Prevalence"},"2011/12","07R",3400,null,258783,1.31,1.27,1.35,8.1513198241132585,10.041662852314039,null,1.1110000000000002,0.95,"A","Y56","X24","1171","Wilson"]
[117,{"$f":"VLOOKUP(tblData[[#This Row],[Indicator ID]],'Similar 10 CCGs'!$A$6:$C$160,3,FALSE)","v":"Mental Health Prevalence"},"2011/12","08M",3437,null,368016,0.93,0.9,0.96,8.1513198241132585,10.041662852314039,null,1.0499999999999998,0.93799999999999994,"C","Y56","X24","1171","Wilson"]
[117,{"$f":"VLOOKUP(tblData[[#This Row],[Indicator ID]],'Similar 10 CCGs'!$A$6:$C$160,3,FALSE)","v":"Mental Health Prevalence"},"2011/12","09G",3918,null,486276,0.81,0.79,0.84,8.1513198241132585,7.4201400263462975,null,0.75600000000000001,0.66999999999999993,"A","Y57","X24","1171","Wilson"]
[117,{"$f":"VLOOKUP(tblData[[#This Row],[Indicator ID]],'Similar 10 CCGs'!$A$6:$C$160,3,FALSE)","v":"Mental Health Prevalence"},"2011/12","10J",1359,null,214526,0.63,0.6,0.66,8.1513198241132585,7.4201400263462975,null,0.66300000000000003,0.622,"","Y57","X24","1171","Wilson"]
[117,{"$f":"VLOOKUP(tblData[[#This Row],[Indicator ID]],'Similar 10 CCGs'!$A$6:$C$160,3,FALSE)","v":"Mental Health Prevalence"},"2011/12","11H",4157,null,475661,0.87,0.84,0.9,8.1513198241132585,7.4201400263462975,null,0.94000000000000006,0.81600000000000006,"B","Y57","X24","1171","Wilson"]
[117,{"$f":"VLOOKUP(tblData[[#This Row],[Indicator ID]],'Similar 10 CCGs'!$A$6:$C$160,3,FALSE)","v":"Mental Health Prevalence"},"2011/12","99G",1897,null,186028,1.02,0.98,1.07,8.1513198241132585,7.5032444134358913,null,0.86499999999999999,0.7579999999999999,"A","Y55","X24","1171","Wilson"]
[118,{"$f":"VLOOKUP(tblData[[#This Row],[Indicator ID]],'Similar 10 CCGs'!$A$6:$C$160,3,FALSE)","v":"Obesity (ages 16+) Prevalence"},"2011/12","00M",30762,null,235347,13.07,12.93,13.21,107.46534676291326,119.91534202809035,null,13.101999999999999,12.004,"","Y54","X24","1181","Wilson"]
[118,{"$f":"VLOOKUP(tblData[[#This Row],[Indicator ID]],'Similar 10 CCGs'!$A$6:$C$160,3,FALSE)","v":"Obesity (ages 16+) Prevalence"},"2011/12","00W",14965,null,172416,8.68,8.5500000000000007,8.81,107.46534676291326,119.91534202809035,null,10.360999999999999,8.8320000000000007,"C","Y54","X24","1181","Wilson"]
[118,{"$f":"VLOOKUP(tblData[[#This Row],[Indicator ID]],'Similar 10 CCGs'!$A$6:$C$160,3,FALSE)","v":"Obesity (ages 16+) Prevalence"},"2011/12","02G",10877,null,92017,11.82,11.61,12.03,107.46534676291326,119.91534202809035,null,12.672999999999998,11.54,"","Y54","X24","1181","Wilson"]
[118,{"$f":"VLOOKUP(tblData[[#This Row],[Indicator ID]],'Similar 10 CCGs'!$A$6:$C$160,3,FALSE)","v":"Obesity (ages 16+) Prevalence"},"2011/12","03F",27781,null,235554,11.79,11.66,11.92,107.46534676291326,119.91534202809035,null,13.973999999999998,13.012,"","Y54","X24","1181","Wilson"]
[118,{"$f":"VLOOKUP(tblData[[#This Row],[Indicator ID]],'Similar 10 CCGs'!$A$6:$C$160,3,FALSE)","v":"Obesity (ages 16+) Prevalence"},"2011/12","04C",29877,null,297059,10.06,9.9499999999999993,10.17,107.46534676291326,112.07638400898476,null,10.338000000000001,8.911999999999999,"","Y55","X24","1181","Wilson"]
[118,{"$f":"VLOOKUP(tblData[[#This Row],[Indicator ID]],'Similar 10 CCGs'!$A$6:$C$160,3,FALSE)","v":"Obesity (ages 16+) Prevalence"},"2011/12","05A",37347,null,374755,9.9700000000000006,9.8699999999999992,10.07,107.46534676291326,112.07638400898476,null,11.222000000000001,9.652000000000001,"C","Y55","X24","1181","Wilson"]
[118,{"$f":"VLOOKUP(tblData[[#This Row],[Indicator ID]],'Similar 10 CCGs'!$A$6:$C$160,3,FALSE)","v":"Obesity (ages 16+) Prevalence"},"2011/12","05X",17576,null,137930,12.74,12.57,12.92,107.46534676291326,112.07638400898476,null,12.196000000000002,10.89,"B","Y55","X24","1181","Wilson"]
[118,{"$f":"VLOOKUP(tblData[[#This Row],[Indicator ID]],'Similar 10 CCGs'!$A$6:$C$160,3,FALSE)","v":"Obesity (ages 16+) Prevalence"},"2011/12","06Y",21530,null,182010,11.83,11.68,11.98,107.46534676291326,112.07638400898476,null,10.431000000000001,9.4359999999999999,"A","Y55","X24","1181","Wilson"]
[118,{"$f":"VLOOKUP(tblData[[#This Row],[Indicator ID]],'Similar 10 CCGs'!$A$6:$C$160,3,FALSE)","v":"Obesity (ages 16+) Prevalence"},"2011/12","08A",30040,null,218158,13.77,13.63,13.92,107.46534676291326,93.884471033761386,null,10.919999999999998,9.7159999999999993,"A","Y56","X24","1181","Wilson"]
[118,{"$f":"VLOOKUP(tblData[[#This Row],[Indicator ID]],'Similar 10 CCGs'!$A$6:$C$160,3,FALSE)","v":"Obesity (ages 16+) Prevalence"},"2011/12","08T",14581,null,147765,9.8699999999999992,9.7200000000000006,10.02,107.46534676291326,93.884471033761386,null,9.7539999999999996,8.5139999999999993,"","Y56","X24","1181","Wilson"]
[118,{"$f":"VLOOKUP(tblData[[#This Row],[Indicator ID]],'Similar 10 CCGs'!$A$6:$C$160,3,FALSE)","v":"Obesity (ages 16+) Prevalence"},"2011/12","09P",17833,null,153080,11.65,11.49,11.81,107.46534676291326,96.754069305029887,null,11.985999999999999,11.016,"","Y57","X24","1181","Wilson"]
[118,{"$f":"VLOOKUP(tblData[[#This Row],[Indicator ID]],'Similar 10 CCGs'!$A$6:$C$160,3,FALSE)","v":"Obesity (ages 16+) Prevalence"},"2011/12","10N",8067,null,86481,9.33,9.14,9.5299999999999994,107.46534676291326,96.754069305029887,null,9.7919999999999998,8.7759999999999998,"B","Y57","X24","1181","Wilson"]
[118,{"$f":"VLOOKUP(tblData[[#This Row],[Indicator ID]],'Similar 10 CCGs'!$A$6:$C$160,3,FALSE)","v":"Obesity (ages 16+) Prevalence"},"2011/12","10T",11758,null,109974,10.69,10.51,10.87,107.46534676291326,96.754069305029887,null,10.260999999999999,8.798,"C","Y57","X24","1181","Wilson"]
[118,{"$f":"VLOOKUP(tblData[[#This Row],[Indicator ID]],'Similar 10 CCGs'!$A$6:$C$160,3,FALSE)","v":"Obesity (ages 16+) Prevalence"},"2011/12","12D",20389,null,177919,11.46,11.31,11.61,107.46534676291326,96.754069305029887,null,9.6649999999999991,8.6960000000000015,"A","Y57","X24","1181","Wilson"]
[118,{"$f":"VLOOKUP(tblData[[#This Row],[Indicator ID]],'Similar 10 CCGs'!$A$6:$C$160,3,FALSE)","v":"Obesity (ages 16+) Prevalence"},"2011/12","99Q",27185,null,239654,11.34,11.21,11.47,107.46534676291326,96.754069305029887,null,11.522,10.524000000000001,"A","Y57","X24","1181","Wilson"]
[119,{"$f":"VLOOKUP(tblData[[#This Row],[Indicator ID]],'Similar 10 CCGs'!$A$6:$C$160,3,FALSE)","v":"Palliative Care Prevalence"},"2011/12","00V",293,null,188744,0.16,0.14000000000000001,0.18,2.0369835016312794,2.3063883773312535,null,0.187,0.124,"","Y54","X24","1191","Wilson"]
[119,{"$f":"VLOOKUP(tblData[[#This Row],[Indicator ID]],'Similar 10 CCGs'!$A$6:$C$160,3,FALSE)","v":"Palliative Care Prevalence"},"2011/12","01T",247,null,155295,0.16,0.14000000000000001,0.18,2.0369835016312794,2.3063883773312535,null,0.24699999999999997,0.182,"C","Y54","X24","1191","Wilson"]
[119,{"$f":"VLOOKUP(tblData[[#This Row],[Indicator ID]],'Similar 10 CCGs'!$A$6:$C$160,3,FALSE)","v":"Palliative Care Prevalence"},"2011/12","02R",1009,null,330270,0.31,0.28999999999999998,0.33,2.0369835016312794,2.3063883773312535,null,0.191,0.16200000000000001,"A","Y54","X24","1191","Wilson"]
[119,{"$f":"VLOOKUP(tblData[[#This Row],[Indicator ID]],'Similar 10 CCGs'!$A$6:$C$160,3,FALSE)","v":"Palliative Care Prevalence"},"2011/12","03L",839,null,254708,0.33,0.31,0.35,2.0369835016312794,2.3063883773312535,null,0.22900000000000001,0.186,"A","Y54","X24","1191","Wilson"]
[119,{"$f":"VLOOKUP(tblData[[#This Row],[Indicator ID]],'Similar 10 CCGs'!$A$6:$C$160,3,FALSE)","v":"Palliative Care Prevalence"},"2011/12","04J",1950,null,279817,0.7,0.67,0.73,2.0369835016312794,2.2377121430068536,null,0.29700000000000004,0.19800000000000001,"A","Y55","X24","1191","Wilson"]
[119,{"$f":"VLOOKUP(tblData[[#This Row],[Indicator ID]],'Similar 10 CCGs'!$A$6:$C$160,3,FALSE)","v":"Palliative Care Prevalence"},"2011/12","05H",225,null,183653,0.12,0.11,0.14000000000000001,2.0369835016312794,2.2377121430068536,null,0.26000000000000006,0.17400000000000002,"C","Y55","X24","1191","Wilson"]
[119,{"$f":"VLOOKUP(tblData[[#This Row],[Indicator ID]],'Similar 10 CCGs'!$A$6:$C$160,3,FALSE)","v":"Palliative Care Prevalence"},"2011/12","06N",1002,null,599780,0.17,0.16,0.18,2.0369835016312794,2.2377121430068536,null,0.17699999999999999,0.14600000000000002,"B","Y55","X24","1191","Wilson"]
[119,{"$f":"VLOOKUP(tblData[[#This Row],[Indicator ID]],'Similar 10 CCGs'!$A$6:$C$160,3,FALSE)","v":"Palliative Care Prevalence"},"2011/12","07N",842,null,228448,0.37,0.35,0.4,2.0369835016312794,1.5596297465073088,null,0.16300000000000001,0.13,"A","Y56","X24","1191","Wilson"]
[119,{"$f":"VLOOKUP(tblData[[#This Row],[Indicator ID]],'Similar 10 CCGs'!$A$6:$C$160,3,FALSE)","v":"Palliative Care Prevalence"},"2011/12","08H",546,null,220190,0.25,0.23,0.27,2.0369835016312794,1.5596297465073088,null,0.13300000000000001,0.10800000000000001,"A","Y56","X24","1191","Wilson"]
[119,{"$f":"VLOOKUP(tblData[[#This Row],[Indicator ID]],'Similar 10 CCGs'!$A$6:$C$160,3,FALSE)","v":"Palliative Care Prevalence"},"2011/12","09D",616,null,302041,0.2,0.18,0.22,2.0369835016312794,1.8019787368337974,null,0.215,0.15000000000000002,"B","Y57","X24","1191","Wilson"]
[119,{"$f":"VLOOKUP(tblData[[#This Row],[Indicator ID]],'Similar 10 CCGs'!$A$6:$C$160,3,FALSE)","v":"Palliative Care Prevalence"},"2011/12","10E",211,null,140872,0.15,0.13,0.17,2.0369835016312794,1.8019787368337974,null,0.28399999999999997,0.184,"","Y57","X24","1191","Wilson"]
[119,{"$f":"VLOOKUP(tblData[[#This Row],[Indicator ID]],'Similar 10 CCGs'!$A$6:$C$160,3,FALSE)","v":"Palliative Care Prevalence"},"2011/12","11C",319,null,150550,0.21,0.19,0.23,2.0369835016312794,1.8019787368337974,null,0.189,0.124,"A","Y57","X24","1191","Wilson"]
[119,{"$f":"VLOOKUP(tblData[[#This Row],[Indicator ID]],'Similar 10 CCGs'!$A$6:$C$160,3,FALSE)","v":"Palliative Care Prevalence"},"2011/12","99D",330,null,156440,0.21,0.19,0.23,2.0369835016312794,2.2377121430068536,null,0.24900000000000003,0.182,"","Y55","X24","1191","Wilson"]
[120,{"$f":"VLOOKUP(tblData[[#This Row],[Indicator ID]],'Similar 10 CCGs'!$A$6:$C$160,3,FALSE)","v":"Stroke or Transient Ischaemic Attacks (TIA) Prevalence"},"2011/12","00H",2933,null,130014,2.2599999999999998,2.1800000000000002,2.34,17.366236612603327,19.837041973147425,null,1.9299999999999997,1.8259999999999998,"A","Y54","X24","1201","Wilson"]
[120,{"$f":"VLOOKUP(tblData[[#This Row],[Indicator ID]],'Similar 10 CCGs'!$A$6:$C$160,3,FALSE)","v":"Stroke or Transient Ischaemic Attacks (TIA) Prevalence"},"2011/12","01D",4127,null,224196,1.84,1.79,1.9,17.366236612603327,19.837041973147425,null,1.92,1.796,"B","Y54","X24","1201","Wilson"]
[120,{"$f":"VLOOKUP(tblData[[#This Row],[Indicator ID]],'Similar 10 CCGs'!$A$6:$C$160,3,FALSE)","v":"Stroke or Transient Ischaemic Attacks (TIA) Prevalence"},"2011/12","01N",2638,null,166809,1.58,1.52,1.64,17.366236612603327,19.837041973147425,null,1.7719999999999998,1.552,"B","Y54","X24","1201","Wilson"]
[120,{"$f":"VLOOKUP(tblData[[#This Row],[Indicator ID]],'Similar 10 CCGs'!$A$6:$C$160,3,FALSE)","v":"Stroke or Transient Ischaemic Attacks (TIA) Prevalence"},"2011/12","03A",4266,null,239050,1.78,1.73,1.83,17.366236612603327,19.837041973147425,null,1.78,1.6,"","Y54","X24","1201","Wilson"]
[120,{"$f":"VLOOKUP(tblData[[#This Row],[Indicator ID]],'Similar 10 CCGs'!$A$6:$C$160,3,FALSE)","v":"Stroke or Transient Ischaemic Attacks (TIA) Prevalence"},"2011/12","03W",5585,null,315168,1.77,1.72,1.82,17.366236612603327,17.62439071542666,null,1.8539999999999999,1.6919999999999997,"","Y55","X24","1201","Wilson"]
[120,{"$f":"VLOOKUP(tblData[[#This Row],[Indicator ID]],'Similar 10 CCGs'!$A$6:$C$160,3,FALSE)","v":"Stroke or Transient Ischaemic Attacks (TIA) Prevalence"},"2011/12","04R",9356,null,524920,1.78,1.74,1.82,17.366236612603327,17.62439071542666,null,1.8129999999999999,1.5820000000000001,"B","Y55","X24","1201","Wilson"]
[120,{"$f":"VLOOKUP(tblData[[#This Row],[Indicator ID]],'Similar 10 CCGs'!$A$6:$C$160,3,FALSE)","v":"Stroke or Transient Ischaemic Attacks (TIA) Prevalence"},"2011/12","05T",5424,null,292433,1.85,1.8,1.9,17.366236612603327,17.62439071542666,null,2.0979999999999999,1.9079999999999999,"C","Y55","X24","1201","Wilson"]
[120,{"$f":"VLOOKUP(tblData[[#This Row],[Indicator ID]],'Similar 10 CCGs'!$A$6:$C$160,3,FALSE)","v":"Stroke or Transient Ischaemic Attacks (TIA) Prevalence"},"2011/12","06T",6265,null,327531,1.91,1.86,1.96,17.366236612603327,17.62439071542666,null,2.1139999999999999,1.92,"","Y55","X24","1201","Wilson"]
[120,{"$f":"VLOOKUP(tblData[[#This Row],[Indicator ID]],'Similar 10 CCGs'!$A$6:$C$160,3,FALSE)","v":"Stroke or Transient Ischaemic Attacks (TIA) Prevalence"},"2011/12","07V",4668,null,383343,1.22,1.19,1.26,17.366236612603327,10.755912096622369,null,1.0850000000000002,0.97200000000000009,"","Y56","X24","1201","Wilson"]
[120,{"$f":"VLOOKUP(tblData[[#This Row],[Indicator ID]],'Similar 10 CCGs'!$A$6:$C$160,3,FALSE)","v":"Stroke or Transient Ischaemic Attacks (TIA) Prevalence"},"2011/12","08P",2324,null,197994,1.17,1.1200000000000001,1.22,17.366236612603327,10.755912096622369,null,1.4180000000000001,1.298,"","Y56","X24","1201","Wilson"]
[120,{"$f":"VLOOKUP(tblData[[#This Row],[Indicator ID]],'Similar 10 CCGs'!$A$6:$C$160,3,FALSE)","v":"Stroke or Transient Ischaemic Attacks (TIA) Prevalence"},"2011/12","09J",3959,null,249384,1.59,1.54,1.64,17.366236612603327,18.46857623280296,null,1.6420000000000001,1.4820000000000002,"","Y57","X24","1201","Wilson"]
[120,{"$f":"VLOOKUP(tblData[[#This Row],[Indicator ID]],'Similar 10 CCGs'!$A$6:$C$160,3,FALSE)","v":"Stroke or Transient Ischaemic Attacks (TIA) Prevalence"},"2011/12","10M",1574,null,113978,1.38,1.31,1.45,17.366236612603327,18.46857623280296,null,1.7029999999999998,1.508,"C","Y57","X24","1201","Wilson"]
[120,{"$f":"VLOOKUP(tblData[[#This Row],[Indicator ID]],'Similar 10 CCGs'!$A$6:$C$160,3,FALSE)","v":"Stroke or Transient Ischaemic Attacks (TIA) Prevalence"},"2011/12","11J",17412,null,765896,2.27,2.2400000000000002,2.2999999999999998,17.366236612603327,18.46857623280296,null,2.0490000000000004,1.8519999999999999,"A","Y57","X24","1201","Wilson"]
[120,{"$f":"VLOOKUP(tblData[[#This Row],[Indicator ID]],'Similar 10 CCGs'!$A$6:$C$160,3,FALSE)","v":"Stroke or Transient Ischaemic Attacks (TIA) Prevalence"},"2011/12","99K",3384,null,164555,2.06,1.99,2.13,17.366236612603327,18.46857623280296,null,2.0259999999999998,1.8939999999999997,"A","Y57","X24","1201","Wilson"]
[151,{"$f":"VLOOKUP(tblData[[#This Row],[Indicator ID]],'Similar 10 CCGs'!$A$6:$C$160,3,FALSE)","v":"Index of Mutiple Deprivation (2010)"},2010,"00Q",null,null,169187,34.56,null,null,0,0,null,31.957999999999998,29.471999999999998,null,"Y54","X24","1511",0]
[151,{"$f":"VLOOKUP(tblData[[#This Row],[Indicator ID]],'Similar 10 CCGs'!$A$6:$C$160,3,FALSE)","v":"Index of Mutiple Deprivation (2010)"},2010,"01K",null,null,160537,20.56,null,null,0,0,null,20.485999999999997,17.380000000000003,null,"Y54","X24","1511",0]
[151,{"$f":"VLOOKUP(tblData[[#This Row],[Indicator ID]],'Similar 10 CCGs'!$A$6:$C$160,3,FALSE)","v":"Index of Mutiple Deprivation (2010)"},2010,"02M",null,null,151372,16.600000000000001,null,null,0,0,null,18.727999999999998,15.885999999999999,null,"Y54","X24","1511",0]
[151,{"$f":"VLOOKUP(tblData[[#This Row],[Indicator ID]],'Similar 10 CCGs'!$A$6:$C$160,3,FALSE)","v":"Index of Mutiple Deprivation (2010)"},2010,"03H",null,null,167991,29.1,null,null,0,0,null,25.885000000000002,22.462,null,"Y54","X24","1511",0]
[151,{"$f":"VLOOKUP(tblData[[#This Row],[Indicator ID]],'Similar 10 CCGs'!$A$6:$C$160,3,FALSE)","v":"Index of Mutiple Deprivation (2010)"},2010,"04E",null,null,184149,29.22,null,null,0,0,null,26.641000000000002,24.212,null,"Y55","X24","1511",0]
[151,{"$f":"VLOOKUP(tblData[[#This Row],[Indicator ID]],'Similar 10 CCGs'!$A$6:$C$160,3,FALSE)","v":"Index of Mutiple Deprivation (2010)"},2010,"05D",null,null,134185,18.66,null,null,0,0,null,19.860999999999997,16.667999999999999,null,"Y55","X24","1511",0]
[151,{"$f":"VLOOKUP(tblData[[#This Row],[Indicator ID]],'Similar 10 CCGs'!$A$6:$C$160,3,FALSE)","v":"Index of Mutiple Deprivation (2010)"},2010,"06A",null,null,261600,34.35,null,null,0,0,null,28.887999999999998,24.088000000000001,null,"Y55","X24","1511",0]
[151,{"$f":"VLOOKUP(tblData[[#This Row],[Indicator ID]],'Similar 10 CCGs'!$A$6:$C$160,3,FALSE)","v":"Index of Mutiple Deprivation (2010)"},2010,"07H",null,null,292246,15.74,null,null,0,0,null,15.294999999999998,12.48,null,"Y55","X24","1511",0]
[151,{"$f":"VLOOKUP(tblData[[#This Row],[Indicator ID]],'Similar 10 CCGs'!$A$6:$C$160,3,FALSE)","v":"Index of Mutiple Deprivation (2010)"},2010,"07N",null,null,228388,17.420000000000002,null,null,0,0,null,17.047000000000001,16.07,null,"Y56","X24","1511",0]
[151,{"$f":"VLOOKUP(tblData[[#This Row],[Indicator ID]],'Similar 10 CCGs'!$A$6:$C$160,3,FALSE)","v":"Index of Mutiple Deprivation (2010)"},2010,"08E",null,null,238213,15.84,null,null,0,0,null,19.695,15.745999999999999,null,"Y56","X24","1511",0]
[151,{"$f":"VLOOKUP(tblData[[#This Row],[Indicator ID]],'Similar 10 CCGs'!$A$6:$C$160,3,FALSE)","v":"Index of Mutiple Deprivation (2010)"},2010,"08X",null,null,355958,21.4,null,null,0,0,null,27.820999999999998,22.779999999999998,null,"Y56","X24","1511",0]
[151,{"$f":"VLOOKUP(tblData[[#This Row],[Indicator ID]],'Similar 10 CCGs'!$A$6:$C$160,3,FALSE)","v":"Index of Mutiple Deprivation (2010)"},2010,"10A",null,null,200403,23.3,null,null,0,0,null,21.583999999999996,18.872000000000003,null,"Y57","X24","1511",0]
[151,{"$f":"VLOOKUP(tblData[[#This Row],[Indicator ID]],'Similar 10 CCGs'!$A$6:$C$160,3,FALSE)","v":"Index of Mutiple Deprivation (2010)"},2010,"10W",null,null,128033,20.41,null,null,0,0,null,25.705000000000002,22.681999999999999,null,"Y57","X24","1511",0]
[151,{"$f":"VLOOKUP(tblData[[#This Row],[Indicator ID]],'Similar 10 CCGs'!$A$6:$C$160,3,FALSE)","v":"Index of Mutiple Deprivation (2010)"},2010,"13P",null,null,730438,35.5,null,null,0,0,null,31.859999999999996,27.725999999999999,null,"Y55","X24","1511",0]
[1000101,{"$f":"VLOOKUP(tblData[[#This Row],[Indicator ID]],'Similar 10 CCGs'!$A$6:$C$160,3,FALSE)","v":"Programme Budget - Overall - Total admissions per 1000 population across secondary care - Cost"},"2011/12","00D",119163057,null,301925,394677.19,390988.21,398392.32000000001,334776.20158910286,370649.33705704485,null,373924.6559999999,351077.18400000001,"A","Y54","X24","10001011","Byar"]
[1000101,{"$f":"VLOOKUP(tblData[[#This Row],[Indicator ID]],'Similar 10 CCGs'!$A$6:$C$160,3,FALSE)","v":"Programme Budget - Overall - Total admissions per 1000 population across secondary care - Cost"},"2011/12","00X",71708167,null,176835,405508.9,400961.66,410094.85,334776.20158910286,370649.33705704485,null,350451.06099999999,322310.14399999997,"A","Y54","X24","10001011","Byar"]
[1000101,{"$f":"VLOOKUP(tblData[[#This Row],[Indicator ID]],'Similar 10 CCGs'!$A$6:$C$160,3,FALSE)","v":"Programme Budget - Overall - Total admissions per 1000 population across secondary care - Cost"},"2011/12","01W",120830822,null,310094,389658.25,385803,393542.42,334776.20158910286,370649.33705704485,null,360591.24800000002,331752.402,"A","Y54","X24","10001011","Byar"]
[1000101,{"$f":"VLOOKUP(tblData[[#This Row],[Indicator ID]],'Similar 10 CCGs'!$A$6:$C$160,3,FALSE)","v":"Programme Budget - Overall - Total admissions per 1000 population across secondary care - Cost"},"2011/12","02V",64572452,null,199162,324220.45,319921.52,328562.71000000002,334776.20158910286,370649.33705704485,null,341009.91700000002,310357.04200000002,"C","Y54","X24","10001011","Byar"]
[1000101,{"$f":"VLOOKUP(tblData[[#This Row],[Indicator ID]],'Similar 10 CCGs'!$A$6:$C$160,3,FALSE)","v":"Programme Budget - Overall - Total admissions per 1000 population across secondary care - Cost"},"2011/12","04F",78377265,null,230544,339966.03,335875.46,344093.98,334776.20158910286,323524.06791506498,null,318032.81099999999,304696.57,"A","Y55","X24","10001011","Byar"]
[1000101,{"$f":"VLOOKUP(tblData[[#This Row],[Indicator ID]],'Similar 10 CCGs'!$A$6:$C$160,3,FALSE)","v":"Programme Budget - Overall - Total admissions per 1000 population across secondary care - Cost"},"2011/12","04M",29756929,null,100666,295601.45,290383.98,300889.14,334776.20158910286,323524.06791506498,null,323699.20500000002,299160.576,"","Y55","X24","10001011","Byar"]
[1000101,{"$f":"VLOOKUP(tblData[[#This Row],[Indicator ID]],'Similar 10 CCGs'!$A$6:$C$160,3,FALSE)","v":"Programme Budget - Overall - Total admissions per 1000 population across secondary care - Cost"},"2011/12","05N",104733893,null,336607,311146.17,308130.32,314184.19,334776.20158910286,323524.06791506498,null,333840.01600000006,306077.64399999997,"","Y55","X24","10001011","Byar"]
[1000101,{"$f":"VLOOKUP(tblData[[#This Row],[Indicator ID]],'Similar 10 CCGs'!$A$6:$C$160,3,FALSE)","v":"Programme Budget - Overall - Total admissions per 1000 population across secondary care - Cost"},"2011/12","06N",173936418,null,590057,294778.78000000003,292499.96999999997,297070.93,334776.20158910286,323524.06791506498,null,309732.94299999997,283661.71600000001,"","Y55","X24","10001011","Byar"]
[1000101,{"$f":"VLOOKUP(tblData[[#This Row],[Indicator ID]],'Similar 10 CCGs'!$A$6:$C$160,3,FALSE)","v":"Programme Budget - Overall - Total admissions per 1000 population across secondary care - Cost"},"2011/12","07Q",108885377,null,337417,322703.14,319926.18,325498.21999999997,334776.20158910286,324492.82214664342,null,315198.55099999998,286414.46799999999,"","Y56","X24","10001011","Byar"]
[1000101,{"$f":"VLOOKUP(tblData[[#This Row],[Indicator ID]],'Similar 10 CCGs'!$A$6:$C$160,3,FALSE)","v":"Programme Budget - Overall - Total admissions per 1000 population across secondary care - Cost"},"2011/12","08K",87515324,null,303024,288806.28999999998,285576.03000000003,292063.98,334776.20158910286,324492.82214664342,null,328953.24599999998,312130.49800000002,"C","Y56","X24","10001011","Byar"]
[1000101,{"$f":"VLOOKUP(tblData[[#This Row],[Indicator ID]],'Similar 10 CCGs'!$A$6:$C$160,3,FALSE)","v":"Programme Budget - Overall - Total admissions per 1000 population across secondary care - Cost"},"2011/12","09F",78310415,null,225222,347703.4,343569.44,351874.69,334776.20158910286,314906.27643182059,null,329406.42299999995,304004.82799999998,"A","Y57","X24","10001011","Byar"]
[1000101,{"$f":"VLOOKUP(tblData[[#This Row],[Indicator ID]],'Similar 10 CCGs'!$A$6:$C$160,3,FALSE)","v":"Programme Budget - Overall - Total admissions per 1000 population across secondary care - Cost"},"2011/12","10H",84677421,null,333186,254144.3,251335.47,256976.7,334776.20158910286,314906.27643182059,null,303971.03000000003,289591.02,"C","Y57","X24","10001011","Byar"]
[1000101,{"$f":"VLOOKUP(tblData[[#This Row],[Indicator ID]],'Similar 10 CCGs'!$A$6:$C$160,3,FALSE)","v":"Programme Budget - Overall - Total admissions per 1000 population across secondary care - Cost"},"2011/12","11E",57545021,null,202926,283576.11,279638.90999999997,287554.89,334776.20158910286,314906.27643182059,null,318314.67499999993,299795.25400000002,"C","Y57","X24","10001011","Byar"]
[1000101,{"$f":"VLOOKUP(tblData[[#This Row],[Indicator ID]],'Similar 10 CCGs'!$A$6:$C$160,3,FALSE)","v":"Programme Budget - Overall - Total admissions per 1000 population across secondary care - Cost"},"2011/12","99F",61122704,null,196270,311421.08,307580.27,315297.87,334776.20158910286,323524.06791506498,null,307136.34600000002,294827.24599999998,"B","Y55","X24","10001011","Byar"]
[1000102,{"$f":"VLOOKUP(tblData[[#This Row],[Indicator ID]],'Similar 10 CCGs'!$A$6:$C$160,3,FALSE)","v":"Programme Budget - Overall - Total elective (IP + DC) admissions per 1000 population across secondary care - Cost"},"2011/12","00L",63802745,null,364581,175002.72,173570.03,176444.3,140492.6968316432,152777.4053231813,null,143142.88200000001,133466.198,"A","Y54","X24","10001021","Byar"]
[1000102,{"$f":"VLOOKUP(tblData[[#This Row],[Indicator ID]],'Similar 10 CCGs'!$A$6:$C$160,3,FALSE)","v":"Programme Budget - Overall - Total elective (IP + DC) admissions per 1000 population across secondary care - Cost"},"2011/12","01G",38528153,null,230286,167305.68,165490.65,169135.66,140492.6968316432,152777.4053231813,null,161703.71599999999,150810.19,"A","Y54","X24","10001021","Byar"]
[1000102,{"$f":"VLOOKUP(tblData[[#This Row],[Indicator ID]],'Similar 10 CCGs'!$A$6:$C$160,3,FALSE)","v":"Programme Budget - Overall - Total elective (IP + DC) admissions per 1000 population across secondary care - Cost"},"2011/12","02F",37842381,null,272359,138942.93,137497.54,140399.73000000001,140492.6968316432,152777.4053231813,null,135174.359,122485.61599999999,"A","Y54","X24","10001021","Byar"]
[1000102,{"$f":"VLOOKUP(tblData[[#This Row],[Indicator ID]],'Similar 10 CCGs'!$A$6:$C$160,3,FALSE)","v":"Programme Budget - Overall - Total elective (IP + DC) admissions per 1000 population across secondary care - Cost"},"2011/12","03D",27697626,null,166409,166443.45000000001,164286.6,168621.54,140492.6968316432,152777.4053231813,null,143884.30399999997,129955.89199999999,"A","Y54","X24","10001021","Byar"]
[1000102,{"$f":"VLOOKUP(tblData[[#This Row],[Indicator ID]],'Similar 10 CCGs'!$A$6:$C$160,3,FALSE)","v":"Programme Budget - Overall - Total elective (IP + DC) admissions per 1000 population across secondary care - Cost"},"2011/12","03Y",16195852,null,111210,145632.99,143269.01999999999,148026.19,140492.6968316432,135491.20671715998,null,154883.89400000003,143101.39799999999,"B","Y55","X24","10001021","Byar"]
[1000102,{"$f":"VLOOKUP(tblData[[#This Row],[Indicator ID]],'Similar 10 CCGs'!$A$6:$C$160,3,FALSE)","v":"Programme Budget - Overall - Total elective (IP + DC) admissions per 1000 population across secondary care - Cost"},"2011/12","04X",27955889,null,207840,134506.74,132734.19,136297.04999999999,140492.6968316432,135491.20671715998,null,148356.48199999999,135412.038,"C","Y55","X24","10001021","Byar"]
[1000102,{"$f":"VLOOKUP(tblData[[#This Row],[Indicator ID]],'Similar 10 CCGs'!$A$6:$C$160,3,FALSE)","v":"Programme Budget - Overall - Total elective (IP + DC) admissions per 1000 population across secondary care - Cost"},"2011/12","05W",43556051,null,279007,156111.21,154502.87,157732.13,140492.6968316432,135491.20671715998,null,165083.43099999998,155674.63400000002,"A","Y55","X24","10001021","Byar"]
[1000102,{"$f":"VLOOKUP(tblData[[#This Row],[Indicator ID]],'Similar 10 CCGs'!$A$6:$C$160,3,FALSE)","v":"Programme Budget - Overall - Total elective (IP + DC) admissions per 1000 population across secondary care - Cost"},"2011/12","06W",24477824,null,203817,120096.78,118597.36,121610.42,140492.6968316432,135491.20671715998,null,146342.913,127380.32000000002,"C","Y55","X24","10001021","Byar"]
[1000102,{"$f":"VLOOKUP(tblData[[#This Row],[Indicator ID]],'Similar 10 CCGs'!$A$6:$C$160,3,FALSE)","v":"Programme Budget - Overall - Total elective (IP + DC) admissions per 1000 population across secondary care - Cost"},"2011/12","07X",40716169,null,283904,143415.03,142013.70000000001,144826.74,140492.6968316432,131932.43894979765,null,135260.337,126826.65400000001,"A","Y56","X24","10001021","Byar"]
[1000102,{"$f":"VLOOKUP(tblData[[#This Row],[Indicator ID]],'Similar 10 CCGs'!$A$6:$C$160,3,FALSE)","v":"Programme Budget - Overall - Total elective (IP + DC) admissions per 1000 population across secondary care - Cost"},"2011/12","08F",37809458,null,267007,141604.57,140062.19,143159.70000000001,140492.6968316432,131932.43894979765,null,140351.49599999998,128736.9,"B","Y56","X24","10001021","Byar"]
[1000102,{"$f":"VLOOKUP(tblData[[#This Row],[Indicator ID]],'Similar 10 CCGs'!$A$6:$C$160,3,FALSE)","v":"Programme Budget - Overall - Total elective (IP + DC) admissions per 1000 population across secondary care - Cost"},"2011/12","09P",35604692,null,214392,166073.12,164093.20000000001,168070.96,140492.6968316432,137459.16047696793,null,146211.75600000002,132347.16200000001,"A","Y57","X24","10001021","Byar"]
[1000102,{"$f":"VLOOKUP(tblData[[#This Row],[Indicator ID]],'Similar 10 CCGs'!$A$6:$C$160,3,FALSE)","v":"Programme Budget - Overall - Total elective (IP + DC) admissions per 1000 population across secondary care - Cost"},"2011/12","10R",26924703,null,198303,135775.73000000001,133994.56,137574.66,140492.6968316432,137459.16047696793,null,150610.87599999999,137479.84400000001,"","Y57","X24","10001021","Byar"]
[1000102,{"$f":"VLOOKUP(tblData[[#This Row],[Indicator ID]],'Similar 10 CCGs'!$A$6:$C$160,3,FALSE)","v":"Programme Budget - Overall - Total elective (IP + DC) admissions per 1000 population across secondary care - Cost"},"2011/12","11X",85186488,null,614679,138586.96,137590.1,139589.25,140492.6968316432,137459.16047696793,null,141348.22899999999,132610.91600000003,"","Y57","X24","10001021","Byar"]
[1000102,{"$f":"VLOOKUP(tblData[[#This Row],[Indicator ID]],'Similar 10 CCGs'!$A$6:$C$160,3,FALSE)","v":"Programme Budget - Overall - Total elective (IP + DC) admissions per 1000 population across secondary care - Cost"},"2011/12","99N",69376375,null,518453,133814.16,132689.41,134946.07,140492.6968316432,137459.16047696793,null,129120.879,122419.15800000001,"A","Y57","X24","10001021","Byar"]
[1000103,{"$f":"VLOOKUP(tblData[[#This Row],[Indicator ID]],'Similar 10 CCGs'!$A$6:$C$160,3,FALSE)","v":"Programme Budget - Overall - Non-elective (EM + ONEL) admissions per 1000 population across secondary care - Cost"},"2011/12","00T",59935659,null,281272,213088.05,210901.04,215292.09,194283.34988889648,217897.04919163237,null,227921.56800000003,213439.484,"C","Y54","X24","10001031","Byar"]
[1000103,{"$f":"VLOOKUP(tblData[[#This Row],[Indicator ID]],'Similar 10 CCGs'!$A$6:$C$160,3,FALSE)","v":"Programme Budget - Overall - Non-elective (EM + ONEL) admissions per 1000 population across secondary care - Cost"},"2011/12","01N",37560945,null,151090,248600.22,245283.1,251950.98,194283.34988889648,217897.04919163237,null,221804.61299999998,204997.83399999997,"A","Y54","X24","10001031","Byar"]
[1000103,{"$f":"VLOOKUP(tblData[[#This Row],[Indicator ID]],'Similar 10 CCGs'!$A$6:$C$160,3,FALSE)","v":"Programme Budget - Overall - Non-elective (EM + ONEL) admissions per 1000 population across secondary care - Cost"},"2011/12","02P",62495083,null,251445,248543.76,246001.85,251105.39,194283.34988889648,217897.04919163237,null,221259.95899999997,209347.91,"A","Y54","X24","10001031","Byar"]
[1000103,{"$f":"VLOOKUP(tblData[[#This Row],[Indicator ID]],'Similar 10 CCGs'!$A$6:$C$160,3,FALSE)","v":"Programme Budget - Overall - Non-elective (EM + ONEL) admissions per 1000 population across secondary care - Cost"},"2011/12","03K",35244455,null,176867,199271.51,196501.52,202070.77,194283.34988889648,217897.04919163237,null,199558.54699999999,187906.34599999999,"","Y54","X24","10001031","Byar"]
[1000103,{"$f":"VLOOKUP(tblData[[#This Row],[Indicator ID]],'Similar 10 CCGs'!$A$6:$C$160,3,FALSE)","v":"Programme Budget - Overall - Non-elective (EM + ONEL) admissions per 1000 population across secondary care - Cost"},"2011/12","04G",116793664,null,608207,192029.47,190578.1,193489.15,194283.34988889648,188033.11915426666,null,177520.576,163526.26399999997,"A","Y55","X24","10001031","Byar"]
[1000103,{"$f":"VLOOKUP(tblData[[#This Row],[Indicator ID]],'Similar 10 CCGs'!$A$6:$C$160,3,FALSE)","v":"Programme Budget - Overall - Non-elective (EM + ONEL) admissions per 1000 population across secondary care - Cost"},"2011/12","05A",90658475,null,448986,201918.14,200178.86,203668.78,194283.34988889648,188033.11915426666,null,209389.63099999999,197695.07600000003,"","Y55","X24","10001031","Byar"]
[1000103,{"$f":"VLOOKUP(tblData[[#This Row],[Indicator ID]],'Similar 10 CCGs'!$A$6:$C$160,3,FALSE)","v":"Programme Budget - Overall - Non-elective (EM + ONEL) admissions per 1000 population across secondary care - Cost"},"2011/12","05H",35439038,null,184895,191670.93,188954.26,194416.89,194283.34988889648,188033.11915426666,null,204508.52,188143.13,"","Y55","X24","10001031","Byar"]
[1000103,{"$f":"VLOOKUP(tblData[[#This Row],[Indicator ID]],'Similar 10 CCGs'!$A$6:$C$160,3,FALSE)","v":"Programme Budget - Overall - Non-elective (EM + ONEL) admissions per 1000 population across secondary care - Cost"},"2011/12","06H",148331077,null,840297,176522.28,175294.22,177756.79999999999,194283.34988889648,188033.11915426666,null,184825.97199999998,171843.50400000002,"","Y55","X24","10001031","Byar"]
[1000103,{"$f":"VLOOKUP(tblData[[#This Row],[Indicator ID]],'Similar 10 CCGs'!$A$6:$C$160,3,FALSE)","v":"Programme Budget - Overall - Non-elective (EM + ONEL) admissions per 1000 population across secondary care - Cost"},"2011/12","07M",66701274,null,363288,183604.38,181843.54,185378.03,194283.34988889648,192393.95223361242,null,189373.50700000001,178003.00599999999,"","Y56","X24","10001031","Byar"]
[1000103,{"$f":"VLOOKUP(tblData[[#This Row],[Indicator ID]],'Similar 10 CCGs'!$A$6:$C$160,3,FALSE)","v":"Programme Budget - Overall - Non-elective (EM + ONEL) admissions per 1000 population across secondary care - Cost"},"2011/12","08G",53257987,null,261345,203784.49,201484.13,206104.56,194283.34988889648,192393.95223361242,null,199814.75800000003,189377.538,"A","Y56","X24","10001031","Byar"]
[1000103,{"$f":"VLOOKUP(tblData[[#This Row],[Indicator ID]],'Similar 10 CCGs'!$A$6:$C$160,3,FALSE)","v":"Programme Budget - Overall - Non-elective (EM + ONEL) admissions per 1000 population across secondary care - Cost"},"2011/12","09C",21979626,null,121540,180843.45,177638.94,184091.25,194283.34988889648,177428.98490053456,null,182512.43199999997,165207.67200000002,"A","Y57","X24","10001031","Byar"]
[1000103,{"$f":"VLOOKUP(tblData[[#This Row],[Indicator ID]],'Similar 10 CCGs'!$A$6:$C$160,3,FALSE)","v":"Programme Budget - Overall - Non-elective (EM + ONEL) admissions per 1000 population across secondary care - Cost"},"2011/12","10D",18005210,null,103824,173420.42,169899.76,176995.66,194283.34988889648,177428.98490053456,null,199244.30799999999,188498.74999999997,"C","Y57","X24","10001031","Byar"]
[1000103,{"$f":"VLOOKUP(tblData[[#This Row],[Indicator ID]],'Similar 10 CCGs'!$A$6:$C$160,3,FALSE)","v":"Programme Budget - Overall - Non-elective (EM + ONEL) admissions per 1000 population across secondary care - Cost"},"2011/12","10Y",31739793,null,192277,165073.54,162652.57,167521.53,194283.34988889648,177428.98490053456,null,174568.28999999998,157420.84800000003,"","Y57","X24","10001031","Byar"]
[1000103,{"$f":"VLOOKUP(tblData[[#This Row],[Indicator ID]],'Similar 10 CCGs'!$A$6:$C$160,3,FALSE)","v":"Programme Budget - Overall - Non-elective (EM + ONEL) admissions per 1000 population across secondary care - Cost"},"2011/12","99C",56839217,null,225623,251921.18,249163.08,254702.19,194283.34988889648,217897.04919163237,null,223509.217,205390.48800000001,"A","Y54","X24","10001031","Byar"]
[1000104,{"$f":"VLOOKUP(tblData[[#This Row],[Indicator ID]],'Similar 10 CCGs'!$A$6:$C$160,3,FALSE)","v":"Programme Budget - Overall - First OP appointment following GP referral consistent with previous profiles - Cost"},"2011/12","00H",3936836,null,127366,30909.66,30533.05,31289.759999999998,27618.686086644298,28422.409923752148,null,30849.384000000002,28430.232,"A","Y54","X24","10001041","Byar"]
[1000104,{"$f":"VLOOKUP(tblData[[#This Row],[Indicator ID]],'Similar 10 CCGs'!$A$6:$C$160,3,FALSE)","v":"Programme Budget - Overall - First OP appointment following GP referral consistent with previous profiles - Cost"},"2011/12","01C",5011230,null,215176,23289.02,23033.78,23546.38,27618.686086644298,28422.409923752148,null,25635.337,22811.856,"","Y54","X24","10001041","Byar"]
[1000104,{"$f":"VLOOKUP(tblData[[#This Row],[Indicator ID]],'Similar 10 CCGs'!$A$6:$C$160,3,FALSE)","v":"Programme Budget - Overall - First OP appointment following GP referral consistent with previous profiles - Cost"},"2011/12","02A",8423661,null,233881,36016.92,35718.67,36317.040000000001,27618.686086644298,28422.409923752148,null,27288.578000000001,25017.418000000001,"A","Y54","X24","10001041","Byar"]
[1000104,{"$f":"VLOOKUP(tblData[[#This Row],[Indicator ID]],'Similar 10 CCGs'!$A$6:$C$160,3,FALSE)","v":"Programme Budget - Overall - First OP appointment following GP referral consistent with previous profiles - Cost"},"2011/12","02Y",9413806,null,324264,29031.279999999999,28798.78,29265.19,27618.686086644298,28422.409923752148,null,28803.718999999994,26056.807999999997,"A","Y54","X24","10001041","Byar"]
[1000104,{"$f":"VLOOKUP(tblData[[#This Row],[Indicator ID]],'Similar 10 CCGs'!$A$6:$C$160,3,FALSE)","v":"Programme Budget - Overall - First OP appointment following GP referral consistent with previous profiles - Cost"},"2011/12","03V",1239559,null,66339,18685.349999999999,18283.2,19094.11,27618.686086644298,27773.425619398062,null,28593.435999999998,25948.103999999999,"C","Y55","X24","10001041","Byar"]
[1000104,{"$f":"VLOOKUP(tblData[[#This Row],[Indicator ID]],'Similar 10 CCGs'!$A$6:$C$160,3,FALSE)","v":"Programme Budget - Overall - First OP appointment following GP referral consistent with previous profiles - Cost"},"2011/12","04Q",3992742,null,136320,29289.47,28927.55,29654.78,27618.686086644298,27773.425619398062,null,29012.475999999995,26847.103999999992,"A","Y55","X24","10001041","Byar"]
[1000104,{"$f":"VLOOKUP(tblData[[#This Row],[Indicator ID]],'Similar 10 CCGs'!$A$6:$C$160,3,FALSE)","v":"Programme Budget - Overall - First OP appointment following GP referral consistent with previous profiles - Cost"},"2011/12","05Q",6611908,null,217213,30439.72,30158.16,30723.27,27618.686086644298,27773.425619398062,null,27092.648999999998,23969.202000000001,"A","Y55","X24","10001041","Byar"]
[1000104,{"$f":"VLOOKUP(tblData[[#This Row],[Indicator ID]],'Similar 10 CCGs'!$A$6:$C$160,3,FALSE)","v":"Programme Budget - Overall - First OP appointment following GP referral consistent with previous profiles - Cost"},"2011/12","06Q",12244403,null,385944,31725.84,31539.51,31912.99,27618.686086644298,27773.425619398062,null,24627.218000000001,21454.224000000002,"A","Y55","X24","10001041","Byar"]
[1000104,{"$f":"VLOOKUP(tblData[[#This Row],[Indicator ID]],'Similar 10 CCGs'!$A$6:$C$160,3,FALSE)","v":"Programme Budget - Overall - First OP appointment following GP referral consistent with previous profiles - Cost"},"2011/12","07T",6536912,null,249844,26163.93,25920.13,26409.46,27618.686086644298,29791.214420238077,null,30125.474999999999,27872.652000000002,"C","Y56","X24","10001041","Byar"]
[1000104,{"$f":"VLOOKUP(tblData[[#This Row],[Indicator ID]],'Similar 10 CCGs'!$A$6:$C$160,3,FALSE)","v":"Programme Budget - Overall - First OP appointment following GP referral consistent with previous profiles - Cost"},"2011/12","08M",10371333,null,301994,34342.85,34085.99,34601.160000000003,27618.686086644298,29791.214420238077,null,28589.333999999995,26576.727999999996,"A","Y56","X24","10001041","Byar"]
[1000104,{"$f":"VLOOKUP(tblData[[#This Row],[Indicator ID]],'Similar 10 CCGs'!$A$6:$C$160,3,FALSE)","v":"Programme Budget - Overall - First OP appointment following GP referral consistent with previous profiles - Cost"},"2011/12","09Y",10158855,null,354385,28666.15,28451.56,28881.96,27618.686086644298,25330.243432965974,null,25332.868999999999,21820.534,"A","Y57","X24","10001041","Byar"]
[1000104,{"$f":"VLOOKUP(tblData[[#This Row],[Indicator ID]],'Similar 10 CCGs'!$A$6:$C$160,3,FALSE)","v":"Programme Budget - Overall - First OP appointment following GP referral consistent with previous profiles - Cost"},"2011/12","10L",4117988,null,156109,26378.95,26058.79,26702.06,27618.686086644298,25330.243432965974,null,29789.127,28037.24,"C","Y57","X24","10001041","Byar"]
[1000104,{"$f":"VLOOKUP(tblData[[#This Row],[Indicator ID]],'Similar 10 CCGs'!$A$6:$C$160,3,FALSE)","v":"Programme Budget - Overall - First OP appointment following GP referral consistent with previous profiles - Cost"},"2011/12","11M",16777668,null,637080,26335.26,26179.37,26491.85,27618.686086644298,25330.243432965974,null,25942.085999999999,23162.988000000001,"A","Y57","X24","10001041","Byar"]
[1000104,{"$f":"VLOOKUP(tblData[[#This Row],[Indicator ID]],'Similar 10 CCGs'!$A$6:$C$160,3,FALSE)","v":"Programme Budget - Overall - First OP appointment following GP referral consistent with previous profiles - Cost"},"2011/12","99J",11469537,null,476935,24048.41,23875.41,24222.35,27618.686086644298,25330.243432965974,null,26050.91,22990.808000000001,"","Y57","X24","10001041","Byar"]
[1000105,{"$f":"VLOOKUP(tblData[[#This Row],[Indicator ID]],'Similar 10 CCGs'!$A$6:$C$160,3,FALSE)","v":"Programme Budget - Overall - Cost prescribed per 1000 ASTRO-PU population - Cost"},"2011/12","00N",26471140,null,165329,160112.35999999999,159937.71,160287.15,141444.36967566129,158318.16706919865,null,156270.52499999999,145708.29999999999,"A","Y54","X24","10001051","Byar"]
[1000105,{"$f":"VLOOKUP(tblData[[#This Row],[Indicator ID]],'Similar 10 CCGs'!$A$6:$C$160,3,FALSE)","v":"Programme Budget - Overall - Cost prescribed per 1000 ASTRO-PU population - Cost"},"2011/12","01J",30457647,null,155907,195357.32,195158.66,195556.14,141444.36967566129,158318.16706919865,null,166607.44899999996,160104.57399999996,"A","Y54","X24","10001051","Byar"]
[1000105,{"$f":"VLOOKUP(tblData[[#This Row],[Indicator ID]],'Similar 10 CCGs'!$A$6:$C$160,3,FALSE)","v":"Programme Budget - Overall - Cost prescribed per 1000 ASTRO-PU population - Cost"},"2011/12","02H",58014785,null,324882,178572.13,178440.55,178703.79,141444.36967566129,158318.16706919865,null,160026.65399999998,149829.68800000002,"A","Y54","X24","10001051","Byar"]
[1000105,{"$f":"VLOOKUP(tblData[[#This Row],[Indicator ID]],'Similar 10 CCGs'!$A$6:$C$160,3,FALSE)","v":"Programme Budget - Overall - Cost prescribed per 1000 ASTRO-PU population - Cost"},"2011/12","03G",41219255,null,244620,168503.09,168355.79,168650.49,141444.36967566129,158318.16706919865,null,165662.82800000001,157940.81200000001,"A","Y54","X24","10001051","Byar"]
[1000105,{"$f":"VLOOKUP(tblData[[#This Row],[Indicator ID]],'Similar 10 CCGs'!$A$6:$C$160,3,FALSE)","v":"Programme Budget - Overall - Cost prescribed per 1000 ASTRO-PU population - Cost"},"2011/12","04D",36235909,null,236799,153024.15,152881.48000000001,153166.92000000001,141444.36967566129,139830.11916877667,null,144938.72099999999,140510.39200000002,"A","Y55","X24","10001051","Byar"]
[1000105,{"$f":"VLOOKUP(tblData[[#This Row],[Indicator ID]],'Similar 10 CCGs'!$A$6:$C$160,3,FALSE)","v":"Programme Budget - Overall - Cost prescribed per 1000 ASTRO-PU population - Cost"},"2011/12","05A",62600398,null,434185,144179.22,144076.94,144281.54999999999,141444.36967566129,139830.11916877667,null,150532.94199999998,136504.008,"","Y55","X24","10001051","Byar"]
[1000105,{"$f":"VLOOKUP(tblData[[#This Row],[Indicator ID]],'Similar 10 CCGs'!$A$6:$C$160,3,FALSE)","v":"Programme Budget - Overall - Cost prescribed per 1000 ASTRO-PU population - Cost"},"2011/12","05V",22054633,null,162033,136111.84,135949.19,136274.64000000001,141444.36967566129,139830.11916877667,null,135943.505,128418.36599999999,"","Y55","X24","10001051","Byar"]
[1000105,{"$f":"VLOOKUP(tblData[[#This Row],[Indicator ID]],'Similar 10 CCGs'!$A$6:$C$160,3,FALSE)","v":"Programme Budget - Overall - Cost prescribed per 1000 ASTRO-PU population - Cost"},"2011/12","07H",39453267,null,295656,133443.15,133323.92000000001,133562.47,141444.36967566129,139830.11916877667,null,136779.78,127937.344,"A","Y55","X24","10001051","Byar"]
[1000105,{"$f":"VLOOKUP(tblData[[#This Row],[Indicator ID]],'Similar 10 CCGs'!$A$6:$C$160,3,FALSE)","v":"Programme Budget - Overall - Cost prescribed per 1000 ASTRO-PU population - Cost"},"2011/12","08C",21285323,null,149012,142842.88,142669.13,143016.79999999999,141444.36967566129,133787.98830582085,null,133123.101,126825.78200000001,"A","Y56","X24","10001051","Byar"]
[1000105,{"$f":"VLOOKUP(tblData[[#This Row],[Indicator ID]],'Similar 10 CCGs'!$A$6:$C$160,3,FALSE)","v":"Programme Budget - Overall - Cost prescribed per 1000 ASTRO-PU population - Cost"},"2011/12","08W",32489973,null,226794,143257.87,143116.82,143399.03,141444.36967566129,133787.98830582085,null,139231.17100000003,126097.88400000001,"A","Y56","X24","10001051","Byar"]
[1000105,{"$f":"VLOOKUP(tblData[[#This Row],[Indicator ID]],'Similar 10 CCGs'!$A$6:$C$160,3,FALSE)","v":"Programme Budget - Overall - Cost prescribed per 1000 ASTRO-PU population - Cost"},"2011/12","09X",30477978,null,238860,127597.69,127467.98,127727.51,141444.36967566129,129171.83040537918,null,125667.79299999999,120262.88399999999,"","Y57","X24","10001051","Byar"]
[1000105,{"$f":"VLOOKUP(tblData[[#This Row],[Indicator ID]],'Similar 10 CCGs'!$A$6:$C$160,3,FALSE)","v":"Programme Budget - Overall - Cost prescribed per 1000 ASTRO-PU population - Cost"},"2011/12","10V",30808676,null,236204,130432.25,130300.37,130564.23,141444.36967566129,129171.83040537918,null,134107.23500000002,127848.98799999998,"","Y57","X24","10001051","Byar"]
[1000105,{"$f":"VLOOKUP(tblData[[#This Row],[Indicator ID]],'Similar 10 CCGs'!$A$6:$C$160,3,FALSE)","v":"Programme Budget - Overall - Cost prescribed per 1000 ASTRO-PU population - Cost"},"2011/12","12D",29611645,null,206957,143081.29,142933.72,143228.97,141444.36967566129,129171.83040537918,null,135228.91500000001,124793.96600000001,"A","Y57","X24","10001051","Byar"]
[1000105,{"$f":"VLOOKUP(tblData[[#This Row],[Indicator ID]],'Similar 10 CCGs'!$A$6:$C$160,3,FALSE)","v":"Programme Budget - Overall - Cost prescribed per 1000 ASTRO-PU population - Cost"},"2011/12","99Q",45664145,null,347506,131405.24,131296.1,131514.45000000001,141444.36967566129,129171.83040537918,null,139551.55199999997,131469.114,"","Y57","X24","10001051","Byar"]
[1000201,{"$f":"VLOOKUP(tblData[[#This Row],[Indicator ID]],'Similar 10 CCGs'!$A$6:$C$160,3,FALSE)","v":"Programme Budget - Overall - Total admissions per 1000 population across secondary care - Activity"},"2011/12","00W",45461,null,179355,253.47,251.14,255.81,232.1678657583422,264.65014744656361,null,230.983,199.97800000000001,"A","Y54","X24","10002011","Byar"]
[1000201,{"$f":"VLOOKUP(tblData[[#This Row],[Indicator ID]],'Similar 10 CCGs'!$A$6:$C$160,3,FALSE)","v":"Programme Budget - Overall - Total admissions per 1000 population across secondary care - Activity"},"2011/12","01T",39374,null,159920,246.21,243.78,248.65,232.1678657583422,264.65014744656361,null,273.41300000000001,250.48999999999995,"C","Y54","X24","10002011","Byar"]
[1000201,{"$f":"VLOOKUP(tblData[[#This Row],[Indicator ID]],'Similar 10 CCGs'!$A$6:$C$160,3,FALSE)","v":"Programme Budget - Overall - Total admissions per 1000 population across secondary care - Activity"},"2011/12","01X",52137,null,198227,263.02,260.76,265.27999999999997,232.1678657583422,264.65014744656361,null,274.54599999999999,250.52799999999996,"","Y54","X24","10002011","Byar"]
[1000201,{"$f":"VLOOKUP(tblData[[#This Row],[Indicator ID]],'Similar 10 CCGs'!$A$6:$C$160,3,FALSE)","v":"Programme Budget - Overall - Total admissions per 1000 population across secondary care - Activity"},"2011/12","02V",44621,null,199714,223.42,221.36,225.51,232.1678657583422,264.65014744656361,null,247.77200000000002,219.858,"","Y54","X24","10002011","Byar"]
[1000201,{"$f":"VLOOKUP(tblData[[#This Row],[Indicator ID]],'Similar 10 CCGs'!$A$6:$C$160,3,FALSE)","v":"Programme Budget - Overall - Total admissions per 1000 population across secondary care - Activity"},"2011/12","03N",136390,null,564854,241.46,240.18,242.75,232.1678657583422,264.65014744656361,null,245.88999999999996,227.03200000000001,"","Y54","X24","10002011","Byar"]
[1000201,{"$f":"VLOOKUP(tblData[[#This Row],[Indicator ID]],'Similar 10 CCGs'!$A$6:$C$160,3,FALSE)","v":"Programme Budget - Overall - Total admissions per 1000 population across secondary care - Activity"},"2011/12","04L",31969,null,150937,211.8,209.49,214.14,232.1678657583422,227.2760371027214,null,246.68099999999995,215.68800000000002,"C","Y55","X24","10002011","Byar"]
[1000201,{"$f":"VLOOKUP(tblData[[#This Row],[Indicator ID]],'Similar 10 CCGs'!$A$6:$C$160,3,FALSE)","v":"Programme Budget - Overall - Total admissions per 1000 population across secondary care - Activity"},"2011/12","05L",119630,null,490806,243.74,242.36,245.13,232.1678657583422,227.2760371027214,null,247.52100000000002,229.148,"","Y55","X24","10002011","Byar"]
[1000201,{"$f":"VLOOKUP(tblData[[#This Row],[Indicator ID]],'Similar 10 CCGs'!$A$6:$C$160,3,FALSE)","v":"Programme Budget - Overall - Total admissions per 1000 population across secondary care - Activity"},"2011/12","06L",88140,null,409724,215.12,213.7,216.55,232.1678657583422,227.2760371027214,null,221.60000000000005,200.62799999999999,"","Y55","X24","10002011","Byar"]
[1000201,{"$f":"VLOOKUP(tblData[[#This Row],[Indicator ID]],'Similar 10 CCGs'!$A$6:$C$160,3,FALSE)","v":"Programme Budget - Overall - Total admissions per 1000 population across secondary care - Activity"},"2011/12","07P",66067,null,304306,217.11,215.45,218.77,232.1678657583422,216.32962584743791,null,224.51999999999998,211.916,"","Y56","X24","10002011","Byar"]
[1000201,{"$f":"VLOOKUP(tblData[[#This Row],[Indicator ID]],'Similar 10 CCGs'!$A$6:$C$160,3,FALSE)","v":"Programme Budget - Overall - Total admissions per 1000 population across secondary care - Activity"},"2011/12","08J",34021,null,179262,189.78,187.77,191.81,232.1678657583422,216.32962584743791,null,215.99700000000001,203.25,"C","Y56","X24","10002011","Byar"]
[1000201,{"$f":"VLOOKUP(tblData[[#This Row],[Indicator ID]],'Similar 10 CCGs'!$A$6:$C$160,3,FALSE)","v":"Programme Budget - Overall - Total admissions per 1000 population across secondary care - Activity"},"2011/12","09E",49740,null,219018,227.1,225.11,229.11,232.1678657583422,211.674204279528,null,237.81600000000003,208.37600000000003,"","Y57","X24","10002011","Byar"]
[1000201,{"$f":"VLOOKUP(tblData[[#This Row],[Indicator ID]],'Similar 10 CCGs'!$A$6:$C$160,3,FALSE)","v":"Programme Budget - Overall - Total admissions per 1000 population across secondary care - Activity"},"2011/12","10R",48151,null,205766,234.01,231.92,236.11,232.1678657583422,211.674204279528,null,251.35900000000001,221.36799999999999,"","Y57","X24","10002011","Byar"]
[1000201,{"$f":"VLOOKUP(tblData[[#This Row],[Indicator ID]],'Similar 10 CCGs'!$A$6:$C$160,3,FALSE)","v":"Programme Budget - Overall - Total admissions per 1000 population across secondary care - Activity"},"2011/12","11D",22148,null,152996,144.76,142.86000000000001,146.68,232.1678657583422,211.674204279528,null,194.76999999999998,175.47800000000001,"C","Y57","X24","10002011","Byar"]
[1000201,{"$f":"VLOOKUP(tblData[[#This Row],[Indicator ID]],'Similar 10 CCGs'!$A$6:$C$160,3,FALSE)","v":"Programme Budget - Overall - Total admissions per 1000 population across secondary care - Activity"},"2011/12","99F",41895,null,190773,219.61,217.51,221.72,232.1678657583422,227.2760371027214,null,215.28200000000001,200.71199999999999,"A","Y55","X24","10002011","Byar"]
[1000202,{"$f":"VLOOKUP(tblData[[#This Row],[Indicator ID]],'Similar 10 CCGs'!$A$6:$C$160,3,FALSE)","v":"Programme Budget - Overall - Total elective (IP + DC) admissions per 1000 population across secondary care - Activity"},"2011/12","00K",44892,null,290763,154.38999999999999,152.97,155.83000000000001,122.93515759299692,137.2878052066533,null,133.28300000000002,121.84400000000001,"A","Y54","X24","10002021","Byar"]
[1000202,{"$f":"VLOOKUP(tblData[[#This Row],[Indicator ID]],'Similar 10 CCGs'!$A$6:$C$160,3,FALSE)","v":"Programme Budget - Overall - Total elective (IP + DC) admissions per 1000 population across secondary care - Activity"},"2011/12","01E",33192,null,204899,161.99,160.25,163.74,122.93515759299692,137.2878052066533,null,131.655,121.896,"A","Y54","X24","10002021","Byar"]
[1000202,{"$f":"VLOOKUP(tblData[[#This Row],[Indicator ID]],'Similar 10 CCGs'!$A$6:$C$160,3,FALSE)","v":"Programme Budget - Overall - Total elective (IP + DC) admissions per 1000 population across secondary care - Activity"},"2011/12","02E",23415,null,209426,111.81,110.38,113.25,122.93515759299692,137.2878052066533,null,136.08900000000003,118.14200000000001,"","Y54","X24","10002021","Byar"]
[1000202,{"$f":"VLOOKUP(tblData[[#This Row],[Indicator ID]],'Similar 10 CCGs'!$A$6:$C$160,3,FALSE)","v":"Programme Budget - Overall - Total elective (IP + DC) admissions per 1000 population across secondary care - Activity"},"2011/12","03C",35021,null,322161,108.71,107.57,109.85,122.93515759299692,137.2878052066533,null,127.53,116.20399999999999,"C","Y54","X24","10002021","Byar"]
[1000202,{"$f":"VLOOKUP(tblData[[#This Row],[Indicator ID]],'Similar 10 CCGs'!$A$6:$C$160,3,FALSE)","v":"Programme Budget - Overall - Total elective (IP + DC) admissions per 1000 population across secondary care - Activity"},"2011/12","03X",13814,null,101980,135.46,133.21,137.74,122.93515759299692,120.9640169342283,null,133.77900000000002,118.06400000000001,"A","Y55","X24","10002021","Byar"]
[1000202,{"$f":"VLOOKUP(tblData[[#This Row],[Indicator ID]],'Similar 10 CCGs'!$A$6:$C$160,3,FALSE)","v":"Programme Budget - Overall - Total elective (IP + DC) admissions per 1000 population across secondary care - Activity"},"2011/12","04V",42709,null,379316,112.59,111.53,113.67,122.93515759299692,120.9640169342283,null,117.95700000000002,109.848,"","Y55","X24","10002021","Byar"]
[1000202,{"$f":"VLOOKUP(tblData[[#This Row],[Indicator ID]],'Similar 10 CCGs'!$A$6:$C$160,3,FALSE)","v":"Programme Budget - Overall - Total elective (IP + DC) admissions per 1000 population across secondary care - Activity"},"2011/12","05T",36664,null,319842,114.63,113.46,115.81,122.93515759299692,120.9640169342283,null,123.77099999999999,111.58199999999999,"B","Y55","X24","10002021","Byar"]
[1000202,{"$f":"VLOOKUP(tblData[[#This Row],[Indicator ID]],'Similar 10 CCGs'!$A$6:$C$160,3,FALSE)","v":"Programme Budget - Overall - Total elective (IP + DC) admissions per 1000 population across secondary care - Activity"},"2011/12","06Q",42981,null,393442,109.24,108.21,110.28,122.93515759299692,120.9640169342283,null,106.28800000000001,98.455999999999989,"B","Y55","X24","10002021","Byar"]
[1000202,{"$f":"VLOOKUP(tblData[[#This Row],[Indicator ID]],'Similar 10 CCGs'!$A$6:$C$160,3,FALSE)","v":"Programme Budget - Overall - Total elective (IP + DC) admissions per 1000 population across secondary care - Activity"},"2011/12","07X",40041,null,285875,140.06,138.69999999999999,141.44,122.93515759299692,116.23162001061642,null,120.97200000000001,112.53000000000002,"A","Y56","X24","10002021","Byar"]
[1000202,{"$f":"VLOOKUP(tblData[[#This Row],[Indicator ID]],'Similar 10 CCGs'!$A$6:$C$160,3,FALSE)","v":"Programme Budget - Overall - Total elective (IP + DC) admissions per 1000 population across secondary care - Activity"},"2011/12","08R",18691,null,187065,99.92,98.49,101.36,122.93515759299692,116.23162001061642,null,106.04300000000001,90.756,"","Y56","X24","10002021","Byar"]
[1000202,{"$f":"VLOOKUP(tblData[[#This Row],[Indicator ID]],'Similar 10 CCGs'!$A$6:$C$160,3,FALSE)","v":"Programme Budget - Overall - Total elective (IP + DC) admissions per 1000 population across secondary care - Activity"},"2011/12","09N",24816,null,220318,112.64,111.24,114.05,122.93515759299692,113.33938836335433,null,119.46799999999999,110.17999999999999,"C","Y57","X24","10002021","Byar"]
[1000202,{"$f":"VLOOKUP(tblData[[#This Row],[Indicator ID]],'Similar 10 CCGs'!$A$6:$C$160,3,FALSE)","v":"Programme Budget - Overall - Total elective (IP + DC) admissions per 1000 population across secondary care - Activity"},"2011/12","10N",9307,null,105945,87.85,86.07,89.65,122.93515759299692,113.33938836335433,null,114.569,100.224,"C","Y57","X24","10002021","Byar"]
[1000202,{"$f":"VLOOKUP(tblData[[#This Row],[Indicator ID]],'Similar 10 CCGs'!$A$6:$C$160,3,FALSE)","v":"Programme Budget - Overall - Total elective (IP + DC) admissions per 1000 population across secondary care - Activity"},"2011/12","11T",27790,null,234026,118.75,117.36,120.15,122.93515759299692,113.33938836335433,null,112.896,103.67600000000002,"","Y57","X24","10002021","Byar"]
[1000202,{"$f":"VLOOKUP(tblData[[#This Row],[Indicator ID]],'Similar 10 CCGs'!$A$6:$C$160,3,FALSE)","v":"Programme Budget - Overall - Total elective (IP + DC) admissions per 1000 population across secondary care - Activity"},"2011/12","99M",26284,null,214274,122.67,121.19,124.16,122.93515759299692,113.33938836335433,null,101.625,88.989999999999981,"A","Y57","X24","10002021","Byar"]
[1000203,{"$f":"VLOOKUP(tblData[[#This Row],[Indicator ID]],'Similar 10 CCGs'!$A$6:$C$160,3,FALSE)","v":"Programme Budget - Overall - Non-elective (EM + ONEL) admissions per 1000 population across secondary care - Activity"},"2011/12","00Q",21253,null,162027,131.16999999999999,129.41,132.94999999999999,109.22956957582281,127.39345396938093,null,130.89400000000001,120.79399999999998,"","Y54","X24","10002031","Byar"]
[1000203,{"$f":"VLOOKUP(tblData[[#This Row],[Indicator ID]],'Similar 10 CCGs'!$A$6:$C$160,3,FALSE)","v":"Programme Budget - Overall - Non-elective (EM + ONEL) admissions per 1000 population across secondary care - Activity"},"2011/12","01M",30482,null,177575,171.66,169.74,173.6,109.22956957582281,127.39345396938093,null,135.50200000000001,123.096,"A","Y54","X24","10002031","Byar"]
[1000203,{"$f":"VLOOKUP(tblData[[#This Row],[Indicator ID]],'Similar 10 CCGs'!$A$6:$C$160,3,FALSE)","v":"Programme Budget - Overall - Non-elective (EM + ONEL) admissions per 1000 population across secondary care - Activity"},"2011/12","02N",19065,null,159704,119.38,117.69,121.08,109.22956957582281,127.39345396938093,null,106.21099999999998,96.655999999999992,"A","Y54","X24","10002031","Byar"]
[1000203,{"$f":"VLOOKUP(tblData[[#This Row],[Indicator ID]],'Similar 10 CCGs'!$A$6:$C$160,3,FALSE)","v":"Programme Budget - Overall - Non-elective (EM + ONEL) admissions per 1000 population across secondary care - Activity"},"2011/12","03N",66593,null,574222,115.97,115.09,116.85,109.22956957582281,127.39345396938093,null,117.44300000000001,108.88800000000001,"A","Y54","X24","10002031","Byar"]
[1000203,{"$f":"VLOOKUP(tblData[[#This Row],[Indicator ID]],'Similar 10 CCGs'!$A$6:$C$160,3,FALSE)","v":"Programme Budget - Overall - Non-elective (EM + ONEL) admissions per 1000 population across secondary care - Activity"},"2011/12","04G",66996,null,613380,109.22,108.4,110.05,109.22956957582281,106.29064101456957,null,96.703999999999994,88.262,"A","Y55","X24","10002031","Byar"]
[1000203,{"$f":"VLOOKUP(tblData[[#This Row],[Indicator ID]],'Similar 10 CCGs'!$A$6:$C$160,3,FALSE)","v":"Programme Budget - Overall - Non-elective (EM + ONEL) admissions per 1000 population across secondary care - Activity"},"2011/12","05F",18335,null,191984,95.5,94.13,96.9,109.22956957582281,106.29064101456957,null,101.453,94.674000000000007,"","Y55","X24","10002031","Byar"]
[1000203,{"$f":"VLOOKUP(tblData[[#This Row],[Indicator ID]],'Similar 10 CCGs'!$A$6:$C$160,3,FALSE)","v":"Programme Budget - Overall - Non-elective (EM + ONEL) admissions per 1000 population across secondary care - Activity"},"2011/12","06F",35656,null,426614,83.58,82.71,84.45,109.22956957582281,106.29064101456957,null,97.936999999999998,90.604000000000013,"","Y55","X24","10002031","Byar"]
[1000203,{"$f":"VLOOKUP(tblData[[#This Row],[Indicator ID]],'Similar 10 CCGs'!$A$6:$C$160,3,FALSE)","v":"Programme Budget - Overall - Non-elective (EM + ONEL) admissions per 1000 population across secondary care - Activity"},"2011/12","07K",24000,null,242951,98.79,97.54,100.04,109.22956957582281,106.29064101456957,null,95.905999999999992,91.277999999999992,"B","Y55","X24","10002031","Byar"]
[1000203,{"$f":"VLOOKUP(tblData[[#This Row],[Indicator ID]],'Similar 10 CCGs'!$A$6:$C$160,3,FALSE)","v":"Programme Budget - Overall - Non-elective (EM + ONEL) admissions per 1000 population across secondary care - Activity"},"2011/12","08E",23709,null,234961,100.91,99.63,102.2,109.22956957582281,100.31745420941222,null,107.345,98.477999999999994,"","Y56","X24","10002031","Byar"]
[1000203,{"$f":"VLOOKUP(tblData[[#This Row],[Indicator ID]],'Similar 10 CCGs'!$A$6:$C$160,3,FALSE)","v":"Programme Budget - Overall - Non-elective (EM + ONEL) admissions per 1000 population across secondary care - Activity"},"2011/12","08Y",20492,null,220086,93.11,91.84,94.39,109.22956957582281,100.31745420941222,null,94.394000000000005,84.698000000000008,"B","Y56","X24","10002031","Byar"]
[1000203,{"$f":"VLOOKUP(tblData[[#This Row],[Indicator ID]],'Similar 10 CCGs'!$A$6:$C$160,3,FALSE)","v":"Programme Budget - Overall - Non-elective (EM + ONEL) admissions per 1000 population across secondary care - Activity"},"2011/12","10A",22497,null,208438,107.93,106.53,109.35,109.22956957582281,98.286637704449575,null,112.63100000000001,101.982,"","Y57","X24","10002031","Byar"]
[1000203,{"$f":"VLOOKUP(tblData[[#This Row],[Indicator ID]],'Similar 10 CCGs'!$A$6:$C$160,3,FALSE)","v":"Programme Budget - Overall - Non-elective (EM + ONEL) admissions per 1000 population across secondary care - Activity"},"2011/12","10X",31090,null,261198,119.03,117.71,120.36,109.22956957582281,98.286637704449575,null,109.96400000000001,95.402000000000001,"A","Y57","X24","10002031","Byar"]
[1000203,{"$f":"VLOOKUP(tblData[[#This Row],[Indicator ID]],'Similar 10 CCGs'!$A$6:$C$160,3,FALSE)","v":"Programme Budget - Overall - Non-elective (EM + ONEL) admissions per 1000 population across secondary care - Activity"},"2011/12","11N",62719,null,580849,107.98,107.13,108.83,109.22956957582281,98.286637704449575,null,106.99399999999999,99.22999999999999,"A","Y57","X24","10002031","Byar"]
[1000204,{"$f":"VLOOKUP(tblData[[#This Row],[Indicator ID]],'Similar 10 CCGs'!$A$6:$C$160,3,FALSE)","v":"Programme Budget - Overall - First OP appointment following GP referral consistent with previous profiles - Activity"},"2011/12","00F",46625,null,211276,220.68,218.68,222.7,187.35663448164394,182.54051221805108,null,180.45499999999998,163.404,"A","Y54","X24","10002041","Byar"]
[1000204,{"$f":"VLOOKUP(tblData[[#This Row],[Indicator ID]],'Similar 10 CCGs'!$A$6:$C$160,3,FALSE)","v":"Programme Budget - Overall - First OP appointment following GP referral consistent with previous profiles - Activity"},"2011/12","00G",25567,null,141688,180.45,178.24,182.67,187.35663448164394,182.54051221805108,null,187.07400000000001,172.50799999999998,"","Y54","X24","10002041","Byar"]
[1000204,{"$f":"VLOOKUP(tblData[[#This Row],[Indicator ID]],'Similar 10 CCGs'!$A$6:$C$160,3,FALSE)","v":"Programme Budget - Overall - First OP appointment following GP referral consistent with previous profiles - Activity"},"2011/12","01A",74128,null,369948,200.37,198.93,201.82,187.35663448164394,182.54051221805108,null,189.99199999999996,172.81400000000002,"A","Y54","X24","10002041","Byar"]
[1000204,{"$f":"VLOOKUP(tblData[[#This Row],[Indicator ID]],'Similar 10 CCGs'!$A$6:$C$160,3,FALSE)","v":"Programme Budget - Overall - First OP appointment following GP referral consistent with previous profiles - Activity"},"2011/12","01Y",47657,null,238312,199.98,198.19,201.78,187.35663448164394,182.54051221805108,null,186.98599999999999,165.1,"A","Y54","X24","10002041","Byar"]
[1000204,{"$f":"VLOOKUP(tblData[[#This Row],[Indicator ID]],'Similar 10 CCGs'!$A$6:$C$160,3,FALSE)","v":"Programme Budget - Overall - First OP appointment following GP referral consistent with previous profiles - Activity"},"2011/12","02X",57887,null,312055,185.5,183.99,187.02,187.35663448164394,182.54051221805108,null,179,157.13399999999999,"A","Y54","X24","10002041","Byar"]
[1000204,{"$f":"VLOOKUP(tblData[[#This Row],[Indicator ID]],'Similar 10 CCGs'!$A$6:$C$160,3,FALSE)","v":"Programme Budget - Overall - First OP appointment following GP referral consistent with previous profiles - Activity"},"2011/12","03R",59639,null,355693,167.67,166.33,169.02,187.35663448164394,182.54051221805108,null,183.59200000000001,168.46199999999999,"C","Y54","X24","10002041","Byar"]
[1000204,{"$f":"VLOOKUP(tblData[[#This Row],[Indicator ID]],'Similar 10 CCGs'!$A$6:$C$160,3,FALSE)","v":"Programme Budget - Overall - First OP appointment following GP referral consistent with previous profiles - Activity"},"2011/12","04N",26052,null,126474,205.99,203.49,208.5,187.35663448164394,190.45257406178888,null,179.16199999999998,159.05799999999999,"A","Y55","X24","10002041","Byar"]
[1000204,{"$f":"VLOOKUP(tblData[[#This Row],[Indicator ID]],'Similar 10 CCGs'!$A$6:$C$160,3,FALSE)","v":"Programme Budget - Overall - First OP appointment following GP referral consistent with previous profiles - Activity"},"2011/12","05P",43534,null,241560,180.22,178.53,181.92,187.35663448164394,190.45257406178888,null,187.79199999999997,170.97800000000001,"","Y55","X24","10002041","Byar"]
[1000204,{"$f":"VLOOKUP(tblData[[#This Row],[Indicator ID]],'Similar 10 CCGs'!$A$6:$C$160,3,FALSE)","v":"Programme Budget - Overall - First OP appointment following GP referral consistent with previous profiles - Activity"},"2011/12","06N",106071,null,593783,178.64,177.56,179.71,187.35663448164394,190.45257406178888,null,190.30199999999999,162.518,"","Y55","X24","10002041","Byar"]
[1000204,{"$f":"VLOOKUP(tblData[[#This Row],[Indicator ID]],'Similar 10 CCGs'!$A$6:$C$160,3,FALSE)","v":"Programme Budget - Overall - First OP appointment following GP referral consistent with previous profiles - Activity"},"2011/12","07Q",72455,null,334051,216.9,215.32,218.48,187.35663448164394,207.75848340100083,null,186.107,164.352,"A","Y56","X24","10002041","Byar"]
[1000204,{"$f":"VLOOKUP(tblData[[#This Row],[Indicator ID]],'Similar 10 CCGs'!$A$6:$C$160,3,FALSE)","v":"Programme Budget - Overall - First OP appointment following GP referral consistent with previous profiles - Activity"},"2011/12","08M",68417,null,307482,222.51,220.84,224.18,187.35663448164394,207.75848340100083,null,204.44499999999999,173.672,"A","Y56","X24","10002041","Byar"]
[1000204,{"$f":"VLOOKUP(tblData[[#This Row],[Indicator ID]],'Similar 10 CCGs'!$A$6:$C$160,3,FALSE)","v":"Programme Budget - Overall - First OP appointment following GP referral consistent with previous profiles - Activity"},"2011/12","09H",21113,null,120285,175.53,173.17,177.91,187.35663448164394,177.1678014000353,null,195.041,170.732,"","Y57","X24","10002041","Byar"]
[1000204,{"$f":"VLOOKUP(tblData[[#This Row],[Indicator ID]],'Similar 10 CCGs'!$A$6:$C$160,3,FALSE)","v":"Programme Budget - Overall - First OP appointment following GP referral consistent with previous profiles - Activity"},"2011/12","10K",30875,null,207604,148.72,147.07,150.38999999999999,187.35663448164394,177.1678014000353,null,177.292,154.542,"C","Y57","X24","10002041","Byar"]
[1000204,{"$f":"VLOOKUP(tblData[[#This Row],[Indicator ID]],'Similar 10 CCGs'!$A$6:$C$160,3,FALSE)","v":"Programme Budget - Overall - First OP appointment following GP referral consistent with previous profiles - Activity"},"2011/12","11H",74215,null,451724,164.29,163.11000000000001,165.48,187.35663448164394,177.1678014000353,null,188.38800000000001,176.59800000000001,"C","Y57","X24","10002041","Byar"]
[1000204,{"$f":"VLOOKUP(tblData[[#This Row],[Indicator ID]],'Similar 10 CCGs'!$A$6:$C$160,3,FALSE)","v":"Programme Budget - Overall - First OP appointment following GP referral consistent with previous profiles - Activity"},"2011/12","99H",45323,null,301806,150.16999999999999,148.79,151.56,187.35663448164394,177.1678014000353,null,176.90299999999996,149.08999999999997,"C","Y57","X24","10002041","Byar"]
[1000211,{"$f":"VLOOKUP(tblData[[#This Row],[Indicator ID]],'Similar 10 CCGs'!$A$6:$C$160,3,FALSE)","v":"Potential years of life lost (PYLL) FEMALE from causes considered amenable to healthcare. Directly age and sex standardised potential years of life lost (PYLL) per 100,000"},2011,"00M",3373.8999999999996,null,145219,2267.58,2191.52,2345.6,18.859129251898246,22.210534016911289,null,2301.5029999999997,2040.0519999999997,"B","Y54","X24","10002111","Wilson"]
[1000211,{"$f":"VLOOKUP(tblData[[#This Row],[Indicator ID]],'Similar 10 CCGs'!$A$6:$C$160,3,FALSE)","v":"Potential years of life lost (PYLL) FEMALE from causes considered amenable to healthcare. Directly age and sex standardised potential years of life lost (PYLL) per 100,000"},2011,"01H",6241.4,null,263258,2092.13,2039.9,2145.34,18.859129251898246,22.210534016911289,null,1806.422,1661.2400000000002,"A","Y54","X24","10002111","Wilson"]
[1000211,{"$f":"VLOOKUP(tblData[[#This Row],[Indicator ID]],'Similar 10 CCGs'!$A$6:$C$160,3,FALSE)","v":"Potential years of life lost (PYLL) FEMALE from causes considered amenable to healthcare. Directly age and sex standardised potential years of life lost (PYLL) per 100,000"},2011,"02G",1624.1,null,56350,2628.16,2500.91,2760.17,18.859129251898246,22.210534016911289,null,2046.9749999999999,1733.136,"A","Y54","X24","10002111","Wilson"]
[1000211,{"$f":"VLOOKUP(tblData[[#This Row],[Indicator ID]],'Similar 10 CCGs'!$A$6:$C$160,3,FALSE)","v":"Potential years of life lost (PYLL) FEMALE from causes considered amenable to healthcare. Directly age and sex standardised potential years of life lost (PYLL) per 100,000"},2011,"03E",1707.4,null,81289,1971.09,1877.36,2068.23,18.859129251898246,22.210534016911289,null,1697.434,1577.556,"A","Y54","X24","10002111","Wilson"]
[1000211,{"$f":"VLOOKUP(tblData[[#This Row],[Indicator ID]],'Similar 10 CCGs'!$A$6:$C$160,3,FALSE)","v":"Potential years of life lost (PYLL) FEMALE from causes considered amenable to healthcare. Directly age and sex standardised potential years of life lost (PYLL) per 100,000"},2011,"04H",1282.7,null,64771,1806.53,1707.92,1909.31,18.859129251898246,19.155794265990213,null,2005.9559999999997,1805.1979999999999,"","Y55","X24","10002111","Wilson"]
[1000211,{"$f":"VLOOKUP(tblData[[#This Row],[Indicator ID]],'Similar 10 CCGs'!$A$6:$C$160,3,FALSE)","v":"Potential years of life lost (PYLL) FEMALE from causes considered amenable to healthcare. Directly age and sex standardised potential years of life lost (PYLL) per 100,000"},2011,"05A",3823.7000000000003,null,229589,1816.67,1759.25,1875.48,18.859129251898246,19.155794265990213,null,2151.7739999999999,1921.2899999999997,"C","Y55","X24","10002111","Wilson"]
[1000211,{"$f":"VLOOKUP(tblData[[#This Row],[Indicator ID]],'Similar 10 CCGs'!$A$6:$C$160,3,FALSE)","v":"Potential years of life lost (PYLL) FEMALE from causes considered amenable to healthcare. Directly age and sex standardised potential years of life lost (PYLL) per 100,000"},2011,"05X",2215.0000000000005,null,86382,2542.61,2437.6799999999998,2650.88,18.859129251898246,19.155794265990213,null,2116.2660000000005,1927.4159999999999,"A","Y55","X24","10002111","Wilson"]
[1000211,{"$f":"VLOOKUP(tblData[[#This Row],[Indicator ID]],'Similar 10 CCGs'!$A$6:$C$160,3,FALSE)","v":"Potential years of life lost (PYLL) FEMALE from causes considered amenable to healthcare. Directly age and sex standardised potential years of life lost (PYLL) per 100,000"},2011,"07G",1431.2999999999997,null,82502,1797.05,1704.59,1893.21,18.859129251898246,19.155794265990213,null,1886.288,1607.92,"B","Y55","X24","10002111","Wilson"]
[1000211,{"$f":"VLOOKUP(tblData[[#This Row],[Indicator ID]],'Similar 10 CCGs'!$A$6:$C$160,3,FALSE)","v":"Potential years of life lost (PYLL) FEMALE from causes considered amenable to healthcare. Directly age and sex standardised potential years of life lost (PYLL) per 100,000"},2011,"08A",2294.2000000000003,null,138165,2041.83,1956.48,2129.87,18.859129251898246,14.547361217878931,null,2089.2269999999999,1765.98,"","Y56","X24","10002111","Wilson"]
[1000211,{"$f":"VLOOKUP(tblData[[#This Row],[Indicator ID]],'Similar 10 CCGs'!$A$6:$C$160,3,FALSE)","v":"Potential years of life lost (PYLL) FEMALE from causes considered amenable to healthcare. Directly age and sex standardised potential years of life lost (PYLL) per 100,000"},2011,"08V",1504.6000000000001,null,134167,2056.36,1947.29,2169.66,18.859129251898246,14.547361217878931,null,2074.8679999999999,1822.4580000000001,"B","Y56","X24","10002111","Wilson"]
[1000211,{"$f":"VLOOKUP(tblData[[#This Row],[Indicator ID]],'Similar 10 CCGs'!$A$6:$C$160,3,FALSE)","v":"Potential years of life lost (PYLL) FEMALE from causes considered amenable to healthcare. Directly age and sex standardised potential years of life lost (PYLL) per 100,000"},2011,"09W",3022.7,null,142254,2155.5100000000002,2079.23,2233.88,18.859129251898246,17.540466186056744,null,1958.44,1728.268,"A","Y57","X24","10002111","Wilson"]
[1000211,{"$f":"VLOOKUP(tblData[[#This Row],[Indicator ID]],'Similar 10 CCGs'!$A$6:$C$160,3,FALSE)","v":"Potential years of life lost (PYLL) FEMALE from causes considered amenable to healthcare. Directly age and sex standardised potential years of life lost (PYLL) per 100,000"},2011,"10R",2084.6999999999998,null,106788,2145.06,2052.9299999999998,2240.2199999999998,18.859129251898246,17.540466186056744,null,2003.1950000000002,1680.9279999999999,"A","Y57","X24","10002111","Wilson"]
[1000211,{"$f":"VLOOKUP(tblData[[#This Row],[Indicator ID]],'Similar 10 CCGs'!$A$6:$C$160,3,FALSE)","v":"Potential years of life lost (PYLL) FEMALE from causes considered amenable to healthcare. Directly age and sex standardised potential years of life lost (PYLL) per 100,000"},2011,"12A",1461.8,null,129852,1078.81,1024.1400000000001,1135.6400000000001,18.859129251898246,17.540466186056744,null,1724.5729999999999,1606.9479999999999,"C","Y57","X24","10002111","Wilson"]
[1000211,{"$f":"VLOOKUP(tblData[[#This Row],[Indicator ID]],'Similar 10 CCGs'!$A$6:$C$160,3,FALSE)","v":"Potential years of life lost (PYLL) FEMALE from causes considered amenable to healthcare. Directly age and sex standardised potential years of life lost (PYLL) per 100,000"},2011,"99H",2337.2999999999997,null,145897,1580.26,1516.34,1646.17,18.859129251898246,17.540466186056744,null,1626.4429999999998,1492.4479999999999,"","Y57","X24","10002111","Wilson"]
[1000212,{"$f":"VLOOKUP(tblData[[#This Row],[Indicator ID]],'Similar 10 CCGs'!$A$6:$C$160,3,FALSE)","v":"Potential years of life lost (PYLL) MALE from causes considered amenable to healthcare. Directly age and sex standardised potential years of life lost (PYLL) per 100,000"},2011,"00V",2519.6,null,97707,2529.27,2431.3000000000002,2630.17,23.245090425325657,27.628933365318705,null,2604.6679999999997,2140.558,"","Y54","X24","10002121","Wilson"]
[1000212,{"$f":"VLOOKUP(tblData[[#This Row],[Indicator ID]],'Similar 10 CCGs'!$A$6:$C$160,3,FALSE)","v":"Potential years of life lost (PYLL) MALE from causes considered amenable to healthcare. Directly age and sex standardised potential years of life lost (PYLL) per 100,000"},2011,"01T",2050,null,76634,2476.37,2370.0700000000002,2586.1999999999998,23.245090425325657,27.628933365318705,null,2731.5699999999997,2488.886,"","Y54","X24","10002121","Wilson"]
[1000212,{"$f":"VLOOKUP(tblData[[#This Row],[Indicator ID]],'Similar 10 CCGs'!$A$6:$C$160,3,FALSE)","v":"Potential years of life lost (PYLL) MALE from causes considered amenable to healthcare. Directly age and sex standardised potential years of life lost (PYLL) per 100,000"},2011,"02R",5135.3,null,164189,3307.4,3217.19,3399.48,23.245090425325657,27.628933365318705,null,3054.2060000000001,2763.096,"A","Y54","X24","10002121","Wilson"]
[1000212,{"$f":"VLOOKUP(tblData[[#This Row],[Indicator ID]],'Similar 10 CCGs'!$A$6:$C$160,3,FALSE)","v":"Potential years of life lost (PYLL) MALE from causes considered amenable to healthcare. Directly age and sex standardised potential years of life lost (PYLL) per 100,000"},2011,"03M",1676.1,null,58576,2475.1999999999998,2355.06,2599.7600000000002,23.245090425325657,27.628933365318705,null,2428.9849999999997,2146.4499999999998,"B","Y54","X24","10002121","Wilson"]
[1000212,{"$f":"VLOOKUP(tblData[[#This Row],[Indicator ID]],'Similar 10 CCGs'!$A$6:$C$160,3,FALSE)","v":"Potential years of life lost (PYLL) MALE from causes considered amenable to healthcare. Directly age and sex standardised potential years of life lost (PYLL) per 100,000"},2011,"04J",4015.4,null,143515,2390.4299999999998,2316.35,2466.27,23.245090425325657,23.664332739097247,null,2165.0450000000001,1886.8419999999999,"A","Y55","X24","10002121","Wilson"]
[1000212,{"$f":"VLOOKUP(tblData[[#This Row],[Indicator ID]],'Similar 10 CCGs'!$A$6:$C$160,3,FALSE)","v":"Potential years of life lost (PYLL) MALE from causes considered amenable to healthcare. Directly age and sex standardised potential years of life lost (PYLL) per 100,000"},2011,"05H",2462,null,91787,2430.7399999999998,2335.3000000000002,2529.0700000000002,23.245090425325657,23.664332739097247,null,2537.7280000000001,2314.77,"B","Y55","X24","10002121","Wilson"]
[1000212,{"$f":"VLOOKUP(tblData[[#This Row],[Indicator ID]],'Similar 10 CCGs'!$A$6:$C$160,3,FALSE)","v":"Potential years of life lost (PYLL) MALE from causes considered amenable to healthcare. Directly age and sex standardised potential years of life lost (PYLL) per 100,000"},2011,"06K",4886.8,null,282740,1772.23,1722.69,1822.82,23.245090425325657,23.664332739097247,null,2049.0680000000002,1823.2920000000001,"","Y55","X24","10002121","Wilson"]
[1000212,{"$f":"VLOOKUP(tblData[[#This Row],[Indicator ID]],'Similar 10 CCGs'!$A$6:$C$160,3,FALSE)","v":"Potential years of life lost (PYLL) MALE from causes considered amenable to healthcare. Directly age and sex standardised potential years of life lost (PYLL) per 100,000"},2011,"07M",3231.6000000000004,null,182867,1988.81,1920.1,2059.33,23.245090425325657,17.871606307420741,null,1974.8950000000004,1804.5400000000002,"B","Y56","X24","10002121","Wilson"]
[1000212,{"$f":"VLOOKUP(tblData[[#This Row],[Indicator ID]],'Similar 10 CCGs'!$A$6:$C$160,3,FALSE)","v":"Potential years of life lost (PYLL) MALE from causes considered amenable to healthcare. Directly age and sex standardised potential years of life lost (PYLL) per 100,000"},2011,"08H",1995,null,108683,2543.4899999999998,2429.41,2661.42,23.245090425325657,17.871606307420741,null,2349.12,2023.3239999999998,"A","Y56","X24","10002121","Wilson"]
[1000212,{"$f":"VLOOKUP(tblData[[#This Row],[Indicator ID]],'Similar 10 CCGs'!$A$6:$C$160,3,FALSE)","v":"Potential years of life lost (PYLL) MALE from causes considered amenable to healthcare. Directly age and sex standardised potential years of life lost (PYLL) per 100,000"},2011,"09D",2691.2999999999997,null,148898,2008.56,1931.78,2087.56,23.245090425325657,21.279716553075634,null,2638.0160000000001,2367.4059999999999,"C","Y57","X24","10002121","Wilson"]
[1000212,{"$f":"VLOOKUP(tblData[[#This Row],[Indicator ID]],'Similar 10 CCGs'!$A$6:$C$160,3,FALSE)","v":"Potential years of life lost (PYLL) MALE from causes considered amenable to healthcare. Directly age and sex standardised potential years of life lost (PYLL) per 100,000"},2011,"10E",2324.6999999999998,null,69652,3045.5,2922.05,3172.81,23.245090425325657,21.279716553075634,null,2564.3380000000002,2344.0899999999997,"A","Y57","X24","10002121","Wilson"]
[1000212,{"$f":"VLOOKUP(tblData[[#This Row],[Indicator ID]],'Similar 10 CCGs'!$A$6:$C$160,3,FALSE)","v":"Potential years of life lost (PYLL) MALE from causes considered amenable to healthcare. Directly age and sex standardised potential years of life lost (PYLL) per 100,000"},2011,"10G",1156.4000000000001,null,67916,1722.48,1623.43,1825.93,23.245090425325657,21.279716553075634,null,1761.3309999999997,1507.2939999999999,"","Y57","X24","10002121","Wilson"]
[1000212,{"$f":"VLOOKUP(tblData[[#This Row],[Indicator ID]],'Similar 10 CCGs'!$A$6:$C$160,3,FALSE)","v":"Potential years of life lost (PYLL) MALE from causes considered amenable to healthcare. Directly age and sex standardised potential years of life lost (PYLL) per 100,000"},2011,"11C",1415,null,75120,1929.55,1830.02,2033.08,23.245090425325657,21.279716553075634,null,1809.1489999999999,1568.8719999999998,"B","Y57","X24","10002121","Wilson"]
[1000212,{"$f":"VLOOKUP(tblData[[#This Row],[Indicator ID]],'Similar 10 CCGs'!$A$6:$C$160,3,FALSE)","v":"Potential years of life lost (PYLL) MALE from causes considered amenable to healthcare. Directly age and sex standardised potential years of life lost (PYLL) per 100,000"},2011,"99D",2348.3000000000002,null,77356,2724.83,2614.34,2838.75,23.245090425325657,23.664332739097247,null,1896.5919999999999,1629.8999999999999,"A","Y55","X24","10002121","Wilson"]
[1020101,{"$f":"VLOOKUP(tblData[[#This Row],[Indicator ID]],'Similar 10 CCGs'!$A$6:$C$160,3,FALSE)","v":"Programme Budget - Cancer - Total admissions per 1000 population across secondary care - Cost"},"2011/12","00J",11022385,null,259035,42551.66,41767.21,43347.14,34250.620280122421,36109.400735951443,null,34683.918000000005,32168.308000000001,"A","Y54","X24","10201011","Byar"]
[1020101,{"$f":"VLOOKUP(tblData[[#This Row],[Indicator ID]],'Similar 10 CCGs'!$A$6:$C$160,3,FALSE)","v":"Programme Budget - Cancer - Total admissions per 1000 population across secondary care - Cost"},"2011/12","01D",7769231,null,209185,37140.49,36224.980000000003,38073.279999999999,34250.620280122421,36109.400735951443,null,37609.271000000001,34252.952000000005,"A","Y54","X24","10201011","Byar"]
[1020101,{"$f":"VLOOKUP(tblData[[#This Row],[Indicator ID]],'Similar 10 CCGs'!$A$6:$C$160,3,FALSE)","v":"Programme Budget - Cancer - Total admissions per 1000 population across secondary care - Cost"},"2011/12","02D",2939527,null,106185,27683.15,26532.1,28871.3,34250.620280122421,36109.400735951443,null,31578.739999999998,28500.920000000002,"","Y54","X24","10201011","Byar"]
[1020101,{"$f":"VLOOKUP(tblData[[#This Row],[Indicator ID]],'Similar 10 CCGs'!$A$6:$C$160,3,FALSE)","v":"Programme Budget - Cancer - Total admissions per 1000 population across secondary care - Cost"},"2011/12","03A",8166953,null,237179,34433.74,33690.04,35189.72,34250.620280122421,36109.400735951443,null,33295.898000000001,29761.719999999994,"B","Y54","X24","10201011","Byar"]
[1020101,{"$f":"VLOOKUP(tblData[[#This Row],[Indicator ID]],'Similar 10 CCGs'!$A$6:$C$160,3,FALSE)","v":"Programme Budget - Cancer - Total admissions per 1000 population across secondary care - Cost"},"2011/12","03V",2462062,null,62894,39146.06,37583.78,40756.61,34250.620280122421,35154.505882376092,null,33725.995999999999,30215.390000000003,"A","Y55","X24","10201011","Byar"]
[1020101,{"$f":"VLOOKUP(tblData[[#This Row],[Indicator ID]],'Similar 10 CCGs'!$A$6:$C$160,3,FALSE)","v":"Programme Budget - Cancer - Total admissions per 1000 population across secondary care - Cost"},"2011/12","05D",5281690,null,141239,37395.31,36404.21,38406.550000000003,34250.620280122421,35154.505882376092,null,34320.487999999998,31236.878000000004,"A","Y55","X24","10201011","Byar"]
[1020101,{"$f":"VLOOKUP(tblData[[#This Row],[Indicator ID]],'Similar 10 CCGs'!$A$6:$C$160,3,FALSE)","v":"Programme Budget - Cancer - Total admissions per 1000 population across secondary care - Cost"},"2011/12","05T",11689748,null,334861,34909.21,34271.519999999997,35555.79,34250.620280122421,35154.505882376092,null,33922.655999999995,30809.405999999999,"A","Y55","X24","10201011","Byar"]
[1020101,{"$f":"VLOOKUP(tblData[[#This Row],[Indicator ID]],'Similar 10 CCGs'!$A$6:$C$160,3,FALSE)","v":"Programme Budget - Cancer - Total admissions per 1000 population across secondary care - Cost"},"2011/12","06T",10979970,null,377069,29119.25,28461.47,29788.400000000001,34250.620280122421,35154.505882376092,null,33151.294999999998,31042.188000000002,"C","Y55","X24","10201011","Byar"]
[1020101,{"$f":"VLOOKUP(tblData[[#This Row],[Indicator ID]],'Similar 10 CCGs'!$A$6:$C$160,3,FALSE)","v":"Programme Budget - Cancer - Total admissions per 1000 population across secondary care - Cost"},"2011/12","07W",10025564,null,301486,33253.82,32519.98,34000.04,34250.620280122421,32962.98092480786,null,32257.813000000002,30204.180000000004,"B","Y56","X24","10201011","Byar"]
[1020101,{"$f":"VLOOKUP(tblData[[#This Row],[Indicator ID]],'Similar 10 CCGs'!$A$6:$C$160,3,FALSE)","v":"Programme Budget - Cancer - Total admissions per 1000 population across secondary care - Cost"},"2011/12","08P",4770487,null,177854,26822.45,25893.27,27776.45,34250.620280122421,32962.98092480786,null,29327.342000000004,26990.756000000001,"","Y56","X24","10201011","Byar"]
[1020101,{"$f":"VLOOKUP(tblData[[#This Row],[Indicator ID]],'Similar 10 CCGs'!$A$6:$C$160,3,FALSE)","v":"Programme Budget - Cancer - Total admissions per 1000 population across secondary care - Cost"},"2011/12","09L",4611235,null,176639,26105.42,25221.86,27012.04,34250.620280122421,31873.732091293212,null,30875.113000000001,27305.45,"","Y57","X24","10201011","Byar"]
[1020101,{"$f":"VLOOKUP(tblData[[#This Row],[Indicator ID]],'Similar 10 CCGs'!$A$6:$C$160,3,FALSE)","v":"Programme Budget - Cancer - Total admissions per 1000 population across secondary care - Cost"},"2011/12","10M",2916422,null,112379,25951.75,24821.4,27120.31,34250.620280122421,31873.732091293212,null,31689.404999999992,27554.311999999998,"","Y57","X24","10201011","Byar"]
[1020101,{"$f":"VLOOKUP(tblData[[#This Row],[Indicator ID]],'Similar 10 CCGs'!$A$6:$C$160,3,FALSE)","v":"Programme Budget - Cancer - Total admissions per 1000 population across secondary care - Cost"},"2011/12","11M",28158094,null,681071,41343.86,40887.360000000001,41804.19,34250.620280122421,31873.732091293212,null,32668.063000000002,29336.061999999998,"A","Y57","X24","10201011","Byar"]
[1020101,{"$f":"VLOOKUP(tblData[[#This Row],[Indicator ID]],'Similar 10 CCGs'!$A$6:$C$160,3,FALSE)","v":"Programme Budget - Cancer - Total admissions per 1000 population across secondary care - Cost"},"2011/12","99K",5839277,null,194280,30055.94,29149.9,30982.99,34250.620280122421,31873.732091293212,null,36536.437999999995,34316.572,"B","Y57","X24","10201011","Byar"]
[1020102,{"$f":"VLOOKUP(tblData[[#This Row],[Indicator ID]],'Similar 10 CCGs'!$A$6:$C$160,3,FALSE)","v":"Programme Budget - Cancer - Total elective (IP + DC) admissions per 1000 population across secondary care - Cost"},"2011/12","00P",9899640,null,295662,33483.01,32884.01,34090.17,24618.609587918578,26047.873747076126,null,26541.728999999999,23265.27,"A","Y54","X24","10201021","Byar"]
[1020102,{"$f":"VLOOKUP(tblData[[#This Row],[Indicator ID]],'Similar 10 CCGs'!$A$6:$C$160,3,FALSE)","v":"Programme Budget - Cancer - Total elective (IP + DC) admissions per 1000 population across secondary care - Cost"},"2011/12","01F",2666796,null,124863,21357.72,20551.3,22187.67,24618.609587918578,26047.873747076126,null,26361.594000000001,23906.421999999999,"C","Y54","X24","10201021","Byar"]
[1020102,{"$f":"VLOOKUP(tblData[[#This Row],[Indicator ID]],'Similar 10 CCGs'!$A$6:$C$160,3,FALSE)","v":"Programme Budget - Cancer - Total elective (IP + DC) admissions per 1000 population across secondary care - Cost"},"2011/12","02N",5303640,null,173287,30606.03,29890.2,31334.68,24618.609587918578,26047.873747076126,null,26821.609000000004,25525.61,"A","Y54","X24","10201021","Byar"]
[1020102,{"$f":"VLOOKUP(tblData[[#This Row],[Indicator ID]],'Similar 10 CCGs'!$A$6:$C$160,3,FALSE)","v":"Programme Budget - Cancer - Total elective (IP + DC) admissions per 1000 population across secondary care - Cost"},"2011/12","03H",5236031,null,180760,28966.73,28236.12,29711.45,24618.609587918578,26047.873747076126,null,24460.659,21803.8,"A","Y54","X24","10201021","Byar"]
[1020102,{"$f":"VLOOKUP(tblData[[#This Row],[Indicator ID]],'Similar 10 CCGs'!$A$6:$C$160,3,FALSE)","v":"Programme Budget - Cancer - Total elective (IP + DC) admissions per 1000 population across secondary care - Cost"},"2011/12","04F",5251094,null,223069,23540.27,22956,24135.66,24618.609587918578,25534.333418667022,null,22631.580999999998,18772.726000000002,"A","Y55","X24","10201021","Byar"]
[1020102,{"$f":"VLOOKUP(tblData[[#This Row],[Indicator ID]],'Similar 10 CCGs'!$A$6:$C$160,3,FALSE)","v":"Programme Budget - Cancer - Total elective (IP + DC) admissions per 1000 population across secondary care - Cost"},"2011/12","05D",3930076,null,141152,27842.83,27077.88,28623.9,24618.609587918578,25534.333418667022,null,25641.458999999999,22925.636000000002,"A","Y55","X24","10201021","Byar"]
[1020102,{"$f":"VLOOKUP(tblData[[#This Row],[Indicator ID]],'Similar 10 CCGs'!$A$6:$C$160,3,FALSE)","v":"Programme Budget - Cancer - Total elective (IP + DC) admissions per 1000 population across secondary care - Cost"},"2011/12","06A",6592427,null,254677,25885.41,25298.6,26482.400000000001,24618.609587918578,25534.333418667022,null,26322.49,23510.914000000001,"","Y55","X24","10201021","Byar"]
[1020102,{"$f":"VLOOKUP(tblData[[#This Row],[Indicator ID]],'Similar 10 CCGs'!$A$6:$C$160,3,FALSE)","v":"Programme Budget - Cancer - Total elective (IP + DC) admissions per 1000 population across secondary care - Cost"},"2011/12","07J",6447630,null,208776,30882.959999999999,30218.1,31558.77,24618.609587918578,25534.333418667022,null,26917.697999999997,24337.665999999997,"A","Y55","X24","10201021","Byar"]
[1020102,{"$f":"VLOOKUP(tblData[[#This Row],[Indicator ID]],'Similar 10 CCGs'!$A$6:$C$160,3,FALSE)","v":"Programme Budget - Cancer - Total elective (IP + DC) admissions per 1000 population across secondary care - Cost"},"2011/12","08D",5878503,null,209976,27996.11,27327.48,28676.959999999999,24618.609587918578,22384.50653292505,null,24160.589,20877.920000000002,"A","Y56","X24","10201021","Byar"]
[1020102,{"$f":"VLOOKUP(tblData[[#This Row],[Indicator ID]],'Similar 10 CCGs'!$A$6:$C$160,3,FALSE)","v":"Programme Budget - Cancer - Total elective (IP + DC) admissions per 1000 population across secondary care - Cost"},"2011/12","08X",4586946,null,250545,18307.849999999999,17711.419999999998,18919.240000000002,24618.609587918578,22384.50653292505,null,23498.646000000001,20036.014000000003,"C","Y56","X24","10201021","Byar"]
[1020102,{"$f":"VLOOKUP(tblData[[#This Row],[Indicator ID]],'Similar 10 CCGs'!$A$6:$C$160,3,FALSE)","v":"Programme Budget - Cancer - Total elective (IP + DC) admissions per 1000 population across secondary care - Cost"},"2011/12","10C",2128745,null,94188,22601,21634.75,23599.29,24618.609587918578,23116.941037099587,null,19893.034000000003,16796.962,"B","Y57","X24","10201021","Byar"]
[1020102,{"$f":"VLOOKUP(tblData[[#This Row],[Indicator ID]],'Similar 10 CCGs'!$A$6:$C$160,3,FALSE)","v":"Programme Budget - Cancer - Total elective (IP + DC) admissions per 1000 population across secondary care - Cost"},"2011/12","10W",1543781,null,91216,16924.53,15984.22,17905.7,24618.609587918578,23116.941037099587,null,24971.628999999997,22508.345999999998,"C","Y57","X24","10201021","Byar"]
[1020102,{"$f":"VLOOKUP(tblData[[#This Row],[Indicator ID]],'Similar 10 CCGs'!$A$6:$C$160,3,FALSE)","v":"Programme Budget - Cancer - Total elective (IP + DC) admissions per 1000 population across secondary care - Cost"},"2011/12","13P",15972641,null,668625,23888.78,23535.45,24246.080000000002,24618.609587918578,25534.333418667022,null,25265.961000000003,23205.752,"C","Y55","X24","10201021","Byar"]
[1020103,{"$f":"VLOOKUP(tblData[[#This Row],[Indicator ID]],'Similar 10 CCGs'!$A$6:$C$160,3,FALSE)","v":"Programme Budget - Cancer - Non-elective (EM + ONEL) admissions per 1000 population across secondary care - Cost"},"2011/12","00D",3312458,null,316509,10465.6,9822.7800000000007,11139.43,9631.9968610157757,10061.514127349432,null,9309.5479999999989,8300.2260000000006,"B","Y54","X24","10201031","Byar"]
[1020103,{"$f":"VLOOKUP(tblData[[#This Row],[Indicator ID]],'Similar 10 CCGs'!$A$6:$C$160,3,FALSE)","v":"Programme Budget - Cancer - Non-elective (EM + ONEL) admissions per 1000 population across secondary care - Cost"},"2011/12","00Y",2273185,null,218539,10401.719999999999,9630.59,11218.17,9631.9968610157757,10061.514127349432,null,10043.616,9157.5840000000007,"B","Y54","X24","10201031","Byar"]
[1020103,{"$f":"VLOOKUP(tblData[[#This Row],[Indicator ID]],'Similar 10 CCGs'!$A$6:$C$160,3,FALSE)","v":"Programme Budget - Cancer - Non-elective (EM + ONEL) admissions per 1000 population across secondary care - Cost"},"2011/12","01W",3238088,null,318151,10177.85,9547.98,10838.35,9631.9968610157757,10061.514127349432,null,9603.505000000001,8420.0960000000014,"B","Y54","X24","10201031","Byar"]
[1020103,{"$f":"VLOOKUP(tblData[[#This Row],[Indicator ID]],'Similar 10 CCGs'!$A$6:$C$160,3,FALSE)","v":"Programme Budget - Cancer - Non-elective (EM + ONEL) admissions per 1000 population across secondary care - Cost"},"2011/12","02V",2023748,null,195085,10373.65,9564.7000000000007,11232.75,9631.9968610157757,10061.514127349432,null,9730.0849999999991,8944.1280000000006,"B","Y54","X24","10201031","Byar"]
[1020103,{"$f":"VLOOKUP(tblData[[#This Row],[Indicator ID]],'Similar 10 CCGs'!$A$6:$C$160,3,FALSE)","v":"Programme Budget - Cancer - Non-elective (EM + ONEL) admissions per 1000 population across secondary care - Cost"},"2011/12","03Q",3508437,null,362673,9673.84,9094.48,10280.43,9631.9968610157757,10061.514127349432,null,8631.1709999999985,7495.2060000000001,"B","Y54","X24","10201031","Byar"]
[1020103,{"$f":"VLOOKUP(tblData[[#This Row],[Indicator ID]],'Similar 10 CCGs'!$A$6:$C$160,3,FALSE)","v":"Programme Budget - Cancer - Non-elective (EM + ONEL) admissions per 1000 population across secondary care - Cost"},"2011/12","04L",2155006,null,160306,13443.1,12364.77,14590.29,9631.9968610157757,9621.788611476899,null,10034.045,8894.14,"A","Y55","X24","10201031","Byar"]
[1020103,{"$f":"VLOOKUP(tblData[[#This Row],[Indicator ID]],'Similar 10 CCGs'!$A$6:$C$160,3,FALSE)","v":"Programme Budget - Cancer - Non-elective (EM + ONEL) admissions per 1000 population across secondary care - Cost"},"2011/12","05L",4130180,null,439509,9397.25,8868.66,9949.1299999999992,9631.9968610157757,9621.788611476899,null,11091.794,10058.879999999999,"","Y55","X24","10201031","Byar"]
[1020103,{"$f":"VLOOKUP(tblData[[#This Row],[Indicator ID]],'Similar 10 CCGs'!$A$6:$C$160,3,FALSE)","v":"Programme Budget - Cancer - Non-elective (EM + ONEL) admissions per 1000 population across secondary care - Cost"},"2011/12","05X",1606010,null,161287,9957.4699999999993,9079.2900000000009,10897.65,9631.9968610157757,9621.788611476899,null,9311.8469999999998,8417.5679999999993,"B","Y55","X24","10201031","Byar"]
[1020103,{"$f":"VLOOKUP(tblData[[#This Row],[Indicator ID]],'Similar 10 CCGs'!$A$6:$C$160,3,FALSE)","v":"Programme Budget - Cancer - Non-elective (EM + ONEL) admissions per 1000 population across secondary care - Cost"},"2011/12","07Q",2939378,null,341969,8595.4599999999991,8026.27,9194.3700000000008,9631.9968610157757,10647.322366650362,null,8771.768,7991.2540000000008,"B","Y56","X24","10201031","Byar"]
[1020103,{"$f":"VLOOKUP(tblData[[#This Row],[Indicator ID]],'Similar 10 CCGs'!$A$6:$C$160,3,FALSE)","v":"Programme Budget - Cancer - Non-elective (EM + ONEL) admissions per 1000 population across secondary care - Cost"},"2011/12","07R",2289267,null,161586,14167.45,13101.5,15297.03,9631.9968610157757,10647.322366650362,null,10617.941999999999,8611.1139999999996,"A","Y56","X24","10201031","Byar"]
[1020103,{"$f":"VLOOKUP(tblData[[#This Row],[Indicator ID]],'Similar 10 CCGs'!$A$6:$C$160,3,FALSE)","v":"Programme Budget - Cancer - Non-elective (EM + ONEL) admissions per 1000 population across secondary care - Cost"},"2011/12","08L",2375563,null,215198,11038.96,10239.58,11884.17,9631.9968610157757,10647.322366650362,null,11257.32,9974.1639999999989,"B","Y56","X24","10201031","Byar"]
[1020103,{"$f":"VLOOKUP(tblData[[#This Row],[Indicator ID]],'Similar 10 CCGs'!$A$6:$C$160,3,FALSE)","v":"Programme Budget - Cancer - Non-elective (EM + ONEL) admissions per 1000 population across secondary care - Cost"},"2011/12","09F",2648085,null,250428,10574.24,9846.9,11341.08,9631.9968610157757,8760.2608788356411,null,9671.152,8143.8580000000002,"B","Y57","X24","10201031","Byar"]
[1020103,{"$f":"VLOOKUP(tblData[[#This Row],[Indicator ID]],'Similar 10 CCGs'!$A$6:$C$160,3,FALSE)","v":"Programme Budget - Cancer - Non-elective (EM + ONEL) admissions per 1000 population across secondary care - Cost"},"2011/12","10J",2059575,null,206537,9971.9599999999991,9186.68,10806.41,9631.9968610157757,8760.2608788356411,null,8597.9730000000018,7899.19,"A","Y57","X24","10201031","Byar"]
[1020103,{"$f":"VLOOKUP(tblData[[#This Row],[Indicator ID]],'Similar 10 CCGs'!$A$6:$C$160,3,FALSE)","v":"Programme Budget - Cancer - Non-elective (EM + ONEL) admissions per 1000 population across secondary care - Cost"},"2011/12","11E",1578906,null,208667,7566.62,6906.1,8273.27,9631.9968610157757,8760.2608788356411,null,9045.4490000000005,7842.079999999999,"","Y57","X24","10201031","Byar"]
[1020103,{"$f":"VLOOKUP(tblData[[#This Row],[Indicator ID]],'Similar 10 CCGs'!$A$6:$C$160,3,FALSE)","v":"Programme Budget - Cancer - Non-elective (EM + ONEL) admissions per 1000 population across secondary care - Cost"},"2011/12","99F",2222218,null,212856,10440.01,9673.82,11250.75,9631.9968610157757,9621.788611476899,null,9284.0519999999997,7529.2760000000007,"A","Y55","X24","10201031","Byar"]
[1020105,{"$f":"VLOOKUP(tblData[[#This Row],[Indicator ID]],'Similar 10 CCGs'!$A$6:$C$160,3,FALSE)","v":"Programme Budget - Cancer - Cost prescribed per 1000 ASTRO-PU population - Cost"},"2011/12","00L",2271327,null,369152,6152.83,6108.17,6197.74,5251.020775468487,5995.5027224126625,null,6463.9590000000007,5664.9039999999995,"A","Y54","X24","10201051","Byar"]
[1020105,{"$f":"VLOOKUP(tblData[[#This Row],[Indicator ID]],'Similar 10 CCGs'!$A$6:$C$160,3,FALSE)","v":"Programme Budget - Cancer - Cost prescribed per 1000 ASTRO-PU population - Cost"},"2011/12","01F",636643,null,123701,5146.62,5076.17,5217.8100000000004,5251.020775468487,5995.5027224126625,null,5674.08,5025.6540000000005,"","Y54","X24","10201051","Byar"]
[1020105,{"$f":"VLOOKUP(tblData[[#This Row],[Indicator ID]],'Similar 10 CCGs'!$A$6:$C$160,3,FALSE)","v":"Programme Budget - Cancer - Cost prescribed per 1000 ASTRO-PU population - Cost"},"2011/12","02A",1306713,null,232681,5615.89,5562.18,5670,5251.020775468487,5995.5027224126625,null,5395.2309999999989,4855.6959999999999,"A","Y54","X24","10201051","Byar"]
[1020105,{"$f":"VLOOKUP(tblData[[#This Row],[Indicator ID]],'Similar 10 CCGs'!$A$6:$C$160,3,FALSE)","v":"Programme Budget - Cancer - Cost prescribed per 1000 ASTRO-PU population - Cost"},"2011/12","03E",1018634,null,178940,5692.6,5630.95,5754.76,5251.020775468487,5995.5027224126625,null,6170.5949999999993,5576.0239999999994,"","Y54","X24","10201051","Byar"]
[1020105,{"$f":"VLOOKUP(tblData[[#This Row],[Indicator ID]],'Similar 10 CCGs'!$A$6:$C$160,3,FALSE)","v":"Programme Budget - Cancer - Cost prescribed per 1000 ASTRO-PU population - Cost"},"2011/12","03Y",596183,null,112263,5310.59,5235.47,5386.51,5251.020775468487,5242.7987524371965,null,5293.4410000000007,4625.3360000000002,"A","Y55","X24","10201051","Byar"]
[1020105,{"$f":"VLOOKUP(tblData[[#This Row],[Indicator ID]],'Similar 10 CCGs'!$A$6:$C$160,3,FALSE)","v":"Programme Budget - Cancer - Cost prescribed per 1000 ASTRO-PU population - Cost"},"2011/12","04Y",718044,null,136619,5255.81,5188.05,5324.24,5251.020775468487,5242.7987524371965,null,5089.5019999999995,4558.6819999999998,"B","Y55","X24","10201051","Byar"]
[1020105,{"$f":"VLOOKUP(tblData[[#This Row],[Indicator ID]],'Similar 10 CCGs'!$A$6:$C$160,3,FALSE)","v":"Programme Budget - Cancer - Cost prescribed per 1000 ASTRO-PU population - Cost"},"2011/12","05W",1412194,null,277387,5091.0600000000004,5044.21,5138.2299999999996,5251.020775468487,5242.7987524371965,null,6509.8570000000009,5703.0400000000009,"","Y55","X24","10201051","Byar"]
[1020105,{"$f":"VLOOKUP(tblData[[#This Row],[Indicator ID]],'Similar 10 CCGs'!$A$6:$C$160,3,FALSE)","v":"Programme Budget - Cancer - Cost prescribed per 1000 ASTRO-PU population - Cost"},"2011/12","06Y",1761045,null,254679,6914.76,6857.77,6972.11,5251.020775468487,5242.7987524371965,null,6066.7610000000004,5158.0479999999998,"A","Y55","X24","10201051","Byar"]
[1020105,{"$f":"VLOOKUP(tblData[[#This Row],[Indicator ID]],'Similar 10 CCGs'!$A$6:$C$160,3,FALSE)","v":"Programme Budget - Cancer - Cost prescribed per 1000 ASTRO-PU population - Cost"},"2011/12","07Y",691084,null,220963,3127.6,3086.5,3169.11,5251.020775468487,3706.5139805060548,null,3657.2750000000001,3101.4460000000004,"","Y56","X24","10201051","Byar"]
[1020105,{"$f":"VLOOKUP(tblData[[#This Row],[Indicator ID]],'Similar 10 CCGs'!$A$6:$C$160,3,FALSE)","v":"Programme Budget - Cancer - Cost prescribed per 1000 ASTRO-PU population - Cost"},"2011/12","08R",576202,null,179589,3208.44,3162.28,3255.11,5251.020775468487,3706.5139805060548,null,3568.29,3155.5880000000002,"","Y56","X24","10201051","Byar"]
[1020105,{"$f":"VLOOKUP(tblData[[#This Row],[Indicator ID]],'Similar 10 CCGs'!$A$6:$C$160,3,FALSE)","v":"Programme Budget - Cancer - Cost prescribed per 1000 ASTRO-PU population - Cost"},"2011/12","09P",1375954,null,219569,6266.61,6208.19,6325.44,5251.020775468487,5225.3590061931591,null,6149.1720000000005,5186.7040000000006,"A","Y57","X24","10201051","Byar"]
[1020105,{"$f":"VLOOKUP(tblData[[#This Row],[Indicator ID]],'Similar 10 CCGs'!$A$6:$C$160,3,FALSE)","v":"Programme Budget - Cancer - Cost prescribed per 1000 ASTRO-PU population - Cost"},"2011/12","10V",1133889,null,236204,4800.46,4751.17,4850.12,5251.020775468487,5225.3590061931591,null,5383.3780000000006,4904.9399999999996,"C","Y57","X24","10201051","Byar"]
[1020105,{"$f":"VLOOKUP(tblData[[#This Row],[Indicator ID]],'Similar 10 CCGs'!$A$6:$C$160,3,FALSE)","v":"Programme Budget - Cancer - Cost prescribed per 1000 ASTRO-PU population - Cost"},"2011/12","11X",2598549,null,624518,4160.88,4132.6400000000003,4189.2700000000004,5251.020775468487,5225.3590061931591,null,5476.8269999999993,4913.7619999999997,"C","Y57","X24","10201051","Byar"]
[1020105,{"$f":"VLOOKUP(tblData[[#This Row],[Indicator ID]],'Similar 10 CCGs'!$A$6:$C$160,3,FALSE)","v":"Programme Budget - Cancer - Cost prescribed per 1000 ASTRO-PU population - Cost"},"2011/12","99P",5542624,null,1008171,5497.7,5472.14,5523.35,5251.020775468487,5225.3590061931591,null,5049.4080000000004,4625.4859999999999,"A","Y57","X24","10201051","Byar"]
[1020201,{"$f":"VLOOKUP(tblData[[#This Row],[Indicator ID]],'Similar 10 CCGs'!$A$6:$C$160,3,FALSE)","v":"Programme Budget - Cancer - Total admissions per 1000 population across secondary care - Activity"},"2011/12","00T",5770,null,282631,20.420000000000002,19.89,20.95,29.722150437974857,30.527157830869168,null,29.849,25.574000000000002,"C","Y54","X24","10202011","Byar"]
[1020201,{"$f":"VLOOKUP(tblData[[#This Row],[Indicator ID]],'Similar 10 CCGs'!$A$6:$C$160,3,FALSE)","v":"Programme Budget - Cancer - Total admissions per 1000 population across secondary care - Activity"},"2011/12","01R",3949,null,187532,21.06,20.41,21.72,29.722150437974857,30.527157830869168,null,27.100999999999999,20.564,"C","Y54","X24","10202011","Byar"]
[1020201,{"$f":"VLOOKUP(tblData[[#This Row],[Indicator ID]],'Similar 10 CCGs'!$A$6:$C$160,3,FALSE)","v":"Programme Budget - Cancer - Total admissions per 1000 population across secondary care - Activity"},"2011/12","02Q",2541,null,124655,20.38,19.600000000000001,21.19,29.722150437974857,30.527157830869168,null,31.785000000000004,27.827999999999996,"C","Y54","X24","10202011","Byar"]
[1020201,{"$f":"VLOOKUP(tblData[[#This Row],[Indicator ID]],'Similar 10 CCGs'!$A$6:$C$160,3,FALSE)","v":"Programme Budget - Cancer - Total admissions per 1000 population across secondary care - Activity"},"2011/12","03K",7097,null,188032,37.74,36.869999999999997,38.630000000000003,29.722150437974857,30.527157830869168,null,29.604000000000003,24.345999999999997,"A","Y54","X24","10202011","Byar"]
[1020201,{"$f":"VLOOKUP(tblData[[#This Row],[Indicator ID]],'Similar 10 CCGs'!$A$6:$C$160,3,FALSE)","v":"Programme Budget - Cancer - Total admissions per 1000 population across secondary care - Activity"},"2011/12","04H",4991,null,143448,34.79,33.83,35.770000000000003,29.722150437974857,32.912455598001898,null,27.661000000000001,22.18,"A","Y55","X24","10202011","Byar"]
[1020201,{"$f":"VLOOKUP(tblData[[#This Row],[Indicator ID]],'Similar 10 CCGs'!$A$6:$C$160,3,FALSE)","v":"Programme Budget - Cancer - Total admissions per 1000 population across secondary care - Activity"},"2011/12","05G",8034,null,242179,33.17,32.450000000000003,33.909999999999997,29.722150437974857,32.912455598001898,null,30.607000000000006,22.827999999999999,"A","Y55","X24","10202011","Byar"]
[1020201,{"$f":"VLOOKUP(tblData[[#This Row],[Indicator ID]],'Similar 10 CCGs'!$A$6:$C$160,3,FALSE)","v":"Programme Budget - Cancer - Total admissions per 1000 population across secondary care - Activity"},"2011/12","06H",31444,null,834564,37.68,37.26,38.1,29.722150437974857,32.912455598001898,null,31.785999999999994,26.288,"A","Y55","X24","10202011","Byar"]
[1020201,{"$f":"VLOOKUP(tblData[[#This Row],[Indicator ID]],'Similar 10 CCGs'!$A$6:$C$160,3,FALSE)","v":"Programme Budget - Cancer - Total admissions per 1000 population across secondary care - Activity"},"2011/12","06V",8822,null,234049,37.69,36.909999999999997,38.49,29.722150437974857,32.912455598001898,null,33.033000000000001,25.257999999999999,"B","Y55","X24","10202011","Byar"]
[1020201,{"$f":"VLOOKUP(tblData[[#This Row],[Indicator ID]],'Similar 10 CCGs'!$A$6:$C$160,3,FALSE)","v":"Programme Budget - Cancer - Total admissions per 1000 population across secondary care - Activity"},"2011/12","08G",6415,null,244945,26.19,25.55,26.84,29.722150437974857,24.554667344380235,null,25.888999999999999,19.062000000000001,"A","Y56","X24","10202011","Byar"]
[1020201,{"$f":"VLOOKUP(tblData[[#This Row],[Indicator ID]],'Similar 10 CCGs'!$A$6:$C$160,3,FALSE)","v":"Programme Budget - Cancer - Total admissions per 1000 population across secondary care - Activity"},"2011/12","09C",4497,null,125321,35.880000000000003,34.840000000000003,36.950000000000003,29.722150437974857,27.637755544115922,null,29.399000000000001,21.393999999999998,"A","Y57","X24","10202011","Byar"]
[1020201,{"$f":"VLOOKUP(tblData[[#This Row],[Indicator ID]],'Similar 10 CCGs'!$A$6:$C$160,3,FALSE)","v":"Programme Budget - Cancer - Total admissions per 1000 population across secondary care - Activity"},"2011/12","10D",2154,null,107761,19.989999999999998,19.149999999999999,20.85,29.722150437974857,27.637755544115922,null,33.595000000000006,30.105999999999995,"C","Y57","X24","10202011","Byar"]
[1020201,{"$f":"VLOOKUP(tblData[[#This Row],[Indicator ID]],'Similar 10 CCGs'!$A$6:$C$160,3,FALSE)","v":"Programme Budget - Cancer - Total admissions per 1000 population across secondary care - Activity"},"2011/12","10Y",6139,null,200727,30.58,29.82,31.36,29.722150437974857,27.637755544115922,null,27.273000000000003,20.306000000000001,"A","Y57","X24","10202011","Byar"]
[1020201,{"$f":"VLOOKUP(tblData[[#This Row],[Indicator ID]],'Similar 10 CCGs'!$A$6:$C$160,3,FALSE)","v":"Programme Budget - Cancer - Total admissions per 1000 population across secondary care - Activity"},"2011/12","99C",11117,null,230850,48.16,47.27,49.06,29.722150437974857,30.527157830869168,null,32.135000000000005,25.82,"A","Y54","X24","10202011","Byar"]
[1020202,{"$f":"VLOOKUP(tblData[[#This Row],[Indicator ID]],'Similar 10 CCGs'!$A$6:$C$160,3,FALSE)","v":"Programme Budget - Cancer - Total elective (IP + DC) admissions per 1000 population across secondary care - Activity"},"2011/12","00G",5225,null,123211,42.41,41.26,43.57,26.836366717392714,27.552610705401584,null,26.446000000000005,20.053999999999998,"A","Y54","X24","10202021","Byar"]
[1020202,{"$f":"VLOOKUP(tblData[[#This Row],[Indicator ID]],'Similar 10 CCGs'!$A$6:$C$160,3,FALSE)","v":"Programme Budget - Cancer - Total elective (IP + DC) admissions per 1000 population across secondary care - Activity"},"2011/12","01C",3836,null,237120,16.18,15.67,16.7,26.836366717392714,27.552610705401584,null,28.874000000000002,23.624000000000002,"C","Y54","X24","10202021","Byar"]
[1020202,{"$f":"VLOOKUP(tblData[[#This Row],[Indicator ID]],'Similar 10 CCGs'!$A$6:$C$160,3,FALSE)","v":"Programme Budget - Cancer - Total elective (IP + DC) admissions per 1000 population across secondary care - Activity"},"2011/12","01Y",4856,null,236972,20.49,19.920000000000002,21.08,26.836366717392714,27.552610705401584,null,29.314000000000004,23.431999999999999,"C","Y54","X24","10202021","Byar"]
[1020202,{"$f":"VLOOKUP(tblData[[#This Row],[Indicator ID]],'Similar 10 CCGs'!$A$6:$C$160,3,FALSE)","v":"Programme Budget - Cancer - Total elective (IP + DC) admissions per 1000 population across secondary care - Activity"},"2011/12","02X",5579,null,324268,17.2,16.760000000000002,17.66,26.836366717392714,27.552610705401584,null,31.29,27.875999999999998,"C","Y54","X24","10202021","Byar"]
[1020202,{"$f":"VLOOKUP(tblData[[#This Row],[Indicator ID]],'Similar 10 CCGs'!$A$6:$C$160,3,FALSE)","v":"Programme Budget - Cancer - Total elective (IP + DC) admissions per 1000 population across secondary care - Activity"},"2011/12","03R",12250,null,364059,33.65,33.06,34.25,26.836366717392714,27.552610705401584,null,24.184000000000001,19.691999999999997,"A","Y54","X24","10202021","Byar"]
[1020202,{"$f":"VLOOKUP(tblData[[#This Row],[Indicator ID]],'Similar 10 CCGs'!$A$6:$C$160,3,FALSE)","v":"Programme Budget - Cancer - Total elective (IP + DC) admissions per 1000 population across secondary care - Activity"},"2011/12","04Q",4936,null,150895,32.71,31.81,33.64,26.836366717392714,30.000557001585197,null,30.538,26.542000000000002,"A","Y55","X24","10202021","Byar"]
[1020202,{"$f":"VLOOKUP(tblData[[#This Row],[Indicator ID]],'Similar 10 CCGs'!$A$6:$C$160,3,FALSE)","v":"Programme Budget - Cancer - Total elective (IP + DC) admissions per 1000 population across secondary care - Activity"},"2011/12","05Q",7410,null,230624,32.130000000000003,31.4,32.869999999999997,26.836366717392714,30.000557001585197,null,25.056999999999999,17.731999999999999,"A","Y55","X24","10202021","Byar"]
[1020202,{"$f":"VLOOKUP(tblData[[#This Row],[Indicator ID]],'Similar 10 CCGs'!$A$6:$C$160,3,FALSE)","v":"Programme Budget - Cancer - Total elective (IP + DC) admissions per 1000 population across secondary care - Activity"},"2011/12","05R",9615,null,304705,31.56,30.93,32.19,26.836366717392714,30.000557001585197,null,30.094000000000001,25.774000000000001,"A","Y55","X24","10202021","Byar"]
[1020202,{"$f":"VLOOKUP(tblData[[#This Row],[Indicator ID]],'Similar 10 CCGs'!$A$6:$C$160,3,FALSE)","v":"Programme Budget - Cancer - Total elective (IP + DC) admissions per 1000 population across secondary care - Activity"},"2011/12","06Q",11080,null,401377,27.6,27.09,28.12,26.836366717392714,30.000557001585197,null,22.677,17.128,"A","Y55","X24","10202021","Byar"]
[1020202,{"$f":"VLOOKUP(tblData[[#This Row],[Indicator ID]],'Similar 10 CCGs'!$A$6:$C$160,3,FALSE)","v":"Programme Budget - Cancer - Total elective (IP + DC) admissions per 1000 population across secondary care - Activity"},"2011/12","07V",5933,null,329141,18.03,17.57,18.489999999999998,26.836366717392714,21.287669829185724,null,24.226000000000003,18.836000000000002,"C","Y56","X24","10202021","Byar"]
[1020202,{"$f":"VLOOKUP(tblData[[#This Row],[Indicator ID]],'Similar 10 CCGs'!$A$6:$C$160,3,FALSE)","v":"Programme Budget - Cancer - Total elective (IP + DC) admissions per 1000 population across secondary care - Activity"},"2011/12","08N",3816,null,233466,16.350000000000001,15.83,16.87,26.836366717392714,21.287669829185724,null,22.314,17.990000000000002,"C","Y56","X24","10202021","Byar"]
[1020202,{"$f":"VLOOKUP(tblData[[#This Row],[Indicator ID]],'Similar 10 CCGs'!$A$6:$C$160,3,FALSE)","v":"Programme Budget - Cancer - Total elective (IP + DC) admissions per 1000 population across secondary care - Activity"},"2011/12","09H",1847,null,110033,16.79,16.03,17.57,26.836366717392714,25.054328648342473,null,23.657,17.667999999999999,"","Y57","X24","10202021","Byar"]
[1020202,{"$f":"VLOOKUP(tblData[[#This Row],[Indicator ID]],'Similar 10 CCGs'!$A$6:$C$160,3,FALSE)","v":"Programme Budget - Cancer - Total elective (IP + DC) admissions per 1000 population across secondary care - Activity"},"2011/12","10L",2016,null,181937,11.08,10.6,11.58,26.836366717392714,25.054328648342473,null,32.761000000000003,28.97,"C","Y57","X24","10202021","Byar"]
[1020202,{"$f":"VLOOKUP(tblData[[#This Row],[Indicator ID]],'Similar 10 CCGs'!$A$6:$C$160,3,FALSE)","v":"Programme Budget - Cancer - Total elective (IP + DC) admissions per 1000 population across secondary care - Activity"},"2011/12","11J",27440,null,940914,29.16,28.82,29.51,26.836366717392714,25.054328648342473,null,30.588000000000001,24.981999999999999,"","Y57","X24","10202021","Byar"]
[1020202,{"$f":"VLOOKUP(tblData[[#This Row],[Indicator ID]],'Similar 10 CCGs'!$A$6:$C$160,3,FALSE)","v":"Programme Budget - Cancer - Total elective (IP + DC) admissions per 1000 population across secondary care - Activity"},"2011/12","99P",37162,null,1037105,35.83,35.47,36.200000000000003,26.836366717392714,25.054328648342473,null,30.436,25.9,"A","Y57","X24","10202021","Byar"]
[1020203,{"$f":"VLOOKUP(tblData[[#This Row],[Indicator ID]],'Similar 10 CCGs'!$A$6:$C$160,3,FALSE)","v":"Programme Budget - Cancer - Non-elective (EM + ONEL) admissions per 1000 population across secondary care - Activity"},"2011/12","00P",1200,null,295640,4.0599999999999996,3.83,4.3,2.8877045660752416,2.9744822803563955,null,3.0260000000000002,2.71,"A","Y54","X24","10202031","Byar"]
[1020203,{"$f":"VLOOKUP(tblData[[#This Row],[Indicator ID]],'Similar 10 CCGs'!$A$6:$C$160,3,FALSE)","v":"Programme Budget - Cancer - Non-elective (EM + ONEL) admissions per 1000 population across secondary care - Activity"},"2011/12","01J",482,null,153472,3.14,2.87,3.43,2.8877045660752416,2.9744822803563955,null,2.9839999999999995,2.6399999999999997,"B","Y54","X24","10202031","Byar"]
[1020203,{"$f":"VLOOKUP(tblData[[#This Row],[Indicator ID]],'Similar 10 CCGs'!$A$6:$C$160,3,FALSE)","v":"Programme Budget - Cancer - Non-elective (EM + ONEL) admissions per 1000 population across secondary care - Activity"},"2011/12","02M",514,null,199377,2.58,2.36,2.81,2.8877045660752416,2.9744822803563955,null,2.637,2.2979999999999996,"","Y54","X24","10202031","Byar"]
[1020203,{"$f":"VLOOKUP(tblData[[#This Row],[Indicator ID]],'Similar 10 CCGs'!$A$6:$C$160,3,FALSE)","v":"Programme Budget - Cancer - Non-elective (EM + ONEL) admissions per 1000 population across secondary care - Activity"},"2011/12","03G",840,null,241171,3.48,3.25,3.73,2.8877045660752416,2.9744822803563955,null,2.9219999999999997,2.5960000000000001,"A","Y54","X24","10202031","Byar"]
[1020203,{"$f":"VLOOKUP(tblData[[#This Row],[Indicator ID]],'Similar 10 CCGs'!$A$6:$C$160,3,FALSE)","v":"Programme Budget - Cancer - Non-elective (EM + ONEL) admissions per 1000 population across secondary care - Activity"},"2011/12","04D",694,null,243569,2.85,2.64,3.07,2.8877045660752416,2.9145293114620259,null,2.5590000000000002,2.254,"B","Y55","X24","10202031","Byar"]
[1020203,{"$f":"VLOOKUP(tblData[[#This Row],[Indicator ID]],'Similar 10 CCGs'!$A$6:$C$160,3,FALSE)","v":"Programme Budget - Cancer - Non-elective (EM + ONEL) admissions per 1000 population across secondary care - Activity"},"2011/12","05C",981,null,346340,2.83,2.66,3.02,2.8877045660752416,2.9145293114620259,null,3.1580000000000004,2.726,"","Y55","X24","10202031","Byar"]
[1020203,{"$f":"VLOOKUP(tblData[[#This Row],[Indicator ID]],'Similar 10 CCGs'!$A$6:$C$160,3,FALSE)","v":"Programme Budget - Cancer - Non-elective (EM + ONEL) admissions per 1000 population across secondary care - Activity"},"2011/12","05Y",834,null,270289,3.09,2.88,3.3,2.8877045660752416,2.9145293114620259,null,3.1390000000000002,2.7719999999999998,"B","Y55","X24","10202031","Byar"]
[1020203,{"$f":"VLOOKUP(tblData[[#This Row],[Indicator ID]],'Similar 10 CCGs'!$A$6:$C$160,3,FALSE)","v":"Programme Budget - Cancer - Non-elective (EM + ONEL) admissions per 1000 population across secondary care - Activity"},"2011/12","07H",732,null,300436,2.44,2.2599999999999998,2.62,2.8877045660752416,2.9145293114620259,null,2.5949999999999998,2.2599999999999998,"B","Y55","X24","10202031","Byar"]
[1020203,{"$f":"VLOOKUP(tblData[[#This Row],[Indicator ID]],'Similar 10 CCGs'!$A$6:$C$160,3,FALSE)","v":"Programme Budget - Cancer - Non-elective (EM + ONEL) admissions per 1000 population across secondary care - Activity"},"2011/12","07T",860,null,168545,5.0999999999999996,4.7699999999999996,5.46,2.8877045660752416,3.3043093461677611,null,3.3439999999999999,2.8579999999999997,"A","Y56","X24","10202031","Byar"]
[1020203,{"$f":"VLOOKUP(tblData[[#This Row],[Indicator ID]],'Similar 10 CCGs'!$A$6:$C$160,3,FALSE)","v":"Programme Budget - Cancer - Non-elective (EM + ONEL) admissions per 1000 population across secondary care - Activity"},"2011/12","08W",925,null,207599,4.46,4.17,4.75,2.8877045660752416,3.3043093461677611,null,3.3810000000000002,2.8679999999999999,"A","Y56","X24","10202031","Byar"]
[1020203,{"$f":"VLOOKUP(tblData[[#This Row],[Indicator ID]],'Similar 10 CCGs'!$A$6:$C$160,3,FALSE)","v":"Programme Budget - Cancer - Non-elective (EM + ONEL) admissions per 1000 population across secondary care - Activity"},"2011/12","09Y",785,null,357645,2.19,2.04,2.35,2.8877045660752416,2.584545542105869,null,2.5299999999999998,2.2719999999999998,"","Y57","X24","10202031","Byar"]
[1020203,{"$f":"VLOOKUP(tblData[[#This Row],[Indicator ID]],'Similar 10 CCGs'!$A$6:$C$160,3,FALSE)","v":"Programme Budget - Cancer - Non-elective (EM + ONEL) admissions per 1000 population across secondary care - Activity"},"2011/12","10V",690,null,245967,2.81,2.6,3.02,2.8877045660752416,2.584545542105869,null,2.5630000000000002,2.262,"B","Y57","X24","10202031","Byar"]
[1020203,{"$f":"VLOOKUP(tblData[[#This Row],[Indicator ID]],'Similar 10 CCGs'!$A$6:$C$160,3,FALSE)","v":"Programme Budget - Cancer - Non-elective (EM + ONEL) admissions per 1000 population across secondary care - Activity"},"2011/12","12D",598,null,203488,2.94,2.71,3.18,2.8877045660752416,2.584545542105869,null,2.5859999999999999,2.3359999999999999,"B","Y57","X24","10202031","Byar"]
[1020211,{"$f":"VLOOKUP(tblData[[#This Row],[Indicator ID]],'Similar 10 CCGs'!$A$6:$C$160,3,FALSE)","v":"Females aged 50-70 screened for breast cancer in last 36 months  (%)"},"2010/11-2011/12","00C",9644.421693907876,null,13094,73.655274888558694,73.118319465146158,74.185291451676179,724.57795099682767,721.05882607248486,null,74.375130024331966,76.18495194303955,"A","Y54","X24","10202111","Wilson"]
[1020211,{"$f":"VLOOKUP(tblData[[#This Row],[Indicator ID]],'Similar 10 CCGs'!$A$6:$C$160,3,FALSE)","v":"Females aged 50-70 screened for breast cancer in last 36 months  (%)"},"2010/11-2011/12","00W",7248.951875598791,null,13171,55.03721718623332,54.435797139337794,55.637168290683256,724.57795099682767,721.05882607248486,null,65.29285894717745,68.627971664729188,"A","Y54","X24","10202111","Wilson"]
[1020211,{"$f":"VLOOKUP(tblData[[#This Row],[Indicator ID]],'Similar 10 CCGs'!$A$6:$C$160,3,FALSE)","v":"Females aged 50-70 screened for breast cancer in last 36 months  (%)"},"2010/11-2011/12","01V",12448.315824578956,null,17031,73.092101606358739,72.618552507878434,73.560442710343366,724.57795099682767,721.05882607248486,null,75.271042833413816,77.421050265856337,"A","Y54","X24","10202111","Wilson"]
[1020211,{"$f":"VLOOKUP(tblData[[#This Row],[Indicator ID]],'Similar 10 CCGs'!$A$6:$C$160,3,FALSE)","v":"Females aged 50-70 screened for breast cancer in last 36 months  (%)"},"2010/11-2011/12","02T",17680.825845287422,null,25596.000002203298,69.076519158327315,68.674734901477564,69.475440617703896,724.57795099682767,721.05882607248486,null,74.306898731143718,76.258157480393749,"A","Y54","X24","10202111","Wilson"]
[1020211,{"$f":"VLOOKUP(tblData[[#This Row],[Indicator ID]],'Similar 10 CCGs'!$A$6:$C$160,3,FALSE)","v":"Females aged 50-70 screened for breast cancer in last 36 months  (%)"},"2010/11-2011/12","03M",12512.316938876756,null,16327.999999518885,76.631044458877014,76.168953845517905,77.086870371853394,724.57795099682767,721.05882607248486,null,75.934657716352461,77.883124062319212,"","Y54","X24","10202111","Wilson"]
[1020211,{"$f":"VLOOKUP(tblData[[#This Row],[Indicator ID]],'Similar 10 CCGs'!$A$6:$C$160,3,FALSE)","v":"Females aged 50-70 screened for breast cancer in last 36 months  (%)"},"2010/11-2011/12","04K",19570.192975781425,null,27927.999997507388,70.073735955056179,69.692599182118755,70.452111802504319,724.57795099682767,745.78831632834056,null,67.013042073207274,70.24082611829364,"C","Y55","X24","10202111","Wilson"]
[1020211,{"$f":"VLOOKUP(tblData[[#This Row],[Indicator ID]],'Similar 10 CCGs'!$A$6:$C$160,3,FALSE)","v":"Females aged 50-70 screened for breast cancer in last 36 months  (%)"},"2010/11-2011/12","05L",32072.610865673116,null,46905.999996143015,68.376350292735225,68.078040721851622,68.67315495801158,724.57795099682767,745.78831632834056,null,67.264631374165475,68.922545578546234,"B","Y55","X24","10202111","Wilson"]
[1020211,{"$f":"VLOOKUP(tblData[[#This Row],[Indicator ID]],'Similar 10 CCGs'!$A$6:$C$160,3,FALSE)","v":"Females aged 50-70 screened for breast cancer in last 36 months  (%)"},"2010/11-2011/12","06M",24742.902985062407,null,31228.999999404768,79.230532471529699,78.910603320073619,79.546866215480151,724.57795099682767,745.78831632834056,null,76.330817496882219,78.017334684257577,"C","Y55","X24","10202111","Wilson"]
[1020211,{"$f":"VLOOKUP(tblData[[#This Row],[Indicator ID]],'Similar 10 CCGs'!$A$6:$C$160,3,FALSE)","v":"Females aged 50-70 screened for breast cancer in last 36 months  (%)"},"2010/11-2011/12","07P",18836.095733186063,null,30064.999999101798,62.651241422746708,62.263805960670346,63.037060516343068,724.57795099682767,645.85972511146997,null,64.633371728109893,66.93547198368519,"B","Y56","X24","10202111","Wilson"]
[1020211,{"$f":"VLOOKUP(tblData[[#This Row],[Indicator ID]],'Similar 10 CCGs'!$A$6:$C$160,3,FALSE)","v":"Females aged 50-70 screened for breast cancer in last 36 months  (%)"},"2010/11-2011/12","08J",12516.627734126143,null,18419,67.954979825865365,67.476598033187273,68.429617326027341,724.57795099682767,645.85972511146997,null,70.968796506070575,74.344559016800417,"A","Y56","X24","10202111","Wilson"]
[1020211,{"$f":"VLOOKUP(tblData[[#This Row],[Indicator ID]],'Similar 10 CCGs'!$A$6:$C$160,3,FALSE)","v":"Females aged 50-70 screened for breast cancer in last 36 months  (%)"},"2010/11-2011/12","09E",19478.837952690763,null,25690,75.822646760182025,75.450509314649906,76.190923200722921,724.57795099682767,740.00514292384014,null,74.840085588926499,77.483015543866287,"","Y57","X24","10202111","Wilson"]
[1020211,{"$f":"VLOOKUP(tblData[[#This Row],[Indicator ID]],'Similar 10 CCGs'!$A$6:$C$160,3,FALSE)","v":"Females aged 50-70 screened for breast cancer in last 36 months  (%)"},"2010/11-2011/12","10G",11441.452316531642,null,15381.000000612134,74.386920980926433,73.896121438164869,74.871630564937249,724.57795099682767,740.00514292384014,null,73.429026944466059,76.046426223610254,"","Y57","X24","10202111","Wilson"]
[1020211,{"$f":"VLOOKUP(tblData[[#This Row],[Indicator ID]],'Similar 10 CCGs'!$A$6:$C$160,3,FALSE)","v":"Females aged 50-70 screened for breast cancer in last 36 months  (%)"},"2010/11-2011/12","11C",12669.791821053177,null,16738.999999613516,75.69025522041764,75.227832015066369,76.1467834060672,724.57795099682767,740.00514292384014,null,74.423627845143443,76.423840982749383,"","Y57","X24","10202111","Wilson"]
[1020211,{"$f":"VLOOKUP(tblData[[#This Row],[Indicator ID]],'Similar 10 CCGs'!$A$6:$C$160,3,FALSE)","v":"Females aged 50-70 screened for breast cancer in last 36 months  (%)"},"2010/11-2011/12","99E",21693.491278133635,null,31395.999999554384,69.096353925473124,68.733761433413861,69.456610025327834,724.57795099682767,745.78831632834056,null,74.917202028072239,76.402601163370832,"A","Y55","X24","10202111","Wilson"]
[1020212,{"$f":"VLOOKUP(tblData[[#This Row],[Indicator ID]],'Similar 10 CCGs'!$A$6:$C$160,3,FALSE)","v":"Programme Budget - Cancer - Emergency Bed Days For Cancer per 1000 Population"},"2011/12","00J",5638,null,258597,21.8,21.24,22.38,28.46689045646405,30.684668205478886,null,26.146999999999998,21.41,"C","Y54","X24","10202121","Byar"]
[1020212,{"$f":"VLOOKUP(tblData[[#This Row],[Indicator ID]],'Similar 10 CCGs'!$A$6:$C$160,3,FALSE)","v":"Programme Budget - Cancer - Emergency Bed Days For Cancer per 1000 Population"},"2011/12","00Q",3408,null,144942,23.51,22.73,24.32,28.46689045646405,30.684668205478886,null,31.24,27.506,"C","Y54","X24","10202121","Byar"]
[1020212,{"$f":"VLOOKUP(tblData[[#This Row],[Indicator ID]],'Similar 10 CCGs'!$A$6:$C$160,3,FALSE)","v":"Programme Budget - Cancer - Emergency Bed Days For Cancer per 1000 Population"},"2011/12","02E",5170,null,203732,25.38,24.69,26.08,28.46689045646405,30.684668205478886,null,28.472000000000001,26.35,"C","Y54","X24","10202121","Byar"]
[1020212,{"$f":"VLOOKUP(tblData[[#This Row],[Indicator ID]],'Similar 10 CCGs'!$A$6:$C$160,3,FALSE)","v":"Programme Budget - Cancer - Emergency Bed Days For Cancer per 1000 Population"},"2011/12","03C",11409,null,298809,38.18,37.479999999999997,38.89,28.46689045646405,30.684668205478886,null,29.491000000000003,22.836000000000002,"A","Y54","X24","10202121","Byar"]
[1020212,{"$f":"VLOOKUP(tblData[[#This Row],[Indicator ID]],'Similar 10 CCGs'!$A$6:$C$160,3,FALSE)","v":"Programme Budget - Cancer - Emergency Bed Days For Cancer per 1000 Population"},"2011/12","03D",4640,null,182758,25.39,24.66,26.13,28.46689045646405,30.684668205478886,null,25.146999999999998,22.654000000000003,"B","Y54","X24","10202121","Byar"]
[1020212,{"$f":"VLOOKUP(tblData[[#This Row],[Indicator ID]],'Similar 10 CCGs'!$A$6:$C$160,3,FALSE)","v":"Programme Budget - Cancer - Emergency Bed Days For Cancer per 1000 Population"},"2011/12","03X",3723,null,104453,35.64,34.51,36.81,28.46689045646405,28.006642139451142,null,31.3,27.246000000000002,"A","Y55","X24","10202121","Byar"]
[1020212,{"$f":"VLOOKUP(tblData[[#This Row],[Indicator ID]],'Similar 10 CCGs'!$A$6:$C$160,3,FALSE)","v":"Programme Budget - Cancer - Emergency Bed Days For Cancer per 1000 Population"},"2011/12","04X",6819,null,186230,36.619999999999997,35.75,37.5,28.46689045646405,28.006642139451142,null,30.574000000000002,26.613999999999997,"A","Y55","X24","10202121","Byar"]
[1020212,{"$f":"VLOOKUP(tblData[[#This Row],[Indicator ID]],'Similar 10 CCGs'!$A$6:$C$160,3,FALSE)","v":"Programme Budget - Cancer - Emergency Bed Days For Cancer per 1000 Population"},"2011/12","05V",4235,null,169944,24.92,24.17,25.68,28.46689045646405,28.006642139451142,null,25.951000000000001,21.413999999999998,"","Y55","X24","10202121","Byar"]
[1020212,{"$f":"VLOOKUP(tblData[[#This Row],[Indicator ID]],'Similar 10 CCGs'!$A$6:$C$160,3,FALSE)","v":"Programme Budget - Cancer - Emergency Bed Days For Cancer per 1000 Population"},"2011/12","06V",5947,null,253180,23.49,22.9,24.09,28.46689045646405,28.006642139451142,null,26.443999999999999,23.8,"C","Y55","X24","10202121","Byar"]
[1020212,{"$f":"VLOOKUP(tblData[[#This Row],[Indicator ID]],'Similar 10 CCGs'!$A$6:$C$160,3,FALSE)","v":"Programme Budget - Cancer - Emergency Bed Days For Cancer per 1000 Population"},"2011/12","07X",10571,null,259813,40.69,39.92,41.47,28.46689045646405,33.173360884200925,null,31.595999999999997,27.615999999999996,"A","Y56","X24","10202121","Byar"]
[1020212,{"$f":"VLOOKUP(tblData[[#This Row],[Indicator ID]],'Similar 10 CCGs'!$A$6:$C$160,3,FALSE)","v":"Programme Budget - Cancer - Emergency Bed Days For Cancer per 1000 Population"},"2011/12","09F",7121,null,261688,27.21,26.58,27.85,28.46689045646405,24.754846377717641,null,25.399000000000001,21.195999999999998,"B","Y57","X24","10202121","Byar"]
[1020212,{"$f":"VLOOKUP(tblData[[#This Row],[Indicator ID]],'Similar 10 CCGs'!$A$6:$C$160,3,FALSE)","v":"Programme Budget - Cancer - Emergency Bed Days For Cancer per 1000 Population"},"2011/12","09N",6493,null,229185,28.33,27.65,29.03,28.46689045646405,24.754846377717641,null,26.707000000000001,22.847999999999999,"A","Y57","X24","10202121","Byar"]
[1020212,{"$f":"VLOOKUP(tblData[[#This Row],[Indicator ID]],'Similar 10 CCGs'!$A$6:$C$160,3,FALSE)","v":"Programme Budget - Cancer - Emergency Bed Days For Cancer per 1000 Population"},"2011/12","10Q",20105,null,666825,30.15,29.73,30.57,28.46689045646405,24.754846377717641,null,25.556000000000001,21.675999999999998,"A","Y57","X24","10202121","Byar"]
[1020212,{"$f":"VLOOKUP(tblData[[#This Row],[Indicator ID]],'Similar 10 CCGs'!$A$6:$C$160,3,FALSE)","v":"Programme Budget - Cancer - Emergency Bed Days For Cancer per 1000 Population"},"2011/12","11T",5188,null,257174,20.170000000000002,19.63,20.73,28.46689045646405,24.754846377717641,null,24.434999999999999,21.183999999999997,"C","Y57","X24","10202121","Byar"]
[1020212,{"$f":"VLOOKUP(tblData[[#This Row],[Indicator ID]],'Similar 10 CCGs'!$A$6:$C$160,3,FALSE)","v":"Programme Budget - Cancer - Emergency Bed Days For Cancer per 1000 Population"},"2011/12","99N",15545,null,547301,28.4,27.96,28.85,28.46689045646405,24.754846377717641,null,25.478999999999996,23.74,"A","Y57","X24","10202121","Byar"]
[1020220,{"$f":"VLOOKUP(tblData[[#This Row],[Indicator ID]],'Similar 10 CCGs'!$A$6:$C$160,3,FALSE)","v":"Rate of urgent GP referrals for suspected cancer per population"},"2012/13","00R",4425.6157318761188,null,172380,2567.3603271122629,2492.27,2644.14,21.729859382836771,22.986450764125987,null,2617.6054455536287,2278.6493736286602,"B","Y54","X24","10202201","Byar"]
[1020220,{"$f":"VLOOKUP(tblData[[#This Row],[Indicator ID]],'Similar 10 CCGs'!$A$6:$C$160,3,FALSE)","v":"Rate of urgent GP referrals for suspected cancer per population"},"2012/13","01M",3149.3846499134734,null,186773,1686.2098107935694,1627.83,1746.15,21.729859382836771,22.986450764125987,null,2038.6270343355857,1814.9371971928038,"C","Y54","X24","10202201","Byar"]
[1020220,{"$f":"VLOOKUP(tblData[[#This Row],[Indicator ID]],'Similar 10 CCGs'!$A$6:$C$160,3,FALSE)","v":"Rate of urgent GP referrals for suspected cancer per population"},"2012/13","02P",5810,null,245317,2368.3641981599317,2307.85,2430.06,21.729859382836771,22.986450764125987,null,2292.9699796437535,2048.2319760616424,"B","Y54","X24","10202201","Byar"]
[1020220,{"$f":"VLOOKUP(tblData[[#This Row],[Indicator ID]],'Similar 10 CCGs'!$A$6:$C$160,3,FALSE)","v":"Rate of urgent GP referrals for suspected cancer per population"},"2012/13","03J",3588.0065268428266,null,185008,1939.3791224394765,1876.43,2003.9,21.729859382836771,22.986450764125987,null,2016.8652063501636,1762.9942891820083,"B","Y54","X24","10202201","Byar"]
[1020220,{"$f":"VLOOKUP(tblData[[#This Row],[Indicator ID]],'Similar 10 CCGs'!$A$6:$C$160,3,FALSE)","v":"Rate of urgent GP referrals for suspected cancer per population"},"2012/13","04F",4739,null,265437,1785.357730836319,1734.88,1836.93,21.729859382836771,21.791583761854312,null,2066.9433923826327,1891.6156999435457,"","Y55","X24","10202201","Byar"]
[1020220,{"$f":"VLOOKUP(tblData[[#This Row],[Indicator ID]],'Similar 10 CCGs'!$A$6:$C$160,3,FALSE)","v":"Rate of urgent GP referrals for suspected cancer per population"},"2012/13","05G",5793,null,213223,2716.8738832114736,2647.36,2787.75,21.729859382836771,21.791583761854312,null,2309.4564941913018,2078.061053470934,"A","Y55","X24","10202201","Byar"]
[1020220,{"$f":"VLOOKUP(tblData[[#This Row],[Indicator ID]],'Similar 10 CCGs'!$A$6:$C$160,3,FALSE)","v":"Rate of urgent GP referrals for suspected cancer per population"},"2012/13","06F",8980,null,436707,2056.2986166926567,2013.99,2099.2800000000002,21.729859382836771,21.791583761854312,null,2003.3647136486729,1849.4857271064509,"A","Y55","X24","10202201","Byar"]
[1020220,{"$f":"VLOOKUP(tblData[[#This Row],[Indicator ID]],'Similar 10 CCGs'!$A$6:$C$160,3,FALSE)","v":"Rate of urgent GP referrals for suspected cancer per population"},"2012/13","07L",3321,null,201601,1647.3132573747152,1591.76,1704.31,21.729859382836771,17.242077607712677,null,1726.6481620762129,1547.647148998826,"","Y56","X24","10202201","Byar"]
[1020220,{"$f":"VLOOKUP(tblData[[#This Row],[Indicator ID]],'Similar 10 CCGs'!$A$6:$C$160,3,FALSE)","v":"Rate of urgent GP referrals for suspected cancer per population"},"2012/13","08F",6294,null,257279,2446.3714488940022,2386.3000000000002,2507.5700000000002,21.729859382836771,17.242077607712677,null,2355.8053036017777,2100.1800224250137,"A","Y56","X24","10202201","Byar"]
[1020220,{"$f":"VLOOKUP(tblData[[#This Row],[Indicator ID]],'Similar 10 CCGs'!$A$6:$C$160,3,FALSE)","v":"Rate of urgent GP referrals for suspected cancer per population"},"2012/13","08Y",3106.3007091736354,null,224877,1381.3332217939742,1333.18,1430.78,21.729859382836771,17.242077607712677,null,1709.5124359857716,1514.4491350047815,"C","Y56","X24","10202201","Byar"]
[1020220,{"$f":"VLOOKUP(tblData[[#This Row],[Indicator ID]],'Similar 10 CCGs'!$A$6:$C$160,3,FALSE)","v":"Rate of urgent GP referrals for suspected cancer per population"},"2012/13","10C",1746.1633936611058,null,90403,1931.5325748715261,1841.99,2024.3,21.729859382836771,23.07654051877601,null,2075.7283546232943,1894.3777095904941,"","Y57","X24","10202201","Byar"]
[1020220,{"$f":"VLOOKUP(tblData[[#This Row],[Indicator ID]],'Similar 10 CCGs'!$A$6:$C$160,3,FALSE)","v":"Rate of urgent GP referrals for suspected cancer per population"},"2012/13","10X",5221,null,267022,1955.2696032536644,1902.59,2009.04,21.729859382836771,23.07654051877601,null,2277.4826680160527,1871.4812783302646,"","Y57","X24","10202201","Byar"]
[1020220,{"$f":"VLOOKUP(tblData[[#This Row],[Indicator ID]],'Similar 10 CCGs'!$A$6:$C$160,3,FALSE)","v":"Rate of urgent GP referrals for suspected cancer per population"},"2012/13","99A",13090,null,492711,2656.7298071283167,2611.41,2702.64,21.729859382836771,22.986450764125987,null,2204.5919297245841,1841.9863439735013,"A","Y54","X24","10202201","Byar"]
[1020313,{"$f":"VLOOKUP(tblData[[#This Row],[Indicator ID]],'Similar 10 CCGs'!$A$6:$C$160,3,FALSE)","v":"Mortality from all cancers: Under 75 Directly age-standardised rates (DSR) per 100,000 European Standard"},"2009-11","00F",903,null,540945.6275434558,130.45271253387196,121.95844830757608,139.37600701754386,1.2840413312442325,1.4639135536753451,null,122.64323221011884,116.58710351334267,"B","Y54","X24","10203131","Byar"]
[1020313,{"$f":"VLOOKUP(tblData[[#This Row],[Indicator ID]],'Similar 10 CCGs'!$A$6:$C$160,3,FALSE)","v":"Mortality from all cancers: Under 75 Directly age-standardised rates (DSR) per 100,000 European Standard"},"2009-11","00Y",932,null,631312.57250199711,130.69709481630187,122.38709777647182,139.42005537907727,1.2840413312442325,1.4639135536753451,null,121.90263249308848,116.22092976926061,"A","Y54","X24","10203131","Byar"]
[1020313,{"$f":"VLOOKUP(tblData[[#This Row],[Indicator ID]],'Similar 10 CCGs'!$A$6:$C$160,3,FALSE)","v":"Mortality from all cancers: Under 75 Directly age-standardised rates (DSR) per 100,000 European Standard"},"2009-11","01H",2241,null,1384043.9168716327,109.77933804982514,105.17850094428951,114.52621280599297,1.2840413312442325,1.4639135536753451,null,102.57698009207959,98.701035170474569,"A","Y54","X24","10203131","Byar"]
[1020313,{"$f":"VLOOKUP(tblData[[#This Row],[Indicator ID]],'Similar 10 CCGs'!$A$6:$C$160,3,FALSE)","v":"Mortality from all cancers: Under 75 Directly age-standardised rates (DSR) per 100,000 European Standard"},"2009-11","02X",1339,null,822057.38246635511,129.1153568398353,122.22246816852935,136.29274594417089,1.2840413312442325,1.4639135536753451,null,124.42161655748725,119.58294416242146,"B","Y54","X24","10203131","Byar"]
[1020313,{"$f":"VLOOKUP(tblData[[#This Row],[Indicator ID]],'Similar 10 CCGs'!$A$6:$C$160,3,FALSE)","v":"Mortality from all cancers: Under 75 Directly age-standardised rates (DSR) per 100,000 European Standard"},"2009-11","03R",1421,null,937898.36590597581,120.81962770952025,114.5668997907708,127.32271138703825,1.2840413312442325,1.4639135536753451,null,122.14621523996365,115.85684857788223,"B","Y54","X24","10203131","Byar"]
[1020313,{"$f":"VLOOKUP(tblData[[#This Row],[Indicator ID]],'Similar 10 CCGs'!$A$6:$C$160,3,FALSE)","v":"Mortality from all cancers: Under 75 Directly age-standardised rates (DSR) per 100,000 European Standard"},"2009-11","04N",419,null,330170.0507233481,98.165594309689752,88.918774168441075,108.10693926101456,1.2840413312442325,1.3082452814394854,null,94.895521149109555,91.189665728506085,"B","Y55","X24","10203131","Byar"]
[1020313,{"$f":"VLOOKUP(tblData[[#This Row],[Indicator ID]],'Similar 10 CCGs'!$A$6:$C$160,3,FALSE)","v":"Mortality from all cancers: Under 75 Directly age-standardised rates (DSR) per 100,000 European Standard"},"2009-11","05P",842,null,614314.52450316818,106.49788504864807,99.330195324211843,114.04085374913356,1.2840413312442325,1.3082452814394854,null,105.69335584418488,101.37046907876905,"B","Y55","X24","10203131","Byar"]
[1020313,{"$f":"VLOOKUP(tblData[[#This Row],[Indicator ID]],'Similar 10 CCGs'!$A$6:$C$160,3,FALSE)","v":"Mortality from all cancers: Under 75 Directly age-standardised rates (DSR) per 100,000 European Standard"},"2009-11","06P",557,null,551181.71891796775,111.73831382281564,102.60070538489173,121.46799710111367,1.2840413312442325,1.3082452814394854,null,113.32393483642159,104.35491647861411,"B","Y55","X24","10203131","Byar"]
[1020313,{"$f":"VLOOKUP(tblData[[#This Row],[Indicator ID]],'Similar 10 CCGs'!$A$6:$C$160,3,FALSE)","v":"Mortality from all cancers: Under 75 Directly age-standardised rates (DSR) per 100,000 European Standard"},"2009-11","07R",533,null,671967.977476703,105.95658686111896,97.073783638438982,115.42822992161737,1.2840413312442325,0.90280823799928811,null,121.56338529164842,107.36946103215311,"B","Y56","X24","10203131","Byar"]
[1020313,{"$f":"VLOOKUP(tblData[[#This Row],[Indicator ID]],'Similar 10 CCGs'!$A$6:$C$160,3,FALSE)","v":"Mortality from all cancers: Under 75 Directly age-standardised rates (DSR) per 100,000 European Standard"},"2009-11","08L",717,null,771317.48740042886,119.05897627647168,110.3864498408858,128.22473591170547,1.2840413312442325,0.90280823799928811,null,113.72243128396141,105.38832594373551,"A","Y56","X24","10203131","Byar"]
[1020313,{"$f":"VLOOKUP(tblData[[#This Row],[Indicator ID]],'Similar 10 CCGs'!$A$6:$C$160,3,FALSE)","v":"Mortality from all cancers: Under 75 Directly age-standardised rates (DSR) per 100,000 European Standard"},"2009-11","09G",1909,null,1222203.2390124116,102.24594070265952,97.553206867578695,107.10029765238291,1.2840413312442325,1.2854730989179348,null,102.19890323125234,97.262706504884221,"B","Y57","X24","10203131","Byar"]
[1020313,{"$f":"VLOOKUP(tblData[[#This Row],[Indicator ID]],'Similar 10 CCGs'!$A$6:$C$160,3,FALSE)","v":"Mortality from all cancers: Under 75 Directly age-standardised rates (DSR) per 100,000 European Standard"},"2009-11","10J",667,null,563476.40576417104,101.61988537155666,94.022129315260656,109.66616192051171,1.2840413312442325,1.2854730989179348,null,97.6215273900943,91.460648698402551,"B","Y57","X24","10203131","Byar"]
[1020313,{"$f":"VLOOKUP(tblData[[#This Row],[Indicator ID]],'Similar 10 CCGs'!$A$6:$C$160,3,FALSE)","v":"Mortality from all cancers: Under 75 Directly age-standardised rates (DSR) per 100,000 European Standard"},"2009-11","11C",447,null,396923.62543811608,100.40461870716597,91.261435460628078,110.21183046856206,1.2840413312442325,1.2854730989179348,null,98.408146730830524,90.640932844875451,"B","Y57","X24","10203131","Byar"]
[1020313,{"$f":"VLOOKUP(tblData[[#This Row],[Indicator ID]],'Similar 10 CCGs'!$A$6:$C$160,3,FALSE)","v":"Mortality from all cancers: Under 75 Directly age-standardised rates (DSR) per 100,000 European Standard"},"2009-11","99H",862,null,750791.84225949994,88.923464318599486,83.039246160857417,95.112066521016118,1.2840413312442325,1.2854730989179348,null,96.282101536639871,91.822208060603515,"","Y57","X24","10203131","Byar"]
[1020314,{"$f":"VLOOKUP(tblData[[#This Row],[Indicator ID]],'Similar 10 CCGs'!$A$6:$C$160,3,FALSE)","v":"Mortality from all cancers: All ages Directly age-standardised rates (DSR) per 100,000 European Standard"},"2009-11","00M",2526,null,828479.18569525471,204.89525178031724,196.62680333108497,213.41065461152382,2.4780294946825481,2.7205631280033242,null,192.08456365917897,182.94084633006554,"A","Y54","X24","10203141","Byar"]
[1020314,{"$f":"VLOOKUP(tblData[[#This Row],[Indicator ID]],'Similar 10 CCGs'!$A$6:$C$160,3,FALSE)","v":"Mortality from all cancers: All ages Directly age-standardised rates (DSR) per 100,000 European Standard"},"2009-11","00N",1562,null,454817.74597240757,212.97899048226569,201.91451109602397,224.46559019446664,2.4780294946825481,2.7205631280033242,null,187.92396800429751,180.85646574551259,"A","Y54","X24","10203141","Byar"]
[1020314,{"$f":"VLOOKUP(tblData[[#This Row],[Indicator ID]],'Similar 10 CCGs'!$A$6:$C$160,3,FALSE)","v":"Mortality from all cancers: All ages Directly age-standardised rates (DSR) per 100,000 European Standard"},"2009-11","01H",4725,null,1529927.1949391868,171.10362599082009,165.96540040444847,176.35356546291402,2.4780294946825481,2.7205631280033242,null,160.52146383061881,154.56425293374244,"A","Y54","X24","10203141","Byar"]
[1020314,{"$f":"VLOOKUP(tblData[[#This Row],[Indicator ID]],'Similar 10 CCGs'!$A$6:$C$160,3,FALSE)","v":"Mortality from all cancers: All ages Directly age-standardised rates (DSR) per 100,000 European Standard"},"2009-11","02G",929,null,319245.65793653496,181.32530154425413,169.38005712133426,193.86514599555468,2.4780294946825481,2.7205631280033242,null,178.45935571264948,169.71888735077471,"B","Y54","X24","10203141","Byar"]
[1020314,{"$f":"VLOOKUP(tblData[[#This Row],[Indicator ID]],'Similar 10 CCGs'!$A$6:$C$160,3,FALSE)","v":"Mortality from all cancers: All ages Directly age-standardised rates (DSR) per 100,000 European Standard"},"2009-11","03F",2225,null,850192.7478594298,200.46207897728397,191.86698164846146,209.33099421741233,2.4780294946825481,2.7205631280033242,null,199.21905333150511,192.04023196345264,"A","Y54","X24","10203141","Byar"]
[1020314,{"$f":"VLOOKUP(tblData[[#This Row],[Indicator ID]],'Similar 10 CCGs'!$A$6:$C$160,3,FALSE)","v":"Mortality from all cancers: All ages Directly age-standardised rates (DSR) per 100,000 European Standard"},"2009-11","04C",1788,null,976296.20503239869,165.28843374342884,157.39632873386554,173.46157512286749,2.4780294946825481,2.5280661033803531,null,173.49986220200134,159.70548500922402,"C","Y55","X24","10203141","Byar"]
[1020314,{"$f":"VLOOKUP(tblData[[#This Row],[Indicator ID]],'Similar 10 CCGs'!$A$6:$C$160,3,FALSE)","v":"Mortality from all cancers: All ages Directly age-standardised rates (DSR) per 100,000 European Standard"},"2009-11","05A",3071,null,1276962.3768161174,178.47078324572209,171.87295839688457,185.24705430281239,2.4780294946825481,2.5280661033803531,null,178.40771265933364,165.63794764014719,"","Y55","X24","10203141","Byar"]
[1020314,{"$f":"VLOOKUP(tblData[[#This Row],[Indicator ID]],'Similar 10 CCGs'!$A$6:$C$160,3,FALSE)","v":"Mortality from all cancers: All ages Directly age-standardised rates (DSR) per 100,000 European Standard"},"2009-11","06A",1958,null,726726.22049637022,181.90653683359906,173.4196132976968,190.68201045985376,2.4780294946825481,2.5280661033803531,null,182.65632739815908,170.53571114434567,"","Y55","X24","10203141","Byar"]
[1020314,{"$f":"VLOOKUP(tblData[[#This Row],[Indicator ID]],'Similar 10 CCGs'!$A$6:$C$160,3,FALSE)","v":"Mortality from all cancers: All ages Directly age-standardised rates (DSR) per 100,000 European Standard"},"2009-11","07G",1015,null,479604.35712775978,172.62799940020136,161.82224282429581,183.94774065907831,2.4780294946825481,2.5280661033803531,null,169.20389295535227,159.49100147324452,"B","Y55","X24","10203141","Byar"]
[1020314,{"$f":"VLOOKUP(tblData[[#This Row],[Indicator ID]],'Similar 10 CCGs'!$A$6:$C$160,3,FALSE)","v":"Mortality from all cancers: All ages Directly age-standardised rates (DSR) per 100,000 European Standard"},"2009-11","08C",758,null,510695.99301409733,163.32809892451715,151.46195698817473,175.85004399333837,2.4780294946825481,1.7106457567909694,null,164.97801309585756,152.44645126496715,"B","Y56","X24","10203141","Byar"]
[1020314,{"$f":"VLOOKUP(tblData[[#This Row],[Indicator ID]],'Similar 10 CCGs'!$A$6:$C$160,3,FALSE)","v":"Mortality from all cancers: All ages Directly age-standardised rates (DSR) per 100,000 European Standard"},"2009-11","08V",897,null,725669.97004081518,195.0613385717547,181.95826320729694,208.82849779057312,2.4780294946825481,1.7106457567909694,null,166.22683549238292,153.35400767164441,"A","Y56","X24","10203141","Byar"]
[1020314,{"$f":"VLOOKUP(tblData[[#This Row],[Indicator ID]],'Similar 10 CCGs'!$A$6:$C$160,3,FALSE)","v":"Mortality from all cancers: All ages Directly age-standardised rates (DSR) per 100,000 European Standard"},"2009-11","09W",1991,null,822028.54631104704,189.27784149599529,180.87340998088987,197.96559651907606,2.4780294946825481,2.6002829577362796,null,174.55299263486216,163.0633190594875,"A","Y57","X24","10203141","Byar"]
[1020314,{"$f":"VLOOKUP(tblData[[#This Row],[Indicator ID]],'Similar 10 CCGs'!$A$6:$C$160,3,FALSE)","v":"Mortality from all cancers: All ages Directly age-standardised rates (DSR) per 100,000 European Standard"},"2009-11","10T",603,null,383079.43986322393,159.7107582694654,146.75797565306135,173.46907477882436,2.4780294946825481,2.6002829577362796,null,165.2319178987907,150.14056663678369,"","Y57","X24","10203141","Byar"]
[1020314,{"$f":"VLOOKUP(tblData[[#This Row],[Indicator ID]],'Similar 10 CCGs'!$A$6:$C$160,3,FALSE)","v":"Mortality from all cancers: All ages Directly age-standardised rates (DSR) per 100,000 European Standard"},"2009-11","12A",1743,null,750473.89113044285,156.48697469593807,148.91844477007848,164.32854379113783,2.4780294946825481,2.6002829577362796,null,156.14907619548532,149.07123173613758,"B","Y57","X24","10203141","Byar"]
[1020314,{"$f":"VLOOKUP(tblData[[#This Row],[Indicator ID]],'Similar 10 CCGs'!$A$6:$C$160,3,FALSE)","v":"Mortality from all cancers: All ages Directly age-standardised rates (DSR) per 100,000 European Standard"},"2009-11","99Q",2664,null,808686.30540895893,159.50124652997161,152.84452016631067,166.35148850378008,2.4780294946825481,2.6002829577362796,null,163.77301348036428,159.82483162741931,"B","Y57","X24","10203141","Byar"]
[1020315,{"$f":"VLOOKUP(tblData[[#This Row],[Indicator ID]],'Similar 10 CCGs'!$A$6:$C$160,3,FALSE)","v":"Mortality from colorectal cancer: Under 75 Directly age-standardised rates (DSR) per 100,000 European Standard"},"2009-11","00V",52,null,510534.02649894886,8.3094174134630112,6.1883419822368406,10.918254634470991,0.11978657295712378,0.1299230214064859,null,10.440504420964592,8.9600052884679311,"B","Y54","X24","10203151","Byar"]
[1020315,{"$f":"VLOOKUP(tblData[[#This Row],[Indicator ID]],'Similar 10 CCGs'!$A$6:$C$160,3,FALSE)","v":"Mortality from colorectal cancer: Under 75 Directly age-standardised rates (DSR) per 100,000 European Standard"},"2009-11","01R",56,null,463013.92138102662,9.1671824105874311,6.9001450884918736,11.934432905110329,0.11978657295712378,0.1299230214064859,null,9.4416250956026477,8.5971776000969129,"B","Y54","X24","10203151","Byar"]
[1020315,{"$f":"VLOOKUP(tblData[[#This Row],[Indicator ID]],'Similar 10 CCGs'!$A$6:$C$160,3,FALSE)","v":"Mortality from colorectal cancer: Under 75 Directly age-standardised rates (DSR) per 100,000 European Standard"},"2009-11","03D",58,null,404446.5833253517,9.3531809436977031,7.0445494826755137,12.16135622444166,0.11978657295712378,0.1299230214064859,null,9.772929069885361,8.5686756787991705,"B","Y54","X24","10203151","Byar"]
[1020315,{"$f":"VLOOKUP(tblData[[#This Row],[Indicator ID]],'Similar 10 CCGs'!$A$6:$C$160,3,FALSE)","v":"Mortality from colorectal cancer: Under 75 Directly age-standardised rates (DSR) per 100,000 European Standard"},"2009-11","03M",52,null,304391.73879998928,11.024295030525337,8.1573271110763557,14.550549924426269,0.11978657295712378,0.1299230214064859,null,10.550831844077559,9.2296998908447172,"B","Y54","X24","10203151","Byar"]
[1020315,{"$f":"VLOOKUP(tblData[[#This Row],[Indicator ID]],'Similar 10 CCGs'!$A$6:$C$160,3,FALSE)","v":"Mortality from colorectal cancer: Under 75 Directly age-standardised rates (DSR) per 100,000 European Standard"},"2009-11","04K",81,null,904318.26516742655,10.843400433791174,8.6024450884020851,13.487717088235762,0.11978657295712378,0.12339481796147357,null,10.129663548964261,9.1244457167777444,"B","Y55","X24","10203151","Byar"]
[1020315,{"$f":"VLOOKUP(tblData[[#This Row],[Indicator ID]],'Similar 10 CCGs'!$A$6:$C$160,3,FALSE)","v":"Mortality from colorectal cancer: Under 75 Directly age-standardised rates (DSR) per 100,000 European Standard"},"2009-11","05J",57,null,454385.88375438919,10.043822556730456,7.5857857656564516,13.038899760644433,0.11978657295712378,0.12339481796147357,null,9.5317383683824506,8.244423165924136,"B","Y55","X24","10203151","Byar"]
[1020315,{"$f":"VLOOKUP(tblData[[#This Row],[Indicator ID]],'Similar 10 CCGs'!$A$6:$C$160,3,FALSE)","v":"Mortality from colorectal cancer: Under 75 Directly age-standardised rates (DSR) per 100,000 European Standard"},"2009-11","06K",179,null,1507486.672085142,10.515891317838925,9.023768270194239,12.183240383799848,0.11978657295712378,0.12339481796147357,null,9.6959479911590307,8.7342424731339694,"B","Y55","X24","10203151","Byar"]
[1020315,{"$f":"VLOOKUP(tblData[[#This Row],[Indicator ID]],'Similar 10 CCGs'!$A$6:$C$160,3,FALSE)","v":"Mortality from colorectal cancer: Under 75 Directly age-standardised rates (DSR) per 100,000 European Standard"},"2009-11","07N",66,null,607390.79132010683,9.4208574330220056,7.2665495562203422,12.009117656102404,0.11978657295712378,8.1584149223488278E-2,null,9.4505009534208337,8.7452452608283817,"B","Y56","X24","10203151","Byar"]
[1020315,{"$f":"VLOOKUP(tblData[[#This Row],[Indicator ID]],'Similar 10 CCGs'!$A$6:$C$160,3,FALSE)","v":"Mortality from colorectal cancer: Under 75 Directly age-standardised rates (DSR) per 100,000 European Standard"},"2009-11","08H",48,null,563570.72445461643,12.228874438794454,8.9772832428490368,16.262494285810423,0.11978657295712378,8.1584149223488278E-2,null,10.185822830234354,8.644950413552678,"B","Y56","X24","10203151","Byar"]
[1020315,{"$f":"VLOOKUP(tblData[[#This Row],[Indicator ID]],'Similar 10 CCGs'!$A$6:$C$160,3,FALSE)","v":"Mortality from colorectal cancer: Under 75 Directly age-standardised rates (DSR) per 100,000 European Standard"},"2009-11","09C",40,null,316872.13032232062,10.113927072044318,7.1907380251412789,13.816374690972047,0.11978657295712378,0.12736173311407761,null,10.304004043983168,8.6271980182975838,"B","Y57","X24","10203151","Byar"]
[1020315,{"$f":"VLOOKUP(tblData[[#This Row],[Indicator ID]],'Similar 10 CCGs'!$A$6:$C$160,3,FALSE)","v":"Mortality from colorectal cancer: Under 75 Directly age-standardised rates (DSR) per 100,000 European Standard"},"2009-11","10E",60,null,351004.41067340836,12.581735259129381,9.5192470719633047,16.294529801255841,0.11978657295712378,0.12736173311407761,null,10.326981949287603,9.0871662669885307,"B","Y57","X24","10203151","Byar"]
[1020315,{"$f":"VLOOKUP(tblData[[#This Row],[Indicator ID]],'Similar 10 CCGs'!$A$6:$C$160,3,FALSE)","v":"Mortality from colorectal cancer: Under 75 Directly age-standardised rates (DSR) per 100,000 European Standard"},"2009-11","11A",169,null,1399245.1537833828,8.5372246601940258,7.2755724347164232,9.9516368061293043,0.11978657295712378,0.12736173311407761,null,10.135179386545442,9.3691268091690709,"B","Y57","X24","10203151","Byar"]
[1020315,{"$f":"VLOOKUP(tblData[[#This Row],[Indicator ID]],'Similar 10 CCGs'!$A$6:$C$160,3,FALSE)","v":"Mortality from colorectal cancer: Under 75 Directly age-standardised rates (DSR) per 100,000 European Standard"},"2009-11","99A",169,null,1285058.7532170357,12.129555069345246,10.356509018222214,14.117280227965447,0.11978657295712378,0.1299230214064859,null,11.175355201898503,10.4978825606775,"B","Y54","X24","10203151","Byar"]
[1020316,{"$f":"VLOOKUP(tblData[[#This Row],[Indicator ID]],'Similar 10 CCGs'!$A$6:$C$160,3,FALSE)","v":"Mortality from lung cancer: Under 75 Directly age-standardised rates (DSR) per 100,000 European Standard"},"2009-11","00J",259,null,664620.94378469128,29.511508464529143,25.993142702163702,33.369761893065863,0.30404597903509822,0.39661981395570761,null,26.313456074074772,21.899129931200779,"B","Y54","X24","10203161","Byar"]
[1020316,{"$f":"VLOOKUP(tblData[[#This Row],[Indicator ID]],'Similar 10 CCGs'!$A$6:$C$160,3,FALSE)","v":"Mortality from lung cancer: Under 75 Directly age-standardised rates (DSR) per 100,000 European Standard"},"2009-11","01D",238,null,577865.03282231558,36.244759642804397,31.770635087162081,41.170778387986395,0.30404597903509822,0.39661981395570761,null,35.754439080921919,31.662879392984742,"B","Y54","X24","10203161","Byar"]
[1020316,{"$f":"VLOOKUP(tblData[[#This Row],[Indicator ID]],'Similar 10 CCGs'!$A$6:$C$160,3,FALSE)","v":"Mortality from lung cancer: Under 75 Directly age-standardised rates (DSR) per 100,000 European Standard"},"2009-11","02D",78,null,275335.32919965545,22.395377682117655,17.675959264246785,27.982000710635681,0.30404597903509822,0.39661981395570761,null,23.272328865659475,20.45423713155833,"B","Y54","X24","10203161","Byar"]
[1020316,{"$f":"VLOOKUP(tblData[[#This Row],[Indicator ID]],'Similar 10 CCGs'!$A$6:$C$160,3,FALSE)","v":"Mortality from lung cancer: Under 75 Directly age-standardised rates (DSR) per 100,000 European Standard"},"2009-11","03A",200,null,628565.19520683819,26.563280591995639,22.993992927386831,30.52777244213253,0.30404597903509822,0.39661981395570761,null,27.865421656994698,22.589032078479669,"","Y54","X24","10203161","Byar"]
[1020316,{"$f":"VLOOKUP(tblData[[#This Row],[Indicator ID]],'Similar 10 CCGs'!$A$6:$C$160,3,FALSE)","v":"Mortality from lung cancer: Under 75 Directly age-standardised rates (DSR) per 100,000 European Standard"},"2009-11","03V",97,null,168657.97481211083,48.900735760511971,39.622930202051748,59.692288379421029,0.30404597903509822,0.29282873097072598,null,29.583277880669534,25.363958430507132,"A","Y55","X24","10203161","Byar"]
[1020316,{"$f":"VLOOKUP(tblData[[#This Row],[Indicator ID]],'Similar 10 CCGs'!$A$6:$C$160,3,FALSE)","v":"Mortality from lung cancer: Under 75 Directly age-standardised rates (DSR) per 100,000 European Standard"},"2009-11","04R",405,null,1395562.358074392,23.620008065377704,21.359340376365669,26.053503234455931,0.30404597903509822,0.29282873097072598,null,21.686371231512858,19.306969909363332,"B","Y55","X24","10203161","Byar"]
[1020316,{"$f":"VLOOKUP(tblData[[#This Row],[Indicator ID]],'Similar 10 CCGs'!$A$6:$C$160,3,FALSE)","v":"Mortality from lung cancer: Under 75 Directly age-standardised rates (DSR) per 100,000 European Standard"},"2009-11","05R",155,null,707683.75018394017,15.796502954977951,13.378574328504964,18.521000189076922,0.30404597903509822,0.29282873097072598,null,19.596504412667365,18.14466549718998,"C","Y55","X24","10203161","Byar"]
[1020316,{"$f":"VLOOKUP(tblData[[#This Row],[Indicator ID]],'Similar 10 CCGs'!$A$6:$C$160,3,FALSE)","v":"Mortality from lung cancer: Under 75 Directly age-standardised rates (DSR) per 100,000 European Standard"},"2009-11","06T",300,null,869220.85354472394,23.780373833449769,21.100326095099042,26.700101512400288,0.30404597903509822,0.29282873097072598,null,22.46879926937239,20.874651637332697,"B","Y55","X24","10203161","Byar"]
[1020316,{"$f":"VLOOKUP(tblData[[#This Row],[Indicator ID]],'Similar 10 CCGs'!$A$6:$C$160,3,FALSE)","v":"Mortality from lung cancer: Under 75 Directly age-standardised rates (DSR) per 100,000 European Standard"},"2009-11","06Y",159,null,592218.48301823018,17.668435802987549,14.985087478373444,20.687412294413953,0.30404597903509822,0.29282873097072598,null,20.146708481284204,18.745730291970425,"","Y55","X24","10203161","Byar"]
[1020316,{"$f":"VLOOKUP(tblData[[#This Row],[Indicator ID]],'Similar 10 CCGs'!$A$6:$C$160,3,FALSE)","v":"Mortality from lung cancer: Under 75 Directly age-standardised rates (DSR) per 100,000 European Standard"},"2009-11","08P",82,null,513072.74016125849,16.077488211335236,12.775494962264498,19.969850345797127,0.30404597903509822,0.20422727867231985,null,19.483469126846764,17.416520853566588,"B","Y56","X24","10203161","Byar"]
[1020316,{"$f":"VLOOKUP(tblData[[#This Row],[Indicator ID]],'Similar 10 CCGs'!$A$6:$C$160,3,FALSE)","v":"Mortality from lung cancer: Under 75 Directly age-standardised rates (DSR) per 100,000 European Standard"},"2009-11","09L",115,null,451797.85135574162,21.207375416469407,17.496174112167541,25.470819919036472,0.30404597903509822,0.27427603085381091,null,20.584202031509044,17.952368647436622,"B","Y57","X24","10203161","Byar"]
[1020316,{"$f":"VLOOKUP(tblData[[#This Row],[Indicator ID]],'Similar 10 CCGs'!$A$6:$C$160,3,FALSE)","v":"Mortality from lung cancer: Under 75 Directly age-standardised rates (DSR) per 100,000 European Standard"},"2009-11","10M",69,null,303938.48133528931,19.275700318758883,14.986697073190813,24.407732710082779,0.30404597903509822,0.27427603085381091,null,19.087087402290535,16.713451638008905,"B","Y57","X24","10203161","Byar"]
[1020316,{"$f":"VLOOKUP(tblData[[#This Row],[Indicator ID]],'Similar 10 CCGs'!$A$6:$C$160,3,FALSE)","v":"Mortality from lung cancer: Under 75 Directly age-standardised rates (DSR) per 100,000 European Standard"},"2009-11","10N",65,null,276013.90239056922,20.39565542789023,15.723137593697114,26.017351420767309,0.30404597903509822,0.27427603085381091,null,23.565956686571845,20.673998980453582,"B","Y57","X24","10203161","Byar"]
[1020316,{"$f":"VLOOKUP(tblData[[#This Row],[Indicator ID]],'Similar 10 CCGs'!$A$6:$C$160,3,FALSE)","v":"Mortality from lung cancer: Under 75 Directly age-standardised rates (DSR) per 100,000 European Standard"},"2009-11","11N",465,null,1439483.9280686837,20.702204683536198,18.82292259878146,22.715200520366416,0.30404597903509822,0.27427603085381091,null,21.876634522469374,19.071144984085183,"B","Y57","X24","10203161","Byar"]
[1020316,{"$f":"VLOOKUP(tblData[[#This Row],[Indicator ID]],'Similar 10 CCGs'!$A$6:$C$160,3,FALSE)","v":"Mortality from lung cancer: Under 75 Directly age-standardised rates (DSR) per 100,000 European Standard"},"2009-11","99K",112,null,427167.73238241981,17.29899143344738,14.211974819858284,20.85196734159436,0.30404597903509822,0.27427603085381091,null,19.371820149786856,18.098611471722474,"B","Y57","X24","10203161","Byar"]
[1020317,{"$f":"VLOOKUP(tblData[[#This Row],[Indicator ID]],'Similar 10 CCGs'!$A$6:$C$160,3,FALSE)","v":"Mortality from breast cancer: Under 75 Directly age-standardised rates (DSR) per 100,000 European Standard"},"2009-11","00Q",46,null,430830.90745425579,10.63910349924153,7.7784361874403487,14.204439689681461,0.10932890536070551,0.11233782225956272,null,9.3586716925290752,8.0732118476560153,"B","Y54","X24","10203171","Byar"]
[1020317,{"$f":"VLOOKUP(tblData[[#This Row],[Indicator ID]],'Similar 10 CCGs'!$A$6:$C$160,3,FALSE)","v":"Mortality from breast cancer: Under 75 Directly age-standardised rates (DSR) per 100,000 European Standard"},"2009-11","01K",41,null,409538.26483408292,8.6867355803529094,6.1871042474280253,11.843447053590985,0.10932890536070551,0.11233782225956272,null,9.4753261976750842,8.4378257170257687,"B","Y54","X24","10203171","Byar"]
[1020317,{"$f":"VLOOKUP(tblData[[#This Row],[Indicator ID]],'Similar 10 CCGs'!$A$6:$C$160,3,FALSE)","v":"Mortality from breast cancer: Under 75 Directly age-standardised rates (DSR) per 100,000 European Standard"},"2009-11","02M",50,null,392333.84250480874,8.4766446104053568,6.2266119470026098,11.255575806366732,0.10932890536070551,0.11233782225956272,null,9.0823709995458763,8.5641036031283821,"B","Y54","X24","10203171","Byar"]
[1020317,{"$f":"VLOOKUP(tblData[[#This Row],[Indicator ID]],'Similar 10 CCGs'!$A$6:$C$160,3,FALSE)","v":"Mortality from breast cancer: Under 75 Directly age-standardised rates (DSR) per 100,000 European Standard"},"2009-11","03V",14,null,168657.97481211083,7.3043625323891463,3.9804381704474423,12.274806319772905,0.10932890536070551,0.11586239289168329,null,9.0936559801959671,8.0984987650803504,"B","Y55","X24","10203171","Byar"]
[1020317,{"$f":"VLOOKUP(tblData[[#This Row],[Indicator ID]],'Similar 10 CCGs'!$A$6:$C$160,3,FALSE)","v":"Mortality from breast cancer: Under 75 Directly age-standardised rates (DSR) per 100,000 European Standard"},"2009-11","04F",73,null,698897.7662164733,10.35076496075987,8.1049498368609498,13.024530718565545,0.10932890536070551,0.11586239289168329,null,9.1614647366267725,8.2648907327399694,"B","Y55","X24","10203171","Byar"]
[1020317,{"$f":"VLOOKUP(tblData[[#This Row],[Indicator ID]],'Similar 10 CCGs'!$A$6:$C$160,3,FALSE)","v":"Mortality from breast cancer: Under 75 Directly age-standardised rates (DSR) per 100,000 European Standard"},"2009-11","05F",63,null,481821.61397600517,8.9448942232885731,6.8283233407597841,11.49892204565446,0.10932890536070551,0.11586239289168329,null,9.8697190378198378,8.9966735604006995,"B","Y55","X24","10203171","Byar"]
[1020317,{"$f":"VLOOKUP(tblData[[#This Row],[Indicator ID]],'Similar 10 CCGs'!$A$6:$C$160,3,FALSE)","v":"Mortality from breast cancer: Under 75 Directly age-standardised rates (DSR) per 100,000 European Standard"},"2009-11","06D",42,null,295879.33257356624,9.9858960986920895,7.1164010447312052,13.599473497668759,0.10932890536070551,0.11586239289168329,null,9.895037465751404,8.9042476013916332,"B","Y55","X24","10203171","Byar"]
[1020317,{"$f":"VLOOKUP(tblData[[#This Row],[Indicator ID]],'Similar 10 CCGs'!$A$6:$C$160,3,FALSE)","v":"Mortality from breast cancer: Under 75 Directly age-standardised rates (DSR) per 100,000 European Standard"},"2009-11","07J",69,null,426872.67554416211,10.844276100516574,8.3376142927944326,13.843637223550811,0.10932890536070551,0.11586239289168329,null,9.7210744247821825,8.7929644354704966,"B","Y55","X24","10203171","Byar"]
[1020317,{"$f":"VLOOKUP(tblData[[#This Row],[Indicator ID]],'Similar 10 CCGs'!$A$6:$C$160,3,FALSE)","v":"Mortality from breast cancer: Under 75 Directly age-standardised rates (DSR) per 100,000 European Standard"},"2009-11","08E",59,null,607395.63537663769,9.3286752209108688,7.0950496442691291,12.04104687344056,0.10932890536070551,8.3541457056549057E-2,null,9.413067991077229,7.7996272236227542,"B","Y56","X24","10203171","Byar"]
[1020317,{"$f":"VLOOKUP(tblData[[#This Row],[Indicator ID]],'Similar 10 CCGs'!$A$6:$C$160,3,FALSE)","v":"Mortality from breast cancer: Under 75 Directly age-standardised rates (DSR) per 100,000 European Standard"},"2009-11","08X",62,null,893103.47474452108,9.646262861914666,7.3409968453779513,12.432225153596315,0.10932890536070551,8.3541457056549057E-2,null,10.29906712050801,8.8624661268076093,"B","Y56","X24","10203171","Byar"]
[1020317,{"$f":"VLOOKUP(tblData[[#This Row],[Indicator ID]],'Similar 10 CCGs'!$A$6:$C$160,3,FALSE)","v":"Mortality from breast cancer: Under 75 Directly age-standardised rates (DSR) per 100,000 European Standard"},"2009-11","10A",71,null,512484.96472455177,10.383718670274957,8.0455734806585273,13.174266478976151,0.10932890536070551,0.11388558705302489,null,9.7344016535526841,8.1800118452245734,"B","Y57","X24","10203171","Byar"]
[1020317,{"$f":"VLOOKUP(tblData[[#This Row],[Indicator ID]],'Similar 10 CCGs'!$A$6:$C$160,3,FALSE)","v":"Mortality from breast cancer: Under 75 Directly age-standardised rates (DSR) per 100,000 European Standard"},"2009-11","10W",23,null,322778.15956837527,8.7841542703993749,5.5460788761790285,13.211060917536567,0.10932890536070551,0.11388558705302489,null,10.334935162998224,9.4554894699946921,"B","Y57","X24","10203171","Byar"]
[1020317,{"$f":"VLOOKUP(tblData[[#This Row],[Indicator ID]],'Similar 10 CCGs'!$A$6:$C$160,3,FALSE)","v":"Mortality from breast cancer: Under 75 Directly age-standardised rates (DSR) per 100,000 European Standard"},"2009-11","12F",115,null,848860.51871139964,10.636754807580797,8.7514932470453335,12.802551641842783,0.10932890536070551,0.11233782225956272,null,9.4907862706231931,8.3450960529093035,"B","Y54","X24","10203171","Byar"]
[1020318,{"$f":"VLOOKUP(tblData[[#This Row],[Indicator ID]],'Similar 10 CCGs'!$A$6:$C$160,3,FALSE)","v":"Percentage receiving first definitive treatment within two months of urgent referral from GP"},"2012/13","00C",183,null,221,82.805429864253384,77.28,87.21,870.72941106199937,881.30871584490319,null,87.718222659862818,89.909246711688795,"A","Y54","X24","10203181","Wilson"]
[1020318,{"$f":"VLOOKUP(tblData[[#This Row],[Indicator ID]],'Similar 10 CCGs'!$A$6:$C$160,3,FALSE)","v":"Percentage receiving first definitive treatment within two months of urgent referral from GP"},"2012/13","00Y",473,null,520,90.961538461538467,88.19,93.13,870.72941106199937,881.30871584490319,null,89.475531011360843,91.524950017762691,"B","Y54","X24","10203181","Wilson"]
[1020318,{"$f":"VLOOKUP(tblData[[#This Row],[Indicator ID]],'Similar 10 CCGs'!$A$6:$C$160,3,FALSE)","v":"Percentage receiving first definitive treatment within two months of urgent referral from GP"},"2012/13","01W",536,null,598,89.632107023411365,86.93,91.83,870.72941106199937,881.30871584490319,null,87.267732522634759,88.895653673421407,"B","Y54","X24","10203181","Wilson"]
[1020318,{"$f":"VLOOKUP(tblData[[#This Row],[Indicator ID]],'Similar 10 CCGs'!$A$6:$C$160,3,FALSE)","v":"Percentage receiving first definitive treatment within two months of urgent referral from GP"},"2012/13","02W",220.71184385621163,null,236.15523817851215,93.460490463215265,89.56,95.97,870.72941106199937,881.30871584490319,null,87.461313287134445,89.83053288311595,"","Y54","X24","10203181","Wilson"]
[1020318,{"$f":"VLOOKUP(tblData[[#This Row],[Indicator ID]],'Similar 10 CCGs'!$A$6:$C$160,3,FALSE)","v":"Percentage receiving first definitive treatment within two months of urgent referral from GP"},"2012/13","03Q",767.22362035193657,null,873.18165132317051,87.865293457475772,85.53,89.87,870.72941106199937,881.30871584490319,null,86.299462445412303,88.711311456151932,"B","Y54","X24","10203181","Wilson"]
[1020318,{"$f":"VLOOKUP(tblData[[#This Row],[Indicator ID]],'Similar 10 CCGs'!$A$6:$C$160,3,FALSE)","v":"Percentage receiving first definitive treatment within two months of urgent referral from GP"},"2012/13","04M",226.25319435448287,null,261.29671308670765,86.588610963278327,81.92,90.19,870.72941106199937,860.69471869177107,null,87.775836285151428,89.56134114825592,"B","Y55","X24","10203181","Wilson"]
[1020318,{"$f":"VLOOKUP(tblData[[#This Row],[Indicator ID]],'Similar 10 CCGs'!$A$6:$C$160,3,FALSE)","v":"Percentage receiving first definitive treatment within two months of urgent referral from GP"},"2012/13","05N",575,null,679,84.683357879234165,81.78,87.2,870.72941106199937,860.69471869177107,null,86.681462443214485,88.010474940457058,"B","Y55","X24","10203181","Wilson"]
[1020318,{"$f":"VLOOKUP(tblData[[#This Row],[Indicator ID]],'Similar 10 CCGs'!$A$6:$C$160,3,FALSE)","v":"Percentage receiving first definitive treatment within two months of urgent referral from GP"},"2012/13","06M",500,null,572,87.412587412587413,84.44,89.88,870.72941106199937,860.69471869177107,null,87.430144815809967,88.949097756914085,"B","Y55","X24","10203181","Wilson"]
[1020318,{"$f":"VLOOKUP(tblData[[#This Row],[Indicator ID]],'Similar 10 CCGs'!$A$6:$C$160,3,FALSE)","v":"Percentage receiving first definitive treatment within two months of urgent referral from GP"},"2012/13","07Q",453,null,544,83.27205882352942,79.900000000000006,86.17,870.72941106199937,857.86448924086972,null,86.871142856030673,89.833159653195992,"A","Y56","X24","10203181","Wilson"]
[1020318,{"$f":"VLOOKUP(tblData[[#This Row],[Indicator ID]],'Similar 10 CCGs'!$A$6:$C$160,3,FALSE)","v":"Percentage receiving first definitive treatment within two months of urgent referral from GP"},"2012/13","08Q",319.00809342906763,null,369.00920429188085,86.449901443850422,82.58,89.57,870.72941106199937,857.86448924086972,null,85.859786399917382,89.50257202270285,"B","Y56","X24","10203181","Wilson"]
[1020318,{"$f":"VLOOKUP(tblData[[#This Row],[Indicator ID]],'Similar 10 CCGs'!$A$6:$C$160,3,FALSE)","v":"Percentage receiving first definitive treatment within two months of urgent referral from GP"},"2012/13","09F",414.6545445565315,null,496.73813894511693,83.475479744136464,79.95,86.48,870.72941106199937,874.73544173671155,null,87.156299890006906,88.558836298644749,"A","Y57","X24","10203181","Wilson"]
[1020318,{"$f":"VLOOKUP(tblData[[#This Row],[Indicator ID]],'Similar 10 CCGs'!$A$6:$C$160,3,FALSE)","v":"Percentage receiving first definitive treatment within two months of urgent referral from GP"},"2012/13","10J",439.58331086887574,null,485.05744647600085,90.625,87.7,92.91,870.72941106199937,874.73544173671155,null,86.793543588568625,89.954048808937557,"","Y57","X24","10203181","Wilson"]
[1020318,{"$f":"VLOOKUP(tblData[[#This Row],[Indicator ID]],'Similar 10 CCGs'!$A$6:$C$160,3,FALSE)","v":"Percentage receiving first definitive treatment within two months of urgent referral from GP"},"2012/13","11E",303,null,333,90.990990990990994,87.43,93.62,870.72941106199937,874.73544173671155,null,86.106268792241082,87.598212940537948,"","Y57","X24","10203181","Wilson"]
[1020318,{"$f":"VLOOKUP(tblData[[#This Row],[Indicator ID]],'Similar 10 CCGs'!$A$6:$C$160,3,FALSE)","v":"Percentage receiving first definitive treatment within two months of urgent referral from GP"},"2012/13","99G",354.02143292097759,null,394.94876620663973,89.637305699481857,86.24,92.27,870.72941106199937,860.69471869177107,null,87.46094936520737,89.198828821331787,"B","Y55","X24","10203181","Wilson"]
[1020319,{"$f":"VLOOKUP(tblData[[#This Row],[Indicator ID]],'Similar 10 CCGs'!$A$6:$C$160,3,FALSE)","v":"Rate of successful quitters at 4-weeks per 100,000 smokers"},"2009/10-2011/12","00L",2525,null,44027,5735.1170872419198,5521.7666917074112,5956.1912381841576,46.611822384895518,49.281238667630703,null,4328.9355005515699,5030.5850077337682,"C","Y54","X24","10203191","Wilson"]
[1020319,{"$f":"VLOOKUP(tblData[[#This Row],[Indicator ID]],'Similar 10 CCGs'!$A$6:$C$160,3,FALSE)","v":"Rate of successful quitters at 4-weeks per 100,000 smokers"},"2009/10-2011/12","01F",1173.4906098743663,null,21092.506160890429,5563.5428095796606,5262.2212884436094,5881.0473045187264,46.611822384895518,49.281238667630703,null,5919.0297992842889,6715.1645271374855,"B","Y54","X24","10203191","Wilson"]
[1020319,{"$f":"VLOOKUP(tblData[[#This Row],[Indicator ID]],'Similar 10 CCGs'!$A$6:$C$160,3,FALSE)","v":"Rate of successful quitters at 4-weeks per 100,000 smokers"},"2009/10-2011/12","02F",1973,null,37775,5223.0311052283259,5003.1825791820247,5451.9857274640644,46.611822384895518,49.281238667630703,null,4398.8655118674096,4965.6652098615978,"","Y54","X24","10203191","Wilson"]
[1020319,{"$f":"VLOOKUP(tblData[[#This Row],[Indicator ID]],'Similar 10 CCGs'!$A$6:$C$160,3,FALSE)","v":"Rate of successful quitters at 4-weeks per 100,000 smokers"},"2009/10-2011/12","03D",698.0060665188762,null,19700.007879402405,3543.1765854707369,3293.9467627365466,3810.5208355966315,46.611822384895518,49.281238667630703,null,4465.0669913746096,5085.161670211508,"A","Y54","X24","10203191","Wilson"]
[1020319,{"$f":"VLOOKUP(tblData[[#This Row],[Indicator ID]],'Similar 10 CCGs'!$A$6:$C$160,3,FALSE)","v":"Rate of successful quitters at 4-weeks per 100,000 smokers"},"2009/10-2011/12","03Y",721.26295930399101,null,16132.532711643371,4470.8600453258787,4162.6483749022054,4800.7492393902257,46.611822384895518,49.911478329450382,null,5445.764100149494,6324.4566931525897,"B","Y55","X24","10203191","Wilson"]
[1020319,{"$f":"VLOOKUP(tblData[[#This Row],[Indicator ID]],'Similar 10 CCGs'!$A$6:$C$160,3,FALSE)","v":"Rate of successful quitters at 4-weeks per 100,000 smokers"},"2009/10-2011/12","04M",838.95852583933322,null,15932.702665504712,5265.6385012175642,4929.492929434683,5623.350255257652,46.611822384895518,49.911478329450382,null,5257.0116994513382,6297.3073571176092,"","Y55","X24","10203191","Wilson"]
[1020319,{"$f":"VLOOKUP(tblData[[#This Row],[Indicator ID]],'Similar 10 CCGs'!$A$6:$C$160,3,FALSE)","v":"Rate of successful quitters at 4-weeks per 100,000 smokers"},"2009/10-2011/12","05W",3248,null,52096,6234.6437346437351,6030.2314598901748,6445.5098798567369,46.611822384895518,49.911478329450382,null,5472.2134948719377,6460.4111112879227,"","Y55","X24","10203191","Wilson"]
[1020319,{"$f":"VLOOKUP(tblData[[#This Row],[Indicator ID]],'Similar 10 CCGs'!$A$6:$C$160,3,FALSE)","v":"Rate of successful quitters at 4-weeks per 100,000 smokers"},"2009/10-2011/12","06Y",1392.6498177860658,null,36847.26626970787,3779.5200533803591,3589.5745814849442,3979.101820157091,46.611822384895518,49.911478329450382,null,4238.4028424811368,4908.3594618360703,"A","Y55","X24","10203191","Wilson"]
[1020319,{"$f":"VLOOKUP(tblData[[#This Row],[Indicator ID]],'Similar 10 CCGs'!$A$6:$C$160,3,FALSE)","v":"Rate of successful quitters at 4-weeks per 100,000 smokers"},"2009/10-2011/12","07Y",1491.7836847705314,null,30908.763425988898,4826.4101161556027,4593.0388582260375,5071.0086702621402,46.611822384895518,43.036564728661759,null,4115.0988551014243,5085.3304275562787,"","Y56","X24","10203191","Wilson"]
[1020319,{"$f":"VLOOKUP(tblData[[#This Row],[Indicator ID]],'Similar 10 CCGs'!$A$6:$C$160,3,FALSE)","v":"Rate of successful quitters at 4-weeks per 100,000 smokers"},"2009/10-2011/12","08R",670.4386397352788,null,28761.817644643459,2331.0023310023307,2162.8865016133118,2511.849903537619,46.611822384895518,43.036564728661759,null,3503.1396445115452,4216.9250339222235,"A","Y56","X24","10203191","Wilson"]
[1020319,{"$f":"VLOOKUP(tblData[[#This Row],[Indicator ID]],'Similar 10 CCGs'!$A$6:$C$160,3,FALSE)","v":"Rate of successful quitters at 4-weeks per 100,000 smokers"},"2009/10-2011/12","08T",579.5613602647212,null,24863.182355356537,2331.0023310023312,2150.6851751567292,2526.0473041321884,46.611822384895518,43.036564728661759,null,4327.6568986577904,5271.8666479017647,"A","Y56","X24","10203191","Wilson"]
[1020319,{"$f":"VLOOKUP(tblData[[#This Row],[Indicator ID]],'Similar 10 CCGs'!$A$6:$C$160,3,FALSE)","v":"Rate of successful quitters at 4-weeks per 100,000 smokers"},"2009/10-2011/12","09P",1419,null,30853,4599.228600136129,4371.0950760909664,4838.6662749313355,46.611822384895518,41.304088772456723,null,4377.7887257962857,5128.1565048023831,"B","Y57","X24","10203191","Wilson"]
[1020319,{"$f":"VLOOKUP(tblData[[#This Row],[Indicator ID]],'Similar 10 CCGs'!$A$6:$C$160,3,FALSE)","v":"Rate of successful quitters at 4-weeks per 100,000 smokers"},"2009/10-2011/12","10R",2727,null,38447,7092.8811090592244,6840.547124073687,7353.7884268552125,46.611822384895518,41.304088772456723,null,4541.9974942717618,5356.4960013850668,"C","Y57","X24","10203191","Wilson"]
[1020319,{"$f":"VLOOKUP(tblData[[#This Row],[Indicator ID]],'Similar 10 CCGs'!$A$6:$C$160,3,FALSE)","v":"Rate of successful quitters at 4-weeks per 100,000 smokers"},"2009/10-2011/12","11X",3587,null,83727,4284.1616205047358,4149.0821098516008,4423.435893984295,46.611822384895518,41.304088772456723,null,4320.9387893395015,4835.8651994138927,"B","Y57","X24","10203191","Wilson"]
[1020319,{"$f":"VLOOKUP(tblData[[#This Row],[Indicator ID]],'Similar 10 CCGs'!$A$6:$C$160,3,FALSE)","v":"Rate of successful quitters at 4-weeks per 100,000 smokers"},"2009/10-2011/12","99N",2972.8799757694478,null,66378.198861897283,4478.6993722963971,4323.9680717627516,4638.6992123621485,46.611822384895518,41.304088772456723,null,4506.7509470912391,5025.2535109151668,"","Y57","X24","10203191","Wilson"]
[1040101,{"$f":"VLOOKUP(tblData[[#This Row],[Indicator ID]],'Similar 10 CCGs'!$A$6:$C$160,3,FALSE)","v":"Programme Budget - Endocrine - Total admissions per 1000 population across secondary care - Cost"},"2011/12","00T",1230171,null,283611,4337.5200000000004,4053.4,4636.3100000000004,4959.4025985287326,5620.268400194569,null,6051.2309999999998,5570.9220000000005,"C","Y54","X24","10401011","Byar"]
[1040101,{"$f":"VLOOKUP(tblData[[#This Row],[Indicator ID]],'Similar 10 CCGs'!$A$6:$C$160,3,FALSE)","v":"Programme Budget - Endocrine - Total admissions per 1000 population across secondary care - Cost"},"2011/12","01R",1010793,null,182435,5540.58,5170,5930.7,4959.4025985287326,5620.268400194569,null,4714.7240000000002,4078.81,"A","Y54","X24","10401011","Byar"]
[1040101,{"$f":"VLOOKUP(tblData[[#This Row],[Indicator ID]],'Similar 10 CCGs'!$A$6:$C$160,3,FALSE)","v":"Programme Budget - Endocrine - Total admissions per 1000 population across secondary care - Cost"},"2011/12","02Q",517262,null,119366,4333.42,3877.09,4828.6899999999996,4959.4025985287326,5620.268400194569,null,5396.0129999999999,4677.6040000000003,"","Y54","X24","10401011","Byar"]
[1040101,{"$f":"VLOOKUP(tblData[[#This Row],[Indicator ID]],'Similar 10 CCGs'!$A$6:$C$160,3,FALSE)","v":"Programme Budget - Endocrine - Total admissions per 1000 population across secondary care - Cost"},"2011/12","03L",1547592,null,262909,5886.42,5545.63,6242.67,4959.4025985287326,5620.268400194569,null,5856.9409999999998,5309.1079999999993,"B","Y54","X24","10401011","Byar"]
[1040101,{"$f":"VLOOKUP(tblData[[#This Row],[Indicator ID]],'Similar 10 CCGs'!$A$6:$C$160,3,FALSE)","v":"Programme Budget - Endocrine - Total admissions per 1000 population across secondary care - Cost"},"2011/12","04H",546853,null,138056,3961.08,3559.7,4395.33,4959.4025985287326,4740.9526458422561,null,5040.5550000000003,4279.6540000000005,"","Y55","X24","10401011","Byar"]
[1040101,{"$f":"VLOOKUP(tblData[[#This Row],[Indicator ID]],'Similar 10 CCGs'!$A$6:$C$160,3,FALSE)","v":"Programme Budget - Endocrine - Total admissions per 1000 population across secondary care - Cost"},"2011/12","05H",997934,null,189789,5258.13,4828.57,5715.65,4959.4025985287326,4740.9526458422561,null,5222.1440000000002,4439.9880000000003,"B","Y55","X24","10401011","Byar"]
[1040101,{"$f":"VLOOKUP(tblData[[#This Row],[Indicator ID]],'Similar 10 CCGs'!$A$6:$C$160,3,FALSE)","v":"Programme Budget - Endocrine - Total admissions per 1000 population across secondary care - Cost"},"2011/12","06H",3947491,null,837079,4715.79,4547.1899999999996,4889.04,4959.4025985287326,4740.9526458422561,null,4568.985999999999,3939.9379999999996,"B","Y55","X24","10401011","Byar"]
[1040101,{"$f":"VLOOKUP(tblData[[#This Row],[Indicator ID]],'Similar 10 CCGs'!$A$6:$C$160,3,FALSE)","v":"Programme Budget - Endocrine - Total admissions per 1000 population across secondary care - Cost"},"2011/12","07L",1136465,null,162179,7007.48,6518.38,7523.56,4959.4025985287326,5435.7451526310633,null,5827.2100000000009,5244.1859999999997,"A","Y56","X24","10401011","Byar"]
[1040101,{"$f":"VLOOKUP(tblData[[#This Row],[Indicator ID]],'Similar 10 CCGs'!$A$6:$C$160,3,FALSE)","v":"Programme Budget - Endocrine - Total admissions per 1000 population across secondary care - Cost"},"2011/12","08G",1333596,null,255546,5218.62,4907.55,5544.23,4959.4025985287326,5435.7451526310633,null,4893.7670000000007,4257.4719999999998,"B","Y56","X24","10401011","Byar"]
[1040101,{"$f":"VLOOKUP(tblData[[#This Row],[Indicator ID]],'Similar 10 CCGs'!$A$6:$C$160,3,FALSE)","v":"Programme Budget - Endocrine - Total admissions per 1000 population across secondary care - Cost"},"2011/12","09A",901985,null,155250,5809.89,5410.27,6231.22,4959.4025985287326,5435.7451526310633,null,5248.0820000000003,4815.1079999999993,"B","Y56","X24","10401011","Byar"]
[1040101,{"$f":"VLOOKUP(tblData[[#This Row],[Indicator ID]],'Similar 10 CCGs'!$A$6:$C$160,3,FALSE)","v":"Programme Budget - Endocrine - Total admissions per 1000 population across secondary care - Cost"},"2011/12","10L",621382,null,173060,3590.56,3199.48,4016.24,4959.4025985287326,4275.4977514918301,null,4724.6170000000002,4337.8220000000001,"C","Y57","X24","10401011","Byar"]
[1040101,{"$f":"VLOOKUP(tblData[[#This Row],[Indicator ID]],'Similar 10 CCGs'!$A$6:$C$160,3,FALSE)","v":"Programme Budget - Endocrine - Total admissions per 1000 population across secondary care - Cost"},"2011/12","11A",2198356,null,609368,3607.6,3430.33,3791.65,4959.4025985287326,4275.4977514918301,null,4031.5080000000003,3504.8720000000003,"","Y57","X24","10401011","Byar"]
[1040101,{"$f":"VLOOKUP(tblData[[#This Row],[Indicator ID]],'Similar 10 CCGs'!$A$6:$C$160,3,FALSE)","v":"Programme Budget - Endocrine - Total admissions per 1000 population across secondary care - Cost"},"2011/12","99C",1308587,null,228142,5735.85,5405.1,6081.56,4959.4025985287326,5620.268400194569,null,5703.7379999999994,5166.326,"A","Y54","X24","10401011","Byar"]
[1040102,{"$f":"VLOOKUP(tblData[[#This Row],[Indicator ID]],'Similar 10 CCGs'!$A$6:$C$160,3,FALSE)","v":"Programme Budget - Endocrine - Total elective (IP + DC) admissions per 1000 population across secondary care - Cost"},"2011/12","00H",271782,null,127039,2139.36,1942.79,2350.4299999999998,1609.2468858753559,1958.5983490828019,null,2024.569,1652.9860000000001,"A","Y54","X24","10401021","Byar"]
[1040102,{"$f":"VLOOKUP(tblData[[#This Row],[Indicator ID]],'Similar 10 CCGs'!$A$6:$C$160,3,FALSE)","v":"Programme Budget - Endocrine - Total elective (IP + DC) admissions per 1000 population across secondary care - Cost"},"2011/12","01C",243566,null,218838,1113,985.55,1252.3499999999999,1609.2468858753559,1958.5983490828019,null,1453.123,1190.0520000000001,"","Y54","X24","10401021","Byar"]
[1040102,{"$f":"VLOOKUP(tblData[[#This Row],[Indicator ID]],'Similar 10 CCGs'!$A$6:$C$160,3,FALSE)","v":"Programme Budget - Endocrine - Total elective (IP + DC) admissions per 1000 population across secondary care - Cost"},"2011/12","01Y",482464,null,241975,1993.86,1840.35,2156.77,1609.2468858753559,1958.5983490828019,null,1800.8190000000002,1397.636,"B","Y54","X24","10401021","Byar"]
[1040102,{"$f":"VLOOKUP(tblData[[#This Row],[Indicator ID]],'Similar 10 CCGs'!$A$6:$C$160,3,FALSE)","v":"Programme Budget - Endocrine - Total elective (IP + DC) admissions per 1000 population across secondary care - Cost"},"2011/12","02Y",545473,null,330511,1650.39,1537.51,1769.37,1609.2468858753559,1958.5983490828019,null,1395.6610000000003,1183.6399999999999,"A","Y54","X24","10401021","Byar"]
[1040102,{"$f":"VLOOKUP(tblData[[#This Row],[Indicator ID]],'Similar 10 CCGs'!$A$6:$C$160,3,FALSE)","v":"Programme Budget - Endocrine - Total elective (IP + DC) admissions per 1000 population across secondary care - Cost"},"2011/12","03T",297599,null,269765,1103.18,988.69,1227.28,1609.2468858753559,1400.1052363955121,null,1431.3749999999998,1107.748,"","Y55","X24","10401021","Byar"]
[1040102,{"$f":"VLOOKUP(tblData[[#This Row],[Indicator ID]],'Similar 10 CCGs'!$A$6:$C$160,3,FALSE)","v":"Programme Budget - Endocrine - Total elective (IP + DC) admissions per 1000 population across secondary care - Cost"},"2011/12","04Q",136870,null,139396,981.88,839.02,1142.0999999999999,1609.2468858753559,1400.1052363955121,null,1437.6899999999998,1180.444,"","Y55","X24","10401021","Byar"]
[1040102,{"$f":"VLOOKUP(tblData[[#This Row],[Indicator ID]],'Similar 10 CCGs'!$A$6:$C$160,3,FALSE)","v":"Programme Budget - Endocrine - Total elective (IP + DC) admissions per 1000 population across secondary care - Cost"},"2011/12","05J",211039,null,177720,1187.48,1027.83,1364.91,1609.2468858753559,1400.1052363955121,null,1612.6669999999999,1315.5719999999999,"","Y55","X24","10401021","Byar"]
[1040102,{"$f":"VLOOKUP(tblData[[#This Row],[Indicator ID]],'Similar 10 CCGs'!$A$6:$C$160,3,FALSE)","v":"Programme Budget - Endocrine - Total elective (IP + DC) admissions per 1000 population across secondary care - Cost"},"2011/12","06Q",260646,null,391645,665.52,573.07000000000005,768.63,1609.2468858753559,1400.1052363955121,null,1284.2720000000002,1048.5639999999999,"C","Y55","X24","10401021","Byar"]
[1040102,{"$f":"VLOOKUP(tblData[[#This Row],[Indicator ID]],'Similar 10 CCGs'!$A$6:$C$160,3,FALSE)","v":"Programme Budget - Endocrine - Total elective (IP + DC) admissions per 1000 population across secondary care - Cost"},"2011/12","07V",550230,null,362875,1516.31,1404.22,1634.96,1609.2468858753559,1721.6016706688163,null,1678.9739999999997,1420.53,"","Y56","X24","10401021","Byar"]
[1040102,{"$f":"VLOOKUP(tblData[[#This Row],[Indicator ID]],'Similar 10 CCGs'!$A$6:$C$160,3,FALSE)","v":"Programme Budget - Endocrine - Total elective (IP + DC) admissions per 1000 population across secondary care - Cost"},"2011/12","08N",453525,null,262237,1729.45,1571.95,1898.45,1609.2468858753559,1721.6016706688163,null,1652.0700000000002,1430.126,"B","Y56","X24","10401021","Byar"]
[1040102,{"$f":"VLOOKUP(tblData[[#This Row],[Indicator ID]],'Similar 10 CCGs'!$A$6:$C$160,3,FALSE)","v":"Programme Budget - Endocrine - Total elective (IP + DC) admissions per 1000 population across secondary care - Cost"},"2011/12","09J",601992,null,252797,2381.33,2177.7399999999998,2598.8200000000002,1609.2468858753559,1411.002546000776,null,1366.7220000000002,1062.624,"A","Y57","X24","10401021","Byar"]
[1040102,{"$f":"VLOOKUP(tblData[[#This Row],[Indicator ID]],'Similar 10 CCGs'!$A$6:$C$160,3,FALSE)","v":"Programme Budget - Endocrine - Total elective (IP + DC) admissions per 1000 population across secondary care - Cost"},"2011/12","10L",110615,null,157747,701.22,553.39,876.4,1609.2468858753559,1411.002546000776,null,1564.4779999999998,1256.0460000000003,"C","Y57","X24","10401021","Byar"]
[1040102,{"$f":"VLOOKUP(tblData[[#This Row],[Indicator ID]],'Similar 10 CCGs'!$A$6:$C$160,3,FALSE)","v":"Programme Budget - Endocrine - Total elective (IP + DC) admissions per 1000 population across secondary care - Cost"},"2011/12","11J",1406061,null,834139,1685.64,1609.08,1764.91,1609.2468858753559,1411.002546000776,null,1319.8409999999999,1066.2400000000002,"A","Y57","X24","10401021","Byar"]
[1040102,{"$f":"VLOOKUP(tblData[[#This Row],[Indicator ID]],'Similar 10 CCGs'!$A$6:$C$160,3,FALSE)","v":"Programme Budget - Endocrine - Total elective (IP + DC) admissions per 1000 population across secondary care - Cost"},"2011/12","99J",592960,null,484043,1225.01,1118.4000000000001,1339.05,1609.2468858753559,1411.002546000776,null,1201.809,948.01199999999994,"B","Y57","X24","10401021","Byar"]
[1040103,{"$f":"VLOOKUP(tblData[[#This Row],[Indicator ID]],'Similar 10 CCGs'!$A$6:$C$160,3,FALSE)","v":"Programme Budget - Endocrine - Non-elective (EM + ONEL) admissions per 1000 population across secondary care - Cost"},"2011/12","00N",681587,null,167822,4061.37,3659.09,4495.79,3350.1498247644372,3662.1672947835427,null,3742.7149999999992,3417.3479999999995,"B","Y54","X24","10401031","Byar"]
[1040103,{"$f":"VLOOKUP(tblData[[#This Row],[Indicator ID]],'Similar 10 CCGs'!$A$6:$C$160,3,FALSE)","v":"Programme Budget - Endocrine - Non-elective (EM + ONEL) admissions per 1000 population across secondary care - Cost"},"2011/12","01H",1991645,null,616670,3229.68,3036.07,3432.39,3350.1498247644372,3662.1672947835427,null,3020.08,2575.2700000000004,"A","Y54","X24","10401031","Byar"]
[1040103,{"$f":"VLOOKUP(tblData[[#This Row],[Indicator ID]],'Similar 10 CCGs'!$A$6:$C$160,3,FALSE)","v":"Programme Budget - Endocrine - Non-elective (EM + ONEL) admissions per 1000 population across secondary care - Cost"},"2011/12","02N",719822,null,174233,4131.38,3718.92,4577.09,3350.1498247644372,3662.1672947835427,null,2888.51,2587.6420000000003,"A","Y54","X24","10401031","Byar"]
[1040103,{"$f":"VLOOKUP(tblData[[#This Row],[Indicator ID]],'Similar 10 CCGs'!$A$6:$C$160,3,FALSE)","v":"Programme Budget - Endocrine - Non-elective (EM + ONEL) admissions per 1000 population across secondary care - Cost"},"2011/12","03G",890864,null,246192,3618.58,3296.77,3963.31,3350.1498247644372,3662.1672947835427,null,3770.9209999999998,3080.1420000000003,"B","Y54","X24","10401031","Byar"]
[1040103,{"$f":"VLOOKUP(tblData[[#This Row],[Indicator ID]],'Similar 10 CCGs'!$A$6:$C$160,3,FALSE)","v":"Programme Budget - Endocrine - Non-elective (EM + ONEL) admissions per 1000 population across secondary care - Cost"},"2011/12","04E",819385,null,189446,4325.17,3920.88,4759.82,3350.1498247644372,3338.867896098418,null,4001.1190000000001,3719.942,"A","Y55","X24","10401031","Byar"]
[1040103,{"$f":"VLOOKUP(tblData[[#This Row],[Indicator ID]],'Similar 10 CCGs'!$A$6:$C$160,3,FALSE)","v":"Programme Budget - Endocrine - Non-elective (EM + ONEL) admissions per 1000 population across secondary care - Cost"},"2011/12","05C",1159866,null,342660,3384.89,3121.36,3664.73,3350.1498247644372,3338.867896098418,null,3606.1610000000001,3226.8479999999995,"B","Y55","X24","10401031","Byar"]
[1040103,{"$f":"VLOOKUP(tblData[[#This Row],[Indicator ID]],'Similar 10 CCGs'!$A$6:$C$160,3,FALSE)","v":"Programme Budget - Endocrine - Non-elective (EM + ONEL) admissions per 1000 population across secondary care - Cost"},"2011/12","05Y",1049727,null,274065,3830.21,3521.65,4158.5600000000004,3350.1498247644372,3338.867896098418,null,4001.5809999999992,3463.6519999999996,"B","Y55","X24","10401031","Byar"]
[1040103,{"$f":"VLOOKUP(tblData[[#This Row],[Indicator ID]],'Similar 10 CCGs'!$A$6:$C$160,3,FALSE)","v":"Programme Budget - Endocrine - Non-elective (EM + ONEL) admissions per 1000 population across secondary care - Cost"},"2011/12","06A",802312,null,262333,3058.38,2778.62,3358.67,3350.1498247644372,3338.867896098418,null,4015.8419999999996,3493.7619999999997,"C","Y55","X24","10401031","Byar"]
[1040103,{"$f":"VLOOKUP(tblData[[#This Row],[Indicator ID]],'Similar 10 CCGs'!$A$6:$C$160,3,FALSE)","v":"Programme Budget - Endocrine - Non-elective (EM + ONEL) admissions per 1000 population across secondary care - Cost"},"2011/12","07H",1032480,null,299236,3450.38,3162.31,3757.65,3350.1498247644372,3338.867896098418,null,2846.7060000000001,2472.1780000000008,"A","Y55","X24","10401031","Byar"]
[1040103,{"$f":"VLOOKUP(tblData[[#This Row],[Indicator ID]],'Similar 10 CCGs'!$A$6:$C$160,3,FALSE)","v":"Programme Budget - Endocrine - Non-elective (EM + ONEL) admissions per 1000 population across secondary care - Cost"},"2011/12","08C",502090,null,140687,3568.85,3161.62,4013.99,3350.1498247644372,3719.4034531752964,null,4062.3840000000005,3604.2160000000003,"","Y56","X24","10401031","Byar"]
[1040103,{"$f":"VLOOKUP(tblData[[#This Row],[Indicator ID]],'Similar 10 CCGs'!$A$6:$C$160,3,FALSE)","v":"Programme Budget - Endocrine - Non-elective (EM + ONEL) admissions per 1000 population across secondary care - Cost"},"2011/12","08W",946077,null,221791,4265.62,3907.15,4648.13,3350.1498247644372,3719.4034531752964,null,4260.8609999999999,3807.88,"B","Y56","X24","10401031","Byar"]
[1040103,{"$f":"VLOOKUP(tblData[[#This Row],[Indicator ID]],'Similar 10 CCGs'!$A$6:$C$160,3,FALSE)","v":"Programme Budget - Endocrine - Non-elective (EM + ONEL) admissions per 1000 population across secondary care - Cost"},"2011/12","09X",532972,null,242109,2201.37,1949.74,2476.4699999999998,3350.1498247644372,2865.5493213644181,null,2710.5619999999999,2423.1279999999997,"C","Y57","X24","10401031","Byar"]
[1040103,{"$f":"VLOOKUP(tblData[[#This Row],[Indicator ID]],'Similar 10 CCGs'!$A$6:$C$160,3,FALSE)","v":"Programme Budget - Endocrine - Non-elective (EM + ONEL) admissions per 1000 population across secondary care - Cost"},"2011/12","11E",586037,null,208085,2816.33,2514.34,3144.61,3350.1498247644372,2865.5493213644181,null,2768.8819999999996,2442.9319999999998,"B","Y57","X24","10401031","Byar"]
[1040103,{"$f":"VLOOKUP(tblData[[#This Row],[Indicator ID]],'Similar 10 CCGs'!$A$6:$C$160,3,FALSE)","v":"Programme Budget - Endocrine - Non-elective (EM + ONEL) admissions per 1000 population across secondary care - Cost"},"2011/12","12F",1217324,null,366290,3323.39,3084.22,3576.18,3350.1498247644372,3662.1672947835427,null,3838.3139999999999,3557.2860000000001,"","Y54","X24","10401031","Byar"]
[1040105,{"$f":"VLOOKUP(tblData[[#This Row],[Indicator ID]],'Similar 10 CCGs'!$A$6:$C$160,3,FALSE)","v":"Programme Budget - Endocrine - Cost prescribed per 1000 ASTRO-PU population - Cost"},"2011/12","00C",2172925,null,110592,19648.07,19556.02,19674.22,23461.676144474091,24467.050594073698,null,23678.955999999998,22505.300000000003,"C","Y54","X24","10401051","Byar"]
[1040105,{"$f":"VLOOKUP(tblData[[#This Row],[Indicator ID]],'Similar 10 CCGs'!$A$6:$C$160,3,FALSE)","v":"Programme Budget - Endocrine - Cost prescribed per 1000 ASTRO-PU population - Cost"},"2011/12","00X",4336890,null,180742,23994.91,23915.32,24074.71,23461.676144474091,24467.050594073698,null,22779.839,21328.608,"A","Y54","X24","10401051","Byar"]
[1040105,{"$f":"VLOOKUP(tblData[[#This Row],[Indicator ID]],'Similar 10 CCGs'!$A$6:$C$160,3,FALSE)","v":"Programme Budget - Endocrine - Cost prescribed per 1000 ASTRO-PU population - Cost"},"2011/12","01V",2880307,null,148548,19389.8,19310.89,19468.96,23461.676144474091,24467.050594073698,null,20970.792999999998,19591.252,"C","Y54","X24","10401051","Byar"]
[1040105,{"$f":"VLOOKUP(tblData[[#This Row],[Indicator ID]],'Similar 10 CCGs'!$A$6:$C$160,3,FALSE)","v":"Programme Budget - Endocrine - Cost prescribed per 1000 ASTRO-PU population - Cost"},"2011/12","02V",4407108,null,195216,22575.54,22501.25,22650.01,23461.676144474091,24467.050594073698,null,24271.82,22552.988000000001,"C","Y54","X24","10401051","Byar"]
[1040105,{"$f":"VLOOKUP(tblData[[#This Row],[Indicator ID]],'Similar 10 CCGs'!$A$6:$C$160,3,FALSE)","v":"Programme Budget - Endocrine - Cost prescribed per 1000 ASTRO-PU population - Cost"},"2011/12","03N",12373577,null,548281,22567.96,22523.62,22612.36,23461.676144474091,24467.050594073698,null,23457.651999999998,21260.064000000002,"","Y54","X24","10401051","Byar"]
[1040105,{"$f":"VLOOKUP(tblData[[#This Row],[Indicator ID]],'Similar 10 CCGs'!$A$6:$C$160,3,FALSE)","v":"Programme Budget - Endocrine - Cost prescribed per 1000 ASTRO-PU population - Cost"},"2011/12","04K",6159855,null,277366,22208.44,22146.61,22270.39,23461.676144474091,23699.80572859992,null,24994.792999999998,21515.610000000004,"","Y55","X24","10401051","Byar"]
[1040105,{"$f":"VLOOKUP(tblData[[#This Row],[Indicator ID]],'Similar 10 CCGs'!$A$6:$C$160,3,FALSE)","v":"Programme Budget - Endocrine - Cost prescribed per 1000 ASTRO-PU population - Cost"},"2011/12","05L",16627394,null,456945,36388.19,36326.519999999997,36449.94,23461.676144474091,23699.80572859992,null,31261.274000000005,29201.218000000001,"A","Y55","X24","10401051","Byar"]
[1040105,{"$f":"VLOOKUP(tblData[[#This Row],[Indicator ID]],'Similar 10 CCGs'!$A$6:$C$160,3,FALSE)","v":"Programme Budget - Endocrine - Cost prescribed per 1000 ASTRO-PU population - Cost"},"2011/12","06F",9495735,null,432325,21964.37,21915.11,22013.7,23461.676144474091,23699.80572859992,null,22182.196,20829.503999999997,"A","Y55","X24","10401051","Byar"]
[1040105,{"$f":"VLOOKUP(tblData[[#This Row],[Indicator ID]],'Similar 10 CCGs'!$A$6:$C$160,3,FALSE)","v":"Programme Budget - Endocrine - Cost prescribed per 1000 ASTRO-PU population - Cost"},"2011/12","07P",7932696,null,284170,27915.3,27846.81,27983.91,23461.676144474091,26328.093925371664,null,27811.491000000002,24909.538,"A","Y56","X24","10401051","Byar"]
[1040105,{"$f":"VLOOKUP(tblData[[#This Row],[Indicator ID]],'Similar 10 CCGs'!$A$6:$C$160,3,FALSE)","v":"Programme Budget - Endocrine - Cost prescribed per 1000 ASTRO-PU population - Cost"},"2011/12","08K",6295295,null,277813,22660.15,22597.75,22722.68,23461.676144474091,26328.093925371664,null,28621.773999999998,25753.824000000001,"C","Y56","X24","10401051","Byar"]
[1040105,{"$f":"VLOOKUP(tblData[[#This Row],[Indicator ID]],'Similar 10 CCGs'!$A$6:$C$160,3,FALSE)","v":"Programme Budget - Endocrine - Cost prescribed per 1000 ASTRO-PU population - Cost"},"2011/12","09E",5003588,null,223205,22417.03,22347.8,22486.43,23461.676144474091,20734.478988263232,null,21745.576999999997,19737.957999999999,"","Y57","X24","10401051","Byar"]
[1040105,{"$f":"VLOOKUP(tblData[[#This Row],[Indicator ID]],'Similar 10 CCGs'!$A$6:$C$160,3,FALSE)","v":"Programme Budget - Endocrine - Cost prescribed per 1000 ASTRO-PU population - Cost"},"2011/12","10H",6733214,null,335750,20054.23,20000.830000000002,20107.740000000002,23461.676144474091,20734.478988263232,null,21847.863999999998,20784.947999999997,"","Y57","X24","10401051","Byar"]
[1040105,{"$f":"VLOOKUP(tblData[[#This Row],[Indicator ID]],'Similar 10 CCGs'!$A$6:$C$160,3,FALSE)","v":"Programme Budget - Endocrine - Cost prescribed per 1000 ASTRO-PU population - Cost"},"2011/12","11D",3120963,null,154438,20208.560000000001,20129.54,20287.8,23461.676144474091,20734.478988263232,null,21206.011999999999,20086.269999999997,"","Y57","X24","10401051","Byar"]
[1040105,{"$f":"VLOOKUP(tblData[[#This Row],[Indicator ID]],'Similar 10 CCGs'!$A$6:$C$160,3,FALSE)","v":"Programme Budget - Endocrine - Cost prescribed per 1000 ASTRO-PU population - Cost"},"2011/12","99E",6808946,null,269068,25305.63,25238.62,25372.77,23461.676144474091,23699.80572859992,null,22353.886000000002,20917.567999999999,"A","Y55","X24","10401051","Byar"]
[1040111,{"$f":"VLOOKUP(tblData[[#This Row],[Indicator ID]],'Similar 10 CCGs'!$A$6:$C$160,3,FALSE)","v":"Diabetes blood testing reagents total net ingredient cost (£) per diabetes registration"},"2011/12","00K",3820361.9834579276,null,12705,300.69751935914422,293.34800012289452,308.184621871253,308008.91630724992,306527.48956701712,null,313.09482319208757,293.0593691329135,"B","Y54","X24","10401111","Byar"]
[1040111,{"$f":"VLOOKUP(tblData[[#This Row],[Indicator ID]],'Similar 10 CCGs'!$A$6:$C$160,3,FALSE)","v":"Diabetes blood testing reagents total net ingredient cost (£) per diabetes registration"},"2011/12","01E",2804956.5703653251,null,9655,290.51854690474624,282.38045718443681,298.83166186398023,308008.91630724992,306527.48956701712,null,317.1516059594336,303.23462119791697,"C","Y54","X24","10401111","Byar"]
[1040111,{"$f":"VLOOKUP(tblData[[#This Row],[Indicator ID]],'Similar 10 CCGs'!$A$6:$C$160,3,FALSE)","v":"Diabetes blood testing reagents total net ingredient cost (£) per diabetes registration"},"2011/12","02D",1505230.839981402,null,4916,306.19016273014688,294.2039941358488,318.53932303612527,308008.91630724992,306527.48956701712,null,309.70125957813951,291.80019735630549,"B","Y54","X24","10401111","Byar"]
[1040111,{"$f":"VLOOKUP(tblData[[#This Row],[Indicator ID]],'Similar 10 CCGs'!$A$6:$C$160,3,FALSE)","v":"Diabetes blood testing reagents total net ingredient cost (£) per diabetes registration"},"2011/12","03F",4096863.7088110019,null,13698,299.08480864440077,292.0430617693147,306.25346094168663,308008.91630724992,306527.48956701712,null,313.98184324572537,299.32365117943601,"","Y54","X24","10401111","Byar"]
[1040111,{"$f":"VLOOKUP(tblData[[#This Row],[Indicator ID]],'Similar 10 CCGs'!$A$6:$C$160,3,FALSE)","v":"Diabetes blood testing reagents total net ingredient cost (£) per diabetes registration"},"2011/12","03X",1258957.4261120588,null,4825,260.92381888332824,250.61474237593225,271.54807721238649,308008.91630724992,312491.58046173456,null,305.78967211040697,280.05074771283194,"C","Y55","X24","10401111","Byar"]
[1040111,{"$f":"VLOOKUP(tblData[[#This Row],[Indicator ID]],'Similar 10 CCGs'!$A$6:$C$160,3,FALSE)","v":"Diabetes blood testing reagents total net ingredient cost (£) per diabetes registration"},"2011/12","04X",4398743.4064426972,null,13206,333.08673379090544,325.10055456867127,341.21952231185332,308008.91630724992,312491.58046173456,null,322.41195440986911,299.04910126829998,"A","Y55","X24","10401111","Byar"]
[1040111,{"$f":"VLOOKUP(tblData[[#This Row],[Indicator ID]],'Similar 10 CCGs'!$A$6:$C$160,3,FALSE)","v":"Diabetes blood testing reagents total net ingredient cost (£) per diabetes registration"},"2011/12","05V",2178434.768325598,null,6491,335.60849920283437,324.16049199828734,347.35757086708162,308008.91630724992,312491.58046173456,null,305.71655918129608,286.32178070761722,"A","Y55","X24","10401111","Byar"]
[1040111,{"$f":"VLOOKUP(tblData[[#This Row],[Indicator ID]],'Similar 10 CCGs'!$A$6:$C$160,3,FALSE)","v":"Diabetes blood testing reagents total net ingredient cost (£) per diabetes registration"},"2011/12","06V",2896383.0991614377,null,8730,331.77355087759884,322.00339461040261,341.76482034391927,308008.91630724992,312491.58046173456,null,315.09403582368924,299.19306669786602,"A","Y55","X24","10401111","Byar"]
[1040111,{"$f":"VLOOKUP(tblData[[#This Row],[Indicator ID]],'Similar 10 CCGs'!$A$6:$C$160,3,FALSE)","v":"Diabetes blood testing reagents total net ingredient cost (£) per diabetes registration"},"2011/12","07X",4346234.7508223914,null,15065,288.49882182690948,282.02004472517672,295.08888379597096,308008.91630724992,290600.55896578263,null,306.18377505450462,284.65311775667209,"","Y56","X24","10401111","Byar"]
[1040111,{"$f":"VLOOKUP(tblData[[#This Row],[Indicator ID]],'Similar 10 CCGs'!$A$6:$C$160,3,FALSE)","v":"Diabetes blood testing reagents total net ingredient cost (£) per diabetes registration"},"2011/12","08Q",3228776.5111617721,null,11975,269.62643099472001,262.83969074701685,276.5440750472801,308008.91630724992,290600.55896578263,null,286.30040634576267,259.00597422962971,"","Y56","X24","10401111","Byar"]
[1040111,{"$f":"VLOOKUP(tblData[[#This Row],[Indicator ID]],'Similar 10 CCGs'!$A$6:$C$160,3,FALSE)","v":"Diabetes blood testing reagents total net ingredient cost (£) per diabetes registration"},"2011/12","09N",2384156.7836953942,null,7304,326.41796052784696,315.91624071531169,337.17981935161799,308008.91630724992,315226.79947113362,null,321.72191847709411,307.81498673943406,"B","Y57","X24","10401111","Byar"]
[1040111,{"$f":"VLOOKUP(tblData[[#This Row],[Indicator ID]],'Similar 10 CCGs'!$A$6:$C$160,3,FALSE)","v":"Diabetes blood testing reagents total net ingredient cost (£) per diabetes registration"},"2011/12","10N",1220426.7968029331,null,3682,331.45757653528875,316.48793980314599,346.95240144470586,308008.91630724992,315226.79947113362,null,316.88170870251486,306.25823371934013,"B","Y57","X24","10401111","Byar"]
[1040111,{"$f":"VLOOKUP(tblData[[#This Row],[Indicator ID]],'Similar 10 CCGs'!$A$6:$C$160,3,FALSE)","v":"Diabetes blood testing reagents total net ingredient cost (£) per diabetes registration"},"2011/12","11N",8129459.9921214813,null,25585,317.74320860353652,312.26063596214192,323.29788551220156,308008.91630724992,315226.79947113362,null,303.51540889491991,284.50990836804357,"A","Y57","X24","10401111","Byar"]
[1040111,{"$f":"VLOOKUP(tblData[[#This Row],[Indicator ID]],'Similar 10 CCGs'!$A$6:$C$160,3,FALSE)","v":"Diabetes blood testing reagents total net ingredient cost (£) per diabetes registration"},"2011/12","99D",2638229.9308222611,null,8163,323.19367032001242,313.35367289241418,333.26406394121472,308008.91630724992,312491.58046173456,null,317.13987488024082,303.28474481096924,"B","Y55","X24","10401111","Byar"]
[1040201,{"$f":"VLOOKUP(tblData[[#This Row],[Indicator ID]],'Similar 10 CCGs'!$A$6:$C$160,3,FALSE)","v":"Programme Budget - Endocrine - Total admissions per 1000 population across secondary care - Activity"},"2011/12","00R",903,null,183653,4.92,4.5999999999999996,5.25,3.8890787012346246,4.8994316435489029,null,4.7279999999999998,3.8740000000000001,"B","Y54","X24","10402011","Byar"]
[1040201,{"$f":"VLOOKUP(tblData[[#This Row],[Indicator ID]],'Similar 10 CCGs'!$A$6:$C$160,3,FALSE)","v":"Programme Budget - Endocrine - Total admissions per 1000 population across secondary care - Activity"},"2011/12","01M",1088,null,165135,6.59,6.2,6.99,3.8890787012346246,4.8994316435489029,null,5.0430000000000001,3.7700000000000005,"A","Y54","X24","10402011","Byar"]
[1040201,{"$f":"VLOOKUP(tblData[[#This Row],[Indicator ID]],'Similar 10 CCGs'!$A$6:$C$160,3,FALSE)","v":"Programme Budget - Endocrine - Total admissions per 1000 population across secondary care - Activity"},"2011/12","02P",1471,null,256961,5.72,5.44,6.02,3.8890787012346246,4.8994316435489029,null,4.4859999999999998,3.3040000000000007,"A","Y54","X24","10402011","Byar"]
[1040201,{"$f":"VLOOKUP(tblData[[#This Row],[Indicator ID]],'Similar 10 CCGs'!$A$6:$C$160,3,FALSE)","v":"Programme Budget - Endocrine - Total admissions per 1000 population across secondary care - Activity"},"2011/12","03J",728,null,176550,4.12,3.83,4.43,3.8890787012346246,4.8994316435489029,null,4.7920000000000007,3.6859999999999999,"","Y54","X24","10402011","Byar"]
[1040201,{"$f":"VLOOKUP(tblData[[#This Row],[Indicator ID]],'Similar 10 CCGs'!$A$6:$C$160,3,FALSE)","v":"Programme Budget - Endocrine - Total admissions per 1000 population across secondary care - Activity"},"2011/12","03K",657,null,180101,3.65,3.37,3.94,3.8890787012346246,4.8994316435489029,null,4.0280000000000005,3.0419999999999994,"","Y54","X24","10402011","Byar"]
[1040201,{"$f":"VLOOKUP(tblData[[#This Row],[Indicator ID]],'Similar 10 CCGs'!$A$6:$C$160,3,FALSE)","v":"Programme Budget - Endocrine - Total admissions per 1000 population across secondary care - Activity"},"2011/12","04G",2993,null,624520,4.79,4.62,4.97,3.8890787012346246,3.5502886301558831,null,2.992,2.38,"A","Y55","X24","10402011","Byar"]
[1040201,{"$f":"VLOOKUP(tblData[[#This Row],[Indicator ID]],'Similar 10 CCGs'!$A$6:$C$160,3,FALSE)","v":"Programme Budget - Endocrine - Total admissions per 1000 population across secondary care - Activity"},"2011/12","05F",731,null,204199,3.58,3.32,3.85,3.8890787012346246,3.5502886301558831,null,3.5140000000000002,2.7439999999999998,"B","Y55","X24","10402011","Byar"]
[1040201,{"$f":"VLOOKUP(tblData[[#This Row],[Indicator ID]],'Similar 10 CCGs'!$A$6:$C$160,3,FALSE)","v":"Programme Budget - Endocrine - Total admissions per 1000 population across secondary care - Activity"},"2011/12","06F",1134,null,436809,2.6,2.4500000000000002,2.75,3.8890787012346246,3.5502886301558831,null,3.1759999999999997,2.3980000000000001,"","Y55","X24","10402011","Byar"]
[1040201,{"$f":"VLOOKUP(tblData[[#This Row],[Indicator ID]],'Similar 10 CCGs'!$A$6:$C$160,3,FALSE)","v":"Programme Budget - Endocrine - Total admissions per 1000 population across secondary care - Activity"},"2011/12","07K",1069,null,256200,4.17,3.93,4.43,3.8890787012346246,3.5502886301558831,null,3.3050000000000006,2.71,"A","Y55","X24","10402011","Byar"]
[1040201,{"$f":"VLOOKUP(tblData[[#This Row],[Indicator ID]],'Similar 10 CCGs'!$A$6:$C$160,3,FALSE)","v":"Programme Budget - Endocrine - Total admissions per 1000 population across secondary care - Activity"},"2011/12","08D",817,null,235146,3.47,3.24,3.72,3.8890787012346246,3.956053296630007,null,3.9319999999999999,3.4740000000000002,"C","Y56","X24","10402011","Byar"]
[1040201,{"$f":"VLOOKUP(tblData[[#This Row],[Indicator ID]],'Similar 10 CCGs'!$A$6:$C$160,3,FALSE)","v":"Programme Budget - Endocrine - Total admissions per 1000 population across secondary care - Activity"},"2011/12","09A",784,null,165135,4.75,4.42,5.09,3.8890787012346246,3.956053296630007,null,3.9979999999999998,3.3679999999999999,"A","Y56","X24","10402011","Byar"]
[1040201,{"$f":"VLOOKUP(tblData[[#This Row],[Indicator ID]],'Similar 10 CCGs'!$A$6:$C$160,3,FALSE)","v":"Programme Budget - Endocrine - Total admissions per 1000 population across secondary care - Activity"},"2011/12","10C",204,null,92841,2.2000000000000002,1.91,2.52,3.8890787012346246,3.160178319298196,null,2.843,2.1740000000000004,"C","Y57","X24","10402011","Byar"]
[1040201,{"$f":"VLOOKUP(tblData[[#This Row],[Indicator ID]],'Similar 10 CCGs'!$A$6:$C$160,3,FALSE)","v":"Programme Budget - Endocrine - Total admissions per 1000 population across secondary care - Activity"},"2011/12","10Y",670,null,199887,3.35,3.1,3.62,3.8890787012346246,3.160178319298196,null,2.8409999999999997,2.1520000000000001,"A","Y57","X24","10402011","Byar"]
[1040201,{"$f":"VLOOKUP(tblData[[#This Row],[Indicator ID]],'Similar 10 CCGs'!$A$6:$C$160,3,FALSE)","v":"Programme Budget - Endocrine - Total admissions per 1000 population across secondary care - Activity"},"2011/12","99A",1926,null,471561,4.08,3.9,4.2699999999999996,3.8890787012346246,4.8994316435489029,null,4.7960000000000003,3.8239999999999994,"","Y54","X24","10402011","Byar"]
[1040202,{"$f":"VLOOKUP(tblData[[#This Row],[Indicator ID]],'Similar 10 CCGs'!$A$6:$C$160,3,FALSE)","v":"Programme Budget - Endocrine - Total elective (IP + DC) admissions per 1000 population across secondary care - Activity"},"2011/12","00F",576,null,215640,2.67,2.46,2.9,2.0922259651524691,2.8476434416894723,null,2.5570000000000004,1.6160000000000001,"","Y54","X24","10402021","Byar"]
[1040202,{"$f":"VLOOKUP(tblData[[#This Row],[Indicator ID]],'Similar 10 CCGs'!$A$6:$C$160,3,FALSE)","v":"Programme Budget - Endocrine - Total elective (IP + DC) admissions per 1000 population across secondary care - Activity"},"2011/12","01A",988,null,378789,2.61,2.4500000000000002,2.78,2.0922259651524691,2.8476434416894723,null,2.9749999999999996,2.222,"A","Y54","X24","10402021","Byar"]
[1040202,{"$f":"VLOOKUP(tblData[[#This Row],[Indicator ID]],'Similar 10 CCGs'!$A$6:$C$160,3,FALSE)","v":"Programme Budget - Endocrine - Total elective (IP + DC) admissions per 1000 population across secondary care - Activity"},"2011/12","01X",249,null,202872,1.23,1.08,1.39,2.0922259651524691,2.8476434416894723,null,2.6210000000000004,1.8399999999999999,"C","Y54","X24","10402021","Byar"]
[1040202,{"$f":"VLOOKUP(tblData[[#This Row],[Indicator ID]],'Similar 10 CCGs'!$A$6:$C$160,3,FALSE)","v":"Programme Budget - Endocrine - Total elective (IP + DC) admissions per 1000 population across secondary care - Activity"},"2011/12","02X",741,null,316366,2.34,2.1800000000000002,2.52,2.0922259651524691,2.8476434416894723,null,2.8309999999999995,1.8399999999999999,"","Y54","X24","10402021","Byar"]
[1040202,{"$f":"VLOOKUP(tblData[[#This Row],[Indicator ID]],'Similar 10 CCGs'!$A$6:$C$160,3,FALSE)","v":"Programme Budget - Endocrine - Total elective (IP + DC) admissions per 1000 population across secondary care - Activity"},"2011/12","03X",263,null,102145,2.57,2.27,2.91,2.0922259651524691,1.8035787930286717,null,2.0100000000000002,1.3519999999999999,"A","Y55","X24","10402021","Byar"]
[1040202,{"$f":"VLOOKUP(tblData[[#This Row],[Indicator ID]],'Similar 10 CCGs'!$A$6:$C$160,3,FALSE)","v":"Programme Budget - Endocrine - Total elective (IP + DC) admissions per 1000 population across secondary care - Activity"},"2011/12","04N",308,null,130519,2.36,2.1,2.64,2.0922259651524691,1.8035787930286717,null,1.379,1.056,"A","Y55","X24","10402021","Byar"]
[1040202,{"$f":"VLOOKUP(tblData[[#This Row],[Indicator ID]],'Similar 10 CCGs'!$A$6:$C$160,3,FALSE)","v":"Programme Budget - Endocrine - Total elective (IP + DC) admissions per 1000 population across secondary care - Activity"},"2011/12","05Q",425,null,226044,1.88,1.71,2.0699999999999998,2.0922259651524691,1.8035787930286717,null,2.532,1.6059999999999999,"A","Y55","X24","10402021","Byar"]
[1040202,{"$f":"VLOOKUP(tblData[[#This Row],[Indicator ID]],'Similar 10 CCGs'!$A$6:$C$160,3,FALSE)","v":"Programme Budget - Endocrine - Total elective (IP + DC) admissions per 1000 population across secondary care - Activity"},"2011/12","06P",339,null,189631,1.79,1.6,1.99,2.0922259651524691,1.8035787930286717,null,2.2159999999999997,1.6679999999999999,"","Y55","X24","10402021","Byar"]
[1040202,{"$f":"VLOOKUP(tblData[[#This Row],[Indicator ID]],'Similar 10 CCGs'!$A$6:$C$160,3,FALSE)","v":"Programme Budget - Endocrine - Total elective (IP + DC) admissions per 1000 population across secondary care - Activity"},"2011/12","07R",415,null,205236,2.02,1.83,2.23,2.0922259651524691,2.070615610822145,null,2.5759999999999996,1.6440000000000001,"","Y56","X24","10402021","Byar"]
[1040202,{"$f":"VLOOKUP(tblData[[#This Row],[Indicator ID]],'Similar 10 CCGs'!$A$6:$C$160,3,FALSE)","v":"Programme Budget - Endocrine - Total elective (IP + DC) admissions per 1000 population across secondary care - Activity"},"2011/12","08M",287,null,281845,1.02,0.9,1.1399999999999999,2.0922259651524691,2.070615610822145,null,1.9259999999999997,1.3539999999999999,"C","Y56","X24","10402021","Byar"]
[1040202,{"$f":"VLOOKUP(tblData[[#This Row],[Indicator ID]],'Similar 10 CCGs'!$A$6:$C$160,3,FALSE)","v":"Programme Budget - Endocrine - Total elective (IP + DC) admissions per 1000 population across secondary care - Activity"},"2011/12","09G",702,null,539573,1.3,1.21,1.4,2.0922259651524691,1.6216230136151548,null,1.8089999999999999,1.3199999999999998,"","Y57","X24","10402021","Byar"]
[1040202,{"$f":"VLOOKUP(tblData[[#This Row],[Indicator ID]],'Similar 10 CCGs'!$A$6:$C$160,3,FALSE)","v":"Programme Budget - Endocrine - Total elective (IP + DC) admissions per 1000 population across secondary care - Activity"},"2011/12","10K",402,null,213275,1.88,1.71,2.08,2.0922259651524691,1.6216230136151548,null,1.9690000000000001,1.3160000000000001,"A","Y57","X24","10402021","Byar"]
[1040202,{"$f":"VLOOKUP(tblData[[#This Row],[Indicator ID]],'Similar 10 CCGs'!$A$6:$C$160,3,FALSE)","v":"Programme Budget - Endocrine - Total elective (IP + DC) admissions per 1000 population across secondary care - Activity"},"2011/12","11H",1800,null,431753,4.17,3.98,4.37,2.0922259651524691,1.6216230136151548,null,2.3140000000000001,1.52,"A","Y57","X24","10402021","Byar"]
[1040202,{"$f":"VLOOKUP(tblData[[#This Row],[Indicator ID]],'Similar 10 CCGs'!$A$6:$C$160,3,FALSE)","v":"Programme Budget - Endocrine - Total elective (IP + DC) admissions per 1000 population across secondary care - Activity"},"2011/12","99G",337,null,190104,1.77,1.59,1.97,2.0922259651524691,1.8035787930286717,null,2.9050000000000002,2.0059999999999998,"","Y55","X24","10402021","Byar"]
[1040203,{"$f":"VLOOKUP(tblData[[#This Row],[Indicator ID]],'Similar 10 CCGs'!$A$6:$C$160,3,FALSE)","v":"Programme Budget - Endocrine - Non-elective (EM + ONEL) admissions per 1000 population across secondary care - Activity"},"2011/12","00F",537,null,211756,2.54,2.33,2.76,1.8217009884068152,2.0816152496891491,null,2.1869999999999998,2.0339999999999998,"A","Y54","X24","10402031","Byar"]
[1040203,{"$f":"VLOOKUP(tblData[[#This Row],[Indicator ID]],'Similar 10 CCGs'!$A$6:$C$160,3,FALSE)","v":"Programme Budget - Endocrine - Non-elective (EM + ONEL) admissions per 1000 population across secondary care - Activity"},"2011/12","01H",1037,null,581646,1.78,1.68,1.89,1.8217009884068152,2.0816152496891491,null,1.625,1.464,"A","Y54","X24","10402031","Byar"]
[1040203,{"$f":"VLOOKUP(tblData[[#This Row],[Indicator ID]],'Similar 10 CCGs'!$A$6:$C$160,3,FALSE)","v":"Programme Budget - Endocrine - Non-elective (EM + ONEL) admissions per 1000 population across secondary care - Activity"},"2011/12","02H",789,null,311342,2.5299999999999998,2.36,2.72,1.8217009884068152,2.0816152496891491,null,2.274,2.1040000000000001,"A","Y54","X24","10402031","Byar"]
[1040203,{"$f":"VLOOKUP(tblData[[#This Row],[Indicator ID]],'Similar 10 CCGs'!$A$6:$C$160,3,FALSE)","v":"Programme Budget - Endocrine - Non-elective (EM + ONEL) admissions per 1000 population across secondary care - Activity"},"2011/12","03F",613,null,280153,2.19,2.02,2.37,1.8217009884068152,2.0816152496891491,null,2.3940000000000006,2.1700000000000004,"B","Y54","X24","10402031","Byar"]
[1040203,{"$f":"VLOOKUP(tblData[[#This Row],[Indicator ID]],'Similar 10 CCGs'!$A$6:$C$160,3,FALSE)","v":"Programme Budget - Endocrine - Non-elective (EM + ONEL) admissions per 1000 population across secondary care - Activity"},"2011/12","04C",716,null,321738,2.23,2.0699999999999998,2.39,1.8217009884068152,1.7694311380446106,null,2.2229999999999999,2.0219999999999998,"B","Y55","X24","10402031","Byar"]
[1040203,{"$f":"VLOOKUP(tblData[[#This Row],[Indicator ID]],'Similar 10 CCGs'!$A$6:$C$160,3,FALSE)","v":"Programme Budget - Endocrine - Non-elective (EM + ONEL) admissions per 1000 population across secondary care - Activity"},"2011/12","05A",903,null,443211,2.04,1.91,2.17,1.8217009884068152,1.7694311380446106,null,1.9319999999999999,1.7119999999999997,"B","Y55","X24","10402031","Byar"]
[1040203,{"$f":"VLOOKUP(tblData[[#This Row],[Indicator ID]],'Similar 10 CCGs'!$A$6:$C$160,3,FALSE)","v":"Programme Budget - Endocrine - Non-elective (EM + ONEL) admissions per 1000 population across secondary care - Activity"},"2011/12","05X",357,null,160869,2.2200000000000002,1.99,2.46,1.8217009884068152,1.7694311380446106,null,2.0629999999999997,1.794,"B","Y55","X24","10402031","Byar"]
[1040203,{"$f":"VLOOKUP(tblData[[#This Row],[Indicator ID]],'Similar 10 CCGs'!$A$6:$C$160,3,FALSE)","v":"Programme Budget - Endocrine - Non-elective (EM + ONEL) admissions per 1000 population across secondary care - Activity"},"2011/12","06Y",345,null,245681,1.4,1.26,1.56,1.8217009884068152,1.7694311380446106,null,1.4970000000000003,1.4080000000000001,"","Y55","X24","10402031","Byar"]
[1040203,{"$f":"VLOOKUP(tblData[[#This Row],[Indicator ID]],'Similar 10 CCGs'!$A$6:$C$160,3,FALSE)","v":"Programme Budget - Endocrine - Non-elective (EM + ONEL) admissions per 1000 population across secondary care - Activity"},"2011/12","08A",448,null,230360,1.94,1.77,2.13,1.8217009884068152,1.9195210842591321,null,2.1800000000000006,1.9080000000000001,"","Y56","X24","10402031","Byar"]
[1040203,{"$f":"VLOOKUP(tblData[[#This Row],[Indicator ID]],'Similar 10 CCGs'!$A$6:$C$160,3,FALSE)","v":"Programme Budget - Endocrine - Non-elective (EM + ONEL) admissions per 1000 population across secondary care - Activity"},"2011/12","08T",282,null,175643,1.61,1.42,1.8,1.8217009884068152,1.9195210842591321,null,1.6919999999999997,1.5780000000000001,"B","Y56","X24","10402031","Byar"]
[1040203,{"$f":"VLOOKUP(tblData[[#This Row],[Indicator ID]],'Similar 10 CCGs'!$A$6:$C$160,3,FALSE)","v":"Programme Budget - Endocrine - Non-elective (EM + ONEL) admissions per 1000 population across secondary care - Activity"},"2011/12","09W",456,null,267568,1.7,1.55,1.87,1.8217009884068152,1.5559017172742762,null,1.8610000000000002,1.702,"B","Y57","X24","10402031","Byar"]
[1040203,{"$f":"VLOOKUP(tblData[[#This Row],[Indicator ID]],'Similar 10 CCGs'!$A$6:$C$160,3,FALSE)","v":"Programme Budget - Endocrine - Non-elective (EM + ONEL) admissions per 1000 population across secondary care - Activity"},"2011/12","10T",298,null,117095,2.54,2.2599999999999998,2.85,1.8217009884068152,1.5559017172742762,null,2.0640000000000001,1.8960000000000001,"A","Y57","X24","10402031","Byar"]
[1040203,{"$f":"VLOOKUP(tblData[[#This Row],[Indicator ID]],'Similar 10 CCGs'!$A$6:$C$160,3,FALSE)","v":"Programme Budget - Endocrine - Non-elective (EM + ONEL) admissions per 1000 population across secondary care - Activity"},"2011/12","12A",382,null,256625,1.49,1.34,1.65,1.8217009884068152,1.5559017172742762,null,1.5109999999999999,1.3379999999999999,"B","Y57","X24","10402031","Byar"]
[1040203,{"$f":"VLOOKUP(tblData[[#This Row],[Indicator ID]],'Similar 10 CCGs'!$A$6:$C$160,3,FALSE)","v":"Programme Budget - Endocrine - Non-elective (EM + ONEL) admissions per 1000 population across secondary care - Activity"},"2011/12","99Q",605,null,335418,1.8,1.66,1.95,1.8217009884068152,1.5559017172742762,null,1.5799999999999998,1.4279999999999999,"A","Y57","X24","10402031","Byar"]
[1040215,{"$f":"VLOOKUP(tblData[[#This Row],[Indicator ID]],'Similar 10 CCGs'!$A$6:$C$160,3,FALSE)","v":"Observed vs expected number of emergency bed days for patients with diabetes"},"2011/12","00V",521,null,433.87980647758957,1.2007933815350549,1.1000000000000001,1.31,1423.3257558994501,1341.3513006719475,null,1.5958291662157555,1.1789210019908196,"","Y54","X24","10402151","Byar"]
[1040215,{"$f":"VLOOKUP(tblData[[#This Row],[Indicator ID]],'Similar 10 CCGs'!$A$6:$C$160,3,FALSE)","v":"Observed vs expected number of emergency bed days for patients with diabetes"},"2011/12","00W",965,null,1198.299829980399,0.80530763324549992,0.76,0.86,1423.3257558994501,1341.3513006719475,null,1.4734673447105728,1.1117782534245726,"C","Y54","X24","10402151","Byar"]
[1040215,{"$f":"VLOOKUP(tblData[[#This Row],[Indicator ID]],'Similar 10 CCGs'!$A$6:$C$160,3,FALSE)","v":"Observed vs expected number of emergency bed days for patients with diabetes"},"2011/12","01T",615,null,416.46541646116975,1.4767132532296139,1.36,1.6,1423.3257558994501,1341.3513006719475,null,1.5341301732097974,1.1984852041512619,"B","Y54","X24","10402151","Byar"]
[1040215,{"$f":"VLOOKUP(tblData[[#This Row],[Indicator ID]],'Similar 10 CCGs'!$A$6:$C$160,3,FALSE)","v":"Observed vs expected number of emergency bed days for patients with diabetes"},"2011/12","02R",1708,null,1267.1241351722208,1.3479342335846658,1.28,1.41,1423.3257558994501,1341.3513006719475,null,1.3722167386984736,1.1654692454468125,"B","Y54","X24","10402151","Byar"]
[1040215,{"$f":"VLOOKUP(tblData[[#This Row],[Indicator ID]],'Similar 10 CCGs'!$A$6:$C$160,3,FALSE)","v":"Observed vs expected number of emergency bed days for patients with diabetes"},"2011/12","03M",541,null,384.35300994613647,1.4075602011697947,1.29,1.53,1423.3257558994501,1341.3513006719475,null,1.4569166941835765,1.1322090394991466,"B","Y54","X24","10402151","Byar"]
[1040215,{"$f":"VLOOKUP(tblData[[#This Row],[Indicator ID]],'Similar 10 CCGs'!$A$6:$C$160,3,FALSE)","v":"Observed vs expected number of emergency bed days for patients with diabetes"},"2011/12","04Q",447,null,501.30623937903118,0.89167052968201554,0.81,0.98,1423.3257558994501,1466.6757483808558,null,1.5748402264268264,1.2994474528464834,"C","Y55","X24","10402151","Byar"]
[1040215,{"$f":"VLOOKUP(tblData[[#This Row],[Indicator ID]],'Similar 10 CCGs'!$A$6:$C$160,3,FALSE)","v":"Observed vs expected number of emergency bed days for patients with diabetes"},"2011/12","05J",298,null,158.81455783819797,1.8764022899185708,1.67,2.1,1423.3257558994501,1466.6757483808558,null,1.3484439799638235,1.1983060523083708,"A","Y55","X24","10402151","Byar"]
[1040215,{"$f":"VLOOKUP(tblData[[#This Row],[Indicator ID]],'Similar 10 CCGs'!$A$6:$C$160,3,FALSE)","v":"Observed vs expected number of emergency bed days for patients with diabetes"},"2011/12","06L",615,null,378.14024550920828,1.6263807074325916,1.5,1.76,1423.3257558994501,1466.6757483808558,null,1.5397983562136883,1.2649009813841323,"A","Y55","X24","10402151","Byar"]
[1040215,{"$f":"VLOOKUP(tblData[[#This Row],[Indicator ID]],'Similar 10 CCGs'!$A$6:$C$160,3,FALSE)","v":"Observed vs expected number of emergency bed days for patients with diabetes"},"2011/12","07N",430,null,398.30135477044081,1.0795845779832423,0.98,1.19,1423.3257558994501,1485.3283968935987,null,1.4569104726420132,1.1582099954551552,"","Y56","X24","10402151","Byar"]
[1040215,{"$f":"VLOOKUP(tblData[[#This Row],[Indicator ID]],'Similar 10 CCGs'!$A$6:$C$160,3,FALSE)","v":"Observed vs expected number of emergency bed days for patients with diabetes"},"2011/12","08J",605,null,272.27452931319993,2.2220220213990816,2.0499999999999998,2.41,1423.3257558994501,1485.3283968935987,null,1.5301409603932794,1.0880009690773609,"A","Y56","X24","10402151","Byar"]
[1040215,{"$f":"VLOOKUP(tblData[[#This Row],[Indicator ID]],'Similar 10 CCGs'!$A$6:$C$160,3,FALSE)","v":"Observed vs expected number of emergency bed days for patients with diabetes"},"2011/12","09D",1089,null,596.13955044731381,1.8267534827757492,1.72,1.94,1423.3257558994501,1452.4788886490105,null,1.403639935052504,1.1109530328899759,"A","Y57","X24","10402151","Byar"]
[1040215,{"$f":"VLOOKUP(tblData[[#This Row],[Indicator ID]],'Similar 10 CCGs'!$A$6:$C$160,3,FALSE)","v":"Observed vs expected number of emergency bed days for patients with diabetes"},"2011/12","10E",541,null,223.92746744031797,2.4159608742245497,2.2200000000000002,2.63,1423.3257558994501,1452.4788886490105,null,1.4750796978002445,1.2635165780964248,"A","Y57","X24","10402151","Byar"]
[1040215,{"$f":"VLOOKUP(tblData[[#This Row],[Indicator ID]],'Similar 10 CCGs'!$A$6:$C$160,3,FALSE)","v":"Observed vs expected number of emergency bed days for patients with diabetes"},"2011/12","11C",604,null,321.04174814229509,1.8813752525802019,1.73,2.04,1423.3257558994501,1452.4788886490105,null,1.5999828296956655,1.0188842960222142,"A","Y57","X24","10402151","Byar"]
[1040215,{"$f":"VLOOKUP(tblData[[#This Row],[Indicator ID]],'Similar 10 CCGs'!$A$6:$C$160,3,FALSE)","v":"Observed vs expected number of emergency bed days for patients with diabetes"},"2011/12","99D",682,null,296.44149441781417,2.3006225944832384,2.13,2.48,1423.3257558994501,1466.6757483808558,null,1.4428185671638993,1.084348681089238,"A","Y55","X24","10402151","Byar"]
[1040312,{"$f":"VLOOKUP(tblData[[#This Row],[Indicator ID]],'Similar 10 CCGs'!$A$6:$C$160,3,FALSE)","v":"DM 17: The percentage of diabetic patients whose last cholesterol was 5mmol or less"},"2011/12","00H",5021,null,6561,76.527968297515628,75.489999999999995,77.540000000000006,739.43859572547706,748.99726845507462,null,75.156211342394457,77.662108037668531,"","Y54","X24","10403121","Wilson"]
[1040312,{"$f":"VLOOKUP(tblData[[#This Row],[Indicator ID]],'Similar 10 CCGs'!$A$6:$C$160,3,FALSE)","v":"DM 17: The percentage of diabetic patients whose last cholesterol was 5mmol or less"},"2011/12","00W",6849,null,9105,75.222405271828663,74.33,76.099999999999994,739.43859572547706,748.99726845507462,null,73.78762074131339,74.762816233782019,"","Y54","X24","10403121","Wilson"]
[1040312,{"$f":"VLOOKUP(tblData[[#This Row],[Indicator ID]],'Similar 10 CCGs'!$A$6:$C$160,3,FALSE)","v":"DM 17: The percentage of diabetic patients whose last cholesterol was 5mmol or less"},"2011/12","02D",3653,null,4916,74.308380797396254,73.069999999999993,75.510000000000005,739.43859572547706,748.99726845507462,null,73.84029944432578,74.922430122898703,"B","Y54","X24","10403121","Wilson"]
[1040312,{"$f":"VLOOKUP(tblData[[#This Row],[Indicator ID]],'Similar 10 CCGs'!$A$6:$C$160,3,FALSE)","v":"DM 17: The percentage of diabetic patients whose last cholesterol was 5mmol or less"},"2011/12","03C",9296,null,12611,73.713424787883596,72.94,74.47,739.43859572547706,748.99726845507462,null,73.455694587581348,74.885379274629216,"B","Y54","X24","10403121","Wilson"]
[1040312,{"$f":"VLOOKUP(tblData[[#This Row],[Indicator ID]],'Similar 10 CCGs'!$A$6:$C$160,3,FALSE)","v":"DM 17: The percentage of diabetic patients whose last cholesterol was 5mmol or less"},"2011/12","03W",11003,null,14312,76.879541643376186,76.180000000000007,77.56,739.43859572547706,736.56242441168922,null,72.789351056879838,74.160596292958502,"C","Y55","X24","10403121","Wilson"]
[1040312,{"$f":"VLOOKUP(tblData[[#This Row],[Indicator ID]],'Similar 10 CCGs'!$A$6:$C$160,3,FALSE)","v":"DM 17: The percentage of diabetic patients whose last cholesterol was 5mmol or less"},"2011/12","04R",19565,null,27162,72.030778293203753,71.489999999999995,72.56,739.43859572547706,736.56242441168922,null,74.09942533293048,75.681122798258983,"A","Y55","X24","10403121","Wilson"]
[1040312,{"$f":"VLOOKUP(tblData[[#This Row],[Indicator ID]],'Similar 10 CCGs'!$A$6:$C$160,3,FALSE)","v":"DM 17: The percentage of diabetic patients whose last cholesterol was 5mmol or less"},"2011/12","05T",10321,null,14392,71.713451917732073,70.97,72.44,739.43859572547706,736.56242441168922,null,73.969564271401865,75.671990007450773,"A","Y55","X24","10403121","Wilson"]
[1040312,{"$f":"VLOOKUP(tblData[[#This Row],[Indicator ID]],'Similar 10 CCGs'!$A$6:$C$160,3,FALSE)","v":"DM 17: The percentage of diabetic patients whose last cholesterol was 5mmol or less"},"2011/12","06T",11740,null,16095,72.941907424666041,72.25,73.62,739.43859572547706,736.56242441168922,null,74.042523115465542,75.977157773392065,"A","Y55","X24","10403121","Wilson"]
[1040312,{"$f":"VLOOKUP(tblData[[#This Row],[Indicator ID]],'Similar 10 CCGs'!$A$6:$C$160,3,FALSE)","v":"DM 17: The percentage of diabetic patients whose last cholesterol was 5mmol or less"},"2011/12","07W",14816,null,20427,72.531453468448632,71.92,73.14,739.43859572547706,736.24095324164432,null,73.920085986794362,75.307930736442771,"B","Y56","X24","10403121","Wilson"]
[1040312,{"$f":"VLOOKUP(tblData[[#This Row],[Indicator ID]],'Similar 10 CCGs'!$A$6:$C$160,3,FALSE)","v":"DM 17: The percentage of diabetic patients whose last cholesterol was 5mmol or less"},"2011/12","08P",3890,null,5421,71.757978232798379,70.540000000000006,72.94,739.43859572547706,736.24095324164432,null,74.263945816614097,76.304437814217678,"A","Y56","X24","10403121","Wilson"]
[1040312,{"$f":"VLOOKUP(tblData[[#This Row],[Indicator ID]],'Similar 10 CCGs'!$A$6:$C$160,3,FALSE)","v":"DM 17: The percentage of diabetic patients whose last cholesterol was 5mmol or less"},"2011/12","09J",8296,null,11207,74.025162844650666,73.209999999999994,74.83,739.43859572547706,733.41771157051585,null,73.680560609578436,75.037258067004259,"","Y57","X24","10403121","Wilson"]
[1040312,{"$f":"VLOOKUP(tblData[[#This Row],[Indicator ID]],'Similar 10 CCGs'!$A$6:$C$160,3,FALSE)","v":"DM 17: The percentage of diabetic patients whose last cholesterol was 5mmol or less"},"2011/12","10N",2893,null,3682,78.571428571428569,77.22,79.87,739.43859572547706,733.41771157051585,null,73.536953323011886,74.911532529260356,"C","Y57","X24","10403121","Wilson"]
[1040312,{"$f":"VLOOKUP(tblData[[#This Row],[Indicator ID]],'Similar 10 CCGs'!$A$6:$C$160,3,FALSE)","v":"DM 17: The percentage of diabetic patients whose last cholesterol was 5mmol or less"},"2011/12","11N",18581,null,25585,72.624584717607974,72.069999999999993,73.17,739.43859572547706,733.41771157051585,null,73.242775324229569,74.655389504314286,"A","Y57","X24","10403121","Wilson"]
[1040312,{"$f":"VLOOKUP(tblData[[#This Row],[Indicator ID]],'Similar 10 CCGs'!$A$6:$C$160,3,FALSE)","v":"DM 17: The percentage of diabetic patients whose last cholesterol was 5mmol or less"},"2011/12","99K",5032,null,6890,73.033381712627005,71.97,74.069999999999993,739.43859572547706,733.41771157051585,null,74.055386745879403,75.742594189276545,"B","Y57","X24","10403121","Wilson"]
[1040313,{"$f":"VLOOKUP(tblData[[#This Row],[Indicator ID]],'Similar 10 CCGs'!$A$6:$C$160,3,FALSE)","v":"DM 27: The percentage of patients with diabetes in whom the last IFCC-HbA1c is 64 mmol/mol (equivalent to HbA1c of 8% in DCCT values) or less (or equivalent test/reference range depending on local laboratory) in the preceding 15 months"},"2011/12","00Q",6140,null,8837,69.480592961412242,68.510000000000005,70.430000000000007,719.46320964408289,740.76032839856248,null,71.364834058812221,74.205498207218511,"B","Y54","X24","10403131","Wilson"]
[1040313,{"$f":"VLOOKUP(tblData[[#This Row],[Indicator ID]],'Similar 10 CCGs'!$A$6:$C$160,3,FALSE)","v":"DM 27: The percentage of patients with diabetes in whom the last IFCC-HbA1c is 64 mmol/mol (equivalent to HbA1c of 8% in DCCT values) or less (or equivalent test/reference range depending on local laboratory) in the preceding 15 months"},"2011/12","01K",5337,null,7349,72.622125459246149,71.59,73.63,719.46320964408289,740.76032839856248,null,72.402601285864648,75.856770863535104,"B","Y54","X24","10403131","Wilson"]
[1040313,{"$f":"VLOOKUP(tblData[[#This Row],[Indicator ID]],'Similar 10 CCGs'!$A$6:$C$160,3,FALSE)","v":"DM 27: The percentage of patients with diabetes in whom the last IFCC-HbA1c is 64 mmol/mol (equivalent to HbA1c of 8% in DCCT values) or less (or equivalent test/reference range depending on local laboratory) in the preceding 15 months"},"2011/12","02N",5693,null,7569,75.214691504822312,74.23,76.17,719.46320964408289,740.76032839856248,null,73.204485104003339,76.612383118246569,"B","Y54","X24","10403131","Wilson"]
[1040313,{"$f":"VLOOKUP(tblData[[#This Row],[Indicator ID]],'Similar 10 CCGs'!$A$6:$C$160,3,FALSE)","v":"DM 27: The percentage of patients with diabetes in whom the last IFCC-HbA1c is 64 mmol/mol (equivalent to HbA1c of 8% in DCCT values) or less (or equivalent test/reference range depending on local laboratory) in the preceding 15 months"},"2011/12","03H",6502,null,8587,75.719110282985909,74.8,76.61,719.46320964408289,740.76032839856248,null,73.427679416531447,76.095152663636071,"C","Y54","X24","10403131","Wilson"]
[1040313,{"$f":"VLOOKUP(tblData[[#This Row],[Indicator ID]],'Similar 10 CCGs'!$A$6:$C$160,3,FALSE)","v":"DM 27: The percentage of patients with diabetes in whom the last IFCC-HbA1c is 64 mmol/mol (equivalent to HbA1c of 8% in DCCT values) or less (or equivalent test/reference range depending on local laboratory) in the preceding 15 months"},"2011/12","04E",5848,null,9289,62.956184734632359,61.97,63.93,719.46320964408289,712.25153262579499,null,74.608793807344369,76.488356884458497,"A","Y55","X24","10403131","Wilson"]
[1040313,{"$f":"VLOOKUP(tblData[[#This Row],[Indicator ID]],'Similar 10 CCGs'!$A$6:$C$160,3,FALSE)","v":"DM 27: The percentage of patients with diabetes in whom the last IFCC-HbA1c is 64 mmol/mol (equivalent to HbA1c of 8% in DCCT values) or less (or equivalent test/reference range depending on local laboratory) in the preceding 15 months"},"2011/12","05D",4510,null,6395,70.52384675527756,69.39,71.63,719.46320964408289,712.25153262579499,null,72.502750306464236,75.107121080726458,"A","Y55","X24","10403131","Wilson"]
[1040313,{"$f":"VLOOKUP(tblData[[#This Row],[Indicator ID]],'Similar 10 CCGs'!$A$6:$C$160,3,FALSE)","v":"DM 27: The percentage of patients with diabetes in whom the last IFCC-HbA1c is 64 mmol/mol (equivalent to HbA1c of 8% in DCCT values) or less (or equivalent test/reference range depending on local laboratory) in the preceding 15 months"},"2011/12","06A",10256,null,15366,66.744761161004817,66,67.489999999999995,719.46320964408289,712.25153262579499,null,73.369735091844305,75.791730525014373,"A","Y55","X24","10403131","Wilson"]
[1040313,{"$f":"VLOOKUP(tblData[[#This Row],[Indicator ID]],'Similar 10 CCGs'!$A$6:$C$160,3,FALSE)","v":"DM 27: The percentage of patients with diabetes in whom the last IFCC-HbA1c is 64 mmol/mol (equivalent to HbA1c of 8% in DCCT values) or less (or equivalent test/reference range depending on local laboratory) in the preceding 15 months"},"2011/12","06N",14985,null,22166,67.603536948479658,66.98,68.22,719.46320964408289,712.25153262579499,null,71.598443487894272,73.556046582532289,"A","Y55","X24","10403131","Wilson"]
[1040313,{"$f":"VLOOKUP(tblData[[#This Row],[Indicator ID]],'Similar 10 CCGs'!$A$6:$C$160,3,FALSE)","v":"DM 27: The percentage of patients with diabetes in whom the last IFCC-HbA1c is 64 mmol/mol (equivalent to HbA1c of 8% in DCCT values) or less (or equivalent test/reference range depending on local laboratory) in the preceding 15 months"},"2011/12","08E",10594,null,14009,75.622813905346561,74.900000000000006,76.33,719.46320964408289,690.9074339871961,null,69.608304032029466,72.359443195792252,"C","Y56","X24","10403131","Wilson"]
[1040313,{"$f":"VLOOKUP(tblData[[#This Row],[Indicator ID]],'Similar 10 CCGs'!$A$6:$C$160,3,FALSE)","v":"DM 27: The percentage of patients with diabetes in whom the last IFCC-HbA1c is 64 mmol/mol (equivalent to HbA1c of 8% in DCCT values) or less (or equivalent test/reference range depending on local laboratory) in the preceding 15 months"},"2011/12","08X",8674,null,12211,71.034313324052093,70.22,71.83,719.46320964408289,690.9074339871961,null,67.514193822871363,69.890630076244634,"C","Y56","X24","10403131","Wilson"]
[1040313,{"$f":"VLOOKUP(tblData[[#This Row],[Indicator ID]],'Similar 10 CCGs'!$A$6:$C$160,3,FALSE)","v":"DM 27: The percentage of patients with diabetes in whom the last IFCC-HbA1c is 64 mmol/mol (equivalent to HbA1c of 8% in DCCT values) or less (or equivalent test/reference range depending on local laboratory) in the preceding 15 months"},"2011/12","10A",7947,null,10446,76.076967260195289,75.25,76.89,719.46320964408289,720.96617851248334,null,73.076377991689412,76.020880717606673,"C","Y57","X24","10403131","Wilson"]
[1040313,{"$f":"VLOOKUP(tblData[[#This Row],[Indicator ID]],'Similar 10 CCGs'!$A$6:$C$160,3,FALSE)","v":"DM 27: The percentage of patients with diabetes in whom the last IFCC-HbA1c is 64 mmol/mol (equivalent to HbA1c of 8% in DCCT values) or less (or equivalent test/reference range depending on local laboratory) in the preceding 15 months"},"2011/12","10W",3041,null,4415,68.878822197055484,67.5,70.23,719.46320964408289,720.96617851248334,null,68.981650395453286,71.383472902785442,"B","Y57","X24","10403131","Wilson"]
[1040313,{"$f":"VLOOKUP(tblData[[#This Row],[Indicator ID]],'Similar 10 CCGs'!$A$6:$C$160,3,FALSE)","v":"DM 27: The percentage of patients with diabetes in whom the last IFCC-HbA1c is 64 mmol/mol (equivalent to HbA1c of 8% in DCCT values) or less (or equivalent test/reference range depending on local laboratory) in the preceding 15 months"},"2011/12","12F",12925,null,16836,76.770016631028753,76.13,77.400000000000006,719.46320964408289,740.76032839856248,null,74.705140617439923,76.471724628085852,"C","Y54","X24","10403131","Wilson"]
[1040313,{"$f":"VLOOKUP(tblData[[#This Row],[Indicator ID]],'Similar 10 CCGs'!$A$6:$C$160,3,FALSE)","v":"DM 27: The percentage of patients with diabetes in whom the last IFCC-HbA1c is 64 mmol/mol (equivalent to HbA1c of 8% in DCCT values) or less (or equivalent test/reference range depending on local laboratory) in the preceding 15 months"},"2011/12","13P",26671,null,37254,71.592312234927789,71.13,72.05,719.46320964408289,712.25153262579499,null,71.203193861983834,74.278766557680513,"B","Y55","X24","10403131","Wilson"]
[1040314,{"$f":"VLOOKUP(tblData[[#This Row],[Indicator ID]],'Similar 10 CCGs'!$A$6:$C$160,3,FALSE)","v":"DM 30: The percentage of diabetic patients whose last blood pressure was 150/90 or less"},"2011/12","00D",13692,null,15799,86.663712893221089,86.12,87.18,863.43987090322923,871.82321024907878,null,87.842280417480509,88.614778989687949,"A","Y54","X24","10403141","Wilson"]
[1040314,{"$f":"VLOOKUP(tblData[[#This Row],[Indicator ID]],'Similar 10 CCGs'!$A$6:$C$160,3,FALSE)","v":"DM 30: The percentage of diabetic patients whose last blood pressure was 150/90 or less"},"2011/12","00Y",10067,null,11740,85.749574105621804,85.11,86.37,863.43987090322923,871.82321024907878,null,87.040250993196778,87.648357579942996,"A","Y54","X24","10403141","Wilson"]
[1040314,{"$f":"VLOOKUP(tblData[[#This Row],[Indicator ID]],'Similar 10 CCGs'!$A$6:$C$160,3,FALSE)","v":"DM 30: The percentage of diabetic patients whose last blood pressure was 150/90 or less"},"2011/12","02Q",5146,null,5847,88.010945784162814,87.15,88.82,863.43987090322923,871.82321024907878,null,87.689600465840698,88.515857983983608,"","Y54","X24","10403141","Wilson"]
[1040314,{"$f":"VLOOKUP(tblData[[#This Row],[Indicator ID]],'Similar 10 CCGs'!$A$6:$C$160,3,FALSE)","v":"DM 30: The percentage of diabetic patients whose last blood pressure was 150/90 or less"},"2011/12","02W",5943,null,6910,86.005788712011579,85.17,86.8,863.43987090322923,871.82321024907878,null,86.313115114634812,87.293694188359339,"B","Y54","X24","10403141","Wilson"]
[1040314,{"$f":"VLOOKUP(tblData[[#This Row],[Indicator ID]],'Similar 10 CCGs'!$A$6:$C$160,3,FALSE)","v":"DM 30: The percentage of diabetic patients whose last blood pressure was 150/90 or less"},"2011/12","03R",15546,null,17612,88.269361798773559,87.79,88.74,863.43987090322923,871.82321024907878,null,87.77174732532167,88.619181259614408,"","Y54","X24","10403141","Wilson"]
[1040314,{"$f":"VLOOKUP(tblData[[#This Row],[Indicator ID]],'Similar 10 CCGs'!$A$6:$C$160,3,FALSE)","v":"DM 30: The percentage of diabetic patients whose last blood pressure was 150/90 or less"},"2011/12","04M",3864,null,4394,87.938097405553023,86.94,88.87,863.43987090322923,863.38547089003737,null,86.012053131795739,86.467354089269534,"C","Y55","X24","10403141","Wilson"]
[1040314,{"$f":"VLOOKUP(tblData[[#This Row],[Indicator ID]],'Similar 10 CCGs'!$A$6:$C$160,3,FALSE)","v":"DM 30: The percentage of diabetic patients whose last blood pressure was 150/90 or less"},"2011/12","05N",11660,null,13691,85.165437148491705,84.56,85.75,863.43987090322923,863.38547089003737,null,86.812152915895723,88.420566384363426,"A","Y55","X24","10403141","Wilson"]
[1040314,{"$f":"VLOOKUP(tblData[[#This Row],[Indicator ID]],'Similar 10 CCGs'!$A$6:$C$160,3,FALSE)","v":"DM 30: The percentage of diabetic patients whose last blood pressure was 150/90 or less"},"2011/12","06N",19075,null,22166,86.055219705855819,85.59,86.51,863.43987090322923,863.38547089003737,null,85.929273330976017,86.480742224271552,"B","Y55","X24","10403141","Wilson"]
[1040314,{"$f":"VLOOKUP(tblData[[#This Row],[Indicator ID]],'Similar 10 CCGs'!$A$6:$C$160,3,FALSE)","v":"DM 30: The percentage of diabetic patients whose last blood pressure was 150/90 or less"},"2011/12","07Q",11142,null,13269,83.970156002713097,83.34,84.58,863.43987090322923,858.38273186091135,null,86.598460346032567,87.478548154710353,"A","Y56","X24","10403141","Wilson"]
[1040314,{"$f":"VLOOKUP(tblData[[#This Row],[Indicator ID]],'Similar 10 CCGs'!$A$6:$C$160,3,FALSE)","v":"DM 30: The percentage of diabetic patients whose last blood pressure was 150/90 or less"},"2011/12","08L",11348,null,13479,84.190221826544999,83.56,84.8,863.43987090322923,858.38273186091135,null,85.664423198996843,86.747917535605723,"A","Y56","X24","10403141","Wilson"]
[1040314,{"$f":"VLOOKUP(tblData[[#This Row],[Indicator ID]],'Similar 10 CCGs'!$A$6:$C$160,3,FALSE)","v":"DM 30: The percentage of diabetic patients whose last blood pressure was 150/90 or less"},"2011/12","09F",7394,null,8824,83.794197642792383,83.01,84.55,863.43987090322923,856.37521038947432,null,86.736464331962537,87.707818760220107,"A","Y57","X24","10403141","Wilson"]
[1040314,{"$f":"VLOOKUP(tblData[[#This Row],[Indicator ID]],'Similar 10 CCGs'!$A$6:$C$160,3,FALSE)","v":"DM 30: The percentage of diabetic patients whose last blood pressure was 150/90 or less"},"2011/12","10H",11197,null,13005,86.097654748173781,85.49,86.68,863.43987090322923,856.37521038947432,null,85.628142245036827,86.319973245184286,"B","Y57","X24","10403141","Wilson"]
[1040314,{"$f":"VLOOKUP(tblData[[#This Row],[Indicator ID]],'Similar 10 CCGs'!$A$6:$C$160,3,FALSE)","v":"DM 30: The percentage of diabetic patients whose last blood pressure was 150/90 or less"},"2011/12","11J",30264,null,35437,85.402263171261666,85.03,85.77,863.43987090322923,856.37521038947432,null,85.925232016947547,86.550177594867563,"B","Y57","X24","10403141","Wilson"]
[1040314,{"$f":"VLOOKUP(tblData[[#This Row],[Indicator ID]],'Similar 10 CCGs'!$A$6:$C$160,3,FALSE)","v":"DM 30: The percentage of diabetic patients whose last blood pressure was 150/90 or less"},"2011/12","99G",7147,null,8305,86.056592414208311,85.29,86.78,863.43987090322923,863.38547089003737,null,86.52282878635593,88.22945014233099,"A","Y55","X24","10403141","Wilson"]
[1050105,{"$f":"VLOOKUP(tblData[[#This Row],[Indicator ID]],'Similar 10 CCGs'!$A$6:$C$160,3,FALSE)","v":"Programme Budget - Mental Health - Cost prescribed per 1000 ASTRO-PU population - Cost"},"2011/12","00M",5736806,null,292479,19614.43,19565.23,19663.72,13406.125277174402,15387.308138115615,null,15941.276000000002,15243.808000000001,"A","Y54","X24","10501051","Byar"]
[1050105,{"$f":"VLOOKUP(tblData[[#This Row],[Indicator ID]],'Similar 10 CCGs'!$A$6:$C$160,3,FALSE)","v":"Programme Budget - Mental Health - Cost prescribed per 1000 ASTRO-PU population - Cost"},"2011/12","01G",3986805,null,226451,17605.62,17552.650000000001,17658.7,13406.125277174402,15387.308138115615,null,16092.768,14240.972,"A","Y54","X24","10501051","Byar"]
[1050105,{"$f":"VLOOKUP(tblData[[#This Row],[Indicator ID]],'Similar 10 CCGs'!$A$6:$C$160,3,FALSE)","v":"Programme Budget - Mental Health - Cost prescribed per 1000 ASTRO-PU population - Cost"},"2011/12","02F",3057492,null,274547,11136.49,11098.24,11174.85,13406.125277174402,15387.308138115615,null,12999.401,11583.291999999999,"","Y54","X24","10501051","Byar"]
[1050105,{"$f":"VLOOKUP(tblData[[#This Row],[Indicator ID]],'Similar 10 CCGs'!$A$6:$C$160,3,FALSE)","v":"Programme Budget - Mental Health - Cost prescribed per 1000 ASTRO-PU population - Cost"},"2011/12","03E",2083395,null,178940,11642.98,11594.54,11691.57,13406.125277174402,15387.308138115615,null,11842.113000000001,11100.204,"","Y54","X24","10501051","Byar"]
[1050105,{"$f":"VLOOKUP(tblData[[#This Row],[Indicator ID]],'Similar 10 CCGs'!$A$6:$C$160,3,FALSE)","v":"Programme Budget - Mental Health - Cost prescribed per 1000 ASTRO-PU population - Cost"},"2011/12","03Y",1396276,null,112263,12437.53,12374.34,12500.97,13406.125277174402,12783.233439096797,null,13149.206,10781.351999999999,"A","Y55","X24","10501051","Byar"]
[1050105,{"$f":"VLOOKUP(tblData[[#This Row],[Indicator ID]],'Similar 10 CCGs'!$A$6:$C$160,3,FALSE)","v":"Programme Budget - Mental Health - Cost prescribed per 1000 ASTRO-PU population - Cost"},"2011/12","04X",2794871,null,201170,13893.11,13843.19,13943.15,13406.125277174402,12783.233439096797,null,15894.226999999999,12752.460000000001,"","Y55","X24","10501051","Byar"]
[1050105,{"$f":"VLOOKUP(tblData[[#This Row],[Indicator ID]],'Similar 10 CCGs'!$A$6:$C$160,3,FALSE)","v":"Programme Budget - Mental Health - Cost prescribed per 1000 ASTRO-PU population - Cost"},"2011/12","05W",4400888,null,277387,15865.51,15820.07,15911.03,13406.125277174402,12783.233439096797,null,16794.555999999997,15243.251999999999,"A","Y55","X24","10501051","Byar"]
[1050105,{"$f":"VLOOKUP(tblData[[#This Row],[Indicator ID]],'Similar 10 CCGs'!$A$6:$C$160,3,FALSE)","v":"Programme Budget - Mental Health - Cost prescribed per 1000 ASTRO-PU population - Cost"},"2011/12","06W",3828672,null,204579,18714.88,18657.43,18772.47,13406.125277174402,12783.233439096797,null,14200.182999999999,11678.668,"A","Y55","X24","10501051","Byar"]
[1050105,{"$f":"VLOOKUP(tblData[[#This Row],[Indicator ID]],'Similar 10 CCGs'!$A$6:$C$160,3,FALSE)","v":"Programme Budget - Mental Health - Cost prescribed per 1000 ASTRO-PU population - Cost"},"2011/12","07N",2341570,null,228888,10230.18,10190.030000000001,10270.450000000001,13406.125277174402,12353.91738592979,null,12900.753000000001,11707.73,"C","Y56","X24","10501051","Byar"]
[1050105,{"$f":"VLOOKUP(tblData[[#This Row],[Indicator ID]],'Similar 10 CCGs'!$A$6:$C$160,3,FALSE)","v":"Programme Budget - Mental Health - Cost prescribed per 1000 ASTRO-PU population - Cost"},"2011/12","08T",2015259,null,173330,11626.72,11577.53,11676.06,13406.125277174402,12353.91738592979,null,12408.061000000002,10552.539999999999,"","Y56","X24","10501051","Byar"]
[1050105,{"$f":"VLOOKUP(tblData[[#This Row],[Indicator ID]],'Similar 10 CCGs'!$A$6:$C$160,3,FALSE)","v":"Programme Budget - Mental Health - Cost prescribed per 1000 ASTRO-PU population - Cost"},"2011/12","09P",3621541,null,219569,16493.86,16441.8,16546.04,13406.125277174402,12531.109633364737,null,13040.208999999999,11259.866,"A","Y57","X24","10501051","Byar"]
[1050105,{"$f":"VLOOKUP(tblData[[#This Row],[Indicator ID]],'Similar 10 CCGs'!$A$6:$C$160,3,FALSE)","v":"Programme Budget - Mental Health - Cost prescribed per 1000 ASTRO-PU population - Cost"},"2011/12","10R",3000824,null,196195,15295.11,15242.07,15348.28,13406.125277174402,12531.109633364737,null,15955.184999999998,13556.52,"","Y57","X24","10501051","Byar"]
[1050105,{"$f":"VLOOKUP(tblData[[#This Row],[Indicator ID]],'Similar 10 CCGs'!$A$6:$C$160,3,FALSE)","v":"Programme Budget - Mental Health - Cost prescribed per 1000 ASTRO-PU population - Cost"},"2011/12","11X",6707920,null,624518,10740.95,10716.03,10765.91,13406.125277174402,12531.109633364737,null,12717.282999999999,11385.766,"C","Y57","X24","10501051","Byar"]
[1050105,{"$f":"VLOOKUP(tblData[[#This Row],[Indicator ID]],'Similar 10 CCGs'!$A$6:$C$160,3,FALSE)","v":"Programme Budget - Mental Health - Cost prescribed per 1000 ASTRO-PU population - Cost"},"2011/12","99N",5126098,null,516629,9922.2000000000007,9895.8700000000008,9948.58,13406.125277174402,12531.109633364737,null,12301.701999999999,10918.018,"C","Y57","X24","10501051","Byar"]
[1050211,{"$f":"VLOOKUP(tblData[[#This Row],[Indicator ID]],'Similar 10 CCGs'!$A$6:$C$160,3,FALSE)","v":"Total bed‐days in hospital per population for patients >74 years with a secondary diagnosis of dementia"},"2011/12","00T",10032,null,19262.858764937846,520.79497246069172,510.6531218785031,531.08758305976585,500.34590705477399,559.63269799302634,null,610.03059889922076,523.14804742304818,"C","Y54","X24","10502111","Byar"]
[1050211,{"$f":"VLOOKUP(tblData[[#This Row],[Indicator ID]],'Similar 10 CCGs'!$A$6:$C$160,3,FALSE)","v":"Total bed‐days in hospital per population for patients >74 years with a secondary diagnosis of dementia"},"2011/12","01N",6188,null,9921.4403382903965,623.69976424877427,608.25551787804409,639.43698515478161,500.34590705477399,559.63269799302634,null,726.35684523116424,634.12661307417227,"","Y54","X24","10502111","Byar"]
[1050211,{"$f":"VLOOKUP(tblData[[#This Row],[Indicator ID]],'Similar 10 CCGs'!$A$6:$C$160,3,FALSE)","v":"Total bed‐days in hospital per population for patients >74 years with a secondary diagnosis of dementia"},"2011/12","02Q",3794,null,8798.6237924954094,431.20379839810954,417.59085095975377,445.1474975243529,500.34590705477399,559.63269799302634,null,490.85883469885192,366.51207710925416,"","Y54","X24","10502111","Byar"]
[1050211,{"$f":"VLOOKUP(tblData[[#This Row],[Indicator ID]],'Similar 10 CCGs'!$A$6:$C$160,3,FALSE)","v":"Total bed‐days in hospital per population for patients >74 years with a secondary diagnosis of dementia"},"2011/12","03H",4562,null,13492.380242947957,338.11676797238312,328.37559773147973,348.07352421473558,500.34590705477399,559.63269799302634,null,501.33262964280482,399.25107151383224,"C","Y54","X24","10502111","Byar"]
[1050211,{"$f":"VLOOKUP(tblData[[#This Row],[Indicator ID]],'Similar 10 CCGs'!$A$6:$C$160,3,FALSE)","v":"Total bed‐days in hospital per population for patients >74 years with a secondary diagnosis of dementia"},"2011/12","04H",5518,null,10466.430978992972,527.2093238922705,513.38959532133572,541.30684150548029,500.34590705477399,484.7368470550756,null,459.22955081606358,360.41344854557167,"A","Y55","X24","10502111","Byar"]
[1050211,{"$f":"VLOOKUP(tblData[[#This Row],[Indicator ID]],'Similar 10 CCGs'!$A$6:$C$160,3,FALSE)","v":"Total bed‐days in hospital per population for patients >74 years with a secondary diagnosis of dementia"},"2011/12","05H",6695,null,13048.486134959869,513.0863404960495,500.86875146636368,525.52665658891215,500.34590705477399,484.7368470550756,null,457.77565825428371,380.53612114860289,"A","Y55","X24","10502111","Byar"]
[1050211,{"$f":"VLOOKUP(tblData[[#This Row],[Indicator ID]],'Similar 10 CCGs'!$A$6:$C$160,3,FALSE)","v":"Total bed‐days in hospital per population for patients >74 years with a secondary diagnosis of dementia"},"2011/12","06H",23356,null,61121.845885538722,382.1219673852483,377.23686209527784,387.05453048926944,500.34590705477399,484.7368470550756,null,454.2183300902617,409.62289050850057,"C","Y55","X24","10502111","Byar"]
[1050211,{"$f":"VLOOKUP(tblData[[#This Row],[Indicator ID]],'Similar 10 CCGs'!$A$6:$C$160,3,FALSE)","v":"Total bed‐days in hospital per population for patients >74 years with a secondary diagnosis of dementia"},"2011/12","07M",12127,null,26666.664921511725,454.76252976116535,446.70423380227027,462.9296952548458,500.34590705477399,592.93254647764456,null,486.70937157492926,417.5411114575237,"C","Y56","X24","10502111","Byar"]
[1050211,{"$f":"VLOOKUP(tblData[[#This Row],[Indicator ID]],'Similar 10 CCGs'!$A$6:$C$160,3,FALSE)","v":"Total bed‐days in hospital per population for patients >74 years with a secondary diagnosis of dementia"},"2011/12","08G",9478,null,17260.093497102185,549.12796397025716,538.12781600082599,560.29638157042552,500.34590705477399,592.93254647764456,null,520.79387197439792,470.31788615453496,"A","Y56","X24","10502111","Byar"]
[1050211,{"$f":"VLOOKUP(tblData[[#This Row],[Indicator ID]],'Similar 10 CCGs'!$A$6:$C$160,3,FALSE)","v":"Total bed‐days in hospital per population for patients >74 years with a secondary diagnosis of dementia"},"2011/12","09A",6142,null,8843.2334656192688,694.54233272013823,677.27997813643719,712.13338785088627,500.34590705477399,592.93254647764456,null,671.35238166502609,598.83887569676006,"A","Y56","X24","10502111","Byar"]
[1050211,{"$f":"VLOOKUP(tblData[[#This Row],[Indicator ID]],'Similar 10 CCGs'!$A$6:$C$160,3,FALSE)","v":"Total bed‐days in hospital per population for patients >74 years with a secondary diagnosis of dementia"},"2011/12","09C",3155,null,9157.3964331283878,344.53024099582149,332.61199909632984,356.76644282690722,500.34590705477399,429.28944790918513,null,495.12615623353986,417.40699682622227,"C","Y57","X24","10502111","Byar"]
[1050211,{"$f":"VLOOKUP(tblData[[#This Row],[Indicator ID]],'Similar 10 CCGs'!$A$6:$C$160,3,FALSE)","v":"Total bed‐days in hospital per population for patients >74 years with a secondary diagnosis of dementia"},"2011/12","10D",5753,null,7062.765828877571,814.55341142384702,793.63933942388792,835.87910533453874,500.34590705477399,429.28944790918513,null,433.81529125693362,350.15976606685689,"A","Y57","X24","10502111","Byar"]
[1050211,{"$f":"VLOOKUP(tblData[[#This Row],[Indicator ID]],'Similar 10 CCGs'!$A$6:$C$160,3,FALSE)","v":"Total bed‐days in hospital per population for patients >74 years with a secondary diagnosis of dementia"},"2011/12","10Y",5563,null,13909.10494248047,399.95384483797898,389.51207295622521,410.60464574759953,500.34590705477399,429.28944790918513,null,430.24513340307487,362.42733146790982,"","Y57","X24","10502111","Byar"]
[1050211,{"$f":"VLOOKUP(tblData[[#This Row],[Indicator ID]],'Similar 10 CCGs'!$A$6:$C$160,3,FALSE)","v":"Total bed‐days in hospital per population for patients >74 years with a secondary diagnosis of dementia"},"2011/12","99F",4695,null,16055.826095709981,292.41721802495573,284.11198031975624,300.90360882906515,500.34590705477399,484.7368470550756,null,534.58689306212932,439.78814611975349,"C","Y55","X24","10502111","Byar"]
[1050212,{"$f":"VLOOKUP(tblData[[#This Row],[Indicator ID]],'Similar 10 CCGs'!$A$6:$C$160,3,FALSE)","v":"Rate of admissions to hospital for patients >74 years with a secondary diagnosis of dementia"},"2011/12","00H",512,null,9303.4210582558007,55.033519045733641,50.369100229541758,60.013648639292299,48.52859786575349,56.497825441750102,null,63.765591087226277,52.544123823355939,"","Y54","X24","10502121","Byar"]
[1050212,{"$f":"VLOOKUP(tblData[[#This Row],[Indicator ID]],'Similar 10 CCGs'!$A$6:$C$160,3,FALSE)","v":"Rate of admissions to hospital for patients >74 years with a secondary diagnosis of dementia"},"2011/12","01D",996,null,13861.638856611105,71.852975705320191,67.459309906641849,76.457665705902656,48.52859786575349,56.497825441750102,null,66.459146561747545,54.977988185029496,"A","Y54","X24","10502121","Byar"]
[1050212,{"$f":"VLOOKUP(tblData[[#This Row],[Indicator ID]],'Similar 10 CCGs'!$A$6:$C$160,3,FALSE)","v":"Rate of admissions to hospital for patients >74 years with a secondary diagnosis of dementia"},"2011/12","02A",893,null,17460.360870043474,51.144418299630289,47.844513246882457,54.61195207069062,48.52859786575349,56.497825441750102,null,54.123496968059428,48.896127703920946,"","Y54","X24","10502121","Byar"]
[1050212,{"$f":"VLOOKUP(tblData[[#This Row],[Indicator ID]],'Similar 10 CCGs'!$A$6:$C$160,3,FALSE)","v":"Rate of admissions to hospital for patients >74 years with a secondary diagnosis of dementia"},"2011/12","02Y",1495,null,28696.684143544284,52.096611320033674,49.488946860774448,54.806012535513105,48.52859786575349,56.497825441750102,null,41.569818263324819,35.404366751525686,"A","Y54","X24","10502121","Byar"]
[1050212,{"$f":"VLOOKUP(tblData[[#This Row],[Indicator ID]],'Similar 10 CCGs'!$A$6:$C$160,3,FALSE)","v":"Rate of admissions to hospital for patients >74 years with a secondary diagnosis of dementia"},"2011/12","03V",204,null,3740.3409338122847,54.540482701954168,47.312521644466294,62.560402741411977,48.52859786575349,45.542864509594999,null,58.638157990010576,45.57401472511814,"B","Y55","X24","10502121","Byar"]
[1050212,{"$f":"VLOOKUP(tblData[[#This Row],[Indicator ID]],'Similar 10 CCGs'!$A$6:$C$160,3,FALSE)","v":"Rate of admissions to hospital for patients >74 years with a secondary diagnosis of dementia"},"2011/12","04Q",486,null,11495.768839518252,42.276424203078058,38.600796771407076,46.207650943347431,48.52859786575349,45.542864509594999,null,42.393914867879047,37.390882053078386,"B","Y55","X24","10502121","Byar"]
[1050212,{"$f":"VLOOKUP(tblData[[#This Row],[Indicator ID]],'Similar 10 CCGs'!$A$6:$C$160,3,FALSE)","v":"Rate of admissions to hospital for patients >74 years with a secondary diagnosis of dementia"},"2011/12","05R",827,null,24306.181322922985,34.024266873219702,31.744542170200443,36.424459772777539,48.52859786575349,45.542864509594999,null,40.459218759435124,36.035147607528586,"","Y55","X24","10502121","Byar"]
[1050212,{"$f":"VLOOKUP(tblData[[#This Row],[Indicator ID]],'Similar 10 CCGs'!$A$6:$C$160,3,FALSE)","v":"Rate of admissions to hospital for patients >74 years with a secondary diagnosis of dementia"},"2011/12","06Q",1345,null,29526.668907832212,45.552039893102425,43.149843889171727,48.053158919465616,48.52859786575349,45.542864509594999,null,37.62547271686195,31.545917968730283,"A","Y55","X24","10502121","Byar"]
[1050212,{"$f":"VLOOKUP(tblData[[#This Row],[Indicator ID]],'Similar 10 CCGs'!$A$6:$C$160,3,FALSE)","v":"Rate of admissions to hospital for patients >74 years with a secondary diagnosis of dementia"},"2011/12","07T",437,null,7806.2706245275504,55.980636723883507,50.854277141899267,61.483704413232331,48.52859786575349,58.28121669673348,null,64.924994250986217,56.391525704013624,"","Y56","X24","10502121","Byar"]
[1050212,{"$f":"VLOOKUP(tblData[[#This Row],[Indicator ID]],'Similar 10 CCGs'!$A$6:$C$160,3,FALSE)","v":"Rate of admissions to hospital for patients >74 years with a secondary diagnosis of dementia"},"2011/12","09A",536,null,8844.8003481385804,60.600576485912775,55.578108773969426,65.955016519115674,48.52859786575349,58.28121669673348,null,62.013636351606898,54.754146531539085,"B","Y56","X24","10502121","Byar"]
[1050212,{"$f":"VLOOKUP(tblData[[#This Row],[Indicator ID]],'Similar 10 CCGs'!$A$6:$C$160,3,FALSE)","v":"Rate of admissions to hospital for patients >74 years with a secondary diagnosis of dementia"},"2011/12","09J",894,null,18323.701356246074,48.789269297671595,45.643053399016289,52.095214924760924,48.52859786575349,40.839342506461115,null,45.859807620498408,39.034923632256316,"B","Y57","X24","10502121","Byar"]
[1050212,{"$f":"VLOOKUP(tblData[[#This Row],[Indicator ID]],'Similar 10 CCGs'!$A$6:$C$160,3,FALSE)","v":"Rate of admissions to hospital for patients >74 years with a secondary diagnosis of dementia"},"2011/12","10L",412,null,16851.165449193224,24.449347509060573,22.145156158489506,26.92812951031128,48.52859786575349,40.839342506461115,null,43.431501183943183,36.981175035235331,"C","Y57","X24","10502121","Byar"]
[1050212,{"$f":"VLOOKUP(tblData[[#This Row],[Indicator ID]],'Similar 10 CCGs'!$A$6:$C$160,3,FALSE)","v":"Rate of admissions to hospital for patients >74 years with a secondary diagnosis of dementia"},"2011/12","11M",1962,null,55574.047700852512,35.30424867666968,33.759194261010514,36.901779402489247,48.52859786575349,40.839342506461115,null,42.200603831914876,38.712300809705077,"C","Y57","X24","10502121","Byar"]
[1050212,{"$f":"VLOOKUP(tblData[[#This Row],[Indicator ID]],'Similar 10 CCGs'!$A$6:$C$160,3,FALSE)","v":"Rate of admissions to hospital for patients >74 years with a secondary diagnosis of dementia"},"2011/12","99J",1462,null,37594.481592376374,38.888686266562928,36.920572487780085,40.934465399677208,48.52859786575349,40.839342506461115,null,38.803985750939738,34.491807839202274,"C","Y57","X24","10502121","Byar"]
[1050216,{"$f":"VLOOKUP(tblData[[#This Row],[Indicator ID]],'Similar 10 CCGs'!$A$6:$C$160,3,FALSE)","v":"Mental Health - Emergency hospital admissions for self harm per 100,000 2011/12 (Directly standardised)"},"2011/12","00P",1319.8414913009212,null,284682,463.61957949604164,437.32233514385581,490.92825632331153,2.1105831854151398,2.7770131775484113,null,299.26672369463938,229.17375702797963,"A","Y54","X24","10502161","Byar"]
[1050216,{"$f":"VLOOKUP(tblData[[#This Row],[Indicator ID]],'Similar 10 CCGs'!$A$6:$C$160,3,FALSE)","v":"Mental Health - Emergency hospital admissions for self harm per 100,000 2011/12 (Directly standardised)"},"2011/12","01J",454.56790703502304,null,161113,282.14228959489492,255.29439969366277,311.97327837404174,2.1105831854151398,2.7770131775484113,null,349.65624897343042,259.71368029102575,"","Y54","X24","10502161","Byar"]
[1050216,{"$f":"VLOOKUP(tblData[[#This Row],[Indicator ID]],'Similar 10 CCGs'!$A$6:$C$160,3,FALSE)","v":"Mental Health - Emergency hospital admissions for self harm per 100,000 2011/12 (Directly standardised)"},"2011/12","02H",1050.5684919964322,null,320293,328.0023266185749,307.84714500869075,349.16526730895322,2.1105831854151398,2.7770131775484113,null,283.95863172568596,220.44967814367769,"A","Y54","X24","10502161","Byar"]
[1050216,{"$f":"VLOOKUP(tblData[[#This Row],[Indicator ID]],'Similar 10 CCGs'!$A$6:$C$160,3,FALSE)","v":"Mental Health - Emergency hospital admissions for self harm per 100,000 2011/12 (Directly standardised)"},"2011/12","03G",920.60061796330137,null,257676,357.27061036468331,334.2835924980032,382.02586037495422,2.1105831854151398,2.7770131775484113,null,317.92859637493933,263.0825043589183,"A","Y54","X24","10502161","Byar"]
[1050216,{"$f":"VLOOKUP(tblData[[#This Row],[Indicator ID]],'Similar 10 CCGs'!$A$6:$C$160,3,FALSE)","v":"Mental Health - Emergency hospital admissions for self harm per 100,000 2011/12 (Directly standardised)"},"2011/12","04C",453.93885106360932,null,365826,124.08600019233442,112.29838975431778,135.87361063035107,2.1105831854151398,1.9634799175822577,null,202.22662486917841,131.92176364380981,"C","Y55","X24","10502161","Byar"]
[1050216,{"$f":"VLOOKUP(tblData[[#This Row],[Indicator ID]],'Similar 10 CCGs'!$A$6:$C$160,3,FALSE)","v":"Mental Health - Emergency hospital admissions for self harm per 100,000 2011/12 (Directly standardised)"},"2011/12","05C",728.11261440163833,null,313317,232.38848016597834,214.19109491303323,250.58586541892345,2.1105831854151398,1.9634799175822577,null,222.64056894165256,172.87622446630471,"B","Y55","X24","10502161","Byar"]
[1050216,{"$f":"VLOOKUP(tblData[[#This Row],[Indicator ID]],'Similar 10 CCGs'!$A$6:$C$160,3,FALSE)","v":"Mental Health - Emergency hospital admissions for self harm per 100,000 2011/12 (Directly standardised)"},"2011/12","06A",400.72497084728593,null,257965,155.34082951070334,140.31822612828918,172.36644667743937,2.1105831854151398,1.9634799175822577,null,240.94999499720703,194.0205713453544,"C","Y55","X24","10502161","Byar"]
[1050216,{"$f":"VLOOKUP(tblData[[#This Row],[Indicator ID]],'Similar 10 CCGs'!$A$6:$C$160,3,FALSE)","v":"Mental Health - Emergency hospital admissions for self harm per 100,000 2011/12 (Directly standardised)"},"2011/12","07H",406.12700246514919,null,288543,140.75094612073389,127.32530475829762,156.41419437690953,2.1105831854151398,1.9634799175822577,null,191.19047164054365,140.7233467664868,"","Y55","X24","10502161","Byar"]
[1050216,{"$f":"VLOOKUP(tblData[[#This Row],[Indicator ID]],'Similar 10 CCGs'!$A$6:$C$160,3,FALSE)","v":"Mental Health - Emergency hospital admissions for self harm per 100,000 2011/12 (Directly standardised)"},"2011/12","08D",282.90767815566159,null,276161,102.44302351007622,90.687815879740853,116.15743241213414,2.1105831854151398,1.1337420461742853,null,122.12300164763765,89.763335641401568,"","Y56","X24","10502161","Byar"]
[1050216,{"$f":"VLOOKUP(tblData[[#This Row],[Indicator ID]],'Similar 10 CCGs'!$A$6:$C$160,3,FALSE)","v":"Mental Health - Emergency hospital admissions for self harm per 100,000 2011/12 (Directly standardised)"},"2011/12","08W",493.38599281511898,null,289115,170.65388956474723,155.81626477204367,187.46986432981126,2.1105831854151398,1.1337420461742853,null,127.29856139708654,91.496795983203668,"A","Y56","X24","10502161","Byar"]
[1050216,{"$f":"VLOOKUP(tblData[[#This Row],[Indicator ID]],'Similar 10 CCGs'!$A$6:$C$160,3,FALSE)","v":"Mental Health - Emergency hospital admissions for self harm per 100,000 2011/12 (Directly standardised)"},"2011/12","09X",465.46216336493785,null,222510,209.18707625047765,187.92300837197246,230.45114412898283,2.1105831854151398,2.1561013253556807,null,156.81883132905389,132.14396574919547,"A","Y57","X24","10502161","Byar"]
[1050216,{"$f":"VLOOKUP(tblData[[#This Row],[Indicator ID]],'Similar 10 CCGs'!$A$6:$C$160,3,FALSE)","v":"Mental Health - Emergency hospital admissions for self harm per 100,000 2011/12 (Directly standardised)"},"2011/12","10V",458.09507978066665,null,208372,219.84483509332668,196.90121090160258,240.23916770819255,2.1105831854151398,2.1561013253556807,null,190.27288010841053,164.67112782015579,"A","Y57","X24","10502161","Byar"]
[1050216,{"$f":"VLOOKUP(tblData[[#This Row],[Indicator ID]],'Similar 10 CCGs'!$A$6:$C$160,3,FALSE)","v":"Mental Health - Emergency hospital admissions for self harm per 100,000 2011/12 (Directly standardised)"},"2011/12","12D",759.63098844661329,null,219210,346.53117487642595,321.70572201379713,373.34266396806504,2.1105831854151398,2.1561013253556807,null,199.31391301816774,157.25553415061981,"A","Y57","X24","10502161","Byar"]
[1050313,{"$f":"VLOOKUP(tblData[[#This Row],[Indicator ID]],'Similar 10 CCGs'!$A$6:$C$160,3,FALSE)","v":"Mortality from suicide and injury undetermined: All Ages, Directly age-standardised rates (DSR) per 100,000"},"2009-11","00C",29,null,301616.03247053275,8.7706109218767008,5.7624359093969577,12.743146314956384,8.3199494866304013E-2,8.9511228196685957E-2,null,8.5093218498653247,6.9928218079978191,"B","Y54","X24","10503131","Byar"]
[1050313,{"$f":"VLOOKUP(tblData[[#This Row],[Indicator ID]],'Similar 10 CCGs'!$A$6:$C$160,3,FALSE)","v":"Mortality from suicide and injury undetermined: All Ages, Directly age-standardised rates (DSR) per 100,000"},"2009-11","00H",34,null,375908.35533777514,9.311793422849,6.4068984996497536,13.066309557475339,8.3199494866304013E-2,8.9511228196685957E-2,null,8.3310811190170337,6.7285598193109522,"B","Y54","X24","10503131","Byar"]
[1050313,{"$f":"VLOOKUP(tblData[[#This Row],[Indicator ID]],'Similar 10 CCGs'!$A$6:$C$160,3,FALSE)","v":"Mortality from suicide and injury undetermined: All Ages, Directly age-standardised rates (DSR) per 100,000"},"2009-11","01V",38,null,360631.01160739514,9.8959997516792857,6.824338806886372,13.810728486138046,8.3199494866304013E-2,8.9511228196685957E-2,null,7.8102665175694863,5.3739482793079771,"B","Y54","X24","10503131","Byar"]
[1050313,{"$f":"VLOOKUP(tblData[[#This Row],[Indicator ID]],'Similar 10 CCGs'!$A$6:$C$160,3,FALSE)","v":"Mortality from suicide and injury undetermined: All Ages, Directly age-standardised rates (DSR) per 100,000"},"2009-11","02V",35,null,571958.86583235161,5.8087978051417402,4.0203759256023739,8.1116788598326668,8.3199494866304013E-2,8.9511228196685957E-2,null,8.6430548170991539,7.528840611460387,"","Y54","X24","10503131","Byar"]
[1050313,{"$f":"VLOOKUP(tblData[[#This Row],[Indicator ID]],'Similar 10 CCGs'!$A$6:$C$160,3,FALSE)","v":"Mortality from suicide and injury undetermined: All Ages, Directly age-standardised rates (DSR) per 100,000"},"2009-11","03N",107,null,1664937.9996223843,6.4810443883056639,5.2904044038127349,7.8558905897987632,8.3199494866304013E-2,8.9511228196685957E-2,null,8.4467341388405384,7.0659819226974676,"","Y54","X24","10503131","Byar"]
[1050313,{"$f":"VLOOKUP(tblData[[#This Row],[Indicator ID]],'Similar 10 CCGs'!$A$6:$C$160,3,FALSE)","v":"Mortality from suicide and injury undetermined: All Ages, Directly age-standardised rates (DSR) per 100,000"},"2009-11","04K",75,null,961429.71860849659,7.9650624116677733,6.1970347426610015,10.065032143410967,8.3199494866304013E-2,7.8318068000493735E-2,null,8.8399347431137762,6.6162426094986744,"B","Y55","X24","10503131","Byar"]
[1050313,{"$f":"VLOOKUP(tblData[[#This Row],[Indicator ID]],'Similar 10 CCGs'!$A$6:$C$160,3,FALSE)","v":"Mortality from suicide and injury undetermined: All Ages, Directly age-standardised rates (DSR) per 100,000"},"2009-11","05L",96,null,1411583.1761889844,6.9286598946654365,5.5905130007795947,8.4863677729725602,8.3199494866304013E-2,7.8318068000493735E-2,null,7.8950156352944703,6.3264856302064629,"","Y55","X24","10503131","Byar"]
[1050313,{"$f":"VLOOKUP(tblData[[#This Row],[Indicator ID]],'Similar 10 CCGs'!$A$6:$C$160,3,FALSE)","v":"Mortality from suicide and injury undetermined: All Ages, Directly age-standardised rates (DSR) per 100,000"},"2009-11","06L",93,null,1125940.445118685,8.3721238312800317,6.7247400034712497,10.294511208565064,8.3199494866304013E-2,7.8318068000493735E-2,null,8.0990203748515359,7.1086614353632003,"B","Y55","X24","10503131","Byar"]
[1050313,{"$f":"VLOOKUP(tblData[[#This Row],[Indicator ID]],'Similar 10 CCGs'!$A$6:$C$160,3,FALSE)","v":"Mortality from suicide and injury undetermined: All Ages, Directly age-standardised rates (DSR) per 100,000"},"2009-11","06M",64,null,670541.35796625225,9.754492214356425,7.4166262610900668,12.571361425102564,8.3199494866304013E-2,7.8318068000493735E-2,null,8.3727945191815003,7.0524701119209654,"B","Y55","X24","10503131","Byar"]
[1050313,{"$f":"VLOOKUP(tblData[[#This Row],[Indicator ID]],'Similar 10 CCGs'!$A$6:$C$160,3,FALSE)","v":"Mortality from suicide and injury undetermined: All Ages, Directly age-standardised rates (DSR) per 100,000"},"2009-11","07P",77,null,837831.65961774602,8.8267358423293842,6.9352199863243982,11.068288819888345,8.3199494866304013E-2,7.2329345439826512E-2,null,6.9491016398298511,5.8613929454848144,"B","Y56","X24","10503131","Byar"]
[1050313,{"$f":"VLOOKUP(tblData[[#This Row],[Indicator ID]],'Similar 10 CCGs'!$A$6:$C$160,3,FALSE)","v":"Mortality from suicide and injury undetermined: All Ages, Directly age-standardised rates (DSR) per 100,000"},"2009-11","08J",32,null,541307.97667310399,5.6769566475509619,3.8405941346019263,8.0694619137608878,8.3199494866304013E-2,7.2329345439826512E-2,null,7.6538022840646729,6.7664694915546137,"B","Y56","X24","10503131","Byar"]
[1050313,{"$f":"VLOOKUP(tblData[[#This Row],[Indicator ID]],'Similar 10 CCGs'!$A$6:$C$160,3,FALSE)","v":"Mortality from suicide and injury undetermined: All Ages, Directly age-standardised rates (DSR) per 100,000"},"2009-11","09Y",87,null,997364.16644272534,7.9902544141219138,6.3589252250109265,9.9039774690377591,8.3199494866304013E-2,8.8303233496541719E-2,null,6.9461158950366571,6.2565876510267939,"B","Y57","X24","10503131","Byar"]
[1050313,{"$f":"VLOOKUP(tblData[[#This Row],[Indicator ID]],'Similar 10 CCGs'!$A$6:$C$160,3,FALSE)","v":"Mortality from suicide and injury undetermined: All Ages, Directly age-standardised rates (DSR) per 100,000"},"2009-11","10H",71,null,924073.84504161705,7.2528971110770053,5.6253242205824234,9.1953855344824831,8.3199494866304013E-2,8.8303233496541719E-2,null,7.7341648826521121,6.7016163666784196,"B","Y57","X24","10503131","Byar"]
[1050313,{"$f":"VLOOKUP(tblData[[#This Row],[Indicator ID]],'Similar 10 CCGs'!$A$6:$C$160,3,FALSE)","v":"Mortality from suicide and injury undetermined: All Ages, Directly age-standardised rates (DSR) per 100,000"},"2009-11","11D",23,null,455145.82588633668,4.7270368954103237,2.9601098283783305,7.1426758864023538,8.3199494866304013E-2,8.8303233496541719E-2,null,7.3099003320877056,6.2142681122200329,"B","Y57","X24","10503131","Byar"]
[1050313,{"$f":"VLOOKUP(tblData[[#This Row],[Indicator ID]],'Similar 10 CCGs'!$A$6:$C$160,3,FALSE)","v":"Mortality from suicide and injury undetermined: All Ages, Directly age-standardised rates (DSR) per 100,000"},"2009-11","99F",26,null,512631.35473379371,4.4924272517109403,2.8548811759748958,6.6894032557568934,8.3199494866304013E-2,7.8318068000493735E-2,null,7.4610981917726873,5.8290866338356793,"","Y55","X24","10503131","Byar"]
[1050315,{"$f":"VLOOKUP(tblData[[#This Row],[Indicator ID]],'Similar 10 CCGs'!$A$6:$C$160,3,FALSE)","v":"Mental Health - % of people with mental illness and or disability in settled accommodation, 2011/12"},"2011/12","00K",670.72726000947159,null,902.20208253815713,74.343350895679663,71.959772469785619,76.562544602546524,651.16851921185832,682.84177101539103,null,59.790330543276767,73.130850859943394,"","Y54","X24","10503151","Wilson"]
[1050315,{"$f":"VLOOKUP(tblData[[#This Row],[Indicator ID]],'Similar 10 CCGs'!$A$6:$C$160,3,FALSE)","v":"Mental Health - % of people with mental illness and or disability in settled accommodation, 2011/12"},"2011/12","01F",325.99207595999781,null,409.0192013908765,79.700922316472287,76.977208006222483,82.122001703360993,651.16851921185832,682.84177101539103,null,67.01131543058051,79.619356521104962,"","Y54","X24","10503151","Wilson"]
[1050315,{"$f":"VLOOKUP(tblData[[#This Row],[Indicator ID]],'Similar 10 CCGs'!$A$6:$C$160,3,FALSE)","v":"Mental Health - % of people with mental illness and or disability in settled accommodation, 2011/12"},"2011/12","02E",380.70501489260101,null,493.32445555863228,77.171324186938406,75.062555546834801,79.079257718460696,651.16851921185832,682.84177101539103,null,64.192430409558284,75.141426309818911,"","Y54","X24","10503151","Wilson"]
[1050315,{"$f":"VLOOKUP(tblData[[#This Row],[Indicator ID]],'Similar 10 CCGs'!$A$6:$C$160,3,FALSE)","v":"Mental Health - % of people with mental illness and or disability in settled accommodation, 2011/12"},"2011/12","03C",384.07241818361535,null,789.8961053771751,48.623156332720612,46.512974217564739,50.733338447876491,651.16851921185832,682.84177101539103,null,59.443821247540846,73.610380369769288,"A","Y54","X24","10503151","Wilson"]
[1050315,{"$f":"VLOOKUP(tblData[[#This Row],[Indicator ID]],'Similar 10 CCGs'!$A$6:$C$160,3,FALSE)","v":"Mental Health - % of people with mental illness and or disability in settled accommodation, 2011/12"},"2011/12","03X",183.82504299170986,null,235.91887329361441,77.918752503929255,71.097272488408791,84.171775851489684,651.16851921185832,679.7402562900719,null,71.500811094012505,77.562704456485648,"","Y55","X24","10503151","Wilson"]
[1050315,{"$f":"VLOOKUP(tblData[[#This Row],[Indicator ID]],'Similar 10 CCGs'!$A$6:$C$160,3,FALSE)","v":"Mental Health - % of people with mental illness and or disability in settled accommodation, 2011/12"},"2011/12","04V",513.07630598061803,null,756.58713213002022,67.814569425223226,65.104767376176113,70.524371474270339,651.16851921185832,679.7402562900719,null,68.79653202406611,77.875466053953048,"A","Y55","X24","10503151","Wilson"]
[1050315,{"$f":"VLOOKUP(tblData[[#This Row],[Indicator ID]],'Similar 10 CCGs'!$A$6:$C$160,3,FALSE)","v":"Mental Health - % of people with mental illness and or disability in settled accommodation, 2011/12"},"2011/12","05V",265.05384764997433,null,347.63041391217467,76.245874078479645,72.333678257090014,79.669045422195524,651.16851921185832,679.7402562900719,null,65.420571252231142,76.616831988412429,"","Y55","X24","10503151","Wilson"]
[1050315,{"$f":"VLOOKUP(tblData[[#This Row],[Indicator ID]],'Similar 10 CCGs'!$A$6:$C$160,3,FALSE)","v":"Mental Health - % of people with mental illness and or disability in settled accommodation, 2011/12"},"2011/12","06W",153.34423343258189,null,494.65881752445767,31,26.272043530211704,35.93351979456169,651.16851921185832,679.7402562900719,null,68.278742043366648,81.011084143613772,"A","Y55","X24","10503151","Wilson"]
[1050315,{"$f":"VLOOKUP(tblData[[#This Row],[Indicator ID]],'Similar 10 CCGs'!$A$6:$C$160,3,FALSE)","v":"Mental Health - % of people with mental illness and or disability in settled accommodation, 2011/12"},"2011/12","07X",482.13042817546238,null,782.37787250932877,61.623730056311587,59.155947979011856,63.988687880390493,651.16851921185832,732.30977899727384,null,74.539738318550889,81.337318176492587,"A","Y56","X24","10503151","Wilson"]
[1050315,{"$f":"VLOOKUP(tblData[[#This Row],[Indicator ID]],'Similar 10 CCGs'!$A$6:$C$160,3,FALSE)","v":"Mental Health - % of people with mental illness and or disability in settled accommodation, 2011/12"},"2011/12","08R",379.1607529889767,null,460.36028994626679,82.361741720432121,79.371010426186174,85.043087018721607,651.16851921185832,732.30977899727384,null,77.427333000762971,85.328102221313515,"","Y56","X24","10503151","Wilson"]
[1050315,{"$f":"VLOOKUP(tblData[[#This Row],[Indicator ID]],'Similar 10 CCGs'!$A$6:$C$160,3,FALSE)","v":"Mental Health - % of people with mental illness and or disability in settled accommodation, 2011/12"},"2011/12","09N",414.87096764044196,null,584.40693449338357,70.99008296335316,66.283867003764314,75.460988124962554,651.16851921185832,534.25464348807122,null,59.5845173899922,72.824203794501813,"","Y57","X24","10503151","Wilson"]
[1050315,{"$f":"VLOOKUP(tblData[[#This Row],[Indicator ID]],'Similar 10 CCGs'!$A$6:$C$160,3,FALSE)","v":"Mental Health - % of people with mental illness and or disability in settled accommodation, 2011/12"},"2011/12","10N",138.99935990843289,null,274.19968703202568,50.692749292670861,43.821804262077272,57.309214877686912,651.16851921185832,534.25464348807122,null,58.326926708118755,75.215539428790379,"A","Y57","X24","10503151","Wilson"]
[1050315,{"$f":"VLOOKUP(tblData[[#This Row],[Indicator ID]],'Similar 10 CCGs'!$A$6:$C$160,3,FALSE)","v":"Mental Health - % of people with mental illness and or disability in settled accommodation, 2011/12"},"2011/12","11T",318.81080129106101,null,425.37993515355305,74.947305912766467,72.025744988281005,77.768123357097281,651.16851921185832,534.25464348807122,null,66.355156623359903,74.099678724821501,"","Y57","X24","10503151","Wilson"]
[1050315,{"$f":"VLOOKUP(tblData[[#This Row],[Indicator ID]],'Similar 10 CCGs'!$A$6:$C$160,3,FALSE)","v":"Mental Health - % of people with mental illness and or disability in settled accommodation, 2011/12"},"2011/12","99M",192.54090724421428,null,523.36987336388552,36.788687512081076,31.038188965013724,42.789207735107894,651.16851921185832,534.25464348807122,null,58.026475893399677,78.063800127347974,"A","Y57","X24","10503151","Wilson"]
[1050317,{"$f":"VLOOKUP(tblData[[#This Row],[Indicator ID]],'Similar 10 CCGs'!$A$6:$C$160,3,FALSE)","v":"Mental Health - Improving access to psychological therapies - recovery rate per 1,000 2011/12 NB PER 100"},"2011/12","00R",181.05500047177577,null,1458.9797453687775,12.409699383867155,10.815993630624497,14.200841275574868,437.78452481708604,384.47827302381904,null,39.490496619432975,50.176807582258661,"A","Y54","X24","10503171","Wilson"]
[1050317,{"$f":"VLOOKUP(tblData[[#This Row],[Indicator ID]],'Similar 10 CCGs'!$A$6:$C$160,3,FALSE)","v":"Mental Health - Improving access to psychological therapies - recovery rate per 1,000 2011/12 NB PER 100"},"2011/12","01X",276.45505591900428,null,895.47398547677471,30.872483221476511,27.933749967542269,33.974630230588623,437.78452481708604,384.47827302381904,null,42.578103708413025,49.229117066035883,"A","Y54","X24","10503171","Wilson"]
[1050317,{"$f":"VLOOKUP(tblData[[#This Row],[Indicator ID]],'Similar 10 CCGs'!$A$6:$C$160,3,FALSE)","v":"Mental Health - Improving access to psychological therapies - recovery rate per 1,000 2011/12 NB PER 100"},"2011/12","02P",564,null,1248,45.192307692307693,42.450036891052392,47.964085790283647,437.78452481708604,384.47827302381904,null,45.670684547146195,51.110155804710431,"B","Y54","X24","10503171","Wilson"]
[1050317,{"$f":"VLOOKUP(tblData[[#This Row],[Indicator ID]],'Similar 10 CCGs'!$A$6:$C$160,3,FALSE)","v":"Mental Health - Improving access to psychological therapies - recovery rate per 1,000 2011/12 NB PER 100"},"2011/12","03K",671.78479905952122,null,1185.732636653066,56.65567247568972,53.81799630916111,59.450361108368341,437.78452481708604,384.47827302381904,null,41.939637204923045,50.105630876508052,"C","Y54","X24","10503171","Wilson"]
[1050317,{"$f":"VLOOKUP(tblData[[#This Row],[Indicator ID]],'Similar 10 CCGs'!$A$6:$C$160,3,FALSE)","v":"Mental Health - Improving access to psychological therapies - recovery rate per 1,000 2011/12 NB PER 100"},"2011/12","04G",1440.591721836948,null,3619.4976879344426,39.800874210781934,38.217817461781479,41.405557949980263,437.78452481708604,484.78655479252086,null,48.17813739826056,51.037966270876765,"A","Y55","X24","10503171","Wilson"]
[1050317,{"$f":"VLOOKUP(tblData[[#This Row],[Indicator ID]],'Similar 10 CCGs'!$A$6:$C$160,3,FALSE)","v":"Mental Health - Improving access to psychological therapies - recovery rate per 1,000 2011/12 NB PER 100"},"2011/12","05G",774,null,1412,54.815864022662886,52.210406912991871,57.395187385127358,437.78452481708604,484.78655479252086,null,46.67319045944793,51.597740245833812,"","Y55","X24","10503171","Wilson"]
[1050317,{"$f":"VLOOKUP(tblData[[#This Row],[Indicator ID]],'Similar 10 CCGs'!$A$6:$C$160,3,FALSE)","v":"Mental Health - Improving access to psychological therapies - recovery rate per 1,000 2011/12 NB PER 100"},"2011/12","06F",625,null,1208,51.738410596026483,48.919435969685686,54.546363520940808,437.78452481708604,484.78655479252086,null,53.057972370943915,61.44583150184517,"","Y55","X24","10503171","Wilson"]
[1050317,{"$f":"VLOOKUP(tblData[[#This Row],[Indicator ID]],'Similar 10 CCGs'!$A$6:$C$160,3,FALSE)","v":"Mental Health - Improving access to psychological therapies - recovery rate per 1,000 2011/12 NB PER 100"},"2011/12","07K",897.7484411242541,null,1895.2467090400919,47.368421052631582,45.128041144667421,49.619447620507337,437.78452481708604,484.78655479252086,null,47.288891935015947,57.232030272831764,"B","Y55","X24","10503171","Wilson"]
[1050317,{"$f":"VLOOKUP(tblData[[#This Row],[Indicator ID]],'Similar 10 CCGs'!$A$6:$C$160,3,FALSE)","v":"Mental Health - Improving access to psychological therapies - recovery rate per 1,000 2011/12 NB PER 100"},"2011/12","08F",373,null,687,54.29403202328966,50.555329431695029,57.984978505754029,437.78452481708604,415.50789780393001,null,46.125912645847009,54.349247113580802,"","Y56","X24","10503171","Wilson"]
[1050317,{"$f":"VLOOKUP(tblData[[#This Row],[Indicator ID]],'Similar 10 CCGs'!$A$6:$C$160,3,FALSE)","v":"Mental Health - Improving access to psychological therapies - recovery rate per 1,000 2011/12 NB PER 100"},"2011/12","08Y",621.27921729978686,null,1785.0245855128933,34.805079007988788,32.629996337295871,37.045424031959598,437.78452481708604,415.50789780393001,null,41.379897880137811,45.501051529310232,"A","Y56","X24","10503171","Wilson"]
[1050317,{"$f":"VLOOKUP(tblData[[#This Row],[Indicator ID]],'Similar 10 CCGs'!$A$6:$C$160,3,FALSE)","v":"Mental Health - Improving access to psychological therapies - recovery rate per 1,000 2011/12 NB PER 100"},"2011/12","10A",683.55589234097363,null,1366.6007148558979,50.018698578908008,47.371391844455069,52.665900482300266,437.78452481708604,463.6327287266912,null,46.225059663684263,53.100605076611387,"","Y57","X24","10503171","Wilson"]
[1050317,{"$f":"VLOOKUP(tblData[[#This Row],[Indicator ID]],'Similar 10 CCGs'!$A$6:$C$160,3,FALSE)","v":"Mental Health - Improving access to psychological therapies - recovery rate per 1,000 2011/12 NB PER 100"},"2011/12","10R",449,null,847,53.010625737898465,49.643391532684774,56.350673637612495,437.78452481708604,463.6327287266912,null,34.059641764556282,43.735845614901109,"C","Y57","X24","10503171","Wilson"]
[1050317,{"$f":"VLOOKUP(tblData[[#This Row],[Indicator ID]],'Similar 10 CCGs'!$A$6:$C$160,3,FALSE)","v":"Mental Health - Improving access to psychological therapies - recovery rate per 1,000 2011/12 NB PER 100"},"2011/12","99A",1390,null,4177,33.277471869762984,31.864401615120507,34.721273383903622,437.78452481708604,384.47827302381904,null,37.086722331317922,47.388195288392623,"A","Y54","X24","10503171","Wilson"]
[1050318,{"$f":"VLOOKUP(tblData[[#This Row],[Indicator ID]],'Similar 10 CCGs'!$A$6:$C$160,3,FALSE)","v":"Mental health - Excess under 75 mortality rate in adults with serious mental illness, 2010/11 (Directly age-sex standardised)"},"2010/11","00G",7.3410487114406786,null,654.39940000000001,1121.7994257697483,713.39378227575594,1530.2050692637406,8.5936632065564371,9.5383266441397812,null,741.26338956346433,605.64692961755759,"B","Y54","X24","10503181","Wilson"]
[1050318,{"$f":"VLOOKUP(tblData[[#This Row],[Indicator ID]],'Similar 10 CCGs'!$A$6:$C$160,3,FALSE)","v":"Mental health - Excess under 75 mortality rate in adults with serious mental illness, 2010/11 (Directly age-sex standardised)"},"2010/11","01A",4.2036212355997309,null,931.95259999999996,451.05526135124586,186.46648842299913,715.64403427949264,8.5936632065564371,9.5383266441397812,null,997.01391522432095,782.35158152778843,"","Y54","X24","10503181","Wilson"]
[1050318,{"$f":"VLOOKUP(tblData[[#This Row],[Indicator ID]],'Similar 10 CCGs'!$A$6:$C$160,3,FALSE)","v":"Mental health - Excess under 75 mortality rate in adults with serious mental illness, 2010/11 (Directly age-sex standardised)"},"2010/11","01X",2.7545101108630163,null,222.75370000000001,1236.5721022200826,759.16293750190289,1713.9812669382623,8.5936632065564371,9.5383266441397812,null,1072.8301766479917,905.81978388154437,"B","Y54","X24","10503181","Wilson"]
[1050318,{"$f":"VLOOKUP(tblData[[#This Row],[Indicator ID]],'Similar 10 CCGs'!$A$6:$C$160,3,FALSE)","v":"Mental health - Excess under 75 mortality rate in adults with serious mental illness, 2010/11 (Directly age-sex standardised)"},"2010/11","02X",8.1875112615534729,null,803.02370000000008,1019.5852577643067,695.17251638407834,1343.997999144535,8.5936632065564371,9.5383266441397812,null,1014.852564038172,906.82349287913371,"B","Y54","X24","10503181","Wilson"]
[1050318,{"$f":"VLOOKUP(tblData[[#This Row],[Indicator ID]],'Similar 10 CCGs'!$A$6:$C$160,3,FALSE)","v":"Mental health - Excess under 75 mortality rate in adults with serious mental illness, 2010/11 (Directly age-sex standardised)"},"2010/11","03R",8.6933706892264411,null,990.56209999999987,877.61995832734192,539.77384957471349,1215.4660670799703,8.5936632065564371,9.5383266441397812,null,1057.8881531539075,931.87648218643028,"B","Y54","X24","10503181","Wilson"]
[1050318,{"$f":"VLOOKUP(tblData[[#This Row],[Indicator ID]],'Similar 10 CCGs'!$A$6:$C$160,3,FALSE)","v":"Mental health - Excess under 75 mortality rate in adults with serious mental illness, 2010/11 (Directly age-sex standardised)"},"2010/11","04M",2.0306487403473015,null,211.53800000000001,959.94513531720145,318.82184315072129,1601.0684274836817,8.5936632065564371,8.6620679903137958,null,976.03071583632266,805.42102986991847,"B","Y55","X24","10503181","Wilson"]
[1050318,{"$f":"VLOOKUP(tblData[[#This Row],[Indicator ID]],'Similar 10 CCGs'!$A$6:$C$160,3,FALSE)","v":"Mental health - Excess under 75 mortality rate in adults with serious mental illness, 2010/11 (Directly age-sex standardised)"},"2010/11","04N",2.647426194489094,null,269.6884,981.66112984062136,420.12891141341208,1543.1933482678305,8.5936632065564371,8.6620679903137958,null,939.14841968387191,740.04482126003529,"B","Y55","X24","10503181","Wilson"]
[1050318,{"$f":"VLOOKUP(tblData[[#This Row],[Indicator ID]],'Similar 10 CCGs'!$A$6:$C$160,3,FALSE)","v":"Mental health - Excess under 75 mortality rate in adults with serious mental illness, 2010/11 (Directly age-sex standardised)"},"2010/11","05P",4.6729164120316229,null,536.66340000000014,870.73506634356306,467.12301963867321,1274.3471130484529,8.5936632065564371,8.6620679903137958,null,918.47688531814129,854.49635258666024,"B","Y55","X24","10503181","Wilson"]
[1050318,{"$f":"VLOOKUP(tblData[[#This Row],[Indicator ID]],'Similar 10 CCGs'!$A$6:$C$160,3,FALSE)","v":"Mental health - Excess under 75 mortality rate in adults with serious mental illness, 2010/11 (Directly age-sex standardised)"},"2010/11","06Q",9.5413153990303101,null,1062.519,897.99009702700005,579.87996395735775,1218.0638728933686,8.5936632065564371,8.6620679903137958,null,1042.6390548306053,873.08943949764978,"B","Y55","X24","10503181","Wilson"]
[1050318,{"$f":"VLOOKUP(tblData[[#This Row],[Indicator ID]],'Similar 10 CCGs'!$A$6:$C$160,3,FALSE)","v":"Mental health - Excess under 75 mortality rate in adults with serious mental illness, 2010/11 (Directly age-sex standardised)"},"2010/11","07T",7.6241810940979526,null,1348.1435000000001,565.53186616246353,335.94746360762298,795.11626871730414,8.5936632065564371,5.8889367239518302,null,524.57598882057937,459.55959269570059,"B","Y56","X24","10503181","Wilson"]
[1050318,{"$f":"VLOOKUP(tblData[[#This Row],[Indicator ID]],'Similar 10 CCGs'!$A$6:$C$160,3,FALSE)","v":"Mental health - Excess under 75 mortality rate in adults with serious mental illness, 2010/11 (Directly age-sex standardised)"},"2010/11","08M",9.3958584192045969,null,1685.3941,557.48732116747044,321.02112397584341,792.95577069162232,8.5936632065564371,5.8889367239518302,null,573.45110015870569,430.72491472084891,"B","Y56","X24","10503181","Wilson"]
[1050318,{"$f":"VLOOKUP(tblData[[#This Row],[Indicator ID]],'Similar 10 CCGs'!$A$6:$C$160,3,FALSE)","v":"Mental health - Excess under 75 mortality rate in adults with serious mental illness, 2010/11 (Directly age-sex standardised)"},"2010/11","09H",3.3142412359508318,null,284.46189999999996,1165.0914361293489,568.89378958863665,1761.2890826700614,8.5936632065564371,9.9854986633203175,null,964.55126852761293,830.89888432935936,"B","Y57","X24","10503181","Wilson"]
[1050318,{"$f":"VLOOKUP(tblData[[#This Row],[Indicator ID]],'Similar 10 CCGs'!$A$6:$C$160,3,FALSE)","v":"Mental health - Excess under 75 mortality rate in adults with serious mental illness, 2010/11 (Directly age-sex standardised)"},"2010/11","10K",2.75532678745027,null,303.4058,908.13253650730144,347.7863340812346,1471.0850003400012,8.5936632065564371,9.9854986633203175,null,1052.6722254526662,832.06394183249108,"B","Y57","X24","10503181","Wilson"]
[1050318,{"$f":"VLOOKUP(tblData[[#This Row],[Indicator ID]],'Similar 10 CCGs'!$A$6:$C$160,3,FALSE)","v":"Mental health - Excess under 75 mortality rate in adults with serious mental illness, 2010/11 (Directly age-sex standardised)"},"2010/11","11J",20.499274825278533,null,2042.8165999999999,1003.4809206699483,741.55204877387496,1264.6656764526806,8.5936632065564371,9.9854986633203175,null,1075.6930113208387,938.87524004132138,"B","Y57","X24","10503181","Wilson"]
[1050318,{"$f":"VLOOKUP(tblData[[#This Row],[Indicator ID]],'Similar 10 CCGs'!$A$6:$C$160,3,FALSE)","v":"Mental health - Excess under 75 mortality rate in adults with serious mental illness, 2010/11 (Directly age-sex standardised)"},"2010/11","99H",5.1556797694939434,null,472.77700000000004,1090.5098533756809,654.57230441655588,1526.4474023348059,8.5936632065564371,9.9854986633203175,null,1110.7953014970906,979.1967409437384,"B","Y57","X24","10503181","Wilson"]
[1050414,{"$f":"VLOOKUP(tblData[[#This Row],[Indicator ID]],'Similar 10 CCGs'!$A$6:$C$160,3,FALSE)","v":"Reported numbers of dementia on GP registers as a percentage of estimated prevalence"},"2011/12","00M",1645,null,3074.0022614939039,53.513298301887481,50.96,56.16,486.44571686832893,527.00997923906345,null,51.576352830966563,56.012615098074228,"B","Y54","X24","10504141","Byar"]
[1050414,{"$f":"VLOOKUP(tblData[[#This Row],[Indicator ID]],'Similar 10 CCGs'!$A$6:$C$160,3,FALSE)","v":"Reported numbers of dementia on GP registers as a percentage of estimated prevalence"},"2011/12","01H",3996,null,6994.0703605065528,57.13411209821723,55.38,58.93,486.44571686832893,527.00997923906345,null,47.164802531854122,51.405223435451731,"C","Y54","X24","10504141","Byar"]
[1050414,{"$f":"VLOOKUP(tblData[[#This Row],[Indicator ID]],'Similar 10 CCGs'!$A$6:$C$160,3,FALSE)","v":"Reported numbers of dementia on GP registers as a percentage of estimated prevalence"},"2011/12","02T",1141,null,2183.3280818650901,52.259667682435982,49.27,55.38,486.44571686832893,527.00997923906345,null,50.018481300236004,52.734691776578202,"B","Y54","X24","10504141","Byar"]
[1050414,{"$f":"VLOOKUP(tblData[[#This Row],[Indicator ID]],'Similar 10 CCGs'!$A$6:$C$160,3,FALSE)","v":"Reported numbers of dementia on GP registers as a percentage of estimated prevalence"},"2011/12","03F",1276,null,2835.0634829353671,45.007810501613726,42.57,47.55,486.44571686832893,527.00997923906345,null,51.965621424963217,56.884087637174879,"A","Y54","X24","10504141","Byar"]
[1050414,{"$f":"VLOOKUP(tblData[[#This Row],[Indicator ID]],'Similar 10 CCGs'!$A$6:$C$160,3,FALSE)","v":"Reported numbers of dementia on GP registers as a percentage of estimated prevalence"},"2011/12","04D",1396,null,2692.2656264848156,51.852238734062126,49.17,54.65,486.44571686832893,467.74177147524676,null,45.491829329282353,49.937148545043868,"","Y55","X24","10504141","Byar"]
[1050414,{"$f":"VLOOKUP(tblData[[#This Row],[Indicator ID]],'Similar 10 CCGs'!$A$6:$C$160,3,FALSE)","v":"Reported numbers of dementia on GP registers as a percentage of estimated prevalence"},"2011/12","05A",2352,null,4736.9052143207764,49.652671809631151,47.67,51.7,486.44571686832893,467.74177147524676,null,50.890016331784501,55.958666277431995,"B","Y55","X24","10504141","Byar"]
[1050414,{"$f":"VLOOKUP(tblData[[#This Row],[Indicator ID]],'Similar 10 CCGs'!$A$6:$C$160,3,FALSE)","v":"Reported numbers of dementia on GP registers as a percentage of estimated prevalence"},"2011/12","05Y",1154,null,2933.7417742858001,39.335431976828758,37.1,41.67,486.44571686832893,467.74177147524676,null,55.510866703040719,58.707245477698208,"A","Y55","X24","10504141","Byar"]
[1050414,{"$f":"VLOOKUP(tblData[[#This Row],[Indicator ID]],'Similar 10 CCGs'!$A$6:$C$160,3,FALSE)","v":"Reported numbers of dementia on GP registers as a percentage of estimated prevalence"},"2011/12","07G",615,null,1396.0547272186238,44.052714267532458,40.64,47.68,486.44571686832893,467.74177147524676,null,47.429694317152254,49.460274685563832,"A","Y55","X24","10504141","Byar"]
[1050414,{"$f":"VLOOKUP(tblData[[#This Row],[Indicator ID]],'Similar 10 CCGs'!$A$6:$C$160,3,FALSE)","v":"Reported numbers of dementia on GP registers as a percentage of estimated prevalence"},"2011/12","08A",1015,null,1938.5704750120028,52.358168716755863,49.19,55.68,486.44571686832893,471.40374307153741,null,47.171141164369146,50.613014662582422,"B","Y56","X24","10504141","Byar"]
[1050414,{"$f":"VLOOKUP(tblData[[#This Row],[Indicator ID]],'Similar 10 CCGs'!$A$6:$C$160,3,FALSE)","v":"Reported numbers of dementia on GP registers as a percentage of estimated prevalence"},"2011/12","08V",575,null,1284.8588895360288,44.751996089441107,41.17,48.56,486.44571686832893,471.40374307153741,null,49.410207301187093,54.766413772053646,"A","Y56","X24","10504141","Byar"]
[1050414,{"$f":"VLOOKUP(tblData[[#This Row],[Indicator ID]],'Similar 10 CCGs'!$A$6:$C$160,3,FALSE)","v":"Reported numbers of dementia on GP registers as a percentage of estimated prevalence"},"2011/12","09W",1225,null,2451.1245766691741,49.977059985447532,47.22,52.86,486.44571686832893,472.52075656381868,null,48.94862082321584,51.905833526600567,"B","Y57","X24","10504141","Byar"]
[1050414,{"$f":"VLOOKUP(tblData[[#This Row],[Indicator ID]],'Similar 10 CCGs'!$A$6:$C$160,3,FALSE)","v":"Reported numbers of dementia on GP registers as a percentage of estimated prevalence"},"2011/12","10R",1345,null,2147.3698193624909,62.634763135457597,59.33,66.069999999999993,486.44571686832893,472.52075656381868,null,47.241495166916124,52.961231245864909,"C","Y57","X24","10504141","Byar"]
[1050414,{"$f":"VLOOKUP(tblData[[#This Row],[Indicator ID]],'Similar 10 CCGs'!$A$6:$C$160,3,FALSE)","v":"Reported numbers of dementia on GP registers as a percentage of estimated prevalence"},"2011/12","11N",4024,null,7653.5411537035507,52.576969525443594,50.96,54.23,486.44571686832893,472.52075656381868,null,47.41415367889644,51.989454137887684,"","Y57","X24","10504141","Byar"]
[1050414,{"$f":"VLOOKUP(tblData[[#This Row],[Indicator ID]],'Similar 10 CCGs'!$A$6:$C$160,3,FALSE)","v":"Reported numbers of dementia on GP registers as a percentage of estimated prevalence"},"2011/12","99Q",2311,null,4552.5924322421679,50.76228620056429,48.71,52.88,486.44571686832893,472.52075656381868,null,47.615450212115505,51.601981518273078,"","Y57","X24","10504141","Byar"]
[1070101,{"$f":"VLOOKUP(tblData[[#This Row],[Indicator ID]],'Similar 10 CCGs'!$A$6:$C$160,3,FALSE)","v":"Programme Budget - Neurological - Total admissions per 1000 population across secondary care - Cost"},"2011/12","00W",6321803,null,170699,37034.79,36063.65,38025.46,24994.92909623732,29142.112402570212,null,27207.054000000004,23046.385999999999,"A","Y54","X24","10701011","Byar"]
[1070101,{"$f":"VLOOKUP(tblData[[#This Row],[Indicator ID]],'Similar 10 CCGs'!$A$6:$C$160,3,FALSE)","v":"Programme Budget - Neurological - Total admissions per 1000 population across secondary care - Cost"},"2011/12","01T",5674871,null,162196,34987.800000000003,34006.35,35990.39,24994.92909623732,29142.112402570212,null,28585.504999999997,26567.387999999999,"A","Y54","X24","10701011","Byar"]
[1070101,{"$f":"VLOOKUP(tblData[[#This Row],[Indicator ID]],'Similar 10 CCGs'!$A$6:$C$160,3,FALSE)","v":"Programme Budget - Neurological - Total admissions per 1000 population across secondary care - Cost"},"2011/12","02R",8564299,null,316256,27080.29,26521.45,27647.95,24994.92909623732,29142.112402570212,null,30102.460000000003,25166.52,"","Y54","X24","10701011","Byar"]
[1070101,{"$f":"VLOOKUP(tblData[[#This Row],[Indicator ID]],'Similar 10 CCGs'!$A$6:$C$160,3,FALSE)","v":"Programme Budget - Neurological - Total admissions per 1000 population across secondary care - Cost"},"2011/12","03M",3290890,null,132742,24791.67,23891.93,25716.62,24994.92909623732,29142.112402570212,null,23846.154999999999,21379.727999999999,"B","Y54","X24","10701011","Byar"]
[1070101,{"$f":"VLOOKUP(tblData[[#This Row],[Indicator ID]],'Similar 10 CCGs'!$A$6:$C$160,3,FALSE)","v":"Programme Budget - Neurological - Total admissions per 1000 population across secondary care - Cost"},"2011/12","04J",10063026,null,314026,32045.23,31365.53,32735.94,24994.92909623732,23935.166853896393,null,24092.243999999999,20905.718000000001,"A","Y55","X24","10701011","Byar"]
[1070101,{"$f":"VLOOKUP(tblData[[#This Row],[Indicator ID]],'Similar 10 CCGs'!$A$6:$C$160,3,FALSE)","v":"Programme Budget - Neurological - Total admissions per 1000 population across secondary care - Cost"},"2011/12","05J",3979631,null,175135,22723.22,21989.56,23475.119999999999,24994.92909623732,23935.166853896393,null,26621.105,23776.705999999998,"","Y55","X24","10701011","Byar"]
[1070101,{"$f":"VLOOKUP(tblData[[#This Row],[Indicator ID]],'Similar 10 CCGs'!$A$6:$C$160,3,FALSE)","v":"Programme Budget - Neurological - Total admissions per 1000 population across secondary care - Cost"},"2011/12","06K",11713510,null,564417,20753.3,20363.95,21148.22,24994.92909623732,23935.166853896393,null,22381.79,20429.882000000001,"","Y55","X24","10701011","Byar"]
[1070101,{"$f":"VLOOKUP(tblData[[#This Row],[Indicator ID]],'Similar 10 CCGs'!$A$6:$C$160,3,FALSE)","v":"Programme Budget - Neurological - Total admissions per 1000 population across secondary care - Cost"},"2011/12","07M",8045838,null,355736,22617.42,22112.84,23130.61,24994.92909623732,22914.705248618502,null,23273.803000000004,20954.132000000001,"A","Y56","X24","10701011","Byar"]
[1070101,{"$f":"VLOOKUP(tblData[[#This Row],[Indicator ID]],'Similar 10 CCGs'!$A$6:$C$160,3,FALSE)","v":"Programme Budget - Neurological - Total admissions per 1000 population across secondary care - Cost"},"2011/12","08L",6206259,null,266889,23254.09,22651.7,23868.45,24994.92909623732,22914.705248618502,null,23224.893,20662.314000000002,"","Y56","X24","10701011","Byar"]
[1070101,{"$f":"VLOOKUP(tblData[[#This Row],[Indicator ID]],'Similar 10 CCGs'!$A$6:$C$160,3,FALSE)","v":"Programme Budget - Neurological - Total admissions per 1000 population across secondary care - Cost"},"2011/12","09D",7671448,null,282152,27189.1,26555.59,27833.919999999998,24994.92909623732,22886.410082304708,null,25453.084999999999,21571.897999999997,"A","Y57","X24","10701011","Byar"]
[1070101,{"$f":"VLOOKUP(tblData[[#This Row],[Indicator ID]],'Similar 10 CCGs'!$A$6:$C$160,3,FALSE)","v":"Programme Budget - Neurological - Total admissions per 1000 population across secondary care - Cost"},"2011/12","10E",4253088,null,154048,27608.880000000001,26799.79,28436.19,24994.92909623732,22886.410082304708,null,28350.971999999998,26177.401999999998,"B","Y57","X24","10701011","Byar"]
[1070101,{"$f":"VLOOKUP(tblData[[#This Row],[Indicator ID]],'Similar 10 CCGs'!$A$6:$C$160,3,FALSE)","v":"Programme Budget - Neurological - Total admissions per 1000 population across secondary care - Cost"},"2011/12","11C",2638397,null,149376,17662.810000000001,16983.72,18362.099999999999,24994.92909623732,22886.410082304708,null,22072.43,18496.18,"","Y57","X24","10701011","Byar"]
[1070101,{"$f":"VLOOKUP(tblData[[#This Row],[Indicator ID]],'Similar 10 CCGs'!$A$6:$C$160,3,FALSE)","v":"Programme Budget - Neurological - Total admissions per 1000 population across secondary care - Cost"},"2011/12","99D",4135087,null,171862,24060.53,23304.2,24835.15,24994.92909623732,23935.166853896393,null,22382.446,19609.707999999999,"A","Y55","X24","10701011","Byar"]
[1070102,{"$f":"VLOOKUP(tblData[[#This Row],[Indicator ID]],'Similar 10 CCGs'!$A$6:$C$160,3,FALSE)","v":"Programme Budget - Neurological - Total elective (IP + DC) admissions per 1000 population across secondary care - Cost"},"2011/12","00J",1309065,null,253077,5172.6000000000004,4925.26,5429.15,7457.3788780051127,7942.465984712414,null,7560.1350000000002,5515.0939999999991,"C","Y54","X24","10701021","Byar"]
[1070102,{"$f":"VLOOKUP(tblData[[#This Row],[Indicator ID]],'Similar 10 CCGs'!$A$6:$C$160,3,FALSE)","v":"Programme Budget - Neurological - Total elective (IP + DC) admissions per 1000 population across secondary care - Cost"},"2011/12","01D",2009050,null,216794,9267.09,8895.85,9649.84,7457.3788780051127,7942.465984712414,null,8189.7000000000016,7045.5020000000004,"A","Y54","X24","10701021","Byar"]
[1070102,{"$f":"VLOOKUP(tblData[[#This Row],[Indicator ID]],'Similar 10 CCGs'!$A$6:$C$160,3,FALSE)","v":"Programme Budget - Neurological - Total elective (IP + DC) admissions per 1000 population across secondary care - Cost"},"2011/12","02A",2289312,null,235161,9735.07,9351.74,10130.09,7457.3788780051127,7942.465984712414,null,6898.5240000000003,5818.1680000000006,"A","Y54","X24","10701021","Byar"]
[1070102,{"$f":"VLOOKUP(tblData[[#This Row],[Indicator ID]],'Similar 10 CCGs'!$A$6:$C$160,3,FALSE)","v":"Programme Budget - Neurological - Total elective (IP + DC) admissions per 1000 population across secondary care - Cost"},"2011/12","02D",581385,null,105478,5511.88,5069.37,5982.68,7457.3788780051127,7942.465984712414,null,7239.3709999999992,5894.0539999999992,"","Y54","X24","10701021","Byar"]
[1070102,{"$f":"VLOOKUP(tblData[[#This Row],[Indicator ID]],'Similar 10 CCGs'!$A$6:$C$160,3,FALSE)","v":"Programme Budget - Neurological - Total elective (IP + DC) admissions per 1000 population across secondary care - Cost"},"2011/12","03A",2107878,null,239162,8813.6,8444.01,9195.2000000000007,7457.3788780051127,7942.465984712414,null,7571.6839999999993,6717.6680000000006,"A","Y54","X24","10701021","Byar"]
[1070102,{"$f":"VLOOKUP(tblData[[#This Row],[Indicator ID]],'Similar 10 CCGs'!$A$6:$C$160,3,FALSE)","v":"Programme Budget - Neurological - Total elective (IP + DC) admissions per 1000 population across secondary care - Cost"},"2011/12","04H",1358306,null,136161,9975.7199999999993,9452.14,10520.76,7457.3788780051127,7303.8247507004198,null,8968.3130000000001,6773.5839999999998,"B","Y55","X24","10701021","Byar"]
[1070102,{"$f":"VLOOKUP(tblData[[#This Row],[Indicator ID]],'Similar 10 CCGs'!$A$6:$C$160,3,FALSE)","v":"Programme Budget - Neurological - Total elective (IP + DC) admissions per 1000 population across secondary care - Cost"},"2011/12","04V",2556927,null,377522,6772.92,6512.31,7041.28,7457.3788780051127,7303.8247507004198,null,7596.3050000000003,6334.01,"","Y55","X24","10701021","Byar"]
[1070102,{"$f":"VLOOKUP(tblData[[#This Row],[Indicator ID]],'Similar 10 CCGs'!$A$6:$C$160,3,FALSE)","v":"Programme Budget - Neurological - Total elective (IP + DC) admissions per 1000 population across secondary care - Cost"},"2011/12","05T",2242336,null,313021,7163.52,6881.04,7454.62,7457.3788780051127,7303.8247507004198,null,6934.0819999999994,5581.4660000000003,"B","Y55","X24","10701021","Byar"]
[1070102,{"$f":"VLOOKUP(tblData[[#This Row],[Indicator ID]],'Similar 10 CCGs'!$A$6:$C$160,3,FALSE)","v":"Programme Budget - Neurological - Total elective (IP + DC) admissions per 1000 population across secondary care - Cost"},"2011/12","06V",857370,null,197555,4339.8999999999996,4076.73,4615.6099999999997,7457.3788780051127,7303.8247507004198,null,7762.6779999999999,5924.78,"C","Y55","X24","10701021","Byar"]
[1070102,{"$f":"VLOOKUP(tblData[[#This Row],[Indicator ID]],'Similar 10 CCGs'!$A$6:$C$160,3,FALSE)","v":"Programme Budget - Neurological - Total elective (IP + DC) admissions per 1000 population across secondary care - Cost"},"2011/12","07W",2449926,null,350503,6989.74,6727.49,7259.6,7457.3788780051127,7213.3475114895609,null,7562.1970000000001,6586.116,"","Y56","X24","10701021","Byar"]
[1070102,{"$f":"VLOOKUP(tblData[[#This Row],[Indicator ID]],'Similar 10 CCGs'!$A$6:$C$160,3,FALSE)","v":"Programme Budget - Neurological - Total elective (IP + DC) admissions per 1000 population across secondary care - Cost"},"2011/12","08P",1124232,null,192986,5825.46,5504.41,6160.35,7457.3788780051127,7213.3475114895609,null,8127.8129999999992,6987.5319999999992,"","Y56","X24","10701021","Byar"]
[1070102,{"$f":"VLOOKUP(tblData[[#This Row],[Indicator ID]],'Similar 10 CCGs'!$A$6:$C$160,3,FALSE)","v":"Programme Budget - Neurological - Total elective (IP + DC) admissions per 1000 population across secondary care - Cost"},"2011/12","09L",1251008,null,176389,7092.33,6711.55,7489.09,7457.3788780051127,7244.4419864383653,null,7125.304000000001,5695.8619999999992,"B","Y57","X24","10701021","Byar"]
[1070102,{"$f":"VLOOKUP(tblData[[#This Row],[Indicator ID]],'Similar 10 CCGs'!$A$6:$C$160,3,FALSE)","v":"Programme Budget - Neurological - Total elective (IP + DC) admissions per 1000 population across secondary care - Cost"},"2011/12","10M",880977,null,114399,7700.93,7188.59,8240.15,7457.3788780051127,7244.4419864383653,null,7641.56,6571.4059999999999,"B","Y57","X24","10701021","Byar"]
[1070102,{"$f":"VLOOKUP(tblData[[#This Row],[Indicator ID]],'Similar 10 CCGs'!$A$6:$C$160,3,FALSE)","v":"Programme Budget - Neurological - Total elective (IP + DC) admissions per 1000 population across secondary care - Cost"},"2011/12","11N",5517030,null,610094,9042.92,8785.26,9306.2099999999991,7457.3788780051127,7244.4419864383653,null,7125.6850000000004,6210.9840000000004,"A","Y57","X24","10701021","Byar"]
[1070102,{"$f":"VLOOKUP(tblData[[#This Row],[Indicator ID]],'Similar 10 CCGs'!$A$6:$C$160,3,FALSE)","v":"Programme Budget - Neurological - Total elective (IP + DC) admissions per 1000 population across secondary care - Cost"},"2011/12","99H",1692807,null,308963,5479,5230.1499999999996,5736.64,7457.3788780051127,7244.4419864383653,null,7124.1619999999984,5890.7260000000006,"C","Y57","X24","10701021","Byar"]
[1070103,{"$f":"VLOOKUP(tblData[[#This Row],[Indicator ID]],'Similar 10 CCGs'!$A$6:$C$160,3,FALSE)","v":"Programme Budget - Neurological - Non-elective (EM + ONEL) admissions per 1000 population across secondary care - Cost"},"2011/12","00Q",3748887,null,156089,24017.57,23253.33,24800.54,17537.534193836811,21200.961167417503,null,20057.063999999998,18002,"A","Y54","X24","10701031","Byar"]
[1070103,{"$f":"VLOOKUP(tblData[[#This Row],[Indicator ID]],'Similar 10 CCGs'!$A$6:$C$160,3,FALSE)","v":"Programme Budget - Neurological - Non-elective (EM + ONEL) admissions per 1000 population across secondary care - Cost"},"2011/12","01M",4369276,null,162614,26868.93,26044.89,27712.400000000001,17537.534193836811,21200.961167417503,null,21627.949999999997,19076.239999999998,"A","Y54","X24","10701031","Byar"]
[1070103,{"$f":"VLOOKUP(tblData[[#This Row],[Indicator ID]],'Similar 10 CCGs'!$A$6:$C$160,3,FALSE)","v":"Programme Budget - Neurological - Non-elective (EM + ONEL) admissions per 1000 population across secondary care - Cost"},"2011/12","02N",2375318,null,167550,14176.74,13583.22,14789.53,17537.534193836811,21200.961167417503,null,16170.988999999998,14719.741999999998,"C","Y54","X24","10701031","Byar"]
[1070103,{"$f":"VLOOKUP(tblData[[#This Row],[Indicator ID]],'Similar 10 CCGs'!$A$6:$C$160,3,FALSE)","v":"Programme Budget - Neurological - Non-elective (EM + ONEL) admissions per 1000 population across secondary care - Cost"},"2011/12","03H",3366130,null,175958,19130.259999999998,18398.57,19883.59,17537.534193836811,21200.961167417503,null,20448.765999999996,17467.489999999998,"","Y54","X24","10701031","Byar"]
[1070103,{"$f":"VLOOKUP(tblData[[#This Row],[Indicator ID]],'Similar 10 CCGs'!$A$6:$C$160,3,FALSE)","v":"Programme Budget - Neurological - Non-elective (EM + ONEL) admissions per 1000 population across secondary care - Cost"},"2011/12","04F",4074313,null,230394,17684.12,17123.490000000002,18258.439999999999,17537.534193836811,16631.88895503564,null,15533.013000000001,14235.444,"A","Y55","X24","10701031","Byar"]
[1070103,{"$f":"VLOOKUP(tblData[[#This Row],[Indicator ID]],'Similar 10 CCGs'!$A$6:$C$160,3,FALSE)","v":"Programme Budget - Neurological - Non-elective (EM + ONEL) admissions per 1000 population across secondary care - Cost"},"2011/12","05D",2116902,null,136514,15506.89,14857.68,16177.17,17537.534193836811,16631.88895503564,null,17526.081999999999,15561.14,"B","Y55","X24","10701031","Byar"]
[1070103,{"$f":"VLOOKUP(tblData[[#This Row],[Indicator ID]],'Similar 10 CCGs'!$A$6:$C$160,3,FALSE)","v":"Programme Budget - Neurological - Non-elective (EM + ONEL) admissions per 1000 population across secondary care - Cost"},"2011/12","06D",1567061,null,123175,12722.2,12069.47,13401.06,17537.534193836811,16631.88895503564,null,17329.610999999997,15251.216,"C","Y55","X24","10701031","Byar"]
[1070103,{"$f":"VLOOKUP(tblData[[#This Row],[Indicator ID]],'Similar 10 CCGs'!$A$6:$C$160,3,FALSE)","v":"Programme Budget - Neurological - Non-elective (EM + ONEL) admissions per 1000 population across secondary care - Cost"},"2011/12","07J",3984314,null,193165,20626.43,19916.8,21354.89,17537.534193836811,16631.88895503564,null,16169.033000000001,14708.948,"A","Y55","X24","10701031","Byar"]
[1070103,{"$f":"VLOOKUP(tblData[[#This Row],[Indicator ID]],'Similar 10 CCGs'!$A$6:$C$160,3,FALSE)","v":"Programme Budget - Neurological - Non-elective (EM + ONEL) admissions per 1000 population across secondary care - Cost"},"2011/12","08D",3070557,null,232541,13204.35,12712.92,13709.92,17537.534193836811,15690.161456970312,null,15979.195000000002,14137.591999999999,"C","Y56","X24","10701031","Byar"]
[1070103,{"$f":"VLOOKUP(tblData[[#This Row],[Indicator ID]],'Similar 10 CCGs'!$A$6:$C$160,3,FALSE)","v":"Programme Budget - Neurological - Non-elective (EM + ONEL) admissions per 1000 population across secondary care - Cost"},"2011/12","09D",4582258,null,282328,16230.26,15756.76,16714.39,17537.534193836811,15647.67921008582,null,18788.429,16199.4,"C","Y57","X24","10701031","Byar"]
[1070103,{"$f":"VLOOKUP(tblData[[#This Row],[Indicator ID]],'Similar 10 CCGs'!$A$6:$C$160,3,FALSE)","v":"Programme Budget - Neurological - Non-elective (EM + ONEL) admissions per 1000 population across secondary care - Cost"},"2011/12","10A",3695127,null,220580,16751.87,16221.07,17295.61,17537.534193836811,15647.67921008582,null,17618.278999999999,15281.789999999999,"B","Y57","X24","10701031","Byar"]
[1070103,{"$f":"VLOOKUP(tblData[[#This Row],[Indicator ID]],'Similar 10 CCGs'!$A$6:$C$160,3,FALSE)","v":"Programme Budget - Neurological - Non-elective (EM + ONEL) admissions per 1000 population across secondary care - Cost"},"2011/12","10X",4963443,null,246447,20139.98,19592.27,20699.13,17537.534193836811,15647.67921008582,null,18625.347999999998,15592.241999999998,"A","Y57","X24","10701031","Byar"]
[1070103,{"$f":"VLOOKUP(tblData[[#This Row],[Indicator ID]],'Similar 10 CCGs'!$A$6:$C$160,3,FALSE)","v":"Programme Budget - Neurological - Non-elective (EM + ONEL) admissions per 1000 population across secondary care - Cost"},"2011/12","13P",13909249,null,704678,19738.45,19410.66,20070.39,17537.534193836811,16631.88895503564,null,19059.174999999999,17925.547999999999,"A","Y55","X24","10701031","Byar"]
[1070105,{"$f":"VLOOKUP(tblData[[#This Row],[Indicator ID]],'Similar 10 CCGs'!$A$6:$C$160,3,FALSE)","v":"Programme Budget - Neurological - Cost prescribed per 1000 ASTRO-PU population - Cost"},"2011/12","00D",4093001,null,308944,13248.37,13195.35,13301.54,10238.106224134724,11784.788070509392,null,11883.525,11069.614,"A","Y54","X24","10701051","Byar"]
[1070105,{"$f":"VLOOKUP(tblData[[#This Row],[Indicator ID]],'Similar 10 CCGs'!$A$6:$C$160,3,FALSE)","v":"Programme Budget - Neurological - Cost prescribed per 1000 ASTRO-PU population - Cost"},"2011/12","00Y",3085355,null,223544,13802,13738.4,13865.83,10238.106224134724,11784.788070509392,null,12323.632000000001,11278.412,"A","Y54","X24","10701051","Byar"]
[1070105,{"$f":"VLOOKUP(tblData[[#This Row],[Indicator ID]],'Similar 10 CCGs'!$A$6:$C$160,3,FALSE)","v":"Programme Budget - Neurological - Cost prescribed per 1000 ASTRO-PU population - Cost"},"2011/12","01W",3010111,null,313190,9611.1200000000008,9566.2800000000007,9656.1200000000008,10238.106224134724,11784.788070509392,null,11371.688,10120.896000000001,"C","Y54","X24","10701051","Byar"]
[1070105,{"$f":"VLOOKUP(tblData[[#This Row],[Indicator ID]],'Similar 10 CCGs'!$A$6:$C$160,3,FALSE)","v":"Programme Budget - Neurological - Cost prescribed per 1000 ASTRO-PU population - Cost"},"2011/12","02V",2240258,null,195216,11475.79,11413.74,11538.09,10238.106224134724,11784.788070509392,null,10737.973,9481.7039999999997,"A","Y54","X24","10701051","Byar"]
[1070105,{"$f":"VLOOKUP(tblData[[#This Row],[Indicator ID]],'Similar 10 CCGs'!$A$6:$C$160,3,FALSE)","v":"Programme Budget - Neurological - Cost prescribed per 1000 ASTRO-PU population - Cost"},"2011/12","03Q",4037903,null,355737,11350.81,11305.08,11396.68,10238.106224134724,11784.788070509392,null,10101.614000000001,8795.6299999999992,"A","Y54","X24","10701051","Byar"]
[1070105,{"$f":"VLOOKUP(tblData[[#This Row],[Indicator ID]],'Similar 10 CCGs'!$A$6:$C$160,3,FALSE)","v":"Programme Budget - Neurological - Cost prescribed per 1000 ASTRO-PU population - Cost"},"2011/12","04L",1549439,null,155940,9936.15,9871.56,10001.049999999999,10238.106224134724,10216.252299269516,null,10402.362000000001,9359.4580000000005,"","Y55","X24","10701051","Byar"]
[1070105,{"$f":"VLOOKUP(tblData[[#This Row],[Indicator ID]],'Similar 10 CCGs'!$A$6:$C$160,3,FALSE)","v":"Programme Budget - Neurological - Cost prescribed per 1000 ASTRO-PU population - Cost"},"2011/12","05D",1434895,null,138759,10340.9,10271.049999999999,10411.09,10238.106224134724,10216.252299269516,null,11344.162,10425.583999999999,"","Y55","X24","10701051","Byar"]
[1070105,{"$f":"VLOOKUP(tblData[[#This Row],[Indicator ID]],'Similar 10 CCGs'!$A$6:$C$160,3,FALSE)","v":"Programme Budget - Neurological - Cost prescribed per 1000 ASTRO-PU population - Cost"},"2011/12","06N",4992945,null,583711,8553.7900000000009,8522.7999999999993,8584.8700000000008,10238.106224134724,10216.252299269516,null,9472.0209999999988,8423.2259999999987,"","Y55","X24","10701051","Byar"]
[1070105,{"$f":"VLOOKUP(tblData[[#This Row],[Indicator ID]],'Similar 10 CCGs'!$A$6:$C$160,3,FALSE)","v":"Programme Budget - Neurological - Cost prescribed per 1000 ASTRO-PU population - Cost"},"2011/12","07Q",3180271,null,336808,9442.39,9399.5400000000009,9485.4,10238.106224134724,8662.4901545732009,null,9480.33,8289.732,"A","Y56","X24","10701051","Byar"]
[1070105,{"$f":"VLOOKUP(tblData[[#This Row],[Indicator ID]],'Similar 10 CCGs'!$A$6:$C$160,3,FALSE)","v":"Programme Budget - Neurological - Cost prescribed per 1000 ASTRO-PU population - Cost"},"2011/12","08L",2642615,null,242793,10884.24,10830.05,10938.64,10238.106224134724,8662.4901545732009,null,8278.0010000000002,7640.3759999999993,"A","Y56","X24","10701051","Byar"]
[1070105,{"$f":"VLOOKUP(tblData[[#This Row],[Indicator ID]],'Similar 10 CCGs'!$A$6:$C$160,3,FALSE)","v":"Programme Budget - Neurological - Cost prescribed per 1000 ASTRO-PU population - Cost"},"2011/12","09F",2545866,null,228100,11161.19,11104.57,11218.02,10238.106224134724,9395.4409372700648,null,10667.199999999999,9595.75,"A","Y57","X24","10701051","Byar"]
[1070105,{"$f":"VLOOKUP(tblData[[#This Row],[Indicator ID]],'Similar 10 CCGs'!$A$6:$C$160,3,FALSE)","v":"Programme Budget - Neurological - Cost prescribed per 1000 ASTRO-PU population - Cost"},"2011/12","10J",1859297,null,208586,8913.81,8860.91,8966.94,10238.106224134724,9395.4409372700648,null,9288.7089999999989,8062.6380000000008,"","Y57","X24","10701051","Byar"]
[1070105,{"$f":"VLOOKUP(tblData[[#This Row],[Indicator ID]],'Similar 10 CCGs'!$A$6:$C$160,3,FALSE)","v":"Programme Budget - Neurological - Cost prescribed per 1000 ASTRO-PU population - Cost"},"2011/12","11E",1626297,null,204116,7967.53,7916.98,8018.33,10238.106224134724,9395.4409372700648,null,11130.325999999997,10082.543999999998,"C","Y57","X24","10701051","Byar"]
[1070105,{"$f":"VLOOKUP(tblData[[#This Row],[Indicator ID]],'Similar 10 CCGs'!$A$6:$C$160,3,FALSE)","v":"Programme Budget - Neurological - Cost prescribed per 1000 ASTRO-PU population - Cost"},"2011/12","99F",1926783,null,202009,9538.1,9482.5,9593.9500000000007,10238.106224134724,10216.252299269516,null,9589.0119999999988,8886.33,"","Y55","X24","10701051","Byar"]
[1070105,{"$f":"VLOOKUP(tblData[[#This Row],[Indicator ID]],'Similar 10 CCGs'!$A$6:$C$160,3,FALSE)","v":"Programme Budget - Neurological - Cost prescribed per 1000 ASTRO-PU population - Cost"},"2011/12","99G",2085607,null,192801,10817.39,10756.78,10878.27,10238.106224134724,10216.252299269516,null,11539.27,10191.94,"A","Y55","X24","10701051","Byar"]
[1070201,{"$f":"VLOOKUP(tblData[[#This Row],[Indicator ID]],'Similar 10 CCGs'!$A$6:$C$160,3,FALSE)","v":"Programme Budget - Neurological - Total admissions per 1000 population across secondary care - Activity"},"2011/12","01F",4134,null,125384,32.97,31.97,33.99,23.118402298313566,27.337771838433699,null,28.407,26.727999999999998,"A","Y54","X24","10702011","Byar"]
[1070201,{"$f":"VLOOKUP(tblData[[#This Row],[Indicator ID]],'Similar 10 CCGs'!$A$6:$C$160,3,FALSE)","v":"Programme Budget - Neurological - Total admissions per 1000 population across secondary care - Activity"},"2011/12","01G",6884,null,236568,29.1,28.42,29.8,23.118402298313566,27.337771838433699,null,30.333999999999996,27.661999999999999,"B","Y54","X24","10702011","Byar"]
[1070201,{"$f":"VLOOKUP(tblData[[#This Row],[Indicator ID]],'Similar 10 CCGs'!$A$6:$C$160,3,FALSE)","v":"Programme Budget - Neurological - Total admissions per 1000 population across secondary care - Activity"},"2011/12","02G",3033,null,116059,26.13,25.21,27.08,23.118402298313566,27.337771838433699,null,25.143999999999998,22.71,"A","Y54","X24","10702011","Byar"]
[1070201,{"$f":"VLOOKUP(tblData[[#This Row],[Indicator ID]],'Similar 10 CCGs'!$A$6:$C$160,3,FALSE)","v":"Programme Budget - Neurological - Total admissions per 1000 population across secondary care - Activity"},"2011/12","03E",3222,null,170273,18.920000000000002,18.27,19.59,23.118402298313566,27.337771838433699,null,20.395000000000003,18.088000000000001,"","Y54","X24","10702011","Byar"]
[1070201,{"$f":"VLOOKUP(tblData[[#This Row],[Indicator ID]],'Similar 10 CCGs'!$A$6:$C$160,3,FALSE)","v":"Programme Budget - Neurological - Total admissions per 1000 population across secondary care - Activity"},"2011/12","04C",8261,null,332705,24.83,24.3,25.37,23.118402298313566,22.027384639354192,null,26.385999999999996,22.286000000000001,"","Y55","X24","10702011","Byar"]
[1070201,{"$f":"VLOOKUP(tblData[[#This Row],[Indicator ID]],'Similar 10 CCGs'!$A$6:$C$160,3,FALSE)","v":"Programme Budget - Neurological - Total admissions per 1000 population across secondary care - Activity"},"2011/12","04Y",4079,null,135557,30.09,29.17,31.03,23.118402298313566,22.027384639354192,null,26.202000000000005,23.596,"A","Y55","X24","10702011","Byar"]
[1070201,{"$f":"VLOOKUP(tblData[[#This Row],[Indicator ID]],'Similar 10 CCGs'!$A$6:$C$160,3,FALSE)","v":"Programme Budget - Neurological - Total admissions per 1000 population across secondary care - Activity"},"2011/12","05W",8210,null,278193,29.51,28.88,30.16,23.118402298313566,22.027384639354192,null,28.474999999999994,26.022000000000002,"A","Y55","X24","10702011","Byar"]
[1070201,{"$f":"VLOOKUP(tblData[[#This Row],[Indicator ID]],'Similar 10 CCGs'!$A$6:$C$160,3,FALSE)","v":"Programme Budget - Neurological - Total admissions per 1000 population across secondary care - Activity"},"2011/12","06Y",3672,null,239578,15.33,14.84,15.83,23.118402298313566,22.027384639354192,null,21.216000000000001,20.042000000000002,"C","Y55","X24","10702011","Byar"]
[1070201,{"$f":"VLOOKUP(tblData[[#This Row],[Indicator ID]],'Similar 10 CCGs'!$A$6:$C$160,3,FALSE)","v":"Programme Budget - Neurological - Total admissions per 1000 population across secondary care - Activity"},"2011/12","07Y",5724,null,250641,22.84,22.25,23.44,23.118402298313566,20.862620927521231,null,23.490000000000002,20.116000000000003,"A","Y56","X24","10702011","Byar"]
[1070201,{"$f":"VLOOKUP(tblData[[#This Row],[Indicator ID]],'Similar 10 CCGs'!$A$6:$C$160,3,FALSE)","v":"Programme Budget - Neurological - Total admissions per 1000 population across secondary care - Activity"},"2011/12","08R",3205,null,195791,16.37,15.81,16.95,23.118402298313566,20.862620927521231,null,21.333000000000002,16.68,"","Y56","X24","10702011","Byar"]
[1070201,{"$f":"VLOOKUP(tblData[[#This Row],[Indicator ID]],'Similar 10 CCGs'!$A$6:$C$160,3,FALSE)","v":"Programme Budget - Neurological - Total admissions per 1000 population across secondary care - Activity"},"2011/12","10C",2453,null,92321,26.57,25.53,27.64,23.118402298313566,21.079765591603923,null,18.949000000000005,16.532,"A","Y57","X24","10702011","Byar"]
[1070201,{"$f":"VLOOKUP(tblData[[#This Row],[Indicator ID]],'Similar 10 CCGs'!$A$6:$C$160,3,FALSE)","v":"Programme Budget - Neurological - Total admissions per 1000 population across secondary care - Activity"},"2011/12","10R",4992,null,205964,24.24,23.57,24.92,23.118402298313566,21.079765591603923,null,24.843999999999998,21.327999999999996,"A","Y57","X24","10702011","Byar"]
[1070201,{"$f":"VLOOKUP(tblData[[#This Row],[Indicator ID]],'Similar 10 CCGs'!$A$6:$C$160,3,FALSE)","v":"Programme Budget - Neurological - Total admissions per 1000 population across secondary care - Activity"},"2011/12","12A",3965,null,260348,15.23,14.76,15.71,23.118402298313566,21.079765591603923,null,19.363999999999997,17.134,"C","Y57","X24","10702011","Byar"]
[1070201,{"$f":"VLOOKUP(tblData[[#This Row],[Indicator ID]],'Similar 10 CCGs'!$A$6:$C$160,3,FALSE)","v":"Programme Budget - Neurological - Total admissions per 1000 population across secondary care - Activity"},"2011/12","99P",18863,null,962847,19.59,19.309999999999999,19.87,23.118402298313566,21.079765591603923,null,22.414000000000001,20.369999999999997,"C","Y57","X24","10702011","Byar"]
[1070202,{"$f":"VLOOKUP(tblData[[#This Row],[Indicator ID]],'Similar 10 CCGs'!$A$6:$C$160,3,FALSE)","v":"Programme Budget - Neurological - Total elective (IP + DC) admissions per 1000 population across secondary care - Activity"},"2011/12","00T",2756,null,288210,9.56,9.2100000000000009,9.93,7.4420592781202313,7.9034882451771562,null,8.7339999999999982,7.008,"A","Y54","X24","10702021","Byar"]
[1070202,{"$f":"VLOOKUP(tblData[[#This Row],[Indicator ID]],'Similar 10 CCGs'!$A$6:$C$160,3,FALSE)","v":"Programme Budget - Neurological - Total elective (IP + DC) admissions per 1000 population across secondary care - Activity"},"2011/12","01R",1038,null,181206,5.73,5.39,6.09,7.4420592781202313,7.9034882451771562,null,7.2120000000000006,5.6120000000000001,"","Y54","X24","10702021","Byar"]
[1070202,{"$f":"VLOOKUP(tblData[[#This Row],[Indicator ID]],'Similar 10 CCGs'!$A$6:$C$160,3,FALSE)","v":"Programme Budget - Neurological - Total elective (IP + DC) admissions per 1000 population across secondary care - Activity"},"2011/12","02Q",893,null,118114,7.56,7.07,8.07,7.4420592781202313,7.9034882451771562,null,8.6449999999999996,7.3280000000000003,"C","Y54","X24","10702021","Byar"]
[1070202,{"$f":"VLOOKUP(tblData[[#This Row],[Indicator ID]],'Similar 10 CCGs'!$A$6:$C$160,3,FALSE)","v":"Programme Budget - Neurological - Total elective (IP + DC) admissions per 1000 population across secondary care - Activity"},"2011/12","03L",2302,null,261624,8.8000000000000007,8.44,9.17,7.4420592781202313,7.9034882451771562,null,8.14,6.1440000000000001,"A","Y54","X24","10702021","Byar"]
[1070202,{"$f":"VLOOKUP(tblData[[#This Row],[Indicator ID]],'Similar 10 CCGs'!$A$6:$C$160,3,FALSE)","v":"Programme Budget - Neurological - Total elective (IP + DC) admissions per 1000 population across secondary care - Activity"},"2011/12","04H",1358,null,135574,10.02,9.49,10.56,7.4420592781202313,7.32584853364156,null,8.5080000000000009,7.1219999999999999,"A","Y55","X24","10702021","Byar"]
[1070202,{"$f":"VLOOKUP(tblData[[#This Row],[Indicator ID]],'Similar 10 CCGs'!$A$6:$C$160,3,FALSE)","v":"Programme Budget - Neurological - Total elective (IP + DC) admissions per 1000 population across secondary care - Activity"},"2011/12","05G",2051,null,226706,9.0500000000000007,8.66,9.4499999999999993,7.4420592781202313,7.32584853364156,null,8.0259999999999998,6.5280000000000005,"A","Y55","X24","10702021","Byar"]
[1070202,{"$f":"VLOOKUP(tblData[[#This Row],[Indicator ID]],'Similar 10 CCGs'!$A$6:$C$160,3,FALSE)","v":"Programme Budget - Neurological - Total elective (IP + DC) admissions per 1000 population across secondary care - Activity"},"2011/12","05X",1724,null,169434,10.18,9.6999999999999993,10.67,7.4420592781202313,7.32584853364156,null,7.7549999999999999,6.7,"A","Y55","X24","10702021","Byar"]
[1070202,{"$f":"VLOOKUP(tblData[[#This Row],[Indicator ID]],'Similar 10 CCGs'!$A$6:$C$160,3,FALSE)","v":"Programme Budget - Neurological - Total elective (IP + DC) admissions per 1000 population across secondary care - Activity"},"2011/12","07M",2652,null,356989,7.43,7.15,7.72,7.4420592781202313,7.4504529209180177,null,7.9610000000000012,6.8920000000000003,"A","Y56","X24","10702021","Byar"]
[1070202,{"$f":"VLOOKUP(tblData[[#This Row],[Indicator ID]],'Similar 10 CCGs'!$A$6:$C$160,3,FALSE)","v":"Programme Budget - Neurological - Total elective (IP + DC) admissions per 1000 population across secondary care - Activity"},"2011/12","08G",3309,null,262682,12.6,12.17,13.03,7.4420592781202313,7.4504529209180177,null,7.2909999999999995,6.3879999999999999,"A","Y56","X24","10702021","Byar"]
[1070202,{"$f":"VLOOKUP(tblData[[#This Row],[Indicator ID]],'Similar 10 CCGs'!$A$6:$C$160,3,FALSE)","v":"Programme Budget - Neurological - Total elective (IP + DC) admissions per 1000 population across secondary care - Activity"},"2011/12","09C",1214,null,124199,9.77,9.23,10.34,7.4420592781202313,7.0734505196655526,null,7.6300000000000008,6.734,"A","Y57","X24","10702021","Byar"]
[1070202,{"$f":"VLOOKUP(tblData[[#This Row],[Indicator ID]],'Similar 10 CCGs'!$A$6:$C$160,3,FALSE)","v":"Programme Budget - Neurological - Total elective (IP + DC) admissions per 1000 population across secondary care - Activity"},"2011/12","10D",803,null,106343,7.55,7.04,8.09,7.4420592781202313,7.0734505196655526,null,8.1209999999999987,7.008,"B","Y57","X24","10702021","Byar"]
[1070202,{"$f":"VLOOKUP(tblData[[#This Row],[Indicator ID]],'Similar 10 CCGs'!$A$6:$C$160,3,FALSE)","v":"Programme Budget - Neurological - Total elective (IP + DC) admissions per 1000 population across secondary care - Activity"},"2011/12","11A",3320,null,579330,5.73,5.54,5.93,7.4420592781202313,7.0734505196655526,null,7.2100000000000009,6.4859999999999998,"C","Y57","X24","10702021","Byar"]
[1070202,{"$f":"VLOOKUP(tblData[[#This Row],[Indicator ID]],'Similar 10 CCGs'!$A$6:$C$160,3,FALSE)","v":"Programme Budget - Neurological - Total elective (IP + DC) admissions per 1000 population across secondary care - Activity"},"2011/12","99C",1706,null,225383,7.57,7.21,7.94,7.4420592781202313,7.9034882451771562,null,8.9019999999999992,6.8780000000000001,"B","Y54","X24","10702021","Byar"]
[1070203,{"$f":"VLOOKUP(tblData[[#This Row],[Indicator ID]],'Similar 10 CCGs'!$A$6:$C$160,3,FALSE)","v":"Programme Budget - Neurological - Non-elective (EM + ONEL) admissions per 1000 population across secondary care - Activity"},"2011/12","00G",2909,null,142474,20.420000000000002,19.68,21.17,15.671447338499723,19.432857781418775,null,17.978999999999999,15.5,"A","Y54","X24","10702031","Byar"]
[1070203,{"$f":"VLOOKUP(tblData[[#This Row],[Indicator ID]],'Similar 10 CCGs'!$A$6:$C$160,3,FALSE)","v":"Programme Budget - Neurological - Non-elective (EM + ONEL) admissions per 1000 population across secondary care - Activity"},"2011/12","01C",3074,null,216767,14.18,13.68,14.69,15.671447338499723,19.432857781418775,null,14.257,12.418000000000001,"B","Y54","X24","10702031","Byar"]
[1070203,{"$f":"VLOOKUP(tblData[[#This Row],[Indicator ID]],'Similar 10 CCGs'!$A$6:$C$160,3,FALSE)","v":"Programme Budget - Neurological - Non-elective (EM + ONEL) admissions per 1000 population across secondary care - Activity"},"2011/12","01Y",4707,null,236604,19.89,19.329999999999998,20.47,15.671447338499723,19.432857781418775,null,20.558,17.662000000000003,"A","Y54","X24","10702031","Byar"]
[1070203,{"$f":"VLOOKUP(tblData[[#This Row],[Indicator ID]],'Similar 10 CCGs'!$A$6:$C$160,3,FALSE)","v":"Programme Budget - Neurological - Non-elective (EM + ONEL) admissions per 1000 population across secondary care - Activity"},"2011/12","03A",4334,null,238038,18.21,17.670000000000002,18.760000000000002,15.671447338499723,19.432857781418775,null,17.834,14.557999999999998,"","Y54","X24","10702031","Byar"]
[1070203,{"$f":"VLOOKUP(tblData[[#This Row],[Indicator ID]],'Similar 10 CCGs'!$A$6:$C$160,3,FALSE)","v":"Programme Budget - Neurological - Non-elective (EM + ONEL) admissions per 1000 population across secondary care - Activity"},"2011/12","03V",1168,null,65248,17.899999999999999,16.89,18.96,15.671447338499723,14.697875782146994,null,20.256000000000004,17.208000000000006,"B","Y55","X24","10702031","Byar"]
[1070203,{"$f":"VLOOKUP(tblData[[#This Row],[Indicator ID]],'Similar 10 CCGs'!$A$6:$C$160,3,FALSE)","v":"Programme Budget - Neurological - Non-elective (EM + ONEL) admissions per 1000 population across secondary care - Activity"},"2011/12","04Q",1834,null,136548,13.43,12.82,14.06,15.671447338499723,14.697875782146994,null,13.859,12.028,"B","Y55","X24","10702031","Byar"]
[1070203,{"$f":"VLOOKUP(tblData[[#This Row],[Indicator ID]],'Similar 10 CCGs'!$A$6:$C$160,3,FALSE)","v":"Programme Budget - Neurological - Non-elective (EM + ONEL) admissions per 1000 population across secondary care - Activity"},"2011/12","05R",3836,null,285072,13.46,13.03,13.89,15.671447338499723,14.697875782146994,null,12.978,11.852,"","Y55","X24","10702031","Byar"]
[1070203,{"$f":"VLOOKUP(tblData[[#This Row],[Indicator ID]],'Similar 10 CCGs'!$A$6:$C$160,3,FALSE)","v":"Programme Budget - Neurological - Non-elective (EM + ONEL) admissions per 1000 population across secondary care - Activity"},"2011/12","06Q",4802,null,384941,12.47,12.12,12.83,15.671447338499723,14.697875782146994,null,12.290000000000001,11.106,"B","Y55","X24","10702031","Byar"]
[1070203,{"$f":"VLOOKUP(tblData[[#This Row],[Indicator ID]],'Similar 10 CCGs'!$A$6:$C$160,3,FALSE)","v":"Programme Budget - Neurological - Non-elective (EM + ONEL) admissions per 1000 population across secondary care - Activity"},"2011/12","07T",2873,null,238163,12.06,11.63,12.51,15.671447338499723,13.403798869065987,null,13.066999999999998,11.087999999999999,"C","Y56","X24","10702031","Byar"]
[1070203,{"$f":"VLOOKUP(tblData[[#This Row],[Indicator ID]],'Similar 10 CCGs'!$A$6:$C$160,3,FALSE)","v":"Programme Budget - Neurological - Non-elective (EM + ONEL) admissions per 1000 population across secondary care - Activity"},"2011/12","08N",4179,null,262803,15.9,15.42,16.39,15.671447338499723,13.403798869065987,null,16.713999999999995,15.09,"A","Y56","X24","10702031","Byar"]
[1070203,{"$f":"VLOOKUP(tblData[[#This Row],[Indicator ID]],'Similar 10 CCGs'!$A$6:$C$160,3,FALSE)","v":"Programme Budget - Neurological - Non-elective (EM + ONEL) admissions per 1000 population across secondary care - Activity"},"2011/12","09H",1742,null,119518,14.58,13.9,15.28,15.671447338499723,14.001488898944633,null,15.757999999999999,13.25,"B","Y57","X24","10702031","Byar"]
[1070203,{"$f":"VLOOKUP(tblData[[#This Row],[Indicator ID]],'Similar 10 CCGs'!$A$6:$C$160,3,FALSE)","v":"Programme Budget - Neurological - Non-elective (EM + ONEL) admissions per 1000 population across secondary care - Activity"},"2011/12","09J",3765,null,251450,14.97,14.5,15.46,15.671447338499723,14.001488898944633,null,13.347,11.352,"A","Y57","X24","10702031","Byar"]
[1070203,{"$f":"VLOOKUP(tblData[[#This Row],[Indicator ID]],'Similar 10 CCGs'!$A$6:$C$160,3,FALSE)","v":"Programme Budget - Neurological - Non-elective (EM + ONEL) admissions per 1000 population across secondary care - Activity"},"2011/12","10V",3239,null,223816,14.47,13.98,14.98,15.671447338499723,14.001488898944633,null,14.090999999999999,12.434000000000001,"B","Y57","X24","10702031","Byar"]
[1070203,{"$f":"VLOOKUP(tblData[[#This Row],[Indicator ID]],'Similar 10 CCGs'!$A$6:$C$160,3,FALSE)","v":"Programme Budget - Neurological - Non-elective (EM + ONEL) admissions per 1000 population across secondary care - Activity"},"2011/12","11M",9285,null,642380,14.45,14.16,14.75,15.671447338499723,14.001488898944633,null,14.288,13.012,"","Y57","X24","10702031","Byar"]
[1070203,{"$f":"VLOOKUP(tblData[[#This Row],[Indicator ID]],'Similar 10 CCGs'!$A$6:$C$160,3,FALSE)","v":"Programme Budget - Neurological - Non-elective (EM + ONEL) admissions per 1000 population across secondary care - Activity"},"2011/12","99K",2163,null,175784,12.3,11.79,12.83,15.671447338499723,14.001488898944633,null,12.944999999999999,11.891999999999999,"","Y57","X24","10702031","Byar"]
[1070211,{"$f":"VLOOKUP(tblData[[#This Row],[Indicator ID]],'Similar 10 CCGs'!$A$6:$C$160,3,FALSE)","v":"Emergency admission rate for children with epilepsy per population aged 0–17 years"},"2011/12","00P",93,null,55884.387299191701,0.55471664803325804,0.44772792754787311,0.67956537017140817,2.1941987704593471,2.684133578317776,null,0.96520804912844049,0.78915067886053691,"C","Y54","X24","10702111","Byar"]
[1070211,{"$f":"VLOOKUP(tblData[[#This Row],[Indicator ID]],'Similar 10 CCGs'!$A$6:$C$160,3,FALSE)","v":"Emergency admission rate for children with epilepsy per population aged 0–17 years"},"2011/12","01J",108,null,34949.5875550493,1.0300550741348862,0.84497414234372104,1.2436266005992826,2.1941987704593471,2.684133578317776,null,0.99840685063141932,0.68047556461909076,"A","Y54","X24","10702111","Byar"]
[1070211,{"$f":"VLOOKUP(tblData[[#This Row],[Indicator ID]],'Similar 10 CCGs'!$A$6:$C$160,3,FALSE)","v":"Emergency admission rate for children with epilepsy per population aged 0–17 years"},"2011/12","02M",70,null,26871.76560342879,0.86832155645016651,0.67689925196656542,1.0970720487473795,2.1941987704593471,2.684133578317776,null,0.84686950271232109,0.63649459139112219,"B","Y54","X24","10702111","Byar"]
[1070211,{"$f":"VLOOKUP(tblData[[#This Row],[Indicator ID]],'Similar 10 CCGs'!$A$6:$C$160,3,FALSE)","v":"Emergency admission rate for children with epilepsy per population aged 0–17 years"},"2011/12","03G",118,null,57023.343164906924,0.6897759961141614,0.57094582393405779,0.8260448960068919,2.1941987704593471,2.684133578317776,null,0.91947402848509119,0.70525852539242528,"B","Y54","X24","10702111","Byar"]
[1070211,{"$f":"VLOOKUP(tblData[[#This Row],[Indicator ID]],'Similar 10 CCGs'!$A$6:$C$160,3,FALSE)","v":"Emergency admission rate for children with epilepsy per population aged 0–17 years"},"2011/12","04E",40,null,37459.881864404691,0.35593634228737375,0.25428614132873306,0.48468427424256888,2.1941987704593471,2.2576271627511559,null,0.8994758755633695,0.78071031391134782,"C","Y55","X24","10702111","Byar"]
[1070211,{"$f":"VLOOKUP(tblData[[#This Row],[Indicator ID]],'Similar 10 CCGs'!$A$6:$C$160,3,FALSE)","v":"Emergency admission rate for children with epilepsy per population aged 0–17 years"},"2011/12","05C",183,null,64334.285043309268,0.94817250178400736,0.81576812155900591,1.0959442211487098,2.1941987704593471,2.2576271627511559,null,0.65258625475745746,0.45158244671152492,"A","Y55","X24","10702111","Byar"]
[1070211,{"$f":"VLOOKUP(tblData[[#This Row],[Indicator ID]],'Similar 10 CCGs'!$A$6:$C$160,3,FALSE)","v":"Emergency admission rate for children with epilepsy per population aged 0–17 years"},"2011/12","05Y",145,null,62225.49694506541,0.77674483461343014,0.65546470666312273,0.91395979989148601,2.1941987704593471,2.2576271627511559,null,0.92585100535659048,0.70987281446924899,"","Y55","X24","10702111","Byar"]
[1070211,{"$f":"VLOOKUP(tblData[[#This Row],[Indicator ID]],'Similar 10 CCGs'!$A$6:$C$160,3,FALSE)","v":"Emergency admission rate for children with epilepsy per population aged 0–17 years"},"2011/12","06V",80,null,28257.706096641836,0.94369537907522327,0.74829174472550941,1.1745105875062645,2.1941987704593471,2.2576271627511559,null,0.86712729301599722,0.60164604360385288,"B","Y55","X24","10702111","Byar"]
[1070211,{"$f":"VLOOKUP(tblData[[#This Row],[Indicator ID]],'Similar 10 CCGs'!$A$6:$C$160,3,FALSE)","v":"Emergency admission rate for children with epilepsy per population aged 0–17 years"},"2011/12","08D",94,null,60911.945166053396,0.51440375525547322,0.41569059616582427,0.62949991946155737,2.1941987704593471,1.4993463175671722,null,0.51189796976177204,0.39083131221670442,"B","Y56","X24","10702111","Byar"]
[1070211,{"$f":"VLOOKUP(tblData[[#This Row],[Indicator ID]],'Similar 10 CCGs'!$A$6:$C$160,3,FALSE)","v":"Emergency admission rate for children with epilepsy per population aged 0–17 years"},"2011/12","08X",78,null,65314.647052023247,0.39807303833841357,0.3146602178217463,0.49681316746268916,2.1941987704593471,1.4993463175671722,null,0.54122545922860044,0.42602846770492137,"","Y56","X24","10702111","Byar"]
[1070211,{"$f":"VLOOKUP(tblData[[#This Row],[Indicator ID]],'Similar 10 CCGs'!$A$6:$C$160,3,FALSE)","v":"Emergency admission rate for children with epilepsy per population aged 0–17 years"},"2011/12","09Y",109,null,73245.996149474449,0.49604531637725607,0.40730482051667283,0.59837828909723334,2.1941987704593471,2.0205701779195211,null,0.56673618118690727,0.44991352092493997,"B","Y57","X24","10702111","Byar"]
[1070211,{"$f":"VLOOKUP(tblData[[#This Row],[Indicator ID]],'Similar 10 CCGs'!$A$6:$C$160,3,FALSE)","v":"Emergency admission rate for children with epilepsy per population aged 0–17 years"},"2011/12","10V",124,null,41533.596272287505,0.99517829042201689,0.82773781362377563,1.1865439656782091,2.1941987704593471,2.0205701779195211,null,0.68273746965838922,0.53450402689626952,"A","Y57","X24","10702111","Byar"]
[1070211,{"$f":"VLOOKUP(tblData[[#This Row],[Indicator ID]],'Similar 10 CCGs'!$A$6:$C$160,3,FALSE)","v":"Emergency admission rate for children with epilepsy per population aged 0–17 years"},"2011/12","12F",150,null,67768.517186578887,0.7378057256637478,0.62445988477565861,0.86577648641018989,2.1941987704593471,2.684133578317776,null,0.85711470067975437,0.72556839006993901,"B","Y54","X24","10702111","Byar"]
[1070312,{"$f":"VLOOKUP(tblData[[#This Row],[Indicator ID]],'Similar 10 CCGs'!$A$6:$C$160,3,FALSE)","v":"Mortality from epilepsy: Under 75 Directly age-standardised rates (DSR) per 100,000 European Standard population,"},"2009-11","00C",2,null,276347.23356788495,0.82256797573944873,9.924293413694818E-2,2.9725095919325955,1.4401741703125536E-2,1.5052351533168808E-2,null,1.6590924223853218,0.97826657872340061,"B","Y54","X24","10703121","Byar"]
[1070312,{"$f":"VLOOKUP(tblData[[#This Row],[Indicator ID]],'Similar 10 CCGs'!$A$6:$C$160,3,FALSE)","v":"Mortality from epilepsy: Under 75 Directly age-standardised rates (DSR) per 100,000 European Standard population,"},"2009-11","00W",7,null,548848.95683040249,1.3578130406692501,0.48712323715757688,2.9018666295879778,1.4401741703125536E-2,1.5052351533168808E-2,null,1.6100859358582233,1.1626681134842118,"B","Y54","X24","10703121","Byar"]
[1070312,{"$f":"VLOOKUP(tblData[[#This Row],[Indicator ID]],'Similar 10 CCGs'!$A$6:$C$160,3,FALSE)","v":"Mortality from epilepsy: Under 75 Directly age-standardised rates (DSR) per 100,000 European Standard population,"},"2009-11","01V",4,null,318243.84079485992,1.0928655157933986,0.25572575806544084,2.8883432865506924,1.4401741703125536E-2,1.5052351533168808E-2,null,1.2411088192251121,0.74882803202371462,"B","Y54","X24","10703121","Byar"]
[1070312,{"$f":"VLOOKUP(tblData[[#This Row],[Indicator ID]],'Similar 10 CCGs'!$A$6:$C$160,3,FALSE)","v":"Mortality from epilepsy: Under 75 Directly age-standardised rates (DSR) per 100,000 European Standard population,"},"2009-11","02T",7,null,563942.78382268269,1.1487862671596301,0.45638875545457436,2.3766619797207396,1.4401741703125536E-2,1.5052351533168808E-2,null,1.528421989566972,1.0017345621002383,"B","Y54","X24","10703121","Byar"]
[1070312,{"$f":"VLOOKUP(tblData[[#This Row],[Indicator ID]],'Similar 10 CCGs'!$A$6:$C$160,3,FALSE)","v":"Mortality from epilepsy: Under 75 Directly age-standardised rates (DSR) per 100,000 European Standard population,"},"2009-11","03R",15,null,937898.36590597581,1.4427063346492039,0.80185177211039138,2.3878128661456279,1.4401741703125536E-2,1.5052351533168808E-2,null,1.3496075701815857,1.0337840598460422,"B","Y54","X24","10703121","Byar"]
[1070312,{"$f":"VLOOKUP(tblData[[#This Row],[Indicator ID]],'Similar 10 CCGs'!$A$6:$C$160,3,FALSE)","v":"Mortality from epilepsy: Under 75 Directly age-standardised rates (DSR) per 100,000 European Standard population,"},"2009-11","04L",2,null,389712.88391941012,0.47218532253751455,4.8310287283062303E-2,1.7320706105401495,1.4401741703125536E-2,1.5498535219356372E-2,null,1.7305838403597531,1.0893298509630749,"B","Y55","X24","10703121","Byar"]
[1070312,{"$f":"VLOOKUP(tblData[[#This Row],[Indicator ID]],'Similar 10 CCGs'!$A$6:$C$160,3,FALSE)","v":"Mortality from epilepsy: Under 75 Directly age-standardised rates (DSR) per 100,000 European Standard population,"},"2009-11","05L",27,null,1321400.2395089865,2.0687876490902335,1.3590789273037094,3.0156679239384543,1.4401741703125536E-2,1.5498535219356372E-2,null,1.9429254402593361,1.5338168290626815,"B","Y55","X24","10703121","Byar"]
[1070312,{"$f":"VLOOKUP(tblData[[#This Row],[Indicator ID]],'Similar 10 CCGs'!$A$6:$C$160,3,FALSE)","v":"Mortality from epilepsy: Under 75 Directly age-standardised rates (DSR) per 100,000 European Standard population,"},"2009-11","06M",8,null,598060.62521399977,1.3138465611144727,0.53663686258222498,2.6410360068309497,1.4401741703125536E-2,1.5498535219356372E-2,null,1.4035592496330351,1.0319837145251038,"B","Y55","X24","10703121","Byar"]
[1070312,{"$f":"VLOOKUP(tblData[[#This Row],[Indicator ID]],'Similar 10 CCGs'!$A$6:$C$160,3,FALSE)","v":"Mortality from epilepsy: Under 75 Directly age-standardised rates (DSR) per 100,000 European Standard population,"},"2009-11","07P",9,null,792430.02925789182,1.144594043645875,0.51557050497953083,2.1857240578346895,1.4401741703125536E-2,1.1966268343030722E-2,null,1.2464563134348903,0.68014376608332727,"B","Y56","X24","10703121","Byar"]
[1070312,{"$f":"VLOOKUP(tblData[[#This Row],[Indicator ID]],'Similar 10 CCGs'!$A$6:$C$160,3,FALSE)","v":"Mortality from epilepsy: Under 75 Directly age-standardised rates (DSR) per 100,000 European Standard population,"},"2009-11","08J",8,null,508086.52932139038,1.5823382980573317,0.67336281126830355,3.1345354396519829,1.4401741703125536E-2,1.1966268343030722E-2,null,1.2760416001777184,0.90956644840289458,"B","Y56","X24","10703121","Byar"]
[1070312,{"$f":"VLOOKUP(tblData[[#This Row],[Indicator ID]],'Similar 10 CCGs'!$A$6:$C$160,3,FALSE)","v":"Mortality from epilepsy: Under 75 Directly age-standardised rates (DSR) per 100,000 European Standard population,"},"2009-11","09E",14,null,541527.53914602345,2.4061323576730045,1.2916755097568586,4.072639929101685,1.4401741703125536E-2,1.3854234327294703E-2,null,1.3388586462599767,0.94179320443688541,"A","Y57","X24","10703121","Byar"]
[1070312,{"$f":"VLOOKUP(tblData[[#This Row],[Indicator ID]],'Similar 10 CCGs'!$A$6:$C$160,3,FALSE)","v":"Mortality from epilepsy: Under 75 Directly age-standardised rates (DSR) per 100,000 European Standard population,"},"2009-11","10G",6,null,375915.86126362206,1.420101764139637,0.51750527390110801,3.0977423831539523,1.4401741703125536E-2,1.3854234327294703E-2,null,1.1613657679833489,0.64191021147787175,"B","Y57","X24","10703121","Byar"]
[1070312,{"$f":"VLOOKUP(tblData[[#This Row],[Indicator ID]],'Similar 10 CCGs'!$A$6:$C$160,3,FALSE)","v":"Mortality from epilepsy: Under 75 Directly age-standardised rates (DSR) per 100,000 European Standard population,"},"2009-11","11D",2,null,425252.01669462433,0.49090104632068043,5.9171296736437673E-2,1.7741329299057278,1.4401741703125536E-2,1.3854234327294703E-2,null,1.1760999206629263,0.74510468409117525,"B","Y57","X24","10703121","Byar"]
[1070312,{"$f":"VLOOKUP(tblData[[#This Row],[Indicator ID]],'Similar 10 CCGs'!$A$6:$C$160,3,FALSE)","v":"Mortality from epilepsy: Under 75 Directly age-standardised rates (DSR) per 100,000 European Standard population,"},"2009-11","11X",20,null,1399029.4662536844,1.4446549348424089,0.85764744483372135,2.2658247769260655,1.4401741703125536E-2,1.3854234327294703E-2,null,1.2177014360878955,0.95818398873479393,"B","Y57","X24","10703121","Byar"]
[1070313,{"$f":"VLOOKUP(tblData[[#This Row],[Indicator ID]],'Similar 10 CCGs'!$A$6:$C$160,3,FALSE)","v":"Epilepsy 08: Percentage of patients with epilepsy on drug treatment and convulsion free, 18+ yrs"},"2011/12","00K",1220,null,2162,56.429232192414439,54.33,58.51,621.2026243336652,582.58334619890468,null,58.477921125756971,60.078735204084111,"B","Y54","X24","10703131","Wilson"]
[1070313,{"$f":"VLOOKUP(tblData[[#This Row],[Indicator ID]],'Similar 10 CCGs'!$A$6:$C$160,3,FALSE)","v":"Epilepsy 08: Percentage of patients with epilepsy on drug treatment and convulsion free, 18+ yrs"},"2011/12","01F",536,null,931,57.572502685284647,54.37,60.71,621.2026243336652,582.58334619890468,null,57.086855563826333,59.546886493343301,"B","Y54","X24","10703131","Wilson"]
[1070313,{"$f":"VLOOKUP(tblData[[#This Row],[Indicator ID]],'Similar 10 CCGs'!$A$6:$C$160,3,FALSE)","v":"Epilepsy 08: Percentage of patients with epilepsy on drug treatment and convulsion free, 18+ yrs"},"2011/12","02E",828,null,1311,63.157894736842103,60.51,65.73,621.2026243336652,582.58334619890468,null,60.997779939738393,64.258566399279118,"B","Y54","X24","10703131","Wilson"]
[1070313,{"$f":"VLOOKUP(tblData[[#This Row],[Indicator ID]],'Similar 10 CCGs'!$A$6:$C$160,3,FALSE)","v":"Epilepsy 08: Percentage of patients with epilepsy on drug treatment and convulsion free, 18+ yrs"},"2011/12","03D",635,null,922,68.872017353579167,65.81,71.78,621.2026243336652,582.58334619890468,null,66.926796194644368,69.093222227455428,"B","Y54","X24","10703131","Wilson"]
[1070313,{"$f":"VLOOKUP(tblData[[#This Row],[Indicator ID]],'Similar 10 CCGs'!$A$6:$C$160,3,FALSE)","v":"Epilepsy 08: Percentage of patients with epilepsy on drug treatment and convulsion free, 18+ yrs"},"2011/12","03X",445,null,724,61.46408839779005,57.87,64.94,621.2026243336652,635.27962085308059,null,62.256348271145676,64.235399469411846,"B","Y55","X24","10703131","Wilson"]
[1070313,{"$f":"VLOOKUP(tblData[[#This Row],[Indicator ID]],'Similar 10 CCGs'!$A$6:$C$160,3,FALSE)","v":"Epilepsy 08: Percentage of patients with epilepsy on drug treatment and convulsion free, 18+ yrs"},"2011/12","04V",1473,null,2147,68.607359105728932,66.61,70.540000000000006,621.2026243336652,635.27962085308059,null,63.479498685195523,65.362224665923492,"C","Y55","X24","10703131","Wilson"]
[1070313,{"$f":"VLOOKUP(tblData[[#This Row],[Indicator ID]],'Similar 10 CCGs'!$A$6:$C$160,3,FALSE)","v":"Epilepsy 08: Percentage of patients with epilepsy on drug treatment and convulsion free, 18+ yrs"},"2011/12","05V",696,null,1076,64.684014869888472,61.78,67.48,621.2026243336652,635.27962085308059,null,65.826789937381349,68.312827019004871,"B","Y55","X24","10703131","Wilson"]
[1070313,{"$f":"VLOOKUP(tblData[[#This Row],[Indicator ID]],'Similar 10 CCGs'!$A$6:$C$160,3,FALSE)","v":"Epilepsy 08: Percentage of patients with epilepsy on drug treatment and convulsion free, 18+ yrs"},"2011/12","06V",810,null,1203,67.331670822942641,64.63,69.92,621.2026243336652,635.27962085308059,null,65.285952185683101,67.454280876178359,"B","Y55","X24","10703131","Wilson"]
[1070313,{"$f":"VLOOKUP(tblData[[#This Row],[Indicator ID]],'Similar 10 CCGs'!$A$6:$C$160,3,FALSE)","v":"Epilepsy 08: Percentage of patients with epilepsy on drug treatment and convulsion free, 18+ yrs"},"2011/12","07W",1021,null,1698,60.129564193168441,57.78,62.43,621.2026243336652,606.83847920387859,null,60.730660162257664,63.206318015406929,"B","Y56","X24","10703131","Wilson"]
[1070313,{"$f":"VLOOKUP(tblData[[#This Row],[Indicator ID]],'Similar 10 CCGs'!$A$6:$C$160,3,FALSE)","v":"Epilepsy 08: Percentage of patients with epilepsy on drug treatment and convulsion free, 18+ yrs"},"2011/12","08N",753,null,1211,62.180016515276627,59.41,64.87,621.2026243336652,606.83847920387859,null,61.201577820515297,63.542936522096369,"B","Y56","X24","10703131","Wilson"]
[1070313,{"$f":"VLOOKUP(tblData[[#This Row],[Indicator ID]],'Similar 10 CCGs'!$A$6:$C$160,3,FALSE)","v":"Epilepsy 08: Percentage of patients with epilepsy on drug treatment and convulsion free, 18+ yrs"},"2011/12","08R",515,null,849,60.659599528857477,57.33,63.89,621.2026243336652,606.83847920387859,null,65.178138319763107,68.8193196831036,"A","Y56","X24","10703131","Wilson"]
[1070313,{"$f":"VLOOKUP(tblData[[#This Row],[Indicator ID]],'Similar 10 CCGs'!$A$6:$C$160,3,FALSE)","v":"Epilepsy 08: Percentage of patients with epilepsy on drug treatment and convulsion free, 18+ yrs"},"2011/12","09P",867,null,1348,64.317507418397625,61.72,66.83,621.2026243336652,659.65110775021071,null,63.176712040875294,65.866316514979005,"B","Y57","X24","10703131","Wilson"]
[1070313,{"$f":"VLOOKUP(tblData[[#This Row],[Indicator ID]],'Similar 10 CCGs'!$A$6:$C$160,3,FALSE)","v":"Epilepsy 08: Percentage of patients with epilepsy on drug treatment and convulsion free, 18+ yrs"},"2011/12","10Q",2515,null,3677,68.398150666304048,66.88,69.88,621.2026243336652,659.65110775021071,null,65.739881071363754,67.095638146577869,"C","Y57","X24","10703131","Wilson"]
[1070313,{"$f":"VLOOKUP(tblData[[#This Row],[Indicator ID]],'Similar 10 CCGs'!$A$6:$C$160,3,FALSE)","v":"Epilepsy 08: Percentage of patients with epilepsy on drug treatment and convulsion free, 18+ yrs"},"2011/12","11T",965,null,1428,67.577030812324935,65.099999999999994,69.95,621.2026243336652,659.65110775021071,null,65.572834809816356,67.343190199999938,"B","Y57","X24","10703131","Wilson"]
[1070313,{"$f":"VLOOKUP(tblData[[#This Row],[Indicator ID]],'Similar 10 CCGs'!$A$6:$C$160,3,FALSE)","v":"Epilepsy 08: Percentage of patients with epilepsy on drug treatment and convulsion free, 18+ yrs"},"2011/12","99N",1985,null,2939,67.539979584892819,65.83,69.209999999999994,621.2026243336652,659.65110775021071,null,66.823043601585212,67.725268249451105,"B","Y57","X24","10703131","Wilson"]
[1100101,{"$f":"VLOOKUP(tblData[[#This Row],[Indicator ID]],'Similar 10 CCGs'!$A$6:$C$160,3,FALSE)","v":"Programme Budget - Circulation - Total admissions per 1000 population across secondary care - Cost"},"2011/12","00R",9649416,null,197092,48958.97,47338.99,50620.25,38471.917703990126,41081.283336104934,null,39340.834000000003,31661.378000000004,"A","Y54","X24","11001011","Byar"]
[1100101,{"$f":"VLOOKUP(tblData[[#This Row],[Indicator ID]],'Similar 10 CCGs'!$A$6:$C$160,3,FALSE)","v":"Programme Budget - Circulation - Total admissions per 1000 population across secondary care - Cost"},"2011/12","01N",5785243,null,129296,44744.04,42839.8,46711.13,38471.917703990126,41081.283336104934,null,41486.381999999998,35959.210000000006,"A","Y54","X24","11001011","Byar"]
[1100101,{"$f":"VLOOKUP(tblData[[#This Row],[Indicator ID]],'Similar 10 CCGs'!$A$6:$C$160,3,FALSE)","v":"Programme Budget - Circulation - Total admissions per 1000 population across secondary care - Cost"},"2011/12","02P",11524147,null,259230,44455.22,43199.360000000001,45738.33,38471.917703990126,41081.283336104934,null,38559.995999999999,32310.170000000002,"A","Y54","X24","11001011","Byar"]
[1100101,{"$f":"VLOOKUP(tblData[[#This Row],[Indicator ID]],'Similar 10 CCGs'!$A$6:$C$160,3,FALSE)","v":"Programme Budget - Circulation - Total admissions per 1000 population across secondary care - Cost"},"2011/12","03J",6098800,null,167251,36465.040000000001,35049.21,37923.379999999997,38471.917703990126,41081.283336104934,null,43814.044999999998,40054.911999999997,"","Y54","X24","11001011","Byar"]
[1100101,{"$f":"VLOOKUP(tblData[[#This Row],[Indicator ID]],'Similar 10 CCGs'!$A$6:$C$160,3,FALSE)","v":"Programme Budget - Circulation - Total admissions per 1000 population across secondary care - Cost"},"2011/12","04K",10831827,null,258193,41952.43,40673.980000000003,43260.85,38471.917703990126,34160.08321993483,null,39126.347000000002,33787.506000000008,"A","Y55","X24","11001011","Byar"]
[1100101,{"$f":"VLOOKUP(tblData[[#This Row],[Indicator ID]],'Similar 10 CCGs'!$A$6:$C$160,3,FALSE)","v":"Programme Budget - Circulation - Total admissions per 1000 population across secondary care - Cost"},"2011/12","05G",7442654,null,245274,30344.27,29263.93,31454.29,38471.917703990126,34160.08321993483,null,34016.988999999994,28510.304000000004,"","Y55","X24","11001011","Byar"]
[1100101,{"$f":"VLOOKUP(tblData[[#This Row],[Indicator ID]],'Similar 10 CCGs'!$A$6:$C$160,3,FALSE)","v":"Programme Budget - Circulation - Total admissions per 1000 population across secondary care - Cost"},"2011/12","06F",14436336,null,431525,33454.21,32602.43,34322.61,38471.917703990126,34160.08321993483,null,33109.792999999998,27689.088,"B","Y55","X24","11001011","Byar"]
[1100101,{"$f":"VLOOKUP(tblData[[#This Row],[Indicator ID]],'Similar 10 CCGs'!$A$6:$C$160,3,FALSE)","v":"Programme Budget - Circulation - Total admissions per 1000 population across secondary care - Cost"},"2011/12","07L",7380050,null,138510,53281.82,51203.97,55422.34,38471.917703990126,44408.535343845761,null,43596.794999999998,38124.875999999997,"A","Y56","X24","11001011","Byar"]
[1100101,{"$f":"VLOOKUP(tblData[[#This Row],[Indicator ID]],'Similar 10 CCGs'!$A$6:$C$160,3,FALSE)","v":"Programme Budget - Circulation - Total admissions per 1000 population across secondary care - Cost"},"2011/12","08F",12127289,null,277764,43660.33,42315.67,45036.85,38471.917703990126,44408.535343845761,null,34711.856,29759.606,"A","Y56","X24","11001011","Byar"]
[1100101,{"$f":"VLOOKUP(tblData[[#This Row],[Indicator ID]],'Similar 10 CCGs'!$A$6:$C$160,3,FALSE)","v":"Programme Budget - Circulation - Total admissions per 1000 population across secondary care - Cost"},"2011/12","09A",5150400,null,137766,37385.160000000003,35709.279999999999,39119.379999999997,38471.917703990126,44408.535343845761,null,39665.136000000006,36538.721999999994,"C","Y56","X24","11001011","Byar"]
[1100101,{"$f":"VLOOKUP(tblData[[#This Row],[Indicator ID]],'Similar 10 CCGs'!$A$6:$C$160,3,FALSE)","v":"Programme Budget - Circulation - Total admissions per 1000 population across secondary care - Cost"},"2011/12","10C",3705008,null,93871,39469.040000000001,37436.959999999999,41582.75,38471.917703990126,38070.364768959036,null,32780.050000000003,29004.905999999999,"A","Y57","X24","11001011","Byar"]
[1100101,{"$f":"VLOOKUP(tblData[[#This Row],[Indicator ID]],'Similar 10 CCGs'!$A$6:$C$160,3,FALSE)","v":"Programme Budget - Circulation - Total admissions per 1000 population across secondary care - Cost"},"2011/12","10X",9222598,null,224829,41020.51,39589.31,42490.239999999998,38471.917703990126,38070.364768959036,null,39883.596999999994,36107.851999999999,"A","Y57","X24","11001011","Byar"]
[1100101,{"$f":"VLOOKUP(tblData[[#This Row],[Indicator ID]],'Similar 10 CCGs'!$A$6:$C$160,3,FALSE)","v":"Programme Budget - Circulation - Total admissions per 1000 population across secondary care - Cost"},"2011/12","99A",14550758,null,446660,32576.81,31783.22,33385.21,38471.917703990126,41081.283336104934,null,41683.932000000008,36208.873999999996,"C","Y54","X24","11001011","Byar"]
[1100101,{"$f":"VLOOKUP(tblData[[#This Row],[Indicator ID]],'Similar 10 CCGs'!$A$6:$C$160,3,FALSE)","v":"Programme Budget - Circulation - Total admissions per 1000 population across secondary care - Cost"},"2011/12","99K",7458915,null,197508,37765.199999999997,36312.36,39261.26,38471.917703990126,38070.364768959036,null,35721.262000000002,30396.93,"A","Y57","X24","11001011","Byar"]
[1100102,{"$f":"VLOOKUP(tblData[[#This Row],[Indicator ID]],'Similar 10 CCGs'!$A$6:$C$160,3,FALSE)","v":"Programme Budget - Circulation - Total elective (IP + DC) admissions per 1000 population across secondary care - Cost"},"2011/12","01A",6325208,null,377571,16752.39,16155.76,17365.41,11273.606170788113,11321.147940604922,null,11984.341,9945.8420000000006,"A","Y54","X24","11001021","Byar"]
[1100102,{"$f":"VLOOKUP(tblData[[#This Row],[Indicator ID]],'Similar 10 CCGs'!$A$6:$C$160,3,FALSE)","v":"Programme Budget - Circulation - Total elective (IP + DC) admissions per 1000 population across secondary care - Cost"},"2011/12","01Y",3143236,null,235627,13339.86,12577.29,14136.58,11273.606170788113,11321.147940604922,null,9259.3760000000002,7298.1759999999995,"A","Y54","X24","11001021","Byar"]
[1100102,{"$f":"VLOOKUP(tblData[[#This Row],[Indicator ID]],'Similar 10 CCGs'!$A$6:$C$160,3,FALSE)","v":"Programme Budget - Circulation - Total elective (IP + DC) admissions per 1000 population across secondary care - Cost"},"2011/12","02X",2895904,null,325188,8905.34,8477.82,9348.82,11273.606170788113,11321.147940604922,null,11085.184999999999,8385.9359999999997,"","Y54","X24","11001021","Byar"]
[1100102,{"$f":"VLOOKUP(tblData[[#This Row],[Indicator ID]],'Similar 10 CCGs'!$A$6:$C$160,3,FALSE)","v":"Programme Budget - Circulation - Total elective (IP + DC) admissions per 1000 population across secondary care - Cost"},"2011/12","03T",3749991,null,315482,11886.53,11313.64,12480.92,11273.606170788113,9034.5557955572094,null,11250.92,7663.8020000000006,"A","Y55","X24","11001021","Byar"]
[1100102,{"$f":"VLOOKUP(tblData[[#This Row],[Indicator ID]],'Similar 10 CCGs'!$A$6:$C$160,3,FALSE)","v":"Programme Budget - Circulation - Total elective (IP + DC) admissions per 1000 population across secondary care - Cost"},"2011/12","04N",1317668,null,136523,9651.64,8886.5400000000009,10465,11273.606170788113,9034.5557955572094,null,12088.574000000002,9868.6280000000006,"","Y55","X24","11001021","Byar"]
[1100102,{"$f":"VLOOKUP(tblData[[#This Row],[Indicator ID]],'Similar 10 CCGs'!$A$6:$C$160,3,FALSE)","v":"Programme Budget - Circulation - Total elective (IP + DC) admissions per 1000 population across secondary care - Cost"},"2011/12","05P",2275710,null,256539,8870.81,8403.86,9356.9500000000007,11273.606170788113,9034.5557955572094,null,8897.9680000000008,6529.1920000000009,"","Y55","X24","11001021","Byar"]
[1100102,{"$f":"VLOOKUP(tblData[[#This Row],[Indicator ID]],'Similar 10 CCGs'!$A$6:$C$160,3,FALSE)","v":"Programme Budget - Circulation - Total elective (IP + DC) admissions per 1000 population across secondary care - Cost"},"2011/12","06P",1320336,null,170804,7730.13,7157.89,8335.94,11273.606170788113,9034.5557955572094,null,11902.460000000001,8940.6980000000003,"C","Y55","X24","11001021","Byar"]
[1100102,{"$f":"VLOOKUP(tblData[[#This Row],[Indicator ID]],'Similar 10 CCGs'!$A$6:$C$160,3,FALSE)","v":"Programme Budget - Circulation - Total elective (IP + DC) admissions per 1000 population across secondary care - Cost"},"2011/12","07R",2069331,null,165452,12507.14,11647.39,13413.55,11273.606170788113,14371.480892648775,null,11935.775,10672.528000000002,"B","Y56","X24","11001021","Byar"]
[1100102,{"$f":"VLOOKUP(tblData[[#This Row],[Indicator ID]],'Similar 10 CCGs'!$A$6:$C$160,3,FALSE)","v":"Programme Budget - Circulation - Total elective (IP + DC) admissions per 1000 population across secondary care - Cost"},"2011/12","08M",3387520,null,207397,16333.47,15450.14,17254.14,11273.606170788113,14371.480892648775,null,13744.622999999998,11589.038,"A","Y56","X24","11001021","Byar"]
[1100102,{"$f":"VLOOKUP(tblData[[#This Row],[Indicator ID]],'Similar 10 CCGs'!$A$6:$C$160,3,FALSE)","v":"Programme Budget - Circulation - Total elective (IP + DC) admissions per 1000 population across secondary care - Cost"},"2011/12","09F",3800759,null,239301,15882.74,15099.8,16695.75,11273.606170788113,12367.042518358128,null,9583.527,7532.2480000000014,"A","Y57","X24","11001021","Byar"]
[1100102,{"$f":"VLOOKUP(tblData[[#This Row],[Indicator ID]],'Similar 10 CCGs'!$A$6:$C$160,3,FALSE)","v":"Programme Budget - Circulation - Total elective (IP + DC) admissions per 1000 population across secondary care - Cost"},"2011/12","10K",2333040,null,226171,10315.36,9660.8799999999992,11002.51,11273.606170788113,12367.042518358128,null,9842.3880000000008,8414.0879999999997,"A","Y57","X24","11001021","Byar"]
[1100102,{"$f":"VLOOKUP(tblData[[#This Row],[Indicator ID]],'Similar 10 CCGs'!$A$6:$C$160,3,FALSE)","v":"Programme Budget - Circulation - Total elective (IP + DC) admissions per 1000 population across secondary care - Cost"},"2011/12","11J",15404053,null,957893,16081.19,15695.16,16474.32,11273.606170788113,12367.042518358128,null,12076.866,10122.967999999999,"A","Y57","X24","11001021","Byar"]
[1100102,{"$f":"VLOOKUP(tblData[[#This Row],[Indicator ID]],'Similar 10 CCGs'!$A$6:$C$160,3,FALSE)","v":"Programme Budget - Circulation - Total elective (IP + DC) admissions per 1000 population across secondary care - Cost"},"2011/12","99H",3959999,null,322363,12284.28,11662.38,12930.74,11273.606170788113,12367.042518358128,null,10134.655999999999,7170.0199999999995,"A","Y57","X24","11001021","Byar"]
[1100103,{"$f":"VLOOKUP(tblData[[#This Row],[Indicator ID]],'Similar 10 CCGs'!$A$6:$C$160,3,FALSE)","v":"Programme Budget - Circulation - Non-elective (EM + ONEL) admissions per 1000 population across secondary care - Cost"},"2011/12","00M",9150408,null,293754,31149.86,30085.1,32242.68,27198.305248511915,29761.758351104036,null,31172.449000000001,27001.482,"B","Y54","X24","11001031","Byar"]
[1100103,{"$f":"VLOOKUP(tblData[[#This Row],[Indicator ID]],'Similar 10 CCGs'!$A$6:$C$160,3,FALSE)","v":"Programme Budget - Circulation - Non-elective (EM + ONEL) admissions per 1000 population across secondary care - Cost"},"2011/12","01H",21117839,null,648219,32578.23,31841.82,33327.370000000003,27198.305248511915,29761.758351104036,null,27220.128999999997,24100.239999999998,"A","Y54","X24","11001031","Byar"]
[1100103,{"$f":"VLOOKUP(tblData[[#This Row],[Indicator ID]],'Similar 10 CCGs'!$A$6:$C$160,3,FALSE)","v":"Programme Budget - Circulation - Non-elective (EM + ONEL) admissions per 1000 population across secondary care - Cost"},"2011/12","02G",2635100,null,121922,21612.94,20368.27,22913.759999999998,27198.305248511915,29761.758351104036,null,24714.707000000002,23419,"","Y54","X24","11001031","Byar"]
[1100103,{"$f":"VLOOKUP(tblData[[#This Row],[Indicator ID]],'Similar 10 CCGs'!$A$6:$C$160,3,FALSE)","v":"Programme Budget - Circulation - Non-elective (EM + ONEL) admissions per 1000 population across secondary care - Cost"},"2011/12","03F",7980745,null,271535,29391.17,28384.68,30424.25,27198.305248511915,29761.758351104036,null,32098.246000000006,28161.292000000005,"B","Y54","X24","11001031","Byar"]
[1100103,{"$f":"VLOOKUP(tblData[[#This Row],[Indicator ID]],'Similar 10 CCGs'!$A$6:$C$160,3,FALSE)","v":"Programme Budget - Circulation - Non-elective (EM + ONEL) admissions per 1000 population across secondary care - Cost"},"2011/12","04C",9699979,null,280411,34592.03,33392.949999999997,35823.17,27198.305248511915,25122.688835072546,null,31911.878000000004,27407.97,"A","Y55","X24","11001031","Byar"]
[1100103,{"$f":"VLOOKUP(tblData[[#This Row],[Indicator ID]],'Similar 10 CCGs'!$A$6:$C$160,3,FALSE)","v":"Programme Budget - Circulation - Non-elective (EM + ONEL) admissions per 1000 population across secondary care - Cost"},"2011/12","04Y",3647235,null,136907,26640.18,25277.14,28057.62,27198.305248511915,25122.688835072546,null,27717.643,24654.644,"B","Y55","X24","11001031","Byar"]
[1100103,{"$f":"VLOOKUP(tblData[[#This Row],[Indicator ID]],'Similar 10 CCGs'!$A$6:$C$160,3,FALSE)","v":"Programme Budget - Circulation - Non-elective (EM + ONEL) admissions per 1000 population across secondary care - Cost"},"2011/12","05G",5310070,null,246030,21583.05,20664.060000000001,22532.37,27198.305248511915,25122.688835072546,null,25614.411,21928.125999999997,"C","Y55","X24","11001031","Byar"]
[1100103,{"$f":"VLOOKUP(tblData[[#This Row],[Indicator ID]],'Similar 10 CCGs'!$A$6:$C$160,3,FALSE)","v":"Programme Budget - Circulation - Non-elective (EM + ONEL) admissions per 1000 population across secondary care - Cost"},"2011/12","05Y",7122035,null,273787,26013.07,25043.16,27010.93,27198.305248511915,25122.688835072546,null,30119.597999999998,26126.958000000002,"","Y55","X24","11001031","Byar"]
[1100103,{"$f":"VLOOKUP(tblData[[#This Row],[Indicator ID]],'Similar 10 CCGs'!$A$6:$C$160,3,FALSE)","v":"Programme Budget - Circulation - Non-elective (EM + ONEL) admissions per 1000 population across secondary care - Cost"},"2011/12","07G",2878295,null,138489,20783.53,19526.25,22100.52,27198.305248511915,25122.688835072546,null,27348.720999999998,25089.885999999999,"C","Y55","X24","11001031","Byar"]
[1100103,{"$f":"VLOOKUP(tblData[[#This Row],[Indicator ID]],'Similar 10 CCGs'!$A$6:$C$160,3,FALSE)","v":"Programme Budget - Circulation - Non-elective (EM + ONEL) admissions per 1000 population across secondary care - Cost"},"2011/12","08C",3428235,null,122654,27950.37,26349.14,29623.47,27198.305248511915,29972.976954581576,null,30126.658999999996,25044.397999999997,"","Y56","X24","11001031","Byar"]
[1100103,{"$f":"VLOOKUP(tblData[[#This Row],[Indicator ID]],'Similar 10 CCGs'!$A$6:$C$160,3,FALSE)","v":"Programme Budget - Circulation - Non-elective (EM + ONEL) admissions per 1000 population across secondary care - Cost"},"2011/12","08V",4659298,null,131359,35470.01,33674.300000000003,37336.6,27198.305248511915,29972.976954581576,null,32766.609999999997,28586.530000000006,"A","Y56","X24","11001031","Byar"]
[1100103,{"$f":"VLOOKUP(tblData[[#This Row],[Indicator ID]],'Similar 10 CCGs'!$A$6:$C$160,3,FALSE)","v":"Programme Budget - Circulation - Non-elective (EM + ONEL) admissions per 1000 population across secondary care - Cost"},"2011/12","09X",5822927,null,248438,23438.14,22405.34,24506.26,27198.305248511915,25726.130529805585,null,23324.381000000001,21049.879999999997,"B","Y57","X24","11001031","Byar"]
[1100103,{"$f":"VLOOKUP(tblData[[#This Row],[Indicator ID]],'Similar 10 CCGs'!$A$6:$C$160,3,FALSE)","v":"Programme Budget - Circulation - Non-elective (EM + ONEL) admissions per 1000 population across secondary care - Cost"},"2011/12","10T",3158987,null,95304,33146.54,31182.71,35201.629999999997,27198.305248511915,25726.130529805585,null,30415.121000000003,27485.346000000001,"A","Y57","X24","11001031","Byar"]
[1100103,{"$f":"VLOOKUP(tblData[[#This Row],[Indicator ID]],'Similar 10 CCGs'!$A$6:$C$160,3,FALSE)","v":"Programme Budget - Circulation - Non-elective (EM + ONEL) admissions per 1000 population across secondary care - Cost"},"2011/12","12A",5362499,null,264228,20294.990000000002,19414.97,21204.62,27198.305248511915,25726.130529805585,null,24606.449000000001,22722.678,"C","Y57","X24","11001031","Byar"]
[1100103,{"$f":"VLOOKUP(tblData[[#This Row],[Indicator ID]],'Similar 10 CCGs'!$A$6:$C$160,3,FALSE)","v":"Programme Budget - Circulation - Non-elective (EM + ONEL) admissions per 1000 population across secondary care - Cost"},"2011/12","99Q",9983588,null,386768,25812.89,24993.47,26652.32,27198.305248511915,25726.130529805585,null,24913.615000000002,21323.178000000004,"A","Y57","X24","11001031","Byar"]
[1100105,{"$f":"VLOOKUP(tblData[[#This Row],[Indicator ID]],'Similar 10 CCGs'!$A$6:$C$160,3,FALSE)","v":"Programme Budget - Circulation - Cost prescribed per 1000 ASTRO-PU population - Cost"},"2011/12","00V",4515577,null,193212,23371.040000000001,23326.6,23415.54,22711.990321461228,25632.080093070665,null,25737.614000000001,22529.738000000001,"C","Y54","X24","11001051","Byar"]
[1100105,{"$f":"VLOOKUP(tblData[[#This Row],[Indicator ID]],'Similar 10 CCGs'!$A$6:$C$160,3,FALSE)","v":"Programme Budget - Circulation - Cost prescribed per 1000 ASTRO-PU population - Cost"},"2011/12","02H",10675832,null,324882,32860.69,32820.050000000003,32901.370000000003,22711.990321461228,25632.080093070665,null,26548.629000000004,23665.376,"A","Y54","X24","11001051","Byar"]
[1100105,{"$f":"VLOOKUP(tblData[[#This Row],[Indicator ID]],'Similar 10 CCGs'!$A$6:$C$160,3,FALSE)","v":"Programme Budget - Circulation - Cost prescribed per 1000 ASTRO-PU population - Cost"},"2011/12","02T",5399140,null,210864,25604.82,25560.29,25649.4,22711.990321461228,25632.080093070665,null,24096.371999999996,23087.884000000002,"A","Y54","X24","11001051","Byar"]
[1100105,{"$f":"VLOOKUP(tblData[[#This Row],[Indicator ID]],'Similar 10 CCGs'!$A$6:$C$160,3,FALSE)","v":"Programme Budget - Circulation - Cost prescribed per 1000 ASTRO-PU population - Cost"},"2011/12","03M",3165881,null,139302,22726.720000000001,22675.119999999999,22778.41,22711.990321461228,25632.080093070665,null,23564.260000000002,20202.646000000001,"","Y54","X24","11001051","Byar"]
[1100105,{"$f":"VLOOKUP(tblData[[#This Row],[Indicator ID]],'Similar 10 CCGs'!$A$6:$C$160,3,FALSE)","v":"Programme Budget - Circulation - Cost prescribed per 1000 ASTRO-PU population - Cost"},"2011/12","04K",5798957,null,277366,20907.27,20872.189999999999,20942.400000000001,22711.990321461228,22079.058599532105,null,23256.281999999999,20416.052000000003,"","Y55","X24","11001051","Byar"]
[1100105,{"$f":"VLOOKUP(tblData[[#This Row],[Indicator ID]],'Similar 10 CCGs'!$A$6:$C$160,3,FALSE)","v":"Programme Budget - Circulation - Cost prescribed per 1000 ASTRO-PU population - Cost"},"2011/12","05J",3934263,null,178097,22090.58,22045.59,22135.65,22711.990321461228,22079.058599532105,null,22957.4,21752.063999999998,"","Y55","X24","11001051","Byar"]
[1100105,{"$f":"VLOOKUP(tblData[[#This Row],[Indicator ID]],'Similar 10 CCGs'!$A$6:$C$160,3,FALSE)","v":"Programme Budget - Circulation - Cost prescribed per 1000 ASTRO-PU population - Cost"},"2011/12","06K",11906246,null,558713,21310.13,21285.17,21335.11,22711.990321461228,22079.058599532105,null,20208.839,19264.534000000003,"A","Y55","X24","11001051","Byar"]
[1100105,{"$f":"VLOOKUP(tblData[[#This Row],[Indicator ID]],'Similar 10 CCGs'!$A$6:$C$160,3,FALSE)","v":"Programme Budget - Circulation - Cost prescribed per 1000 ASTRO-PU population - Cost"},"2011/12","07N",5034003,null,228888,21993.26,21953.65,22032.92,22711.990321461228,21135.274523317254,null,23899.159999999996,21917.578000000001,"","Y56","X24","11001051","Byar"]
[1100105,{"$f":"VLOOKUP(tblData[[#This Row],[Indicator ID]],'Similar 10 CCGs'!$A$6:$C$160,3,FALSE)","v":"Programme Budget - Circulation - Cost prescribed per 1000 ASTRO-PU population - Cost"},"2011/12","08H",2997503,null,167568,17888.23,17846.490000000002,17930.05,22711.990321461228,21135.274523317254,null,19941.874000000003,18584.192000000003,"C","Y56","X24","11001051","Byar"]
[1100105,{"$f":"VLOOKUP(tblData[[#This Row],[Indicator ID]],'Similar 10 CCGs'!$A$6:$C$160,3,FALSE)","v":"Programme Budget - Circulation - Cost prescribed per 1000 ASTRO-PU population - Cost"},"2011/12","09D",4962527,null,267779,18532.150000000001,18498.53,18565.810000000001,22711.990321461228,21111.566102609857,null,22917.239000000001,19839.142,"C","Y57","X24","11001051","Byar"]
[1100105,{"$f":"VLOOKUP(tblData[[#This Row],[Indicator ID]],'Similar 10 CCGs'!$A$6:$C$160,3,FALSE)","v":"Programme Budget - Circulation - Cost prescribed per 1000 ASTRO-PU population - Cost"},"2011/12","10E",4287803,null,158441,27062.45,27009.65,27115.33,22711.990321461228,21111.566102609857,null,25199.436000000002,22226.475999999999,"A","Y57","X24","11001051","Byar"]
[1100105,{"$f":"VLOOKUP(tblData[[#This Row],[Indicator ID]],'Similar 10 CCGs'!$A$6:$C$160,3,FALSE)","v":"Programme Budget - Circulation - Cost prescribed per 1000 ASTRO-PU population - Cost"},"2011/12","11C",2778243,null,147613,18821.18,18775.57,18866.89,22711.990321461228,21111.566102609857,null,20832.885999999999,18917.428000000004,"","Y57","X24","11001051","Byar"]
[1100105,{"$f":"VLOOKUP(tblData[[#This Row],[Indicator ID]],'Similar 10 CCGs'!$A$6:$C$160,3,FALSE)","v":"Programme Budget - Circulation - Cost prescribed per 1000 ASTRO-PU population - Cost"},"2011/12","99E",6368384,null,269068,23668.27,23630.37,23706.21,22711.990321461228,22079.058599532105,null,21970.171000000002,20638.078000000001,"A","Y55","X24","11001051","Byar"]
[1100201,{"$f":"VLOOKUP(tblData[[#This Row],[Indicator ID]],'Similar 10 CCGs'!$A$6:$C$160,3,FALSE)","v":"Programme Budget - Circulation - Total admissions per 1000 population across secondary care - Activity"},"2011/12","00J",4197,null,257664,16.29,15.8,16.79,14.57956569866854,16.119359414514932,null,14.616999999999999,12.625999999999999,"A","Y54","X24","11002011","Byar"]
[1100201,{"$f":"VLOOKUP(tblData[[#This Row],[Indicator ID]],'Similar 10 CCGs'!$A$6:$C$160,3,FALSE)","v":"Programme Budget - Circulation - Total admissions per 1000 population across secondary care - Activity"},"2011/12","01E",3750,null,201072,18.649999999999999,18.059999999999999,19.260000000000002,14.57956569866854,16.119359414514932,null,15.226999999999999,13.375999999999999,"A","Y54","X24","11002011","Byar"]
[1100201,{"$f":"VLOOKUP(tblData[[#This Row],[Indicator ID]],'Similar 10 CCGs'!$A$6:$C$160,3,FALSE)","v":"Programme Budget - Circulation - Total admissions per 1000 population across secondary care - Activity"},"2011/12","02D",1211,null,104954,11.54,10.9,12.21,14.57956569866854,16.119359414514932,null,13.283000000000001,12.093999999999999,"","Y54","X24","11002011","Byar"]
[1100201,{"$f":"VLOOKUP(tblData[[#This Row],[Indicator ID]],'Similar 10 CCGs'!$A$6:$C$160,3,FALSE)","v":"Programme Budget - Circulation - Total admissions per 1000 population across secondary care - Activity"},"2011/12","03A",3571,null,235540,15.16,14.67,15.67,14.57956569866854,16.119359414514932,null,14.649000000000001,12.974,"B","Y54","X24","11002011","Byar"]
[1100201,{"$f":"VLOOKUP(tblData[[#This Row],[Indicator ID]],'Similar 10 CCGs'!$A$6:$C$160,3,FALSE)","v":"Programme Budget - Circulation - Total admissions per 1000 population across secondary care - Activity"},"2011/12","03W",4924,null,360999,13.64,13.26,14.03,14.57956569866854,13.555764349553472,null,12.363000000000003,11.506,"B","Y55","X24","11002011","Byar"]
[1100201,{"$f":"VLOOKUP(tblData[[#This Row],[Indicator ID]],'Similar 10 CCGs'!$A$6:$C$160,3,FALSE)","v":"Programme Budget - Circulation - Total admissions per 1000 population across secondary care - Activity"},"2011/12","04R",7277,null,538059,13.52,13.22,13.84,14.57956569866854,13.555764349553472,null,13.903000000000002,12.810000000000002,"B","Y55","X24","11002011","Byar"]
[1100201,{"$f":"VLOOKUP(tblData[[#This Row],[Indicator ID]],'Similar 10 CCGs'!$A$6:$C$160,3,FALSE)","v":"Programme Budget - Circulation - Total admissions per 1000 population across secondary care - Activity"},"2011/12","05R",3071,null,308387,9.9600000000000009,9.61,10.32,14.57956569866854,13.555764349553472,null,13.704999999999998,12.514000000000001,"C","Y55","X24","11002011","Byar"]
[1100201,{"$f":"VLOOKUP(tblData[[#This Row],[Indicator ID]],'Similar 10 CCGs'!$A$6:$C$160,3,FALSE)","v":"Programme Budget - Circulation - Total admissions per 1000 population across secondary care - Activity"},"2011/12","06A",3344,null,258946,12.91,12.48,13.36,14.57956569866854,13.555764349553472,null,15.687000000000001,13.696000000000002,"C","Y55","X24","11002011","Byar"]
[1100201,{"$f":"VLOOKUP(tblData[[#This Row],[Indicator ID]],'Similar 10 CCGs'!$A$6:$C$160,3,FALSE)","v":"Programme Budget - Circulation - Total admissions per 1000 population across secondary care - Activity"},"2011/12","07W",5455,null,290108,18.8,18.309999999999999,19.309999999999999,14.57956569866854,15.386929858239855,null,15.610000000000003,14.168000000000001,"A","Y56","X24","11002011","Byar"]
[1100201,{"$f":"VLOOKUP(tblData[[#This Row],[Indicator ID]],'Similar 10 CCGs'!$A$6:$C$160,3,FALSE)","v":"Programme Budget - Circulation - Total admissions per 1000 population across secondary care - Activity"},"2011/12","08Q",3115,null,199521,15.61,15.07,16.170000000000002,14.57956569866854,15.386929858239855,null,15.422999999999998,14.146000000000001,"B","Y56","X24","11002011","Byar"]
[1100201,{"$f":"VLOOKUP(tblData[[#This Row],[Indicator ID]],'Similar 10 CCGs'!$A$6:$C$160,3,FALSE)","v":"Programme Budget - Circulation - Total admissions per 1000 population across secondary care - Activity"},"2011/12","09L",2440,null,177667,13.73,13.19,14.29,14.57956569866854,13.781432926203573,null,12.356000000000002,11.274000000000001,"A","Y57","X24","11002011","Byar"]
[1100201,{"$f":"VLOOKUP(tblData[[#This Row],[Indicator ID]],'Similar 10 CCGs'!$A$6:$C$160,3,FALSE)","v":"Programme Budget - Circulation - Total admissions per 1000 population across secondary care - Activity"},"2011/12","10M",1125,null,111160,10.119999999999999,9.5399999999999991,10.73,14.57956569866854,13.781432926203573,null,13.648000000000001,12.164,"C","Y57","X24","11002011","Byar"]
[1100201,{"$f":"VLOOKUP(tblData[[#This Row],[Indicator ID]],'Similar 10 CCGs'!$A$6:$C$160,3,FALSE)","v":"Programme Budget - Circulation - Total admissions per 1000 population across secondary care - Activity"},"2011/12","11N",10851,null,680853,15.94,15.64,16.239999999999998,14.57956569866854,13.781432926203573,null,14.875,13.184000000000001,"A","Y57","X24","11002011","Byar"]
[1100201,{"$f":"VLOOKUP(tblData[[#This Row],[Indicator ID]],'Similar 10 CCGs'!$A$6:$C$160,3,FALSE)","v":"Programme Budget - Circulation - Total admissions per 1000 population across secondary care - Activity"},"2011/12","99K",2546,null,196081,12.98,12.48,13.5,14.57956569866854,13.781432926203573,null,13.547000000000001,11.842000000000002,"B","Y57","X24","11002011","Byar"]
[1100202,{"$f":"VLOOKUP(tblData[[#This Row],[Indicator ID]],'Similar 10 CCGs'!$A$6:$C$160,3,FALSE)","v":"Programme Budget - Circulation - Total elective (IP + DC) admissions per 1000 population across secondary care - Activity"},"2011/12","00P",2579,null,296115,8.7100000000000009,8.3800000000000008,9.0500000000000007,4.9041022188801753,5.1315377524762722,null,4.6970000000000001,3.79,"A","Y54","X24","11002021","Byar"]
[1100202,{"$f":"VLOOKUP(tblData[[#This Row],[Indicator ID]],'Similar 10 CCGs'!$A$6:$C$160,3,FALSE)","v":"Programme Budget - Circulation - Total elective (IP + DC) admissions per 1000 population across secondary care - Activity"},"2011/12","01K",686,null,166226,4.13,3.82,4.45,4.9041022188801753,5.1315377524762722,null,4.7110000000000003,3.6079999999999997,"","Y54","X24","11002021","Byar"]
[1100202,{"$f":"VLOOKUP(tblData[[#This Row],[Indicator ID]],'Similar 10 CCGs'!$A$6:$C$160,3,FALSE)","v":"Programme Budget - Circulation - Total elective (IP + DC) admissions per 1000 population across secondary care - Activity"},"2011/12","02M",1356,null,192927,7.03,6.66,7.41,4.9041022188801753,5.1315377524762722,null,4.0559999999999992,3.1919999999999997,"A","Y54","X24","11002021","Byar"]
[1100202,{"$f":"VLOOKUP(tblData[[#This Row],[Indicator ID]],'Similar 10 CCGs'!$A$6:$C$160,3,FALSE)","v":"Programme Budget - Circulation - Total elective (IP + DC) admissions per 1000 population across secondary care - Activity"},"2011/12","03D",747,null,177268,4.21,3.92,4.53,4.9041022188801753,5.1315377524762722,null,4.5640000000000001,3.6260000000000003,"B","Y54","X24","11002021","Byar"]
[1100202,{"$f":"VLOOKUP(tblData[[#This Row],[Indicator ID]],'Similar 10 CCGs'!$A$6:$C$160,3,FALSE)","v":"Programme Budget - Circulation - Total elective (IP + DC) admissions per 1000 population across secondary care - Activity"},"2011/12","03J",712,null,170442,4.18,3.88,4.5,4.9041022188801753,5.1315377524762722,null,5.6840000000000002,4.6160000000000005,"","Y54","X24","11002021","Byar"]
[1100202,{"$f":"VLOOKUP(tblData[[#This Row],[Indicator ID]],'Similar 10 CCGs'!$A$6:$C$160,3,FALSE)","v":"Programme Budget - Circulation - Total elective (IP + DC) admissions per 1000 population across secondary care - Activity"},"2011/12","04F",1486,null,218824,6.79,6.45,7.15,4.9041022188801753,4.3645295104142248,null,5,4.3499999999999996,"A","Y55","X24","11002021","Byar"]
[1100202,{"$f":"VLOOKUP(tblData[[#This Row],[Indicator ID]],'Similar 10 CCGs'!$A$6:$C$160,3,FALSE)","v":"Programme Budget - Circulation - Total elective (IP + DC) admissions per 1000 population across secondary care - Activity"},"2011/12","05F",814,null,223441,3.64,3.4,3.9,4.9041022188801753,4.3645295104142248,null,4.3630000000000004,3.6920000000000002,"","Y55","X24","11002021","Byar"]
[1100202,{"$f":"VLOOKUP(tblData[[#This Row],[Indicator ID]],'Similar 10 CCGs'!$A$6:$C$160,3,FALSE)","v":"Programme Budget - Circulation - Total elective (IP + DC) admissions per 1000 population across secondary care - Activity"},"2011/12","06D",458,null,136514,3.35,3.05,3.68,4.9041022188801753,4.3645295104142248,null,4.141,3.2719999999999998,"","Y55","X24","11002021","Byar"]
[1100202,{"$f":"VLOOKUP(tblData[[#This Row],[Indicator ID]],'Similar 10 CCGs'!$A$6:$C$160,3,FALSE)","v":"Programme Budget - Circulation - Total elective (IP + DC) admissions per 1000 population across secondary care - Activity"},"2011/12","07K",1172,null,274233,4.2699999999999996,4.03,4.53,4.9041022188801753,4.3645295104142248,null,4.6890000000000001,3.85,"","Y55","X24","11002021","Byar"]
[1100202,{"$f":"VLOOKUP(tblData[[#This Row],[Indicator ID]],'Similar 10 CCGs'!$A$6:$C$160,3,FALSE)","v":"Programme Budget - Circulation - Total elective (IP + DC) admissions per 1000 population across secondary care - Activity"},"2011/12","08E",1313,null,215210,6.1,5.78,6.44,4.9041022188801753,5.6527292723204594,null,5.4450000000000012,4.7880000000000003,"A","Y56","X24","11002021","Byar"]
[1100202,{"$f":"VLOOKUP(tblData[[#This Row],[Indicator ID]],'Similar 10 CCGs'!$A$6:$C$160,3,FALSE)","v":"Programme Budget - Circulation - Total elective (IP + DC) admissions per 1000 population across secondary care - Activity"},"2011/12","08X",1352,null,244922,5.52,5.23,5.82,4.9041022188801753,5.6527292723204594,null,5.5340000000000007,4.7300000000000004,"B","Y56","X24","11002021","Byar"]
[1100202,{"$f":"VLOOKUP(tblData[[#This Row],[Indicator ID]],'Similar 10 CCGs'!$A$6:$C$160,3,FALSE)","v":"Programme Budget - Circulation - Total elective (IP + DC) admissions per 1000 population across secondary care - Activity"},"2011/12","10A",1425,null,234282,6.08,5.77,6.41,4.9041022188801753,4.9350541104700669,null,4.6760000000000002,3.9180000000000001,"A","Y57","X24","11002021","Byar"]
[1100202,{"$f":"VLOOKUP(tblData[[#This Row],[Indicator ID]],'Similar 10 CCGs'!$A$6:$C$160,3,FALSE)","v":"Programme Budget - Circulation - Total elective (IP + DC) admissions per 1000 population across secondary care - Activity"},"2011/12","10X",799,null,226654,3.53,3.28,3.78,4.9041022188801753,4.9350541104700669,null,4.6189999999999998,3.9799999999999995,"","Y57","X24","11002021","Byar"]
[1100202,{"$f":"VLOOKUP(tblData[[#This Row],[Indicator ID]],'Similar 10 CCGs'!$A$6:$C$160,3,FALSE)","v":"Programme Budget - Circulation - Total elective (IP + DC) admissions per 1000 population across secondary care - Activity"},"2011/12","13P",3393,null,667715,5.08,4.91,5.26,4.9041022188801753,4.3645295104142248,null,4.907,4.0840000000000005,"A","Y55","X24","11002021","Byar"]
[1100203,{"$f":"VLOOKUP(tblData[[#This Row],[Indicator ID]],'Similar 10 CCGs'!$A$6:$C$160,3,FALSE)","v":"Programme Budget - Circulation - Non-elective (EM + ONEL) admissions per 1000 population across secondary care - Activity"},"2011/12","00F",2474,null,222971,11.1,10.66,11.54,9.6737828979689784,10.988834354101549,null,11.326000000000001,10.364000000000001,"B","Y54","X24","11002031","Byar"]
[1100203,{"$f":"VLOOKUP(tblData[[#This Row],[Indicator ID]],'Similar 10 CCGs'!$A$6:$C$160,3,FALSE)","v":"Programme Budget - Circulation - Non-elective (EM + ONEL) admissions per 1000 population across secondary care - Activity"},"2011/12","00Y",2659,null,215251,12.35,11.89,12.83,9.6737828979689784,10.988834354101549,null,11.554000000000002,10.931999999999999,"A","Y54","X24","11002031","Byar"]
[1100203,{"$f":"VLOOKUP(tblData[[#This Row],[Indicator ID]],'Similar 10 CCGs'!$A$6:$C$160,3,FALSE)","v":"Programme Budget - Circulation - Non-elective (EM + ONEL) admissions per 1000 population across secondary care - Activity"},"2011/12","01X",2058,null,206007,9.99,9.56,10.43,9.6737828979689784,10.988834354101549,null,11.483000000000001,10.262,"","Y54","X24","11002031","Byar"]
[1100203,{"$f":"VLOOKUP(tblData[[#This Row],[Indicator ID]],'Similar 10 CCGs'!$A$6:$C$160,3,FALSE)","v":"Programme Budget - Circulation - Non-elective (EM + ONEL) admissions per 1000 population across secondary care - Activity"},"2011/12","02W",904,null,58104,15.56,14.56,16.61,9.6737828979689784,10.988834354101549,null,10.911999999999999,10.313999999999998,"A","Y54","X24","11002031","Byar"]
[1100203,{"$f":"VLOOKUP(tblData[[#This Row],[Indicator ID]],'Similar 10 CCGs'!$A$6:$C$160,3,FALSE)","v":"Programme Budget - Circulation - Non-elective (EM + ONEL) admissions per 1000 population across secondary care - Activity"},"2011/12","03Q",3296,null,363559,9.07,8.76,9.3800000000000008,9.6737828979689784,10.988834354101549,null,9.0039999999999996,7.8559999999999999,"B","Y54","X24","11002031","Byar"]
[1100203,{"$f":"VLOOKUP(tblData[[#This Row],[Indicator ID]],'Similar 10 CCGs'!$A$6:$C$160,3,FALSE)","v":"Programme Budget - Circulation - Non-elective (EM + ONEL) admissions per 1000 population across secondary care - Activity"},"2011/12","04M",994,null,106152,9.36,8.7899999999999991,9.9600000000000009,9.6737828979689784,9.1873187047111209,null,9.0340000000000007,7.944,"B","Y55","X24","11002031","Byar"]
[1100203,{"$f":"VLOOKUP(tblData[[#This Row],[Indicator ID]],'Similar 10 CCGs'!$A$6:$C$160,3,FALSE)","v":"Programme Budget - Circulation - Non-elective (EM + ONEL) admissions per 1000 population across secondary care - Activity"},"2011/12","05N",3278,null,370263,8.85,8.5500000000000007,9.16,9.6737828979689784,9.1873187047111209,null,9.7170000000000005,8.9319999999999986,"","Y55","X24","11002031","Byar"]
[1100203,{"$f":"VLOOKUP(tblData[[#This Row],[Indicator ID]],'Similar 10 CCGs'!$A$6:$C$160,3,FALSE)","v":"Programme Budget - Circulation - Non-elective (EM + ONEL) admissions per 1000 population across secondary care - Activity"},"2011/12","06M",2819,null,293773,9.6,9.24,9.9600000000000009,9.6737828979689784,9.1873187047111209,null,9.9349999999999987,8.7799999999999994,"B","Y55","X24","11002031","Byar"]
[1100203,{"$f":"VLOOKUP(tblData[[#This Row],[Indicator ID]],'Similar 10 CCGs'!$A$6:$C$160,3,FALSE)","v":"Programme Budget - Circulation - Non-elective (EM + ONEL) admissions per 1000 population across secondary care - Activity"},"2011/12","08A",1778,null,196153,9.06,8.65,9.5,9.6737828979689784,9.713418972308304,null,10.560999999999998,9.1879999999999988,"C","Y56","X24","11002031","Byar"]
[1100203,{"$f":"VLOOKUP(tblData[[#This Row],[Indicator ID]],'Similar 10 CCGs'!$A$6:$C$160,3,FALSE)","v":"Programme Budget - Circulation - Non-elective (EM + ONEL) admissions per 1000 population across secondary care - Activity"},"2011/12","08L",2087,null,213625,9.77,9.35,10.199999999999999,9.6737828979689784,9.713418972308304,null,10.039999999999999,8.7299999999999986,"","Y56","X24","11002031","Byar"]
[1100203,{"$f":"VLOOKUP(tblData[[#This Row],[Indicator ID]],'Similar 10 CCGs'!$A$6:$C$160,3,FALSE)","v":"Programme Budget - Circulation - Non-elective (EM + ONEL) admissions per 1000 population across secondary care - Activity"},"2011/12","09G",5914,null,655707,9.02,8.7899999999999991,9.25,9.6737828979689784,8.8496608138799466,null,10.154,9.2859999999999996,"","Y57","X24","11002031","Byar"]
[1100203,{"$f":"VLOOKUP(tblData[[#This Row],[Indicator ID]],'Similar 10 CCGs'!$A$6:$C$160,3,FALSE)","v":"Programme Budget - Circulation - Non-elective (EM + ONEL) admissions per 1000 population across secondary care - Activity"},"2011/12","10J",1667,null,203772,8.18,7.79,8.58,9.6737828979689784,8.8496608138799466,null,7.9220000000000015,7.0319999999999991,"B","Y57","X24","11002031","Byar"]
[1100203,{"$f":"VLOOKUP(tblData[[#This Row],[Indicator ID]],'Similar 10 CCGs'!$A$6:$C$160,3,FALSE)","v":"Programme Budget - Circulation - Non-elective (EM + ONEL) admissions per 1000 population across secondary care - Activity"},"2011/12","11E",1695,null,210781,8.0399999999999991,7.66,8.43,9.6737828979689784,8.8496608138799466,null,9.6340000000000003,8.64,"","Y57","X24","11002031","Byar"]
[1100203,{"$f":"VLOOKUP(tblData[[#This Row],[Indicator ID]],'Similar 10 CCGs'!$A$6:$C$160,3,FALSE)","v":"Programme Budget - Circulation - Non-elective (EM + ONEL) admissions per 1000 population across secondary care - Activity"},"2011/12","99G",1653,null,200420,8.25,7.85,8.66,9.6737828979689784,9.1873187047111209,null,10.958000000000002,9.9079999999999995,"C","Y55","X24","11002031","Byar"]
[1100211,{"$f":"VLOOKUP(tblData[[#This Row],[Indicator ID]],'Similar 10 CCGs'!$A$6:$C$160,3,FALSE)","v":"Percentage of transient ischaemic attack (TIA) cases with a higher risk who are treated within 24 hours"},"2012/13","00L",11,null,17,64.705882352941174,41.3,82.69,740.43338394622026,731.60788606936092,null,74.098513722373553,82.24955814775538,"B","Y54","X24","11002111","Wilson"]
[1100211,{"$f":"VLOOKUP(tblData[[#This Row],[Indicator ID]],'Similar 10 CCGs'!$A$6:$C$160,3,FALSE)","v":"Percentage of transient ischaemic attack (TIA) cases with a higher risk who are treated within 24 hours"},"2012/13","01G",40,null,46,86.956521739130437,74.33,93.88,740.43338394622026,731.60788606936092,null,75.27123336724749,91.436593935819957,"","Y54","X24","11002111","Wilson"]
[1100211,{"$f":"VLOOKUP(tblData[[#This Row],[Indicator ID]],'Similar 10 CCGs'!$A$6:$C$160,3,FALSE)","v":"Percentage of transient ischaemic attack (TIA) cases with a higher risk who are treated within 24 hours"},"2012/13","02F",85,null,133,63.909774436090231,55.46,71.58,740.43338394622026,731.60788606936092,null,72.903442190065377,80.703614846086623,"B","Y54","X24","11002111","Wilson"]
[1100211,{"$f":"VLOOKUP(tblData[[#This Row],[Indicator ID]],'Similar 10 CCGs'!$A$6:$C$160,3,FALSE)","v":"Percentage of transient ischaemic attack (TIA) cases with a higher risk who are treated within 24 hours"},"2012/13","03D",57.534760476650732,null,83.654835785068855,68.776371308016877,58.21,77.7,740.43338394622026,731.60788606936092,null,68.401742169822839,72.277225256722474,"B","Y54","X24","11002111","Wilson"]
[1100211,{"$f":"VLOOKUP(tblData[[#This Row],[Indicator ID]],'Similar 10 CCGs'!$A$6:$C$160,3,FALSE)","v":"Percentage of transient ischaemic attack (TIA) cases with a higher risk who are treated within 24 hours"},"2012/13","03V",80.255960425413448,null,99.618073917672419,80.563654033041786,71.72,87.14,740.43338394622026,722.86986011021622,null,59.715379778329982,80.101814616786598,"","Y55","X24","11002111","Wilson"]
[1100211,{"$f":"VLOOKUP(tblData[[#This Row],[Indicator ID]],'Similar 10 CCGs'!$A$6:$C$160,3,FALSE)","v":"Percentage of transient ischaemic attack (TIA) cases with a higher risk who are treated within 24 hours"},"2012/13","04Y",33.928496787015085,null,49.832479655928402,68.085106382978736,54.25,79.33,740.43338394622026,722.86986011021622,null,74.797092883674523,88.853855346962433,"B","Y55","X24","11002111","Wilson"]
[1100211,{"$f":"VLOOKUP(tblData[[#This Row],[Indicator ID]],'Similar 10 CCGs'!$A$6:$C$160,3,FALSE)","v":"Percentage of transient ischaemic attack (TIA) cases with a higher risk who are treated within 24 hours"},"2012/13","05W",112,null,126,88.888888888888886,82.21,93.27,740.43338394622026,722.86986011021622,null,73.717546040070985,91.050120505868264,"","Y55","X24","11002111","Wilson"]
[1100211,{"$f":"VLOOKUP(tblData[[#This Row],[Indicator ID]],'Similar 10 CCGs'!$A$6:$C$160,3,FALSE)","v":"Percentage of transient ischaemic attack (TIA) cases with a higher risk who are treated within 24 hours"},"2012/13","06Y",120.59094681123563,null,163.91002479197076,73.571428571428569,66.34,79.73,740.43338394622026,722.86986011021622,null,69.606430252679473,76.051996363767302,"B","Y55","X24","11002111","Wilson"]
[1100211,{"$f":"VLOOKUP(tblData[[#This Row],[Indicator ID]],'Similar 10 CCGs'!$A$6:$C$160,3,FALSE)","v":"Percentage of transient ischaemic attack (TIA) cases with a higher risk who are treated within 24 hours"},"2012/13","07Y",67.627527042930765,null,74.58918423852657,90.666666666666671,81.94,95.41,740.43338394622026,811.83136156082276,null,84.724521332473586,98.06874668690439,"B","Y56","X24","11002111","Wilson"]
[1100211,{"$f":"VLOOKUP(tblData[[#This Row],[Indicator ID]],'Similar 10 CCGs'!$A$6:$C$160,3,FALSE)","v":"Percentage of transient ischaemic attack (TIA) cases with a higher risk who are treated within 24 hours"},"2012/13","08T",40.801119762636368,null,63.51992508501344,64.233576642335763,51.95,74.900000000000006,740.43338394622026,811.83136156082276,null,68.146359140317372,75.446589461260388,"B","Y56","X24","11002111","Wilson"]
[1100211,{"$f":"VLOOKUP(tblData[[#This Row],[Indicator ID]],'Similar 10 CCGs'!$A$6:$C$160,3,FALSE)","v":"Percentage of transient ischaemic attack (TIA) cases with a higher risk who are treated within 24 hours"},"2012/13","09P",88,null,122,72.131147540983605,63.59,79.319999999999993,740.43338394622026,744.97422680412365,null,72.488103456466106,78.844192787104646,"B","Y57","X24","11002111","Wilson"]
[1100211,{"$f":"VLOOKUP(tblData[[#This Row],[Indicator ID]],'Similar 10 CCGs'!$A$6:$C$160,3,FALSE)","v":"Percentage of transient ischaemic attack (TIA) cases with a higher risk who are treated within 24 hours"},"2012/13","10Q",419.78034638897537,null,461.58161546055169,90.943905114186947,87.98,93.24,740.43338394622026,744.97422680412365,null,65.855798416881797,73.519560706317876,"C","Y57","X24","11002111","Wilson"]
[1100211,{"$f":"VLOOKUP(tblData[[#This Row],[Indicator ID]],'Similar 10 CCGs'!$A$6:$C$160,3,FALSE)","v":"Percentage of transient ischaemic attack (TIA) cases with a higher risk who are treated within 24 hours"},"2012/13","11X",246,null,336,73.214285714285708,68.239999999999995,77.67,740.43338394622026,744.97422680412365,null,70.658014787702214,73.571228415535046,"B","Y57","X24","11002111","Wilson"]
[1100211,{"$f":"VLOOKUP(tblData[[#This Row],[Indicator ID]],'Similar 10 CCGs'!$A$6:$C$160,3,FALSE)","v":"Percentage of transient ischaemic attack (TIA) cases with a higher risk who are treated within 24 hours"},"2012/13","99N",169.96201136213065,null,257.88121722598311,65.907092106359869,59.93,71.42,740.43338394622026,744.97422680412365,null,66.958439901835447,72.351094587555593,"B","Y57","X24","11002111","Wilson"]
[1100212,{"$f":"VLOOKUP(tblData[[#This Row],[Indicator ID]],'Similar 10 CCGs'!$A$6:$C$160,3,FALSE)","v":"Percentage of patients admitted to hospital following a stroke who spend 90% of their time on a stroke unit by PCT"},"2012/13","00C",144,null,174,82.758620689655174,76.454429083886922,87.647609189954906,84.765976122119895,84.090803477993532,null,76.999471064636992,87.903815574363904,"B","Y54","X24","11002121","Wilson"]
[1100212,{"$f":"VLOOKUP(tblData[[#This Row],[Indicator ID]],'Similar 10 CCGs'!$A$6:$C$160,3,FALSE)","v":"Percentage of patients admitted to hospital following a stroke who spend 90% of their time on a stroke unit by PCT"},"2012/13","00V",260,null,277,93.862815884476532,90.392399052154701,96.133287369074736,84.765976122119895,84.090803477993532,null,68.080723751203237,88.518462329986932,"C","Y54","X24","11002121","Wilson"]
[1100212,{"$f":"VLOOKUP(tblData[[#This Row],[Indicator ID]],'Similar 10 CCGs'!$A$6:$C$160,3,FALSE)","v":"Percentage of patients admitted to hospital following a stroke who spend 90% of their time on a stroke unit by PCT"},"2012/13","01R",246.37425899427609,null,296.30513692654802,83.148831488314883,78.468655534444437,86.980489598433238,84.765976122119895,84.090803477993532,null,67.759182605436621,79.492686544958786,"","Y54","X24","11002121","Wilson"]
[1100212,{"$f":"VLOOKUP(tblData[[#This Row],[Indicator ID]],'Similar 10 CCGs'!$A$6:$C$160,3,FALSE)","v":"Percentage of patients admitted to hospital following a stroke who spend 90% of their time on a stroke unit by PCT"},"2012/13","02R",292.32062722745388,null,371.06822476627821,78.778135048231519,74.333926162213132,82.632601788000372,84.765976122119895,84.090803477993532,null,80.100150333289548,89.479739724520002,"B","Y54","X24","11002121","Wilson"]
[1100212,{"$f":"VLOOKUP(tblData[[#This Row],[Indicator ID]],'Similar 10 CCGs'!$A$6:$C$160,3,FALSE)","v":"Percentage of patients admitted to hospital following a stroke who spend 90% of their time on a stroke unit by PCT"},"2012/13","03L",318,null,372,85.483870967741936,81.541433858157092,88.700949946006645,84.765976122119895,84.090803477993532,null,68.810265512367053,89.314660756750172,"","Y54","X24","11002121","Wilson"]
[1100212,{"$f":"VLOOKUP(tblData[[#This Row],[Indicator ID]],'Similar 10 CCGs'!$A$6:$C$160,3,FALSE)","v":"Percentage of patients admitted to hospital following a stroke who spend 90% of their time on a stroke unit by PCT"},"2012/13","04H",162.03184760609753,null,168.88630884442833,95.94137542277339,91.804523025462657,98.034759022469729,84.765976122119895,83.334912363808655,null,75.810241046721018,85.886259375124695,"C","Y55","X24","11002121","Wilson"]
[1100212,{"$f":"VLOOKUP(tblData[[#This Row],[Indicator ID]],'Similar 10 CCGs'!$A$6:$C$160,3,FALSE)","v":"Percentage of patients admitted to hospital following a stroke who spend 90% of their time on a stroke unit by PCT"},"2012/13","05H",199.4917567260633,null,242.49992981791775,82.264665757162348,76.965205094343276,86.557853088856973,84.765976122119895,83.334912363808655,null,71.298026628100416,84.068349535504893,"","Y55","X24","11002121","Wilson"]
[1100212,{"$f":"VLOOKUP(tblData[[#This Row],[Indicator ID]],'Similar 10 CCGs'!$A$6:$C$160,3,FALSE)","v":"Percentage of patients admitted to hospital following a stroke who spend 90% of their time on a stroke unit by PCT"},"2012/13","06H",818.65791007326595,null,954.13929831660766,85.800669935472513,83.442165190127099,87.87205659773376,84.765976122119895,83.334912363808655,null,68.534999463038304,78.766358602955705,"C","Y55","X24","11002121","Wilson"]
[1100212,{"$f":"VLOOKUP(tblData[[#This Row],[Indicator ID]],'Similar 10 CCGs'!$A$6:$C$160,3,FALSE)","v":"Percentage of patients admitted to hospital following a stroke who spend 90% of their time on a stroke unit by PCT"},"2012/13","07M",432,null,467,92.505353319057818,89.75509724981579,94.562031703602386,84.765976122119895,94.254820056720703,null,71.551624094053366,80.509627586671883,"C","Y56","X24","11002121","Wilson"]
[1100212,{"$f":"VLOOKUP(tblData[[#This Row],[Indicator ID]],'Similar 10 CCGs'!$A$6:$C$160,3,FALSE)","v":"Percentage of patients admitted to hospital following a stroke who spend 90% of their time on a stroke unit by PCT"},"2012/13","08Q",242.00795740504972,null,261.00897758518431,92.720166043356372,88.910851314745315,95.290232229312394,84.765976122119895,94.254820056720703,null,83.815740461396402,96.734239532943533,"","Y56","X24","11002121","Wilson"]
[1100212,{"$f":"VLOOKUP(tblData[[#This Row],[Indicator ID]],'Similar 10 CCGs'!$A$6:$C$160,3,FALSE)","v":"Percentage of patients admitted to hospital following a stroke who spend 90% of their time on a stroke unit by PCT"},"2012/13","09C",145.86481588287637,null,160.19926323205755,91.052114060963603,85.618278127564778,94.563256608302879,84.765976122119895,81.980798383021735,null,72.999593273462906,84.319492777865065,"C","Y57","X24","11002121","Wilson"]
[1100212,{"$f":"VLOOKUP(tblData[[#This Row],[Indicator ID]],'Similar 10 CCGs'!$A$6:$C$160,3,FALSE)","v":"Percentage of patients admitted to hospital following a stroke who spend 90% of their time on a stroke unit by PCT"},"2012/13","10E",166.76994934745147,null,183.15878886215785,91.052114060963603,86.031758495098117,94.385840784122038,84.765976122119895,81.980798383021735,null,79.367132493752962,90.75911385275009,"","Y57","X24","11002121","Wilson"]
[1100212,{"$f":"VLOOKUP(tblData[[#This Row],[Indicator ID]],'Similar 10 CCGs'!$A$6:$C$160,3,FALSE)","v":"Percentage of patients admitted to hospital following a stroke who spend 90% of their time on a stroke unit by PCT"},"2012/13","11A",681.65149079915932,null,777.06652747092778,87.721123829344421,85.226234774707237,89.844895808975494,84.765976122119895,81.980798383021735,null,67.3534102904581,71.843369422300469,"C","Y57","X24","11002121","Wilson"]
[1100212,{"$f":"VLOOKUP(tblData[[#This Row],[Indicator ID]],'Similar 10 CCGs'!$A$6:$C$160,3,FALSE)","v":"Percentage of patients admitted to hospital following a stroke who spend 90% of their time on a stroke unit by PCT"},"2012/13","99C",355,null,391,90.792838874680299,87.516635573008216,93.275285557256041,84.765976122119895,84.090803477993532,null,67.158493578553362,82.047867766153345,"C","Y54","X24","11002121","Wilson"]
[1100313,{"$f":"VLOOKUP(tblData[[#This Row],[Indicator ID]],'Similar 10 CCGs'!$A$6:$C$160,3,FALSE)","v":"Mortality from all circulatory diseases: Under 75 Directly age-standardised rates (DSR) per 100,000 European"},"2009-11","00H",310,null,346516.52868310577,81.591507504398706,72.668260073872887,91.299181014213048,0.74936026565404468,0.90200734115349557,null,82.160585042689405,74.141188071247527,"B","Y54","X24","11003131","Byar"]
[1100313,{"$f":"VLOOKUP(tblData[[#This Row],[Indicator ID]],'Similar 10 CCGs'!$A$6:$C$160,3,FALSE)","v":"Mortality from all circulatory diseases: Under 75 Directly age-standardised rates (DSR) per 100,000 European"},"2009-11","01C",386,null,518923.0219668356,51.102440983364829,46.036205603062484,56.565839219720715,0.74936026565404468,0.90200734115349557,null,53.814443985561944,47.517073515554458,"B","Y54","X24","11003131","Byar"]
[1100313,{"$f":"VLOOKUP(tblData[[#This Row],[Indicator ID]],'Similar 10 CCGs'!$A$6:$C$160,3,FALSE)","v":"Mortality from all circulatory diseases: Under 75 Directly age-standardised rates (DSR) per 100,000 European"},"2009-11","02A",460,null,600394.5592322431,65.809121153074216,59.887818424247214,72.154105205395453,0.74936026565404468,0.90200734115349557,null,63.756714881388838,59.267972540678841,"B","Y54","X24","11003131","Byar"]
[1100313,{"$f":"VLOOKUP(tblData[[#This Row],[Indicator ID]],'Similar 10 CCGs'!$A$6:$C$160,3,FALSE)","v":"Mortality from all circulatory diseases: Under 75 Directly age-standardised rates (DSR) per 100,000 European"},"2009-11","02Y",747,null,800818.52474703267,60.917568247582317,56.515392611149942,65.564876602815403,0.74936026565404468,0.90200734115349557,null,53.800326631746429,48.568377914355104,"A","Y54","X24","11003131","Byar"]
[1100313,{"$f":"VLOOKUP(tblData[[#This Row],[Indicator ID]],'Similar 10 CCGs'!$A$6:$C$160,3,FALSE)","v":"Mortality from all circulatory diseases: Under 75 Directly age-standardised rates (DSR) per 100,000 European"},"2009-11","03T",739,null,613913.85537237977,72.606739505698229,67.204874552337145,78.311077474711468,0.74936026565404468,0.76072928098778969,null,60.286301441153952,56.645094701087373,"A","Y55","X24","11003131","Byar"]
[1100313,{"$f":"VLOOKUP(tblData[[#This Row],[Indicator ID]],'Similar 10 CCGs'!$A$6:$C$160,3,FALSE)","v":"Mortality from all circulatory diseases: Under 75 Directly age-standardised rates (DSR) per 100,000 European"},"2009-11","04M",196,null,249689.70187617064,60.638273653067849,52.360563029782121,69.842383010411268,0.74936026565404468,0.76072928098778969,null,55.830101123657833,50.052622130773983,"A","Y55","X24","11003131","Byar"]
[1100313,{"$f":"VLOOKUP(tblData[[#This Row],[Indicator ID]],'Similar 10 CCGs'!$A$6:$C$160,3,FALSE)","v":"Mortality from all circulatory diseases: Under 75 Directly age-standardised rates (DSR) per 100,000 European"},"2009-11","05R",428,null,707683.75018394017,44.195526388748078,40.047590700015547,48.651586931266344,0.74936026565404468,0.76072928098778969,null,50.890328503879985,45.459551075177195,"C","Y55","X24","11003131","Byar"]
[1100313,{"$f":"VLOOKUP(tblData[[#This Row],[Indicator ID]],'Similar 10 CCGs'!$A$6:$C$160,3,FALSE)","v":"Mortality from all circulatory diseases: Under 75 Directly age-standardised rates (DSR) per 100,000 European"},"2009-11","06T",688,null,869220.85354472394,56.483514572847092,52.224815774078728,60.989629887925304,0.74936026565404468,0.76072928098778969,null,58.222677838861998,54.908238022815056,"B","Y55","X24","11003131","Byar"]
[1100313,{"$f":"VLOOKUP(tblData[[#This Row],[Indicator ID]],'Similar 10 CCGs'!$A$6:$C$160,3,FALSE)","v":"Mortality from all circulatory diseases: Under 75 Directly age-standardised rates (DSR) per 100,000 European"},"2009-11","07V",618,null,976921.99636805453,64.446963986870642,59.450418412124712,69.750324403430838,0.74936026565404468,0.57460330181014063,null,67.798540818906446,60.60378492403099,"B","Y56","X24","11003131","Byar"]
[1100313,{"$f":"VLOOKUP(tblData[[#This Row],[Indicator ID]],'Similar 10 CCGs'!$A$6:$C$160,3,FALSE)","v":"Mortality from all circulatory diseases: Under 75 Directly age-standardised rates (DSR) per 100,000 European"},"2009-11","08N",395,null,733419.02886481059,57.796885185165316,52.221226267722898,63.804387366980606,0.74936026565404468,0.57460330181014063,null,69.687755519942115,59.834058397605091,"B","Y56","X24","11003131","Byar"]
[1100313,{"$f":"VLOOKUP(tblData[[#This Row],[Indicator ID]],'Similar 10 CCGs'!$A$6:$C$160,3,FALSE)","v":"Mortality from all circulatory diseases: Under 75 Directly age-standardised rates (DSR) per 100,000 European"},"2009-11","09J",483,null,661933.9780015673,61.449020651622753,56.050200982252917,67.224476604409759,0.74936026565404468,0.67110667257948031,null,58.444686642494773,52.364609220901265,"A","Y57","X24","11003131","Byar"]
[1100313,{"$f":"VLOOKUP(tblData[[#This Row],[Indicator ID]],'Similar 10 CCGs'!$A$6:$C$160,3,FALSE)","v":"Mortality from all circulatory diseases: Under 75 Directly age-standardised rates (DSR) per 100,000 European"},"2009-11","10L",368,null,370602,61.34587483260308,55.007656790826189,68.193499710711237,0.74936026565404468,0.67110667257948031,null,61.282707497978471,56.635503413636265,"B","Y57","X24","11003131","Byar"]
[1100313,{"$f":"VLOOKUP(tblData[[#This Row],[Indicator ID]],'Similar 10 CCGs'!$A$6:$C$160,3,FALSE)","v":"Mortality from all circulatory diseases: Under 75 Directly age-standardised rates (DSR) per 100,000 European"},"2009-11","11J",1328,null,1902862.617985297,47.42281618670841,44.833638253807912,50.119312796192247,0.74936026565404468,0.67110667257948031,null,54.31194428572352,48.751561879909339,"","Y57","X24","11003131","Byar"]
[1100313,{"$f":"VLOOKUP(tblData[[#This Row],[Indicator ID]],'Similar 10 CCGs'!$A$6:$C$160,3,FALSE)","v":"Mortality from all circulatory diseases: Under 75 Directly age-standardised rates (DSR) per 100,000 European"},"2009-11","99J",741,null,1225716.0020810568,47.840176259515538,44.416325902701473,51.455475556791491,0.74936026565404468,0.67110667257948031,null,52.891116963538096,48.178207741135985,"B","Y57","X24","11003131","Byar"]
[1100314,{"$f":"VLOOKUP(tblData[[#This Row],[Indicator ID]],'Similar 10 CCGs'!$A$6:$C$160,3,FALSE)","v":"Mortality from coronary heart disease: Under 75 Directly age-standardised rates (DSR) per 100,000 European"},"2009-11","00N",224,null,414196.01497399894,42.415352099568835,36.989561423367043,48.406964838768843,0.41138557906702672,0.51481936926424476,null,41.695449602967372,37.90648212694672,"B","Y54","X24","11003141","Byar"]
[1100314,{"$f":"VLOOKUP(tblData[[#This Row],[Indicator ID]],'Similar 10 CCGs'!$A$6:$C$160,3,FALSE)","v":"Mortality from coronary heart disease: Under 75 Directly age-standardised rates (DSR) per 100,000 European"},"2009-11","01R",209,null,463013.92138102662,34.307437406410401,29.763509727900818,39.342899917729014,0.41138557906702672,0.51481936926424476,null,32.555430936852886,27.454260448145675,"B","Y54","X24","11003141","Byar"]
[1100314,{"$f":"VLOOKUP(tblData[[#This Row],[Indicator ID]],'Similar 10 CCGs'!$A$6:$C$160,3,FALSE)","v":"Mortality from coronary heart disease: Under 75 Directly age-standardised rates (DSR) per 100,000 European"},"2009-11","02M",200,null,392333.84250480874,31.607331686349678,27.246398563329048,36.451122786919925,0.41138557906702672,0.51481936926424476,null,29.965455237749467,25.766811636838547,"B","Y54","X24","11003141","Byar"]
[1100314,{"$f":"VLOOKUP(tblData[[#This Row],[Indicator ID]],'Similar 10 CCGs'!$A$6:$C$160,3,FALSE)","v":"Mortality from coronary heart disease: Under 75 Directly age-standardised rates (DSR) per 100,000 European"},"2009-11","03G",381,null,694164.84561255365,50.864417355263043,45.831637231926088,56.294428082491663,0.41138557906702672,0.51481936926424476,null,46.457900303565317,39.629861680919063,"A","Y54","X24","11003141","Byar"]
[1100314,{"$f":"VLOOKUP(tblData[[#This Row],[Indicator ID]],'Similar 10 CCGs'!$A$6:$C$160,3,FALSE)","v":"Mortality from coronary heart disease: Under 75 Directly age-standardised rates (DSR) per 100,000 European"},"2009-11","04E",264,null,486167.68055813952,42.157713216079294,37.183159701633876,47.608020438835574,0.41138557906702672,0.4224092677016334,null,43.322287106706696,40.415509845983799,"B","Y55","X24","11003141","Byar"]
[1100314,{"$f":"VLOOKUP(tblData[[#This Row],[Indicator ID]],'Similar 10 CCGs'!$A$6:$C$160,3,FALSE)","v":"Mortality from coronary heart disease: Under 75 Directly age-standardised rates (DSR) per 100,000 European"},"2009-11","05C",417,null,831414.03961256647,37.663623786180843,34.065987667892657,41.532150339467755,0.41138557906702672,0.4224092677016334,null,35.921762102793181,31.816417966999872,"B","Y55","X24","11003141","Byar"]
[1100314,{"$f":"VLOOKUP(tblData[[#This Row],[Indicator ID]],'Similar 10 CCGs'!$A$6:$C$160,3,FALSE)","v":"Mortality from coronary heart disease: Under 75 Directly age-standardised rates (DSR) per 100,000 European"},"2009-11","06A",336,null,666699.78769589844,44.077597099306566,39.445778393816745,49.099789635546664,0.41138557906702672,0.4224092677016334,null,43.472756356928969,36.529805308217959,"B","Y55","X24","11003141","Byar"]
[1100314,{"$f":"VLOOKUP(tblData[[#This Row],[Indicator ID]],'Similar 10 CCGs'!$A$6:$C$160,3,FALSE)","v":"Mortality from coronary heart disease: Under 75 Directly age-standardised rates (DSR) per 100,000 European"},"2009-11","07H",270,null,751736.39511085558,29.624159254646475,26.179786995877411,33.394075038022045,0.41138557906702672,0.4224092677016334,null,30.912056704922502,27.559708282108808,"B","Y55","X24","11003141","Byar"]
[1100314,{"$f":"VLOOKUP(tblData[[#This Row],[Indicator ID]],'Similar 10 CCGs'!$A$6:$C$160,3,FALSE)","v":"Mortality from coronary heart disease: Under 75 Directly age-standardised rates (DSR) per 100,000 European"},"2009-11","08C",134,null,486970.49879702134,36.597718885857724,30.620547210631237,43.394115561413308,0.41138557906702672,0.29208370981538928,null,38.736582367653725,33.902511356438524,"B","Y56","X24","11003141","Byar"]
[1100314,{"$f":"VLOOKUP(tblData[[#This Row],[Indicator ID]],'Similar 10 CCGs'!$A$6:$C$160,3,FALSE)","v":"Mortality from coronary heart disease: Under 75 Directly age-standardised rates (DSR) per 100,000 European"},"2009-11","08W",207,null,692269.33015627076,36.452783160813453,31.628266211335173,41.801848710070971,0.41138557906702672,0.29208370981538928,null,40.628874721937208,35.074535502315037,"B","Y56","X24","11003141","Byar"]
[1100314,{"$f":"VLOOKUP(tblData[[#This Row],[Indicator ID]],'Similar 10 CCGs'!$A$6:$C$160,3,FALSE)","v":"Mortality from coronary heart disease: Under 75 Directly age-standardised rates (DSR) per 100,000 European"},"2009-11","09H",94,null,334108.67356409354,29.037665679854047,23.453558601836765,35.548543369546287,0.41138557906702672,0.354970869391738,null,32.047072709241363,27.651469321507808,"B","Y57","X24","11003141","Byar"]
[1100314,{"$f":"VLOOKUP(tblData[[#This Row],[Indicator ID]],'Similar 10 CCGs'!$A$6:$C$160,3,FALSE)","v":"Mortality from coronary heart disease: Under 75 Directly age-standardised rates (DSR) per 100,000 European"},"2009-11","10V",189,null,537908.82196037145,24.427768653552803,21.024987270091408,28.218785426809738,0.41138557906702672,0.354970869391738,null,28.709006944146314,25.880753813209434,"","Y57","X24","11003141","Byar"]
[1100314,{"$f":"VLOOKUP(tblData[[#This Row],[Indicator ID]],'Similar 10 CCGs'!$A$6:$C$160,3,FALSE)","v":"Mortality from coronary heart disease: Under 75 Directly age-standardised rates (DSR) per 100,000 European"},"2009-11","10W",110,null,322778.15956837527,43.080514959210241,35.35699383244112,51.981234070594134,0.41138557906702672,0.354970869391738,null,40.553946966919753,34.142084622528145,"B","Y57","X24","11003141","Byar"]
[1100314,{"$f":"VLOOKUP(tblData[[#This Row],[Indicator ID]],'Similar 10 CCGs'!$A$6:$C$160,3,FALSE)","v":"Mortality from coronary heart disease: Under 75 Directly age-standardised rates (DSR) per 100,000 European"},"2009-11","12F",443,null,848860.51871139964,38.963052024981735,35.373666406090052,42.814339125043681,0.41138557906702672,0.51481936926424476,null,42.890244970154129,40.194872130383132,"B","Y54","X24","11003141","Byar"]
[1100315,{"$f":"VLOOKUP(tblData[[#This Row],[Indicator ID]],'Similar 10 CCGs'!$A$6:$C$160,3,FALSE)","v":"Mortality from acute MI: Under 75 Directly age-standardised rates (DSR) per 100,000 European Standard population,"},"2009-11","00D",194,null,760740.75394520885,18.670717666278069,16.105360639405717,21.524741012270653,0.16594121950881913,0.21753542648416074,null,17.781360579791674,14.872963805491343,"B","Y54","X24","11003151","Byar"]
[1100315,{"$f":"VLOOKUP(tblData[[#This Row],[Indicator ID]],'Similar 10 CCGs'!$A$6:$C$160,3,FALSE)","v":"Mortality from acute MI: Under 75 Directly age-standardised rates (DSR) per 100,000 European Standard population,"},"2009-11","00X",93,null,467345.65997688466,15.202395313135144,12.247015602416713,18.651126905047349,0.16594121950881913,0.21753542648416074,null,15.43945607902312,12.82560236127126,"B","Y54","X24","11003151","Byar"]
[1100315,{"$f":"VLOOKUP(tblData[[#This Row],[Indicator ID]],'Similar 10 CCGs'!$A$6:$C$160,3,FALSE)","v":"Mortality from acute MI: Under 75 Directly age-standardised rates (DSR) per 100,000 European Standard population,"},"2009-11","01V",51,null,318243.84079485992,9.5591691138361252,7.0682966139811505,12.62909658252501,0.16594121950881913,0.21753542648416074,null,12.556667619790238,9.6312047354074402,"","Y54","X24","11003151","Byar"]
[1100315,{"$f":"VLOOKUP(tblData[[#This Row],[Indicator ID]],'Similar 10 CCGs'!$A$6:$C$160,3,FALSE)","v":"Mortality from acute MI: Under 75 Directly age-standardised rates (DSR) per 100,000 European Standard population,"},"2009-11","02V",102,null,526395.57707244949,17.242186551506329,14.03331987410666,20.960528876057776,0.16594121950881913,0.21753542648416074,null,17.683972748570721,14.501562247485953,"B","Y54","X24","11003151","Byar"]
[1100315,{"$f":"VLOOKUP(tblData[[#This Row],[Indicator ID]],'Similar 10 CCGs'!$A$6:$C$160,3,FALSE)","v":"Mortality from acute MI: Under 75 Directly age-standardised rates (DSR) per 100,000 European Standard population,"},"2009-11","03N",265,null,1541046.5948932751,15.797856712560886,13.932362677899302,17.84140766298707,0.16594121950881913,0.21753542648416074,null,16.133939141925925,13.088415799236838,"B","Y54","X24","11003151","Byar"]
[1100315,{"$f":"VLOOKUP(tblData[[#This Row],[Indicator ID]],'Similar 10 CCGs'!$A$6:$C$160,3,FALSE)","v":"Mortality from acute MI: Under 75 Directly age-standardised rates (DSR) per 100,000 European Standard population,"},"2009-11","04K",173,null,904318.26516742655,23.163590587279483,19.82548881226224,26.900868239297342,0.16594121950881913,0.17009585339417335,null,18.875761342614961,13.715323437207363,"A","Y55","X24","11003151","Byar"]
[1100315,{"$f":"VLOOKUP(tblData[[#This Row],[Indicator ID]],'Similar 10 CCGs'!$A$6:$C$160,3,FALSE)","v":"Mortality from acute MI: Under 75 Directly age-standardised rates (DSR) per 100,000 European Standard population,"},"2009-11","05J",49,null,454385.88375438919,8.3918476020622617,6.2004605987215378,11.104214095587173,0.16594121950881913,0.17009585339417335,null,14.674648631436046,12.399800962570483,"C","Y55","X24","11003151","Byar"]
[1100315,{"$f":"VLOOKUP(tblData[[#This Row],[Indicator ID]],'Similar 10 CCGs'!$A$6:$C$160,3,FALSE)","v":"Mortality from acute MI: Under 75 Directly age-standardised rates (DSR) per 100,000 European Standard population,"},"2009-11","06M",103,null,598060.62521399977,11.455617547925172,9.2809627649455102,13.973725328157494,0.16594121950881913,0.17009585339417335,null,13.590724846182246,12.293635489513786,"B","Y55","X24","11003151","Byar"]
[1100315,{"$f":"VLOOKUP(tblData[[#This Row],[Indicator ID]],'Similar 10 CCGs'!$A$6:$C$160,3,FALSE)","v":"Mortality from acute MI: Under 75 Directly age-standardised rates (DSR) per 100,000 European Standard population,"},"2009-11","07Q",105,null,860121.40535420692,10.370930716889724,8.4698621977973207,12.569134281876485,0.16594121950881913,0.11717156437004803,null,11.964367767905213,9.7241411453812638,"B","Y56","X24","11003151","Byar"]
[1100315,{"$f":"VLOOKUP(tblData[[#This Row],[Indicator ID]],'Similar 10 CCGs'!$A$6:$C$160,3,FALSE)","v":"Mortality from acute MI: Under 75 Directly age-standardised rates (DSR) per 100,000 European Standard population,"},"2009-11","08K",97,null,881783.07088860986,16.804046614593211,13.588248180470204,20.544527894888901,0.16594121950881913,0.11717156437004803,null,16.838515912508242,12.17692032035313,"B","Y56","X24","11003151","Byar"]
[1100315,{"$f":"VLOOKUP(tblData[[#This Row],[Indicator ID]],'Similar 10 CCGs'!$A$6:$C$160,3,FALSE)","v":"Mortality from acute MI: Under 75 Directly age-standardised rates (DSR) per 100,000 European Standard population,"},"2009-11","09E",73,null,541527.53914602345,9.9806036751008111,7.789827781584048,12.588842218326018,0.16594121950881913,0.13287101927931763,null,13.794375402111644,11.794093454018356,"C","Y57","X24","11003151","Byar"]
[1100315,{"$f":"VLOOKUP(tblData[[#This Row],[Indicator ID]],'Similar 10 CCGs'!$A$6:$C$160,3,FALSE)","v":"Mortality from acute MI: Under 75 Directly age-standardised rates (DSR) per 100,000 European Standard population,"},"2009-11","10H",89,null,849716.53357353574,8.554219596768549,6.8577163129726095,10.540783630210257,0.16594121950881913,0.13287101927931763,null,10.177633686179863,7.918287046092944,"B","Y57","X24","11003151","Byar"]
[1100315,{"$f":"VLOOKUP(tblData[[#This Row],[Indicator ID]],'Similar 10 CCGs'!$A$6:$C$160,3,FALSE)","v":"Mortality from acute MI: Under 75 Directly age-standardised rates (DSR) per 100,000 European Standard population,"},"2009-11","11D",50,null,425252.01669462433,10.407532262854245,7.7166424164183383,13.730949678425318,0.16594121950881913,0.13287101927931763,null,9.5530905770344212,7.9053290730808197,"B","Y57","X24","11003151","Byar"]
[1100315,{"$f":"VLOOKUP(tblData[[#This Row],[Indicator ID]],'Similar 10 CCGs'!$A$6:$C$160,3,FALSE)","v":"Mortality from acute MI: Under 75 Directly age-standardised rates (DSR) per 100,000 European Standard population,"},"2009-11","99F",39,null,464292.91834899597,5.7788237175286801,4.0666536413523779,7.9540327902448666,0.16594121950881913,0.17009585339417335,null,12.381980764531667,10.583454275780548,"C","Y55","X24","11003151","Byar"]
[1100316,{"$f":"VLOOKUP(tblData[[#This Row],[Indicator ID]],'Similar 10 CCGs'!$A$6:$C$160,3,FALSE)","v":"Mortality from stroke: Under 75 Directly age-standardised rates (DSR) per 100,000 European Standard population,"},"2009-11","00K",133,null,783353.36078432109,14.336916751829291,11.985266256534111,17.012179552390553,0.13724825306527791,0.16856703928490965,null,13.521564618611254,12.411467740674373,"B","Y54","X24","11003161","Byar"]
[1100316,{"$f":"VLOOKUP(tblData[[#This Row],[Indicator ID]],'Similar 10 CCGs'!$A$6:$C$160,3,FALSE)","v":"Mortality from stroke: Under 75 Directly age-standardised rates (DSR) per 100,000 European Standard population,"},"2009-11","01E",73,null,550888.78462079819,11.246755956837914,8.7978063389290959,14.162364441826728,0.13724825306527791,0.16856703928490965,null,13.39045733676177,12.15650595584402,"B","Y54","X24","11003161","Byar"]
[1100316,{"$f":"VLOOKUP(tblData[[#This Row],[Indicator ID]],'Similar 10 CCGs'!$A$6:$C$160,3,FALSE)","v":"Mortality from stroke: Under 75 Directly age-standardised rates (DSR) per 100,000 European Standard population,"},"2009-11","02N",62,null,406585.75630984158,11.197314147709429,8.5572678025352555,14.387865482430005,0.13724825306527791,0.16856703928490965,null,10.895528316381281,9.3984390183016497,"B","Y54","X24","11003161","Byar"]
[1100316,{"$f":"VLOOKUP(tblData[[#This Row],[Indicator ID]],'Similar 10 CCGs'!$A$6:$C$160,3,FALSE)","v":"Mortality from stroke: Under 75 Directly age-standardised rates (DSR) per 100,000 European Standard population,"},"2009-11","03D",65,null,404446.5833253517,10.838255967282949,8.2943644456417722,13.898915183791596,0.13724825306527791,0.16856703928490965,null,9.3863032342027068,8.237254359566041,"B","Y54","X24","11003161","Byar"]
[1100316,{"$f":"VLOOKUP(tblData[[#This Row],[Indicator ID]],'Similar 10 CCGs'!$A$6:$C$160,3,FALSE)","v":"Mortality from stroke: Under 75 Directly age-standardised rates (DSR) per 100,000 European Standard population,"},"2009-11","03X",30,null,262330.96913260763,8.9162552669864503,5.9951386081164895,12.755612425414146,0.13724825306527791,0.13473910662718805,null,11.306513273087125,9.3350197370391186,"B","Y55","X24","11003161","Byar"]
[1100316,{"$f":"VLOOKUP(tblData[[#This Row],[Indicator ID]],'Similar 10 CCGs'!$A$6:$C$160,3,FALSE)","v":"Mortality from stroke: Under 75 Directly age-standardised rates (DSR) per 100,000 European Standard population,"},"2009-11","04X",74,null,622530.47487394849,13.297722846363422,10.421276697225743,16.718207848343795,0.13724825306527791,0.13473910662718805,null,16.078638181417009,13.749751686782428,"B","Y55","X24","11003161","Byar"]
[1100316,{"$f":"VLOOKUP(tblData[[#This Row],[Indicator ID]],'Similar 10 CCGs'!$A$6:$C$160,3,FALSE)","v":"Mortality from stroke: Under 75 Directly age-standardised rates (DSR) per 100,000 European Standard population,"},"2009-11","05V",44,null,384271.93922278384,8.1652833280530128,5.8909046241751595,11.014123524210538,0.13724825306527791,0.13473910662718805,null,10.350111890103181,9.1175893185002224,"B","Y55","X24","11003161","Byar"]
[1100316,{"$f":"VLOOKUP(tblData[[#This Row],[Indicator ID]],'Similar 10 CCGs'!$A$6:$C$160,3,FALSE)","v":"Mortality from stroke: Under 75 Directly age-standardised rates (DSR) per 100,000 European Standard population,"},"2009-11","06W",61,null,554036.8709927001,9.6926179659435654,7.3868568944763719,12.483530063413948,0.13724825306527791,0.13473910662718805,null,10.975029294145312,9.1129216853446344,"B","Y55","X24","11003161","Byar"]
[1100316,{"$f":"VLOOKUP(tblData[[#This Row],[Indicator ID]],'Similar 10 CCGs'!$A$6:$C$160,3,FALSE)","v":"Mortality from stroke: Under 75 Directly age-standardised rates (DSR) per 100,000 European Standard population,"},"2009-11","07X",99,null,806265.19904556847,12.515216364253327,10.161886934368525,15.248281789815337,0.13724825306527791,0.10547220164061651,null,11.19043123376974,9.285212510642177,"B","Y56","X24","11003161","Byar"]
[1100316,{"$f":"VLOOKUP(tblData[[#This Row],[Indicator ID]],'Similar 10 CCGs'!$A$6:$C$160,3,FALSE)","v":"Mortality from stroke: Under 75 Directly age-standardised rates (DSR) per 100,000 European Standard population,"},"2009-11","08Q",74,null,787984.14058925922,13.475933618257057,10.530226366732988,16.978779474447858,0.13724825306527791,0.10547220164061651,null,14.207245150316581,12.132446753590445,"B","Y56","X24","11003161","Byar"]
[1100316,{"$f":"VLOOKUP(tblData[[#This Row],[Indicator ID]],'Similar 10 CCGs'!$A$6:$C$160,3,FALSE)","v":"Mortality from stroke: Under 75 Directly age-standardised rates (DSR) per 100,000 European Standard population,"},"2009-11","09N",52,null,553000.20606649935,7.5035057309929263,5.5933047111949481,9.852975932142499,0.13724825306527791,0.12444505220306822,null,9.3570848077125497,8.513521576583134,"B","Y57","X24","11003161","Byar"]
[1100316,{"$f":"VLOOKUP(tblData[[#This Row],[Indicator ID]],'Similar 10 CCGs'!$A$6:$C$160,3,FALSE)","v":"Mortality from stroke: Under 75 Directly age-standardised rates (DSR) per 100,000 European Standard population,"},"2009-11","10N",29,null,276013.90239056922,9.3866235909806743,6.2661170889553048,13.507501688898369,0.13724825306527791,0.12444505220306822,null,11.369090111012111,9.4073673185124598,"B","Y57","X24","11003161","Byar"]
[1100316,{"$f":"VLOOKUP(tblData[[#This Row],[Indicator ID]],'Similar 10 CCGs'!$A$6:$C$160,3,FALSE)","v":"Mortality from stroke: Under 75 Directly age-standardised rates (DSR) per 100,000 European Standard population,"},"2009-11","11E",55,null,506606.71392416494,8.9305909712511014,6.6867768547950348,11.674488422603458,0.13724825306527791,0.12444505220306822,null,10.117472061589265,8.9647318514242222,"B","Y57","X24","11003161","Byar"]
[1100316,{"$f":"VLOOKUP(tblData[[#This Row],[Indicator ID]],'Similar 10 CCGs'!$A$6:$C$160,3,FALSE)","v":"Mortality from stroke: Under 75 Directly age-standardised rates (DSR) per 100,000 European Standard population,"},"2009-11","99N",182,null,1272157.8249441413,10.815028537631655,9.2807090249136088,12.527945685102052,0.13724825306527791,0.12444505220306822,null,9.356002554783073,8.7295129667775448,"B","Y57","X24","11003161","Byar"]
[1100317,{"$f":"VLOOKUP(tblData[[#This Row],[Indicator ID]],'Similar 10 CCGs'!$A$6:$C$160,3,FALSE)","v":"CHD 06: % of patients with CHD whose last blood pressure reading (as measured within the last 15 months) is 150/90 or less"},"2011/12","00R",7075,null,8271,85.539837988151362,84.77,86.28,877.52579584397768,882.86434375601368,null,88.456918243593904,89.682309301550987,"A","Y54","X24","11003171","Wilson"]
[1100317,{"$f":"VLOOKUP(tblData[[#This Row],[Indicator ID]],'Similar 10 CCGs'!$A$6:$C$160,3,FALSE)","v":"CHD 06: % of patients with CHD whose last blood pressure reading (as measured within the last 15 months) is 150/90 or less"},"2011/12","01N",4418,null,5331,82.873757268805107,81.84,83.86,877.52579584397768,882.86434375601368,null,88.555171144719878,89.537522581103943,"A","Y54","X24","11003171","Wilson"]
[1100317,{"$f":"VLOOKUP(tblData[[#This Row],[Indicator ID]],'Similar 10 CCGs'!$A$6:$C$160,3,FALSE)","v":"CHD 06: % of patients with CHD whose last blood pressure reading (as measured within the last 15 months) is 150/90 or less"},"2011/12","02P",10658,null,12125,87.901030927835052,87.31,88.47,877.52579584397768,882.86434375601368,null,89.184640710461153,89.983223359068475,"B","Y54","X24","11003171","Wilson"]
[1100317,{"$f":"VLOOKUP(tblData[[#This Row],[Indicator ID]],'Similar 10 CCGs'!$A$6:$C$160,3,FALSE)","v":"CHD 06: % of patients with CHD whose last blood pressure reading (as measured within the last 15 months) is 150/90 or less"},"2011/12","03J",6572,null,7437,88.368965980906282,87.62,89.08,877.52579584397768,882.86434375601368,null,87.526347389707979,88.788362684477107,"","Y54","X24","11003171","Wilson"]
[1100317,{"$f":"VLOOKUP(tblData[[#This Row],[Indicator ID]],'Similar 10 CCGs'!$A$6:$C$160,3,FALSE)","v":"CHD 06: % of patients with CHD whose last blood pressure reading (as measured within the last 15 months) is 150/90 or less"},"2011/12","04G",17145,null,19418,88.294366052116587,87.83,88.74,877.52579584397768,877.61736820889041,null,88.075635599047388,88.306637101798913,"","Y55","X24","11003171","Wilson"]
[1100317,{"$f":"VLOOKUP(tblData[[#This Row],[Indicator ID]],'Similar 10 CCGs'!$A$6:$C$160,3,FALSE)","v":"CHD 06: % of patients with CHD whose last blood pressure reading (as measured within the last 15 months) is 150/90 or less"},"2011/12","05F",5534,null,6449,85.811753760272907,84.94,86.64,877.52579584397768,877.61736820889041,null,87.856382520961006,88.836528499882405,"A","Y55","X24","11003171","Wilson"]
[1100317,{"$f":"VLOOKUP(tblData[[#This Row],[Indicator ID]],'Similar 10 CCGs'!$A$6:$C$160,3,FALSE)","v":"CHD 06: % of patients with CHD whose last blood pressure reading (as measured within the last 15 months) is 150/90 or less"},"2011/12","06F",11912,null,13493,88.282813310605505,87.73,88.81,877.52579584397768,877.61736820889041,null,87.816223558655778,88.452526948841935,"B","Y55","X24","11003171","Wilson"]
[1100317,{"$f":"VLOOKUP(tblData[[#This Row],[Indicator ID]],'Similar 10 CCGs'!$A$6:$C$160,3,FALSE)","v":"CHD 06: % of patients with CHD whose last blood pressure reading (as measured within the last 15 months) is 150/90 or less"},"2011/12","07L",3898,null,4441,87.773024093672589,86.78,88.7,877.52579584397768,871.86707531465379,null,86.766085056079106,87.704879810338298,"B","Y56","X24","11003171","Wilson"]
[1100317,{"$f":"VLOOKUP(tblData[[#This Row],[Indicator ID]],'Similar 10 CCGs'!$A$6:$C$160,3,FALSE)","v":"CHD 06: % of patients with CHD whose last blood pressure reading (as measured within the last 15 months) is 150/90 or less"},"2011/12","08F",7290,null,8023,90.863766670821391,90.21,91.47,877.52579584397768,871.86707531465379,null,88.016838042656033,88.81305638193642,"C","Y56","X24","11003171","Wilson"]
[1100317,{"$f":"VLOOKUP(tblData[[#This Row],[Indicator ID]],'Similar 10 CCGs'!$A$6:$C$160,3,FALSE)","v":"CHD 06: % of patients with CHD whose last blood pressure reading (as measured within the last 15 months) is 150/90 or less"},"2011/12","08G",6030,null,6966,86.563307493540051,85.74,87.34,877.52579584397768,871.86707531465379,null,86.807346344491094,87.758757438648615,"A","Y56","X24","11003171","Wilson"]
[1100317,{"$f":"VLOOKUP(tblData[[#This Row],[Indicator ID]],'Similar 10 CCGs'!$A$6:$C$160,3,FALSE)","v":"CHD 06: % of patients with CHD whose last blood pressure reading (as measured within the last 15 months) is 150/90 or less"},"2011/12","09A",3292,null,3830,85.953002610966053,84.82,87.02,877.52579584397768,871.86707531465379,null,86.768126925566207,87.909100510965303,"B","Y56","X24","11003171","Wilson"]
[1100317,{"$f":"VLOOKUP(tblData[[#This Row],[Indicator ID]],'Similar 10 CCGs'!$A$6:$C$160,3,FALSE)","v":"CHD 06: % of patients with CHD whose last blood pressure reading (as measured within the last 15 months) is 150/90 or less"},"2011/12","10C",2230,null,2584,86.30030959752321,84.92,87.57,877.52579584397768,872.36352457342355,null,87.428529492377834,88.538809798851489,"A","Y57","X24","11003171","Wilson"]
[1100317,{"$f":"VLOOKUP(tblData[[#This Row],[Indicator ID]],'Similar 10 CCGs'!$A$6:$C$160,3,FALSE)","v":"CHD 06: % of patients with CHD whose last blood pressure reading (as measured within the last 15 months) is 150/90 or less"},"2011/12","10Y",5584,null,6324,88.298545224541428,87.48,89.07,877.52579584397768,872.36352457342355,null,87.505764450433091,88.53815229322575,"","Y57","X24","11003171","Wilson"]
[1100317,{"$f":"VLOOKUP(tblData[[#This Row],[Indicator ID]],'Similar 10 CCGs'!$A$6:$C$160,3,FALSE)","v":"CHD 06: % of patients with CHD whose last blood pressure reading (as measured within the last 15 months) is 150/90 or less"},"2011/12","99A",16498,null,19076,86.485636401761383,85.99,86.96,877.52579584397768,882.86434375601368,null,87.367485106256026,88.9641473483141,"A","Y54","X24","11003171","Wilson"]
[1100318,{"$f":"VLOOKUP(tblData[[#This Row],[Indicator ID]],'Similar 10 CCGs'!$A$6:$C$160,3,FALSE)","v":"CHD 08: % of patients with CHD whose last measured cholesterol (as measured within the last 15 months) is 5 mmol/l or less,"},"2011/12","00G",3572,null,4646,76.883340507963837,75.650000000000006,78.069999999999993,731.44143923162483,737.08847321467374,null,71.968717991087559,73.714361333894914,"C","Y54","X24","11003181","Wilson"]
[1100318,{"$f":"VLOOKUP(tblData[[#This Row],[Indicator ID]],'Similar 10 CCGs'!$A$6:$C$160,3,FALSE)","v":"CHD 08: % of patients with CHD whose last measured cholesterol (as measured within the last 15 months) is 5 mmol/l or less,"},"2011/12","01A",11333,null,15482,73.201136804030483,72.5,73.89,731.44143923162483,737.08847321467374,null,74.915024583091764,76.063774400669985,"B","Y54","X24","11003181","Wilson"]
[1100318,{"$f":"VLOOKUP(tblData[[#This Row],[Indicator ID]],'Similar 10 CCGs'!$A$6:$C$160,3,FALSE)","v":"CHD 08: % of patients with CHD whose last measured cholesterol (as measured within the last 15 months) is 5 mmol/l or less,"},"2011/12","01X",6784,null,9211,73.651069373575069,72.739999999999995,74.540000000000006,731.44143923162483,737.08847321467374,null,72.832227864117201,74.39892262305321,"B","Y54","X24","11003181","Wilson"]
[1100318,{"$f":"VLOOKUP(tblData[[#This Row],[Indicator ID]],'Similar 10 CCGs'!$A$6:$C$160,3,FALSE)","v":"CHD 08: % of patients with CHD whose last measured cholesterol (as measured within the last 15 months) is 5 mmol/l or less,"},"2011/12","03F",7862,null,11198,70.208965886765498,69.36,71.05,731.44143923162483,737.08847321467374,null,75.063310096583976,76.451585500692843,"A","Y54","X24","11003181","Wilson"]
[1100318,{"$f":"VLOOKUP(tblData[[#This Row],[Indicator ID]],'Similar 10 CCGs'!$A$6:$C$160,3,FALSE)","v":"CHD 08: % of patients with CHD whose last measured cholesterol (as measured within the last 15 months) is 5 mmol/l or less,"},"2011/12","03T",9096,null,12709,71.571327405775435,70.78,72.349999999999994,731.44143923162483,730.84184554823082,null,73.620151469415219,75.531485671243075,"A","Y55","X24","11003181","Wilson"]
[1100318,{"$f":"VLOOKUP(tblData[[#This Row],[Indicator ID]],'Similar 10 CCGs'!$A$6:$C$160,3,FALSE)","v":"CHD 08: % of patients with CHD whose last measured cholesterol (as measured within the last 15 months) is 5 mmol/l or less,"},"2011/12","04Q",4002,null,5547,72.147106544077872,70.95,73.31,731.44143923162483,730.84184554823082,null,73.357712459159728,75.107247392098799,"B","Y55","X24","11003181","Wilson"]
[1100318,{"$f":"VLOOKUP(tblData[[#This Row],[Indicator ID]],'Similar 10 CCGs'!$A$6:$C$160,3,FALSE)","v":"CHD 08: % of patients with CHD whose last measured cholesterol (as measured within the last 15 months) is 5 mmol/l or less,"},"2011/12","05Q",5542,null,7584,73.074894514767934,72.069999999999993,74.06,731.44143923162483,730.84184554823082,null,72.746018004460069,74.355474412143295,"B","Y55","X24","11003181","Wilson"]
[1100318,{"$f":"VLOOKUP(tblData[[#This Row],[Indicator ID]],'Similar 10 CCGs'!$A$6:$C$160,3,FALSE)","v":"CHD 08: % of patients with CHD whose last measured cholesterol (as measured within the last 15 months) is 5 mmol/l or less,"},"2011/12","06P",3829,null,5408,70.802514792899402,69.58,72,731.44143923162483,730.84184554823082,null,73.207477129291391,74.472595964725272,"A","Y55","X24","11003181","Wilson"]
[1100318,{"$f":"VLOOKUP(tblData[[#This Row],[Indicator ID]],'Similar 10 CCGs'!$A$6:$C$160,3,FALSE)","v":"CHD 08: % of patients with CHD whose last measured cholesterol (as measured within the last 15 months) is 5 mmol/l or less,"},"2011/12","07T",3379,null,4574,73.874070835155223,72.58,75.13,731.44143923162483,728.99217408892184,null,71.669281756150127,72.736804148908092,"B","Y56","X24","11003181","Wilson"]
[1100318,{"$f":"VLOOKUP(tblData[[#This Row],[Indicator ID]],'Similar 10 CCGs'!$A$6:$C$160,3,FALSE)","v":"CHD 08: % of patients with CHD whose last measured cholesterol (as measured within the last 15 months) is 5 mmol/l or less,"},"2011/12","08M",4988,null,6576,75.851581508515821,74.8,76.87,731.44143923162483,728.99217408892184,null,73.968711955083251,75.089203309016796,"","Y56","X24","11003181","Wilson"]
[1100318,{"$f":"VLOOKUP(tblData[[#This Row],[Indicator ID]],'Similar 10 CCGs'!$A$6:$C$160,3,FALSE)","v":"CHD 08: % of patients with CHD whose last measured cholesterol (as measured within the last 15 months) is 5 mmol/l or less,"},"2011/12","09G",14469,null,21162,68.37255457896228,67.739999999999995,69,731.44143923162483,725.37287118878021,null,73.163386113789329,74.710034536878169,"A","Y57","X24","11003181","Wilson"]
[1100318,{"$f":"VLOOKUP(tblData[[#This Row],[Indicator ID]],'Similar 10 CCGs'!$A$6:$C$160,3,FALSE)","v":"CHD 08: % of patients with CHD whose last measured cholesterol (as measured within the last 15 months) is 5 mmol/l or less,"},"2011/12","10K",5599,null,7517,74.484501795929219,73.489999999999995,75.459999999999994,731.44143923162483,725.37287118878021,null,71.290163696211835,73.347903331761287,"","Y57","X24","11003181","Wilson"]
[1100318,{"$f":"VLOOKUP(tblData[[#This Row],[Indicator ID]],'Similar 10 CCGs'!$A$6:$C$160,3,FALSE)","v":"CHD 08: % of patients with CHD whose last measured cholesterol (as measured within the last 15 months) is 5 mmol/l or less,"},"2011/12","11H",8577,null,11879,72.203047394561835,71.39,73,731.44143923162483,725.37287118878021,null,72.857117028825002,74.791103276796179,"A","Y57","X24","11003181","Wilson"]
[1100318,{"$f":"VLOOKUP(tblData[[#This Row],[Indicator ID]],'Similar 10 CCGs'!$A$6:$C$160,3,FALSE)","v":"CHD 08: % of patients with CHD whose last measured cholesterol (as measured within the last 15 months) is 5 mmol/l or less,"},"2011/12","99D",4748,null,6419,73.96790777379654,72.88,75.03,731.44143923162483,730.84184554823082,null,72.600678446574648,74.1196765532152,"B","Y55","X24","11003181","Wilson"]
[1100419,{"$f":"VLOOKUP(tblData[[#This Row],[Indicator ID]],'Similar 10 CCGs'!$A$6:$C$160,3,FALSE)","v":"Reported numbers of people with coronary heart disease (CHD) on GP registers as a percentage of estimated prevalence"},2011,"00N",7532,null,8324.4298134548826,90.480671574957981,89.831416740660245,91.092582564943896,734.41079582801126,799.34438162627009,null,77.601951351242121,85.400837193600339,"C","Y54","X24","11004191","Wilson"]
[1100419,{"$f":"VLOOKUP(tblData[[#This Row],[Indicator ID]],'Similar 10 CCGs'!$A$6:$C$160,3,FALSE)","v":"Reported numbers of people with coronary heart disease (CHD) on GP registers as a percentage of estimated prevalence"},2011,"01H",24988,null,29690.044070841734,84.162892922548536,83.12,85.21,734.41079582801126,799.34438162627009,null,75.151471194437363,80.962188525484962,"C","Y54","X24","11004191","Wilson"]
[1100419,{"$f":"VLOOKUP(tblData[[#This Row],[Indicator ID]],'Similar 10 CCGs'!$A$6:$C$160,3,FALSE)","v":"Reported numbers of people with coronary heart disease (CHD) on GP registers as a percentage of estimated prevalence"},2011,"02H",14174,null,16365.387709392056,86.609619348434848,85.19,88.05,734.41079582801126,799.34438162627009,null,83.306048036518987,87.906244927449663,"","Y54","X24","11004191","Wilson"]
[1100419,{"$f":"VLOOKUP(tblData[[#This Row],[Indicator ID]],'Similar 10 CCGs'!$A$6:$C$160,3,FALSE)","v":"Reported numbers of people with coronary heart disease (CHD) on GP registers as a percentage of estimated prevalence"},2011,"03F",11276,null,15942.635843744192,70.728580333374708,69.430000000000007,72.05,734.41079582801126,799.34438162627009,null,81.873719408718145,86.274911630351568,"A","Y54","X24","11004191","Wilson"]
[1100419,{"$f":"VLOOKUP(tblData[[#This Row],[Indicator ID]],'Similar 10 CCGs'!$A$6:$C$160,3,FALSE)","v":"Reported numbers of people with coronary heart disease (CHD) on GP registers as a percentage of estimated prevalence"},2011,"04C",10068,null,15721.040486708051,64.041562697535014,63.288082311524654,64.788182607890604,734.41079582801126,729.18573392063172,null,67.362183406572655,72.638030695210134,"A","Y55","X24","11004191","Wilson"]
[1100419,{"$f":"VLOOKUP(tblData[[#This Row],[Indicator ID]],'Similar 10 CCGs'!$A$6:$C$160,3,FALSE)","v":"Reported numbers of people with coronary heart disease (CHD) on GP registers as a percentage of estimated prevalence"},2011,"05A",12993,null,20982.018346405457,61.924452574058023,61.265306260546382,62.579233348683218,734.41079582801126,729.18573392063172,null,74.311511814081214,80.783928200136415,"A","Y55","X24","11004191","Wilson"]
[1100419,{"$f":"VLOOKUP(tblData[[#This Row],[Indicator ID]],'Similar 10 CCGs'!$A$6:$C$160,3,FALSE)","v":"Reported numbers of people with coronary heart disease (CHD) on GP registers as a percentage of estimated prevalence"},2011,"05X",5464.0000000000009,null,7877.1354831137587,69.365317020548844,67.540000000000006,71.23,734.41079582801126,729.18573392063172,null,75.915496925813528,81.883262214818359,"A","Y55","X24","11004191","Wilson"]
[1100419,{"$f":"VLOOKUP(tblData[[#This Row],[Indicator ID]],'Similar 10 CCGs'!$A$6:$C$160,3,FALSE)","v":"Reported numbers of people with coronary heart disease (CHD) on GP registers as a percentage of estimated prevalence"},2011,"07G",4607,null,6150.4411079278862,74.905196540482294,72.760000000000005,77.099999999999994,734.41079582801126,729.18573392063172,null,73.542944248387698,76.749215284506434,"B","Y55","X24","11004191","Wilson"]
[1100419,{"$f":"VLOOKUP(tblData[[#This Row],[Indicator ID]],'Similar 10 CCGs'!$A$6:$C$160,3,FALSE)","v":"Reported numbers of people with coronary heart disease (CHD) on GP registers as a percentage of estimated prevalence"},2011,"08D",4580,null,9500.0118122043204,48.210466371381138,47.20659702258105,49.215782379666926,734.41079582801126,635.30183308051051,null,59.166638788015874,64.054579988559212,"A","Y56","X24","11004191","Wilson"]
[1100419,{"$f":"VLOOKUP(tblData[[#This Row],[Indicator ID]],'Similar 10 CCGs'!$A$6:$C$160,3,FALSE)","v":"Reported numbers of people with coronary heart disease (CHD) on GP registers as a percentage of estimated prevalence"},2011,"08V",4847,null,8642.7193937038483,56.081885564062176,55.033112955696204,57.125254101758884,734.41079582801126,635.30183308051051,null,64.384665196727184,70.188814606837099,"B","Y56","X24","11004191","Wilson"]
[1100419,{"$f":"VLOOKUP(tblData[[#This Row],[Indicator ID]],'Similar 10 CCGs'!$A$6:$C$160,3,FALSE)","v":"Reported numbers of people with coronary heart disease (CHD) on GP registers as a percentage of estimated prevalence"},2011,"09X",6696,null,8924.7086108489493,75.027659635411368,73.239999999999995,76.849999999999994,734.41079582801126,706.74617966905055,null,77.082682805290432,79.6421163502946,"B","Y57","X24","11004191","Wilson"]
[1100419,{"$f":"VLOOKUP(tblData[[#This Row],[Indicator ID]],'Similar 10 CCGs'!$A$6:$C$160,3,FALSE)","v":"Reported numbers of people with coronary heart disease (CHD) on GP registers as a percentage of estimated prevalence"},2011,"10T",3742,null,4748.3065590571359,78.807043173367546,76.3,81.37,734.41079582801126,706.74617966905055,null,72.922767026015606,78.563280363590579,"C","Y57","X24","11004191","Wilson"]
[1100419,{"$f":"VLOOKUP(tblData[[#This Row],[Indicator ID]],'Similar 10 CCGs'!$A$6:$C$160,3,FALSE)","v":"Reported numbers of people with coronary heart disease (CHD) on GP registers as a percentage of estimated prevalence"},2011,"12D",6195,null,8384.4353815975555,73.886907323503237,72.06,75.75,734.41079582801126,706.74617966905055,null,76.825743344481211,79.899938569696118,"B","Y57","X24","11004191","Wilson"]
[1100419,{"$f":"VLOOKUP(tblData[[#This Row],[Indicator ID]],'Similar 10 CCGs'!$A$6:$C$160,3,FALSE)","v":"Reported numbers of people with coronary heart disease (CHD) on GP registers as a percentage of estimated prevalence"},2011,"99Q",11349,null,17874.155095106318,63.493910283385588,62.33,64.67,734.41079582801126,706.74617966905055,null,74.503079295001186,79.725076670917446,"A","Y57","X24","11004191","Wilson"]
[1100420,{"$f":"VLOOKUP(tblData[[#This Row],[Indicator ID]],'Similar 10 CCGs'!$A$6:$C$160,3,FALSE)","v":"Reported numbers of people with hypertension on GP registers as a percentage of estimated prevalence"},2011,"00V",25409.000000000004,null,46236.049018557409,54.954955147231075,54.28,55.63,553.00711051535814,562.75195968612422,null,57.219989375524804,59.335776401533522,"A","Y54","X24","11004201","Byar"]
[1100420,{"$f":"VLOOKUP(tblData[[#This Row],[Indicator ID]],'Similar 10 CCGs'!$A$6:$C$160,3,FALSE)","v":"Reported numbers of people with hypertension on GP registers as a percentage of estimated prevalence"},2011,"01T",25046.999999999996,null,41502.949727476756,60.34992732918402,59.6,61.1,553.00711051535814,562.75195968612422,null,59.352826689494428,61.059796033385567,"","Y54","X24","11004201","Byar"]
[1100420,{"$f":"VLOOKUP(tblData[[#This Row],[Indicator ID]],'Similar 10 CCGs'!$A$6:$C$160,3,FALSE)","v":"Reported numbers of people with hypertension on GP registers as a percentage of estimated prevalence"},2011,"02R",43152,null,78837.485657892306,54.735383352094658,54.22,55.25,553.00711051535814,562.75195968612422,null,57.14477972928853,59.935177671388352,"A","Y54","X24","11004201","Byar"]
[1100420,{"$f":"VLOOKUP(tblData[[#This Row],[Indicator ID]],'Similar 10 CCGs'!$A$6:$C$160,3,FALSE)","v":"Reported numbers of people with hypertension on GP registers as a percentage of estimated prevalence"},2011,"03L",40039,null,66768.35850031396,59.96702764500602,59.38,60.56,553.00711051535814,562.75195968612422,null,59.463321402745088,61.716903203398132,"C","Y54","X24","11004201","Byar"]
[1100420,{"$f":"VLOOKUP(tblData[[#This Row],[Indicator ID]],'Similar 10 CCGs'!$A$6:$C$160,3,FALSE)","v":"Reported numbers of people with hypertension on GP registers as a percentage of estimated prevalence"},2011,"03X",14956,null,25483.170375304428,58.689714740100626,57.75,59.64,553.00711051535814,568.65349393357803,null,57.822301774885332,59.689323697951217,"","Y55","X24","11004201","Byar"]
[1100420,{"$f":"VLOOKUP(tblData[[#This Row],[Indicator ID]],'Similar 10 CCGs'!$A$6:$C$160,3,FALSE)","v":"Reported numbers of people with hypertension on GP registers as a percentage of estimated prevalence"},2011,"05J",24166,null,43470.958057886324,55.591137346962384,54.89,56.3,553.00711051535814,568.65349393357803,null,57.636818492063924,60.005170377636887,"A","Y55","X24","11004201","Byar"]
[1100420,{"$f":"VLOOKUP(tblData[[#This Row],[Indicator ID]],'Similar 10 CCGs'!$A$6:$C$160,3,FALSE)","v":"Reported numbers of people with hypertension on GP registers as a percentage of estimated prevalence"},2011,"05L",74776,null,122128.82895031816,61.227148939927019,60.79,61.67,553.00711051535814,568.65349393357803,null,55.133156328993223,57.402816182098078,"C","Y55","X24","11004201","Byar"]
[1100420,{"$f":"VLOOKUP(tblData[[#This Row],[Indicator ID]],'Similar 10 CCGs'!$A$6:$C$160,3,FALSE)","v":"Reported numbers of people with hypertension on GP registers as a percentage of estimated prevalence"},2011,"06L",54095,null,102298.40219168397,52.879613797523696,52.43,53.33,553.00711051535814,568.65349393357803,null,55.858710929021683,57.278668006979274,"A","Y55","X24","11004201","Byar"]
[1100420,{"$f":"VLOOKUP(tblData[[#This Row],[Indicator ID]],'Similar 10 CCGs'!$A$6:$C$160,3,FALSE)","v":"Reported numbers of people with hypertension on GP registers as a percentage of estimated prevalence"},2011,"07N",31683,null,55003.08793730363,57.602220508264011,56.97,58.24,553.00711051535814,521.18634436897264,null,57.415145199765007,60.44310025065424,"B","Y56","X24","11004201","Byar"]
[1100420,{"$f":"VLOOKUP(tblData[[#This Row],[Indicator ID]],'Similar 10 CCGs'!$A$6:$C$160,3,FALSE)","v":"Reported numbers of people with hypertension on GP registers as a percentage of estimated prevalence"},2011,"08J",20444,null,37737.50478793939,54.174223004096824,53.43,54.92,553.00711051535814,521.18634436897264,null,54.686529109375975,56.514765640674057,"B","Y56","X24","11004201","Byar"]
[1100420,{"$f":"VLOOKUP(tblData[[#This Row],[Indicator ID]],'Similar 10 CCGs'!$A$6:$C$160,3,FALSE)","v":"Reported numbers of people with hypertension on GP registers as a percentage of estimated prevalence"},2011,"09D",30066,null,67627.524983938289,44.458229111801373,43.96,44.96,553.00711051535814,540.72785344543888,null,53.766690940851127,56.970185368024374,"A","Y57","X24","11004201","Byar"]
[1100420,{"$f":"VLOOKUP(tblData[[#This Row],[Indicator ID]],'Similar 10 CCGs'!$A$6:$C$160,3,FALSE)","v":"Reported numbers of people with hypertension on GP registers as a percentage of estimated prevalence"},2011,"10E",22532,null,40164.139387539602,56.099795348758938,55.37,56.84,553.00711051535814,540.72785344543888,null,57.908955764418728,60.902859017734578,"B","Y57","X24","11004201","Byar"]
[1100420,{"$f":"VLOOKUP(tblData[[#This Row],[Indicator ID]],'Similar 10 CCGs'!$A$6:$C$160,3,FALSE)","v":"Reported numbers of people with hypertension on GP registers as a percentage of estimated prevalence"},2011,"11C",16617,null,34117.252954987314,48.705562613507247,47.97,49.45,553.00711051535814,540.72785344543888,null,56.18711584275438,59.17791349988579,"A","Y57","X24","11004201","Byar"]
[1100420,{"$f":"VLOOKUP(tblData[[#This Row],[Indicator ID]],'Similar 10 CCGs'!$A$6:$C$160,3,FALSE)","v":"Reported numbers of people with hypertension on GP registers as a percentage of estimated prevalence"},2011,"99D",26239,null,42935.185173230733,61.113047245827445,60.38,61.86,553.00711051535814,568.65349393357803,null,55.36750125136642,56.996735350751933,"C","Y55","X24","11004201","Byar"]
[1110101,{"$f":"VLOOKUP(tblData[[#This Row],[Indicator ID]],'Similar 10 CCGs'!$A$6:$C$160,3,FALSE)","v":"Programme Budget - Respiratory - Total admissions per 1000 population across secondary care - Cost"},"2011/12","00F",8419156,null,217071,38785.21,37744.65,39847.18,27186.542803230263,31731.512856639885,null,34218.23599999999,30500.241999999998,"A","Y54","X24","11101011","Byar"]
[1110101,{"$f":"VLOOKUP(tblData[[#This Row],[Indicator ID]],'Similar 10 CCGs'!$A$6:$C$160,3,FALSE)","v":"Programme Budget - Respiratory - Total admissions per 1000 population across secondary care - Cost"},"2011/12","01E",6319785,null,203332,31081.040000000001,30149.52,32034.03,27186.542803230263,31731.512856639885,null,31777.815999999999,26449.988000000001,"A","Y54","X24","11101011","Byar"]
[1110101,{"$f":"VLOOKUP(tblData[[#This Row],[Indicator ID]],'Similar 10 CCGs'!$A$6:$C$160,3,FALSE)","v":"Programme Budget - Respiratory - Total admissions per 1000 population across secondary care - Cost"},"2011/12","02D",2540944,null,103107,24643.72,23432,25901.85,27186.542803230263,31731.512856639885,null,25533.097999999998,24444.31,"B","Y54","X24","11101011","Byar"]
[1110101,{"$f":"VLOOKUP(tblData[[#This Row],[Indicator ID]],'Similar 10 CCGs'!$A$6:$C$160,3,FALSE)","v":"Programme Budget - Respiratory - Total admissions per 1000 population across secondary care - Cost"},"2011/12","03C",9388329,null,312754,30018.28,29227.99,30824.53,27186.542803230263,31731.512856639885,null,28535.904000000002,24336.579999999998,"A","Y54","X24","11101011","Byar"]
[1110101,{"$f":"VLOOKUP(tblData[[#This Row],[Indicator ID]],'Similar 10 CCGs'!$A$6:$C$160,3,FALSE)","v":"Programme Budget - Respiratory - Total admissions per 1000 population across secondary care - Cost"},"2011/12","03W",8145556,null,348769,23355.14,22672.55,24053.06,27186.542803230263,26201.284724426849,null,21916.361000000001,20486.344000000001,"B","Y55","X24","11101011","Byar"]
[1110101,{"$f":"VLOOKUP(tblData[[#This Row],[Indicator ID]],'Similar 10 CCGs'!$A$6:$C$160,3,FALSE)","v":"Programme Budget - Respiratory - Total admissions per 1000 population across secondary care - Cost"},"2011/12","04V",9162592,null,374634,24457.47,23776.31,25153.200000000001,27186.542803230263,26201.284724426849,null,24002.477999999996,21404.332000000002,"","Y55","X24","11101011","Byar"]
[1110101,{"$f":"VLOOKUP(tblData[[#This Row],[Indicator ID]],'Similar 10 CCGs'!$A$6:$C$160,3,FALSE)","v":"Programme Budget - Respiratory - Total admissions per 1000 population across secondary care - Cost"},"2011/12","05T",7384084,null,326809,22594.49,21920.720000000001,23283.71,27186.542803230263,26201.284724426849,null,24551.016,21604.760000000002,"","Y55","X24","11101011","Byar"]
[1110101,{"$f":"VLOOKUP(tblData[[#This Row],[Indicator ID]],'Similar 10 CCGs'!$A$6:$C$160,3,FALSE)","v":"Programme Budget - Respiratory - Total admissions per 1000 population across secondary care - Cost"},"2011/12","06T",7682328,null,376070,20427.919999999998,19837.849999999999,21031.09,27186.542803230263,26201.284724426849,null,25563.393,23531.852000000003,"C","Y55","X24","11101011","Byar"]
[1110101,{"$f":"VLOOKUP(tblData[[#This Row],[Indicator ID]],'Similar 10 CCGs'!$A$6:$C$160,3,FALSE)","v":"Programme Budget - Respiratory - Total admissions per 1000 population across secondary care - Cost"},"2011/12","07W",10089949,null,314037,32129.78,31326.39,32948.559999999998,27186.542803230263,28008.575382502735,null,28752.800999999999,26528.705999999998,"A","Y56","X24","11101011","Byar"]
[1110101,{"$f":"VLOOKUP(tblData[[#This Row],[Indicator ID]],'Similar 10 CCGs'!$A$6:$C$160,3,FALSE)","v":"Programme Budget - Respiratory - Total admissions per 1000 population across secondary care - Cost"},"2011/12","08P",4257245,null,178627,23833.200000000001,22886.97,24808.49,27186.542803230263,28008.575382502735,null,22651.148999999998,20374.633999999998,"B","Y56","X24","11101011","Byar"]
[1110101,{"$f":"VLOOKUP(tblData[[#This Row],[Indicator ID]],'Similar 10 CCGs'!$A$6:$C$160,3,FALSE)","v":"Programme Budget - Respiratory - Total admissions per 1000 population across secondary care - Cost"},"2011/12","09W",6449990,null,265783,24267.89,23488.82,25066.22,27186.542803230263,23175.238964011412,null,26590.724999999999,24104.34,"C","Y57","X24","11101011","Byar"]
[1110101,{"$f":"VLOOKUP(tblData[[#This Row],[Indicator ID]],'Similar 10 CCGs'!$A$6:$C$160,3,FALSE)","v":"Programme Budget - Respiratory - Total admissions per 1000 population across secondary care - Cost"},"2011/12","10N",2051130,null,105052,19524.96,18414.080000000002,20685.349999999999,27186.542803230263,23175.238964011412,null,24064.847999999998,21773.692000000003,"C","Y57","X24","11101011","Byar"]
[1110101,{"$f":"VLOOKUP(tblData[[#This Row],[Indicator ID]],'Similar 10 CCGs'!$A$6:$C$160,3,FALSE)","v":"Programme Budget - Respiratory - Total admissions per 1000 population across secondary care - Cost"},"2011/12","11N",14489623,null,651071,22255.05,21779.26,22738.6,27186.542803230263,23175.238964011412,null,24004.981999999996,21649.528000000002,"","Y57","X24","11101011","Byar"]
[1110101,{"$f":"VLOOKUP(tblData[[#This Row],[Indicator ID]],'Similar 10 CCGs'!$A$6:$C$160,3,FALSE)","v":"Programme Budget - Respiratory - Total admissions per 1000 population across secondary care - Cost"},"2011/12","99M",5000199,null,209992,23811.360000000001,22943.14,24704.03,27186.542803230263,23175.238964011412,null,21639.516000000007,19114.664000000001,"A","Y57","X24","11101011","Byar"]
[1110102,{"$f":"VLOOKUP(tblData[[#This Row],[Indicator ID]],'Similar 10 CCGs'!$A$6:$C$160,3,FALSE)","v":"Programme Budget - Respiratory - Total elective (IP + DC) admissions per 1000 population across secondary care - Cost"},"2011/12","00Q",984479,null,168132,5855.38,5455.37,6276.96,4319.2563014875986,4430.5195479962013,null,4437.994999999999,3675.4279999999999,"A","Y54","X24","11101021","Byar"]
[1110102,{"$f":"VLOOKUP(tblData[[#This Row],[Indicator ID]],'Similar 10 CCGs'!$A$6:$C$160,3,FALSE)","v":"Programme Budget - Respiratory - Total elective (IP + DC) admissions per 1000 population across secondary care - Cost"},"2011/12","01K",755066,null,160215,4712.84,4358.5200000000004,5088.3,4319.2563014875986,4430.5195479962013,null,4397.0450000000001,3855.2479999999996,"A","Y54","X24","11101021","Byar"]
[1110102,{"$f":"VLOOKUP(tblData[[#This Row],[Indicator ID]],'Similar 10 CCGs'!$A$6:$C$160,3,FALSE)","v":"Programme Budget - Respiratory - Total elective (IP + DC) admissions per 1000 population across secondary care - Cost"},"2011/12","02N",631315,null,160065,3944.11,3616.03,4293.96,4319.2563014875986,4430.5195479962013,null,4268.9659999999994,3593.4279999999999,"B","Y54","X24","11101021","Byar"]
[1110102,{"$f":"VLOOKUP(tblData[[#This Row],[Indicator ID]],'Similar 10 CCGs'!$A$6:$C$160,3,FALSE)","v":"Programme Budget - Respiratory - Total elective (IP + DC) admissions per 1000 population across secondary care - Cost"},"2011/12","03H",479138,null,172616,2775.75,2518.67,3051.94,4319.2563014875986,4430.5195479962013,null,4153.6220000000003,3370.7300000000005,"C","Y54","X24","11101021","Byar"]
[1110102,{"$f":"VLOOKUP(tblData[[#This Row],[Indicator ID]],'Similar 10 CCGs'!$A$6:$C$160,3,FALSE)","v":"Programme Budget - Respiratory - Total elective (IP + DC) admissions per 1000 population across secondary care - Cost"},"2011/12","04F",724870,null,256944,2821.12,2624.09,3029.03,4319.2563014875986,4291.8866655361853,null,4614.3960000000006,3882.28,"C","Y55","X24","11101021","Byar"]
[1110102,{"$f":"VLOOKUP(tblData[[#This Row],[Indicator ID]],'Similar 10 CCGs'!$A$6:$C$160,3,FALSE)","v":"Programme Budget - Respiratory - Total elective (IP + DC) admissions per 1000 population across secondary care - Cost"},"2011/12","04Q",517900,null,133929,3866.96,3526.97,4230.87,4319.2563014875986,4291.8866655361853,null,4424.1410000000005,3421.7580000000003,"","Y55","X24","11101021","Byar"]
[1110102,{"$f":"VLOOKUP(tblData[[#This Row],[Indicator ID]],'Similar 10 CCGs'!$A$6:$C$160,3,FALSE)","v":"Programme Budget - Respiratory - Total elective (IP + DC) admissions per 1000 population across secondary care - Cost"},"2011/12","06D",409483,null,117369,3488.85,3107.03,3904.63,4319.2563014875986,4291.8866655361853,null,3696.6629999999996,3168.0099999999998,"","Y55","X24","11101021","Byar"]
[1110102,{"$f":"VLOOKUP(tblData[[#This Row],[Indicator ID]],'Similar 10 CCGs'!$A$6:$C$160,3,FALSE)","v":"Programme Budget - Respiratory - Total elective (IP + DC) admissions per 1000 population across secondary care - Cost"},"2011/12","07K",1549529,null,243938,6352.15,5977.19,6744.47,4319.2563014875986,4291.8866655361853,null,4407.0710000000008,3606.2119999999995,"A","Y55","X24","11101021","Byar"]
[1110102,{"$f":"VLOOKUP(tblData[[#This Row],[Indicator ID]],'Similar 10 CCGs'!$A$6:$C$160,3,FALSE)","v":"Programme Budget - Respiratory - Total elective (IP + DC) admissions per 1000 population across secondary care - Cost"},"2011/12","08E",1205468,null,231878,5198.71,4894.21,5517.19,4319.2563014875986,4907.6416889365491,null,4729.3450000000003,4255.7019999999993,"A","Y56","X24","11101021","Byar"]
[1110102,{"$f":"VLOOKUP(tblData[[#This Row],[Indicator ID]],'Similar 10 CCGs'!$A$6:$C$160,3,FALSE)","v":"Programme Budget - Respiratory - Total elective (IP + DC) admissions per 1000 population across secondary care - Cost"},"2011/12","08X",1332960,null,327822,4066.11,3832.05,4310.7299999999996,4319.2563014875986,4907.6416889365491,null,4686.1409999999987,4235.1760000000004,"C","Y56","X24","11101021","Byar"]
[1110102,{"$f":"VLOOKUP(tblData[[#This Row],[Indicator ID]],'Similar 10 CCGs'!$A$6:$C$160,3,FALSE)","v":"Programme Budget - Respiratory - Total elective (IP + DC) admissions per 1000 population across secondary care - Cost"},"2011/12","10A",1077822,null,207445,5195.71,4857.67,5551.07,4319.2563014875986,3885.0318505961181,null,4304.1319999999996,3567.6679999999992,"A","Y57","X24","11101021","Byar"]
[1110102,{"$f":"VLOOKUP(tblData[[#This Row],[Indicator ID]],'Similar 10 CCGs'!$A$6:$C$160,3,FALSE)","v":"Programme Budget - Respiratory - Total elective (IP + DC) admissions per 1000 population across secondary care - Cost"},"2011/12","10W",358367,null,118402,3026.7,2673.87,3413.14,4319.2563014875986,3885.0318505961181,null,4231.777,3212.2619999999997,"C","Y57","X24","11101021","Byar"]
[1110102,{"$f":"VLOOKUP(tblData[[#This Row],[Indicator ID]],'Similar 10 CCGs'!$A$6:$C$160,3,FALSE)","v":"Programme Budget - Respiratory - Total elective (IP + DC) admissions per 1000 population across secondary care - Cost"},"2011/12","13P",3267248,null,730051,4475.37,4311.53,4643.84,4319.2563014875986,4291.8866655361853,null,4112.09,3473.4360000000001,"B","Y55","X24","11101021","Byar"]
[1110103,{"$f":"VLOOKUP(tblData[[#This Row],[Indicator ID]],'Similar 10 CCGs'!$A$6:$C$160,3,FALSE)","v":"Programme Budget - Respiratory - Non-elective (EM + ONEL) admissions per 1000 population across secondary care - Cost"},"2011/12","00D",9633655,null,308594,31217.87,30378.91,32074.12,22867.283320359304,27297.854239251748,null,28556.640000000003,25629.768,"A","Y54","X24","11101031","Byar"]
[1110103,{"$f":"VLOOKUP(tblData[[#This Row],[Indicator ID]],'Similar 10 CCGs'!$A$6:$C$160,3,FALSE)","v":"Programme Budget - Respiratory - Non-elective (EM + ONEL) admissions per 1000 population across secondary care - Cost"},"2011/12","00X",4212228,null,176604,23851.23,22874.7,24858.720000000001,22867.283320359304,27297.854239251748,null,24742.395,21861.928000000004,"A","Y54","X24","11101031","Byar"]
[1110103,{"$f":"VLOOKUP(tblData[[#This Row],[Indicator ID]],'Similar 10 CCGs'!$A$6:$C$160,3,FALSE)","v":"Programme Budget - Respiratory - Non-elective (EM + ONEL) admissions per 1000 population across secondary care - Cost"},"2011/12","01V",3078235,null,158040,19477.57,18591.21,20395.259999999998,22867.283320359304,27297.854239251748,null,22768.838000000003,18448.222000000002,"","Y54","X24","11101031","Byar"]
[1110103,{"$f":"VLOOKUP(tblData[[#This Row],[Indicator ID]],'Similar 10 CCGs'!$A$6:$C$160,3,FALSE)","v":"Programme Budget - Respiratory - Non-elective (EM + ONEL) admissions per 1000 population across secondary care - Cost"},"2011/12","02W",2490859,null,72407,34400.76,32752.799999999999,36110.15,22867.283320359304,27297.854239251748,null,28506.792999999998,25655.223999999998,"A","Y54","X24","11101031","Byar"]
[1110103,{"$f":"VLOOKUP(tblData[[#This Row],[Indicator ID]],'Similar 10 CCGs'!$A$6:$C$160,3,FALSE)","v":"Programme Budget - Respiratory - Non-elective (EM + ONEL) admissions per 1000 population across secondary care - Cost"},"2011/12","03Q",7428762,null,356656,20828.939999999999,20186.25,21486.89,22867.283320359304,27297.854239251748,null,19688.886000000002,18175.957999999999,"B","Y54","X24","11101031","Byar"]
[1110103,{"$f":"VLOOKUP(tblData[[#This Row],[Indicator ID]],'Similar 10 CCGs'!$A$6:$C$160,3,FALSE)","v":"Programme Budget - Respiratory - Non-elective (EM + ONEL) admissions per 1000 population across secondary care - Cost"},"2011/12","03R",10210648,null,354109,28834.76,28084.57,29599.919999999998,22867.283320359304,27297.854239251748,null,28336.173999999999,25198.250000000004,"","Y54","X24","11101031","Byar"]
[1110103,{"$f":"VLOOKUP(tblData[[#This Row],[Indicator ID]],'Similar 10 CCGs'!$A$6:$C$160,3,FALSE)","v":"Programme Budget - Respiratory - Non-elective (EM + ONEL) admissions per 1000 population across secondary care - Cost"},"2011/12","04M",2070892,null,104398,19836.419999999998,18640.48,21088.97,22867.283320359304,21912.225241440527,null,20513.685999999998,17910.297999999999,"B","Y55","X24","11101031","Byar"]
[1110103,{"$f":"VLOOKUP(tblData[[#This Row],[Indicator ID]],'Similar 10 CCGs'!$A$6:$C$160,3,FALSE)","v":"Programme Budget - Respiratory - Non-elective (EM + ONEL) admissions per 1000 population across secondary care - Cost"},"2011/12","05P",5211250,null,258777,20138.03,19434.849999999999,20860.14,22867.283320359304,21912.225241440527,null,21772.265999999996,19278.441999999999,"","Y55","X24","11101031","Byar"]
[1110103,{"$f":"VLOOKUP(tblData[[#This Row],[Indicator ID]],'Similar 10 CCGs'!$A$6:$C$160,3,FALSE)","v":"Programme Budget - Respiratory - Non-elective (EM + ONEL) admissions per 1000 population across secondary care - Cost"},"2011/12","06N",11189452,null,592835,18874.47,18388.13,19370.41,22867.283320359304,21912.225241440527,null,19834.855000000003,17707.745999999999,"","Y55","X24","11101031","Byar"]
[1110103,{"$f":"VLOOKUP(tblData[[#This Row],[Indicator ID]],'Similar 10 CCGs'!$A$6:$C$160,3,FALSE)","v":"Programme Budget - Respiratory - Non-elective (EM + ONEL) admissions per 1000 population across secondary care - Cost"},"2011/12","07Q",5716033,null,344970,16569.669999999998,15964.76,17191.64,22867.283320359304,23007.766684465259,null,20174.525000000001,18252.998,"C","Y56","X24","11101031","Byar"]
[1110103,{"$f":"VLOOKUP(tblData[[#This Row],[Indicator ID]],'Similar 10 CCGs'!$A$6:$C$160,3,FALSE)","v":"Programme Budget - Respiratory - Non-elective (EM + ONEL) admissions per 1000 population across secondary care - Cost"},"2011/12","08L",6163031,null,226922,27159.24,26198.2,28146.53,22867.283320359304,23007.766684465259,null,23759.695000000003,22051.764000000003,"A","Y56","X24","11101031","Byar"]
[1110103,{"$f":"VLOOKUP(tblData[[#This Row],[Indicator ID]],'Similar 10 CCGs'!$A$6:$C$160,3,FALSE)","v":"Programme Budget - Respiratory - Non-elective (EM + ONEL) admissions per 1000 population across secondary care - Cost"},"2011/12","09F",5276889,null,252639,20887.07,20100.78,21696.23,22867.283320359304,19302.482750627358,null,20664.981000000003,18389.402000000002,"A","Y57","X24","11101031","Byar"]
[1110103,{"$f":"VLOOKUP(tblData[[#This Row],[Indicator ID]],'Similar 10 CCGs'!$A$6:$C$160,3,FALSE)","v":"Programme Budget - Respiratory - Non-elective (EM + ONEL) admissions per 1000 population across secondary care - Cost"},"2011/12","10N",1748874,null,104745,16696.46,15641.6,17803.75,22867.283320359304,19302.482750627358,null,20642.806,18825.530000000002,"C","Y57","X24","11101031","Byar"]
[1110103,{"$f":"VLOOKUP(tblData[[#This Row],[Indicator ID]],'Similar 10 CCGs'!$A$6:$C$160,3,FALSE)","v":"Programme Budget - Respiratory - Non-elective (EM + ONEL) admissions per 1000 population across secondary care - Cost"},"2011/12","11H",6842194,null,408984,16729.740000000002,16195.83,17276.759999999998,22867.283320359304,19302.482750627358,null,28268.323000000004,24596,"C","Y57","X24","11101031","Byar"]
[1110103,{"$f":"VLOOKUP(tblData[[#This Row],[Indicator ID]],'Similar 10 CCGs'!$A$6:$C$160,3,FALSE)","v":"Programme Budget - Respiratory - Non-elective (EM + ONEL) admissions per 1000 population across secondary care - Cost"},"2011/12","99G",3835056,null,199622,19211.64,18370.43,20081.419999999998,22867.283320359304,21912.225241440527,null,26848.001999999997,23079.227999999999,"C","Y55","X24","11101031","Byar"]
[1110105,{"$f":"VLOOKUP(tblData[[#This Row],[Indicator ID]],'Similar 10 CCGs'!$A$6:$C$160,3,FALSE)","v":"Programme Budget - Respiratory - Cost prescribed per 1000 ASTRO-PU population - Cost"},"2011/12","00M",7007476,null,292479,23958.91,23890.47,24027.5,18795.098945775841,22281.995623078925,null,23728.158000000003,22736.018,"A","Y54","X24","11101051","Byar"]
[1110105,{"$f":"VLOOKUP(tblData[[#This Row],[Indicator ID]],'Similar 10 CCGs'!$A$6:$C$160,3,FALSE)","v":"Programme Budget - Respiratory - Cost prescribed per 1000 ASTRO-PU population - Cost"},"2011/12","01G",5440915,null,226451,24026.93,23949.040000000001,24105,18795.098945775841,22281.995623078925,null,24516.817999999999,23770.146000000001,"","Y54","X24","11101051","Byar"]
[1110105,{"$f":"VLOOKUP(tblData[[#This Row],[Indicator ID]],'Similar 10 CCGs'!$A$6:$C$160,3,FALSE)","v":"Programme Budget - Respiratory - Cost prescribed per 1000 ASTRO-PU population - Cost"},"2011/12","02F",4695640,null,274547,17103.22,17043.54,17163.05,18795.098945775841,22281.995623078925,null,18663.364999999998,16996.88,"","Y54","X24","11101051","Byar"]
[1110105,{"$f":"VLOOKUP(tblData[[#This Row],[Indicator ID]],'Similar 10 CCGs'!$A$6:$C$160,3,FALSE)","v":"Programme Budget - Respiratory - Cost prescribed per 1000 ASTRO-PU population - Cost"},"2011/12","03E",2869247,null,178940,16034.69,15963.13,16106.48,18795.098945775841,22281.995623078925,null,17404.010000000002,16563.201999999997,"C","Y54","X24","11101051","Byar"]
[1110105,{"$f":"VLOOKUP(tblData[[#This Row],[Indicator ID]],'Similar 10 CCGs'!$A$6:$C$160,3,FALSE)","v":"Programme Budget - Respiratory - Cost prescribed per 1000 ASTRO-PU population - Cost"},"2011/12","03Y",2316554,null,112263,20635.05,20532.580000000002,20737.900000000001,18795.098945775841,18746.027707444879,null,20889.072999999997,19905.594000000001,"A","Y55","X24","11101051","Byar"]
[1110105,{"$f":"VLOOKUP(tblData[[#This Row],[Indicator ID]],'Similar 10 CCGs'!$A$6:$C$160,3,FALSE)","v":"Programme Budget - Respiratory - Cost prescribed per 1000 ASTRO-PU population - Cost"},"2011/12","04Y",2794432,null,136619,20454.189999999999,20361.7,20546.990000000002,18795.098945775841,18746.027707444879,null,20137.289000000001,18931.624000000003,"A","Y55","X24","11101051","Byar"]
[1110105,{"$f":"VLOOKUP(tblData[[#This Row],[Indicator ID]],'Similar 10 CCGs'!$A$6:$C$160,3,FALSE)","v":"Programme Budget - Respiratory - Cost prescribed per 1000 ASTRO-PU population - Cost"},"2011/12","05N",6511244,null,348533,18681.87,18626.5,18737.349999999999,18795.098945775841,18746.027707444879,null,17538.744999999999,16080.960000000001,"A","Y55","X24","11101051","Byar"]
[1110105,{"$f":"VLOOKUP(tblData[[#This Row],[Indicator ID]],'Similar 10 CCGs'!$A$6:$C$160,3,FALSE)","v":"Programme Budget - Respiratory - Cost prescribed per 1000 ASTRO-PU population - Cost"},"2011/12","06Y",4661737,null,254679,18304.36,18240.259999999998,18368.63,18795.098945775841,18746.027707444879,null,17333.219000000001,16240.871999999999,"A","Y55","X24","11101051","Byar"]
[1110105,{"$f":"VLOOKUP(tblData[[#This Row],[Indicator ID]],'Similar 10 CCGs'!$A$6:$C$160,3,FALSE)","v":"Programme Budget - Respiratory - Cost prescribed per 1000 ASTRO-PU population - Cost"},"2011/12","08A",3978989,null,218958,18172.41,18103.53,18241.48,18795.098945775841,15583.280961132443,null,18161.205999999998,14695.560000000001,"","Y56","X24","11101051","Byar"]
[1110105,{"$f":"VLOOKUP(tblData[[#This Row],[Indicator ID]],'Similar 10 CCGs'!$A$6:$C$160,3,FALSE)","v":"Programme Budget - Respiratory - Cost prescribed per 1000 ASTRO-PU population - Cost"},"2011/12","08T",3095039,null,173330,17856.330000000002,17779.61,17933.310000000001,18795.098945775841,15583.280961132443,null,17110.107,14851.288,"A","Y56","X24","11101051","Byar"]
[1110105,{"$f":"VLOOKUP(tblData[[#This Row],[Indicator ID]],'Similar 10 CCGs'!$A$6:$C$160,3,FALSE)","v":"Programme Budget - Respiratory - Cost prescribed per 1000 ASTRO-PU population - Cost"},"2011/12","09W",5189430,null,269429,19260.830000000002,19196.900000000001,19324.919999999998,18795.098945775841,16729.529225540009,null,19778.451999999997,18339.047999999999,"A","Y57","X24","11101051","Byar"]
[1110105,{"$f":"VLOOKUP(tblData[[#This Row],[Indicator ID]],'Similar 10 CCGs'!$A$6:$C$160,3,FALSE)","v":"Programme Budget - Respiratory - Cost prescribed per 1000 ASTRO-PU population - Cost"},"2011/12","10R",3907552,null,196195,19916.669999999998,19840.5,19993.060000000001,18795.098945775841,16729.529225540009,null,20238.726000000002,18101.298000000003,"B","Y57","X24","11101051","Byar"]
[1110105,{"$f":"VLOOKUP(tblData[[#This Row],[Indicator ID]],'Similar 10 CCGs'!$A$6:$C$160,3,FALSE)","v":"Programme Budget - Respiratory - Cost prescribed per 1000 ASTRO-PU population - Cost"},"2011/12","11X",9895790,null,624518,15845.48,15807.38,15883.64,18795.098945775841,16729.529225540009,null,17364.378999999997,16350.634,"C","Y57","X24","11101051","Byar"]
[1110105,{"$f":"VLOOKUP(tblData[[#This Row],[Indicator ID]],'Similar 10 CCGs'!$A$6:$C$160,3,FALSE)","v":"Programme Budget - Respiratory - Cost prescribed per 1000 ASTRO-PU population - Cost"},"2011/12","99P",17710745,null,1008171,17567.2,17535.62,17598.810000000001,18795.098945775841,16729.529225540009,null,16947.593000000001,15587.083999999999,"A","Y57","X24","11101051","Byar"]
[1110201,{"$f":"VLOOKUP(tblData[[#This Row],[Indicator ID]],'Similar 10 CCGs'!$A$6:$C$160,3,FALSE)","v":"Programme Budget - Respiratory - Total admissions per 1000 population across secondary care - Activity"},"2011/12","00T",5664,null,289130,19.59,19.079999999999998,20.11,16.044095387760866,19.159324815084133,null,21.212999999999997,19.308,"C","Y54","X24","11102011","Byar"]
[1110201,{"$f":"VLOOKUP(tblData[[#This Row],[Indicator ID]],'Similar 10 CCGs'!$A$6:$C$160,3,FALSE)","v":"Programme Budget - Respiratory - Total admissions per 1000 population across secondary care - Activity"},"2011/12","01N",3641,null,147971,24.61,23.81,25.42,16.044095387760866,19.159324815084133,null,21.024999999999999,18.91,"A","Y54","X24","11102011","Byar"]
[1110201,{"$f":"VLOOKUP(tblData[[#This Row],[Indicator ID]],'Similar 10 CCGs'!$A$6:$C$160,3,FALSE)","v":"Programme Budget - Respiratory - Total admissions per 1000 population across secondary care - Activity"},"2011/12","02Q",1829,null,115996,15.77,15.05,16.510000000000002,16.044095387760866,19.159324815084133,null,18.422000000000001,15.75,"","Y54","X24","11102011","Byar"]
[1110201,{"$f":"VLOOKUP(tblData[[#This Row],[Indicator ID]],'Similar 10 CCGs'!$A$6:$C$160,3,FALSE)","v":"Programme Budget - Respiratory - Total admissions per 1000 population across secondary care - Activity"},"2011/12","03L",5945,null,261512,22.73,22.16,23.32,16.044095387760866,19.159324815084133,null,20.538999999999994,18.963999999999999,"A","Y54","X24","11102011","Byar"]
[1110201,{"$f":"VLOOKUP(tblData[[#This Row],[Indicator ID]],'Similar 10 CCGs'!$A$6:$C$160,3,FALSE)","v":"Programme Budget - Respiratory - Total admissions per 1000 population across secondary care - Activity"},"2011/12","04J",5224,null,307481,16.989999999999998,16.53,17.46,16.044095387760866,15.361743574613032,null,15.246,13.55,"A","Y55","X24","11102011","Byar"]
[1110201,{"$f":"VLOOKUP(tblData[[#This Row],[Indicator ID]],'Similar 10 CCGs'!$A$6:$C$160,3,FALSE)","v":"Programme Budget - Respiratory - Total admissions per 1000 population across secondary care - Activity"},"2011/12","05H",2738,null,186268,14.7,14.15,15.26,16.044095387760866,15.361743574613032,null,16.827000000000002,15.271999999999997,"","Y55","X24","11102011","Byar"]
[1110201,{"$f":"VLOOKUP(tblData[[#This Row],[Indicator ID]],'Similar 10 CCGs'!$A$6:$C$160,3,FALSE)","v":"Programme Budget - Respiratory - Total admissions per 1000 population across secondary care - Activity"},"2011/12","06H",13103,null,844867,15.51,15.24,15.78,16.044095387760866,15.361743574613032,null,14.036000000000001,13.224,"A","Y55","X24","11102011","Byar"]
[1110201,{"$f":"VLOOKUP(tblData[[#This Row],[Indicator ID]],'Similar 10 CCGs'!$A$6:$C$160,3,FALSE)","v":"Programme Budget - Respiratory - Total admissions per 1000 population across secondary care - Activity"},"2011/12","07M",5460,null,363515,15.02,14.62,15.42,16.044095387760866,15.350978229006289,null,15.135,13.540000000000001,"A","Y56","X24","11102011","Byar"]
[1110201,{"$f":"VLOOKUP(tblData[[#This Row],[Indicator ID]],'Similar 10 CCGs'!$A$6:$C$160,3,FALSE)","v":"Programme Budget - Respiratory - Total admissions per 1000 population across secondary care - Activity"},"2011/12","08G",4642,null,266238,17.440000000000001,16.940000000000001,17.940000000000001,16.044095387760866,15.350978229006289,null,16.367000000000001,14.698000000000002,"A","Y56","X24","11102011","Byar"]
[1110201,{"$f":"VLOOKUP(tblData[[#This Row],[Indicator ID]],'Similar 10 CCGs'!$A$6:$C$160,3,FALSE)","v":"Programme Budget - Respiratory - Total admissions per 1000 population across secondary care - Activity"},"2011/12","09A",2283,null,156932,14.55,13.96,15.16,16.044095387760866,15.350978229006289,null,16.172000000000001,14.195999999999998,"","Y56","X24","11102011","Byar"]
[1110201,{"$f":"VLOOKUP(tblData[[#This Row],[Indicator ID]],'Similar 10 CCGs'!$A$6:$C$160,3,FALSE)","v":"Programme Budget - Respiratory - Total admissions per 1000 population across secondary care - Activity"},"2011/12","10D",1378,null,106606,12.93,12.25,13.63,16.044095387760866,13.875891702186815,null,16.916,15.046000000000001,"C","Y57","X24","11102011","Byar"]
[1110201,{"$f":"VLOOKUP(tblData[[#This Row],[Indicator ID]],'Similar 10 CCGs'!$A$6:$C$160,3,FALSE)","v":"Programme Budget - Respiratory - Total admissions per 1000 population across secondary care - Activity"},"2011/12","10Y",2361,null,196395,12.02,11.54,12.52,16.044095387760866,13.875891702186815,null,14.271999999999997,12.144,"","Y57","X24","11102011","Byar"]
[1110201,{"$f":"VLOOKUP(tblData[[#This Row],[Indicator ID]],'Similar 10 CCGs'!$A$6:$C$160,3,FALSE)","v":"Programme Budget - Respiratory - Total admissions per 1000 population across secondary care - Activity"},"2011/12","11J",12683,null,875860,14.48,14.23,14.73,16.044095387760866,13.875891702186815,null,14.293000000000001,13.431999999999999,"B","Y57","X24","11102011","Byar"]
[1110202,{"$f":"VLOOKUP(tblData[[#This Row],[Indicator ID]],'Similar 10 CCGs'!$A$6:$C$160,3,FALSE)","v":"Programme Budget - Respiratory - Total elective (IP + DC) admissions per 1000 population across secondary care - Activity"},"2011/12","00H",609,null,130090,4.68,4.32,5.07,3.6525354660308733,3.8007515353798995,null,3.9819999999999993,3.4840000000000004,"A","Y54","X24","11102021","Byar"]
[1110202,{"$f":"VLOOKUP(tblData[[#This Row],[Indicator ID]],'Similar 10 CCGs'!$A$6:$C$160,3,FALSE)","v":"Programme Budget - Respiratory - Total elective (IP + DC) admissions per 1000 population across secondary care - Activity"},"2011/12","01C",639,null,207551,3.08,2.84,3.33,3.6525354660308733,3.8007515353798995,null,3.21,2.7039999999999997,"B","Y54","X24","11102021","Byar"]
[1110202,{"$f":"VLOOKUP(tblData[[#This Row],[Indicator ID]],'Similar 10 CCGs'!$A$6:$C$160,3,FALSE)","v":"Programme Budget - Respiratory - Total elective (IP + DC) admissions per 1000 population across secondary care - Activity"},"2011/12","01D",853,null,224015,3.81,3.56,4.07,3.6525354660308733,3.8007515353798995,null,3.9859999999999998,3.194,"B","Y54","X24","11102021","Byar"]
[1110202,{"$f":"VLOOKUP(tblData[[#This Row],[Indicator ID]],'Similar 10 CCGs'!$A$6:$C$160,3,FALSE)","v":"Programme Budget - Respiratory - Total elective (IP + DC) admissions per 1000 population across secondary care - Activity"},"2011/12","02A",992,null,234271,4.2300000000000004,3.97,4.51,3.6525354660308733,3.8007515353798995,null,3.4980000000000002,2.9159999999999995,"A","Y54","X24","11102021","Byar"]
[1110202,{"$f":"VLOOKUP(tblData[[#This Row],[Indicator ID]],'Similar 10 CCGs'!$A$6:$C$160,3,FALSE)","v":"Programme Budget - Respiratory - Total elective (IP + DC) admissions per 1000 population across secondary care - Activity"},"2011/12","03A",735,null,240748,3.05,2.84,3.28,3.6525354660308733,3.8007515353798995,null,3.5350000000000001,3.0639999999999996,"","Y54","X24","11102021","Byar"]
[1110202,{"$f":"VLOOKUP(tblData[[#This Row],[Indicator ID]],'Similar 10 CCGs'!$A$6:$C$160,3,FALSE)","v":"Programme Budget - Respiratory - Total elective (IP + DC) admissions per 1000 population across secondary care - Activity"},"2011/12","03V",332,null,68284,4.8600000000000003,4.3499999999999996,5.41,3.6525354660308733,3.5679483273703387,null,3.6429999999999998,3.1120000000000001,"A","Y55","X24","11102021","Byar"]
[1110202,{"$f":"VLOOKUP(tblData[[#This Row],[Indicator ID]],'Similar 10 CCGs'!$A$6:$C$160,3,FALSE)","v":"Programme Budget - Respiratory - Total elective (IP + DC) admissions per 1000 population across secondary care - Activity"},"2011/12","04Q",475,null,133329,3.56,3.25,3.9,3.6525354660308733,3.5679483273703387,null,3.6789999999999998,2.972,"B","Y55","X24","11102021","Byar"]
[1110202,{"$f":"VLOOKUP(tblData[[#This Row],[Indicator ID]],'Similar 10 CCGs'!$A$6:$C$160,3,FALSE)","v":"Programme Budget - Respiratory - Total elective (IP + DC) admissions per 1000 population across secondary care - Activity"},"2011/12","05R",868,null,276375,3.14,2.94,3.36,3.6525354660308733,3.5679483273703387,null,3.5170000000000003,2.7160000000000002,"B","Y55","X24","11102021","Byar"]
[1110202,{"$f":"VLOOKUP(tblData[[#This Row],[Indicator ID]],'Similar 10 CCGs'!$A$6:$C$160,3,FALSE)","v":"Programme Budget - Respiratory - Total elective (IP + DC) admissions per 1000 population across secondary care - Activity"},"2011/12","07N",933,null,232651,4.01,3.76,4.28,3.6525354660308733,4.227293397970632,null,4.4640000000000004,3.7939999999999996,"B","Y56","X24","11102021","Byar"]
[1110202,{"$f":"VLOOKUP(tblData[[#This Row],[Indicator ID]],'Similar 10 CCGs'!$A$6:$C$160,3,FALSE)","v":"Programme Budget - Respiratory - Total elective (IP + DC) admissions per 1000 population across secondary care - Activity"},"2011/12","07V",1235,null,376507,3.28,3.1,3.47,3.6525354660308733,4.227293397970632,null,4.3550000000000004,3.8639999999999999,"","Y56","X24","11102021","Byar"]
[1110202,{"$f":"VLOOKUP(tblData[[#This Row],[Indicator ID]],'Similar 10 CCGs'!$A$6:$C$160,3,FALSE)","v":"Programme Budget - Respiratory - Total elective (IP + DC) admissions per 1000 population across secondary care - Activity"},"2011/12","08P",679,null,193516,3.51,3.25,3.78,3.6525354660308733,4.227293397970632,null,3.1150000000000002,2.2320000000000002,"B","Y56","X24","11102021","Byar"]
[1110202,{"$f":"VLOOKUP(tblData[[#This Row],[Indicator ID]],'Similar 10 CCGs'!$A$6:$C$160,3,FALSE)","v":"Programme Budget - Respiratory - Total elective (IP + DC) admissions per 1000 population across secondary care - Activity"},"2011/12","09J",1030,null,252354,4.08,3.84,4.34,3.6525354660308733,3.2473807520908795,null,3.351,2.8559999999999999,"A","Y57","X24","11102021","Byar"]
[1110202,{"$f":"VLOOKUP(tblData[[#This Row],[Indicator ID]],'Similar 10 CCGs'!$A$6:$C$160,3,FALSE)","v":"Programme Budget - Respiratory - Total elective (IP + DC) admissions per 1000 population across secondary care - Activity"},"2011/12","10M",265,null,114167,2.3199999999999998,2.0499999999999998,2.62,3.6525354660308733,3.2473807520908795,null,3.5239999999999996,2.8519999999999999,"","Y57","X24","11102021","Byar"]
[1110202,{"$f":"VLOOKUP(tblData[[#This Row],[Indicator ID]],'Similar 10 CCGs'!$A$6:$C$160,3,FALSE)","v":"Programme Budget - Respiratory - Total elective (IP + DC) admissions per 1000 population across secondary care - Activity"},"2011/12","11M",2339,null,624542,3.75,3.59,3.9,3.6525354660308733,3.2473807520908795,null,3.2679999999999998,2.8679999999999999,"A","Y57","X24","11102021","Byar"]
[1110202,{"$f":"VLOOKUP(tblData[[#This Row],[Indicator ID]],'Similar 10 CCGs'!$A$6:$C$160,3,FALSE)","v":"Programme Budget - Respiratory - Total elective (IP + DC) admissions per 1000 population across secondary care - Activity"},"2011/12","99J",1947,null,473939,4.1100000000000003,3.93,4.29,3.6525354660308733,3.2473807520908795,null,3.2329999999999997,2.8239999999999998,"A","Y57","X24","11102021","Byar"]
[1110203,{"$f":"VLOOKUP(tblData[[#This Row],[Indicator ID]],'Similar 10 CCGs'!$A$6:$C$160,3,FALSE)","v":"Programme Budget - Respiratory - Non-elective (EM + ONEL) admissions per 1000 population across secondary care - Activity"},"2011/12","00P",4851,null,285576,16.989999999999998,16.510000000000002,17.47,12.388428876084541,15.357212535268763,null,16.929000000000002,15.559999999999999,"A","Y54","X24","11102031","Byar"]
[1110203,{"$f":"VLOOKUP(tblData[[#This Row],[Indicator ID]],'Similar 10 CCGs'!$A$6:$C$160,3,FALSE)","v":"Programme Budget - Respiratory - Non-elective (EM + ONEL) admissions per 1000 population across secondary care - Activity"},"2011/12","01J",2973,null,154743,19.21,18.53,19.920000000000002,12.388428876084541,15.357212535268763,null,17.006999999999998,15.662000000000001,"A","Y54","X24","11102031","Byar"]
[1110203,{"$f":"VLOOKUP(tblData[[#This Row],[Indicator ID]],'Similar 10 CCGs'!$A$6:$C$160,3,FALSE)","v":"Programme Budget - Respiratory - Non-elective (EM + ONEL) admissions per 1000 population across secondary care - Activity"},"2011/12","02H",4578,null,316318,14.47,14.06,14.9,12.388428876084541,15.357212535268763,null,16.463999999999995,14.992000000000001,"","Y54","X24","11102031","Byar"]
[1110203,{"$f":"VLOOKUP(tblData[[#This Row],[Indicator ID]],'Similar 10 CCGs'!$A$6:$C$160,3,FALSE)","v":"Programme Budget - Respiratory - Non-elective (EM + ONEL) admissions per 1000 population across secondary care - Activity"},"2011/12","03H",2066,null,177542,11.64,11.14,12.15,12.388428876084541,15.357212535268763,null,14.695000000000002,12.593999999999999,"C","Y54","X24","11102031","Byar"]
[1110203,{"$f":"VLOOKUP(tblData[[#This Row],[Indicator ID]],'Similar 10 CCGs'!$A$6:$C$160,3,FALSE)","v":"Programme Budget - Respiratory - Non-elective (EM + ONEL) admissions per 1000 population across secondary care - Activity"},"2011/12","04E",2587,null,188822,13.7,13.18,14.24,12.388428876084541,11.789746530179382,null,16.553000000000001,14.763999999999999,"A","Y55","X24","11102031","Byar"]
[1110203,{"$f":"VLOOKUP(tblData[[#This Row],[Indicator ID]],'Similar 10 CCGs'!$A$6:$C$160,3,FALSE)","v":"Programme Budget - Respiratory - Non-elective (EM + ONEL) admissions per 1000 population across secondary care - Activity"},"2011/12","05D",1770,null,137506,12.87,12.28,13.49,12.388428876084541,11.789746530179382,null,12.324000000000002,10.826000000000001,"A","Y55","X24","11102031","Byar"]
[1110203,{"$f":"VLOOKUP(tblData[[#This Row],[Indicator ID]],'Similar 10 CCGs'!$A$6:$C$160,3,FALSE)","v":"Programme Budget - Respiratory - Non-elective (EM + ONEL) admissions per 1000 population across secondary care - Activity"},"2011/12","06A",3930,null,264446,14.86,14.4,15.33,12.388428876084541,11.789746530179382,null,16.011000000000003,13.285999999999998,"C","Y55","X24","11102031","Byar"]
[1110203,{"$f":"VLOOKUP(tblData[[#This Row],[Indicator ID]],'Similar 10 CCGs'!$A$6:$C$160,3,FALSE)","v":"Programme Budget - Respiratory - Non-elective (EM + ONEL) admissions per 1000 population across secondary care - Activity"},"2011/12","07H",3152,null,299637,10.52,10.16,10.89,12.388428876084541,11.789746530179382,null,11.331,9.7020000000000017,"","Y55","X24","11102031","Byar"]
[1110203,{"$f":"VLOOKUP(tblData[[#This Row],[Indicator ID]],'Similar 10 CCGs'!$A$6:$C$160,3,FALSE)","v":"Programme Budget - Respiratory - Non-elective (EM + ONEL) admissions per 1000 population across secondary care - Activity"},"2011/12","08D",2231,null,227508,9.81,9.4,10.220000000000001,12.388428876084541,11.038468612076656,null,11.476000000000003,10.166,"C","Y56","X24","11102031","Byar"]
[1110203,{"$f":"VLOOKUP(tblData[[#This Row],[Indicator ID]],'Similar 10 CCGs'!$A$6:$C$160,3,FALSE)","v":"Programme Budget - Respiratory - Non-elective (EM + ONEL) admissions per 1000 population across secondary care - Activity"},"2011/12","08W",3336,null,248479,13.43,12.97,13.89,12.388428876084541,11.038468612076656,null,11.804,10.278,"A","Y56","X24","11102031","Byar"]
[1110203,{"$f":"VLOOKUP(tblData[[#This Row],[Indicator ID]],'Similar 10 CCGs'!$A$6:$C$160,3,FALSE)","v":"Programme Budget - Respiratory - Non-elective (EM + ONEL) admissions per 1000 population across secondary care - Activity"},"2011/12","09Y",3386,null,361995,9.35,9.0399999999999991,9.67,12.388428876084541,10.631186055985218,null,10.113,8.7780000000000005,"","Y57","X24","11102031","Byar"]
[1110203,{"$f":"VLOOKUP(tblData[[#This Row],[Indicator ID]],'Similar 10 CCGs'!$A$6:$C$160,3,FALSE)","v":"Programme Budget - Respiratory - Non-elective (EM + ONEL) admissions per 1000 population across secondary care - Activity"},"2011/12","10V",2484,null,231480,10.73,10.31,11.16,12.388428876084541,10.631186055985218,null,10.688000000000001,9.3060000000000009,"","Y57","X24","11102031","Byar"]
[1110203,{"$f":"VLOOKUP(tblData[[#This Row],[Indicator ID]],'Similar 10 CCGs'!$A$6:$C$160,3,FALSE)","v":"Programme Budget - Respiratory - Non-elective (EM + ONEL) admissions per 1000 population across secondary care - Activity"},"2011/12","12D",2516,null,212335,11.85,11.39,12.32,12.388428876084541,10.631186055985218,null,11.173999999999999,9.4420000000000019,"B","Y57","X24","11102031","Byar"]
[1110203,{"$f":"VLOOKUP(tblData[[#This Row],[Indicator ID]],'Similar 10 CCGs'!$A$6:$C$160,3,FALSE)","v":"Programme Budget - Respiratory - Non-elective (EM + ONEL) admissions per 1000 population across secondary care - Activity"},"2011/12","99F",1693,null,194541,8.6999999999999993,8.2899999999999991,9.1300000000000008,12.388428876084541,11.789746530179382,null,10.614000000000001,9.5860000000000003,"C","Y55","X24","11102031","Byar"]
[1110211,{"$f":"VLOOKUP(tblData[[#This Row],[Indicator ID]],'Similar 10 CCGs'!$A$6:$C$160,3,FALSE)","v":"Emergency COPD Admissions Per 100 Patients On Disease Register"},"2011/12","00X",386,null,3494,1104.7510017172294,997.27688015230615,1220.6504580462126,114.77537416328714,124.23883553056385,null,1099.7697799509629,984.84925231676243,"B","Y54","X24","11102111","Byar"]
[1110211,{"$f":"VLOOKUP(tblData[[#This Row],[Indicator ID]],'Similar 10 CCGs'!$A$6:$C$160,3,FALSE)","v":"Emergency COPD Admissions Per 100 Patients On Disease Register"},"2011/12","01V",276,null,2363,1168.0067710537453,1034.2610327457285,1314.2483450255559,114.77537416328714,124.23883553056385,null,995.25402013614598,842.85575158249026,"A","Y54","X24","11102111","Byar"]
[1110211,{"$f":"VLOOKUP(tblData[[#This Row],[Indicator ID]],'Similar 10 CCGs'!$A$6:$C$160,3,FALSE)","v":"Emergency COPD Admissions Per 100 Patients On Disease Register"},"2011/12","02V",365,null,2819,1294.7853848882582,1165.3455224739614,1434.6729403772335,114.77537416328714,124.23883553056385,null,1148.5321956930186,1053.2726369112354,"A","Y54","X24","11102111","Byar"]
[1110211,{"$f":"VLOOKUP(tblData[[#This Row],[Indicator ID]],'Similar 10 CCGs'!$A$6:$C$160,3,FALSE)","v":"Emergency COPD Admissions Per 100 Patients On Disease Register"},"2011/12","03N",1195,null,10542,1133.5609941187631,1070.1935580042471,1199.7006504485346,114.77537416328714,124.23883553056385,null,1203.7402997733871,1115.871385620391,"","Y54","X24","11102111","Byar"]
[1110211,{"$f":"VLOOKUP(tblData[[#This Row],[Indicator ID]],'Similar 10 CCGs'!$A$6:$C$160,3,FALSE)","v":"Emergency COPD Admissions Per 100 Patients On Disease Register"},"2011/12","04L",280,null,2735,1023.7659963436929,907.35176729184559,1150.9749270107789,114.77537416328714,107.27176750888106,null,1055.1568761859744,915.77624562217591,"B","Y55","X24","11102111","Byar"]
[1110211,{"$f":"VLOOKUP(tblData[[#This Row],[Indicator ID]],'Similar 10 CCGs'!$A$6:$C$160,3,FALSE)","v":"Emergency COPD Admissions Per 100 Patients On Disease Register"},"2011/12","05L",1107,null,8112,1364.644970414201,1285.4297464336071,1447.4641950187413,114.77537416328714,107.27176750888106,null,1307.7643087004267,1145.37930207915,"B","Y55","X24","11102111","Byar"]
[1110211,{"$f":"VLOOKUP(tblData[[#This Row],[Indicator ID]],'Similar 10 CCGs'!$A$6:$C$160,3,FALSE)","v":"Emergency COPD Admissions Per 100 Patients On Disease Register"},"2011/12","06L",601,null,6011,999.83363832972873,921.48437872336649,1083.0638144917684,114.77537416328714,107.27176750888106,null,1065.8092694897077,939.46187998644086,"B","Y55","X24","11102111","Byar"]
[1110211,{"$f":"VLOOKUP(tblData[[#This Row],[Indicator ID]],'Similar 10 CCGs'!$A$6:$C$160,3,FALSE)","v":"Emergency COPD Admissions Per 100 Patients On Disease Register"},"2011/12","07P",332,null,2589,1282.3483970645036,1148.1040406897632,1427.9780490463691,114.77537416328714,128.01478352692715,null,1365.792548878944,1188.106382997134,"B","Y56","X24","11102111","Byar"]
[1110211,{"$f":"VLOOKUP(tblData[[#This Row],[Indicator ID]],'Similar 10 CCGs'!$A$6:$C$160,3,FALSE)","v":"Emergency COPD Admissions Per 100 Patients On Disease Register"},"2011/12","08J",185,null,2009,920.85614733698367,792.93688877526176,1063.5367635767666,114.77537416328714,128.01478352692715,null,1116.7097740772767,994.56242530213149,"","Y56","X24","11102111","Byar"]
[1110211,{"$f":"VLOOKUP(tblData[[#This Row],[Indicator ID]],'Similar 10 CCGs'!$A$6:$C$160,3,FALSE)","v":"Emergency COPD Admissions Per 100 Patients On Disease Register"},"2011/12","09A",216,null,1708,1264.6370023419204,1101.5986928252826,1445.0073082753602,114.77537416328714,128.01478352692715,null,1279.1286842836837,1147.8381301297566,"B","Y56","X24","11102111","Byar"]
[1110211,{"$f":"VLOOKUP(tblData[[#This Row],[Indicator ID]],'Similar 10 CCGs'!$A$6:$C$160,3,FALSE)","v":"Emergency COPD Admissions Per 100 Patients On Disease Register"},"2011/12","10H",247,null,3652,676.3417305585981,594.61817551702813,766.15966836742098,114.77537416328714,103.68563213383288,null,1056.5203555005824,980.35519423255641,"C","Y57","X24","11102111","Byar"]
[1110211,{"$f":"VLOOKUP(tblData[[#This Row],[Indicator ID]],'Similar 10 CCGs'!$A$6:$C$160,3,FALSE)","v":"Emergency COPD Admissions Per 100 Patients On Disease Register"},"2011/12","11D",116,null,1450,800,661.0554793200929,959.52379640204799,114.77537416328714,103.68563213383288,null,1046.289351219395,923.4433680824244,"","Y57","X24","11102111","Byar"]
[1110211,{"$f":"VLOOKUP(tblData[[#This Row],[Indicator ID]],'Similar 10 CCGs'!$A$6:$C$160,3,FALSE)","v":"Emergency COPD Admissions Per 100 Patients On Disease Register"},"2011/12","11E",265,null,2639,1004.1682455475559,886.89484300932691,1132.6351121061432,114.77537416328714,103.68563213383288,null,1090.3989637818813,968.89063876229045,"B","Y57","X24","11102111","Byar"]
[1110211,{"$f":"VLOOKUP(tblData[[#This Row],[Indicator ID]],'Similar 10 CCGs'!$A$6:$C$160,3,FALSE)","v":"Emergency COPD Admissions Per 100 Patients On Disease Register"},"2011/12","99F",272,null,3384,803.78250591016547,711.08973744385264,905.20219548285604,114.77537416328714,107.27176750888106,null,1016.0359160978308,892.22881089934413,"","Y55","X24","11102111","Byar"]
[1110312,{"$f":"VLOOKUP(tblData[[#This Row],[Indicator ID]],'Similar 10 CCGs'!$A$6:$C$160,3,FALSE)","v":"Mortality from asthma: Directly age-standardised rates (DSR) per 100,000 European Standard population"},"2009-11","00K",15,null,783353.36078432109,0.99045038891558768,0.44768817807670558,1.8888047326495805,2.0003570250480364E-2,2.0214536193582468E-2,null,0.70861626235389785,0.55929974910176117,"B","Y54","X24","11103121","Byar"]
[1110312,{"$f":"VLOOKUP(tblData[[#This Row],[Indicator ID]],'Similar 10 CCGs'!$A$6:$C$160,3,FALSE)","v":"Mortality from asthma: Directly age-standardised rates (DSR) per 100,000 European Standard population"},"2009-11","01F",5,null,334166.37668801605,0.22216037349007581,5.6246136777398648E-3,1.2377983766844984,2.0003570250480364E-2,2.0214536193582468E-2,null,0.73787075431550375,0.44889348712665011,"B","Y54","X24","11103121","Byar"]
[1110312,{"$f":"VLOOKUP(tblData[[#This Row],[Indicator ID]],'Similar 10 CCGs'!$A$6:$C$160,3,FALSE)","v":"Mortality from asthma: Directly age-standardised rates (DSR) per 100,000 European Standard population"},"2009-11","02E",5,null,553569.59724167024,0.55203130987555493,0.10458219988749057,1.6356961117390418,2.0003570250480364E-2,2.0214536193582468E-2,null,0.7965125654019618,0.5880191539838423,"B","Y54","X24","11103121","Byar"]
[1110312,{"$f":"VLOOKUP(tblData[[#This Row],[Indicator ID]],'Similar 10 CCGs'!$A$6:$C$160,3,FALSE)","v":"Mortality from asthma: Directly age-standardised rates (DSR) per 100,000 European Standard population"},"2009-11","03D",8,null,404446.5833253517,0.2088642035512818,5.2879838003029866E-3,1.1637168593202163,2.0003570250480364E-2,2.0214536193582468E-2,null,0.36874922122632048,0.1190391234921977,"B","Y54","X24","11103121","Byar"]
[1110312,{"$f":"VLOOKUP(tblData[[#This Row],[Indicator ID]],'Similar 10 CCGs'!$A$6:$C$160,3,FALSE)","v":"Mortality from asthma: Directly age-standardised rates (DSR) per 100,000 European Standard population"},"2009-11","04C",19,null,918507.78956193104,0.76085546474866117,0.27875841767386622,1.6569209793240556,2.0003570250480364E-2,2.1798381641362791E-2,null,0.89080074458068614,0.60592557733678842,"B","Y55","X24","11103121","Byar"]
[1110312,{"$f":"VLOOKUP(tblData[[#This Row],[Indicator ID]],'Similar 10 CCGs'!$A$6:$C$160,3,FALSE)","v":"Mortality from asthma: Directly age-standardised rates (DSR) per 100,000 European Standard population"},"2009-11","04X",13,null,622530.47487394849,0.36499070600713712,4.1675048214160293E-2,1.3259829956090461,2.0003570250480364E-2,2.1798381641362791E-2,null,0.87333053714071962,0.59161887733246377,"B","Y55","X24","11103121","Byar"]
[1110312,{"$f":"VLOOKUP(tblData[[#This Row],[Indicator ID]],'Similar 10 CCGs'!$A$6:$C$160,3,FALSE)","v":"Mortality from asthma: Directly age-standardised rates (DSR) per 100,000 European Standard population"},"2009-11","05W",15,null,723600.93668373767,0.90266142302659869,0.35814437143882438,1.8682906337289324,2.0003570250480364E-2,2.1798381641362791E-2,null,0.8857610167892741,0.57077143273033637,"B","Y55","X24","11103121","Byar"]
[1110312,{"$f":"VLOOKUP(tblData[[#This Row],[Indicator ID]],'Similar 10 CCGs'!$A$6:$C$160,3,FALSE)","v":"Mortality from asthma: Directly age-standardised rates (DSR) per 100,000 European Standard population"},"2009-11","06W",10,null,554036.8709927001,0.21639798448043668,5.4787226192630489E-3,1.2056924000429234,2.0003570250480364E-2,2.1798381641362791E-2,null,0.64316485330152773,0.32410770636750486,"B","Y55","X24","11103121","Byar"]
[1110312,{"$f":"VLOOKUP(tblData[[#This Row],[Indicator ID]],'Similar 10 CCGs'!$A$6:$C$160,3,FALSE)","v":"Mortality from asthma: Directly age-standardised rates (DSR) per 100,000 European Standard population"},"2009-11","07X",15,null,806265.19904556847,0.26503752517300933,3.2097210293935641E-2,0.95740685879670639,2.0003570250480364E-2,1.4145997520757507E-2,null,0.70774229392057231,0.46092510715364554,"B","Y56","X24","11103121","Byar"]
[1110312,{"$f":"VLOOKUP(tblData[[#This Row],[Indicator ID]],'Similar 10 CCGs'!$A$6:$C$160,3,FALSE)","v":"Mortality from asthma: Directly age-standardised rates (DSR) per 100,000 European Standard population"},"2009-11","08R",9,null,545738.3742601464,0.38026289961337673,4.0616826772485182E-2,1.3897941404500376,2.0003570250480364E-2,1.4145997520757507E-2,null,0.72775162728655562,0.4343057527426305,"B","Y56","X24","11103121","Byar"]
[1110312,{"$f":"VLOOKUP(tblData[[#This Row],[Indicator ID]],'Similar 10 CCGs'!$A$6:$C$160,3,FALSE)","v":"Mortality from asthma: Directly age-standardised rates (DSR) per 100,000 European Standard population"},"2009-11","09N",11,null,553000.20606649935,0.58575946375377863,0.11545518432276253,1.7247765774513721,2.0003570250480364E-2,2.119994921428137E-2,null,0.34034439881150547,0.11340711499376532,"B","Y57","X24","11103121","Byar"]
[1110312,{"$f":"VLOOKUP(tblData[[#This Row],[Indicator ID]],'Similar 10 CCGs'!$A$6:$C$160,3,FALSE)","v":"Mortality from asthma: Directly age-standardised rates (DSR) per 100,000 European Standard population"},"2009-11","10Q",43,null,1781400.0161692989,0.67155241379514241,0.35575650373897405,1.1511342655064545,2.0003570250480364E-2,2.119994921428137E-2,null,0.39676923770876144,0.3301032442252293,"B","Y57","X24","11103121","Byar"]
[1110312,{"$f":"VLOOKUP(tblData[[#This Row],[Indicator ID]],'Similar 10 CCGs'!$A$6:$C$160,3,FALSE)","v":"Mortality from asthma: Directly age-standardised rates (DSR) per 100,000 European Standard population"},"2009-11","11T",19,null,553910.62635326444,0.91430851490216369,0.32606206889756395,2.0076720970576059,2.0003570250480364E-2,2.119994921428137E-2,null,0.52726053529328509,0.23096969027385236,"B","Y57","X24","11103121","Byar"]
[1110312,{"$f":"VLOOKUP(tblData[[#This Row],[Indicator ID]],'Similar 10 CCGs'!$A$6:$C$160,3,FALSE)","v":"Mortality from asthma: Directly age-standardised rates (DSR) per 100,000 European Standard population"},"2009-11","99M",3,null,582022.39429746405,0,null,null,2.0003570250480364E-2,2.119994921428137E-2,null,0.50172392127261978,0.32555602940918338,"C","Y57","X24","11103121","Byar"]
[1110313,{"$f":"VLOOKUP(tblData[[#This Row],[Indicator ID]],'Similar 10 CCGs'!$A$6:$C$160,3,FALSE)","v":"Mortality from bronchitis and emphysema and COPD:Under 75 Directly age-standardised rates (DSR) per 100,000"},"2009-11","01D",123,null,577865.03282231558,18.436828436084792,15.313718297163746,22.008140427335874,0.14007334292454807,0.18989120395689879,null,17.147825947502707,15.602770741578388,"B","Y54","X24","11103131","Byar"]
[1110313,{"$f":"VLOOKUP(tblData[[#This Row],[Indicator ID]],'Similar 10 CCGs'!$A$6:$C$160,3,FALSE)","v":"Mortality from bronchitis and emphysema and COPD:Under 75 Directly age-standardised rates (DSR) per 100,000"},"2009-11","01N",79,null,449221.23483153468,22.141988621796731,17.517537451663834,27.6102856819336,0.14007334292454807,0.18989120395689879,null,19.818470768145907,16.910511532074899,"B","Y54","X24","11103131","Byar"]
[1110313,{"$f":"VLOOKUP(tblData[[#This Row],[Indicator ID]],'Similar 10 CCGs'!$A$6:$C$160,3,FALSE)","v":"Mortality from bronchitis and emphysema and COPD:Under 75 Directly age-standardised rates (DSR) per 100,000"},"2009-11","02Q",73,null,297226.85841861245,16.673577839852395,13.049331580457787,20.988441268771382,0.14007334292454807,0.18989120395689879,null,13.424917554967539,11.653859956976586,"A","Y54","X24","11103131","Byar"]
[1110313,{"$f":"VLOOKUP(tblData[[#This Row],[Indicator ID]],'Similar 10 CCGs'!$A$6:$C$160,3,FALSE)","v":"Mortality from bronchitis and emphysema and COPD:Under 75 Directly age-standardised rates (DSR) per 100,000"},"2009-11","03K",91,null,449176.86694421043,14.418520665481779,11.587678259978688,17.727547131443529,0.14007334292454807,0.18989120395689879,null,12.248938579185216,10.216436335679722,"B","Y54","X24","11103131","Byar"]
[1110313,{"$f":"VLOOKUP(tblData[[#This Row],[Indicator ID]],'Similar 10 CCGs'!$A$6:$C$160,3,FALSE)","v":"Mortality from bronchitis and emphysema and COPD:Under 75 Directly age-standardised rates (DSR) per 100,000"},"2009-11","04G",221,null,1662027.8382100905,11.043503760371653,9.6306298005425131,12.604770285663099,0.14007334292454807,0.1309957196228074,null,8.9168639605071611,8.209477048032312,"A","Y55","X24","11103131","Byar"]
[1110313,{"$f":"VLOOKUP(tblData[[#This Row],[Indicator ID]],'Similar 10 CCGs'!$A$6:$C$160,3,FALSE)","v":"Mortality from bronchitis and emphysema and COPD:Under 75 Directly age-standardised rates (DSR) per 100,000"},"2009-11","05G",83,null,562503.80136703665,9.9660679353942019,7.9218404999254117,12.373373087046364,0.14007334292454807,0.1309957196228074,null,10.841122427400178,8.1630836398015845,"B","Y55","X24","11103131","Byar"]
[1110313,{"$f":"VLOOKUP(tblData[[#This Row],[Indicator ID]],'Similar 10 CCGs'!$A$6:$C$160,3,FALSE)","v":"Mortality from bronchitis and emphysema and COPD:Under 75 Directly age-standardised rates (DSR) per 100,000"},"2009-11","06F",160,null,1170717.7449480679,11.306122209905594,9.6166349630216246,13.206222125880988,0.14007334292454807,0.1309957196228074,null,9.2860229260098706,8.1097418197707647,"A","Y55","X24","11103131","Byar"]
[1110313,{"$f":"VLOOKUP(tblData[[#This Row],[Indicator ID]],'Similar 10 CCGs'!$A$6:$C$160,3,FALSE)","v":"Mortality from bronchitis and emphysema and COPD:Under 75 Directly age-standardised rates (DSR) per 100,000"},"2009-11","07K",61,null,657349.50651545881,6.3780211484710909,4.8591772059238476,8.2164423040192656,0.14007334292454807,0.1309957196228074,null,7.8495965797261373,6.3371823080837881,"","Y55","X24","11103131","Byar"]
[1110313,{"$f":"VLOOKUP(tblData[[#This Row],[Indicator ID]],'Similar 10 CCGs'!$A$6:$C$160,3,FALSE)","v":"Mortality from bronchitis and emphysema and COPD:Under 75 Directly age-standardised rates (DSR) per 100,000"},"2009-11","08F",72,null,677076.65240059246,8.3687637154652847,6.537973880972789,10.551074355073712,0.14007334292454807,9.18600153470574E-2,null,9.7244019590721145,8.6580535813515507,"B","Y56","X24","11103131","Byar"]
[1110313,{"$f":"VLOOKUP(tblData[[#This Row],[Indicator ID]],'Similar 10 CCGs'!$A$6:$C$160,3,FALSE)","v":"Mortality from bronchitis and emphysema and COPD:Under 75 Directly age-standardised rates (DSR) per 100,000"},"2009-11","08Y",41,null,628849.9434065813,6.7610795857606156,4.8476808419327728,9.1774550279955527,0.14007334292454807,9.18600153470574E-2,null,10.1713588570688,7.626572796783468,"","Y56","X24","11103131","Byar"]
[1110313,{"$f":"VLOOKUP(tblData[[#This Row],[Indicator ID]],'Similar 10 CCGs'!$A$6:$C$160,3,FALSE)","v":"Mortality from bronchitis and emphysema and COPD:Under 75 Directly age-standardised rates (DSR) per 100,000"},"2009-11","09Y",101,null,915548.28665847494,9.2397715948919821,7.5177920268721898,11.236615266440801,0.14007334292454807,0.12431002067941037,null,8.2496013436329001,6.846713515314323,"B","Y57","X24","11103131","Byar"]
[1110313,{"$f":"VLOOKUP(tblData[[#This Row],[Indicator ID]],'Similar 10 CCGs'!$A$6:$C$160,3,FALSE)","v":"Mortality from bronchitis and emphysema and COPD:Under 75 Directly age-standardised rates (DSR) per 100,000"},"2009-11","10Y",42,null,535573.72716662148,6.2770674854598179,4.5197266942821965,8.4901003870268248,0.14007334292454807,0.12431002067941037,null,7.9610520889608889,6.528793766941388,"B","Y57","X24","11103131","Byar"]
[1110313,{"$f":"VLOOKUP(tblData[[#This Row],[Indicator ID]],'Similar 10 CCGs'!$A$6:$C$160,3,FALSE)","v":"Mortality from bronchitis and emphysema and COPD:Under 75 Directly age-standardised rates (DSR) per 100,000"},"2009-11","99A",298,null,1285058.7532170357,21.116947661665616,18.768924789701828,23.675694533668725,0.14007334292454807,0.18989120395689879,null,17.839877845834085,14.384407130323229,"A","Y54","X24","11103131","Byar"]
[1110415,{"$f":"VLOOKUP(tblData[[#This Row],[Indicator ID]],'Similar 10 CCGs'!$A$6:$C$160,3,FALSE)","v":"Reported numbers of people with COPD on GP registers as a percentage of estimated prevalence"},2011,"00G",2629,null,4930.7318703734163,53.318656725110046,51.3,55.4,578.15632536889473,660.17194033412056,null,57.579256860547048,69.802670689102769,"B","Y54","X24","11104151","Byar"]
[1110415,{"$f":"VLOOKUP(tblData[[#This Row],[Indicator ID]],'Similar 10 CCGs'!$A$6:$C$160,3,FALSE)","v":"Reported numbers of people with COPD on GP registers as a percentage of estimated prevalence"},2011,"01A",8479,null,10344.837187397619,81.963590595020335,80.23,83.73,578.15632536889473,660.17194033412056,null,61.697381538190484,66.757873397387073,"C","Y54","X24","11104151","Byar"]
[1110415,{"$f":"VLOOKUP(tblData[[#This Row],[Indicator ID]],'Similar 10 CCGs'!$A$6:$C$160,3,FALSE)","v":"Reported numbers of people with COPD on GP registers as a percentage of estimated prevalence"},2011,"01Y",5936,null,9361.2760490580022,63.410158710118615,61.81,65.040000000000006,578.15632536889473,660.17194033412056,null,74.122697107231645,85.891986481762757,"A","Y54","X24","11104151","Byar"]
[1110415,{"$f":"VLOOKUP(tblData[[#This Row],[Indicator ID]],'Similar 10 CCGs'!$A$6:$C$160,3,FALSE)","v":"Reported numbers of people with COPD on GP registers as a percentage of estimated prevalence"},2011,"02X",7822,null,9428.7308829550111,82.959203068786138,81.13,84.82,578.15632536889473,660.17194033412056,null,77.29176007474652,90.925221324996002,"","Y54","X24","11104151","Byar"]
[1110415,{"$f":"VLOOKUP(tblData[[#This Row],[Indicator ID]],'Similar 10 CCGs'!$A$6:$C$160,3,FALSE)","v":"Reported numbers of people with COPD on GP registers as a percentage of estimated prevalence"},2011,"03R",9257,null,9839.5889826768962,94.079132942416848,92.17,96.02,578.15632536889473,660.17194033412056,null,69.123957737912235,79.779153786819947,"C","Y54","X24","11104151","Byar"]
[1110415,{"$f":"VLOOKUP(tblData[[#This Row],[Indicator ID]],'Similar 10 CCGs'!$A$6:$C$160,3,FALSE)","v":"Reported numbers of people with COPD on GP registers as a percentage of estimated prevalence"},2011,"04N",1557,null,2544.3374311987077,61.194713441229929,58.19,64.31,578.15632536889473,608.04287712953055,null,65.067447956972799,70.69341502983292,"B","Y55","X24","11104151","Byar"]
[1110415,{"$f":"VLOOKUP(tblData[[#This Row],[Indicator ID]],'Similar 10 CCGs'!$A$6:$C$160,3,FALSE)","v":"Reported numbers of people with COPD on GP registers as a percentage of estimated prevalence"},2011,"04V",5756,null,8263.3397375781169,69.657065820786556,67.87,71.48,578.15632536889473,608.04287712953055,null,66.639004639935337,72.66020052412901,"A","Y55","X24","11104151","Byar"]
[1110415,{"$f":"VLOOKUP(tblData[[#This Row],[Indicator ID]],'Similar 10 CCGs'!$A$6:$C$160,3,FALSE)","v":"Reported numbers of people with COPD on GP registers as a percentage of estimated prevalence"},2011,"06P",2497,null,4382.3462096924914,56.97861101154794,54.77,59.26,578.15632536889473,608.04287712953055,null,51.189524945031238,62.867353970204988,"","Y55","X24","11104151","Byar"]
[1110415,{"$f":"VLOOKUP(tblData[[#This Row],[Indicator ID]],'Similar 10 CCGs'!$A$6:$C$160,3,FALSE)","v":"Reported numbers of people with COPD on GP registers as a percentage of estimated prevalence"},2011,"07T",2597,null,9352.437295601434,27.768162650193879,26.71,28.86,578.15632536889473,359.26653085820124,null,33.783509370468884,39.266426839335146,"A","Y56","X24","11104151","Byar"]
[1110415,{"$f":"VLOOKUP(tblData[[#This Row],[Indicator ID]],'Similar 10 CCGs'!$A$6:$C$160,3,FALSE)","v":"Reported numbers of people with COPD on GP registers as a percentage of estimated prevalence"},2011,"08M",2994,null,9817.273733339749,30.49726514024243,29.41,31.61,578.15632536889473,359.26653085820124,null,35.998038873009591,42.443304940736901,"A","Y56","X24","11104151","Byar"]
[1110415,{"$f":"VLOOKUP(tblData[[#This Row],[Indicator ID]],'Similar 10 CCGs'!$A$6:$C$160,3,FALSE)","v":"Reported numbers of people with COPD on GP registers as a percentage of estimated prevalence"},2011,"08N",2502,null,7283.81542576427,34.350129070403682,33.020000000000003,35.72,578.15632536889473,359.26653085820124,null,42.899217749752481,50.592103846328172,"A","Y56","X24","11104151","Byar"]
[1110415,{"$f":"VLOOKUP(tblData[[#This Row],[Indicator ID]],'Similar 10 CCGs'!$A$6:$C$160,3,FALSE)","v":"Reported numbers of people with COPD on GP registers as a percentage of estimated prevalence"},2011,"09H",1851,null,2930.5983560273621,63.161162845568661,60.32,66.11,578.15632536889473,580.60326580347714,null,60.688404578639528,75.245234850143817,"","Y57","X24","11104151","Byar"]
[1110415,{"$f":"VLOOKUP(tblData[[#This Row],[Indicator ID]],'Similar 10 CCGs'!$A$6:$C$160,3,FALSE)","v":"Reported numbers of people with COPD on GP registers as a percentage of estimated prevalence"},2011,"10K",2910,null,6353.7015668044942,45.80007369567948,44.15,47.5,578.15632536889473,580.60326580347714,null,59.834972770049966,68.430071936518871,"A","Y57","X24","11104151","Byar"]
[1110415,{"$f":"VLOOKUP(tblData[[#This Row],[Indicator ID]],'Similar 10 CCGs'!$A$6:$C$160,3,FALSE)","v":"Reported numbers of people with COPD on GP registers as a percentage of estimated prevalence"},2011,"11J",12744.999999999998,null,25673.509636231589,49.6426089793882,48.78,50.51,578.15632536889473,580.60326580347714,null,66.069477057760636,71.059606671197955,"A","Y57","X24","11104151","Byar"]
[1110415,{"$f":"VLOOKUP(tblData[[#This Row],[Indicator ID]],'Similar 10 CCGs'!$A$6:$C$160,3,FALSE)","v":"Reported numbers of people with COPD on GP registers as a percentage of estimated prevalence"},2011,"99H",3272,null,6597.5484267075981,49.594179358420263,47.91,51.32,578.15632536889473,580.60326580347714,null,58.112221099467362,66.271660708650273,"A","Y57","X24","11104151","Byar"]
[1130101,{"$f":"VLOOKUP(tblData[[#This Row],[Indicator ID]],'Similar 10 CCGs'!$A$6:$C$160,3,FALSE)","v":"Programme Budget - Gastro Intestinal - Total admissions per 1000 population across secondary care - Cost"},"2011/12","00M",16065518,null,291641,55086.65,54144.81,56040.77,39191.916358366536,46261.683396930748,null,47797.375999999989,44471.843999999997,"A","Y54","X24","11301011","Byar"]
[1130101,{"$f":"VLOOKUP(tblData[[#This Row],[Indicator ID]],'Similar 10 CCGs'!$A$6:$C$160,3,FALSE)","v":"Programme Budget - Gastro Intestinal - Total admissions per 1000 population across secondary care - Cost"},"2011/12","01X",10210621,null,201232,50740.52,49714.67,51782.21,39191.916358366536,46261.683396930748,null,47999.400999999998,43515.982000000004,"A","Y54","X24","11301011","Byar"]
[1130101,{"$f":"VLOOKUP(tblData[[#This Row],[Indicator ID]],'Similar 10 CCGs'!$A$6:$C$160,3,FALSE)","v":"Programme Budget - Gastro Intestinal - Total admissions per 1000 population across secondary care - Cost"},"2011/12","02H",15465141,null,322418,47966.11,47165.8,48776.6,39191.916358366536,46261.683396930748,null,48357.608000000007,43975.161999999997,"A","Y54","X24","11301011","Byar"]
[1130101,{"$f":"VLOOKUP(tblData[[#This Row],[Indicator ID]],'Similar 10 CCGs'!$A$6:$C$160,3,FALSE)","v":"Programme Budget - Gastro Intestinal - Total admissions per 1000 population across secondary care - Cost"},"2011/12","03G",11988623,null,248938,48159.14,47159.99,49174.13,39191.916358366536,46261.683396930748,null,46581.672999999995,42609.582000000002,"A","Y54","X24","11301011","Byar"]
[1130101,{"$f":"VLOOKUP(tblData[[#This Row],[Indicator ID]],'Similar 10 CCGs'!$A$6:$C$160,3,FALSE)","v":"Programme Budget - Gastro Intestinal - Total admissions per 1000 population across secondary care - Cost"},"2011/12","04D",9571486,null,234389,40835.870000000003,39921.980000000003,41765.39,39191.916358366536,36908.225538442173,null,39788.688999999998,37096.161999999997,"A","Y55","X24","11301011","Byar"]
[1130101,{"$f":"VLOOKUP(tblData[[#This Row],[Indicator ID]],'Similar 10 CCGs'!$A$6:$C$160,3,FALSE)","v":"Programme Budget - Gastro Intestinal - Total admissions per 1000 population across secondary care - Cost"},"2011/12","05A",17126294,null,442371,38714.76,38090.04,39347.160000000003,39191.916358366536,36908.225538442173,null,42536.752000000008,38105.851999999999,"","Y55","X24","11301011","Byar"]
[1130101,{"$f":"VLOOKUP(tblData[[#This Row],[Indicator ID]],'Similar 10 CCGs'!$A$6:$C$160,3,FALSE)","v":"Programme Budget - Gastro Intestinal - Total admissions per 1000 population across secondary care - Cost"},"2011/12","05Y",11385621,null,270351,42114.27,41260.86,42980.89,39191.916358366536,36908.225538442173,null,48025.693999999996,43997.313999999998,"C","Y55","X24","11301011","Byar"]
[1130101,{"$f":"VLOOKUP(tblData[[#This Row],[Indicator ID]],'Similar 10 CCGs'!$A$6:$C$160,3,FALSE)","v":"Programme Budget - Gastro Intestinal - Total admissions per 1000 population across secondary care - Cost"},"2011/12","07G",5453860,null,150014,36355.69,35272.19,37464.01,39191.916358366536,36908.225538442173,null,38701.427000000011,36017.96,"","Y55","X24","11301011","Byar"]
[1130101,{"$f":"VLOOKUP(tblData[[#This Row],[Indicator ID]],'Similar 10 CCGs'!$A$6:$C$160,3,FALSE)","v":"Programme Budget - Gastro Intestinal - Total admissions per 1000 population across secondary care - Cost"},"2011/12","08C",6151765,null,161917,37993.22,36975.64,39031.71,39191.916358366536,35676.808990640093,null,35131.974999999999,32451.173999999999,"A","Y56","X24","11301011","Byar"]
[1130101,{"$f":"VLOOKUP(tblData[[#This Row],[Indicator ID]],'Similar 10 CCGs'!$A$6:$C$160,3,FALSE)","v":"Programme Budget - Gastro Intestinal - Total admissions per 1000 population across secondary care - Cost"},"2011/12","08V",7457113,null,197620,37734.53,36784.519999999997,38702.870000000003,39191.916358366536,35676.808990640093,null,38616.582999999999,35406.256000000001,"B","Y56","X24","11301011","Byar"]
[1130101,{"$f":"VLOOKUP(tblData[[#This Row],[Indicator ID]],'Similar 10 CCGs'!$A$6:$C$160,3,FALSE)","v":"Programme Budget - Gastro Intestinal - Total admissions per 1000 population across secondary care - Cost"},"2011/12","09W",10254375,null,272110,37684.660000000003,36893.78,38488.230000000003,39191.916358366536,36098.94252130267,null,39594.687000000005,36049.224000000002,"","Y57","X24","11301011","Byar"]
[1130101,{"$f":"VLOOKUP(tblData[[#This Row],[Indicator ID]],'Similar 10 CCGs'!$A$6:$C$160,3,FALSE)","v":"Programme Budget - Gastro Intestinal - Total admissions per 1000 population across secondary care - Cost"},"2011/12","10R",8858790,null,201357,43995.49,42975.23,45033.87,39191.916358366536,36098.94252130267,null,40778.491000000009,34575.393999999993,"A","Y57","X24","11301011","Byar"]
[1130101,{"$f":"VLOOKUP(tblData[[#This Row],[Indicator ID]],'Similar 10 CCGs'!$A$6:$C$160,3,FALSE)","v":"Programme Budget - Gastro Intestinal - Total admissions per 1000 population across secondary care - Cost"},"2011/12","12D",7213293,null,211299,34137.769999999997,33301.980000000003,34989.230000000003,39191.916358366536,36098.94252130267,null,37599.849000000002,34614.111999999994,"C","Y57","X24","11301011","Byar"]
[1130101,{"$f":"VLOOKUP(tblData[[#This Row],[Indicator ID]],'Similar 10 CCGs'!$A$6:$C$160,3,FALSE)","v":"Programme Budget - Gastro Intestinal - Total admissions per 1000 population across secondary care - Cost"},"2011/12","99Q",12882863,null,336963,38232.269999999997,37526.03,38948.449999999997,39191.916358366536,36098.94252130267,null,37591.326000000001,35188.574000000001,"A","Y57","X24","11301011","Byar"]
[1130102,{"$f":"VLOOKUP(tblData[[#This Row],[Indicator ID]],'Similar 10 CCGs'!$A$6:$C$160,3,FALSE)","v":"Programme Budget - Gastro Intestinal - Total elective (IP + DC) admissions per 1000 population across secondary care - Cost"},"2011/12","00W",2982885,null,167168,17843.599999999999,17291.64,18408.689999999999,16158.310403363635,18995.37955422714,null,15354.328,13481.656000000003,"A","Y54","X24","11301021","Byar"]
[1130102,{"$f":"VLOOKUP(tblData[[#This Row],[Indicator ID]],'Similar 10 CCGs'!$A$6:$C$160,3,FALSE)","v":"Programme Budget - Gastro Intestinal - Total elective (IP + DC) admissions per 1000 population across secondary care - Cost"},"2011/12","01T",3321937,null,162323,20465.02,19887.84,21054.69,16158.310403363635,18995.37955422714,null,20277.639000000003,18817.078000000001,"A","Y54","X24","11301021","Byar"]
[1130102,{"$f":"VLOOKUP(tblData[[#This Row],[Indicator ID]],'Similar 10 CCGs'!$A$6:$C$160,3,FALSE)","v":"Programme Budget - Gastro Intestinal - Total elective (IP + DC) admissions per 1000 population across secondary care - Cost"},"2011/12","02T",3959957,null,213484,18549.169999999998,18028.189999999999,19081.37,16158.310403363635,18995.37955422714,null,16367.382000000001,14941.247999999998,"B","Y54","X24","11301021","Byar"]
[1130102,{"$f":"VLOOKUP(tblData[[#This Row],[Indicator ID]],'Similar 10 CCGs'!$A$6:$C$160,3,FALSE)","v":"Programme Budget - Gastro Intestinal - Total elective (IP + DC) admissions per 1000 population across secondary care - Cost"},"2011/12","03M",2190353,null,132391,16544.57,15967.79,17136.86,16158.310403363635,18995.37955422714,null,15122.536000000002,12901.208000000001,"B","Y54","X24","11301021","Byar"]
[1130102,{"$f":"VLOOKUP(tblData[[#This Row],[Indicator ID]],'Similar 10 CCGs'!$A$6:$C$160,3,FALSE)","v":"Programme Budget - Gastro Intestinal - Total elective (IP + DC) admissions per 1000 population across secondary care - Cost"},"2011/12","04J",5424013,null,318015,17055.82,16675.830000000002,17442.28,16158.310403363635,14774.799574573402,null,16826.420000000002,15037.755999999999,"A","Y55","X24","11301021","Byar"]
[1130102,{"$f":"VLOOKUP(tblData[[#This Row],[Indicator ID]],'Similar 10 CCGs'!$A$6:$C$160,3,FALSE)","v":"Programme Budget - Gastro Intestinal - Total elective (IP + DC) admissions per 1000 population across secondary care - Cost"},"2011/12","05J",2867756,null,178197,16093.18,15594.36,16603.89,16158.310403363635,14774.799574573402,null,15867.079999999998,14386.682000000001,"B","Y55","X24","11301021","Byar"]
[1130102,{"$f":"VLOOKUP(tblData[[#This Row],[Indicator ID]],'Similar 10 CCGs'!$A$6:$C$160,3,FALSE)","v":"Programme Budget - Gastro Intestinal - Total elective (IP + DC) admissions per 1000 population across secondary care - Cost"},"2011/12","06K",7755420,null,562203,13794.7,13534.38,14058.78,16158.310403363635,14774.799574573402,null,15118.201999999999,14036.388000000001,"","Y55","X24","11301021","Byar"]
[1130102,{"$f":"VLOOKUP(tblData[[#This Row],[Indicator ID]],'Similar 10 CCGs'!$A$6:$C$160,3,FALSE)","v":"Programme Budget - Gastro Intestinal - Total elective (IP + DC) admissions per 1000 population across secondary care - Cost"},"2011/12","07V",6060282,null,353475,17144.849999999999,16791.580000000002,17503.669999999998,16158.310403363635,14851.924947838068,null,15306.130000000001,14287.155999999999,"A","Y56","X24","11301021","Byar"]
[1130102,{"$f":"VLOOKUP(tblData[[#This Row],[Indicator ID]],'Similar 10 CCGs'!$A$6:$C$160,3,FALSE)","v":"Programme Budget - Gastro Intestinal - Total elective (IP + DC) admissions per 1000 population across secondary care - Cost"},"2011/12","08J",2461628,null,176083,13979.96,13504.28,14468.11,16158.310403363635,14851.924947838068,null,16265.696,14352.594000000001,"","Y56","X24","11301021","Byar"]
[1130102,{"$f":"VLOOKUP(tblData[[#This Row],[Indicator ID]],'Similar 10 CCGs'!$A$6:$C$160,3,FALSE)","v":"Programme Budget - Gastro Intestinal - Total elective (IP + DC) admissions per 1000 population across secondary care - Cost"},"2011/12","09D",3743975,null,278471,13444.74,13082.01,13814.98,16158.310403363635,15394.834560825395,null,16678.485999999997,14356.640000000003,"C","Y57","X24","11301021","Byar"]
[1130102,{"$f":"VLOOKUP(tblData[[#This Row],[Indicator ID]],'Similar 10 CCGs'!$A$6:$C$160,3,FALSE)","v":"Programme Budget - Gastro Intestinal - Total elective (IP + DC) admissions per 1000 population across secondary care - Cost"},"2011/12","10G",1798601,null,131479,13679.72,13155.79,14219.16,16158.310403363635,15394.834560825395,null,15527.051000000001,13036.498,"","Y57","X24","11301021","Byar"]
[1130102,{"$f":"VLOOKUP(tblData[[#This Row],[Indicator ID]],'Similar 10 CCGs'!$A$6:$C$160,3,FALSE)","v":"Programme Budget - Gastro Intestinal - Total elective (IP + DC) admissions per 1000 population across secondary care - Cost"},"2011/12","11C",1975794,null,148991,13261.2,12784.68,13750.93,16158.310403363635,15394.834560825395,null,14843.479000000001,12433.696,"","Y57","X24","11301021","Byar"]
[1130102,{"$f":"VLOOKUP(tblData[[#This Row],[Indicator ID]],'Similar 10 CCGs'!$A$6:$C$160,3,FALSE)","v":"Programme Budget - Gastro Intestinal - Total elective (IP + DC) admissions per 1000 population across secondary care - Cost"},"2011/12","99D",2931758,null,172341,17011.36,16490.599999999999,17544.37,16158.310403363635,14774.799574573402,null,14897.844000000001,13411.597999999998,"A","Y55","X24","11301021","Byar"]
[1130103,{"$f":"VLOOKUP(tblData[[#This Row],[Indicator ID]],'Similar 10 CCGs'!$A$6:$C$160,3,FALSE)","v":"Programme Budget - Gastro Intestinal - Non-elective (EM + ONEL) admissions per 1000 population across secondary care - Cost"},"2011/12","00J",6430364,null,252123,25504.83,24662.85,26368.23,23033.584669065443,27266.208836910359,null,23488.918999999998,20283.675999999999,"B","Y54","X24","11301031","Byar"]
[1130103,{"$f":"VLOOKUP(tblData[[#This Row],[Indicator ID]],'Similar 10 CCGs'!$A$6:$C$160,3,FALSE)","v":"Programme Budget - Gastro Intestinal - Non-elective (EM + ONEL) admissions per 1000 population across secondary care - Cost"},"2011/12","01D",6191186,null,212135,29185.07,28227.599999999999,30166.74,23033.584669065443,27266.208836910359,null,28709.021999999997,25694.315999999999,"B","Y54","X24","11301031","Byar"]
[1130103,{"$f":"VLOOKUP(tblData[[#This Row],[Indicator ID]],'Similar 10 CCGs'!$A$6:$C$160,3,FALSE)","v":"Programme Budget - Gastro Intestinal - Non-elective (EM + ONEL) admissions per 1000 population across secondary care - Cost"},"2011/12","02D",2410528,null,103260,23344.240000000002,22010.35,24737.84,23033.584669065443,27266.208836910359,null,22426.514000000003,21595.416000000005,"A","Y54","X24","11301031","Byar"]
[1130103,{"$f":"VLOOKUP(tblData[[#This Row],[Indicator ID]],'Similar 10 CCGs'!$A$6:$C$160,3,FALSE)","v":"Programme Budget - Gastro Intestinal - Non-elective (EM + ONEL) admissions per 1000 population across secondary care - Cost"},"2011/12","02T",5532079,null,209917,26353.69,25381.84,27353.22,23033.584669065443,27266.208836910359,null,22618.173000000003,21197.433999999997,"B","Y54","X24","11301031","Byar"]
[1130103,{"$f":"VLOOKUP(tblData[[#This Row],[Indicator ID]],'Similar 10 CCGs'!$A$6:$C$160,3,FALSE)","v":"Programme Budget - Gastro Intestinal - Non-elective (EM + ONEL) admissions per 1000 population across secondary care - Cost"},"2011/12","03W",7291762,null,341488,21352.9,20633,22091.51,23033.584669065443,22132.111258509845,null,18152.364000000001,16923.348000000002,"A","Y55","X24","11301031","Byar"]
[1130103,{"$f":"VLOOKUP(tblData[[#This Row],[Indicator ID]],'Similar 10 CCGs'!$A$6:$C$160,3,FALSE)","v":"Programme Budget - Gastro Intestinal - Non-elective (EM + ONEL) admissions per 1000 population across secondary care - Cost"},"2011/12","04V",7792788,null,375089,20775.82,20109.13,21458.99,23033.584669065443,22132.111258509845,null,22134.387999999999,19951.102000000003,"","Y55","X24","11301031","Byar"]
[1130103,{"$f":"VLOOKUP(tblData[[#This Row],[Indicator ID]],'Similar 10 CCGs'!$A$6:$C$160,3,FALSE)","v":"Programme Budget - Gastro Intestinal - Non-elective (EM + ONEL) admissions per 1000 population across secondary care - Cost"},"2011/12","05T",6214479,null,319136,19472.84,18773,20192.09,23033.584669065443,22132.111258509845,null,22143.670999999998,19650.212,"","Y55","X24","11301031","Byar"]
[1130103,{"$f":"VLOOKUP(tblData[[#This Row],[Indicator ID]],'Similar 10 CCGs'!$A$6:$C$160,3,FALSE)","v":"Programme Budget - Gastro Intestinal - Non-elective (EM + ONEL) admissions per 1000 population across secondary care - Cost"},"2011/12","06T",8042345,null,362653,22176.44,21487.59,22881.75,23033.584669065443,22132.111258509845,null,22524.481999999996,20759.302000000003,"B","Y55","X24","11301031","Byar"]
[1130103,{"$f":"VLOOKUP(tblData[[#This Row],[Indicator ID]],'Similar 10 CCGs'!$A$6:$C$160,3,FALSE)","v":"Programme Budget - Gastro Intestinal - Non-elective (EM + ONEL) admissions per 1000 population across secondary care - Cost"},"2011/12","06V",3616215,null,213207,16961.060000000001,16134.17,17819.34,23033.584669065443,22132.111258509845,null,22038.945,20025.234,"C","Y55","X24","11301031","Byar"]
[1130103,{"$f":"VLOOKUP(tblData[[#This Row],[Indicator ID]],'Similar 10 CCGs'!$A$6:$C$160,3,FALSE)","v":"Programme Budget - Gastro Intestinal - Non-elective (EM + ONEL) admissions per 1000 population across secondary care - Cost"},"2011/12","07W",7976786,null,332305,24004.42,23271.48,24754.57,23033.584669065443,20819.154693060482,null,22128.384999999998,20107.22,"A","Y56","X24","11301031","Byar"]
[1130103,{"$f":"VLOOKUP(tblData[[#This Row],[Indicator ID]],'Similar 10 CCGs'!$A$6:$C$160,3,FALSE)","v":"Programme Budget - Gastro Intestinal - Non-elective (EM + ONEL) admissions per 1000 population across secondary care - Cost"},"2011/12","08Q",5607116,null,249561,22467.95,21645.69,23313.45,23033.584669065443,20819.154693060482,null,20846.510999999999,19481.246000000003,"A","Y56","X24","11301031","Byar"]
[1130103,{"$f":"VLOOKUP(tblData[[#This Row],[Indicator ID]],'Similar 10 CCGs'!$A$6:$C$160,3,FALSE)","v":"Programme Budget - Gastro Intestinal - Non-elective (EM + ONEL) admissions per 1000 population across secondary care - Cost"},"2011/12","09L",4093187,null,176739,23159.46,22136.06,24217.97,23033.584669065443,20711.28620570121,null,18998.225999999999,16934.124,"A","Y57","X24","11301031","Byar"]
[1130103,{"$f":"VLOOKUP(tblData[[#This Row],[Indicator ID]],'Similar 10 CCGs'!$A$6:$C$160,3,FALSE)","v":"Programme Budget - Gastro Intestinal - Non-elective (EM + ONEL) admissions per 1000 population across secondary care - Cost"},"2011/12","10M",1768257,null,111452,15865.65,14811.96,16974.52,23033.584669065443,20711.28620570121,null,20438.224000000002,18764.457999999999,"","Y57","X24","11301031","Byar"]
[1130103,{"$f":"VLOOKUP(tblData[[#This Row],[Indicator ID]],'Similar 10 CCGs'!$A$6:$C$160,3,FALSE)","v":"Programme Budget - Gastro Intestinal - Non-elective (EM + ONEL) admissions per 1000 population across secondary care - Cost"},"2011/12","11N",13706355,null,629347,21778.71,21246.17,22321.22,23033.584669065443,20711.28620570121,null,22384.113999999998,20856.583999999995,"B","Y57","X24","11301031","Byar"]
[1130103,{"$f":"VLOOKUP(tblData[[#This Row],[Indicator ID]],'Similar 10 CCGs'!$A$6:$C$160,3,FALSE)","v":"Programme Budget - Gastro Intestinal - Non-elective (EM + ONEL) admissions per 1000 population across secondary care - Cost"},"2011/12","99M",4749114,null,211590,22444.87,21513.94,23405.71,23033.584669065443,20711.28620570121,null,18536.839,16385.256000000001,"A","Y57","X24","11301031","Byar"]
[1130105,{"$f":"VLOOKUP(tblData[[#This Row],[Indicator ID]],'Similar 10 CCGs'!$A$6:$C$160,3,FALSE)","v":"Programme Budget - Gastro Intestinal - Cost prescribed per 1000 ASTRO-PU population - Cost"},"2011/12","00R",2352844,null,188580,12476.64,12434.01,12519.37,11143.944846083094,13056.353677593686,null,13703.324000000002,12553.176000000001,"","Y54","X24","11301051","Byar"]
[1130105,{"$f":"VLOOKUP(tblData[[#This Row],[Indicator ID]],'Similar 10 CCGs'!$A$6:$C$160,3,FALSE)","v":"Programme Budget - Gastro Intestinal - Cost prescribed per 1000 ASTRO-PU population - Cost"},"2011/12","01M",2145420,null,153310,13993.96,13943.9,14044.17,11143.944846083094,13056.353677593686,null,12758.606,11508.121999999999,"A","Y54","X24","11301051","Byar"]
[1130105,{"$f":"VLOOKUP(tblData[[#This Row],[Indicator ID]],'Similar 10 CCGs'!$A$6:$C$160,3,FALSE)","v":"Programme Budget - Gastro Intestinal - Cost prescribed per 1000 ASTRO-PU population - Cost"},"2011/12","02N",2094863,null,170581,12280.79,12236.32,12325.37,11143.944846083094,13056.353677593686,null,11254.876,10844.184000000001,"A","Y54","X24","11301051","Byar"]
[1130105,{"$f":"VLOOKUP(tblData[[#This Row],[Indicator ID]],'Similar 10 CCGs'!$A$6:$C$160,3,FALSE)","v":"Programme Budget - Gastro Intestinal - Cost prescribed per 1000 ASTRO-PU population - Cost"},"2011/12","03J",2361740,null,171248,13791.36,13744.33,13838.51,11143.944846083094,13056.353677593686,null,12576.479000000001,11441.846,"A","Y54","X24","11301051","Byar"]
[1130105,{"$f":"VLOOKUP(tblData[[#This Row],[Indicator ID]],'Similar 10 CCGs'!$A$6:$C$160,3,FALSE)","v":"Programme Budget - Gastro Intestinal - Cost prescribed per 1000 ASTRO-PU population - Cost"},"2011/12","04F",2461250,null,224735,10951.79,10915.2,10988.46,11143.944846083094,10985.363440118041,null,10573.306,9691.9120000000003,"A","Y55","X24","11301051","Byar"]
[1130105,{"$f":"VLOOKUP(tblData[[#This Row],[Indicator ID]],'Similar 10 CCGs'!$A$6:$C$160,3,FALSE)","v":"Programme Budget - Gastro Intestinal - Cost prescribed per 1000 ASTRO-PU population - Cost"},"2011/12","05D",1519405,null,138759,10949.94,10903.39,10996.63,11143.944846083094,10985.363440118041,null,11933.954000000002,11382.516,"","Y55","X24","11301051","Byar"]
[1130105,{"$f":"VLOOKUP(tblData[[#This Row],[Indicator ID]],'Similar 10 CCGs'!$A$6:$C$160,3,FALSE)","v":"Programme Budget - Gastro Intestinal - Cost prescribed per 1000 ASTRO-PU population - Cost"},"2011/12","06D",1290458,null,130171,9913.5400000000009,9867.82,9959.42,11143.944846083094,10985.363440118041,null,11588.995999999999,10809.884,"C","Y55","X24","11301051","Byar"]
[1130105,{"$f":"VLOOKUP(tblData[[#This Row],[Indicator ID]],'Similar 10 CCGs'!$A$6:$C$160,3,FALSE)","v":"Programme Budget - Gastro Intestinal - Cost prescribed per 1000 ASTRO-PU population - Cost"},"2011/12","07J",2417002,null,201403,12000.84,11960.39,12041.4,11143.944846083094,10985.363440118041,null,11268.481,10192.379999999999,"A","Y55","X24","11301051","Byar"]
[1130105,{"$f":"VLOOKUP(tblData[[#This Row],[Indicator ID]],'Similar 10 CCGs'!$A$6:$C$160,3,FALSE)","v":"Programme Budget - Gastro Intestinal - Cost prescribed per 1000 ASTRO-PU population - Cost"},"2011/12","08L",2395137,null,242793,9864.9500000000007,9831.5400000000009,9898.44,11143.944846083094,9292.8850382330729,null,9090.8150000000005,8439.5540000000001,"","Y56","X24","11301051","Byar"]
[1130105,{"$f":"VLOOKUP(tblData[[#This Row],[Indicator ID]],'Similar 10 CCGs'!$A$6:$C$160,3,FALSE)","v":"Programme Budget - Gastro Intestinal - Cost prescribed per 1000 ASTRO-PU population - Cost"},"2011/12","08Y",1514318,null,196599,7702.59,7669.79,7735.49,11143.944846083094,9292.8850382330729,null,9000.7180000000008,8321.4580000000005,"C","Y56","X24","11301051","Byar"]
[1130105,{"$f":"VLOOKUP(tblData[[#This Row],[Indicator ID]],'Similar 10 CCGs'!$A$6:$C$160,3,FALSE)","v":"Programme Budget - Gastro Intestinal - Cost prescribed per 1000 ASTRO-PU population - Cost"},"2011/12","10A",2623408,null,226964,11558.72,11521.32,11596.21,11143.944846083094,10203.920415438824,null,11758.848,11151.579999999998,"","Y57","X24","11301051","Byar"]
[1130105,{"$f":"VLOOKUP(tblData[[#This Row],[Indicator ID]],'Similar 10 CCGs'!$A$6:$C$160,3,FALSE)","v":"Programme Budget - Gastro Intestinal - Cost prescribed per 1000 ASTRO-PU population - Cost"},"2011/12","10X",2466570,null,233276,10573.61,10538.33,10608.98,11143.944846083094,10203.920415438824,null,11896.851999999999,10660.204,"","Y57","X24","11301051","Byar"]
[1130105,{"$f":"VLOOKUP(tblData[[#This Row],[Indicator ID]],'Similar 10 CCGs'!$A$6:$C$160,3,FALSE)","v":"Programme Budget - Gastro Intestinal - Cost prescribed per 1000 ASTRO-PU population - Cost"},"2011/12","13P",7197161,null,663504,10847.2,10826,10868.43,11143.944846083094,10985.363440118041,null,11607.143,10420.528,"","Y55","X24","11301051","Byar"]
[1130201,{"$f":"VLOOKUP(tblData[[#This Row],[Indicator ID]],'Similar 10 CCGs'!$A$6:$C$160,3,FALSE)","v":"Programme Budget - Gastro Intestinal - Total admissions per 1000 population across secondary care - Activity"},"2011/12","00D",12437,null,303068,41.04,40.32,41.76,32.987997691805688,39.608681100063528,null,40.042999999999999,35.944000000000003,"A","Y54","X24","11302011","Byar"]
[1130201,{"$f":"VLOOKUP(tblData[[#This Row],[Indicator ID]],'Similar 10 CCGs'!$A$6:$C$160,3,FALSE)","v":"Programme Budget - Gastro Intestinal - Total admissions per 1000 population across secondary care - Activity"},"2011/12","00Y",8522,null,229468,37.14,36.35,37.94,32.987997691805688,39.608681100063528,null,38.391000000000005,35.284000000000006,"B","Y54","X24","11302011","Byar"]
[1130201,{"$f":"VLOOKUP(tblData[[#This Row],[Indicator ID]],'Similar 10 CCGs'!$A$6:$C$160,3,FALSE)","v":"Programme Budget - Gastro Intestinal - Total admissions per 1000 population across secondary care - Activity"},"2011/12","01W",13111,null,309734,42.33,41.61,43.06,32.987997691805688,39.608681100063528,null,37.744,32.29,"A","Y54","X24","11302011","Byar"]
[1130201,{"$f":"VLOOKUP(tblData[[#This Row],[Indicator ID]],'Similar 10 CCGs'!$A$6:$C$160,3,FALSE)","v":"Programme Budget - Gastro Intestinal - Total admissions per 1000 population across secondary care - Activity"},"2011/12","02W",3114,null,85288,36.51,35.24,37.82,32.987997691805688,39.608681100063528,null,33.625,30.839999999999996,"A","Y54","X24","11302011","Byar"]
[1130201,{"$f":"VLOOKUP(tblData[[#This Row],[Indicator ID]],'Similar 10 CCGs'!$A$6:$C$160,3,FALSE)","v":"Programme Budget - Gastro Intestinal - Total admissions per 1000 population across secondary care - Activity"},"2011/12","03K",7033,null,179784,39.119999999999997,38.21,40.04,32.987997691805688,39.608681100063528,null,34.285000000000004,31.463999999999999,"A","Y54","X24","11302011","Byar"]
[1130201,{"$f":"VLOOKUP(tblData[[#This Row],[Indicator ID]],'Similar 10 CCGs'!$A$6:$C$160,3,FALSE)","v":"Programme Budget - Gastro Intestinal - Total admissions per 1000 population across secondary care - Activity"},"2011/12","04M",2583,null,99637,25.92,24.93,26.94,32.987997691805688,30.425894121493091,null,32.711999999999996,28.490000000000002,"C","Y55","X24","11302011","Byar"]
[1130201,{"$f":"VLOOKUP(tblData[[#This Row],[Indicator ID]],'Similar 10 CCGs'!$A$6:$C$160,3,FALSE)","v":"Programme Budget - Gastro Intestinal - Total admissions per 1000 population across secondary care - Activity"},"2011/12","05P",7674,null,246328,31.15,30.46,31.86,32.987997691805688,30.425894121493091,null,32.360999999999997,28.931999999999999,"","Y55","X24","11302011","Byar"]
[1130201,{"$f":"VLOOKUP(tblData[[#This Row],[Indicator ID]],'Similar 10 CCGs'!$A$6:$C$160,3,FALSE)","v":"Programme Budget - Gastro Intestinal - Total admissions per 1000 population across secondary care - Activity"},"2011/12","06N",16372,null,592384,27.64,27.22,28.06,32.987997691805688,30.425894121493091,null,29.384000000000004,27.02,"","Y55","X24","11302011","Byar"]
[1130201,{"$f":"VLOOKUP(tblData[[#This Row],[Indicator ID]],'Similar 10 CCGs'!$A$6:$C$160,3,FALSE)","v":"Programme Budget - Gastro Intestinal - Total admissions per 1000 population across secondary care - Activity"},"2011/12","07R",6345,null,209439,30.3,29.55,31.05,32.987997691805688,30.14455969482011,null,32.637,28.288,"B","Y56","X24","11302011","Byar"]
[1130201,{"$f":"VLOOKUP(tblData[[#This Row],[Indicator ID]],'Similar 10 CCGs'!$A$6:$C$160,3,FALSE)","v":"Programme Budget - Gastro Intestinal - Total admissions per 1000 population across secondary care - Activity"},"2011/12","08L",7968,null,268809,29.64,28.99,30.3,32.987997691805688,30.14455969482011,null,29.850000000000005,26.779999999999994,"","Y56","X24","11302011","Byar"]
[1130201,{"$f":"VLOOKUP(tblData[[#This Row],[Indicator ID]],'Similar 10 CCGs'!$A$6:$C$160,3,FALSE)","v":"Programme Budget - Gastro Intestinal - Total admissions per 1000 population across secondary care - Activity"},"2011/12","09F",7010,null,212877,32.93,32.159999999999997,33.71,32.987997691805688,30.348066619057199,null,30.962,26.905999999999999,"A","Y57","X24","11302011","Byar"]
[1130201,{"$f":"VLOOKUP(tblData[[#This Row],[Indicator ID]],'Similar 10 CCGs'!$A$6:$C$160,3,FALSE)","v":"Programme Budget - Gastro Intestinal - Total admissions per 1000 population across secondary care - Activity"},"2011/12","10J",6752,null,212548,31.77,31.01,32.53,32.987997691805688,30.348066619057199,null,28.094000000000005,24.997999999999998,"A","Y57","X24","11302011","Byar"]
[1130201,{"$f":"VLOOKUP(tblData[[#This Row],[Indicator ID]],'Similar 10 CCGs'!$A$6:$C$160,3,FALSE)","v":"Programme Budget - Gastro Intestinal - Total admissions per 1000 population across secondary care - Activity"},"2011/12","11E",5644,null,200530,28.15,27.42,28.89,32.987997691805688,30.348066619057199,null,31.597000000000001,28.962,"","Y57","X24","11302011","Byar"]
[1130201,{"$f":"VLOOKUP(tblData[[#This Row],[Indicator ID]],'Similar 10 CCGs'!$A$6:$C$160,3,FALSE)","v":"Programme Budget - Gastro Intestinal - Total admissions per 1000 population across secondary care - Activity"},"2011/12","99F",5383,null,194253,27.71,26.98,28.46,32.987997691805688,30.425894121493091,null,29.385000000000002,26.75,"C","Y55","X24","11302011","Byar"]
[1130202,{"$f":"VLOOKUP(tblData[[#This Row],[Indicator ID]],'Similar 10 CCGs'!$A$6:$C$160,3,FALSE)","v":"Programme Budget - Gastro Intestinal - Total elective (IP + DC) admissions per 1000 population across secondary care - Activity"},"2011/12","00N",5301,null,163628,32.4,31.53,33.28,21.897063720640002,26.176217528555632,null,25.542999999999999,21.21,"A","Y54","X24","11302021","Byar"]
[1130202,{"$f":"VLOOKUP(tblData[[#This Row],[Indicator ID]],'Similar 10 CCGs'!$A$6:$C$160,3,FALSE)","v":"Programme Budget - Gastro Intestinal - Total elective (IP + DC) admissions per 1000 population across secondary care - Activity"},"2011/12","01G",5987,null,232070,25.8,25.15,26.46,21.897063720640002,26.176217528555632,null,27.351999999999997,24.576000000000001,"","Y54","X24","11302021","Byar"]
[1130202,{"$f":"VLOOKUP(tblData[[#This Row],[Indicator ID]],'Similar 10 CCGs'!$A$6:$C$160,3,FALSE)","v":"Programme Budget - Gastro Intestinal - Total elective (IP + DC) admissions per 1000 population across secondary care - Activity"},"2011/12","02G",3443,null,119175,28.89,27.93,29.87,21.897063720640002,26.176217528555632,null,25.205999999999996,21.963999999999999,"A","Y54","X24","11302021","Byar"]
[1130202,{"$f":"VLOOKUP(tblData[[#This Row],[Indicator ID]],'Similar 10 CCGs'!$A$6:$C$160,3,FALSE)","v":"Programme Budget - Gastro Intestinal - Total elective (IP + DC) admissions per 1000 population across secondary care - Activity"},"2011/12","03E",4681,null,174561,26.82,26.05,27.6,21.897063720640002,26.176217528555632,null,21.306000000000004,18.536000000000001,"A","Y54","X24","11302021","Byar"]
[1130202,{"$f":"VLOOKUP(tblData[[#This Row],[Indicator ID]],'Similar 10 CCGs'!$A$6:$C$160,3,FALSE)","v":"Programme Budget - Gastro Intestinal - Total elective (IP + DC) admissions per 1000 population across secondary care - Activity"},"2011/12","03Y",2388,null,110320,21.65,20.79,22.53,21.897063720640002,19.68790804742558,null,22.777000000000005,19.46,"B","Y55","X24","11302021","Byar"]
[1130202,{"$f":"VLOOKUP(tblData[[#This Row],[Indicator ID]],'Similar 10 CCGs'!$A$6:$C$160,3,FALSE)","v":"Programme Budget - Gastro Intestinal - Total elective (IP + DC) admissions per 1000 population across secondary care - Activity"},"2011/12","04C",6133,null,316188,19.399999999999999,18.91,19.89,21.897063720640002,19.68790804742558,null,20.177999999999997,17.453999999999997,"","Y55","X24","11302021","Byar"]
[1130202,{"$f":"VLOOKUP(tblData[[#This Row],[Indicator ID]],'Similar 10 CCGs'!$A$6:$C$160,3,FALSE)","v":"Programme Budget - Gastro Intestinal - Total elective (IP + DC) admissions per 1000 population across secondary care - Activity"},"2011/12","04Y",2900,null,139188,20.84,20.079999999999998,21.61,21.897063720640002,19.68790804742558,null,22.506,19.911999999999999,"B","Y55","X24","11302021","Byar"]
[1130202,{"$f":"VLOOKUP(tblData[[#This Row],[Indicator ID]],'Similar 10 CCGs'!$A$6:$C$160,3,FALSE)","v":"Programme Budget - Gastro Intestinal - Total elective (IP + DC) admissions per 1000 population across secondary care - Activity"},"2011/12","05W",5919,null,278195,21.28,20.74,21.83,21.897063720640002,19.68790804742558,null,27.445000000000004,25.393999999999998,"C","Y55","X24","11302021","Byar"]
[1130202,{"$f":"VLOOKUP(tblData[[#This Row],[Indicator ID]],'Similar 10 CCGs'!$A$6:$C$160,3,FALSE)","v":"Programme Budget - Gastro Intestinal - Total elective (IP + DC) admissions per 1000 population across secondary care - Activity"},"2011/12","06Y",4505,null,247566,18.2,17.670000000000002,18.739999999999998,21.897063720640002,19.68790804742558,null,18.966000000000001,14.690000000000001,"C","Y55","X24","11302021","Byar"]
[1130202,{"$f":"VLOOKUP(tblData[[#This Row],[Indicator ID]],'Similar 10 CCGs'!$A$6:$C$160,3,FALSE)","v":"Programme Budget - Gastro Intestinal - Total elective (IP + DC) admissions per 1000 population across secondary care - Activity"},"2011/12","07Y",4122,null,240699,17.13,16.61,17.66,21.897063720640002,20.695385038230256,null,20.12,18.830000000000002,"C","Y56","X24","11302021","Byar"]
[1130202,{"$f":"VLOOKUP(tblData[[#This Row],[Indicator ID]],'Similar 10 CCGs'!$A$6:$C$160,3,FALSE)","v":"Programme Budget - Gastro Intestinal - Total elective (IP + DC) admissions per 1000 population across secondary care - Activity"},"2011/12","09D",5207,null,277879,18.739999999999998,18.23,19.25,21.897063720640002,20.474197247783593,null,22.927999999999997,19.204000000000001,"C","Y57","X24","11302021","Byar"]
[1130202,{"$f":"VLOOKUP(tblData[[#This Row],[Indicator ID]],'Similar 10 CCGs'!$A$6:$C$160,3,FALSE)","v":"Programme Budget - Gastro Intestinal - Total elective (IP + DC) admissions per 1000 population across secondary care - Activity"},"2011/12","09W",5803,null,275394,21.07,20.53,21.62,21.897063720640002,20.474197247783593,null,22.241000000000003,19.952000000000002,"","Y57","X24","11302021","Byar"]
[1130202,{"$f":"VLOOKUP(tblData[[#This Row],[Indicator ID]],'Similar 10 CCGs'!$A$6:$C$160,3,FALSE)","v":"Programme Budget - Gastro Intestinal - Total elective (IP + DC) admissions per 1000 population across secondary care - Activity"},"2011/12","10R",4287,null,199769,21.46,20.82,22.11,21.897063720640002,20.474197247783593,null,22.721999999999998,19.326000000000001,"","Y57","X24","11302021","Byar"]
[1130202,{"$f":"VLOOKUP(tblData[[#This Row],[Indicator ID]],'Similar 10 CCGs'!$A$6:$C$160,3,FALSE)","v":"Programme Budget - Gastro Intestinal - Total elective (IP + DC) admissions per 1000 population across secondary care - Activity"},"2011/12","12A",4446,null,262384,16.940000000000001,16.45,17.45,21.897063720640002,20.474197247783593,null,19.667000000000002,17.953999999999997,"C","Y57","X24","11302021","Byar"]
[1130202,{"$f":"VLOOKUP(tblData[[#This Row],[Indicator ID]],'Similar 10 CCGs'!$A$6:$C$160,3,FALSE)","v":"Programme Budget - Gastro Intestinal - Total elective (IP + DC) admissions per 1000 population across secondary care - Activity"},"2011/12","99P",20457,null,980415,20.87,20.58,21.15,21.897063720640002,20.474197247783593,null,21.9,20.11,"","Y57","X24","11302021","Byar"]
[1130203,{"$f":"VLOOKUP(tblData[[#This Row],[Indicator ID]],'Similar 10 CCGs'!$A$6:$C$160,3,FALSE)","v":"Programme Budget - Gastro Intestinal - Non-elective (EM + ONEL) admissions per 1000 population across secondary care - Activity"},"2011/12","00V",2545,null,194067,13.11,12.61,13.63,11.090977434992132,13.435674942707061,null,12.414,11.224,"B","Y54","X24","11302031","Byar"]
[1130203,{"$f":"VLOOKUP(tblData[[#This Row],[Indicator ID]],'Similar 10 CCGs'!$A$6:$C$160,3,FALSE)","v":"Programme Budget - Gastro Intestinal - Non-elective (EM + ONEL) admissions per 1000 population across secondary care - Activity"},"2011/12","01R",2035,null,178248,11.42,10.93,11.92,11.090977434992132,13.435674942707061,null,10.493000000000002,9.6879999999999988,"A","Y54","X24","11302031","Byar"]
[1130203,{"$f":"VLOOKUP(tblData[[#This Row],[Indicator ID]],'Similar 10 CCGs'!$A$6:$C$160,3,FALSE)","v":"Programme Budget - Gastro Intestinal - Non-elective (EM + ONEL) admissions per 1000 population across secondary care - Activity"},"2011/12","02Q",1490,null,115415,12.91,12.26,13.58,11.090977434992132,13.435674942707061,null,12.509,10.862,"A","Y54","X24","11302031","Byar"]
[1130203,{"$f":"VLOOKUP(tblData[[#This Row],[Indicator ID]],'Similar 10 CCGs'!$A$6:$C$160,3,FALSE)","v":"Programme Budget - Gastro Intestinal - Non-elective (EM + ONEL) admissions per 1000 population across secondary care - Activity"},"2011/12","03L",3871,null,258933,14.95,14.48,15.43,11.090977434992132,13.435674942707061,null,14.751999999999999,14.059999999999999,"A","Y54","X24","11302031","Byar"]
[1130203,{"$f":"VLOOKUP(tblData[[#This Row],[Indicator ID]],'Similar 10 CCGs'!$A$6:$C$160,3,FALSE)","v":"Programme Budget - Gastro Intestinal - Non-elective (EM + ONEL) admissions per 1000 population across secondary care - Activity"},"2011/12","04H",1360,null,133001,10.23,9.69,10.78,11.090977434992132,10.738706695584273,null,11.343999999999999,10.39,"C","Y55","X24","11302031","Byar"]
[1130203,{"$f":"VLOOKUP(tblData[[#This Row],[Indicator ID]],'Similar 10 CCGs'!$A$6:$C$160,3,FALSE)","v":"Programme Budget - Gastro Intestinal - Non-elective (EM + ONEL) admissions per 1000 population across secondary care - Activity"},"2011/12","05D",1448,null,136006,10.65,10.11,11.21,11.090977434992132,10.738706695584273,null,11.053000000000001,10.302,"B","Y55","X24","11302031","Byar"]
[1130203,{"$f":"VLOOKUP(tblData[[#This Row],[Indicator ID]],'Similar 10 CCGs'!$A$6:$C$160,3,FALSE)","v":"Programme Budget - Gastro Intestinal - Non-elective (EM + ONEL) admissions per 1000 population across secondary care - Activity"},"2011/12","06K",5155,null,564704,9.1300000000000008,8.8800000000000008,9.3800000000000008,11.090977434992132,10.738706695584273,null,9.5389999999999997,9.0140000000000011,"B","Y55","X24","11302031","Byar"]
[1130203,{"$f":"VLOOKUP(tblData[[#This Row],[Indicator ID]],'Similar 10 CCGs'!$A$6:$C$160,3,FALSE)","v":"Programme Budget - Gastro Intestinal - Non-elective (EM + ONEL) admissions per 1000 population across secondary care - Activity"},"2011/12","07M",3245,null,363301,8.93,8.6300000000000008,9.24,11.090977434992132,9.4758350118042625,null,10.004999999999999,8.8859999999999992,"","Y56","X24","11302031","Byar"]
[1130203,{"$f":"VLOOKUP(tblData[[#This Row],[Indicator ID]],'Similar 10 CCGs'!$A$6:$C$160,3,FALSE)","v":"Programme Budget - Gastro Intestinal - Non-elective (EM + ONEL) admissions per 1000 population across secondary care - Activity"},"2011/12","08H",2087,null,188500,11.07,10.6,11.56,11.090977434992132,9.4758350118042625,null,9.141,8.5980000000000008,"A","Y56","X24","11302031","Byar"]
[1130203,{"$f":"VLOOKUP(tblData[[#This Row],[Indicator ID]],'Similar 10 CCGs'!$A$6:$C$160,3,FALSE)","v":"Programme Budget - Gastro Intestinal - Non-elective (EM + ONEL) admissions per 1000 population across secondary care - Activity"},"2011/12","09C",1268,null,122573,10.34,9.7799999999999994,10.93,11.090977434992132,9.8703577171973738,null,10.506,9.26,"B","Y57","X24","11302031","Byar"]
[1130203,{"$f":"VLOOKUP(tblData[[#This Row],[Indicator ID]],'Similar 10 CCGs'!$A$6:$C$160,3,FALSE)","v":"Programme Budget - Gastro Intestinal - Non-elective (EM + ONEL) admissions per 1000 population across secondary care - Activity"},"2011/12","10D",1068,null,105517,10.119999999999999,9.52,10.75,11.090977434992132,9.8703577171973738,null,11.747,10.379999999999999,"","Y57","X24","11302031","Byar"]
[1130203,{"$f":"VLOOKUP(tblData[[#This Row],[Indicator ID]],'Similar 10 CCGs'!$A$6:$C$160,3,FALSE)","v":"Programme Budget - Gastro Intestinal - Non-elective (EM + ONEL) admissions per 1000 population across secondary care - Activity"},"2011/12","11A",5691,null,579108,9.83,9.57,10.09,11.090977434992132,9.8703577171973738,null,9.6420000000000012,9.1340000000000003,"B","Y57","X24","11302031","Byar"]
[1130203,{"$f":"VLOOKUP(tblData[[#This Row],[Indicator ID]],'Similar 10 CCGs'!$A$6:$C$160,3,FALSE)","v":"Programme Budget - Gastro Intestinal - Non-elective (EM + ONEL) admissions per 1000 population across secondary care - Activity"},"2011/12","99C",3718,null,222612,16.7,16.170000000000002,17.25,11.090977434992132,13.435674942707061,null,13.238,11.695999999999998,"A","Y54","X24","11302031","Byar"]
[1130212,{"$f":"VLOOKUP(tblData[[#This Row],[Indicator ID]],'Similar 10 CCGs'!$A$6:$C$160,3,FALSE)","v":"Emergency admissions for alcohol related liver disease"},"2011/12","00H",31,null,100223,31.71,21.52,45.04,0.24717866979770375,0.36223806041399054,null,38.767000000000003,23.283999999999999,"B","Y54","X24","11302121","Byar"]
[1130212,{"$f":"VLOOKUP(tblData[[#This Row],[Indicator ID]],'Similar 10 CCGs'!$A$6:$C$160,3,FALSE)","v":"Emergency admissions for alcohol related liver disease"},"2011/12","01F",30,null,99181,29.19,19.690000000000001,41.68,0.24717866979770375,0.36223806041399054,null,38.387999999999991,29.860000000000003,"B","Y54","X24","11302121","Byar"]
[1130212,{"$f":"VLOOKUP(tblData[[#This Row],[Indicator ID]],'Similar 10 CCGs'!$A$6:$C$160,3,FALSE)","v":"Emergency admissions for alcohol related liver disease"},"2011/12","02A",60,null,177923,32.5,24.79,41.84,0.24717866979770375,0.36223806041399054,null,24.389000000000003,18.606000000000002,"B","Y54","X24","11302121","Byar"]
[1130212,{"$f":"VLOOKUP(tblData[[#This Row],[Indicator ID]],'Similar 10 CCGs'!$A$6:$C$160,3,FALSE)","v":"Emergency admissions for alcohol related liver disease"},"2011/12","03A",28,null,186063,14.79,9.82,21.38,0.24717866979770375,0.36223806041399054,null,30.009999999999998,20.768000000000001,"","Y54","X24","11302121","Byar"]
[1130212,{"$f":"VLOOKUP(tblData[[#This Row],[Indicator ID]],'Similar 10 CCGs'!$A$6:$C$160,3,FALSE)","v":"Emergency admissions for alcohol related liver disease"},"2011/12","03V",13,null,53314,25.09,13.27,43.05,0.24717866979770375,0.22026897323103947,null,37.626999999999995,28.5,"B","Y55","X24","11302121","Byar"]
[1130212,{"$f":"VLOOKUP(tblData[[#This Row],[Indicator ID]],'Similar 10 CCGs'!$A$6:$C$160,3,FALSE)","v":"Emergency admissions for alcohol related liver disease"},"2011/12","04Q",21,null,101342,18.04,11.15,27.6,0.24717866979770375,0.22026897323103947,null,20.443000000000001,16.171999999999997,"B","Y55","X24","11302121","Byar"]
[1130212,{"$f":"VLOOKUP(tblData[[#This Row],[Indicator ID]],'Similar 10 CCGs'!$A$6:$C$160,3,FALSE)","v":"Emergency admissions for alcohol related liver disease"},"2011/12","05R",38,null,217621,16.47,11.64,22.62,0.24717866979770375,0.22026897323103947,null,21.709000000000003,15.341999999999999,"B","Y55","X24","11302121","Byar"]
[1130212,{"$f":"VLOOKUP(tblData[[#This Row],[Indicator ID]],'Similar 10 CCGs'!$A$6:$C$160,3,FALSE)","v":"Emergency admissions for alcohol related liver disease"},"2011/12","06Q",22,null,296807,6.95,4.3499999999999996,10.53,0.24717866979770375,0.22026897323103947,null,14.571999999999997,13.013999999999999,"C","Y55","X24","11302121","Byar"]
[1130212,{"$f":"VLOOKUP(tblData[[#This Row],[Indicator ID]],'Similar 10 CCGs'!$A$6:$C$160,3,FALSE)","v":"Emergency admissions for alcohol related liver disease"},"2011/12","07V",50,null,287717,17.3,12.8,22.86,0.24717866979770375,0.17985809984145257,null,21.183,17.716000000000001,"B","Y56","X24","11302121","Byar"]
[1130212,{"$f":"VLOOKUP(tblData[[#This Row],[Indicator ID]],'Similar 10 CCGs'!$A$6:$C$160,3,FALSE)","v":"Emergency admissions for alcohol related liver disease"},"2011/12","08N",33,null,218022,16.079999999999998,10.97,22.72,0.24717866979770375,0.17985809984145257,null,23.845999999999997,18.076000000000001,"B","Y56","X24","11302121","Byar"]
[1130212,{"$f":"VLOOKUP(tblData[[#This Row],[Indicator ID]],'Similar 10 CCGs'!$A$6:$C$160,3,FALSE)","v":"Emergency admissions for alcohol related liver disease"},"2011/12","09H",6,null,96673,5.96,2.1800000000000002,12.99,0.24717866979770375,0.19404174644013017,null,23.225999999999999,16.527999999999999,"C","Y57","X24","11302121","Byar"]
[1130212,{"$f":"VLOOKUP(tblData[[#This Row],[Indicator ID]],'Similar 10 CCGs'!$A$6:$C$160,3,FALSE)","v":"Emergency admissions for alcohol related liver disease"},"2011/12","10C",10,null,70604,13.36,6.37,24.62,0.24717866979770375,0.19404174644013017,null,17.241,14.398000000000001,"B","Y57","X24","11302121","Byar"]
[1130212,{"$f":"VLOOKUP(tblData[[#This Row],[Indicator ID]],'Similar 10 CCGs'!$A$6:$C$160,3,FALSE)","v":"Emergency admissions for alcohol related liver disease"},"2011/12","11M",101,null,484661,19.8,16.12,24.07,0.24717866979770375,0.19404174644013017,null,16.030999999999999,12.234,"B","Y57","X24","11302121","Byar"]
[1130212,{"$f":"VLOOKUP(tblData[[#This Row],[Indicator ID]],'Similar 10 CCGs'!$A$6:$C$160,3,FALSE)","v":"Emergency admissions for alcohol related liver disease"},"2011/12","99J",60,null,358979,15.79,12.04,20.34,0.24717866979770375,0.19404174644013017,null,15.876000000000001,12.01,"B","Y57","X24","11302121","Byar"]
[1130311,{"$f":"VLOOKUP(tblData[[#This Row],[Indicator ID]],'Similar 10 CCGs'!$A$6:$C$160,3,FALSE)","v":"Mortality from Gastrointestinal disease: Under 75 Directly age-standardised rates (DSR) per 100,000 European"},"2009-11","00P",229,null,759292.09813101275,26.260544426319289,22.936911480535755,29.926763723491607,0.21592942320451194,0.27646634763084565,null,27.544000737172865,23.974681592119751,"B","Y54","X24","11303111","Byar"]
[1130311,{"$f":"VLOOKUP(tblData[[#This Row],[Indicator ID]],'Similar 10 CCGs'!$A$6:$C$160,3,FALSE)","v":"Mortality from Gastrointestinal disease: Under 75 Directly age-standardised rates (DSR) per 100,000 European"},"2009-11","01J",150,null,414195.57374739589,32.39599552778207,27.381716330077417,38.05726301230213,0.21592942320451194,0.27646634763084565,null,30.57192524629254,26.739542356965849,"B","Y54","X24","11303111","Byar"]
[1130311,{"$f":"VLOOKUP(tblData[[#This Row],[Indicator ID]],'Similar 10 CCGs'!$A$6:$C$160,3,FALSE)","v":"Mortality from Gastrointestinal disease: Under 75 Directly age-standardised rates (DSR) per 100,000 European"},"2009-11","01K",125,null,409538.26483408292,26.569071742412735,22.008740059500106,31.778211149630206,0.21592942320451194,0.27646634763084565,null,20.425118220118453,17.02330207740361,"A","Y54","X24","11303111","Byar"]
[1130311,{"$f":"VLOOKUP(tblData[[#This Row],[Indicator ID]],'Similar 10 CCGs'!$A$6:$C$160,3,FALSE)","v":"Mortality from Gastrointestinal disease: Under 75 Directly age-standardised rates (DSR) per 100,000 European"},"2009-11","02M",138,null,392333.84250480874,25.570318833195827,21.330173440550926,30.382523810640006,0.21592942320451194,0.27646634763084565,null,17.883907421988319,14.795498063085683,"A","Y54","X24","11303111","Byar"]
[1130311,{"$f":"VLOOKUP(tblData[[#This Row],[Indicator ID]],'Similar 10 CCGs'!$A$6:$C$160,3,FALSE)","v":"Mortality from Gastrointestinal disease: Under 75 Directly age-standardised rates (DSR) per 100,000 European"},"2009-11","03G",212,null,694164.84561255365,29.777645601980669,25.866450727996927,34.108753401301435,0.21592942320451194,0.27646634763084565,null,26.21277699280153,23.31161053991071,"B","Y54","X24","11303111","Byar"]
[1130311,{"$f":"VLOOKUP(tblData[[#This Row],[Indicator ID]],'Similar 10 CCGs'!$A$6:$C$160,3,FALSE)","v":"Mortality from Gastrointestinal disease: Under 75 Directly age-standardised rates (DSR) per 100,000 European"},"2009-11","04E",147,null,486167.68055813952,25.292636457269577,21.317500630515511,29.786248429913286,0.21592942320451194,0.20789493192621186,null,24.342246252846302,20.665378128639752,"A","Y55","X24","11303111","Byar"]
[1130311,{"$f":"VLOOKUP(tblData[[#This Row],[Indicator ID]],'Similar 10 CCGs'!$A$6:$C$160,3,FALSE)","v":"Mortality from Gastrointestinal disease: Under 75 Directly age-standardised rates (DSR) per 100,000 European"},"2009-11","05C",249,null,831414.03961256647,25.235360309400381,22.141573150137745,28.634276050696823,0.21592942320451194,0.20789493192621186,null,20.402127490702497,16.247276819621501,"A","Y55","X24","11303111","Byar"]
[1130311,{"$f":"VLOOKUP(tblData[[#This Row],[Indicator ID]],'Similar 10 CCGs'!$A$6:$C$160,3,FALSE)","v":"Mortality from Gastrointestinal disease: Under 75 Directly age-standardised rates (DSR) per 100,000 European"},"2009-11","05X",110,null,459427.21962010581,21.154784843703293,17.359710227229982,25.528294362683816,0.21592942320451194,0.20789493192621186,null,21.874480291881099,19.292999792269303,"B","Y55","X24","11303111","Byar"]
[1130311,{"$f":"VLOOKUP(tblData[[#This Row],[Indicator ID]],'Similar 10 CCGs'!$A$6:$C$160,3,FALSE)","v":"Mortality from Gastrointestinal disease: Under 75 Directly age-standardised rates (DSR) per 100,000 European"},"2009-11","07J",73,null,426872.67554416211,11.516153374095937,8.8724976891856127,14.663570082854232,0.21592942320451194,0.20789493192621186,null,18.140079440959944,15.394645199703215,"","Y55","X24","11303111","Byar"]
[1130311,{"$f":"VLOOKUP(tblData[[#This Row],[Indicator ID]],'Similar 10 CCGs'!$A$6:$C$160,3,FALSE)","v":"Mortality from Gastrointestinal disease: Under 75 Directly age-standardised rates (DSR) per 100,000 European"},"2009-11","08D",127,null,710956.19520158961,22.32164961975953,18.556090548507903,26.618391720273859,0.21592942320451194,0.16761672534029651,null,21.271253095367481,17.550888112694317,"B","Y56","X24","11303111","Byar"]
[1130311,{"$f":"VLOOKUP(tblData[[#This Row],[Indicator ID]],'Similar 10 CCGs'!$A$6:$C$160,3,FALSE)","v":"Mortality from Gastrointestinal disease: Under 75 Directly age-standardised rates (DSR) per 100,000 European"},"2009-11","08X",122,null,893103.47474452108,18.806517205553327,15.527949187787684,22.557667893958588,0.21592942320451194,0.16761672534029651,null,20.978521245968572,18.059474493449535,"B","Y56","X24","11303111","Byar"]
[1130311,{"$f":"VLOOKUP(tblData[[#This Row],[Indicator ID]],'Similar 10 CCGs'!$A$6:$C$160,3,FALSE)","v":"Mortality from Gastrointestinal disease: Under 75 Directly age-standardised rates (DSR) per 100,000 European"},"2009-11","09Y",168,null,915548.28665847494,16.341868495297263,13.948661875740765,19.025759586390819,0.21592942320451194,0.18699165396138115,null,13.75291515653981,12.340007771904201,"A","Y57","X24","11303111","Byar"]
[1130311,{"$f":"VLOOKUP(tblData[[#This Row],[Indicator ID]],'Similar 10 CCGs'!$A$6:$C$160,3,FALSE)","v":"Mortality from Gastrointestinal disease: Under 75 Directly age-standardised rates (DSR) per 100,000 European"},"2009-11","10V",87,null,537908.82196037145,13.037234526020528,10.330754677918298,16.212223925800089,0.21592942320451194,0.18699165396138115,null,16.517755774920829,14.712820517964762,"","Y57","X24","11303111","Byar"]
[1130311,{"$f":"VLOOKUP(tblData[[#This Row],[Indicator ID]],'Similar 10 CCGs'!$A$6:$C$160,3,FALSE)","v":"Mortality from Gastrointestinal disease: Under 75 Directly age-standardised rates (DSR) per 100,000 European"},"2009-11","12F",315,null,848860.51871139964,30.928595321921232,27.54476046990451,34.607415234658816,0.21592942320451194,0.27646634763084565,null,26.063193634205827,22.008753088377802,"A","Y54","X24","11303111","Byar"]
[1130313,{"$f":"VLOOKUP(tblData[[#This Row],[Indicator ID]],'Similar 10 CCGs'!$A$6:$C$160,3,FALSE)","v":"Mortality from liver disease: Under 75 Direct Standardised Rates (DSR) per 100,000 "},2011,"00C",14,null,97418,13.25,7.24,22.24,0.15687065378055845,0.20497200163812135,null,17.907,15.416,"B","Y54","X24","11303131","Wilson"]
[1130313,{"$f":"VLOOKUP(tblData[[#This Row],[Indicator ID]],'Similar 10 CCGs'!$A$6:$C$160,3,FALSE)","v":"Mortality from liver disease: Under 75 Direct Standardised Rates (DSR) per 100,000 "},2011,"00X",34,null,160984,18.95,13.11,26.5,0.15687065378055845,0.20497200163812135,null,16.46,13.746,"B","Y54","X24","11303131","Wilson"]
[1130313,{"$f":"VLOOKUP(tblData[[#This Row],[Indicator ID]],'Similar 10 CCGs'!$A$6:$C$160,3,FALSE)","v":"Mortality from liver disease: Under 75 Direct Standardised Rates (DSR) per 100,000 "},2011,"02A",35,null,212856,16.670000000000002,11.6,23.2,0.15687065378055845,0.20497200163812135,null,16.493000000000002,13.571999999999999,"B","Y54","X24","11303131","Wilson"]
[1130313,{"$f":"VLOOKUP(tblData[[#This Row],[Indicator ID]],'Similar 10 CCGs'!$A$6:$C$160,3,FALSE)","v":"Mortality from liver disease: Under 75 Direct Standardised Rates (DSR) per 100,000 "},2011,"02V",25,null,187290,13.59,8.77,20.100000000000001,0.15687065378055845,0.20497200163812135,null,19.105,15.860000000000003,"B","Y54","X24","11303131","Wilson"]
[1130313,{"$f":"VLOOKUP(tblData[[#This Row],[Indicator ID]],'Similar 10 CCGs'!$A$6:$C$160,3,FALSE)","v":"Mortality from liver disease: Under 75 Direct Standardised Rates (DSR) per 100,000 "},2011,"03Q",49,null,311458,14.87,10.99,19.670000000000002,0.15687065378055845,0.20497200163812135,null,13.346,11.430000000000001,"B","Y54","X24","11303131","Wilson"]
[1130313,{"$f":"VLOOKUP(tblData[[#This Row],[Indicator ID]],'Similar 10 CCGs'!$A$6:$C$160,3,FALSE)","v":"Mortality from liver disease: Under 75 Direct Standardised Rates (DSR) per 100,000 "},2011,"04L",26,null,132738,17.96,11.7,26.35,0.15687065378055845,0.15023399965794071,null,15.550999999999997,13.113999999999999,"B","Y55","X24","11303131","Wilson"]
[1130313,{"$f":"VLOOKUP(tblData[[#This Row],[Indicator ID]],'Similar 10 CCGs'!$A$6:$C$160,3,FALSE)","v":"Mortality from liver disease: Under 75 Direct Standardised Rates (DSR) per 100,000 "},2011,"05N",41,null,268658,13.18,9.39,17.97,0.15687065378055845,0.15023399965794071,null,12.304999999999998,10.044,"B","Y55","X24","11303131","Wilson"]
[1130313,{"$f":"VLOOKUP(tblData[[#This Row],[Indicator ID]],'Similar 10 CCGs'!$A$6:$C$160,3,FALSE)","v":"Mortality from liver disease: Under 75 Direct Standardised Rates (DSR) per 100,000 "},2011,"06M",41,null,207001,17.079999999999998,12.19,23.26,0.15687065378055845,0.15023399965794071,null,14.84,12.190000000000001,"B","Y55","X24","11303131","Wilson"]
[1130313,{"$f":"VLOOKUP(tblData[[#This Row],[Indicator ID]],'Similar 10 CCGs'!$A$6:$C$160,3,FALSE)","v":"Mortality from liver disease: Under 75 Direct Standardised Rates (DSR) per 100,000 "},2011,"07P",35,null,325438,15.02,10.37,21,0.15687065378055845,0.11705050553386172,null,14.009,11.985999999999999,"B","Y56","X24","11303131","Wilson"]
[1130313,{"$f":"VLOOKUP(tblData[[#This Row],[Indicator ID]],'Similar 10 CCGs'!$A$6:$C$160,3,FALSE)","v":"Mortality from liver disease: Under 75 Direct Standardised Rates (DSR) per 100,000 "},2011,"08K",43,null,371839,15.36,10.72,21.18,0.15687065378055845,0.11705050553386172,null,17.127000000000002,13.934000000000001,"B","Y56","X24","11303131","Wilson"]
[1130313,{"$f":"VLOOKUP(tblData[[#This Row],[Indicator ID]],'Similar 10 CCGs'!$A$6:$C$160,3,FALSE)","v":"Mortality from liver disease: Under 75 Direct Standardised Rates (DSR) per 100,000 "},2011,"09E",21,null,193404,10.49,6.47,16.07,0.15687065378055845,0.13717455990342173,null,15.805999999999997,12.334,"","Y57","X24","11303131","Wilson"]
[1130313,{"$f":"VLOOKUP(tblData[[#This Row],[Indicator ID]],'Similar 10 CCGs'!$A$6:$C$160,3,FALSE)","v":"Mortality from liver disease: Under 75 Direct Standardised Rates (DSR) per 100,000 "},2011,"10G",13,null,127679,10.87,5.74,18.66,0.15687065378055845,0.13717455990342173,null,10.720000000000002,8.1819999999999986,"B","Y57","X24","11303131","Wilson"]
[1130313,{"$f":"VLOOKUP(tblData[[#This Row],[Indicator ID]],'Similar 10 CCGs'!$A$6:$C$160,3,FALSE)","v":"Mortality from liver disease: Under 75 Direct Standardised Rates (DSR) per 100,000 "},2011,"10V",29,null,188547,13.79,9.18,19.87,0.15687065378055845,0.13717455990342173,null,12.699000000000002,11.254,"B","Y57","X24","11303131","Wilson"]
[1130313,{"$f":"VLOOKUP(tblData[[#This Row],[Indicator ID]],'Similar 10 CCGs'!$A$6:$C$160,3,FALSE)","v":"Mortality from liver disease: Under 75 Direct Standardised Rates (DSR) per 100,000 "},2011,"99F",19,null,160975,10.11,6.05,15.85,0.15687065378055845,0.15023399965794071,null,14.221,12.093999999999998,"B","Y55","X24","11303131","Wilson"]
[1150101,{"$f":"VLOOKUP(tblData[[#This Row],[Indicator ID]],'Similar 10 CCGs'!$A$6:$C$160,3,FALSE)","v":"Programme Budget - Musculo Skeletal - Total admissions per 1000 population across secondary care - Cost"},"2011/12","00L",18917534,null,371569,50912.52,49769.68,52074.99,39091.857553950264,42013.431355709945,null,39226.74700000001,34483.672000000006,"A","Y54","X24","11501011","Byar"]
[1150101,{"$f":"VLOOKUP(tblData[[#This Row],[Indicator ID]],'Similar 10 CCGs'!$A$6:$C$160,3,FALSE)","v":"Programme Budget - Musculo Skeletal - Total admissions per 1000 population across secondary care - Cost"},"2011/12","01F",5170100,null,125606,41161.129999999997,39542.31,42829.2,39091.857553950264,42013.431355709945,null,41155.346000000005,38254.794000000009,"B","Y54","X24","11501011","Byar"]
[1150101,{"$f":"VLOOKUP(tblData[[#This Row],[Indicator ID]],'Similar 10 CCGs'!$A$6:$C$160,3,FALSE)","v":"Programme Budget - Musculo Skeletal - Total admissions per 1000 population across secondary care - Cost"},"2011/12","02E",7828661,null,210061,37268.6,36068.589999999997,38498.35,39091.857553950264,42013.431355709945,null,44960.241999999991,41673.464,"B","Y54","X24","11501011","Byar"]
[1150101,{"$f":"VLOOKUP(tblData[[#This Row],[Indicator ID]],'Similar 10 CCGs'!$A$6:$C$160,3,FALSE)","v":"Programme Budget - Musculo Skeletal - Total admissions per 1000 population across secondary care - Cost"},"2011/12","03D",8296803,null,169986,48808.7,47058.7,50607.13,39091.857553950264,42013.431355709945,null,43560.403999999995,39029.528000000006,"A","Y54","X24","11501011","Byar"]
[1150101,{"$f":"VLOOKUP(tblData[[#This Row],[Indicator ID]],'Similar 10 CCGs'!$A$6:$C$160,3,FALSE)","v":"Programme Budget - Musculo Skeletal - Total admissions per 1000 population across secondary care - Cost"},"2011/12","03X",5852557,null,102978,56832.95,54508.12,59231.43,39091.857553950264,38861.979660182551,null,45227.507999999987,41785.936000000002,"A","Y55","X24","11501011","Byar"]
[1150101,{"$f":"VLOOKUP(tblData[[#This Row],[Indicator ID]],'Similar 10 CCGs'!$A$6:$C$160,3,FALSE)","v":"Programme Budget - Musculo Skeletal - Total admissions per 1000 population across secondary care - Cost"},"2011/12","04V",13118662,null,382239,34320.54,33374.160000000003,35286.949999999997,39091.857553950264,38861.979660182551,null,39783.338000000003,36716.286,"C","Y55","X24","11501011","Byar"]
[1150101,{"$f":"VLOOKUP(tblData[[#This Row],[Indicator ID]],'Similar 10 CCGs'!$A$6:$C$160,3,FALSE)","v":"Programme Budget - Musculo Skeletal - Total admissions per 1000 population across secondary care - Cost"},"2011/12","05V",8041581,null,163280,49250.400000000001,47632.81,50908.91,39091.857553950264,38861.979660182551,null,41147.662999999993,36805.903999999995,"A","Y55","X24","11501011","Byar"]
[1150101,{"$f":"VLOOKUP(tblData[[#This Row],[Indicator ID]],'Similar 10 CCGs'!$A$6:$C$160,3,FALSE)","v":"Programme Budget - Musculo Skeletal - Total admissions per 1000 population across secondary care - Cost"},"2011/12","06V",7164829,null,219664,32617.23,31432.46,33835.22,39091.857553950264,38861.979660182551,null,42296.659999999996,36951.982000000004,"C","Y55","X24","11501011","Byar"]
[1150101,{"$f":"VLOOKUP(tblData[[#This Row],[Indicator ID]],'Similar 10 CCGs'!$A$6:$C$160,3,FALSE)","v":"Programme Budget - Musculo Skeletal - Total admissions per 1000 population across secondary care - Cost"},"2011/12","07X",8040214,null,277468,28977.07,28038.15,29939.42,39091.857553950264,31180.97035577122,null,34607.852999999996,31971.885999999999,"C","Y56","X24","11501011","Byar"]
[1150101,{"$f":"VLOOKUP(tblData[[#This Row],[Indicator ID]],'Similar 10 CCGs'!$A$6:$C$160,3,FALSE)","v":"Programme Budget - Musculo Skeletal - Total admissions per 1000 population across secondary care - Cost"},"2011/12","08R",6117235,null,180581,33875.33,32499.27,35294.67,39091.857553950264,31180.97035577122,null,33835.690999999999,29074.324000000001,"B","Y56","X24","11501011","Byar"]
[1150101,{"$f":"VLOOKUP(tblData[[#This Row],[Indicator ID]],'Similar 10 CCGs'!$A$6:$C$160,3,FALSE)","v":"Programme Budget - Musculo Skeletal - Total admissions per 1000 population across secondary care - Cost"},"2011/12","09N",8274869,null,221625,37337.32,36083.550000000003,38623.53,39091.857553950264,40115.952277568656,null,40417.008999999998,35356.11,"","Y57","X24","11501011","Byar"]
[1150101,{"$f":"VLOOKUP(tblData[[#This Row],[Indicator ID]],'Similar 10 CCGs'!$A$6:$C$160,3,FALSE)","v":"Programme Budget - Musculo Skeletal - Total admissions per 1000 population across secondary care - Cost"},"2011/12","10Q",21714682,null,673418,32245.48,31530.43,32972.67,39091.857553950264,40115.952277568656,null,37999.67,33579.4,"C","Y57","X24","11501011","Byar"]
[1150101,{"$f":"VLOOKUP(tblData[[#This Row],[Indicator ID]],'Similar 10 CCGs'!$A$6:$C$160,3,FALSE)","v":"Programme Budget - Musculo Skeletal - Total admissions per 1000 population across secondary care - Cost"},"2011/12","11T",9319326,null,239616,38892.68,37529.599999999999,40292.61,39091.857553950264,40115.952277568656,null,40008.612000000001,36389.724000000002,"","Y57","X24","11501011","Byar"]
[1150101,{"$f":"VLOOKUP(tblData[[#This Row],[Indicator ID]],'Similar 10 CCGs'!$A$6:$C$160,3,FALSE)","v":"Programme Budget - Musculo Skeletal - Total admissions per 1000 population across secondary care - Cost"},"2011/12","11X",26070180,null,625207,41698.47,40886.32,42522.69,39091.857553950264,40115.952277568656,null,41193.362000000001,37346.618000000002,"B","Y57","X24","11501011","Byar"]
[1150101,{"$f":"VLOOKUP(tblData[[#This Row],[Indicator ID]],'Similar 10 CCGs'!$A$6:$C$160,3,FALSE)","v":"Programme Budget - Musculo Skeletal - Total admissions per 1000 population across secondary care - Cost"},"2011/12","99N",23363155,null,524348,44556.59,43632.24,45495.6,39091.857553950264,40115.952277568656,null,35925.987000000001,32567.759999999998,"A","Y57","X24","11501011","Byar"]
[1150102,{"$f":"VLOOKUP(tblData[[#This Row],[Indicator ID]],'Similar 10 CCGs'!$A$6:$C$160,3,FALSE)","v":"Programme Budget - Musculo Skeletal - Total elective (IP + DC) admissions per 1000 population across secondary care - Cost"},"2011/12","00R",6325126,null,188184,33611.449999999997,32333.96,34926.47,35484.061936698003,38193.786977721262,null,38325.991000000002,35171.202000000005,"C","Y54","X24","11501021","Byar"]
[1150102,{"$f":"VLOOKUP(tblData[[#This Row],[Indicator ID]],'Similar 10 CCGs'!$A$6:$C$160,3,FALSE)","v":"Programme Budget - Musculo Skeletal - Total elective (IP + DC) admissions per 1000 population across secondary care - Cost"},"2011/12","01N",5369129,null,138175,38857.57,37424.870000000003,40331.07,35484.061936698003,38193.786977721262,null,37737.819000000003,34669.293999999994,"A","Y54","X24","11501021","Byar"]
[1150102,{"$f":"VLOOKUP(tblData[[#This Row],[Indicator ID]],'Similar 10 CCGs'!$A$6:$C$160,3,FALSE)","v":"Programme Budget - Musculo Skeletal - Total elective (IP + DC) admissions per 1000 population across secondary care - Cost"},"2011/12","02W",1863985,null,72710,25635.81,23993.47,27360.97,35484.061936698003,38193.786977721262,null,32444.702000000001,27227.810000000005,"C","Y54","X24","11501021","Byar"]
[1150102,{"$f":"VLOOKUP(tblData[[#This Row],[Indicator ID]],'Similar 10 CCGs'!$A$6:$C$160,3,FALSE)","v":"Programme Budget - Musculo Skeletal - Total elective (IP + DC) admissions per 1000 population across secondary care - Cost"},"2011/12","03K",5741985,null,184881,31057.759999999998,29813.31,32340.799999999999,35484.061936698003,38193.786977721262,null,39595.065000000002,36049.634000000005,"C","Y54","X24","11501021","Byar"]
[1150102,{"$f":"VLOOKUP(tblData[[#This Row],[Indicator ID]],'Similar 10 CCGs'!$A$6:$C$160,3,FALSE)","v":"Programme Budget - Musculo Skeletal - Total elective (IP + DC) admissions per 1000 population across secondary care - Cost"},"2011/12","04H",5775252,null,140858,41000.410000000003,39389.56,42660.24,35484.061936698003,35371.262618732806,null,38091.089,34028.917999999998,"B","Y55","X24","11501021","Byar"]
[1150102,{"$f":"VLOOKUP(tblData[[#This Row],[Indicator ID]],'Similar 10 CCGs'!$A$6:$C$160,3,FALSE)","v":"Programme Budget - Musculo Skeletal - Total elective (IP + DC) admissions per 1000 population across secondary care - Cost"},"2011/12","05G",8251233,null,237525,34738.32,33577.14,35929.42,35484.061936698003,35371.262618732806,null,39487.860999999997,35198.922000000006,"C","Y55","X24","11501021","Byar"]
[1150102,{"$f":"VLOOKUP(tblData[[#This Row],[Indicator ID]],'Similar 10 CCGs'!$A$6:$C$160,3,FALSE)","v":"Programme Budget - Musculo Skeletal - Total elective (IP + DC) admissions per 1000 population across secondary care - Cost"},"2011/12","06H",23385908,null,838164,27901.360000000001,27338.71,28472.68,35484.061936698003,35371.262618732806,null,34920.07,31289.988000000001,"C","Y55","X24","11501021","Byar"]
[1150102,{"$f":"VLOOKUP(tblData[[#This Row],[Indicator ID]],'Similar 10 CCGs'!$A$6:$C$160,3,FALSE)","v":"Programme Budget - Musculo Skeletal - Total elective (IP + DC) admissions per 1000 population across secondary care - Cost"},"2011/12","07L",4531227,null,153767,29468.080000000002,28272.09,30701.67,35484.061936698003,27297.042065591359,null,31094.690000000002,27768.334000000003,"","Y56","X24","11501021","Byar"]
[1150102,{"$f":"VLOOKUP(tblData[[#This Row],[Indicator ID]],'Similar 10 CCGs'!$A$6:$C$160,3,FALSE)","v":"Programme Budget - Musculo Skeletal - Total elective (IP + DC) admissions per 1000 population across secondary care - Cost"},"2011/12","08F",9574250,null,268104,35710.92,34644.28,36802.06,35484.061936698003,27297.042065591359,null,36919.040000000001,32486.495999999996,"B","Y56","X24","11501021","Byar"]
[1150102,{"$f":"VLOOKUP(tblData[[#This Row],[Indicator ID]],'Similar 10 CCGs'!$A$6:$C$160,3,FALSE)","v":"Programme Budget - Musculo Skeletal - Total elective (IP + DC) admissions per 1000 population across secondary care - Cost"},"2011/12","09A",2978239,null,156446,19036.8,18098.38,20011.27,35484.061936698003,27297.042065591359,null,30563.770999999997,23686.37,"C","Y56","X24","11501021","Byar"]
[1150102,{"$f":"VLOOKUP(tblData[[#This Row],[Indicator ID]],'Similar 10 CCGs'!$A$6:$C$160,3,FALSE)","v":"Programme Budget - Musculo Skeletal - Total elective (IP + DC) admissions per 1000 population across secondary care - Cost"},"2011/12","10C",4236351,null,93501,45307.87,43227.27,47462.74,35484.061936698003,36734.873714210618,null,36615.123,32709.431999999993,"A","Y57","X24","11501021","Byar"]
[1150102,{"$f":"VLOOKUP(tblData[[#This Row],[Indicator ID]],'Similar 10 CCGs'!$A$6:$C$160,3,FALSE)","v":"Programme Budget - Musculo Skeletal - Total elective (IP + DC) admissions per 1000 population across secondary care - Cost"},"2011/12","10X",9443891,null,233256,40487.26,39171.75,41835.68,35484.061936698003,36734.873714210618,null,35423.171999999999,32145.074000000001,"A","Y57","X24","11501021","Byar"]
[1150102,{"$f":"VLOOKUP(tblData[[#This Row],[Indicator ID]],'Similar 10 CCGs'!$A$6:$C$160,3,FALSE)","v":"Programme Budget - Musculo Skeletal - Total elective (IP + DC) admissions per 1000 population across secondary care - Cost"},"2011/12","11X",22836184,null,624468,36569,35801.71,37348.6,35484.061936698003,36734.873714210618,null,37745.844000000005,34146.289999999994,"","Y57","X24","11501021","Byar"]
[1150103,{"$f":"VLOOKUP(tblData[[#This Row],[Indicator ID]],'Similar 10 CCGs'!$A$6:$C$160,3,FALSE)","v":"Programme Budget - Musculo Skeletal - Non-elective (EM + ONEL) admissions per 1000 population across secondary care - Cost"},"2011/12","00G",492359,null,128286,3837.99,3442.52,4266.43,3607.7701392832705,3819.0699226552365,null,3688.1970000000001,3215.11,"B","Y54","X24","11501031","Byar"]
[1150103,{"$f":"VLOOKUP(tblData[[#This Row],[Indicator ID]],'Similar 10 CCGs'!$A$6:$C$160,3,FALSE)","v":"Programme Budget - Musculo Skeletal - Non-elective (EM + ONEL) admissions per 1000 population across secondary care - Cost"},"2011/12","01C",707485,null,231185,3060.25,2752.26,3393.29,3607.7701392832705,3819.0699226552365,null,2889.0609999999997,2484.5419999999999,"B","Y54","X24","11501031","Byar"]
[1150103,{"$f":"VLOOKUP(tblData[[#This Row],[Indicator ID]],'Similar 10 CCGs'!$A$6:$C$160,3,FALSE)","v":"Programme Budget - Musculo Skeletal - Non-elective (EM + ONEL) admissions per 1000 population across secondary care - Cost"},"2011/12","01Y",852539,null,232420,3668.1,3332.2,4028.69,3607.7701392832705,3819.0699226552365,null,3944.7689999999993,3706.1059999999998,"B","Y54","X24","11501031","Byar"]
[1150103,{"$f":"VLOOKUP(tblData[[#This Row],[Indicator ID]],'Similar 10 CCGs'!$A$6:$C$160,3,FALSE)","v":"Programme Budget - Musculo Skeletal - Non-elective (EM + ONEL) admissions per 1000 population across secondary care - Cost"},"2011/12","02X",1595778,null,320471,4979.4799999999996,4665.55,5308.99,3607.7701392832705,3819.0699226552365,null,3842.8120000000004,3339.732,"A","Y54","X24","11501031","Byar"]
[1150103,{"$f":"VLOOKUP(tblData[[#This Row],[Indicator ID]],'Similar 10 CCGs'!$A$6:$C$160,3,FALSE)","v":"Programme Budget - Musculo Skeletal - Non-elective (EM + ONEL) admissions per 1000 population across secondary care - Cost"},"2011/12","03T",1051183,null,293120,3586.18,3278.99,3914.41,3607.7701392832705,3490.7368100474082,null,3469.4739999999997,2853.5400000000004,"A","Y55","X24","11501031","Byar"]
[1150103,{"$f":"VLOOKUP(tblData[[#This Row],[Indicator ID]],'Similar 10 CCGs'!$A$6:$C$160,3,FALSE)","v":"Programme Budget - Musculo Skeletal - Non-elective (EM + ONEL) admissions per 1000 population across secondary care - Cost"},"2011/12","04N",545724,null,133419,4090.32,3574.39,4659.8,3607.7701392832705,3490.7368100474082,null,3159.0439999999999,2894.4139999999998,"A","Y55","X24","11501031","Byar"]
[1150103,{"$f":"VLOOKUP(tblData[[#This Row],[Indicator ID]],'Similar 10 CCGs'!$A$6:$C$160,3,FALSE)","v":"Programme Budget - Musculo Skeletal - Non-elective (EM + ONEL) admissions per 1000 population across secondary care - Cost"},"2011/12","05Q",771680,null,220096,3506.11,3174.9,3862.48,3607.7701392832705,3490.7368100474082,null,3365.6709999999998,2710.924,"B","Y55","X24","11501031","Byar"]
[1150103,{"$f":"VLOOKUP(tblData[[#This Row],[Indicator ID]],'Similar 10 CCGs'!$A$6:$C$160,3,FALSE)","v":"Programme Budget - Musculo Skeletal - Non-elective (EM + ONEL) admissions per 1000 population across secondary care - Cost"},"2011/12","06P",726730,null,178374,4074.2,3704.4,4470.92,3607.7701392832705,3490.7368100474082,null,3869.13,3483.5099999999998,"A","Y55","X24","11501031","Byar"]
[1150103,{"$f":"VLOOKUP(tblData[[#This Row],[Indicator ID]],'Similar 10 CCGs'!$A$6:$C$160,3,FALSE)","v":"Programme Budget - Musculo Skeletal - Non-elective (EM + ONEL) admissions per 1000 population across secondary care - Cost"},"2011/12","07R",678436,null,184203,3683.08,3307.29,4089.88,3607.7701392832705,3887.2114285262801,null,3909.049,3350.5819999999999,"","Y56","X24","11501031","Byar"]
[1150103,{"$f":"VLOOKUP(tblData[[#This Row],[Indicator ID]],'Similar 10 CCGs'!$A$6:$C$160,3,FALSE)","v":"Programme Budget - Musculo Skeletal - Non-elective (EM + ONEL) admissions per 1000 population across secondary care - Cost"},"2011/12","08N",893767,null,246105,3631.65,3333.91,3948.85,3607.7701392832705,3887.2114285262801,null,3842.5859999999993,3488.7139999999999,"B","Y56","X24","11501031","Byar"]
[1150103,{"$f":"VLOOKUP(tblData[[#This Row],[Indicator ID]],'Similar 10 CCGs'!$A$6:$C$160,3,FALSE)","v":"Programme Budget - Musculo Skeletal - Non-elective (EM + ONEL) admissions per 1000 population across secondary care - Cost"},"2011/12","09H",303536,null,115457,2628.99,2257.9499999999998,3043.6,3607.7701392832705,3384.2127967779543,null,3677.7169999999996,3322.3979999999997,"C","Y57","X24","11501031","Byar"]
[1150103,{"$f":"VLOOKUP(tblData[[#This Row],[Indicator ID]],'Similar 10 CCGs'!$A$6:$C$160,3,FALSE)","v":"Programme Budget - Musculo Skeletal - Non-elective (EM + ONEL) admissions per 1000 population across secondary care - Cost"},"2011/12","10K",644192,null,221840,2903.86,2611.21,3220.34,3607.7701392832705,3384.2127967779543,null,3096.7069999999999,2596.62,"B","Y57","X24","11501031","Byar"]
[1150103,{"$f":"VLOOKUP(tblData[[#This Row],[Indicator ID]],'Similar 10 CCGs'!$A$6:$C$160,3,FALSE)","v":"Programme Budget - Musculo Skeletal - Non-elective (EM + ONEL) admissions per 1000 population across secondary care - Cost"},"2011/12","11J",3683669,null,943701,3903.43,3724.23,4089.02,3607.7701392832705,3384.2127967779543,null,3809.5560000000005,3392.9339999999997,"B","Y57","X24","11501031","Byar"]
[1150103,{"$f":"VLOOKUP(tblData[[#This Row],[Indicator ID]],'Similar 10 CCGs'!$A$6:$C$160,3,FALSE)","v":"Programme Budget - Musculo Skeletal - Non-elective (EM + ONEL) admissions per 1000 population across secondary care - Cost"},"2011/12","99H",1056312,null,321342,3287.19,3015.74,3576.51,3607.7701392832705,3384.2127967779543,null,2966.5960000000005,2636.6579999999999,"B","Y57","X24","11501031","Byar"]
[1150105,{"$f":"VLOOKUP(tblData[[#This Row],[Indicator ID]],'Similar 10 CCGs'!$A$6:$C$160,3,FALSE)","v":"Programme Budget - Musculo Skeletal - Cost prescribed per 1000 ASTRO-PU population - Cost"},"2011/12","00N",1218146,null,165329,7368.03,7354.95,7381.13,5861.9991123180125,7044.4267943953037,null,7313.5889999999999,6710.2639999999983,"A","Y54","X24","11501051","Byar"]
[1150105,{"$f":"VLOOKUP(tblData[[#This Row],[Indicator ID]],'Similar 10 CCGs'!$A$6:$C$160,3,FALSE)","v":"Programme Budget - Musculo Skeletal - Cost prescribed per 1000 ASTRO-PU population - Cost"},"2011/12","01H",3741753,null,601589,6219.79,6213.49,6226.09,5861.9991123180125,7044.4267943953037,null,5982.0680000000002,5296.134,"A","Y54","X24","11501051","Byar"]
[1150105,{"$f":"VLOOKUP(tblData[[#This Row],[Indicator ID]],'Similar 10 CCGs'!$A$6:$C$160,3,FALSE)","v":"Programme Budget - Musculo Skeletal - Cost prescribed per 1000 ASTRO-PU population - Cost"},"2011/12","02G",756567,null,120174,6295.59,6281.42,6309.8,5861.9991123180125,7044.4267943953037,null,6798.5219999999999,6247.71,"A","Y54","X24","11501051","Byar"]
[1150105,{"$f":"VLOOKUP(tblData[[#This Row],[Indicator ID]],'Similar 10 CCGs'!$A$6:$C$160,3,FALSE)","v":"Programme Budget - Musculo Skeletal - Cost prescribed per 1000 ASTRO-PU population - Cost"},"2011/12","03F",2156409,null,273812,7875.5,7864.99,7886.02,5861.9991123180125,7044.4267943953037,null,7627.4959999999992,7293.558,"A","Y54","X24","11501051","Byar"]
[1150105,{"$f":"VLOOKUP(tblData[[#This Row],[Indicator ID]],'Similar 10 CCGs'!$A$6:$C$160,3,FALSE)","v":"Programme Budget - Musculo Skeletal - Cost prescribed per 1000 ASTRO-PU population - Cost"},"2011/12","04C",1765409,null,303207,5822.45,5813.86,5831.05,5861.9991123180125,5878.2541633358805,null,5850.4269999999997,4685.2820000000002,"","Y55","X24","11501051","Byar"]
[1150105,{"$f":"VLOOKUP(tblData[[#This Row],[Indicator ID]],'Similar 10 CCGs'!$A$6:$C$160,3,FALSE)","v":"Programme Budget - Musculo Skeletal - Cost prescribed per 1000 ASTRO-PU population - Cost"},"2011/12","04K",1761073,null,277366,6349.29,6339.91,6358.67,5861.9991123180125,5878.2541633358805,null,6382.3270000000002,5651.6319999999996,"A","Y55","X24","11501051","Byar"]
[1150105,{"$f":"VLOOKUP(tblData[[#This Row],[Indicator ID]],'Similar 10 CCGs'!$A$6:$C$160,3,FALSE)","v":"Programme Budget - Musculo Skeletal - Cost prescribed per 1000 ASTRO-PU population - Cost"},"2011/12","05Y",1837901,null,268825,6836.8,6826.92,6846.69,5861.9991123180125,5878.2541633358805,null,7696.5490000000009,7174.4120000000012,"C","Y55","X24","11501051","Byar"]
[1150105,{"$f":"VLOOKUP(tblData[[#This Row],[Indicator ID]],'Similar 10 CCGs'!$A$6:$C$160,3,FALSE)","v":"Programme Budget - Musculo Skeletal - Cost prescribed per 1000 ASTRO-PU population - Cost"},"2011/12","07G",777525,null,146579,5304.49,5292.7,5316.29,5861.9991123180125,5878.2541633358805,null,5507.4479999999985,4913.6580000000004,"A","Y55","X24","11501051","Byar"]
[1150105,{"$f":"VLOOKUP(tblData[[#This Row],[Indicator ID]],'Similar 10 CCGs'!$A$6:$C$160,3,FALSE)","v":"Programme Budget - Musculo Skeletal - Cost prescribed per 1000 ASTRO-PU population - Cost"},"2011/12","08C",709886,null,149012,4763.95,4752.87,4775.04,5861.9991123180125,4450.0422532900138,null,4421.4849999999997,4059.9240000000004,"A","Y56","X24","11501051","Byar"]
[1150105,{"$f":"VLOOKUP(tblData[[#This Row],[Indicator ID]],'Similar 10 CCGs'!$A$6:$C$160,3,FALSE)","v":"Programme Budget - Musculo Skeletal - Cost prescribed per 1000 ASTRO-PU population - Cost"},"2011/12","08V",856934,null,171215,5005.0200000000004,4994.42,5015.62,5861.9991123180125,4450.0422532900138,null,5149.9309999999996,4182.8720000000003,"A","Y56","X24","11501051","Byar"]
[1150105,{"$f":"VLOOKUP(tblData[[#This Row],[Indicator ID]],'Similar 10 CCGs'!$A$6:$C$160,3,FALSE)","v":"Programme Budget - Musculo Skeletal - Cost prescribed per 1000 ASTRO-PU population - Cost"},"2011/12","09W",1429955,null,269429,5307.35,5298.66,5316.06,5861.9991123180125,5281.3499113318903,null,6082.7649999999994,5462.78,"","Y57","X24","11501051","Byar"]
[1150105,{"$f":"VLOOKUP(tblData[[#This Row],[Indicator ID]],'Similar 10 CCGs'!$A$6:$C$160,3,FALSE)","v":"Programme Budget - Musculo Skeletal - Cost prescribed per 1000 ASTRO-PU population - Cost"},"2011/12","09X",1051419,null,238860,4401.82,4393.41,4410.24,5861.9991123180125,5281.3499113318903,null,4964.7170000000006,4440.3819999999996,"C","Y57","X24","11501051","Byar"]
[1150105,{"$f":"VLOOKUP(tblData[[#This Row],[Indicator ID]],'Similar 10 CCGs'!$A$6:$C$160,3,FALSE)","v":"Programme Budget - Musculo Skeletal - Cost prescribed per 1000 ASTRO-PU population - Cost"},"2011/12","10T",570338,null,108376,5262.59,5248.94,5276.27,5861.9991123180125,5281.3499113318903,null,5695.9930000000004,4376.0379999999986,"C","Y57","X24","11501051","Byar"]
[1150105,{"$f":"VLOOKUP(tblData[[#This Row],[Indicator ID]],'Similar 10 CCGs'!$A$6:$C$160,3,FALSE)","v":"Programme Budget - Musculo Skeletal - Cost prescribed per 1000 ASTRO-PU population - Cost"},"2011/12","12D",1152638,null,206957,5569.46,5559.3,5579.64,5861.9991123180125,5281.3499113318903,null,5432.7090000000007,4814.6260000000002,"","Y57","X24","11501051","Byar"]
[1150201,{"$f":"VLOOKUP(tblData[[#This Row],[Indicator ID]],'Similar 10 CCGs'!$A$6:$C$160,3,FALSE)","v":"Programme Budget - Musculo Skeletal - Total admissions per 1000 population across secondary care - Activity"},"2011/12","00Q",3249,null,156587,20.75,20.04,21.47,16.238994822661301,18.278450156391312,null,18.888999999999999,15.963999999999999,"A","Y54","X24","11502011","Byar"]
[1150201,{"$f":"VLOOKUP(tblData[[#This Row],[Indicator ID]],'Similar 10 CCGs'!$A$6:$C$160,3,FALSE)","v":"Programme Budget - Musculo Skeletal - Total admissions per 1000 population across secondary care - Activity"},"2011/12","00W",2360,null,162749,14.5,13.92,15.1,16.238994822661301,18.278450156391312,null,16.539000000000001,14.053999999999998,"","Y54","X24","11502011","Byar"]
[1150201,{"$f":"VLOOKUP(tblData[[#This Row],[Indicator ID]],'Similar 10 CCGs'!$A$6:$C$160,3,FALSE)","v":"Programme Budget - Musculo Skeletal - Total admissions per 1000 population across secondary care - Activity"},"2011/12","01V",3674,null,142209,25.84,25.01,26.68,16.238994822661301,18.278450156391312,null,18.076999999999998,16.234000000000002,"A","Y54","X24","11502011","Byar"]
[1150201,{"$f":"VLOOKUP(tblData[[#This Row],[Indicator ID]],'Similar 10 CCGs'!$A$6:$C$160,3,FALSE)","v":"Programme Budget - Musculo Skeletal - Total admissions per 1000 population across secondary care - Activity"},"2011/12","02T",3903,null,213979,18.239999999999998,17.670000000000002,18.82,16.238994822661301,18.278450156391312,null,17.172999999999998,15.01,"A","Y54","X24","11502011","Byar"]
[1150201,{"$f":"VLOOKUP(tblData[[#This Row],[Indicator ID]],'Similar 10 CCGs'!$A$6:$C$160,3,FALSE)","v":"Programme Budget - Musculo Skeletal - Total admissions per 1000 population across secondary care - Activity"},"2011/12","03M",2119,null,134114,15.8,15.13,16.489999999999998,16.238994822661301,18.278450156391312,null,16.678000000000004,14.725999999999999,"","Y54","X24","11502011","Byar"]
[1150201,{"$f":"VLOOKUP(tblData[[#This Row],[Indicator ID]],'Similar 10 CCGs'!$A$6:$C$160,3,FALSE)","v":"Programme Budget - Musculo Skeletal - Total admissions per 1000 population across secondary care - Activity"},"2011/12","04K",4206,null,288285,14.59,14.15,15.04,16.238994822661301,16.380896432415373,null,16.806000000000001,14.843999999999999,"","Y55","X24","11502011","Byar"]
[1150201,{"$f":"VLOOKUP(tblData[[#This Row],[Indicator ID]],'Similar 10 CCGs'!$A$6:$C$160,3,FALSE)","v":"Programme Budget - Musculo Skeletal - Total admissions per 1000 population across secondary care - Activity"},"2011/12","05J",2698,null,178577,15.11,14.54,15.69,16.238994822661301,16.380896432415373,null,19.241,16.212,"","Y55","X24","11502011","Byar"]
[1150201,{"$f":"VLOOKUP(tblData[[#This Row],[Indicator ID]],'Similar 10 CCGs'!$A$6:$C$160,3,FALSE)","v":"Programme Budget - Musculo Skeletal - Total admissions per 1000 population across secondary care - Activity"},"2011/12","06L",5539,null,416962,13.28,12.94,13.64,16.238994822661301,16.380896432415373,null,16.343,14.307999999999998,"C","Y55","X24","11502011","Byar"]
[1150201,{"$f":"VLOOKUP(tblData[[#This Row],[Indicator ID]],'Similar 10 CCGs'!$A$6:$C$160,3,FALSE)","v":"Programme Budget - Musculo Skeletal - Total admissions per 1000 population across secondary care - Activity"},"2011/12","07N",3817,null,230350,16.57,16.05,17.100000000000001,16.238994822661301,13.484124039473469,null,15.794,14.093999999999999,"B","Y56","X24","11502011","Byar"]
[1150201,{"$f":"VLOOKUP(tblData[[#This Row],[Indicator ID]],'Similar 10 CCGs'!$A$6:$C$160,3,FALSE)","v":"Programme Budget - Musculo Skeletal - Total admissions per 1000 population across secondary care - Activity"},"2011/12","08H",2681,null,178456,15.02,14.46,15.6,16.238994822661301,13.484124039473469,null,11.864999999999998,10.784000000000001,"A","Y56","X24","11502011","Byar"]
[1150201,{"$f":"VLOOKUP(tblData[[#This Row],[Indicator ID]],'Similar 10 CCGs'!$A$6:$C$160,3,FALSE)","v":"Programme Budget - Musculo Skeletal - Total admissions per 1000 population across secondary care - Activity"},"2011/12","09F",3915,null,214824,18.22,17.66,18.8,16.238994822661301,15.319685719592885,null,15.913999999999998,14.674000000000001,"A","Y57","X24","11502011","Byar"]
[1150201,{"$f":"VLOOKUP(tblData[[#This Row],[Indicator ID]],'Similar 10 CCGs'!$A$6:$C$160,3,FALSE)","v":"Programme Budget - Musculo Skeletal - Total admissions per 1000 population across secondary care - Activity"},"2011/12","10G",1742,null,130610,13.34,12.72,13.98,16.238994822661301,15.319685719592885,null,15.836000000000002,13.894,"","Y57","X24","11502011","Byar"]
[1150201,{"$f":"VLOOKUP(tblData[[#This Row],[Indicator ID]],'Similar 10 CCGs'!$A$6:$C$160,3,FALSE)","v":"Programme Budget - Musculo Skeletal - Total admissions per 1000 population across secondary care - Activity"},"2011/12","11D",2470,null,156708,15.76,15.15,16.399999999999999,16.238994822661301,15.319685719592885,null,14.854000000000003,12.3,"A","Y57","X24","11502011","Byar"]
[1150201,{"$f":"VLOOKUP(tblData[[#This Row],[Indicator ID]],'Similar 10 CCGs'!$A$6:$C$160,3,FALSE)","v":"Programme Budget - Musculo Skeletal - Total admissions per 1000 population across secondary care - Activity"},"2011/12","99E",4177,null,270041,15.47,15,15.94,16.238994822661301,16.380896432415373,null,15.768999999999997,14.696000000000002,"A","Y55","X24","11502011","Byar"]
[1150202,{"$f":"VLOOKUP(tblData[[#This Row],[Indicator ID]],'Similar 10 CCGs'!$A$6:$C$160,3,FALSE)","v":"Programme Budget - Musculo Skeletal - Total elective (IP + DC) admissions per 1000 population across secondary care - Activity"},"2011/12","00J",3884,null,256416,15.15,14.67,15.63,14.276463491634253,15.966958129649177,null,13.809000000000001,11.811999999999999,"B","Y54","X24","11502021","Byar"]
[1150202,{"$f":"VLOOKUP(tblData[[#This Row],[Indicator ID]],'Similar 10 CCGs'!$A$6:$C$160,3,FALSE)","v":"Programme Budget - Musculo Skeletal - Total elective (IP + DC) admissions per 1000 population across secondary care - Activity"},"2011/12","01E",4170,null,205352,20.309999999999999,19.690000000000001,20.93,14.276463491634253,15.966958129649177,null,16.038999999999998,13.77,"A","Y54","X24","11502021","Byar"]
[1150202,{"$f":"VLOOKUP(tblData[[#This Row],[Indicator ID]],'Similar 10 CCGs'!$A$6:$C$160,3,FALSE)","v":"Programme Budget - Musculo Skeletal - Total elective (IP + DC) admissions per 1000 population across secondary care - Activity"},"2011/12","02D",1325,null,106181,12.48,11.82,13.17,14.276463491634253,15.966958129649177,null,16.041,13.747999999999999,"","Y54","X24","11502021","Byar"]
[1150202,{"$f":"VLOOKUP(tblData[[#This Row],[Indicator ID]],'Similar 10 CCGs'!$A$6:$C$160,3,FALSE)","v":"Programme Budget - Musculo Skeletal - Total elective (IP + DC) admissions per 1000 population across secondary care - Activity"},"2011/12","03A",3529,null,239303,14.75,14.26,15.24,14.276463491634253,15.966958129649177,null,15.148000000000001,14.34,"B","Y54","X24","11502021","Byar"]
[1150202,{"$f":"VLOOKUP(tblData[[#This Row],[Indicator ID]],'Similar 10 CCGs'!$A$6:$C$160,3,FALSE)","v":"Programme Budget - Musculo Skeletal - Total elective (IP + DC) admissions per 1000 population across secondary care - Activity"},"2011/12","03W",4111,null,342735,11.99,11.63,12.37,14.276463491634253,14.559750305310844,null,13.462999999999999,12.404000000000002,"","Y55","X24","11502021","Byar"]
[1150202,{"$f":"VLOOKUP(tblData[[#This Row],[Indicator ID]],'Similar 10 CCGs'!$A$6:$C$160,3,FALSE)","v":"Programme Budget - Musculo Skeletal - Total elective (IP + DC) admissions per 1000 population across secondary care - Activity"},"2011/12","04R",9073,null,535030,16.96,16.61,17.309999999999999,14.276463491634253,14.559750305310844,null,13.316999999999998,11.712,"A","Y55","X24","11502021","Byar"]
[1150202,{"$f":"VLOOKUP(tblData[[#This Row],[Indicator ID]],'Similar 10 CCGs'!$A$6:$C$160,3,FALSE)","v":"Programme Budget - Musculo Skeletal - Total elective (IP + DC) admissions per 1000 population across secondary care - Activity"},"2011/12","05G",3381,null,232637,14.53,14.05,15.03,14.276463491634253,14.559750305310844,null,16.166000000000004,14.01,"","Y55","X24","11502021","Byar"]
[1150202,{"$f":"VLOOKUP(tblData[[#This Row],[Indicator ID]],'Similar 10 CCGs'!$A$6:$C$160,3,FALSE)","v":"Programme Budget - Musculo Skeletal - Total elective (IP + DC) admissions per 1000 population across secondary care - Activity"},"2011/12","06V",2479,null,206933,11.98,11.51,12.46,14.276463491634253,14.559750305310844,null,15.120000000000001,13.144,"C","Y55","X24","11502021","Byar"]
[1150202,{"$f":"VLOOKUP(tblData[[#This Row],[Indicator ID]],'Similar 10 CCGs'!$A$6:$C$160,3,FALSE)","v":"Programme Budget - Musculo Skeletal - Total elective (IP + DC) admissions per 1000 population across secondary care - Activity"},"2011/12","07W",3649,null,337100,10.82,10.48,11.18,14.276463491634253,11.455384761222478,null,12.865,11.016000000000002,"","Y56","X24","11502021","Byar"]
[1150202,{"$f":"VLOOKUP(tblData[[#This Row],[Indicator ID]],'Similar 10 CCGs'!$A$6:$C$160,3,FALSE)","v":"Programme Budget - Musculo Skeletal - Total elective (IP + DC) admissions per 1000 population across secondary care - Activity"},"2011/12","08Q",2316,null,258890,8.9499999999999993,8.59,9.32,14.276463491634253,11.455384761222478,null,11.029,9.0779999999999994,"","Y56","X24","11502021","Byar"]
[1150202,{"$f":"VLOOKUP(tblData[[#This Row],[Indicator ID]],'Similar 10 CCGs'!$A$6:$C$160,3,FALSE)","v":"Programme Budget - Musculo Skeletal - Total elective (IP + DC) admissions per 1000 population across secondary care - Activity"},"2011/12","09L",2042,null,175526,11.63,11.13,12.15,14.276463491634253,13.602812792083132,null,13.38,12.612,"C","Y57","X24","11502021","Byar"]
[1150202,{"$f":"VLOOKUP(tblData[[#This Row],[Indicator ID]],'Similar 10 CCGs'!$A$6:$C$160,3,FALSE)","v":"Programme Budget - Musculo Skeletal - Total elective (IP + DC) admissions per 1000 population across secondary care - Activity"},"2011/12","10M",1634,null,113741,14.37,13.68,15.08,14.276463491634253,13.602812792083132,null,13.840999999999999,12.79,"B","Y57","X24","11502021","Byar"]
[1150202,{"$f":"VLOOKUP(tblData[[#This Row],[Indicator ID]],'Similar 10 CCGs'!$A$6:$C$160,3,FALSE)","v":"Programme Budget - Musculo Skeletal - Total elective (IP + DC) admissions per 1000 population across secondary care - Activity"},"2011/12","11N",8611,null,628084,13.71,13.42,14,14.276463491634253,13.602812792083132,null,14.349000000000004,12.417999999999999,"","Y57","X24","11502021","Byar"]
[1150202,{"$f":"VLOOKUP(tblData[[#This Row],[Indicator ID]],'Similar 10 CCGs'!$A$6:$C$160,3,FALSE)","v":"Programme Budget - Musculo Skeletal - Total elective (IP + DC) admissions per 1000 population across secondary care - Activity"},"2011/12","99K",3338,null,183704,18.170000000000002,17.559999999999999,18.8,14.276463491634253,13.602812792083132,null,13.907999999999998,12.597999999999999,"A","Y57","X24","11502021","Byar"]
[1150203,{"$f":"VLOOKUP(tblData[[#This Row],[Indicator ID]],'Similar 10 CCGs'!$A$6:$C$160,3,FALSE)","v":"Programme Budget - Musculo Skeletal - Non-elective (EM + ONEL) admissions per 1000 population across secondary care - Activity"},"2011/12","00Q",460,null,156309,2.94,2.68,3.22,1.9680434286911386,2.3172463037873365,null,2.2170000000000001,1.8259999999999998,"A","Y54","X24","11502031","Byar"]
[1150203,{"$f":"VLOOKUP(tblData[[#This Row],[Indicator ID]],'Similar 10 CCGs'!$A$6:$C$160,3,FALSE)","v":"Programme Budget - Musculo Skeletal - Non-elective (EM + ONEL) admissions per 1000 population across secondary care - Activity"},"2011/12","01H",1251,null,595771,2.1,1.99,2.2200000000000002,1.9680434286911386,2.3172463037873365,null,1.8350000000000002,1.3619999999999999,"A","Y54","X24","11502031","Byar"]
[1150203,{"$f":"VLOOKUP(tblData[[#This Row],[Indicator ID]],'Similar 10 CCGs'!$A$6:$C$160,3,FALSE)","v":"Programme Budget - Musculo Skeletal - Non-elective (EM + ONEL) admissions per 1000 population across secondary care - Activity"},"2011/12","02N",258,null,168793,1.53,1.35,1.73,1.9680434286911386,2.3172463037873365,null,1.9770000000000003,1.4319999999999999,"","Y54","X24","11502031","Byar"]
[1150203,{"$f":"VLOOKUP(tblData[[#This Row],[Indicator ID]],'Similar 10 CCGs'!$A$6:$C$160,3,FALSE)","v":"Programme Budget - Musculo Skeletal - Non-elective (EM + ONEL) admissions per 1000 population across secondary care - Activity"},"2011/12","03J",283,null,174786,1.62,1.44,1.82,1.9680434286911386,2.3172463037873365,null,2.3780000000000001,1.8759999999999999,"C","Y54","X24","11502031","Byar"]
[1150203,{"$f":"VLOOKUP(tblData[[#This Row],[Indicator ID]],'Similar 10 CCGs'!$A$6:$C$160,3,FALSE)","v":"Programme Budget - Musculo Skeletal - Non-elective (EM + ONEL) admissions per 1000 population across secondary care - Activity"},"2011/12","04F",416,null,229719,1.81,1.64,1.99,1.9680434286911386,1.8295859742614491,null,1.8099999999999998,1.5799999999999996,"B","Y55","X24","11502031","Byar"]
[1150203,{"$f":"VLOOKUP(tblData[[#This Row],[Indicator ID]],'Similar 10 CCGs'!$A$6:$C$160,3,FALSE)","v":"Programme Budget - Musculo Skeletal - Non-elective (EM + ONEL) admissions per 1000 population across secondary care - Activity"},"2011/12","05F",318,null,209743,1.52,1.35,1.69,1.9680434286911386,1.8295859742614491,null,1.9810000000000003,1.43,"","Y55","X24","11502031","Byar"]
[1150203,{"$f":"VLOOKUP(tblData[[#This Row],[Indicator ID]],'Similar 10 CCGs'!$A$6:$C$160,3,FALSE)","v":"Programme Budget - Musculo Skeletal - Non-elective (EM + ONEL) admissions per 1000 population across secondary care - Activity"},"2011/12","06D",131,null,124847,1.05,0.88,1.25,1.9680434286911386,1.8295859742614491,null,1.9679999999999995,1.5180000000000002,"C","Y55","X24","11502031","Byar"]
[1150203,{"$f":"VLOOKUP(tblData[[#This Row],[Indicator ID]],'Similar 10 CCGs'!$A$6:$C$160,3,FALSE)","v":"Programme Budget - Musculo Skeletal - Non-elective (EM + ONEL) admissions per 1000 population across secondary care - Activity"},"2011/12","07J",688,null,197259,3.49,3.23,3.76,1.9680434286911386,1.8295859742614491,null,1.8150000000000002,1.31,"A","Y55","X24","11502031","Byar"]
[1150203,{"$f":"VLOOKUP(tblData[[#This Row],[Indicator ID]],'Similar 10 CCGs'!$A$6:$C$160,3,FALSE)","v":"Programme Budget - Musculo Skeletal - Non-elective (EM + ONEL) admissions per 1000 population across secondary care - Activity"},"2011/12","07K",636,null,259682,2.4500000000000002,2.2599999999999998,2.65,1.9680434286911386,1.8295859742614491,null,1.6490000000000002,1.35,"A","Y55","X24","11502031","Byar"]
[1150203,{"$f":"VLOOKUP(tblData[[#This Row],[Indicator ID]],'Similar 10 CCGs'!$A$6:$C$160,3,FALSE)","v":"Programme Budget - Musculo Skeletal - Non-elective (EM + ONEL) admissions per 1000 population across secondary care - Activity"},"2011/12","08E",578,null,223227,2.59,2.38,2.81,1.9680434286911386,2.0434353833677892,null,2.0580000000000003,1.7079999999999997,"A","Y56","X24","11502031","Byar"]
[1150203,{"$f":"VLOOKUP(tblData[[#This Row],[Indicator ID]],'Similar 10 CCGs'!$A$6:$C$160,3,FALSE)","v":"Programme Budget - Musculo Skeletal - Non-elective (EM + ONEL) admissions per 1000 population across secondary care - Activity"},"2011/12","08X",555,null,286649,1.94,1.78,2.1,1.9680434286911386,2.0434353833677892,null,2.113,1.7400000000000002,"B","Y56","X24","11502031","Byar"]
[1150203,{"$f":"VLOOKUP(tblData[[#This Row],[Indicator ID]],'Similar 10 CCGs'!$A$6:$C$160,3,FALSE)","v":"Programme Budget - Musculo Skeletal - Non-elective (EM + ONEL) admissions per 1000 population across secondary care - Activity"},"2011/12","10E",465,null,158306,2.94,2.68,3.22,1.9680434286911386,1.7184868256892565,null,2.3079999999999998,1.998,"A","Y57","X24","11502031","Byar"]
[1150203,{"$f":"VLOOKUP(tblData[[#This Row],[Indicator ID]],'Similar 10 CCGs'!$A$6:$C$160,3,FALSE)","v":"Programme Budget - Musculo Skeletal - Non-elective (EM + ONEL) admissions per 1000 population across secondary care - Activity"},"2011/12","10X",534,null,239707,2.23,2.04,2.42,1.9680434286911386,1.7184868256892565,null,2.0089999999999999,1.6579999999999999,"A","Y57","X24","11502031","Byar"]
[1150203,{"$f":"VLOOKUP(tblData[[#This Row],[Indicator ID]],'Similar 10 CCGs'!$A$6:$C$160,3,FALSE)","v":"Programme Budget - Musculo Skeletal - Non-elective (EM + ONEL) admissions per 1000 population across secondary care - Activity"},"2011/12","99A",1136,null,462933,2.4500000000000002,2.31,2.6,1.9680434286911386,2.3172463037873365,null,2.3510000000000004,1.714,"B","Y54","X24","11502031","Byar"]
[1150311,{"$f":"VLOOKUP(tblData[[#This Row],[Indicator ID]],'Similar 10 CCGs'!$A$6:$C$160,3,FALSE)","v":"Hip replacement, EQ-5D, Health Gain (Provisional 2011/12)"},"2011/12","00F",569.4,null,156,0.36499999999999999,0.33168533760085162,0.39831466239914837,4158.5531259624267,4178.2489725286605,null,0.42090000000000005,0.44619999999999999,"A","Y54","X24","11503111","Byar"]
[1150311,{"$f":"VLOOKUP(tblData[[#This Row],[Indicator ID]],'Similar 10 CCGs'!$A$6:$C$160,3,FALSE)","v":"Hip replacement, EQ-5D, Health Gain (Provisional 2011/12)"},"2011/12","00Y",389.76,null,84,0.46400000000000002,0.40628573239038474,0.52171426760961526,4158.5531259624267,4178.2489725286605,null,0.4284,0.4708,"B","Y54","X24","11503111","Byar"]
[1150311,{"$f":"VLOOKUP(tblData[[#This Row],[Indicator ID]],'Similar 10 CCGs'!$A$6:$C$160,3,FALSE)","v":"Hip replacement, EQ-5D, Health Gain (Provisional 2011/12)"},"2011/12","01X",639.36,null,148,0.432,0.39151839336592881,0.47248160663407124,4158.5531259624267,4178.2489725286605,null,0.43120000000000003,0.45319999999999999,"B","Y54","X24","11503111","Byar"]
[1150311,{"$f":"VLOOKUP(tblData[[#This Row],[Indicator ID]],'Similar 10 CCGs'!$A$6:$C$160,3,FALSE)","v":"Hip replacement, EQ-5D, Health Gain (Provisional 2011/12)"},"2011/12","02W",28.699999999999996,null,7,0.41,0.23333940531548722,0.5866605946845127,4158.5531259624267,4178.2489725286605,null,0.42300000000000004,0.45700000000000002,"B","Y54","X24","11503111","Byar"]
[1150311,{"$f":"VLOOKUP(tblData[[#This Row],[Indicator ID]],'Similar 10 CCGs'!$A$6:$C$160,3,FALSE)","v":"Hip replacement, EQ-5D, Health Gain (Provisional 2011/12)"},"2011/12","03R",807.04,null,194,0.41599999999999998,0.38195155228571237,0.45004844771428765,4158.5531259624267,4178.2489725286605,null,0.43450000000000005,0.45099999999999996,"B","Y54","X24","11503111","Byar"]
[1150311,{"$f":"VLOOKUP(tblData[[#This Row],[Indicator ID]],'Similar 10 CCGs'!$A$6:$C$160,3,FALSE)","v":"Hip replacement, EQ-5D, Health Gain (Provisional 2011/12)"},"2011/12","04M",247.79999999999998,null,60,0.41299999999999998,0.35221739936462082,0.47378260063537914,4158.5531259624267,4267.7571415103257,null,0.41350000000000009,0.43659999999999999,"B","Y55","X24","11503111","Byar"]
[1150311,{"$f":"VLOOKUP(tblData[[#This Row],[Indicator ID]],'Similar 10 CCGs'!$A$6:$C$160,3,FALSE)","v":"Hip replacement, EQ-5D, Health Gain (Provisional 2011/12)"},"2011/12","05N",1371.72,null,322,0.42599999999999999,0.39893634088449059,0.45306365911550939,4158.5531259624267,4267.7571415103257,null,0.41839999999999999,0.44900000000000001,"B","Y55","X24","11503111","Byar"]
[1150311,{"$f":"VLOOKUP(tblData[[#This Row],[Indicator ID]],'Similar 10 CCGs'!$A$6:$C$160,3,FALSE)","v":"Hip replacement, EQ-5D, Health Gain (Provisional 2011/12)"},"2011/12","07J",530.64,null,132,0.40200000000000002,0.36211184591431139,0.44188815408568866,4158.5531259624267,4267.7571415103257,null,0.4037,0.43319999999999997,"B","Y55","X24","11503111","Byar"]
[1150311,{"$f":"VLOOKUP(tblData[[#This Row],[Indicator ID]],'Similar 10 CCGs'!$A$6:$C$160,3,FALSE)","v":"Hip replacement, EQ-5D, Health Gain (Provisional 2011/12)"},"2011/12","07R",143.04,null,48,0.29799999999999999,0.24896564163772508,0.34703435836227486,4158.5531259624267,3945.7885304659508,null,0.38410000000000005,0.41960000000000008,"A","Y56","X24","11503111","Byar"]
[1150311,{"$f":"VLOOKUP(tblData[[#This Row],[Indicator ID]],'Similar 10 CCGs'!$A$6:$C$160,3,FALSE)","v":"Hip replacement, EQ-5D, Health Gain (Provisional 2011/12)"},"2011/12","08L",274.06,null,71,0.38600000000000001,0.33377685991283768,0.43822314008716229,4158.5531259624267,3945.7885304659508,null,0.39200000000000002,0.42420000000000002,"B","Y56","X24","11503111","Byar"]
[1150311,{"$f":"VLOOKUP(tblData[[#This Row],[Indicator ID]],'Similar 10 CCGs'!$A$6:$C$160,3,FALSE)","v":"Hip replacement, EQ-5D, Health Gain (Provisional 2011/12)"},"2011/12","09G",1568.16,null,363,0.432,0.40615150358449936,0.45784849641550057,4158.5531259624267,4075.2075108329332,null,0.40259999999999996,0.42880000000000001,"B","Y57","X24","11503111","Byar"]
[1150311,{"$f":"VLOOKUP(tblData[[#This Row],[Indicator ID]],'Similar 10 CCGs'!$A$6:$C$160,3,FALSE)","v":"Hip replacement, EQ-5D, Health Gain (Provisional 2011/12)"},"2011/12","10J",574.62,null,157,0.36599999999999999,0.33270062283247293,0.39929937716752711,4158.5531259624267,4075.2075108329332,null,0.40800000000000003,0.44640000000000002,"A","Y57","X24","11503111","Byar"]
[1150311,{"$f":"VLOOKUP(tblData[[#This Row],[Indicator ID]],'Similar 10 CCGs'!$A$6:$C$160,3,FALSE)","v":"Hip replacement, EQ-5D, Health Gain (Provisional 2011/12)"},"2011/12","11H",708.1099999999999,null,169,0.41899999999999998,0.38225692307692305,0.45574307692307692,4158.5531259624267,4075.2075108329332,null,0.42420000000000002,0.45240000000000002,"B","Y57","X24","11503111","Byar"]
[1150311,{"$f":"VLOOKUP(tblData[[#This Row],[Indicator ID]],'Similar 10 CCGs'!$A$6:$C$160,3,FALSE)","v":"Hip replacement, EQ-5D, Health Gain (Provisional 2011/12)"},"2011/12","99G",324,null,81,0.4,0.34933333333333333,0.45066666666666672,4158.5531259624267,4267.7571415103257,null,0.44089999999999996,0.46660000000000001,"B","Y55","X24","11503111","Byar"]
[1150312,{"$f":"VLOOKUP(tblData[[#This Row],[Indicator ID]],'Similar 10 CCGs'!$A$6:$C$160,3,FALSE)","v":"Knee replacement, EQ-5D, Health Gain (Provisional 2011/12)"},"2011/12","00L",561.6,null,208,0.27,0.24865790995023432,0.29134209004976569,3025.6516880367012,3119.1328818086431,null,0.29420000000000002,0.314,"A","Y54","X24","11503121","Byar"]
[1150312,{"$f":"VLOOKUP(tblData[[#This Row],[Indicator ID]],'Similar 10 CCGs'!$A$6:$C$160,3,FALSE)","v":"Knee replacement, EQ-5D, Health Gain (Provisional 2011/12)"},"2011/12","01G",368.00000000000006,null,115,0.32,0.28598222459539335,0.35401777540460666,3025.6516880367012,3119.1328818086431,null,0.3246,0.3422,"B","Y54","X24","11503121","Byar"]
[1150312,{"$f":"VLOOKUP(tblData[[#This Row],[Indicator ID]],'Similar 10 CCGs'!$A$6:$C$160,3,FALSE)","v":"Knee replacement, EQ-5D, Health Gain (Provisional 2011/12)"},"2011/12","02F",627.66,null,198,0.317,0.29131784170780317,0.34268215829219684,3025.6516880367012,3119.1328818086431,null,0.30049999999999999,0.32519999999999999,"B","Y54","X24","11503121","Byar"]
[1150312,{"$f":"VLOOKUP(tblData[[#This Row],[Indicator ID]],'Similar 10 CCGs'!$A$6:$C$160,3,FALSE)","v":"Knee replacement, EQ-5D, Health Gain (Provisional 2011/12)"},"2011/12","03D",491.4,null,180,0.27300000000000002,0.24980303080141719,0.29619696919858285,3025.6516880367012,3119.1328818086431,null,0.2893,0.30759999999999998,"B","Y54","X24","11503121","Byar"]
[1150312,{"$f":"VLOOKUP(tblData[[#This Row],[Indicator ID]],'Similar 10 CCGs'!$A$6:$C$160,3,FALSE)","v":"Knee replacement, EQ-5D, Health Gain (Provisional 2011/12)"},"2011/12","04C",642.45999999999992,null,182,0.35299999999999998,0.32317064499892395,0.38282935500107601,3025.6516880367012,3134.9513338139882,null,0.31559999999999999,0.35340000000000005,"","Y55","X24","11503121","Byar"]
[1150312,{"$f":"VLOOKUP(tblData[[#This Row],[Indicator ID]],'Similar 10 CCGs'!$A$6:$C$160,3,FALSE)","v":"Knee replacement, EQ-5D, Health Gain (Provisional 2011/12)"},"2011/12","04Y",281.05,null,73,0.38500000000000001,0.3336306404956183,0.43636935950438172,3025.6516880367012,3134.9513338139882,null,0.30960000000000004,0.33199999999999996,"","Y55","X24","11503121","Byar"]
[1150312,{"$f":"VLOOKUP(tblData[[#This Row],[Indicator ID]],'Similar 10 CCGs'!$A$6:$C$160,3,FALSE)","v":"Knee replacement, EQ-5D, Health Gain (Provisional 2011/12)"},"2011/12","05X",416.28999999999996,null,133,0.313,0.28205978206744037,0.34394021793255963,3025.6516880367012,3134.9513338139882,null,0.31920000000000004,0.34239999999999998,"B","Y55","X24","11503121","Byar"]
[1150312,{"$f":"VLOOKUP(tblData[[#This Row],[Indicator ID]],'Similar 10 CCGs'!$A$6:$C$160,3,FALSE)","v":"Knee replacement, EQ-5D, Health Gain (Provisional 2011/12)"},"2011/12","06Y",408.94,null,161,0.254,0.23117947507694062,0.27682052492305942,3025.6516880367012,3134.9513338139882,null,0.28710000000000002,0.30219999999999997,"A","Y55","X24","11503121","Byar"]
[1150312,{"$f":"VLOOKUP(tblData[[#This Row],[Indicator ID]],'Similar 10 CCGs'!$A$6:$C$160,3,FALSE)","v":"Knee replacement, EQ-5D, Health Gain (Provisional 2011/12)"},"2011/12","07Y",215.8,null,65,0.33200000000000002,0.28505533365267643,0.37894466634732366,3025.6516880367012,2726.5202574782279,null,0.2944,0.34860000000000002,"","Y56","X24","11503121","Byar"]
[1150312,{"$f":"VLOOKUP(tblData[[#This Row],[Indicator ID]],'Similar 10 CCGs'!$A$6:$C$160,3,FALSE)","v":"Knee replacement, EQ-5D, Health Gain (Provisional 2011/12)"},"2011/12","08T",318.57,null,123,0.25900000000000001,0.2323773023668094,0.28562269763319059,3025.6516880367012,2726.5202574782279,null,0.25949999999999995,0.28620000000000001,"B","Y56","X24","11503121","Byar"]
[1150312,{"$f":"VLOOKUP(tblData[[#This Row],[Indicator ID]],'Similar 10 CCGs'!$A$6:$C$160,3,FALSE)","v":"Knee replacement, EQ-5D, Health Gain (Provisional 2011/12)"},"2011/12","09P",727.89999999999986,null,251,0.28999999999999998,0.2691327130335866,0.3108672869664133,3025.6516880367012,2882.2802534750622,null,0.28830000000000006,0.30679999999999996,"B","Y57","X24","11503121","Byar"]
[1150312,{"$f":"VLOOKUP(tblData[[#This Row],[Indicator ID]],'Similar 10 CCGs'!$A$6:$C$160,3,FALSE)","v":"Knee replacement, EQ-5D, Health Gain (Provisional 2011/12)"},"2011/12","10R",333.76,null,112,0.29799999999999999,0.26589947730732633,0.33010052269267365,3025.6516880367012,2882.2802534750622,null,0.27999999999999997,0.30979999999999996,"B","Y57","X24","11503121","Byar"]
[1150312,{"$f":"VLOOKUP(tblData[[#This Row],[Indicator ID]],'Similar 10 CCGs'!$A$6:$C$160,3,FALSE)","v":"Knee replacement, EQ-5D, Health Gain (Provisional 2011/12)"},"2011/12","10X",401.92,null,128,0.314,0.2823605070758079,0.34563949292419205,3025.6516880367012,2882.2802534750622,null,0.27910000000000001,0.30840000000000001,"B","Y57","X24","11503121","Byar"]
[1150312,{"$f":"VLOOKUP(tblData[[#This Row],[Indicator ID]],'Similar 10 CCGs'!$A$6:$C$160,3,FALSE)","v":"Knee replacement, EQ-5D, Health Gain (Provisional 2011/12)"},"2011/12","99P",2578.8000000000002,null,840,0.307,0.29492454277706814,0.31907545722293185,3025.6516880367012,2882.2802534750622,null,0.3054,0.32800000000000001,"B","Y57","X24","11503121","Byar"]
[1150313,{"$f":"VLOOKUP(tblData[[#This Row],[Indicator ID]],'Similar 10 CCGs'!$A$6:$C$160,3,FALSE)","v":"Hip replacement, Oxford score, Health Gain (Provisional 2011/12)"},"2011/12","00V",1689.9960000000001,null,66,25.606000000000002,22.012855981460856,29.199144018539148,20088.236625114518,20161.840062720501,null,20.190100000000001,20.8504,"C","Y54","X24","11503131","Byar"]
[1150313,{"$f":"VLOOKUP(tblData[[#This Row],[Indicator ID]],'Similar 10 CCGs'!$A$6:$C$160,3,FALSE)","v":"Hip replacement, Oxford score, Health Gain (Provisional 2011/12)"},"2011/12","01R",3531.9849999999997,null,155,22.786999999999999,20.700462691362056,24.873537308637939,20088.236625114518,20161.840062720501,null,20.747300000000003,21.166800000000002,"B","Y54","X24","11503131","Byar"]
[1150313,{"$f":"VLOOKUP(tblData[[#This Row],[Indicator ID]],'Similar 10 CCGs'!$A$6:$C$160,3,FALSE)","v":"Hip replacement, Oxford score, Health Gain (Provisional 2011/12)"},"2011/12","02Q",1789.0320000000002,null,92,19.446000000000002,17.13478036142029,21.757219638579713,20088.236625114518,20161.840062720501,null,20.004200000000001,20.846400000000003,"B","Y54","X24","11503131","Byar"]
[1150313,{"$f":"VLOOKUP(tblData[[#This Row],[Indicator ID]],'Similar 10 CCGs'!$A$6:$C$160,3,FALSE)","v":"Hip replacement, Oxford score, Health Gain (Provisional 2011/12)"},"2011/12","03L",3278.0430000000001,null,167,19.629000000000001,17.897411109618968,21.360588890381035,20088.236625114518,20161.840062720501,null,19.978299999999997,20.906200000000002,"B","Y54","X24","11503131","Byar"]
[1150313,{"$f":"VLOOKUP(tblData[[#This Row],[Indicator ID]],'Similar 10 CCGs'!$A$6:$C$160,3,FALSE)","v":"Hip replacement, Oxford score, Health Gain (Provisional 2011/12)"},"2011/12","04H",1919.008,null,91,21.088000000000001,18.567889707405733,23.608110292594269,20088.236625114518,20295.487827635927,null,21.002899999999997,22.0456,"B","Y55","X24","11503131","Byar"]
[1150313,{"$f":"VLOOKUP(tblData[[#This Row],[Indicator ID]],'Similar 10 CCGs'!$A$6:$C$160,3,FALSE)","v":"Hip replacement, Oxford score, Health Gain (Provisional 2011/12)"},"2011/12","04J",6426.8559999999998,null,332,19.358000000000001,18.146854569418156,20.569145430581845,20088.236625114518,20295.487827635927,null,21.380000000000003,22.218599999999999,"A","Y55","X24","11503131","Byar"]
[1150313,{"$f":"VLOOKUP(tblData[[#This Row],[Indicator ID]],'Similar 10 CCGs'!$A$6:$C$160,3,FALSE)","v":"Hip replacement, Oxford score, Health Gain (Provisional 2011/12)"},"2011/12","05H",3379.9680000000003,null,162,20.864000000000001,18.995277054861024,22.732722945138978,20088.236625114518,20295.487827635927,null,20.420799999999996,21.2348,"B","Y55","X24","11503131","Byar"]
[1150313,{"$f":"VLOOKUP(tblData[[#This Row],[Indicator ID]],'Similar 10 CCGs'!$A$6:$C$160,3,FALSE)","v":"Hip replacement, Oxford score, Health Gain (Provisional 2011/12)"},"2011/12","06H",9260.107,null,461,20.087,19.020478860020788,21.153521139979212,20088.236625114518,20295.487827635927,null,20.738900000000001,21.285400000000003,"B","Y55","X24","11503131","Byar"]
[1150313,{"$f":"VLOOKUP(tblData[[#This Row],[Indicator ID]],'Similar 10 CCGs'!$A$6:$C$160,3,FALSE)","v":"Hip replacement, Oxford score, Health Gain (Provisional 2011/12)"},"2011/12","08A",1620,null,90,18,15.837002080444829,20.162997919555174,20088.236625114518,18648.939165009946,null,18.484000000000002,19.608999999999998,"B","Y56","X24","11503131","Byar"]
[1150313,{"$f":"VLOOKUP(tblData[[#This Row],[Indicator ID]],'Similar 10 CCGs'!$A$6:$C$160,3,FALSE)","v":"Hip replacement, Oxford score, Health Gain (Provisional 2011/12)"},"2011/12","08H",552.98099999999999,null,39,14.179,11.590678914205343,16.767321085794656,20088.236625114518,18648.939165009946,null,18.0336,19.272600000000001,"A","Y56","X24","11503131","Byar"]
[1150313,{"$f":"VLOOKUP(tblData[[#This Row],[Indicator ID]],'Similar 10 CCGs'!$A$6:$C$160,3,FALSE)","v":"Hip replacement, Oxford score, Health Gain (Provisional 2011/12)"},"2011/12","09D",2949.0699999999997,null,158,18.664999999999999,16.972205255158038,20.357794744841961,20088.236625114518,20125.201198853276,null,20.072799999999997,20.554200000000002,"B","Y57","X24","11503131","Byar"]
[1150313,{"$f":"VLOOKUP(tblData[[#This Row],[Indicator ID]],'Similar 10 CCGs'!$A$6:$C$160,3,FALSE)","v":"Hip replacement, Oxford score, Health Gain (Provisional 2011/12)"},"2011/12","10E",2093,null,100,20.93,18.543980000000001,23.316019999999998,20088.236625114518,20125.201198853276,null,19.969699999999996,20.649799999999999,"B","Y57","X24","11503131","Byar"]
[1150313,{"$f":"VLOOKUP(tblData[[#This Row],[Indicator ID]],'Similar 10 CCGs'!$A$6:$C$160,3,FALSE)","v":"Hip replacement, Oxford score, Health Gain (Provisional 2011/12)"},"2011/12","11A",8770.780999999999,null,439,19.978999999999999,18.891957965280376,21.066042034719626,20088.236625114518,20125.201198853276,null,21.057200000000002,21.809199999999997,"B","Y57","X24","11503131","Byar"]
[1150313,{"$f":"VLOOKUP(tblData[[#This Row],[Indicator ID]],'Similar 10 CCGs'!$A$6:$C$160,3,FALSE)","v":"Hip replacement, Oxford score, Health Gain (Provisional 2011/12)"},"2011/12","99D",2617.9720000000002,null,133,19.684000000000001,17.738226039027143,21.629773960972859,20088.236625114518,20295.487827635927,null,20.409399999999998,21.550000000000004,"B","Y55","X24","11503131","Byar"]
[1150314,{"$f":"VLOOKUP(tblData[[#This Row],[Indicator ID]],'Similar 10 CCGs'!$A$6:$C$160,3,FALSE)","v":"Knee replacement, Oxford score, Health Gain (Provisional 2011/12)"},"2011/12","00H",1839.979,null,113,16.283000000000001,14.536775599412529,18.029224400587474,15168.712596512074,15557.38014931928,null,15.5221,16.6218,"B","Y54","X24","11503141","Byar"]
[1150314,{"$f":"VLOOKUP(tblData[[#This Row],[Indicator ID]],'Similar 10 CCGs'!$A$6:$C$160,3,FALSE)","v":"Knee replacement, Oxford score, Health Gain (Provisional 2011/12)"},"2011/12","01C",2348,null,125,18.783999999999999,16.868695079445363,20.699304920554635,15168.712596512074,15557.38014931928,null,15.772200000000002,16.458000000000002,"C","Y54","X24","11503141","Byar"]
[1150314,{"$f":"VLOOKUP(tblData[[#This Row],[Indicator ID]],'Similar 10 CCGs'!$A$6:$C$160,3,FALSE)","v":"Knee replacement, Oxford score, Health Gain (Provisional 2011/12)"},"2011/12","02A",2231.0460000000003,null,153,14.582000000000001,13.238071295973674,15.925928704026328,15168.712596512074,15557.38014931928,null,15.422599999999999,16.633800000000001,"B","Y54","X24","11503141","Byar"]
[1150314,{"$f":"VLOOKUP(tblData[[#This Row],[Indicator ID]],'Similar 10 CCGs'!$A$6:$C$160,3,FALSE)","v":"Knee replacement, Oxford score, Health Gain (Provisional 2011/12)"},"2011/12","02Y",5610.1369999999997,null,377,14.881,14.007292038976733,15.754707961023268,15168.712596512074,15557.38014931928,null,15.120900000000001,15.887600000000001,"B","Y54","X24","11503141","Byar"]
[1150314,{"$f":"VLOOKUP(tblData[[#This Row],[Indicator ID]],'Similar 10 CCGs'!$A$6:$C$160,3,FALSE)","v":"Knee replacement, Oxford score, Health Gain (Provisional 2011/12)"},"2011/12","03V",254,null,16,15.875,11.350625000000001,20.399374999999999,15168.712596512074,15245.35095798043,null,15.3118,16.422799999999999,"B","Y55","X24","11503141","Byar"]
[1150314,{"$f":"VLOOKUP(tblData[[#This Row],[Indicator ID]],'Similar 10 CCGs'!$A$6:$C$160,3,FALSE)","v":"Knee replacement, Oxford score, Health Gain (Provisional 2011/12)"},"2011/12","04R",7386.1320000000005,null,452,16.341000000000001,15.464777776515389,17.217222223484615,15168.712596512074,15245.35095798043,null,16.088100000000001,16.570999999999998,"B","Y55","X24","11503141","Byar"]
[1150314,{"$f":"VLOOKUP(tblData[[#This Row],[Indicator ID]],'Similar 10 CCGs'!$A$6:$C$160,3,FALSE)","v":"Knee replacement, Oxford score, Health Gain (Provisional 2011/12)"},"2011/12","05R",3421.0309999999999,null,229,14.939,13.813595525769362,16.064404474230638,15168.712596512074,15245.35095798043,null,15.334200000000001,16.304400000000001,"A","Y55","X24","11503141","Byar"]
[1150314,{"$f":"VLOOKUP(tblData[[#This Row],[Indicator ID]],'Similar 10 CCGs'!$A$6:$C$160,3,FALSE)","v":"Knee replacement, Oxford score, Health Gain (Provisional 2011/12)"},"2011/12","06T",4593.0320000000002,null,296,15.516999999999999,14.488825672078928,16.545174327921071,15168.712596512074,15245.35095798043,null,15.731999999999999,16.736799999999999,"B","Y55","X24","11503141","Byar"]
[1150314,{"$f":"VLOOKUP(tblData[[#This Row],[Indicator ID]],'Similar 10 CCGs'!$A$6:$C$160,3,FALSE)","v":"Knee replacement, Oxford score, Health Gain (Provisional 2011/12)"},"2011/12","07V",2995.1020000000003,null,218,13.739000000000001,12.678204355100995,14.799795644899008,15168.712596512074,13189.453767123288,null,13.394400000000001,13.992000000000001,"B","Y56","X24","11503141","Byar"]
[1150314,{"$f":"VLOOKUP(tblData[[#This Row],[Indicator ID]],'Similar 10 CCGs'!$A$6:$C$160,3,FALSE)","v":"Knee replacement, Oxford score, Health Gain (Provisional 2011/12)"},"2011/12","08N",1320.048,null,103,12.816000000000001,11.376410276699293,14.255589723300709,15168.712596512074,13189.453767123288,null,13.357800000000001,14.170199999999999,"B","Y56","X24","11503141","Byar"]
[1150314,{"$f":"VLOOKUP(tblData[[#This Row],[Indicator ID]],'Similar 10 CCGs'!$A$6:$C$160,3,FALSE)","v":"Knee replacement, Oxford score, Health Gain (Provisional 2011/12)"},"2011/12","09J",2807.06,null,178,15.77,14.422506920157019,17.11749307984298,15168.712596512074,15208.657431921327,null,14.975400000000002,15.4976,"B","Y57","X24","11503141","Byar"]
[1150314,{"$f":"VLOOKUP(tblData[[#This Row],[Indicator ID]],'Similar 10 CCGs'!$A$6:$C$160,3,FALSE)","v":"Knee replacement, Oxford score, Health Gain (Provisional 2011/12)"},"2011/12","10L",2701.9140000000002,null,173,15.618,14.264347410903511,16.97165258909649,15168.712596512074,15208.657431921327,null,14.809299999999999,15.306000000000001,"B","Y57","X24","11503141","Byar"]
[1150314,{"$f":"VLOOKUP(tblData[[#This Row],[Indicator ID]],'Similar 10 CCGs'!$A$6:$C$160,3,FALSE)","v":"Knee replacement, Oxford score, Health Gain (Provisional 2011/12)"},"2011/12","11M",6173.1,null,380,16.245000000000001,15.294979955211472,17.195020044788532,15168.712596512074,15208.657431921327,null,15.961999999999998,16.543200000000002,"B","Y57","X24","11503141","Byar"]
[1160101,{"$f":"VLOOKUP(tblData[[#This Row],[Indicator ID]],'Similar 10 CCGs'!$A$6:$C$160,3,FALSE)","v":"Programme Budget - Trauma and Injuries - Total admissions per 1000 population across secondary care - Cost"},"2011/12","00C",3304983,null,109729,30119.45,28508.48,31797.73,24630.118893089657,27606.604869479659,null,26829.411,24301.525999999998,"A","Y54","X24","11601011","Byar"]
[1160101,{"$f":"VLOOKUP(tblData[[#This Row],[Indicator ID]],'Similar 10 CCGs'!$A$6:$C$160,3,FALSE)","v":"Programme Budget - Trauma and Injuries - Total admissions per 1000 population across secondary care - Cost"},"2011/12","00P",8693425,null,291053,29868.92,28899.759999999998,30862.29,24630.118893089657,27606.604869479659,null,29728.753000000004,27733.088,"A","Y54","X24","11601011","Byar"]
[1160101,{"$f":"VLOOKUP(tblData[[#This Row],[Indicator ID]],'Similar 10 CCGs'!$A$6:$C$160,3,FALSE)","v":"Programme Budget - Trauma and Injuries - Total admissions per 1000 population across secondary care - Cost"},"2011/12","01K",4495855,null,168538,26675.64,25449.63,27945.439999999999,24630.118893089657,27606.604869479659,null,26236.085999999999,24600.118000000002,"B","Y54","X24","11601011","Byar"]
[1160101,{"$f":"VLOOKUP(tblData[[#This Row],[Indicator ID]],'Similar 10 CCGs'!$A$6:$C$160,3,FALSE)","v":"Programme Budget - Trauma and Injuries - Total admissions per 1000 population across secondary care - Cost"},"2011/12","02M",4361515,null,185764,23478.78,22388.73,24608.18,24630.118893089657,27606.604869479659,null,24827.773000000005,21807.004000000001,"","Y54","X24","11601011","Byar"]
[1160101,{"$f":"VLOOKUP(tblData[[#This Row],[Indicator ID]],'Similar 10 CCGs'!$A$6:$C$160,3,FALSE)","v":"Programme Budget - Trauma and Injuries - Total admissions per 1000 population across secondary care - Cost"},"2011/12","03H",3834280,null,177167,21642.240000000002,20564.63,22761.66,24630.118893089657,27606.604869479659,null,27192.340999999997,24605.754000000001,"C","Y54","X24","11601011","Byar"]
[1160101,{"$f":"VLOOKUP(tblData[[#This Row],[Indicator ID]],'Similar 10 CCGs'!$A$6:$C$160,3,FALSE)","v":"Programme Budget - Trauma and Injuries - Total admissions per 1000 population across secondary care - Cost"},"2011/12","04E",4283639,null,186427,22977.51,21898.41,24096.02,24630.118893089657,23583.456585482396,null,29327.066000000003,27691.424000000006,"","Y55","X24","11601011","Byar"]
[1160101,{"$f":"VLOOKUP(tblData[[#This Row],[Indicator ID]],'Similar 10 CCGs'!$A$6:$C$160,3,FALSE)","v":"Programme Budget - Trauma and Injuries - Total admissions per 1000 population across secondary care - Cost"},"2011/12","05C",7870815,null,336111,23417.32,22663.52,24189.81,24630.118893089657,23583.456585482396,null,25756.935000000005,22234.682000000001,"","Y55","X24","11601011","Byar"]
[1160101,{"$f":"VLOOKUP(tblData[[#This Row],[Indicator ID]],'Similar 10 CCGs'!$A$6:$C$160,3,FALSE)","v":"Programme Budget - Trauma and Injuries - Total admissions per 1000 population across secondary care - Cost"},"2011/12","06A",5163924,null,264108,19552.34,18693.62,20440.330000000002,24630.118893089657,23583.456585482396,null,26082.472000000002,24001.382000000001,"C","Y55","X24","11601011","Byar"]
[1160101,{"$f":"VLOOKUP(tblData[[#This Row],[Indicator ID]],'Similar 10 CCGs'!$A$6:$C$160,3,FALSE)","v":"Programme Budget - Trauma and Injuries - Total admissions per 1000 population across secondary care - Cost"},"2011/12","07H",6475330,null,296765,21819.71,21020.47,22641.57,24630.118893089657,23583.456585482396,null,22515.82,21016.5,"","Y55","X24","11601011","Byar"]
[1160101,{"$f":"VLOOKUP(tblData[[#This Row],[Indicator ID]],'Similar 10 CCGs'!$A$6:$C$160,3,FALSE)","v":"Programme Budget - Trauma and Injuries - Total admissions per 1000 population across secondary care - Cost"},"2011/12","08C",3095911,null,151700,20408.16,19433.45,21419.09,24630.118893089657,20324.939160421061,null,20053.991000000002,19281.992000000002,"B","Y56","X24","11601011","Byar"]
[1160101,{"$f":"VLOOKUP(tblData[[#This Row],[Indicator ID]],'Similar 10 CCGs'!$A$6:$C$160,3,FALSE)","v":"Programme Budget - Trauma and Injuries - Total admissions per 1000 population across secondary care - Cost"},"2011/12","08Q",4891120,null,245089,19956.490000000002,19167.93,20769.16,24630.118893089657,20324.939160421061,null,20230.811000000002,19460.194,"B","Y56","X24","11601011","Byar"]
[1160101,{"$f":"VLOOKUP(tblData[[#This Row],[Indicator ID]],'Similar 10 CCGs'!$A$6:$C$160,3,FALSE)","v":"Programme Budget - Trauma and Injuries - Total admissions per 1000 population across secondary care - Cost"},"2011/12","09Y",8868005,null,356776,24855.98,23973.09,25763.06,24630.118893089657,24845.280734651049,null,22264.076000000001,20745.503999999997,"A","Y57","X24","11601011","Byar"]
[1160101,{"$f":"VLOOKUP(tblData[[#This Row],[Indicator ID]],'Similar 10 CCGs'!$A$6:$C$160,3,FALSE)","v":"Programme Budget - Trauma and Injuries - Total admissions per 1000 population across secondary care - Cost"},"2011/12","10W",2211874,null,103645,21340.81,19951.580000000002,22801.27,24630.118893089657,24845.280734651049,null,25529.998,22888.324000000001,"","Y57","X24","11601011","Byar"]
[1160101,{"$f":"VLOOKUP(tblData[[#This Row],[Indicator ID]],'Similar 10 CCGs'!$A$6:$C$160,3,FALSE)","v":"Programme Budget - Trauma and Injuries - Total admissions per 1000 population across secondary care - Cost"},"2011/12","12F",11260419,null,359993,31279.52,30393.45,32184.85,24630.118893089657,27606.604869479659,null,29946.38700000001,28371.879999999997,"A","Y54","X24","11601011","Byar"]
[1160102,{"$f":"VLOOKUP(tblData[[#This Row],[Indicator ID]],'Similar 10 CCGs'!$A$6:$C$160,3,FALSE)","v":"Programme Budget - Trauma and Injuries - Total elective (IP + DC) admissions per 1000 population across secondary care - Cost"},"2011/12","00C",287387,null,105592,2721.69,2245.06,3269.58,2877.5901367992956,3264.5054421370301,null,2737.91,1702.3619999999999,"B","Y54","X24","11601021","Byar"]
[1160102,{"$f":"VLOOKUP(tblData[[#This Row],[Indicator ID]],'Similar 10 CCGs'!$A$6:$C$160,3,FALSE)","v":"Programme Budget - Trauma and Injuries - Total elective (IP + DC) admissions per 1000 population across secondary care - Cost"},"2011/12","00X",973693,null,172610,5641,5111.25,6210.74,2877.5901367992956,3264.5054421370301,null,2483.942,1829.4600000000003,"A","Y54","X24","11601021","Byar"]
[1160102,{"$f":"VLOOKUP(tblData[[#This Row],[Indicator ID]],'Similar 10 CCGs'!$A$6:$C$160,3,FALSE)","v":"Programme Budget - Trauma and Injuries - Total elective (IP + DC) admissions per 1000 population across secondary care - Cost"},"2011/12","01V",321305,null,125576,2558.66,2124.81,3055.04,2877.5901367992956,3264.5054421370301,null,2800.3839999999996,1827.354,"B","Y54","X24","11601021","Byar"]
[1160102,{"$f":"VLOOKUP(tblData[[#This Row],[Indicator ID]],'Similar 10 CCGs'!$A$6:$C$160,3,FALSE)","v":"Programme Budget - Trauma and Injuries - Total elective (IP + DC) admissions per 1000 population across secondary care - Cost"},"2011/12","02T",266074,null,210705,1262.78,1062.95,1489.25,2877.5901367992956,3264.5054421370301,null,2270.7879999999996,1779.8880000000001,"C","Y54","X24","11601021","Byar"]
[1160102,{"$f":"VLOOKUP(tblData[[#This Row],[Indicator ID]],'Similar 10 CCGs'!$A$6:$C$160,3,FALSE)","v":"Programme Budget - Trauma and Injuries - Total elective (IP + DC) admissions per 1000 population across secondary care - Cost"},"2011/12","02V",963733,null,201219,4789.47,4336.4799999999996,5276.91,2877.5901367992956,3264.5054421370301,null,3024.5440000000003,1769.2419999999997,"A","Y54","X24","11601021","Byar"]
[1160102,{"$f":"VLOOKUP(tblData[[#This Row],[Indicator ID]],'Similar 10 CCGs'!$A$6:$C$160,3,FALSE)","v":"Programme Budget - Trauma and Injuries - Total elective (IP + DC) admissions per 1000 population across secondary care - Cost"},"2011/12","03N",2342185,null,589937,3970.23,3740.98,4209.84,2877.5901367992956,3264.5054421370301,null,2690.5140000000001,2025.7400000000002,"A","Y54","X24","11601021","Byar"]
[1160102,{"$f":"VLOOKUP(tblData[[#This Row],[Indicator ID]],'Similar 10 CCGs'!$A$6:$C$160,3,FALSE)","v":"Programme Budget - Trauma and Injuries - Total elective (IP + DC) admissions per 1000 population across secondary care - Cost"},"2011/12","04M",171594,null,94251,1820.61,1392.62,2338.65,2877.5901367992956,2512.0727909999646,null,2341.2059999999997,1992.9759999999999,"","Y55","X24","11601021","Byar"]
[1160102,{"$f":"VLOOKUP(tblData[[#This Row],[Indicator ID]],'Similar 10 CCGs'!$A$6:$C$160,3,FALSE)","v":"Programme Budget - Trauma and Injuries - Total elective (IP + DC) admissions per 1000 population across secondary care - Cost"},"2011/12","05N",445289,null,301834,1475.28,1276.45,1696.3,2877.5901367992956,2512.0727909999646,null,2729.6929999999998,2098.9720000000002,"C","Y55","X24","11601021","Byar"]
[1160102,{"$f":"VLOOKUP(tblData[[#This Row],[Indicator ID]],'Similar 10 CCGs'!$A$6:$C$160,3,FALSE)","v":"Programme Budget - Trauma and Injuries - Total elective (IP + DC) admissions per 1000 population across secondary care - Cost"},"2011/12","06M",759872,null,235863,3221.67,2836.15,3644.98,2877.5901367992956,2512.0727909999646,null,2233.1510000000003,1674.5840000000001,"A","Y55","X24","11601021","Byar"]
[1160102,{"$f":"VLOOKUP(tblData[[#This Row],[Indicator ID]],'Similar 10 CCGs'!$A$6:$C$160,3,FALSE)","v":"Programme Budget - Trauma and Injuries - Total elective (IP + DC) admissions per 1000 population across secondary care - Cost"},"2011/12","07Q",513812,null,322958,1590.96,1430.84,1764.1,2877.5901367992956,2078.0774638739031,null,2753.17,1871.348,"C","Y56","X24","11601021","Byar"]
[1160102,{"$f":"VLOOKUP(tblData[[#This Row],[Indicator ID]],'Similar 10 CCGs'!$A$6:$C$160,3,FALSE)","v":"Programme Budget - Trauma and Injuries - Total elective (IP + DC) admissions per 1000 population across secondary care - Cost"},"2011/12","08K",710682,null,371599,1912.49,1717.09,2124.0500000000002,2877.5901367992956,2078.0774638739031,null,2106.0839999999998,1846.8239999999998,"","Y56","X24","11601021","Byar"]
[1160102,{"$f":"VLOOKUP(tblData[[#This Row],[Indicator ID]],'Similar 10 CCGs'!$A$6:$C$160,3,FALSE)","v":"Programme Budget - Trauma and Injuries - Total elective (IP + DC) admissions per 1000 population across secondary care - Cost"},"2011/12","09F",679965,null,190443,3570.45,3138.18,4045.62,2877.5901367992956,3365.7214269124865,null,3096.7260000000001,1802.5,"A","Y57","X24","11601021","Byar"]
[1160102,{"$f":"VLOOKUP(tblData[[#This Row],[Indicator ID]],'Similar 10 CCGs'!$A$6:$C$160,3,FALSE)","v":"Programme Budget - Trauma and Injuries - Total elective (IP + DC) admissions per 1000 population across secondary care - Cost"},"2011/12","10H",664865,null,322292,2062.9299999999998,1852.15,2291.12,2877.5901367992956,3365.7214269124865,null,2464.4769999999999,1717.7840000000001,"","Y57","X24","11601021","Byar"]
[1160102,{"$f":"VLOOKUP(tblData[[#This Row],[Indicator ID]],'Similar 10 CCGs'!$A$6:$C$160,3,FALSE)","v":"Programme Budget - Trauma and Injuries - Total elective (IP + DC) admissions per 1000 population across secondary care - Cost"},"2011/12","11D",426844,null,150619,2833.94,2449.17,3262.01,2877.5901367992956,3365.7214269124865,null,2396.42,1692.0400000000002,"A","Y57","X24","11601021","Byar"]
[1160102,{"$f":"VLOOKUP(tblData[[#This Row],[Indicator ID]],'Similar 10 CCGs'!$A$6:$C$160,3,FALSE)","v":"Programme Budget - Trauma and Injuries - Total elective (IP + DC) admissions per 1000 population across secondary care - Cost"},"2011/12","99F",374532,null,180317,2077.08,1766.77,2426.1999999999998,2877.5901367992956,2512.0727909999646,null,2394.4360000000001,1800.598,"B","Y55","X24","11601021","Byar"]
[1160103,{"$f":"VLOOKUP(tblData[[#This Row],[Indicator ID]],'Similar 10 CCGs'!$A$6:$C$160,3,FALSE)","v":"Programme Budget - Trauma and Injuries - Non-elective (EM + ONEL) admissions per 1000 population across secondary care - Cost"},"2011/12","00K",7345878,null,286228,25664.39,24742.65,26611.68,21752.525578709719,24342.229202928516,null,24385.985999999997,22089.847999999998,"A","Y54","X24","11601031","Byar"]
[1160103,{"$f":"VLOOKUP(tblData[[#This Row],[Indicator ID]],'Similar 10 CCGs'!$A$6:$C$160,3,FALSE)","v":"Programme Budget - Trauma and Injuries - Non-elective (EM + ONEL) admissions per 1000 population across secondary care - Cost"},"2011/12","01R",3684038,null,179745,20495.89,19542.98,21483.25,21752.525578709719,24342.229202928516,null,21618.339,19407.826000000001,"B","Y54","X24","11601031","Byar"]
[1160103,{"$f":"VLOOKUP(tblData[[#This Row],[Indicator ID]],'Similar 10 CCGs'!$A$6:$C$160,3,FALSE)","v":"Programme Budget - Trauma and Injuries - Non-elective (EM + ONEL) admissions per 1000 population across secondary care - Cost"},"2011/12","02F",5847237,null,270622,21606.67,20801.5,22435.03,21752.525578709719,24342.229202928516,null,22042.640000000003,19625.977999999999,"B","Y54","X24","11601031","Byar"]
[1160103,{"$f":"VLOOKUP(tblData[[#This Row],[Indicator ID]],'Similar 10 CCGs'!$A$6:$C$160,3,FALSE)","v":"Programme Budget - Trauma and Injuries - Non-elective (EM + ONEL) admissions per 1000 population across secondary care - Cost"},"2011/12","03D",4306184,null,162942,26427.66,25175.21,27726.29,21752.525578709719,24342.229202928516,null,21657.825000000001,20586.218000000001,"A","Y54","X24","11601031","Byar"]
[1160103,{"$f":"VLOOKUP(tblData[[#This Row],[Indicator ID]],'Similar 10 CCGs'!$A$6:$C$160,3,FALSE)","v":"Programme Budget - Trauma and Injuries - Non-elective (EM + ONEL) admissions per 1000 population across secondary care - Cost"},"2011/12","03Y",2808777,null,110471,25425.53,23932.25,26987.59,21752.525578709719,21066.04751116029,null,23788.849000000002,21598.031999999999,"A","Y55","X24","11601031","Byar"]
[1160103,{"$f":"VLOOKUP(tblData[[#This Row],[Indicator ID]],'Similar 10 CCGs'!$A$6:$C$160,3,FALSE)","v":"Programme Budget - Trauma and Injuries - Non-elective (EM + ONEL) admissions per 1000 population across secondary care - Cost"},"2011/12","04X",4946303,null,213429,23175.35,22179.75,24204.13,21752.525578709719,21066.04751116029,null,22072.35,19051.553999999996,"A","Y55","X24","11601031","Byar"]
[1160103,{"$f":"VLOOKUP(tblData[[#This Row],[Indicator ID]],'Similar 10 CCGs'!$A$6:$C$160,3,FALSE)","v":"Programme Budget - Trauma and Injuries - Non-elective (EM + ONEL) admissions per 1000 population across secondary care - Cost"},"2011/12","05V",3341113,null,156745,21315.54,20295.349999999999,22373.73,21752.525578709719,21066.04751116029,null,22247.852999999999,20171.022000000004,"B","Y55","X24","11601031","Byar"]
[1160103,{"$f":"VLOOKUP(tblData[[#This Row],[Indicator ID]],'Similar 10 CCGs'!$A$6:$C$160,3,FALSE)","v":"Programme Budget - Trauma and Injuries - Non-elective (EM + ONEL) admissions per 1000 population across secondary care - Cost"},"2011/12","06W",4996417,null,213881,23360.75,22295.06,24464.21,21752.525578709719,21066.04751116029,null,23322.469000000001,20915.387999999999,"B","Y55","X24","11601031","Byar"]
[1160103,{"$f":"VLOOKUP(tblData[[#This Row],[Indicator ID]],'Similar 10 CCGs'!$A$6:$C$160,3,FALSE)","v":"Programme Budget - Trauma and Injuries - Non-elective (EM + ONEL) admissions per 1000 population across secondary care - Cost"},"2011/12","07X",4346715,null,282564,15383.1,14662.55,16129.91,21752.525578709719,18299.482445981324,null,18986.603999999999,17288.164000000001,"C","Y56","X24","11601031","Byar"]
[1160103,{"$f":"VLOOKUP(tblData[[#This Row],[Indicator ID]],'Similar 10 CCGs'!$A$6:$C$160,3,FALSE)","v":"Programme Budget - Trauma and Injuries - Non-elective (EM + ONEL) admissions per 1000 population across secondary care - Cost"},"2011/12","08R",3079317,null,182182,16902.400000000001,16006.44,17835.46,21752.525578709719,18299.482445981324,null,18674.304,17609.358,"","Y56","X24","11601031","Byar"]
[1160103,{"$f":"VLOOKUP(tblData[[#This Row],[Indicator ID]],'Similar 10 CCGs'!$A$6:$C$160,3,FALSE)","v":"Programme Budget - Trauma and Injuries - Non-elective (EM + ONEL) admissions per 1000 population across secondary care - Cost"},"2011/12","09H",2504703,null,117365,21341.08,20114.75,22622.61,21752.525578709719,21505.917775722726,null,21197.201000000001,18869.556,"B","Y57","X24","11601031","Byar"]
[1160103,{"$f":"VLOOKUP(tblData[[#This Row],[Indicator ID]],'Similar 10 CCGs'!$A$6:$C$160,3,FALSE)","v":"Programme Budget - Trauma and Injuries - Non-elective (EM + ONEL) admissions per 1000 population across secondary care - Cost"},"2011/12","10Q",15690294,null,675173,23238.91,22676.02,23812.240000000002,21752.525578709719,21505.917775722726,null,21232.797999999999,19677.745999999999,"A","Y57","X24","11601031","Byar"]
[1160103,{"$f":"VLOOKUP(tblData[[#This Row],[Indicator ID]],'Similar 10 CCGs'!$A$6:$C$160,3,FALSE)","v":"Programme Budget - Trauma and Injuries - Non-elective (EM + ONEL) admissions per 1000 population across secondary care - Cost"},"2011/12","11X",14278929,null,626387,22795.7,22219.59,23382.97,21752.525578709719,21505.917775722726,null,21553.009000000002,19794.034,"A","Y57","X24","11601031","Byar"]
[1160103,{"$f":"VLOOKUP(tblData[[#This Row],[Indicator ID]],'Similar 10 CCGs'!$A$6:$C$160,3,FALSE)","v":"Programme Budget - Trauma and Injuries - Non-elective (EM + ONEL) admissions per 1000 population across secondary care - Cost"},"2011/12","99N",11329414,null,513644,22056.95,21425.32,22702.47,21752.525578709719,21505.917775722726,null,20744.239000000001,19213.666000000001,"B","Y57","X24","11601031","Byar"]
[1160105,{"$f":"VLOOKUP(tblData[[#This Row],[Indicator ID]],'Similar 10 CCGs'!$A$6:$C$160,3,FALSE)","v":"Programme Budget - Trauma and Injuries - Cost prescribed per 1000 ASTRO-PU population - Cost"},"2011/12","00R",434462,null,188580,2303.86,2287.64,2320.17,1658.5865044286825,1994.455853785543,null,1992.9809999999998,1704.146,"A","Y54","X24","11601051","Byar"]
[1160105,{"$f":"VLOOKUP(tblData[[#This Row],[Indicator ID]],'Similar 10 CCGs'!$A$6:$C$160,3,FALSE)","v":"Programme Budget - Trauma and Injuries - Cost prescribed per 1000 ASTRO-PU population - Cost"},"2011/12","01N",253974,null,138684,1831.31,1814.45,1848.28,1658.5865044286825,1994.455853785543,null,2053.1130000000003,1829.748,"","Y54","X24","11601051","Byar"]
[1160105,{"$f":"VLOOKUP(tblData[[#This Row],[Indicator ID]],'Similar 10 CCGs'!$A$6:$C$160,3,FALSE)","v":"Programme Budget - Trauma and Injuries - Cost prescribed per 1000 ASTRO-PU population - Cost"},"2011/12","02P",665461,null,254714,2612.59,2597.7199999999998,2627.52,1658.5865044286825,1994.455853785543,null,2190.4119999999998,2052.7739999999999,"A","Y54","X24","11601051","Byar"]
[1160105,{"$f":"VLOOKUP(tblData[[#This Row],[Indicator ID]],'Similar 10 CCGs'!$A$6:$C$160,3,FALSE)","v":"Programme Budget - Trauma and Injuries - Cost prescribed per 1000 ASTRO-PU population - Cost"},"2011/12","03K",364900,null,182156,2003.23,1987.84,2018.71,1658.5865044286825,1994.455853785543,null,2009.4569999999997,1828.3419999999999,"A","Y54","X24","11601051","Byar"]
[1160105,{"$f":"VLOOKUP(tblData[[#This Row],[Indicator ID]],'Similar 10 CCGs'!$A$6:$C$160,3,FALSE)","v":"Programme Budget - Trauma and Injuries - Cost prescribed per 1000 ASTRO-PU population - Cost"},"2011/12","04G",670124,null,615247,1089.2,1083.02,1095.4000000000001,1658.5865044286825,1664.405723200231,null,1386.8349999999998,1159.836,"C","Y55","X24","11601051","Byar"]
[1160105,{"$f":"VLOOKUP(tblData[[#This Row],[Indicator ID]],'Similar 10 CCGs'!$A$6:$C$160,3,FALSE)","v":"Programme Budget - Trauma and Injuries - Cost prescribed per 1000 ASTRO-PU population - Cost"},"2011/12","05F",342926,null,214662,1597.51,1584.86,1610.25,1658.5865044286825,1664.405723200231,null,1593.998,1343.6619999999998,"B","Y55","X24","11601051","Byar"]
[1160105,{"$f":"VLOOKUP(tblData[[#This Row],[Indicator ID]],'Similar 10 CCGs'!$A$6:$C$160,3,FALSE)","v":"Programme Budget - Trauma and Injuries - Cost prescribed per 1000 ASTRO-PU population - Cost"},"2011/12","06L",544065,null,426173,1276.6300000000001,1268.5899999999999,1284.7,1658.5865044286825,1664.405723200231,null,1427.0439999999999,1233.7360000000001,"","Y55","X24","11601051","Byar"]
[1160105,{"$f":"VLOOKUP(tblData[[#This Row],[Indicator ID]],'Similar 10 CCGs'!$A$6:$C$160,3,FALSE)","v":"Programme Budget - Trauma and Injuries - Cost prescribed per 1000 ASTRO-PU population - Cost"},"2011/12","07L",257820,null,151836,1698.02,1682.5,1713.64,1658.5865044286825,1325.9997210462407,null,1782.1619999999998,1357.8759999999997,"","Y56","X24","11601051","Byar"]
[1160105,{"$f":"VLOOKUP(tblData[[#This Row],[Indicator ID]],'Similar 10 CCGs'!$A$6:$C$160,3,FALSE)","v":"Programme Budget - Trauma and Injuries - Cost prescribed per 1000 ASTRO-PU population - Cost"},"2011/12","08F",253268,null,269439,939.98,931.32,948.71,1658.5865044286825,1325.9997210462407,null,1640.431,1412.1660000000002,"C","Y56","X24","11601051","Byar"]
[1160105,{"$f":"VLOOKUP(tblData[[#This Row],[Indicator ID]],'Similar 10 CCGs'!$A$6:$C$160,3,FALSE)","v":"Programme Budget - Trauma and Injuries - Cost prescribed per 1000 ASTRO-PU population - Cost"},"2011/12","09A",183934,null,155962,1179.3499999999999,1166.5999999999999,1192.21,1658.5865044286825,1325.9997210462407,null,1502.4860000000003,1202.8720000000001,"","Y56","X24","11601051","Byar"]
[1160105,{"$f":"VLOOKUP(tblData[[#This Row],[Indicator ID]],'Similar 10 CCGs'!$A$6:$C$160,3,FALSE)","v":"Programme Budget - Trauma and Injuries - Cost prescribed per 1000 ASTRO-PU population - Cost"},"2011/12","10C",89780,null,92949,965.9,950.97,981.01,1658.5865044286825,1458.9640900310878,null,1158.5700000000002,827.92800000000011,"C","Y57","X24","11601051","Byar"]
[1160105,{"$f":"VLOOKUP(tblData[[#This Row],[Indicator ID]],'Similar 10 CCGs'!$A$6:$C$160,3,FALSE)","v":"Programme Budget - Trauma and Injuries - Cost prescribed per 1000 ASTRO-PU population - Cost"},"2011/12","10Y",198049,null,198277,998.85,988.44,1009.34,1658.5865044286825,1458.9640900310878,null,1416.9770000000001,1001.758,"","Y57","X24","11601051","Byar"]
[1160105,{"$f":"VLOOKUP(tblData[[#This Row],[Indicator ID]],'Similar 10 CCGs'!$A$6:$C$160,3,FALSE)","v":"Programme Budget - Trauma and Injuries - Cost prescribed per 1000 ASTRO-PU population - Cost"},"2011/12","99A",1134679,null,461426,2459.0700000000002,2448.35,2469.83,1658.5865044286825,1994.455853785543,null,1892.6730000000002,1656.298,"A","Y54","X24","11601051","Byar"]
[1160201,{"$f":"VLOOKUP(tblData[[#This Row],[Indicator ID]],'Similar 10 CCGs'!$A$6:$C$160,3,FALSE)","v":"Programme Budget - Trauma and Injuries - Total admissions per 1000 population across secondary care - Activity"},"2011/12","00F",2603,null,211804,12.29,11.82,12.77,10.318871462885483,11.80687737516984,null,12.187999999999999,11.052,"B","Y54","X24","11602011","Byar"]
[1160201,{"$f":"VLOOKUP(tblData[[#This Row],[Indicator ID]],'Similar 10 CCGs'!$A$6:$C$160,3,FALSE)","v":"Programme Budget - Trauma and Injuries - Total admissions per 1000 population across secondary care - Activity"},"2011/12","00G",1797,null,142200,12.64,12.06,13.24,10.318871462885483,11.80687737516984,null,11.078999999999999,9.5640000000000018,"A","Y54","X24","11602011","Byar"]
[1160201,{"$f":"VLOOKUP(tblData[[#This Row],[Indicator ID]],'Similar 10 CCGs'!$A$6:$C$160,3,FALSE)","v":"Programme Budget - Trauma and Injuries - Total admissions per 1000 population across secondary care - Activity"},"2011/12","01A",4324,null,371382,11.64,11.3,12,10.318871462885483,11.80687737516984,null,11.946999999999999,10.635999999999999,"A","Y54","X24","11602011","Byar"]
[1160201,{"$f":"VLOOKUP(tblData[[#This Row],[Indicator ID]],'Similar 10 CCGs'!$A$6:$C$160,3,FALSE)","v":"Programme Budget - Trauma and Injuries - Total admissions per 1000 population across secondary care - Activity"},"2011/12","02N",1570,null,165931,9.4600000000000009,9,9.94,10.318871462885483,11.80687737516984,null,9.7410000000000014,8.9540000000000006,"","Y54","X24","11602011","Byar"]
[1160201,{"$f":"VLOOKUP(tblData[[#This Row],[Indicator ID]],'Similar 10 CCGs'!$A$6:$C$160,3,FALSE)","v":"Programme Budget - Trauma and Injuries - Total admissions per 1000 population across secondary care - Activity"},"2011/12","02Y",2904,null,324948,8.94,8.61,9.27,10.318871462885483,11.80687737516984,null,9.798,8.59,"","Y54","X24","11602011","Byar"]
[1160201,{"$f":"VLOOKUP(tblData[[#This Row],[Indicator ID]],'Similar 10 CCGs'!$A$6:$C$160,3,FALSE)","v":"Programme Budget - Trauma and Injuries - Total admissions per 1000 population across secondary care - Activity"},"2011/12","03T",2808,null,266087,10.55,10.17,10.95,10.318871462885483,9.5608002237167344,null,10.425999999999998,8.8159999999999989,"B","Y55","X24","11602011","Byar"]
[1160201,{"$f":"VLOOKUP(tblData[[#This Row],[Indicator ID]],'Similar 10 CCGs'!$A$6:$C$160,3,FALSE)","v":"Programme Budget - Trauma and Injuries - Total admissions per 1000 population across secondary care - Activity"},"2011/12","04Q",1469,null,135006,10.88,10.33,11.45,10.318871462885483,9.5608002237167344,null,10.174000000000001,8.9699999999999989,"A","Y55","X24","11602011","Byar"]
[1160201,{"$f":"VLOOKUP(tblData[[#This Row],[Indicator ID]],'Similar 10 CCGs'!$A$6:$C$160,3,FALSE)","v":"Programme Budget - Trauma and Injuries - Total admissions per 1000 population across secondary care - Activity"},"2011/12","05Q",1996,null,212552,9.39,8.98,9.81,10.318871462885483,9.5608002237167344,null,10.753,9.5839999999999996,"","Y55","X24","11602011","Byar"]
[1160201,{"$f":"VLOOKUP(tblData[[#This Row],[Indicator ID]],'Similar 10 CCGs'!$A$6:$C$160,3,FALSE)","v":"Programme Budget - Trauma and Injuries - Total admissions per 1000 population across secondary care - Activity"},"2011/12","06P",1521,null,196669,7.73,7.35,8.1300000000000008,10.318871462885483,9.5608002237167344,null,10.892999999999999,9.6420000000000012,"C","Y55","X24","11602011","Byar"]
[1160201,{"$f":"VLOOKUP(tblData[[#This Row],[Indicator ID]],'Similar 10 CCGs'!$A$6:$C$160,3,FALSE)","v":"Programme Budget - Trauma and Injuries - Total admissions per 1000 population across secondary care - Activity"},"2011/12","07T",2033,null,230958,8.8000000000000007,8.42,9.19,10.318871462885483,8.7713526963012569,null,8.907,8.2840000000000007,"B","Y56","X24","11602011","Byar"]
[1160201,{"$f":"VLOOKUP(tblData[[#This Row],[Indicator ID]],'Similar 10 CCGs'!$A$6:$C$160,3,FALSE)","v":"Programme Budget - Trauma and Injuries - Total admissions per 1000 population across secondary care - Activity"},"2011/12","08M",2246,null,304580,7.37,7.07,7.69,10.318871462885483,8.7713526963012569,null,8.9259999999999984,8.1080000000000005,"C","Y56","X24","11602011","Byar"]
[1160201,{"$f":"VLOOKUP(tblData[[#This Row],[Indicator ID]],'Similar 10 CCGs'!$A$6:$C$160,3,FALSE)","v":"Programme Budget - Trauma and Injuries - Total admissions per 1000 population across secondary care - Activity"},"2011/12","09H",1179,null,121085,9.74,9.19,10.31,10.318871462885483,10.434954359131568,null,10.206,8.91,"B","Y57","X24","11602011","Byar"]
[1160201,{"$f":"VLOOKUP(tblData[[#This Row],[Indicator ID]],'Similar 10 CCGs'!$A$6:$C$160,3,FALSE)","v":"Programme Budget - Trauma and Injuries - Total admissions per 1000 population across secondary care - Activity"},"2011/12","10H",3037,null,330273,9.1999999999999993,8.8699999999999992,9.5299999999999994,10.318871462885483,10.434954359131568,null,9.2270000000000003,8.58,"","Y57","X24","11602011","Byar"]
[1160201,{"$f":"VLOOKUP(tblData[[#This Row],[Indicator ID]],'Similar 10 CCGs'!$A$6:$C$160,3,FALSE)","v":"Programme Budget - Trauma and Injuries - Total admissions per 1000 population across secondary care - Activity"},"2011/12","11J",10232,null,873285,11.72,11.49,11.95,10.318871462885483,10.434954359131568,null,10.712,10.006,"A","Y57","X24","11602011","Byar"]
[1160201,{"$f":"VLOOKUP(tblData[[#This Row],[Indicator ID]],'Similar 10 CCGs'!$A$6:$C$160,3,FALSE)","v":"Programme Budget - Trauma and Injuries - Total admissions per 1000 population across secondary care - Activity"},"2011/12","99J",5793,null,476490,12.16,11.85,12.47,10.318871462885483,10.434954359131568,null,9.6059999999999981,8.82,"A","Y57","X24","11602011","Byar"]
[1160202,{"$f":"VLOOKUP(tblData[[#This Row],[Indicator ID]],'Similar 10 CCGs'!$A$6:$C$160,3,FALSE)","v":"Programme Budget - Trauma and Injuries - Total elective (IP + DC) admissions per 1000 population across secondary care - Activity"},"2011/12","00N",241,null,156792,1.54,1.35,1.74,1.2588365779908173,1.4143592611844191,null,1.2230000000000001,0.96599999999999997,"A","Y54","X24","11602021","Byar"]
[1160202,{"$f":"VLOOKUP(tblData[[#This Row],[Indicator ID]],'Similar 10 CCGs'!$A$6:$C$160,3,FALSE)","v":"Programme Budget - Trauma and Injuries - Total elective (IP + DC) admissions per 1000 population across secondary care - Activity"},"2011/12","01J",288,null,162911,1.77,1.57,1.98,1.2588365779908173,1.4143592611844191,null,1.2879999999999998,0.95800000000000018,"A","Y54","X24","11602021","Byar"]
[1160202,{"$f":"VLOOKUP(tblData[[#This Row],[Indicator ID]],'Similar 10 CCGs'!$A$6:$C$160,3,FALSE)","v":"Programme Budget - Trauma and Injuries - Total elective (IP + DC) admissions per 1000 population across secondary care - Activity"},"2011/12","02H",475,null,318174,1.49,1.36,1.63,1.2588365779908173,1.4143592611844191,null,1.5169999999999999,1.06,"B","Y54","X24","11602021","Byar"]
[1160202,{"$f":"VLOOKUP(tblData[[#This Row],[Indicator ID]],'Similar 10 CCGs'!$A$6:$C$160,3,FALSE)","v":"Programme Budget - Trauma and Injuries - Total elective (IP + DC) admissions per 1000 population across secondary care - Activity"},"2011/12","03F",279,null,297523,0.94,0.83,1.05,1.2588365779908173,1.4143592611844191,null,1.6849999999999998,1.1380000000000001,"","Y54","X24","11602021","Byar"]
[1160202,{"$f":"VLOOKUP(tblData[[#This Row],[Indicator ID]],'Similar 10 CCGs'!$A$6:$C$160,3,FALSE)","v":"Programme Budget - Trauma and Injuries - Total elective (IP + DC) admissions per 1000 population across secondary care - Activity"},"2011/12","04D",304,null,224098,1.36,1.21,1.52,1.2588365779908173,1.1150455234304066,null,1.1399999999999999,0.7619999999999999,"A","Y55","X24","11602021","Byar"]
[1160202,{"$f":"VLOOKUP(tblData[[#This Row],[Indicator ID]],'Similar 10 CCGs'!$A$6:$C$160,3,FALSE)","v":"Programme Budget - Trauma and Injuries - Total elective (IP + DC) admissions per 1000 population across secondary care - Activity"},"2011/12","05A",504,null,478025,1.05,0.96,1.1499999999999999,1.2588365779908173,1.1150455234304066,null,1.7399999999999998,1.1200000000000001,"","Y55","X24","11602021","Byar"]
[1160202,{"$f":"VLOOKUP(tblData[[#This Row],[Indicator ID]],'Similar 10 CCGs'!$A$6:$C$160,3,FALSE)","v":"Programme Budget - Trauma and Injuries - Total elective (IP + DC) admissions per 1000 population across secondary care - Activity"},"2011/12","05X",177,null,172089,1.03,0.88,1.19,1.2588365779908173,1.1150455234304066,null,1.1030000000000002,0.87000000000000011,"B","Y55","X24","11602021","Byar"]
[1160202,{"$f":"VLOOKUP(tblData[[#This Row],[Indicator ID]],'Similar 10 CCGs'!$A$6:$C$160,3,FALSE)","v":"Programme Budget - Trauma and Injuries - Total elective (IP + DC) admissions per 1000 population across secondary care - Activity"},"2011/12","07L",133,null,203448,0.65,0.55000000000000004,0.77,1.2588365779908173,1.0485828242576294,null,1.1520000000000001,0.91400000000000003,"C","Y56","X24","11602021","Byar"]
[1160202,{"$f":"VLOOKUP(tblData[[#This Row],[Indicator ID]],'Similar 10 CCGs'!$A$6:$C$160,3,FALSE)","v":"Programme Budget - Trauma and Injuries - Total elective (IP + DC) admissions per 1000 population across secondary care - Activity"},"2011/12","08C",192,null,195034,0.98,0.85,1.1299999999999999,1.2588365779908173,1.0485828242576294,null,1.1270000000000002,0.90599999999999992,"B","Y56","X24","11602021","Byar"]
[1160202,{"$f":"VLOOKUP(tblData[[#This Row],[Indicator ID]],'Similar 10 CCGs'!$A$6:$C$160,3,FALSE)","v":"Programme Budget - Trauma and Injuries - Total elective (IP + DC) admissions per 1000 population across secondary care - Activity"},"2011/12","08W",254,null,300582,0.85,0.74,0.96,1.2588365779908173,1.0485828242576294,null,1.0860000000000001,0.90800000000000003,"","Y56","X24","11602021","Byar"]
[1160202,{"$f":"VLOOKUP(tblData[[#This Row],[Indicator ID]],'Similar 10 CCGs'!$A$6:$C$160,3,FALSE)","v":"Programme Budget - Trauma and Injuries - Total elective (IP + DC) admissions per 1000 population across secondary care - Activity"},"2011/12","09X",257,null,218744,1.17,1.04,1.33,1.2588365779908173,1.3893249774434917,null,1.0209999999999999,0.69599999999999995,"B","Y57","X24","11602021","Byar"]
[1160202,{"$f":"VLOOKUP(tblData[[#This Row],[Indicator ID]],'Similar 10 CCGs'!$A$6:$C$160,3,FALSE)","v":"Programme Budget - Trauma and Injuries - Total elective (IP + DC) admissions per 1000 population across secondary care - Activity"},"2011/12","10T",122,null,146085,0.84,0.69,1,1.2588365779908173,1.3893249774434917,null,1.2870000000000001,0.96599999999999997,"","Y57","X24","11602021","Byar"]
[1160202,{"$f":"VLOOKUP(tblData[[#This Row],[Indicator ID]],'Similar 10 CCGs'!$A$6:$C$160,3,FALSE)","v":"Programme Budget - Trauma and Injuries - Total elective (IP + DC) admissions per 1000 population across secondary care - Activity"},"2011/12","12D",288,null,216450,1.33,1.18,1.49,1.2588365779908173,1.3893249774434917,null,0.90200000000000014,0.63000000000000012,"A","Y57","X24","11602021","Byar"]
[1160202,{"$f":"VLOOKUP(tblData[[#This Row],[Indicator ID]],'Similar 10 CCGs'!$A$6:$C$160,3,FALSE)","v":"Programme Budget - Trauma and Injuries - Total elective (IP + DC) admissions per 1000 population across secondary care - Activity"},"2011/12","99Q",659,null,281461,2.34,2.17,2.5299999999999998,1.2588365779908173,1.3893249774434917,null,1.0859999999999999,0.85799999999999998,"A","Y57","X24","11602021","Byar"]
[1160203,{"$f":"VLOOKUP(tblData[[#This Row],[Indicator ID]],'Similar 10 CCGs'!$A$6:$C$160,3,FALSE)","v":"Programme Budget - Trauma and Injuries - Non-elective (EM + ONEL) admissions per 1000 population across secondary care - Activity"},"2011/12","00V",1747,null,193065,9.0500000000000007,8.6300000000000008,9.48,9.0563416447475227,10.385876787544243,null,9.2460000000000004,7.9139999999999997,"","Y54","X24","11602031","Byar"]
[1160203,{"$f":"VLOOKUP(tblData[[#This Row],[Indicator ID]],'Similar 10 CCGs'!$A$6:$C$160,3,FALSE)","v":"Programme Budget - Trauma and Injuries - Non-elective (EM + ONEL) admissions per 1000 population across secondary care - Activity"},"2011/12","01T",1635,null,161349,10.130000000000001,9.65,10.64,9.0563416447475227,10.385876787544243,null,10.365,9.2840000000000007,"B","Y54","X24","11602031","Byar"]
[1160203,{"$f":"VLOOKUP(tblData[[#This Row],[Indicator ID]],'Similar 10 CCGs'!$A$6:$C$160,3,FALSE)","v":"Programme Budget - Trauma and Injuries - Non-elective (EM + ONEL) admissions per 1000 population across secondary care - Activity"},"2011/12","02R",3333,null,324826,10.26,9.92,10.62,9.0563416447475227,10.385876787544243,null,10.166,8.484,"A","Y54","X24","11602031","Byar"]
[1160203,{"$f":"VLOOKUP(tblData[[#This Row],[Indicator ID]],'Similar 10 CCGs'!$A$6:$C$160,3,FALSE)","v":"Programme Budget - Trauma and Injuries - Non-elective (EM + ONEL) admissions per 1000 population across secondary care - Activity"},"2011/12","03F",2970,null,285659,10.4,10.029999999999999,10.78,9.0563416447475227,10.385876787544243,null,11.130999999999998,10.040000000000001,"B","Y54","X24","11602031","Byar"]
[1160203,{"$f":"VLOOKUP(tblData[[#This Row],[Indicator ID]],'Similar 10 CCGs'!$A$6:$C$160,3,FALSE)","v":"Programme Budget - Trauma and Injuries - Non-elective (EM + ONEL) admissions per 1000 population across secondary care - Activity"},"2011/12","04K",2435,null,318014,7.66,7.36,7.97,9.0563416447475227,8.4417474548979552,null,9.82,8.0920000000000005,"","Y55","X24","11602031","Byar"]
[1160203,{"$f":"VLOOKUP(tblData[[#This Row],[Indicator ID]],'Similar 10 CCGs'!$A$6:$C$160,3,FALSE)","v":"Programme Budget - Trauma and Injuries - Non-elective (EM + ONEL) admissions per 1000 population across secondary care - Activity"},"2011/12","05J",1678,null,172098,9.75,9.2899999999999991,10.23,9.0563416447475227,8.4417474548979552,null,9.2459999999999987,8.0259999999999998,"B","Y55","X24","11602031","Byar"]
[1160203,{"$f":"VLOOKUP(tblData[[#This Row],[Indicator ID]],'Similar 10 CCGs'!$A$6:$C$160,3,FALSE)","v":"Programme Budget - Trauma and Injuries - Non-elective (EM + ONEL) admissions per 1000 population across secondary care - Activity"},"2011/12","06L",2908,null,414653,7.01,6.76,7.27,9.0563416447475227,8.4417474548979552,null,9.2059999999999995,7.9420000000000002,"C","Y55","X24","11602031","Byar"]
[1160203,{"$f":"VLOOKUP(tblData[[#This Row],[Indicator ID]],'Similar 10 CCGs'!$A$6:$C$160,3,FALSE)","v":"Programme Budget - Trauma and Injuries - Non-elective (EM + ONEL) admissions per 1000 population across secondary care - Activity"},"2011/12","07N",1950,null,233934,8.34,7.97,8.7100000000000009,9.0563416447475227,7.7231785236764319,null,8.1369999999999987,7.3739999999999997,"B","Y56","X24","11602031","Byar"]
[1160203,{"$f":"VLOOKUP(tblData[[#This Row],[Indicator ID]],'Similar 10 CCGs'!$A$6:$C$160,3,FALSE)","v":"Programme Budget - Trauma and Injuries - Non-elective (EM + ONEL) admissions per 1000 population across secondary care - Activity"},"2011/12","08J",1258,null,175823,7.15,6.76,7.56,9.0563416447475227,7.7231785236764319,null,8.3309999999999995,7.6879999999999997,"C","Y56","X24","11602031","Byar"]
[1160203,{"$f":"VLOOKUP(tblData[[#This Row],[Indicator ID]],'Similar 10 CCGs'!$A$6:$C$160,3,FALSE)","v":"Programme Budget - Trauma and Injuries - Non-elective (EM + ONEL) admissions per 1000 population across secondary care - Activity"},"2011/12","09D",2745,null,281402,9.75,9.39,10.130000000000001,9.0563416447475227,9.0492640533569055,null,10.247999999999999,8.7880000000000003,"B","Y57","X24","11602031","Byar"]
[1160203,{"$f":"VLOOKUP(tblData[[#This Row],[Indicator ID]],'Similar 10 CCGs'!$A$6:$C$160,3,FALSE)","v":"Programme Budget - Trauma and Injuries - Non-elective (EM + ONEL) admissions per 1000 population across secondary care - Activity"},"2011/12","10E",1529,null,156666,9.76,9.2799999999999994,10.26,9.0563416447475227,9.0492640533569055,null,9.9639999999999986,8.7899999999999991,"A","Y57","X24","11602031","Byar"]
[1160203,{"$f":"VLOOKUP(tblData[[#This Row],[Indicator ID]],'Similar 10 CCGs'!$A$6:$C$160,3,FALSE)","v":"Programme Budget - Trauma and Injuries - Non-elective (EM + ONEL) admissions per 1000 population across secondary care - Activity"},"2011/12","10G",1066,null,127610,8.35,7.86,8.8699999999999992,9.0563416447475227,9.0492640533569055,null,8.2539999999999996,7.4880000000000013,"B","Y57","X24","11602031","Byar"]
[1160203,{"$f":"VLOOKUP(tblData[[#This Row],[Indicator ID]],'Similar 10 CCGs'!$A$6:$C$160,3,FALSE)","v":"Programme Budget - Trauma and Injuries - Non-elective (EM + ONEL) admissions per 1000 population across secondary care - Activity"},"2011/12","99D",1553,null,169118,9.18,8.73,9.65,9.0563416447475227,8.4417474548979552,null,8.8439999999999994,7.5980000000000008,"B","Y55","X24","11602031","Byar"]
[1160203,{"$f":"VLOOKUP(tblData[[#This Row],[Indicator ID]],'Similar 10 CCGs'!$A$6:$C$160,3,FALSE)","v":"Programme Budget - Trauma and Injuries - Non-elective (EM + ONEL) admissions per 1000 population across secondary care - Activity"},"2011/12","99E",2006,null,271291,7.39,7.07,7.73,9.0563416447475227,8.4417474548979552,null,8.76,8.1140000000000008,"C","Y55","X24","11602031","Byar"]
[1160311,{"$f":"VLOOKUP(tblData[[#This Row],[Indicator ID]],'Similar 10 CCGs'!$A$6:$C$160,3,FALSE)","v":"Mortality from accidents all yrs"},"2009-11","00K",140,null,846078.05583209591,14.524529262808738,12.113004585900615,17.258907313312175,0.20301007838962554,0.22323321953747419,null,16.64824982675616,13.50885704890857,"B","Y54","X24","11603111","Wilson"]
[1160311,{"$f":"VLOOKUP(tblData[[#This Row],[Indicator ID]],'Similar 10 CCGs'!$A$6:$C$160,3,FALSE)","v":"Mortality from accidents all yrs"},"2009-11","01E",108,null,594378.47978505725,13.473822179868174,10.923517141441341,16.416710648904182,0.20301007838962554,0.22323321953747419,null,16.839346275164676,14.511686863431951,"B","Y54","X24","11603111","Wilson"]
[1160311,{"$f":"VLOOKUP(tblData[[#This Row],[Indicator ID]],'Similar 10 CCGs'!$A$6:$C$160,3,FALSE)","v":"Mortality from accidents all yrs"},"2009-11","02E",128,null,594729.47098971426,17.837790202915343,14.760057733210704,21.347853056670967,0.20301007838962554,0.22323321953747419,null,15.318954008866829,14.009731990518802,"A","Y54","X24","11603111","Wilson"]
[1160311,{"$f":"VLOOKUP(tblData[[#This Row],[Indicator ID]],'Similar 10 CCGs'!$A$6:$C$160,3,FALSE)","v":"Mortality from accidents all yrs"},"2009-11","03C",125,null,1041110.8155273537,9.9427143448350677,8.1702141709162213,11.967391747107559,0.20301007838962554,0.22323321953747419,null,16.717135151012933,14.300414822426958,"C","Y54","X24","11603111","Wilson"]
[1160311,{"$f":"VLOOKUP(tblData[[#This Row],[Indicator ID]],'Similar 10 CCGs'!$A$6:$C$160,3,FALSE)","v":"Mortality from accidents all yrs"},"2009-11","03W",212,null,924352.57912230946,15.968071749829116,13.660743410495224,18.523119014938715,0.20301007838962554,0.21119856279661547,null,13.809862268141298,11.882884531712767,"A","Y55","X24","11603111","Wilson"]
[1160311,{"$f":"VLOOKUP(tblData[[#This Row],[Indicator ID]],'Similar 10 CCGs'!$A$6:$C$160,3,FALSE)","v":"Mortality from accidents all yrs"},"2009-11","04V",230,null,1056403.7781851836,15.679152825354603,13.592255292036487,17.980665213110957,0.20301007838962554,0.21119856279661547,null,13.847343169105807,11.931732700902725,"B","Y55","X24","11603111","Wilson"]
[1160311,{"$f":"VLOOKUP(tblData[[#This Row],[Indicator ID]],'Similar 10 CCGs'!$A$6:$C$160,3,FALSE)","v":"Mortality from accidents all yrs"},"2009-11","05T",232,null,840121.91193331289,17.249503496226019,14.797197098454077,19.952853973705402,0.20301007838962554,0.21119856279661547,null,14.697370221542986,13.041463704629317,"A","Y55","X24","11603111","Wilson"]
[1160311,{"$f":"VLOOKUP(tblData[[#This Row],[Indicator ID]],'Similar 10 CCGs'!$A$6:$C$160,3,FALSE)","v":"Mortality from accidents all yrs"},"2009-11","06T",157,null,966499.80419775145,10.632769545372687,8.818752768322156,12.675217130108877,0.20301007838962554,0.21119856279661547,null,15.64351040960538,14.108692855245593,"C","Y55","X24","11603111","Wilson"]
[1160311,{"$f":"VLOOKUP(tblData[[#This Row],[Indicator ID]],'Similar 10 CCGs'!$A$6:$C$160,3,FALSE)","v":"Mortality from accidents all yrs"},"2009-11","08D",96,null,742454.80019475217,12.563373259246186,10.099081039573321,15.432002572346732,0.20301007838962554,0.13549669360720551,null,11.939772855118161,10.864820564259455,"B","Y56","X24","11603111","Wilson"]
[1160311,{"$f":"VLOOKUP(tblData[[#This Row],[Indicator ID]],'Similar 10 CCGs'!$A$6:$C$160,3,FALSE)","v":"Mortality from accidents all yrs"},"2009-11","08Q",97,null,820288.18959368323,11.954563257806425,9.5560885506450486,14.744368006824054,0.20301007838962554,0.13549669360720551,null,12.627237613359485,11.625247808089203,"B","Y56","X24","11603111","Wilson"]
[1160311,{"$f":"VLOOKUP(tblData[[#This Row],[Indicator ID]],'Similar 10 CCGs'!$A$6:$C$160,3,FALSE)","v":"Mortality from accidents all yrs"},"2009-11","09N",93,null,605889.56508478126,9.6826843649816627,7.6073541745475914,12.10445668934376,0.20301007838962554,0.21055978608620898,null,14.094019095739426,12.337694688869004,"C","Y57","X24","11603111","Wilson"]
[1160311,{"$f":"VLOOKUP(tblData[[#This Row],[Indicator ID]],'Similar 10 CCGs'!$A$6:$C$160,3,FALSE)","v":"Mortality from accidents all yrs"},"2009-11","10N",58,null,297705.78706790961,13.657023993714775,10.176263316743244,17.8909548987927,0.20301007838962554,0.21055978608620898,null,14.040147989165201,12.12980351733021,"B","Y57","X24","11603111","Wilson"]
[1160311,{"$f":"VLOOKUP(tblData[[#This Row],[Indicator ID]],'Similar 10 CCGs'!$A$6:$C$160,3,FALSE)","v":"Mortality from accidents all yrs"},"2009-11","11N",369,null,1601419.8034608047,14.938114340060439,13.210873204408038,16.80397861793497,0.20301007838962554,0.21055978608620898,null,14.56954425256848,12.675822432559988,"B","Y57","X24","11603111","Wilson"]
[1160311,{"$f":"VLOOKUP(tblData[[#This Row],[Indicator ID]],'Similar 10 CCGs'!$A$6:$C$160,3,FALSE)","v":"Mortality from accidents all yrs"},"2009-11","99M",110,null,626013.904718637,12.622776088927813,10.21867467899998,15.393304066236638,0.20301007838962554,0.21055978608620898,null,11.970554112754717,10.912970757978425,"B","Y57","X24","11603111","Wilson"]
[1170101,{"$f":"VLOOKUP(tblData[[#This Row],[Indicator ID]],'Similar 10 CCGs'!$A$6:$C$160,3,FALSE)","v":"Programme Budget - Genito Urinary - Total admissions per 1000 population across secondary care - Cost"},"2011/12","00Q",4186194,null,152780,27400.19,26505.56,28317.32,24740.666029925673,26720.163659695125,null,27389.327000000001,25136.258000000002,"","Y54","X24","11701011","Byar"]
[1170101,{"$f":"VLOOKUP(tblData[[#This Row],[Indicator ID]],'Similar 10 CCGs'!$A$6:$C$160,3,FALSE)","v":"Programme Budget - Genito Urinary - Total admissions per 1000 population across secondary care - Cost"},"2011/12","01M",5624527,null,155927,36071.53,34992.720000000001,37175.14,24740.666029925673,26720.163659695125,null,27901.18,25762.29,"A","Y54","X24","11701011","Byar"]
[1170101,{"$f":"VLOOKUP(tblData[[#This Row],[Indicator ID]],'Similar 10 CCGs'!$A$6:$C$160,3,FALSE)","v":"Programme Budget - Genito Urinary - Total admissions per 1000 population across secondary care - Cost"},"2011/12","02N",5165822,null,170450,30306.89,29412.37,31221.71,24740.666029925673,26720.163659695125,null,25098.563000000002,24198.606,"A","Y54","X24","11701011","Byar"]
[1170101,{"$f":"VLOOKUP(tblData[[#This Row],[Indicator ID]],'Similar 10 CCGs'!$A$6:$C$160,3,FALSE)","v":"Programme Budget - Genito Urinary - Total admissions per 1000 population across secondary care - Cost"},"2011/12","03H",3696890,null,177708,20803.2,20049.12,21578.38,24740.666029925673,26720.163659695125,null,26738.302000000003,25028.614000000001,"C","Y54","X24","11701011","Byar"]
[1170101,{"$f":"VLOOKUP(tblData[[#This Row],[Indicator ID]],'Similar 10 CCGs'!$A$6:$C$160,3,FALSE)","v":"Programme Budget - Genito Urinary - Total admissions per 1000 population across secondary care - Cost"},"2011/12","03X",2355551,null,101547,23196.63,22131.11,24300.19,24740.666029925673,24301.293763305614,null,27616.416999999998,24524.205999999998,"","Y55","X24","11701011","Byar"]
[1170101,{"$f":"VLOOKUP(tblData[[#This Row],[Indicator ID]],'Similar 10 CCGs'!$A$6:$C$160,3,FALSE)","v":"Programme Budget - Genito Urinary - Total admissions per 1000 population across secondary care - Cost"},"2011/12","05F",4687030,null,213484,21954.91,21168.400000000001,22763.17,24740.666029925673,24301.293763305614,null,22729.314000000002,20370.576000000001,"","Y55","X24","11701011","Byar"]
[1170101,{"$f":"VLOOKUP(tblData[[#This Row],[Indicator ID]],'Similar 10 CCGs'!$A$6:$C$160,3,FALSE)","v":"Programme Budget - Genito Urinary - Total admissions per 1000 population across secondary care - Cost"},"2011/12","06D",3100226,null,126861,24437.88,23418.05,25490.7,24740.666029925673,24301.293763305614,null,24041.807000000001,20925.379999999997,"B","Y55","X24","11701011","Byar"]
[1170101,{"$f":"VLOOKUP(tblData[[#This Row],[Indicator ID]],'Similar 10 CCGs'!$A$6:$C$160,3,FALSE)","v":"Programme Budget - Genito Urinary - Total admissions per 1000 population across secondary care - Cost"},"2011/12","07K",6301400,null,262594,23996.73,23284.37,24725.33,24740.666029925673,24301.293763305614,null,22275.995000000003,20109.398000000001,"A","Y55","X24","11701011","Byar"]
[1170101,{"$f":"VLOOKUP(tblData[[#This Row],[Indicator ID]],'Similar 10 CCGs'!$A$6:$C$160,3,FALSE)","v":"Programme Budget - Genito Urinary - Total admissions per 1000 population across secondary care - Cost"},"2011/12","08E",5747104,null,223401,25725.45,24999.69,26466.94,24740.666029925673,26505.075492734781,null,25835.956000000002,23707.252,"B","Y56","X24","11701011","Byar"]
[1170101,{"$f":"VLOOKUP(tblData[[#This Row],[Indicator ID]],'Similar 10 CCGs'!$A$6:$C$160,3,FALSE)","v":"Programme Budget - Genito Urinary - Total admissions per 1000 population across secondary care - Cost"},"2011/12","08Y",4399218,null,195138,22544.18,21776.400000000001,23332.12,24740.666029925673,26505.075492734781,null,23613.379000000001,21906.988000000001,"","Y56","X24","11701011","Byar"]
[1170101,{"$f":"VLOOKUP(tblData[[#This Row],[Indicator ID]],'Similar 10 CCGs'!$A$6:$C$160,3,FALSE)","v":"Programme Budget - Genito Urinary - Total admissions per 1000 population across secondary care - Cost"},"2011/12","10A",5799631,null,225686,25697.75,24969.42,26441.93,24740.666029925673,22284.319286252852,null,25507.280999999999,23986.13,"A","Y57","X24","11701011","Byar"]
[1170101,{"$f":"VLOOKUP(tblData[[#This Row],[Indicator ID]],'Similar 10 CCGs'!$A$6:$C$160,3,FALSE)","v":"Programme Budget - Genito Urinary - Total admissions per 1000 population across secondary care - Cost"},"2011/12","10W",1760262,null,99365,17715.02,16779.79,18688.82,24740.666029925673,22284.319286252852,null,24821.201999999997,21931.538,"C","Y57","X24","11701011","Byar"]
[1170101,{"$f":"VLOOKUP(tblData[[#This Row],[Indicator ID]],'Similar 10 CCGs'!$A$6:$C$160,3,FALSE)","v":"Programme Budget - Genito Urinary - Total admissions per 1000 population across secondary care - Cost"},"2011/12","13P",18061721,null,693047,26061.31,25624.41,26503.79,24740.666029925673,24301.293763305614,null,27502.199000000001,25284.662,"","Y55","X24","11701011","Byar"]
[1170102,{"$f":"VLOOKUP(tblData[[#This Row],[Indicator ID]],'Similar 10 CCGs'!$A$6:$C$160,3,FALSE)","v":"Programme Budget - Genito Urinary - Total elective (IP + DC) admissions per 1000 population across secondary care - Cost"},"2011/12","00D",3909573,null,302521,12923.3,12532.93,13322.73,11662.286394445206,12481.330928502284,null,12633.960999999999,11158.619999999999,"B","Y54","X24","11701021","Byar"]
[1170102,{"$f":"VLOOKUP(tblData[[#This Row],[Indicator ID]],'Similar 10 CCGs'!$A$6:$C$160,3,FALSE)","v":"Programme Budget - Genito Urinary - Total elective (IP + DC) admissions per 1000 population across secondary care - Cost"},"2011/12","01A",4831118,null,372103,12983.28,12642.09,13331.35,11662.286394445206,12481.330928502284,null,13068.819,12150.042000000001,"","Y54","X24","11701021","Byar"]
[1170102,{"$f":"VLOOKUP(tblData[[#This Row],[Indicator ID]],'Similar 10 CCGs'!$A$6:$C$160,3,FALSE)","v":"Programme Budget - Genito Urinary - Total elective (IP + DC) admissions per 1000 population across secondary care - Cost"},"2011/12","01X",2792209,null,201254,13874.06,13387.5,14373.79,11662.286394445206,12481.330928502284,null,13806.059999999998,12465.454,"A","Y54","X24","11701021","Byar"]
[1170102,{"$f":"VLOOKUP(tblData[[#This Row],[Indicator ID]],'Similar 10 CCGs'!$A$6:$C$160,3,FALSE)","v":"Programme Budget - Genito Urinary - Total elective (IP + DC) admissions per 1000 population across secondary care - Cost"},"2011/12","02W",856373,null,84083,10184.82,9492.0400000000009,10914.8,11662.286394445206,12481.330928502284,null,11538.996000000003,10381.146000000001,"C","Y54","X24","11701021","Byar"]
[1170102,{"$f":"VLOOKUP(tblData[[#This Row],[Indicator ID]],'Similar 10 CCGs'!$A$6:$C$160,3,FALSE)","v":"Programme Budget - Genito Urinary - Total elective (IP + DC) admissions per 1000 population across secondary care - Cost"},"2011/12","03R",4471072,null,360019,12419,12053.53,12792.73,11662.286394445206,12481.330928502284,null,12994.547,11312.176000000001,"","Y54","X24","11701021","Byar"]
[1170102,{"$f":"VLOOKUP(tblData[[#This Row],[Indicator ID]],'Similar 10 CCGs'!$A$6:$C$160,3,FALSE)","v":"Programme Budget - Genito Urinary - Total elective (IP + DC) admissions per 1000 population across secondary care - Cost"},"2011/12","04M",862704,null,99274,8690.1299999999992,8123.47,9285.89,11662.286394445206,11395.792824740476,null,11169.569,9756.1899999999987,"C","Y55","X24","11701021","Byar"]
[1170102,{"$f":"VLOOKUP(tblData[[#This Row],[Indicator ID]],'Similar 10 CCGs'!$A$6:$C$160,3,FALSE)","v":"Programme Budget - Genito Urinary - Total elective (IP + DC) admissions per 1000 population across secondary care - Cost"},"2011/12","05N",2909386,null,330356,8806.82,8472.16,9151.31,11662.286394445206,11395.792824740476,null,12002.004000000001,10566.505999999999,"C","Y55","X24","11701021","Byar"]
[1170102,{"$f":"VLOOKUP(tblData[[#This Row],[Indicator ID]],'Similar 10 CCGs'!$A$6:$C$160,3,FALSE)","v":"Programme Budget - Genito Urinary - Total elective (IP + DC) admissions per 1000 population across secondary care - Cost"},"2011/12","06N",6361371,null,596346,10667.24,10409,10930.27,11662.286394445206,11395.792824740476,null,11673.08,10503.867999999999,"","Y55","X24","11701021","Byar"]
[1170102,{"$f":"VLOOKUP(tblData[[#This Row],[Indicator ID]],'Similar 10 CCGs'!$A$6:$C$160,3,FALSE)","v":"Programme Budget - Genito Urinary - Total elective (IP + DC) admissions per 1000 population across secondary care - Cost"},"2011/12","07Q",5627152,null,338179,16639.55,16225.38,17061.61,11662.286394445206,11613.095898872467,null,12206.572,10242.92,"A","Y56","X24","11701021","Byar"]
[1170102,{"$f":"VLOOKUP(tblData[[#This Row],[Indicator ID]],'Similar 10 CCGs'!$A$6:$C$160,3,FALSE)","v":"Programme Budget - Genito Urinary - Total elective (IP + DC) admissions per 1000 population across secondary care - Cost"},"2011/12","07R",1840282,null,216580,8497,8128.83,8877.5499999999993,11662.286394445206,11613.095898872467,null,10550.845000000001,9071.6680000000015,"","Y56","X24","11701021","Byar"]
[1170102,{"$f":"VLOOKUP(tblData[[#This Row],[Indicator ID]],'Similar 10 CCGs'!$A$6:$C$160,3,FALSE)","v":"Programme Budget - Genito Urinary - Total elective (IP + DC) admissions per 1000 population across secondary care - Cost"},"2011/12","08T",2075410,null,182057,11399.77,10927.17,11887.55,11662.286394445206,11613.095898872467,null,12599.121000000001,10504.878000000001,"","Y56","X24","11701021","Byar"]
[1170102,{"$f":"VLOOKUP(tblData[[#This Row],[Indicator ID]],'Similar 10 CCGs'!$A$6:$C$160,3,FALSE)","v":"Programme Budget - Genito Urinary - Total elective (IP + DC) admissions per 1000 population across secondary care - Cost"},"2011/12","09G",6732507,null,545231,12347.99,12061.48,12639.59,11662.286394445206,11116.753189534917,null,12178.066999999999,11260.816000000001,"A","Y57","X24","11701021","Byar"]
[1170102,{"$f":"VLOOKUP(tblData[[#This Row],[Indicator ID]],'Similar 10 CCGs'!$A$6:$C$160,3,FALSE)","v":"Programme Budget - Genito Urinary - Total elective (IP + DC) admissions per 1000 population across secondary care - Cost"},"2011/12","10K",1913866,null,213301,8972.6200000000008,8534.23,9427.7000000000007,11662.286394445206,11116.753189534917,null,10585.99,9471.3979999999992,"C","Y57","X24","11701021","Byar"]
[1170102,{"$f":"VLOOKUP(tblData[[#This Row],[Indicator ID]],'Similar 10 CCGs'!$A$6:$C$160,3,FALSE)","v":"Programme Budget - Genito Urinary - Total elective (IP + DC) admissions per 1000 population across secondary care - Cost"},"2011/12","11H",4103870,null,432251,9494.18,9226.02,9768.15,11662.286394445206,11116.753189534917,null,11550.121000000001,9737.9160000000011,"C","Y57","X24","11701021","Byar"]
[1170102,{"$f":"VLOOKUP(tblData[[#This Row],[Indicator ID]],'Similar 10 CCGs'!$A$6:$C$160,3,FALSE)","v":"Programme Budget - Genito Urinary - Total elective (IP + DC) admissions per 1000 population across secondary care - Cost"},"2011/12","99G",1995006,null,189911,10504.94,10071.1,10952.66,11662.286394445206,11395.792824740476,null,12991.706999999999,11964.487999999999,"C","Y55","X24","11701021","Byar"]
[1170103,{"$f":"VLOOKUP(tblData[[#This Row],[Indicator ID]],'Similar 10 CCGs'!$A$6:$C$160,3,FALSE)","v":"Programme Budget - Genito Urinary - Non-elective (EM + ONEL) admissions per 1000 population across secondary care - Cost"},"2011/12","00M",5194213,null,291465,17821.04,16999.71,18671.810000000001,13078.374143770219,14238.508926369926,null,15196.247999999998,13433.202000000001,"A","Y54","X24","11701031","Byar"]
[1170103,{"$f":"VLOOKUP(tblData[[#This Row],[Indicator ID]],'Similar 10 CCGs'!$A$6:$C$160,3,FALSE)","v":"Programme Budget - Genito Urinary - Non-elective (EM + ONEL) admissions per 1000 population across secondary care - Cost"},"2011/12","01G",4084034,null,223491,18273.810000000001,17243.75,19349.330000000002,13078.374143770219,14238.508926369926,null,16338.269,14813.984,"A","Y54","X24","11701031","Byar"]
[1170103,{"$f":"VLOOKUP(tblData[[#This Row],[Indicator ID]],'Similar 10 CCGs'!$A$6:$C$160,3,FALSE)","v":"Programme Budget - Genito Urinary - Non-elective (EM + ONEL) admissions per 1000 population across secondary care - Cost"},"2011/12","02G",1685569,null,118137,14267.88,13058.59,15559.02,13078.374143770219,14238.508926369926,null,12620.367000000002,11451.782000000001,"B","Y54","X24","11701031","Byar"]
[1170103,{"$f":"VLOOKUP(tblData[[#This Row],[Indicator ID]],'Similar 10 CCGs'!$A$6:$C$160,3,FALSE)","v":"Programme Budget - Genito Urinary - Non-elective (EM + ONEL) admissions per 1000 population across secondary care - Cost"},"2011/12","03E",1960534,null,181537,10799.66,9923.58,11732.35,13078.374143770219,14238.508926369926,null,11595.636999999999,9675.8439999999973,"","Y54","X24","11701031","Byar"]
[1170103,{"$f":"VLOOKUP(tblData[[#This Row],[Indicator ID]],'Similar 10 CCGs'!$A$6:$C$160,3,FALSE)","v":"Programme Budget - Genito Urinary - Non-elective (EM + ONEL) admissions per 1000 population across secondary care - Cost"},"2011/12","03Y",1823406,null,112970,16140.55,14819.62,17547.64,13078.374143770219,12904.83595217197,null,13616.669,12363.957999999999,"A","Y55","X24","11701031","Byar"]
[1170103,{"$f":"VLOOKUP(tblData[[#This Row],[Indicator ID]],'Similar 10 CCGs'!$A$6:$C$160,3,FALSE)","v":"Programme Budget - Genito Urinary - Non-elective (EM + ONEL) admissions per 1000 population across secondary care - Cost"},"2011/12","04Q",2067283,null,146228,14137.38,12972.06,15379.28,13078.374143770219,12904.83595217197,null,12071.401999999998,10707.477999999999,"A","Y55","X24","11701031","Byar"]
[1170103,{"$f":"VLOOKUP(tblData[[#This Row],[Indicator ID]],'Similar 10 CCGs'!$A$6:$C$160,3,FALSE)","v":"Programme Budget - Genito Urinary - Non-elective (EM + ONEL) admissions per 1000 population across secondary care - Cost"},"2011/12","05X",2423440,null,155225,15612.44,14517.78,16767.75,13078.374143770219,12904.83595217197,null,14679.991,12883.315999999999,"A","Y55","X24","11701031","Byar"]
[1170103,{"$f":"VLOOKUP(tblData[[#This Row],[Indicator ID]],'Similar 10 CCGs'!$A$6:$C$160,3,FALSE)","v":"Programme Budget - Genito Urinary - Non-elective (EM + ONEL) admissions per 1000 population across secondary care - Cost"},"2011/12","07G",2052774,null,141543,14502.86,13208.99,15889.21,13078.374143770219,12904.83595217197,null,13165.516,11787.874,"B","Y55","X24","11701031","Byar"]
[1170103,{"$f":"VLOOKUP(tblData[[#This Row],[Indicator ID]],'Similar 10 CCGs'!$A$6:$C$160,3,FALSE)","v":"Programme Budget - Genito Urinary - Non-elective (EM + ONEL) admissions per 1000 population across secondary care - Cost"},"2011/12","08A",3141561,null,208330,15079.74,14031.95,16185.05,13078.374143770219,15017.418354262016,null,16831.762999999999,14508.15,"B","Y56","X24","11701031","Byar"]
[1170103,{"$f":"VLOOKUP(tblData[[#This Row],[Indicator ID]],'Similar 10 CCGs'!$A$6:$C$160,3,FALSE)","v":"Programme Budget - Genito Urinary - Non-elective (EM + ONEL) admissions per 1000 population across secondary care - Cost"},"2011/12","08T",2472178,null,176185,14031.75,12993.77,15130.58,13078.374143770219,15017.418354262016,null,13567.539000000001,12040.277999999998,"A","Y56","X24","11701031","Byar"]
[1170103,{"$f":"VLOOKUP(tblData[[#This Row],[Indicator ID]],'Similar 10 CCGs'!$A$6:$C$160,3,FALSE)","v":"Programme Budget - Genito Urinary - Non-elective (EM + ONEL) admissions per 1000 population across secondary care - Cost"},"2011/12","09W",2985450,null,258865,11532.83,10729.94,12379.88,13078.374143770219,11195.973829992055,null,13990.560999999998,12269.456,"C","Y57","X24","11701031","Byar"]
[1170103,{"$f":"VLOOKUP(tblData[[#This Row],[Indicator ID]],'Similar 10 CCGs'!$A$6:$C$160,3,FALSE)","v":"Programme Budget - Genito Urinary - Non-elective (EM + ONEL) admissions per 1000 population across secondary care - Cost"},"2011/12","10R",2145171,null,197892,10840.14,10025.75,11703.05,13078.374143770219,11195.973829992055,null,12805.329999999998,10913.931999999999,"","Y57","X24","11701031","Byar"]
[1170103,{"$f":"VLOOKUP(tblData[[#This Row],[Indicator ID]],'Similar 10 CCGs'!$A$6:$C$160,3,FALSE)","v":"Programme Budget - Genito Urinary - Non-elective (EM + ONEL) admissions per 1000 population across secondary care - Cost"},"2011/12","11X",7822593,null,652323,11991.91,11473.46,12527.75,13078.374143770219,11195.973829992055,null,11165.816000000003,10094.111999999999,"B","Y57","X24","11701031","Byar"]
[1170103,{"$f":"VLOOKUP(tblData[[#This Row],[Indicator ID]],'Similar 10 CCGs'!$A$6:$C$160,3,FALSE)","v":"Programme Budget - Genito Urinary - Non-elective (EM + ONEL) admissions per 1000 population across secondary care - Cost"},"2011/12","99P",11883605,null,1054731,11266.95,10878.29,11665.95,13078.374143770219,11195.973829992055,null,11578.740000000002,10650.92,"B","Y57","X24","11701031","Byar"]
[1170105,{"$f":"VLOOKUP(tblData[[#This Row],[Indicator ID]],'Similar 10 CCGs'!$A$6:$C$160,3,FALSE)","v":"Programme Budget - Genito Urinary - Cost prescribed per 1000 ASTRO-PU population - Cost"},"2011/12","00T",2332499,null,282744,8249.51,8205.39,8293.81,7197.5259823431816,7663.6851085677463,null,7847.81,7248.3779999999997,"A","Y54","X24","11701051","Byar"]
[1170105,{"$f":"VLOOKUP(tblData[[#This Row],[Indicator ID]],'Similar 10 CCGs'!$A$6:$C$160,3,FALSE)","v":"Programme Budget - Genito Urinary - Cost prescribed per 1000 ASTRO-PU population - Cost"},"2011/12","01V",825513,null,148548,5557.23,5507.32,5607.48,7197.5259823431816,7663.6851085677463,null,7130.1290000000008,6510.9420000000009,"C","Y54","X24","11701051","Byar"]
[1170105,{"$f":"VLOOKUP(tblData[[#This Row],[Indicator ID]],'Similar 10 CCGs'!$A$6:$C$160,3,FALSE)","v":"Programme Budget - Genito Urinary - Cost prescribed per 1000 ASTRO-PU population - Cost"},"2011/12","02R",2435081,null,307738,7912.84,7871.42,7954.42,7197.5259823431816,7663.6851085677463,null,7829.2440000000006,7275.9119999999994,"A","Y54","X24","11701051","Byar"]
[1170105,{"$f":"VLOOKUP(tblData[[#This Row],[Indicator ID]],'Similar 10 CCGs'!$A$6:$C$160,3,FALSE)","v":"Programme Budget - Genito Urinary - Cost prescribed per 1000 ASTRO-PU population - Cost"},"2011/12","03L",1474433,null,263096,5604.16,5566.47,5642.03,7197.5259823431816,7663.6851085677463,null,7883.4699999999984,7353.8160000000007,"C","Y54","X24","11701051","Byar"]
[1170105,{"$f":"VLOOKUP(tblData[[#This Row],[Indicator ID]],'Similar 10 CCGs'!$A$6:$C$160,3,FALSE)","v":"Programme Budget - Genito Urinary - Cost prescribed per 1000 ASTRO-PU population - Cost"},"2011/12","04J",2325726,null,326560,7121.89,7083.74,7160.19,7197.5259823431816,7127.1610198837661,null,7477.5680000000011,7056.003999999999,"","Y55","X24","11701051","Byar"]
[1170105,{"$f":"VLOOKUP(tblData[[#This Row],[Indicator ID]],'Similar 10 CCGs'!$A$6:$C$160,3,FALSE)","v":"Programme Budget - Genito Urinary - Cost prescribed per 1000 ASTRO-PU population - Cost"},"2011/12","05H",1389686,null,192144,7232.51,7182.42,7282.87,7197.5259823431816,7127.1610198837661,null,7254.9680000000008,6717.7160000000003,"A","Y55","X24","11701051","Byar"]
[1170105,{"$f":"VLOOKUP(tblData[[#This Row],[Indicator ID]],'Similar 10 CCGs'!$A$6:$C$160,3,FALSE)","v":"Programme Budget - Genito Urinary - Cost prescribed per 1000 ASTRO-PU population - Cost"},"2011/12","06H",6126173,null,830938,7372.6,7348.26,7397.01,7197.5259823431816,7127.1610198837661,null,6879.168999999999,6433.9940000000006,"A","Y55","X24","11701051","Byar"]
[1170105,{"$f":"VLOOKUP(tblData[[#This Row],[Indicator ID]],'Similar 10 CCGs'!$A$6:$C$160,3,FALSE)","v":"Programme Budget - Genito Urinary - Cost prescribed per 1000 ASTRO-PU population - Cost"},"2011/12","07M",2513808,null,339202,7410.96,7372.78,7449.28,7197.5259823431816,6817.3429927909601,null,6719.3820000000005,6128.4119999999994,"A","Y56","X24","11701051","Byar"]
[1170105,{"$f":"VLOOKUP(tblData[[#This Row],[Indicator ID]],'Similar 10 CCGs'!$A$6:$C$160,3,FALSE)","v":"Programme Budget - Genito Urinary - Cost prescribed per 1000 ASTRO-PU population - Cost"},"2011/12","08G",1642564,null,249228,6590.6,6548.6,6632.79,7197.5259823431816,6817.3429927909601,null,7048.2970000000005,6390.1380000000008,"","Y56","X24","11701051","Byar"]
[1170105,{"$f":"VLOOKUP(tblData[[#This Row],[Indicator ID]],'Similar 10 CCGs'!$A$6:$C$160,3,FALSE)","v":"Programme Budget - Genito Urinary - Cost prescribed per 1000 ASTRO-PU population - Cost"},"2011/12","09C",889189,null,123292,7212.04,7149.62,7274.87,7197.5259823431816,6969.780374991341,null,7118.1820000000007,6499.3740000000007,"A","Y57","X24","11701051","Byar"]
[1170105,{"$f":"VLOOKUP(tblData[[#This Row],[Indicator ID]],'Similar 10 CCGs'!$A$6:$C$160,3,FALSE)","v":"Programme Budget - Genito Urinary - Cost prescribed per 1000 ASTRO-PU population - Cost"},"2011/12","09L",1149980,null,173022,6646.43,6595.83,6697.31,7197.5259823431816,6969.780374991341,null,6787.32,6237.2939999999999,"","Y57","X24","11701051","Byar"]
[1170105,{"$f":"VLOOKUP(tblData[[#This Row],[Indicator ID]],'Similar 10 CCGs'!$A$6:$C$160,3,FALSE)","v":"Programme Budget - Genito Urinary - Cost prescribed per 1000 ASTRO-PU population - Cost"},"2011/12","11A",4823986,null,610102,7906.85,7877.43,7936.35,7197.5259823431816,6969.780374991341,null,7071.0740000000005,6665.6940000000004,"A","Y57","X24","11701051","Byar"]
[1170105,{"$f":"VLOOKUP(tblData[[#This Row],[Indicator ID]],'Similar 10 CCGs'!$A$6:$C$160,3,FALSE)","v":"Programme Budget - Genito Urinary - Cost prescribed per 1000 ASTRO-PU population - Cost"},"2011/12","99D",1417694,null,178151,7957.83,7903.26,8012.69,7197.5259823431816,7127.1610198837661,null,7299.2850000000008,6874.3639999999996,"A","Y55","X24","11701051","Byar"]
[1170201,{"$f":"VLOOKUP(tblData[[#This Row],[Indicator ID]],'Similar 10 CCGs'!$A$6:$C$160,3,FALSE)","v":"Programme Budget - Genito Urinary - Total admissions per 1000 population across secondary care - Activity"},"2011/12","00H",2937,null,126359,23.24,22.41,24.1,18.801006157032557,20.818083852457875,null,21.934000000000005,19.516000000000002,"A","Y54","X24","11702011","Byar"]
[1170201,{"$f":"VLOOKUP(tblData[[#This Row],[Indicator ID]],'Similar 10 CCGs'!$A$6:$C$160,3,FALSE)","v":"Programme Budget - Genito Urinary - Total admissions per 1000 population across secondary care - Activity"},"2011/12","01D",5357,null,212765,25.18,24.51,25.86,18.801006157032557,20.818083852457875,null,21.058000000000003,19.734000000000002,"A","Y54","X24","11702011","Byar"]
[1170201,{"$f":"VLOOKUP(tblData[[#This Row],[Indicator ID]],'Similar 10 CCGs'!$A$6:$C$160,3,FALSE)","v":"Programme Budget - Genito Urinary - Total admissions per 1000 population across secondary care - Activity"},"2011/12","02A",5642,null,234000,24.11,23.49,24.75,18.801006157032557,20.818083852457875,null,19.575999999999997,17.646000000000004,"A","Y54","X24","11702011","Byar"]
[1170201,{"$f":"VLOOKUP(tblData[[#This Row],[Indicator ID]],'Similar 10 CCGs'!$A$6:$C$160,3,FALSE)","v":"Programme Budget - Genito Urinary - Total admissions per 1000 population across secondary care - Activity"},"2011/12","02Y",6878,null,338128,20.34,19.86,20.83,18.801006157032557,20.818083852457875,null,18.305,15.834,"A","Y54","X24","11702011","Byar"]
[1170201,{"$f":"VLOOKUP(tblData[[#This Row],[Indicator ID]],'Similar 10 CCGs'!$A$6:$C$160,3,FALSE)","v":"Programme Budget - Genito Urinary - Total admissions per 1000 population across secondary care - Activity"},"2011/12","03V",1474,null,64805,22.75,21.6,23.94,18.801006157032557,18.320619399511369,null,22.678000000000001,19.972000000000001,"B","Y55","X24","11702011","Byar"]
[1170201,{"$f":"VLOOKUP(tblData[[#This Row],[Indicator ID]],'Similar 10 CCGs'!$A$6:$C$160,3,FALSE)","v":"Programme Budget - Genito Urinary - Total admissions per 1000 population across secondary care - Activity"},"2011/12","04Q",2606,null,141092,18.47,17.77,19.190000000000001,18.801006157032557,18.320619399511369,null,17.806000000000001,16.128,"B","Y55","X24","11702011","Byar"]
[1170201,{"$f":"VLOOKUP(tblData[[#This Row],[Indicator ID]],'Similar 10 CCGs'!$A$6:$C$160,3,FALSE)","v":"Programme Budget - Genito Urinary - Total admissions per 1000 population across secondary care - Activity"},"2011/12","05Q",4369,null,219686,19.89,19.3,20.49,18.801006157032557,18.320619399511369,null,19.282999999999998,15.780000000000001,"A","Y55","X24","11702011","Byar"]
[1170201,{"$f":"VLOOKUP(tblData[[#This Row],[Indicator ID]],'Similar 10 CCGs'!$A$6:$C$160,3,FALSE)","v":"Programme Budget - Genito Urinary - Total admissions per 1000 population across secondary care - Activity"},"2011/12","06N",9620,null,592943,16.22,15.9,16.55,18.801006157032557,18.320619399511369,null,18.021999999999998,15.801999999999998,"","Y55","X24","11702011","Byar"]
[1170201,{"$f":"VLOOKUP(tblData[[#This Row],[Indicator ID]],'Similar 10 CCGs'!$A$6:$C$160,3,FALSE)","v":"Programme Budget - Genito Urinary - Total admissions per 1000 population across secondary care - Activity"},"2011/12","06T",6380,null,355587,17.940000000000001,17.5,18.39,18.801006157032557,18.320619399511369,null,18.706,16.651999999999997,"","Y55","X24","11702011","Byar"]
[1170201,{"$f":"VLOOKUP(tblData[[#This Row],[Indicator ID]],'Similar 10 CCGs'!$A$6:$C$160,3,FALSE)","v":"Programme Budget - Genito Urinary - Total admissions per 1000 population across secondary care - Activity"},"2011/12","07W",7018,null,342794,20.47,20,20.96,18.801006157032557,19.685894087303922,null,19.440999999999999,17.376000000000001,"B","Y56","X24","11702011","Byar"]
[1170201,{"$f":"VLOOKUP(tblData[[#This Row],[Indicator ID]],'Similar 10 CCGs'!$A$6:$C$160,3,FALSE)","v":"Programme Budget - Genito Urinary - Total admissions per 1000 population across secondary care - Activity"},"2011/12","08P",2116,null,187808,11.27,10.79,11.76,18.801006157032557,19.685894087303922,null,17.927,14.918000000000001,"C","Y56","X24","11702011","Byar"]
[1170201,{"$f":"VLOOKUP(tblData[[#This Row],[Indicator ID]],'Similar 10 CCGs'!$A$6:$C$160,3,FALSE)","v":"Programme Budget - Genito Urinary - Total admissions per 1000 population across secondary care - Activity"},"2011/12","09J",5129,null,251879,20.36,19.809999999999999,20.93,18.801006157032557,16.734807974458654,null,17.215,16.128,"A","Y57","X24","11702011","Byar"]
[1170201,{"$f":"VLOOKUP(tblData[[#This Row],[Indicator ID]],'Similar 10 CCGs'!$A$6:$C$160,3,FALSE)","v":"Programme Budget - Genito Urinary - Total admissions per 1000 population across secondary care - Activity"},"2011/12","10M",1544,null,112517,13.72,13.05,14.42,18.801006157032557,16.734807974458654,null,18.28,17.092000000000002,"C","Y57","X24","11702011","Byar"]
[1170201,{"$f":"VLOOKUP(tblData[[#This Row],[Indicator ID]],'Similar 10 CCGs'!$A$6:$C$160,3,FALSE)","v":"Programme Budget - Genito Urinary - Total admissions per 1000 population across secondary care - Activity"},"2011/12","11M",9739,null,652557,14.92,14.63,15.22,18.801006157032557,16.734807974458654,null,16.686999999999998,15.244,"C","Y57","X24","11702011","Byar"]
[1170201,{"$f":"VLOOKUP(tblData[[#This Row],[Indicator ID]],'Similar 10 CCGs'!$A$6:$C$160,3,FALSE)","v":"Programme Budget - Genito Urinary - Total admissions per 1000 population across secondary care - Activity"},"2011/12","99K",2764,null,180940,15.28,14.71,15.86,18.801006157032557,16.734807974458654,null,17.873000000000001,16.545999999999999,"","Y57","X24","11702011","Byar"]
[1170202,{"$f":"VLOOKUP(tblData[[#This Row],[Indicator ID]],'Similar 10 CCGs'!$A$6:$C$160,3,FALSE)","v":"Programme Budget - Genito Urinary - Total elective (IP + DC) admissions per 1000 population across secondary care - Activity"},"2011/12","00P",4810,null,290603,16.55,16.09,17.03,12.205817947039206,13.428624081672156,null,14.093999999999999,12.282,"A","Y54","X24","11702021","Byar"]
[1170202,{"$f":"VLOOKUP(tblData[[#This Row],[Indicator ID]],'Similar 10 CCGs'!$A$6:$C$160,3,FALSE)","v":"Programme Budget - Genito Urinary - Total elective (IP + DC) admissions per 1000 population across secondary care - Activity"},"2011/12","01J",2222,null,157818,14.08,13.5,14.68,12.205817947039206,13.428624081672156,null,15.184000000000001,13.382,"B","Y54","X24","11702021","Byar"]
[1170202,{"$f":"VLOOKUP(tblData[[#This Row],[Indicator ID]],'Similar 10 CCGs'!$A$6:$C$160,3,FALSE)","v":"Programme Budget - Genito Urinary - Total elective (IP + DC) admissions per 1000 population across secondary care - Activity"},"2011/12","02Q",1112,null,118931,9.35,8.81,9.92,12.205817947039206,13.428624081672156,null,14.791,13.084,"C","Y54","X24","11702021","Byar"]
[1170202,{"$f":"VLOOKUP(tblData[[#This Row],[Indicator ID]],'Similar 10 CCGs'!$A$6:$C$160,3,FALSE)","v":"Programme Budget - Genito Urinary - Total elective (IP + DC) admissions per 1000 population across secondary care - Activity"},"2011/12","03H",2029,null,174832,11.61,11.11,12.12,12.205817947039206,13.428624081672156,null,13.016999999999999,11.282,"","Y54","X24","11702021","Byar"]
[1170202,{"$f":"VLOOKUP(tblData[[#This Row],[Indicator ID]],'Similar 10 CCGs'!$A$6:$C$160,3,FALSE)","v":"Programme Budget - Genito Urinary - Total elective (IP + DC) admissions per 1000 population across secondary care - Activity"},"2011/12","04E",3144,null,189414,16.600000000000001,16.02,17.190000000000001,12.205817947039206,11.841851385648567,null,14.684999999999999,11.656000000000002,"A","Y55","X24","11702021","Byar"]
[1170202,{"$f":"VLOOKUP(tblData[[#This Row],[Indicator ID]],'Similar 10 CCGs'!$A$6:$C$160,3,FALSE)","v":"Programme Budget - Genito Urinary - Total elective (IP + DC) admissions per 1000 population across secondary care - Activity"},"2011/12","05D",1388,null,137727,10.08,9.5500000000000007,10.62,12.205817947039206,11.841851385648567,null,13.548000000000002,12.398,"C","Y55","X24","11702021","Byar"]
[1170202,{"$f":"VLOOKUP(tblData[[#This Row],[Indicator ID]],'Similar 10 CCGs'!$A$6:$C$160,3,FALSE)","v":"Programme Budget - Genito Urinary - Total elective (IP + DC) admissions per 1000 population across secondary care - Activity"},"2011/12","06A",2778,null,254956,10.9,10.49,11.31,12.205817947039206,11.841851385648567,null,13.870999999999999,11.406000000000001,"C","Y55","X24","11702021","Byar"]
[1170202,{"$f":"VLOOKUP(tblData[[#This Row],[Indicator ID]],'Similar 10 CCGs'!$A$6:$C$160,3,FALSE)","v":"Programme Budget - Genito Urinary - Total elective (IP + DC) admissions per 1000 population across secondary care - Activity"},"2011/12","07J",3112,null,189171,16.45,15.88,17.04,12.205817947039206,11.841851385648567,null,11.523,8.4419999999999984,"A","Y55","X24","11702021","Byar"]
[1170202,{"$f":"VLOOKUP(tblData[[#This Row],[Indicator ID]],'Similar 10 CCGs'!$A$6:$C$160,3,FALSE)","v":"Programme Budget - Genito Urinary - Total elective (IP + DC) admissions per 1000 population across secondary care - Activity"},"2011/12","08D",3211,null,245558,13.08,12.63,13.54,12.205817947039206,12.73467719071178,null,13.946999999999999,11.465999999999999,"","Y56","X24","11702021","Byar"]
[1170202,{"$f":"VLOOKUP(tblData[[#This Row],[Indicator ID]],'Similar 10 CCGs'!$A$6:$C$160,3,FALSE)","v":"Programme Budget - Genito Urinary - Total elective (IP + DC) admissions per 1000 population across secondary care - Activity"},"2011/12","08W",3320,null,252040,13.17,12.73,13.63,12.205817947039206,12.73467719071178,null,13.784000000000001,11.654,"B","Y56","X24","11702021","Byar"]
[1170202,{"$f":"VLOOKUP(tblData[[#This Row],[Indicator ID]],'Similar 10 CCGs'!$A$6:$C$160,3,FALSE)","v":"Programme Budget - Genito Urinary - Total elective (IP + DC) admissions per 1000 population across secondary care - Activity"},"2011/12","09Y",4230,null,356226,11.87,11.52,12.24,12.205817947039206,11.030273854119891,null,11.263999999999999,9.6720000000000006,"A","Y57","X24","11702021","Byar"]
[1170202,{"$f":"VLOOKUP(tblData[[#This Row],[Indicator ID]],'Similar 10 CCGs'!$A$6:$C$160,3,FALSE)","v":"Programme Budget - Genito Urinary - Total elective (IP + DC) admissions per 1000 population across secondary care - Activity"},"2011/12","10V",1749,null,227573,7.69,7.33,8.0500000000000007,12.205817947039206,11.030273854119891,null,11.728,10.528,"C","Y57","X24","11702021","Byar"]
[1170202,{"$f":"VLOOKUP(tblData[[#This Row],[Indicator ID]],'Similar 10 CCGs'!$A$6:$C$160,3,FALSE)","v":"Programme Budget - Genito Urinary - Total elective (IP + DC) admissions per 1000 population across secondary care - Activity"},"2011/12","11J",11900,null,861844,13.81,13.56,14.06,12.205817947039206,11.030273854119891,null,11.003,10.291999999999998,"A","Y57","X24","11702021","Byar"]
[1170203,{"$f":"VLOOKUP(tblData[[#This Row],[Indicator ID]],'Similar 10 CCGs'!$A$6:$C$160,3,FALSE)","v":"Programme Budget - Genito Urinary - Non-elective (EM + ONEL) admissions per 1000 population across secondary care - Activity"},"2011/12","00D",2501,null,299434,8.35,8.0299999999999994,8.69,6.5973818585736952,7.3946003239119795,null,4.1950000000000003,3.6740000000000004,"A","Y54","X24","11702031","Byar"]
[1170203,{"$f":"VLOOKUP(tblData[[#This Row],[Indicator ID]],'Similar 10 CCGs'!$A$6:$C$160,3,FALSE)","v":"Programme Budget - Genito Urinary - Non-elective (EM + ONEL) admissions per 1000 population across secondary care - Activity"},"2011/12","00X",1268,null,172973,7.33,6.93,7.75,6.5973818585736952,7.3946003239119795,null,4.3470000000000004,3.8939999999999997,"B","Y54","X24","11702031","Byar"]
[1170203,{"$f":"VLOOKUP(tblData[[#This Row],[Indicator ID]],'Similar 10 CCGs'!$A$6:$C$160,3,FALSE)","v":"Programme Budget - Genito Urinary - Non-elective (EM + ONEL) admissions per 1000 population across secondary care - Activity"},"2011/12","01W",2264,null,309093,7.32,7.03,7.63,6.5973818585736952,7.3946003239119795,null,4.3840000000000012,3.9780000000000002,"B","Y54","X24","11702031","Byar"]
[1170203,{"$f":"VLOOKUP(tblData[[#This Row],[Indicator ID]],'Similar 10 CCGs'!$A$6:$C$160,3,FALSE)","v":"Programme Budget - Genito Urinary - Non-elective (EM + ONEL) admissions per 1000 population across secondary care - Activity"},"2011/12","02V",1352,null,200613,6.74,6.38,7.11,6.5973818585736952,7.3946003239119795,null,3.7770000000000001,3.1880000000000002,"B","Y54","X24","11702031","Byar"]
[1170203,{"$f":"VLOOKUP(tblData[[#This Row],[Indicator ID]],'Similar 10 CCGs'!$A$6:$C$160,3,FALSE)","v":"Programme Budget - Genito Urinary - Non-elective (EM + ONEL) admissions per 1000 population across secondary care - Activity"},"2011/12","03N",4079,null,571971,7.13,6.91,7.35,6.5973818585736952,7.3946003239119795,null,3.78,3.3600000000000003,"","Y54","X24","11702031","Byar"]
[1170203,{"$f":"VLOOKUP(tblData[[#This Row],[Indicator ID]],'Similar 10 CCGs'!$A$6:$C$160,3,FALSE)","v":"Programme Budget - Genito Urinary - Non-elective (EM + ONEL) admissions per 1000 population across secondary care - Activity"},"2011/12","04L",937,null,152169,6.16,5.77,6.56,6.5973818585736952,6.4788346540592805,null,3.9380000000000002,3.4,"B","Y55","X24","11702031","Byar"]
[1170203,{"$f":"VLOOKUP(tblData[[#This Row],[Indicator ID]],'Similar 10 CCGs'!$A$6:$C$160,3,FALSE)","v":"Programme Budget - Genito Urinary - Non-elective (EM + ONEL) admissions per 1000 population across secondary care - Activity"},"2011/12","05L",3818,null,483552,7.9,7.65,8.15,6.5973818585736952,6.4788346540592805,null,4.7309999999999999,4.0780000000000003,"","Y55","X24","11702031","Byar"]
[1170203,{"$f":"VLOOKUP(tblData[[#This Row],[Indicator ID]],'Similar 10 CCGs'!$A$6:$C$160,3,FALSE)","v":"Programme Budget - Genito Urinary - Non-elective (EM + ONEL) admissions per 1000 population across secondary care - Activity"},"2011/12","06M",1638,null,266444,6.15,5.85,6.45,6.5973818585736952,6.4788346540592805,null,3.3020000000000005,2.7239999999999998,"B","Y55","X24","11702031","Byar"]
[1170203,{"$f":"VLOOKUP(tblData[[#This Row],[Indicator ID]],'Similar 10 CCGs'!$A$6:$C$160,3,FALSE)","v":"Programme Budget - Genito Urinary - Non-elective (EM + ONEL) admissions per 1000 population across secondary care - Activity"},"2011/12","07N",1406,null,233157,6.03,5.72,6.35,6.5973818585736952,6.9541970722140434,null,3.5939999999999999,3.0880000000000001,"B","Y56","X24","11702031","Byar"]
[1170203,{"$f":"VLOOKUP(tblData[[#This Row],[Indicator ID]],'Similar 10 CCGs'!$A$6:$C$160,3,FALSE)","v":"Programme Budget - Genito Urinary - Non-elective (EM + ONEL) admissions per 1000 population across secondary care - Activity"},"2011/12","08K",1947,null,298988,6.51,6.23,6.81,6.5973818585736952,6.9541970722140434,null,4.1349999999999998,3.6539999999999999,"B","Y56","X24","11702031","Byar"]
[1170203,{"$f":"VLOOKUP(tblData[[#This Row],[Indicator ID]],'Similar 10 CCGs'!$A$6:$C$160,3,FALSE)","v":"Programme Budget - Genito Urinary - Non-elective (EM + ONEL) admissions per 1000 population across secondary care - Activity"},"2011/12","09F",1666,null,231671,7.19,6.85,7.55,6.5973818585736952,5.7089717942502771,null,3.1480000000000006,2.6720000000000002,"A","Y57","X24","11702031","Byar"]
[1170203,{"$f":"VLOOKUP(tblData[[#This Row],[Indicator ID]],'Similar 10 CCGs'!$A$6:$C$160,3,FALSE)","v":"Programme Budget - Genito Urinary - Non-elective (EM + ONEL) admissions per 1000 population across secondary care - Activity"},"2011/12","10H",1519,null,332869,4.5599999999999996,4.34,4.8,6.5973818585736952,5.7089717942502771,null,3.3899999999999997,2.9419999999999997,"C","Y57","X24","11702031","Byar"]
[1170203,{"$f":"VLOOKUP(tblData[[#This Row],[Indicator ID]],'Similar 10 CCGs'!$A$6:$C$160,3,FALSE)","v":"Programme Budget - Genito Urinary - Non-elective (EM + ONEL) admissions per 1000 population across secondary care - Activity"},"2011/12","11D",651,null,150386,4.33,4,4.67,6.5973818585736952,5.7089717942502771,null,3.214,2.69,"B","Y57","X24","11702031","Byar"]
[1170203,{"$f":"VLOOKUP(tblData[[#This Row],[Indicator ID]],'Similar 10 CCGs'!$A$6:$C$160,3,FALSE)","v":"Programme Budget - Genito Urinary - Non-elective (EM + ONEL) admissions per 1000 population across secondary care - Activity"},"2011/12","99F",1172,null,195412,6,5.66,6.35,6.5973818585736952,6.4788346540592805,null,3.2239999999999993,2.5979999999999999,"B","Y55","X24","11702031","Byar"]
[1170312,{"$f":"VLOOKUP(tblData[[#This Row],[Indicator ID]],'Similar 10 CCGs'!$A$6:$C$160,3,FALSE)","v":"CKD05: The percentage of patients on the CKD register with hypertension and proteinuria who are treated with an angiotensin converting enzyme inhibitor (ACE-I) or angiotensin receptor blocker (ARB) (unless a contraindication or side effects are recorded)"},"2011/12","00K",486,null,601,80.865224625623952,77.53,83.81,796.70825870347244,795.34084203504631,null,77.738810094687125,81.142747131178382,"B","Y54","X24","11703121","Wilson"]
[1170312,{"$f":"VLOOKUP(tblData[[#This Row],[Indicator ID]],'Similar 10 CCGs'!$A$6:$C$160,3,FALSE)","v":"CKD05: The percentage of patients on the CKD register with hypertension and proteinuria who are treated with an angiotensin converting enzyme inhibitor (ACE-I) or angiotensin receptor blocker (ARB) (unless a contraindication or side effects are recorded)"},"2011/12","01F",188,null,244,77.049180327868854,71.38,81.88,796.70825870347244,795.34084203504631,null,77.467546594112534,80.662924601130655,"B","Y54","X24","11703121","Wilson"]
[1170312,{"$f":"VLOOKUP(tblData[[#This Row],[Indicator ID]],'Similar 10 CCGs'!$A$6:$C$160,3,FALSE)","v":"CKD05: The percentage of patients on the CKD register with hypertension and proteinuria who are treated with an angiotensin converting enzyme inhibitor (ACE-I) or angiotensin receptor blocker (ARB) (unless a contraindication or side effects are recorded)"},"2011/12","02E",303,null,393,77.099236641221367,72.69,80.98,796.70825870347244,795.34084203504631,null,80.148234800371611,83.248893853680315,"B","Y54","X24","11703121","Wilson"]
[1170312,{"$f":"VLOOKUP(tblData[[#This Row],[Indicator ID]],'Similar 10 CCGs'!$A$6:$C$160,3,FALSE)","v":"CKD05: The percentage of patients on the CKD register with hypertension and proteinuria who are treated with an angiotensin converting enzyme inhibitor (ACE-I) or angiotensin receptor blocker (ARB) (unless a contraindication or side effects are recorded)"},"2011/12","03C",612,null,765,80,77.02,82.68,796.70825870347244,795.34084203504631,null,79.120221215286989,81.269042693797971,"B","Y54","X24","11703121","Wilson"]
[1170312,{"$f":"VLOOKUP(tblData[[#This Row],[Indicator ID]],'Similar 10 CCGs'!$A$6:$C$160,3,FALSE)","v":"CKD05: The percentage of patients on the CKD register with hypertension and proteinuria who are treated with an angiotensin converting enzyme inhibitor (ACE-I) or angiotensin receptor blocker (ARB) (unless a contraindication or side effects are recorded)"},"2011/12","03H",369,null,439,84.054669703872449,80.34,87.18,796.70825870347244,795.34084203504631,null,76.82338429608879,79.636096656444664,"","Y54","X24","11703121","Wilson"]
[1170312,{"$f":"VLOOKUP(tblData[[#This Row],[Indicator ID]],'Similar 10 CCGs'!$A$6:$C$160,3,FALSE)","v":"CKD05: The percentage of patients on the CKD register with hypertension and proteinuria who are treated with an angiotensin converting enzyme inhibitor (ACE-I) or angiotensin receptor blocker (ARB) (unless a contraindication or side effects are recorded)"},"2011/12","03Y",173,null,241,71.784232365145229,65.790000000000006,77.09,796.70825870347244,785.33842716067181,null,78.455219858448771,82.365622369808563,"A","Y55","X24","11703121","Wilson"]
[1170312,{"$f":"VLOOKUP(tblData[[#This Row],[Indicator ID]],'Similar 10 CCGs'!$A$6:$C$160,3,FALSE)","v":"CKD05: The percentage of patients on the CKD register with hypertension and proteinuria who are treated with an angiotensin converting enzyme inhibitor (ACE-I) or angiotensin receptor blocker (ARB) (unless a contraindication or side effects are recorded)"},"2011/12","04Y",220,null,268,82.089552238805979,77.06,86.22,796.70825870347244,785.33842716067181,null,78.912698535220414,82.790005534572558,"B","Y55","X24","11703121","Wilson"]
[1170312,{"$f":"VLOOKUP(tblData[[#This Row],[Indicator ID]],'Similar 10 CCGs'!$A$6:$C$160,3,FALSE)","v":"CKD05: The percentage of patients on the CKD register with hypertension and proteinuria who are treated with an angiotensin converting enzyme inhibitor (ACE-I) or angiotensin receptor blocker (ARB) (unless a contraindication or side effects are recorded)"},"2011/12","05W",559,null,662,84.44108761329305,81.48,87,796.70825870347244,785.33842716067181,null,79.890689425659517,82.397310466241379,"","Y55","X24","11703121","Wilson"]
[1170312,{"$f":"VLOOKUP(tblData[[#This Row],[Indicator ID]],'Similar 10 CCGs'!$A$6:$C$160,3,FALSE)","v":"CKD05: The percentage of patients on the CKD register with hypertension and proteinuria who are treated with an angiotensin converting enzyme inhibitor (ACE-I) or angiotensin receptor blocker (ARB) (unless a contraindication or side effects are recorded)"},"2011/12","06W",275,null,353,77.903682719546737,73.290000000000006,81.92,796.70825870347244,785.33842716067181,null,79.196025708341409,81.352069107773772,"B","Y55","X24","11703121","Wilson"]
[1170312,{"$f":"VLOOKUP(tblData[[#This Row],[Indicator ID]],'Similar 10 CCGs'!$A$6:$C$160,3,FALSE)","v":"CKD05: The percentage of patients on the CKD register with hypertension and proteinuria who are treated with an angiotensin converting enzyme inhibitor (ACE-I) or angiotensin receptor blocker (ARB) (unless a contraindication or side effects are recorded)"},"2011/12","07Y",509,null,596,85.402684563758385,82.34,88.01,796.70825870347244,824.59654343596196,null,82.191369190482007,84.368140741291683,"B","Y56","X24","11703121","Wilson"]
[1170312,{"$f":"VLOOKUP(tblData[[#This Row],[Indicator ID]],'Similar 10 CCGs'!$A$6:$C$160,3,FALSE)","v":"CKD05: The percentage of patients on the CKD register with hypertension and proteinuria who are treated with an angiotensin converting enzyme inhibitor (ACE-I) or angiotensin receptor blocker (ARB) (unless a contraindication or side effects are recorded)"},"2011/12","08R",313,null,366,85.519125683060111,81.540000000000006,88.76,796.70825870347244,824.59654343596196,null,82.863341715645021,85.09884037025445,"B","Y56","X24","11703121","Wilson"]
[1170312,{"$f":"VLOOKUP(tblData[[#This Row],[Indicator ID]],'Similar 10 CCGs'!$A$6:$C$160,3,FALSE)","v":"CKD05: The percentage of patients on the CKD register with hypertension and proteinuria who are treated with an angiotensin converting enzyme inhibitor (ACE-I) or angiotensin receptor blocker (ARB) (unless a contraindication or side effects are recorded)"},"2011/12","09N",286,null,355,80.563380281690144,76.13,84.34,796.70825870347244,797.83383130314871,null,79.820014993823833,82.40190049896573,"B","Y57","X24","11703121","Wilson"]
[1170312,{"$f":"VLOOKUP(tblData[[#This Row],[Indicator ID]],'Similar 10 CCGs'!$A$6:$C$160,3,FALSE)","v":"CKD05: The percentage of patients on the CKD register with hypertension and proteinuria who are treated with an angiotensin converting enzyme inhibitor (ACE-I) or angiotensin receptor blocker (ARB) (unless a contraindication or side effects are recorded)"},"2011/12","10Q",1205,null,1440,83.680555555555557,81.680000000000007,85.5,796.70825870347244,797.83383130314871,null,78.057563026469808,79.450620267502842,"C","Y57","X24","11703121","Wilson"]
[1170312,{"$f":"VLOOKUP(tblData[[#This Row],[Indicator ID]],'Similar 10 CCGs'!$A$6:$C$160,3,FALSE)","v":"CKD05: The percentage of patients on the CKD register with hypertension and proteinuria who are treated with an angiotensin converting enzyme inhibitor (ACE-I) or angiotensin receptor blocker (ARB) (unless a contraindication or side effects are recorded)"},"2011/12","11T",277,null,346,80.057803468208093,75.53,83.93,796.70825870347244,797.83383130314871,null,78.29133875306016,80.178397499396326,"B","Y57","X24","11703121","Wilson"]
[1170314,{"$f":"VLOOKUP(tblData[[#This Row],[Indicator ID]],'Similar 10 CCGs'!$A$6:$C$160,3,FALSE)","v":"CKD03: % patients on CKD register, whom the last blood pressure reading, measured in the preceding 15 months, is 140/85 or less"},"2011/12","00L",12304,null,16714,73.614933588608352,72.94,74.28,704.89113318636259,718.15967551612266,null,69.977835826920668,70.902102387168199,"C","Y54","X24","11703141","Wilson"]
[1170314,{"$f":"VLOOKUP(tblData[[#This Row],[Indicator ID]],'Similar 10 CCGs'!$A$6:$C$160,3,FALSE)","v":"CKD03: % patients on CKD register, whom the last blood pressure reading, measured in the preceding 15 months, is 140/85 or less"},"2011/12","00T",9629,null,13088,73.571210268948647,72.81,74.319999999999993,704.89113318636259,718.15967551612266,null,71.824622667749821,73.194058047853872,"C","Y54","X24","11703141","Wilson"]
[1170314,{"$f":"VLOOKUP(tblData[[#This Row],[Indicator ID]],'Similar 10 CCGs'!$A$6:$C$160,3,FALSE)","v":"CKD03: % patients on CKD register, whom the last blood pressure reading, measured in the preceding 15 months, is 140/85 or less"},"2011/12","01N",2585,null,3797,68.080063207795632,66.58,69.540000000000006,704.89113318636259,718.15967551612266,null,72.878659221351725,74.867234829593627,"A","Y54","X24","11703141","Wilson"]
[1170314,{"$f":"VLOOKUP(tblData[[#This Row],[Indicator ID]],'Similar 10 CCGs'!$A$6:$C$160,3,FALSE)","v":"CKD03: % patients on CKD register, whom the last blood pressure reading, measured in the preceding 15 months, is 140/85 or less"},"2011/12","02Q",4300,null,5969,72.03886748199028,70.89,73.16,704.89113318636259,718.15967551612266,null,72.032073277059212,73.585897120490927,"","Y54","X24","11703141","Wilson"]
[1170314,{"$f":"VLOOKUP(tblData[[#This Row],[Indicator ID]],'Similar 10 CCGs'!$A$6:$C$160,3,FALSE)","v":"CKD03: % patients on CKD register, whom the last blood pressure reading, measured in the preceding 15 months, is 140/85 or less"},"2011/12","03K",4743,null,6560,72.301829268292678,71.209999999999994,73.37,704.89113318636259,718.15967551612266,null,70.860565973989495,71.878501299097906,"B","Y54","X24","11703141","Wilson"]
[1170314,{"$f":"VLOOKUP(tblData[[#This Row],[Indicator ID]],'Similar 10 CCGs'!$A$6:$C$160,3,FALSE)","v":"CKD03: % patients on CKD register, whom the last blood pressure reading, measured in the preceding 15 months, is 140/85 or less"},"2011/12","04G",15566,null,21540,72.26555246053853,71.66,72.86,704.89113318636259,700.66610674604942,null,69.690427973761302,70.559670457397687,"C","Y55","X24","11703141","Wilson"]
[1170314,{"$f":"VLOOKUP(tblData[[#This Row],[Indicator ID]],'Similar 10 CCGs'!$A$6:$C$160,3,FALSE)","v":"CKD03: % patients on CKD register, whom the last blood pressure reading, measured in the preceding 15 months, is 140/85 or less"},"2011/12","05G",5556,null,7855,70.732017823042654,69.72,71.73,704.89113318636259,700.66610674604942,null,70.28985190588142,72.246259376672285,"B","Y55","X24","11703141","Wilson"]
[1170314,{"$f":"VLOOKUP(tblData[[#This Row],[Indicator ID]],'Similar 10 CCGs'!$A$6:$C$160,3,FALSE)","v":"CKD03: % patients on CKD register, whom the last blood pressure reading, measured in the preceding 15 months, is 140/85 or less"},"2011/12","06F",8219,null,12022,68.36632839793711,67.53,69.19,704.89113318636259,700.66610674604942,null,70.119223815989699,71.684337939736309,"A","Y55","X24","11703141","Wilson"]
[1170314,{"$f":"VLOOKUP(tblData[[#This Row],[Indicator ID]],'Similar 10 CCGs'!$A$6:$C$160,3,FALSE)","v":"CKD03: % patients on CKD register, whom the last blood pressure reading, measured in the preceding 15 months, is 140/85 or less"},"2011/12","07L",3031,null,4142,73.17720907774023,71.81,74.5,704.89113318636259,709.42617130747294,null,70.349422768004985,71.885864051943514,"","Y56","X24","11703141","Wilson"]
[1170314,{"$f":"VLOOKUP(tblData[[#This Row],[Indicator ID]],'Similar 10 CCGs'!$A$6:$C$160,3,FALSE)","v":"CKD03: % patients on CKD register, whom the last blood pressure reading, measured in the preceding 15 months, is 140/85 or less"},"2011/12","08F",6177,null,7950,77.698113207547166,76.77,78.599999999999994,704.89113318636259,709.42617130747294,null,69.973814957638723,71.456306786262573,"C","Y56","X24","11703141","Wilson"]
[1170314,{"$f":"VLOOKUP(tblData[[#This Row],[Indicator ID]],'Similar 10 CCGs'!$A$6:$C$160,3,FALSE)","v":"CKD03: % patients on CKD register, whom the last blood pressure reading, measured in the preceding 15 months, is 140/85 or less"},"2011/12","09A",1772,null,2479,71.480435659540149,69.67,73.22,704.89113318636259,709.42617130747294,null,70.703770251724549,72.370596633097762,"B","Y56","X24","11703141","Wilson"]
[1170314,{"$f":"VLOOKUP(tblData[[#This Row],[Indicator ID]],'Similar 10 CCGs'!$A$6:$C$160,3,FALSE)","v":"CKD03: % patients on CKD register, whom the last blood pressure reading, measured in the preceding 15 months, is 140/85 or less"},"2011/12","10D",2516,null,3435,73.245997088791853,71.739999999999995,74.7,704.89113318636259,693.02958877324636,null,71.263064182365412,72.834869829385909,"","Y57","X24","11703141","Wilson"]
[1170314,{"$f":"VLOOKUP(tblData[[#This Row],[Indicator ID]],'Similar 10 CCGs'!$A$6:$C$160,3,FALSE)","v":"CKD03: % patients on CKD register, whom the last blood pressure reading, measured in the preceding 15 months, is 140/85 or less"},"2011/12","10Y",3536,null,4933,71.68051895398338,70.41,72.92,704.89113318636259,693.02958877324636,null,69.493027530001399,70.782062053000615,"","Y57","X24","11703141","Wilson"]
[1170314,{"$f":"VLOOKUP(tblData[[#This Row],[Indicator ID]],'Similar 10 CCGs'!$A$6:$C$160,3,FALSE)","v":"CKD03: % patients on CKD register, whom the last blood pressure reading, measured in the preceding 15 months, is 140/85 or less"},"2011/12","99C",7095,null,10140,69.970414201183431,69.069999999999993,70.849999999999994,704.89113318636259,718.15967551612266,null,72.268300493406556,74.105470544514418,"A","Y54","X24","11703141","Wilson"]
[1180101,{"$f":"VLOOKUP(tblData[[#This Row],[Indicator ID]],'Similar 10 CCGs'!$A$6:$C$160,3,FALSE)","v":"Programme Budget - Maternity - Total admissions per 1000 population across secondary care - Cost"},"2011/12","00G",3463023,null,190967,18134.099999999999,17421.490000000002,18868.38,29072.008405473189,29857.586176258195,null,23040.502000000004,18165.02,"","Y54","X24","11801011","Byar"]
[1180101,{"$f":"VLOOKUP(tblData[[#This Row],[Indicator ID]],'Similar 10 CCGs'!$A$6:$C$160,3,FALSE)","v":"Programme Budget - Maternity - Total admissions per 1000 population across secondary care - Cost"},"2011/12","01A",10233146,null,345919,29582.5,28920.81,30255.51,29072.008405473189,29857.586176258195,null,35112.413,33098.400000000001,"","Y54","X24","11801011","Byar"]
[1180101,{"$f":"VLOOKUP(tblData[[#This Row],[Indicator ID]],'Similar 10 CCGs'!$A$6:$C$160,3,FALSE)","v":"Programme Budget - Maternity - Total admissions per 1000 population across secondary care - Cost"},"2011/12","01Y",7566079,null,231783,32642.94,31839.58,33461.449999999997,29072.008405473189,29857.586176258195,null,32557.876,30456.964,"A","Y54","X24","11801011","Byar"]
[1180101,{"$f":"VLOOKUP(tblData[[#This Row],[Indicator ID]],'Similar 10 CCGs'!$A$6:$C$160,3,FALSE)","v":"Programme Budget - Maternity - Total admissions per 1000 population across secondary care - Cost"},"2011/12","02X",9104599,null,281689,32321.46,31573.81,33082.35,29072.008405473189,29857.586176258195,null,32699.576000000001,30053.719999999994,"B","Y54","X24","11801011","Byar"]
[1180101,{"$f":"VLOOKUP(tblData[[#This Row],[Indicator ID]],'Similar 10 CCGs'!$A$6:$C$160,3,FALSE)","v":"Programme Budget - Maternity - Total admissions per 1000 population across secondary care - Cost"},"2011/12","03R",9598579,null,330033,29083.66,28467.9,29709.38,29072.008405473189,29857.586176258195,null,33172.558000000005,31802.633999999998,"C","Y54","X24","11801011","Byar"]
[1180101,{"$f":"VLOOKUP(tblData[[#This Row],[Indicator ID]],'Similar 10 CCGs'!$A$6:$C$160,3,FALSE)","v":"Programme Budget - Maternity - Total admissions per 1000 population across secondary care - Cost"},"2011/12","04C",14717451,null,427654,34414.410000000003,33871.9,34963.42,29072.008405473189,30141.224228282121,null,28825.084000000003,23518.196000000004,"A","Y55","X24","11801011","Byar"]
[1180101,{"$f":"VLOOKUP(tblData[[#This Row],[Indicator ID]],'Similar 10 CCGs'!$A$6:$C$160,3,FALSE)","v":"Programme Budget - Maternity - Total admissions per 1000 population across secondary care - Cost"},"2011/12","05Q",6221192,null,185937,33458.519999999997,32621.22,34311.870000000003,29072.008405473189,30141.224228282121,null,28427.989000000001,21958.038,"A","Y55","X24","11801011","Byar"]
[1180101,{"$f":"VLOOKUP(tblData[[#This Row],[Indicator ID]],'Similar 10 CCGs'!$A$6:$C$160,3,FALSE)","v":"Programme Budget - Maternity - Total admissions per 1000 population across secondary care - Cost"},"2011/12","06Q",9067776,null,343808,26374.51,25724.44,27036.86,29072.008405473189,30141.224228282121,null,27995.185999999998,25436.188000000002,"C","Y55","X24","11801011","Byar"]
[1180101,{"$f":"VLOOKUP(tblData[[#This Row],[Indicator ID]],'Similar 10 CCGs'!$A$6:$C$160,3,FALSE)","v":"Programme Budget - Maternity - Total admissions per 1000 population across secondary care - Cost"},"2011/12","07T",12537801,null,417282,30046.35,29511.45,30588.51,29072.008405473189,28186.446673621089,null,26996.344000000001,23017.957999999999,"A","Y56","X24","11801011","Byar"]
[1180101,{"$f":"VLOOKUP(tblData[[#This Row],[Indicator ID]],'Similar 10 CCGs'!$A$6:$C$160,3,FALSE)","v":"Programme Budget - Maternity - Total admissions per 1000 population across secondary care - Cost"},"2011/12","08M",16191073,null,476088,34008.54,33400.07,34625.32,29072.008405473189,28186.446673621089,null,30403.23,28692.618000000006,"A","Y56","X24","11801011","Byar"]
[1180101,{"$f":"VLOOKUP(tblData[[#This Row],[Indicator ID]],'Similar 10 CCGs'!$A$6:$C$160,3,FALSE)","v":"Programme Budget - Maternity - Total admissions per 1000 population across secondary care - Cost"},"2011/12","09H",4144628,null,135947,30487.01,29308.42,31700.84,29072.008405473189,27660.125265640989,null,30925.462,28529.202000000001,"B","Y57","X24","11801011","Byar"]
[1180101,{"$f":"VLOOKUP(tblData[[#This Row],[Indicator ID]],'Similar 10 CCGs'!$A$6:$C$160,3,FALSE)","v":"Programme Budget - Maternity - Total admissions per 1000 population across secondary care - Cost"},"2011/12","10K",5381567,null,170428,31576.78,30675.45,32497.88,29072.008405473189,27660.125265640989,null,26988.428000000004,20279.48,"B","Y57","X24","11801011","Byar"]
[1180101,{"$f":"VLOOKUP(tblData[[#This Row],[Indicator ID]],'Similar 10 CCGs'!$A$6:$C$160,3,FALSE)","v":"Programme Budget - Maternity - Total admissions per 1000 population across secondary care - Cost"},"2011/12","11H",16951803,null,568399,29823.8,29343.98,30309.5,29072.008405473189,27660.125265640989,null,25740.257000000001,18622.061999999998,"A","Y57","X24","11801011","Byar"]
[1180101,{"$f":"VLOOKUP(tblData[[#This Row],[Indicator ID]],'Similar 10 CCGs'!$A$6:$C$160,3,FALSE)","v":"Programme Budget - Maternity - Total admissions per 1000 population across secondary care - Cost"},"2011/12","99H",7290389,null,250294,29127.279999999999,28327.84,29943.57,29072.008405473189,27660.125265640989,null,27551.102000000003,23294.495999999999,"","Y57","X24","11801011","Byar"]
[1180102,{"$f":"VLOOKUP(tblData[[#This Row],[Indicator ID]],'Similar 10 CCGs'!$A$6:$C$160,3,FALSE)","v":"Programme Budget - Maternity - Total elective (IP + DC) admissions per 1000 population across secondary care - Cost"},"2011/12","00M",360098,null,273177,1318.18,1219.74,1422.46,1458.2852439951771,1840.0971575552101,null,1850.7559999999999,1224.318,"","Y54","X24","11801021","Byar"]
[1180102,{"$f":"VLOOKUP(tblData[[#This Row],[Indicator ID]],'Similar 10 CCGs'!$A$6:$C$160,3,FALSE)","v":"Programme Budget - Maternity - Total elective (IP + DC) admissions per 1000 population across secondary care - Cost"},"2011/12","01D",186010,null,221339,840.38,734.83,956.84,1458.2852439951771,1840.0971575552101,null,1820.0139999999999,1230.7459999999999,"C","Y54","X24","11801021","Byar"]
[1180102,{"$f":"VLOOKUP(tblData[[#This Row],[Indicator ID]],'Similar 10 CCGs'!$A$6:$C$160,3,FALSE)","v":"Programme Budget - Maternity - Total elective (IP + DC) admissions per 1000 population across secondary care - Cost"},"2011/12","01J",288497,null,159542,1808.29,1664.09,1961.63,1458.2852439951771,1840.0971575552101,null,1510.2340000000002,1030.2560000000001,"A","Y54","X24","11801021","Byar"]
[1180102,{"$f":"VLOOKUP(tblData[[#This Row],[Indicator ID]],'Similar 10 CCGs'!$A$6:$C$160,3,FALSE)","v":"Programme Budget - Maternity - Total elective (IP + DC) admissions per 1000 population across secondary care - Cost"},"2011/12","02H",418509,null,304180,1375.86,1275.95,1481.51,1458.2852439951771,1840.0971575552101,null,1876.759,1132.086,"","Y54","X24","11801021","Byar"]
[1180102,{"$f":"VLOOKUP(tblData[[#This Row],[Indicator ID]],'Similar 10 CCGs'!$A$6:$C$160,3,FALSE)","v":"Programme Budget - Maternity - Total elective (IP + DC) admissions per 1000 population across secondary care - Cost"},"2011/12","03G",443230,null,263700,1680.81,1542.52,1828.18,1458.2852439951771,1840.0971575552101,null,1553.329,1169.6659999999999,"B","Y54","X24","11801021","Byar"]
[1180102,{"$f":"VLOOKUP(tblData[[#This Row],[Indicator ID]],'Similar 10 CCGs'!$A$6:$C$160,3,FALSE)","v":"Programme Budget - Maternity - Total elective (IP + DC) admissions per 1000 population across secondary care - Cost"},"2011/12","04D",463283,null,216696,2137.94,1992.25,2291.4699999999998,1458.2852439951771,1504.1232133571714,null,1484.644,1077.77,"A","Y55","X24","11801021","Byar"]
[1180102,{"$f":"VLOOKUP(tblData[[#This Row],[Indicator ID]],'Similar 10 CCGs'!$A$6:$C$160,3,FALSE)","v":"Programme Budget - Maternity - Total elective (IP + DC) admissions per 1000 population across secondary care - Cost"},"2011/12","05C",185062,null,288317,641.87,570.23,720.02,1458.2852439951771,1504.1232133571714,null,1560.9159999999999,966.41199999999992,"C","Y55","X24","11801021","Byar"]
[1180102,{"$f":"VLOOKUP(tblData[[#This Row],[Indicator ID]],'Similar 10 CCGs'!$A$6:$C$160,3,FALSE)","v":"Programme Budget - Maternity - Total elective (IP + DC) admissions per 1000 population across secondary care - Cost"},"2011/12","05Y",577641,null,259126,2229.19,2099.4499999999998,2364.86,1458.2852439951771,1504.1232133571714,null,1845.9549999999995,979.58600000000001,"A","Y55","X24","11801021","Byar"]
[1180102,{"$f":"VLOOKUP(tblData[[#This Row],[Indicator ID]],'Similar 10 CCGs'!$A$6:$C$160,3,FALSE)","v":"Programme Budget - Maternity - Total elective (IP + DC) admissions per 1000 population across secondary care - Cost"},"2011/12","07G",168501,null,168555,999.68,876.95,1134.78,1458.2852439951771,1504.1232133571714,null,1136.5629999999996,715.34799999999996,"B","Y55","X24","11801021","Byar"]
[1180102,{"$f":"VLOOKUP(tblData[[#This Row],[Indicator ID]],'Similar 10 CCGs'!$A$6:$C$160,3,FALSE)","v":"Programme Budget - Maternity - Total elective (IP + DC) admissions per 1000 population across secondary care - Cost"},"2011/12","08C",346754,null,312389,1110.01,1025.21,1199.95,1458.2852439951771,1181.9810081658677,null,1116.2549999999999,805.32999999999993,"B","Y56","X24","11801021","Byar"]
[1180102,{"$f":"VLOOKUP(tblData[[#This Row],[Indicator ID]],'Similar 10 CCGs'!$A$6:$C$160,3,FALSE)","v":"Programme Budget - Maternity - Total elective (IP + DC) admissions per 1000 population across secondary care - Cost"},"2011/12","08V",193541,null,405545,477.24,424.92,534.21,1458.2852439951771,1181.9810081658677,null,952.9559999999999,570.60599999999999,"C","Y56","X24","11801021","Byar"]
[1180102,{"$f":"VLOOKUP(tblData[[#This Row],[Indicator ID]],'Similar 10 CCGs'!$A$6:$C$160,3,FALSE)","v":"Programme Budget - Maternity - Total elective (IP + DC) admissions per 1000 population across secondary care - Cost"},"2011/12","09Y",256504,null,345027,743.43,670.65,821.96,1458.2852439951771,1196.9726495691837,null,2084.6520000000005,823.2700000000001,"C","Y57","X24","11801021","Byar"]
[1180102,{"$f":"VLOOKUP(tblData[[#This Row],[Indicator ID]],'Similar 10 CCGs'!$A$6:$C$160,3,FALSE)","v":"Programme Budget - Maternity - Total elective (IP + DC) admissions per 1000 population across secondary care - Cost"},"2011/12","10V",188823,null,176682,1068.72,953.41,1194.1300000000001,1458.2852439951771,1196.9726495691837,null,1327.57,827.58800000000008,"","Y57","X24","11801021","Byar"]
[1180102,{"$f":"VLOOKUP(tblData[[#This Row],[Indicator ID]],'Similar 10 CCGs'!$A$6:$C$160,3,FALSE)","v":"Programme Budget - Maternity - Total elective (IP + DC) admissions per 1000 population across secondary care - Cost"},"2011/12","12D",72497,null,224989,322.22000000000003,266.02999999999997,386.78,1458.2852439951771,1196.9726495691837,null,1416.8439999999996,744.84199999999998,"C","Y57","X24","11801021","Byar"]
[1180103,{"$f":"VLOOKUP(tblData[[#This Row],[Indicator ID]],'Similar 10 CCGs'!$A$6:$C$160,3,FALSE)","v":"Programme Budget - Maternity - Non-elective (EM + ONEL) admissions per 1000 population across secondary care - Cost"},"2011/12","00C",3159091,null,97066,32545.82,31360.76,33764.19,27613.725442641302,28014.642585323993,null,30834.390999999996,28164.955999999998,"A","Y54","X24","11801031","Byar"]
[1180103,{"$f":"VLOOKUP(tblData[[#This Row],[Indicator ID]],'Similar 10 CCGs'!$A$6:$C$160,3,FALSE)","v":"Programme Budget - Maternity - Non-elective (EM + ONEL) admissions per 1000 population across secondary care - Cost"},"2011/12","00W",8194252,null,288155,28436.98,27766.959999999999,29119.08,27613.725442641302,28014.642585323993,null,23691.098000000002,15132.2,"A","Y54","X24","11801031","Byar"]
[1180103,{"$f":"VLOOKUP(tblData[[#This Row],[Indicator ID]],'Similar 10 CCGs'!$A$6:$C$160,3,FALSE)","v":"Programme Budget - Maternity - Non-elective (EM + ONEL) admissions per 1000 population across secondary care - Cost"},"2011/12","01T",1534162,null,142184,10789.99,10259.620000000001,11340.67,27613.725442641302,28014.642585323993,null,27759.072999999997,23367.905999999999,"C","Y54","X24","11801031","Byar"]
[1180103,{"$f":"VLOOKUP(tblData[[#This Row],[Indicator ID]],'Similar 10 CCGs'!$A$6:$C$160,3,FALSE)","v":"Programme Budget - Maternity - Non-elective (EM + ONEL) admissions per 1000 population across secondary care - Cost"},"2011/12","02T",6564711,null,197740,33198.699999999997,32418.76,33992.67,27613.725442641302,28014.642585323993,null,30415.252,28028.014000000003,"A","Y54","X24","11801031","Byar"]
[1180103,{"$f":"VLOOKUP(tblData[[#This Row],[Indicator ID]],'Similar 10 CCGs'!$A$6:$C$160,3,FALSE)","v":"Programme Budget - Maternity - Non-elective (EM + ONEL) admissions per 1000 population across secondary care - Cost"},"2011/12","03M",2751709,null,93553,29413.52,28261.87,30600.07,27613.725442641302,28014.642585323993,null,30004.098999999998,26323.945999999996,"B","Y54","X24","11801031","Byar"]
[1180103,{"$f":"VLOOKUP(tblData[[#This Row],[Indicator ID]],'Similar 10 CCGs'!$A$6:$C$160,3,FALSE)","v":"Programme Budget - Maternity - Non-elective (EM + ONEL) admissions per 1000 population across secondary care - Cost"},"2011/12","04K",1038428,null,416114,2495.54,2358.8200000000002,2638.11,27613.725442641302,28637.262606699682,null,20938.306,14230.2,"C","Y55","X24","11801031","Byar"]
[1180103,{"$f":"VLOOKUP(tblData[[#This Row],[Indicator ID]],'Similar 10 CCGs'!$A$6:$C$160,3,FALSE)","v":"Programme Budget - Maternity - Non-elective (EM + ONEL) admissions per 1000 population across secondary care - Cost"},"2011/12","05V",3352404,null,119159,28133.82,27131.85,29163.34,27613.725442641302,28637.262606699682,null,25879.089999999997,21587.365999999998,"B","Y55","X24","11801031","Byar"]
[1180103,{"$f":"VLOOKUP(tblData[[#This Row],[Indicator ID]],'Similar 10 CCGs'!$A$6:$C$160,3,FALSE)","v":"Programme Budget - Maternity - Non-elective (EM + ONEL) admissions per 1000 population across secondary care - Cost"},"2011/12","06L",9224486,null,334698,27560.59,26951.38,28180.1,27613.725442641302,28637.262606699682,null,28049.789000000001,25442.565999999999,"","Y55","X24","11801031","Byar"]
[1180103,{"$f":"VLOOKUP(tblData[[#This Row],[Indicator ID]],'Similar 10 CCGs'!$A$6:$C$160,3,FALSE)","v":"Programme Budget - Maternity - Non-elective (EM + ONEL) admissions per 1000 population across secondary care - Cost"},"2011/12","07P",13460059,null,439425,30631.05,30028.75,31242.38,27613.725442641302,26993.890086243144,null,29649.053000000004,28375.447999999997,"A","Y56","X24","11801031","Byar"]
[1180103,{"$f":"VLOOKUP(tblData[[#This Row],[Indicator ID]],'Similar 10 CCGs'!$A$6:$C$160,3,FALSE)","v":"Programme Budget - Maternity - Non-elective (EM + ONEL) admissions per 1000 population across secondary care - Cost"},"2011/12","08J",6525295,null,223581,29185.35,28458.62,29925.95,27613.725442641302,26993.890086243144,null,28505.745999999996,26224.140000000003,"A","Y56","X24","11801031","Byar"]
[1180103,{"$f":"VLOOKUP(tblData[[#This Row],[Indicator ID]],'Similar 10 CCGs'!$A$6:$C$160,3,FALSE)","v":"Programme Budget - Maternity - Non-elective (EM + ONEL) admissions per 1000 population across secondary care - Cost"},"2011/12","09D",6149750,null,368843,16673.080000000002,16131.57,17228.14,27613.725442641302,26466.382645177808,null,24468.189999999995,18129.534,"C","Y57","X24","11801031","Byar"]
[1180103,{"$f":"VLOOKUP(tblData[[#This Row],[Indicator ID]],'Similar 10 CCGs'!$A$6:$C$160,3,FALSE)","v":"Programme Budget - Maternity - Non-elective (EM + ONEL) admissions per 1000 population across secondary care - Cost"},"2011/12","10G",3196592,null,133309,23978.74,22928.54,25064.639999999999,27613.725442641302,26466.382645177808,null,25784.826999999997,21528.482,"B","Y57","X24","11801031","Byar"]
[1180103,{"$f":"VLOOKUP(tblData[[#This Row],[Indicator ID]],'Similar 10 CCGs'!$A$6:$C$160,3,FALSE)","v":"Programme Budget - Maternity - Non-elective (EM + ONEL) admissions per 1000 population across secondary care - Cost"},"2011/12","11C",3727567,null,151371,24625.37,23653.52,25626.9,27613.725442641302,26466.382645177808,null,26595.328999999998,21762.621999999996,"A","Y57","X24","11801031","Byar"]
[1180103,{"$f":"VLOOKUP(tblData[[#This Row],[Indicator ID]],'Similar 10 CCGs'!$A$6:$C$160,3,FALSE)","v":"Programme Budget - Maternity - Non-elective (EM + ONEL) admissions per 1000 population across secondary care - Cost"},"2011/12","99E",7517375,null,248040,30307.16,29601.89,31024.99,27613.725442641302,28637.262606699682,null,28572.052999999996,25385.055999999997,"A","Y55","X24","11801031","Byar"]
[1180105,{"$f":"VLOOKUP(tblData[[#This Row],[Indicator ID]],'Similar 10 CCGs'!$A$6:$C$160,3,FALSE)","v":"Programme Budget - Maternity - Cost prescribed per 1000 ASTRO-PU population - Cost"},"2011/12","00J",462045,null,255954,1805.19,1788.74,1821.75,1671.6948980002724,1614.6408690155858,null,1722.0070000000001,1619.066,"A","Y54","X24","11801051","Byar"]
[1180105,{"$f":"VLOOKUP(tblData[[#This Row],[Indicator ID]],'Similar 10 CCGs'!$A$6:$C$160,3,FALSE)","v":"Programme Budget - Maternity - Cost prescribed per 1000 ASTRO-PU population - Cost"},"2011/12","01D",352920,null,210507,1676.52,1659.05,1694.13,1671.6948980002724,1614.6408690155858,null,1581.1029999999998,1353.296,"A","Y54","X24","11801051","Byar"]
[1180105,{"$f":"VLOOKUP(tblData[[#This Row],[Indicator ID]],'Similar 10 CCGs'!$A$6:$C$160,3,FALSE)","v":"Programme Budget - Maternity - Cost prescribed per 1000 ASTRO-PU population - Cost"},"2011/12","01X",246127,null,204308,1204.68,1189.6600000000001,1219.8599999999999,1671.6948980002724,1614.6408690155858,null,1492.0640000000001,1261.402,"","Y54","X24","11801051","Byar"]
[1180105,{"$f":"VLOOKUP(tblData[[#This Row],[Indicator ID]],'Similar 10 CCGs'!$A$6:$C$160,3,FALSE)","v":"Programme Budget - Maternity - Cost prescribed per 1000 ASTRO-PU population - Cost"},"2011/12","03C",994520,null,314887,3158.34,3138.71,3178.06,1671.6948980002724,1614.6408690155858,null,2113.87,1761.9080000000001,"A","Y54","X24","11801051","Byar"]
[1180105,{"$f":"VLOOKUP(tblData[[#This Row],[Indicator ID]],'Similar 10 CCGs'!$A$6:$C$160,3,FALSE)","v":"Programme Budget - Maternity - Cost prescribed per 1000 ASTRO-PU population - Cost"},"2011/12","03W",536548,null,347842,1542.51,1529.46,1555.64,1671.6948980002724,1671.0563199244982,null,1701.143,1534.0120000000002,"C","Y55","X24","11801051","Byar"]
[1180105,{"$f":"VLOOKUP(tblData[[#This Row],[Indicator ID]],'Similar 10 CCGs'!$A$6:$C$160,3,FALSE)","v":"Programme Budget - Maternity - Cost prescribed per 1000 ASTRO-PU population - Cost"},"2011/12","04V",666171,null,376172,1770.92,1757.48,1784.44,1671.6948980002724,1671.0563199244982,null,1756.2490000000003,1582.9259999999999,"A","Y55","X24","11801051","Byar"]
[1180105,{"$f":"VLOOKUP(tblData[[#This Row],[Indicator ID]],'Similar 10 CCGs'!$A$6:$C$160,3,FALSE)","v":"Programme Budget - Maternity - Cost prescribed per 1000 ASTRO-PU population - Cost"},"2011/12","05T",449945,null,324825,1385.19,1372.4,1398.07,1671.6948980002724,1671.0563199244982,null,1595.413,1493.6480000000001,"C","Y55","X24","11801051","Byar"]
[1180105,{"$f":"VLOOKUP(tblData[[#This Row],[Indicator ID]],'Similar 10 CCGs'!$A$6:$C$160,3,FALSE)","v":"Programme Budget - Maternity - Cost prescribed per 1000 ASTRO-PU population - Cost"},"2011/12","06V",263791,null,220761,1194.92,1180.52,1209.45,1671.6948980002724,1671.0563199244982,null,1423.1919999999998,1265.472,"C","Y55","X24","11801051","Byar"]
[1180105,{"$f":"VLOOKUP(tblData[[#This Row],[Indicator ID]],'Similar 10 CCGs'!$A$6:$C$160,3,FALSE)","v":"Programme Budget - Maternity - Cost prescribed per 1000 ASTRO-PU population - Cost"},"2011/12","07W",392425,null,314984,1245.8599999999999,1233.54,1258.26,1671.6948980002724,1649.0041077308479,null,1354.1889999999999,1150.7360000000001,"C","Y56","X24","11801051","Byar"]
[1180105,{"$f":"VLOOKUP(tblData[[#This Row],[Indicator ID]],'Similar 10 CCGs'!$A$6:$C$160,3,FALSE)","v":"Programme Budget - Maternity - Cost prescribed per 1000 ASTRO-PU population - Cost"},"2011/12","08P",276278,null,180692,1529,1510.99,1547.16,1671.6948980002724,1649.0041077308479,null,1885.8700000000001,1656.654,"B","Y56","X24","11801051","Byar"]
[1180105,{"$f":"VLOOKUP(tblData[[#This Row],[Indicator ID]],'Similar 10 CCGs'!$A$6:$C$160,3,FALSE)","v":"Programme Budget - Maternity - Cost prescribed per 1000 ASTRO-PU population - Cost"},"2011/12","09L",322592,null,173022,1864.45,1844.13,1884.95,1671.6948980002724,1743.7442051635458,null,1893.355,1693.7180000000001,"A","Y57","X24","11801051","Byar"]
[1180105,{"$f":"VLOOKUP(tblData[[#This Row],[Indicator ID]],'Similar 10 CCGs'!$A$6:$C$160,3,FALSE)","v":"Programme Budget - Maternity - Cost prescribed per 1000 ASTRO-PU population - Cost"},"2011/12","10M",233085,null,111538,2089.73,2062.9499999999998,2116.7800000000002,1671.6948980002724,1743.7442051635458,null,1796.7000000000003,1633.06,"A","Y57","X24","11801051","Byar"]
[1180105,{"$f":"VLOOKUP(tblData[[#This Row],[Indicator ID]],'Similar 10 CCGs'!$A$6:$C$160,3,FALSE)","v":"Programme Budget - Maternity - Cost prescribed per 1000 ASTRO-PU population - Cost"},"2011/12","10R",329775,null,196195,1680.85,1662.73,1699.12,1671.6948980002724,1743.7442051635458,null,1939.8,1664.61,"C","Y57","X24","11801051","Byar"]
[1180105,{"$f":"VLOOKUP(tblData[[#This Row],[Indicator ID]],'Similar 10 CCGs'!$A$6:$C$160,3,FALSE)","v":"Programme Budget - Maternity - Cost prescribed per 1000 ASTRO-PU population - Cost"},"2011/12","11T",360056,null,239415,1503.9,1488.38,1519.54,1671.6948980002724,1743.7442051635458,null,1612.2620000000002,1445.7159999999999,"","Y57","X24","11801051","Byar"]
[1180105,{"$f":"VLOOKUP(tblData[[#This Row],[Indicator ID]],'Similar 10 CCGs'!$A$6:$C$160,3,FALSE)","v":"Programme Budget - Maternity - Cost prescribed per 1000 ASTRO-PU population - Cost"},"2011/12","99M",492427,null,211014,2333.62,2313.02,2354.36,1671.6948980002724,1743.7442051635458,null,1888.0840000000001,1667.9959999999999,"A","Y57","X24","11801051","Byar"]
[1180201,{"$f":"VLOOKUP(tblData[[#This Row],[Indicator ID]],'Similar 10 CCGs'!$A$6:$C$160,3,FALSE)","v":"Programme Budget - Maternity - Total admissions per 1000 population across secondary care - Activity"},"2011/12","00R",3720,null,152109,24.46,23.68,25.25,24.53623738928864,27.111026204727548,null,26.882000000000005,21.442,"","Y54","X24","11802011","Byar"]
[1180201,{"$f":"VLOOKUP(tblData[[#This Row],[Indicator ID]],'Similar 10 CCGs'!$A$6:$C$160,3,FALSE)","v":"Programme Budget - Maternity - Total admissions per 1000 population across secondary care - Activity"},"2011/12","01M",7545,null,215730,34.97,34.19,35.770000000000003,24.53623738928864,27.111026204727548,null,29.417999999999999,24.133999999999997,"A","Y54","X24","11802011","Byar"]
[1180201,{"$f":"VLOOKUP(tblData[[#This Row],[Indicator ID]],'Similar 10 CCGs'!$A$6:$C$160,3,FALSE)","v":"Programme Budget - Maternity - Total admissions per 1000 population across secondary care - Activity"},"2011/12","02N",6125,null,131989,46.41,45.25,47.58,24.53623738928864,27.111026204727548,null,25.484999999999999,19.970000000000002,"A","Y54","X24","11802011","Byar"]
[1180201,{"$f":"VLOOKUP(tblData[[#This Row],[Indicator ID]],'Similar 10 CCGs'!$A$6:$C$160,3,FALSE)","v":"Programme Budget - Maternity - Total admissions per 1000 population across secondary care - Activity"},"2011/12","03J",6081,null,183980,33.049999999999997,32.229999999999997,33.89,24.53623738928864,27.111026204727548,null,29.011000000000003,22.616,"A","Y54","X24","11802011","Byar"]
[1180201,{"$f":"VLOOKUP(tblData[[#This Row],[Indicator ID]],'Similar 10 CCGs'!$A$6:$C$160,3,FALSE)","v":"Programme Budget - Maternity - Total admissions per 1000 population across secondary care - Activity"},"2011/12","04F",7293,null,281805,25.88,25.29,26.48,24.53623738928864,26.214872239812276,null,22.286000000000001,17.381999999999998,"B","Y55","X24","11802011","Byar"]
[1180201,{"$f":"VLOOKUP(tblData[[#This Row],[Indicator ID]],'Similar 10 CCGs'!$A$6:$C$160,3,FALSE)","v":"Programme Budget - Maternity - Total admissions per 1000 population across secondary care - Activity"},"2011/12","05F",4762,null,144826,32.880000000000003,31.95,33.83,24.53623738928864,26.214872239812276,null,24.049000000000003,19.14,"A","Y55","X24","11802011","Byar"]
[1180201,{"$f":"VLOOKUP(tblData[[#This Row],[Indicator ID]],'Similar 10 CCGs'!$A$6:$C$160,3,FALSE)","v":"Programme Budget - Maternity - Total admissions per 1000 population across secondary care - Activity"},"2011/12","06Q",6246,null,343212,18.2,17.75,18.66,24.53623738928864,26.214872239812276,null,22.352,17.839999999999996,"C","Y55","X24","11802011","Byar"]
[1180201,{"$f":"VLOOKUP(tblData[[#This Row],[Indicator ID]],'Similar 10 CCGs'!$A$6:$C$160,3,FALSE)","v":"Programme Budget - Maternity - Total admissions per 1000 population across secondary care - Activity"},"2011/12","07K",3943,null,201686,19.55,18.940000000000001,20.170000000000002,24.53623738928864,26.214872239812276,null,24.140999999999998,19.608000000000001,"C","Y55","X24","11802011","Byar"]
[1180201,{"$f":"VLOOKUP(tblData[[#This Row],[Indicator ID]],'Similar 10 CCGs'!$A$6:$C$160,3,FALSE)","v":"Programme Budget - Maternity - Total admissions per 1000 population across secondary care - Activity"},"2011/12","08F",4208,null,243294,17.3,16.78,17.829999999999998,24.53623738928864,22.250670631991021,null,23.895000000000003,15.906000000000001,"C","Y56","X24","11802011","Byar"]
[1180201,{"$f":"VLOOKUP(tblData[[#This Row],[Indicator ID]],'Similar 10 CCGs'!$A$6:$C$160,3,FALSE)","v":"Programme Budget - Maternity - Total admissions per 1000 population across secondary care - Activity"},"2011/12","08Y",6232,null,300396,20.75,20.23,21.27,24.53623738928864,22.250670631991021,null,21.300999999999998,16.573999999999998,"A","Y56","X24","11802011","Byar"]
[1180201,{"$f":"VLOOKUP(tblData[[#This Row],[Indicator ID]],'Similar 10 CCGs'!$A$6:$C$160,3,FALSE)","v":"Programme Budget - Maternity - Total admissions per 1000 population across secondary care - Activity"},"2011/12","10C",1382,null,83580,16.54,15.67,17.43,24.53623738928864,21.536028615632592,null,18.769000000000002,13.790000000000001,"","Y57","X24","11802011","Byar"]
[1180201,{"$f":"VLOOKUP(tblData[[#This Row],[Indicator ID]],'Similar 10 CCGs'!$A$6:$C$160,3,FALSE)","v":"Programme Budget - Maternity - Total admissions per 1000 population across secondary care - Activity"},"2011/12","10X",6423,null,313071,20.52,20.02,21.02,24.53623738928864,21.536028615632592,null,20.116,13.715999999999999,"A","Y57","X24","11802011","Byar"]
[1180201,{"$f":"VLOOKUP(tblData[[#This Row],[Indicator ID]],'Similar 10 CCGs'!$A$6:$C$160,3,FALSE)","v":"Programme Budget - Maternity - Total admissions per 1000 population across secondary care - Activity"},"2011/12","13P",27757,null,772900,35.909999999999997,35.49,36.340000000000003,24.53623738928864,26.214872239812276,null,28.026,23.82,"A","Y55","X24","11802011","Byar"]
[1180202,{"$f":"VLOOKUP(tblData[[#This Row],[Indicator ID]],'Similar 10 CCGs'!$A$6:$C$160,3,FALSE)","v":"Programme Budget - Maternity - Total elective (IP + DC) admissions per 1000 population across secondary care - Activity"},"2011/12","00F",775,null,196898,3.94,3.66,4.22,2.3139657981356669,3.1454474200553104,null,3.5219999999999998,2.85,"B","Y54","X24","11802021","Byar"]
[1180202,{"$f":"VLOOKUP(tblData[[#This Row],[Indicator ID]],'Similar 10 CCGs'!$A$6:$C$160,3,FALSE)","v":"Programme Budget - Maternity - Total elective (IP + DC) admissions per 1000 population across secondary care - Activity"},"2011/12","00Y",399,null,236362,1.69,1.53,1.86,2.3139657981356669,3.1454474200553104,null,3.1970000000000001,1.7920000000000003,"","Y54","X24","11802021","Byar"]
[1180202,{"$f":"VLOOKUP(tblData[[#This Row],[Indicator ID]],'Similar 10 CCGs'!$A$6:$C$160,3,FALSE)","v":"Programme Budget - Maternity - Total elective (IP + DC) admissions per 1000 population across secondary care - Activity"},"2011/12","01W",552,null,280070,1.97,1.81,2.14,2.3139657981356669,3.1454474200553104,null,2.4209999999999994,1.25,"","Y54","X24","11802021","Byar"]
[1180202,{"$f":"VLOOKUP(tblData[[#This Row],[Indicator ID]],'Similar 10 CCGs'!$A$6:$C$160,3,FALSE)","v":"Programme Budget - Maternity - Total elective (IP + DC) admissions per 1000 population across secondary care - Activity"},"2011/12","02T",989,null,201990,4.9000000000000004,4.5999999999999996,5.21,2.3139657981356669,3.1454474200553104,null,3.1939999999999995,1.2799999999999998,"A","Y54","X24","11802021","Byar"]
[1180202,{"$f":"VLOOKUP(tblData[[#This Row],[Indicator ID]],'Similar 10 CCGs'!$A$6:$C$160,3,FALSE)","v":"Programme Budget - Maternity - Total elective (IP + DC) admissions per 1000 population across secondary care - Activity"},"2011/12","03R",379,null,335660,1.1299999999999999,1.02,1.25,2.3139657981356669,3.1454474200553104,null,2.7960000000000003,1.6059999999999999,"C","Y54","X24","11802021","Byar"]
[1180202,{"$f":"VLOOKUP(tblData[[#This Row],[Indicator ID]],'Similar 10 CCGs'!$A$6:$C$160,3,FALSE)","v":"Programme Budget - Maternity - Total elective (IP + DC) admissions per 1000 population across secondary care - Activity"},"2011/12","04N",182,null,107360,1.7,1.46,1.96,2.3139657981356669,2.3026026461364077,null,2.5189999999999997,1.6259999999999999,"C","Y55","X24","11802021","Byar"]
[1180202,{"$f":"VLOOKUP(tblData[[#This Row],[Indicator ID]],'Similar 10 CCGs'!$A$6:$C$160,3,FALSE)","v":"Programme Budget - Maternity - Total elective (IP + DC) admissions per 1000 population across secondary care - Activity"},"2011/12","05P",208,null,215145,0.97,0.84,1.1100000000000001,2.3139657981356669,2.3026026461364077,null,1.5580000000000003,1.0539999999999998,"C","Y55","X24","11802021","Byar"]
[1180202,{"$f":"VLOOKUP(tblData[[#This Row],[Indicator ID]],'Similar 10 CCGs'!$A$6:$C$160,3,FALSE)","v":"Programme Budget - Maternity - Total elective (IP + DC) admissions per 1000 population across secondary care - Activity"},"2011/12","06N",462,null,586450,0.79,0.72,0.86,2.3139657981356669,2.3026026461364077,null,2.3310000000000004,1.48,"C","Y55","X24","11802021","Byar"]
[1180202,{"$f":"VLOOKUP(tblData[[#This Row],[Indicator ID]],'Similar 10 CCGs'!$A$6:$C$160,3,FALSE)","v":"Programme Budget - Maternity - Total elective (IP + DC) admissions per 1000 population across secondary care - Activity"},"2011/12","07R",436,null,400161,1.0900000000000001,0.99,1.2,2.3139657981356669,1.8936897160266604,null,2.2629999999999999,1.4140000000000001,"","Y56","X24","11802021","Byar"]
[1180202,{"$f":"VLOOKUP(tblData[[#This Row],[Indicator ID]],'Similar 10 CCGs'!$A$6:$C$160,3,FALSE)","v":"Programme Budget - Maternity - Total elective (IP + DC) admissions per 1000 population across secondary care - Activity"},"2011/12","08L",618,null,391674,1.58,1.46,1.71,2.3139657981356669,1.8936897160266604,null,1.673,1.0580000000000001,"","Y56","X24","11802021","Byar"]
[1180202,{"$f":"VLOOKUP(tblData[[#This Row],[Indicator ID]],'Similar 10 CCGs'!$A$6:$C$160,3,FALSE)","v":"Programme Budget - Maternity - Total elective (IP + DC) admissions per 1000 population across secondary care - Activity"},"2011/12","09F",177,null,157009,1.1299999999999999,0.97,1.31,2.3139657981356669,1.7209964869484604,null,3.2719999999999998,1.964,"C","Y57","X24","11802021","Byar"]
[1180202,{"$f":"VLOOKUP(tblData[[#This Row],[Indicator ID]],'Similar 10 CCGs'!$A$6:$C$160,3,FALSE)","v":"Programme Budget - Maternity - Total elective (IP + DC) admissions per 1000 population across secondary care - Activity"},"2011/12","10J",365,null,207507,1.76,1.58,1.95,2.3139657981356669,1.7209964869484604,null,1.4990000000000001,0.67,"B","Y57","X24","11802021","Byar"]
[1180202,{"$f":"VLOOKUP(tblData[[#This Row],[Indicator ID]],'Similar 10 CCGs'!$A$6:$C$160,3,FALSE)","v":"Programme Budget - Maternity - Total elective (IP + DC) admissions per 1000 population across secondary care - Activity"},"2011/12","11E",438,null,191806,2.2799999999999998,2.0699999999999998,2.5099999999999998,2.3139657981356669,1.7209964869484604,null,2.4779999999999993,1.5599999999999998,"B","Y57","X24","11802021","Byar"]
[1180202,{"$f":"VLOOKUP(tblData[[#This Row],[Indicator ID]],'Similar 10 CCGs'!$A$6:$C$160,3,FALSE)","v":"Programme Budget - Maternity - Total elective (IP + DC) admissions per 1000 population across secondary care - Activity"},"2011/12","99M",114,null,211750,0.54,0.44,0.65,2.3139657981356669,1.7209964869484604,null,1.105,0.58599999999999997,"C","Y57","X24","11802021","Byar"]
[1180203,{"$f":"VLOOKUP(tblData[[#This Row],[Indicator ID]],'Similar 10 CCGs'!$A$6:$C$160,3,FALSE)","v":"Programme Budget - Maternity - Non-elective (EM + ONEL) admissions per 1000 population across secondary care - Activity"},"2011/12","00M",6965,null,273050,25.51,24.91,26.11,22.221927562437848,23.959823067100675,null,24.866999999999997,18.817999999999998,"B","Y54","X24","11802031","Byar"]
[1180203,{"$f":"VLOOKUP(tblData[[#This Row],[Indicator ID]],'Similar 10 CCGs'!$A$6:$C$160,3,FALSE)","v":"Programme Budget - Maternity - Non-elective (EM + ONEL) admissions per 1000 population across secondary care - Activity"},"2011/12","01G",10877,null,275095,39.54,38.799999999999997,40.29,22.221927562437848,23.959823067100675,null,23.500999999999998,20.084,"A","Y54","X24","11802031","Byar"]
[1180203,{"$f":"VLOOKUP(tblData[[#This Row],[Indicator ID]],'Similar 10 CCGs'!$A$6:$C$160,3,FALSE)","v":"Programme Budget - Maternity - Non-elective (EM + ONEL) admissions per 1000 population across secondary care - Activity"},"2011/12","02G",1437,null,96781,14.85,14.09,15.64,22.221927562437848,23.959823067100675,null,25.96,19.614000000000001,"C","Y54","X24","11802031","Byar"]
[1180203,{"$f":"VLOOKUP(tblData[[#This Row],[Indicator ID]],'Similar 10 CCGs'!$A$6:$C$160,3,FALSE)","v":"Programme Budget - Maternity - Non-elective (EM + ONEL) admissions per 1000 population across secondary care - Activity"},"2011/12","03E",2051,null,133369,15.38,14.72,16.059999999999999,22.221927562437848,23.959823067100675,null,24.933,18.71,"C","Y54","X24","11802031","Byar"]
[1180203,{"$f":"VLOOKUP(tblData[[#This Row],[Indicator ID]],'Similar 10 CCGs'!$A$6:$C$160,3,FALSE)","v":"Programme Budget - Maternity - Non-elective (EM + ONEL) admissions per 1000 population across secondary care - Activity"},"2011/12","04C",13862,null,432960,32.020000000000003,31.49,32.549999999999997,22.221927562437848,23.916027890557519,null,20.452999999999999,14.634,"A","Y55","X24","11802031","Byar"]
[1180203,{"$f":"VLOOKUP(tblData[[#This Row],[Indicator ID]],'Similar 10 CCGs'!$A$6:$C$160,3,FALSE)","v":"Programme Budget - Maternity - Non-elective (EM + ONEL) admissions per 1000 population across secondary care - Activity"},"2011/12","04Y",3137,null,119454,26.26,25.35,27.2,22.221927562437848,23.916027890557519,null,23.696000000000005,15.309999999999997,"B","Y55","X24","11802031","Byar"]
[1180203,{"$f":"VLOOKUP(tblData[[#This Row],[Indicator ID]],'Similar 10 CCGs'!$A$6:$C$160,3,FALSE)","v":"Programme Budget - Maternity - Non-elective (EM + ONEL) admissions per 1000 population across secondary care - Activity"},"2011/12","05W",7509,null,273451,27.46,26.84,28.09,22.221927562437848,23.916027890557519,null,24.344000000000001,19.758000000000003,"B","Y55","X24","11802031","Byar"]
[1180203,{"$f":"VLOOKUP(tblData[[#This Row],[Indicator ID]],'Similar 10 CCGs'!$A$6:$C$160,3,FALSE)","v":"Programme Budget - Maternity - Non-elective (EM + ONEL) admissions per 1000 population across secondary care - Activity"},"2011/12","06Y",4880,null,182760,26.7,25.96,27.46,22.221927562437848,23.916027890557519,null,18.944000000000003,14.222,"A","Y55","X24","11802031","Byar"]
[1180203,{"$f":"VLOOKUP(tblData[[#This Row],[Indicator ID]],'Similar 10 CCGs'!$A$6:$C$160,3,FALSE)","v":"Programme Budget - Maternity - Non-elective (EM + ONEL) admissions per 1000 population across secondary care - Activity"},"2011/12","07Q",4358,null,313106,13.92,13.51,14.34,22.221927562437848,20.345227171196932,null,21.015999999999998,18.321999999999996,"C","Y56","X24","11802031","Byar"]
[1180203,{"$f":"VLOOKUP(tblData[[#This Row],[Indicator ID]],'Similar 10 CCGs'!$A$6:$C$160,3,FALSE)","v":"Programme Budget - Maternity - Non-elective (EM + ONEL) admissions per 1000 population across secondary care - Activity"},"2011/12","08C",5599,null,339602,16.489999999999998,16.059999999999999,16.920000000000002,22.221927562437848,20.345227171196932,null,19.337,16.118000000000002,"C","Y56","X24","11802031","Byar"]
[1180203,{"$f":"VLOOKUP(tblData[[#This Row],[Indicator ID]],'Similar 10 CCGs'!$A$6:$C$160,3,FALSE)","v":"Programme Budget - Maternity - Non-elective (EM + ONEL) admissions per 1000 population across secondary care - Activity"},"2011/12","08D",7759,null,375433,20.67,20.21,21.13,22.221927562437848,20.345227171196932,null,22.461999999999996,18.716000000000001,"B","Y56","X24","11802031","Byar"]
[1180203,{"$f":"VLOOKUP(tblData[[#This Row],[Indicator ID]],'Similar 10 CCGs'!$A$6:$C$160,3,FALSE)","v":"Programme Budget - Maternity - Non-elective (EM + ONEL) admissions per 1000 population across secondary care - Activity"},"2011/12","08E",6138,null,265671,23.1,22.53,23.69,22.221927562437848,20.345227171196932,null,23.728000000000002,19.152000000000001,"A","Y56","X24","11802031","Byar"]
[1180203,{"$f":"VLOOKUP(tblData[[#This Row],[Indicator ID]],'Similar 10 CCGs'!$A$6:$C$160,3,FALSE)","v":"Programme Budget - Maternity - Non-elective (EM + ONEL) admissions per 1000 population across secondary care - Activity"},"2011/12","08F",4006,null,243176,16.47,15.97,16.989999999999998,22.221927562437848,20.345227171196932,null,21.882999999999999,14.252000000000001,"C","Y56","X24","11802031","Byar"]
[1180203,{"$f":"VLOOKUP(tblData[[#This Row],[Indicator ID]],'Similar 10 CCGs'!$A$6:$C$160,3,FALSE)","v":"Programme Budget - Maternity - Non-elective (EM + ONEL) admissions per 1000 population across secondary care - Activity"},"2011/12","08G",5649,null,307282,18.38,17.91,18.87,22.221927562437848,20.345227171196932,null,25.573,21.017999999999997,"","Y56","X24","11802031","Byar"]
[1180203,{"$f":"VLOOKUP(tblData[[#This Row],[Indicator ID]],'Similar 10 CCGs'!$A$6:$C$160,3,FALSE)","v":"Programme Budget - Maternity - Non-elective (EM + ONEL) admissions per 1000 population across secondary care - Activity"},"2011/12","08H",6122,null,359518,17.03,16.600000000000001,17.46,22.221927562437848,20.345227171196932,null,17.762,14.430000000000001,"","Y56","X24","11802031","Byar"]
[1180203,{"$f":"VLOOKUP(tblData[[#This Row],[Indicator ID]],'Similar 10 CCGs'!$A$6:$C$160,3,FALSE)","v":"Programme Budget - Maternity - Non-elective (EM + ONEL) admissions per 1000 population across secondary care - Activity"},"2011/12","08J",6119,null,223259,27.41,26.73,28.1,22.221927562437848,20.345227171196932,null,19.234000000000002,16.478000000000002,"A","Y56","X24","11802031","Byar"]
[1180203,{"$f":"VLOOKUP(tblData[[#This Row],[Indicator ID]],'Similar 10 CCGs'!$A$6:$C$160,3,FALSE)","v":"Programme Budget - Maternity - Non-elective (EM + ONEL) admissions per 1000 population across secondary care - Activity"},"2011/12","08K",10281,null,578065,17.79,17.440000000000001,18.13,22.221927562437848,20.345227171196932,null,20.875999999999998,18.43,"","Y56","X24","11802031","Byar"]
[1180203,{"$f":"VLOOKUP(tblData[[#This Row],[Indicator ID]],'Similar 10 CCGs'!$A$6:$C$160,3,FALSE)","v":"Programme Budget - Maternity - Non-elective (EM + ONEL) admissions per 1000 population across secondary care - Activity"},"2011/12","08L",8342,null,405352,20.58,20.14,21.03,22.221927562437848,20.345227171196932,null,21.768999999999998,18.885999999999999,"","Y56","X24","11802031","Byar"]
[1180203,{"$f":"VLOOKUP(tblData[[#This Row],[Indicator ID]],'Similar 10 CCGs'!$A$6:$C$160,3,FALSE)","v":"Programme Budget - Maternity - Non-elective (EM + ONEL) admissions per 1000 population across secondary care - Activity"},"2011/12","08M",9528,null,476527,19.989999999999998,19.600000000000001,20.399999999999999,22.221927562437848,20.345227171196932,null,21.950000000000003,18.917999999999999,"","Y56","X24","11802031","Byar"]
[1180203,{"$f":"VLOOKUP(tblData[[#This Row],[Indicator ID]],'Similar 10 CCGs'!$A$6:$C$160,3,FALSE)","v":"Programme Budget - Maternity - Non-elective (EM + ONEL) admissions per 1000 population across secondary care - Activity"},"2011/12","08N",5790,null,334045,17.329999999999998,16.89,17.79,22.221927562437848,20.345227171196932,null,24.402000000000001,20.182000000000002,"C","Y56","X24","11802031","Byar"]
[1180203,{"$f":"VLOOKUP(tblData[[#This Row],[Indicator ID]],'Similar 10 CCGs'!$A$6:$C$160,3,FALSE)","v":"Programme Budget - Maternity - Non-elective (EM + ONEL) admissions per 1000 population across secondary care - Activity"},"2011/12","08P",5182,null,211345,24.52,23.86,25.2,22.221927562437848,20.345227171196932,null,15.712,10.241999999999999,"A","Y56","X24","11802031","Byar"]
[1180203,{"$f":"VLOOKUP(tblData[[#This Row],[Indicator ID]],'Similar 10 CCGs'!$A$6:$C$160,3,FALSE)","v":"Programme Budget - Maternity - Non-elective (EM + ONEL) admissions per 1000 population across secondary care - Activity"},"2011/12","08Q",10739,null,459989,23.35,22.91,23.79,22.221927562437848,20.345227171196932,null,20.023999999999997,17.279999999999998,"A","Y56","X24","11802031","Byar"]
[1180203,{"$f":"VLOOKUP(tblData[[#This Row],[Indicator ID]],'Similar 10 CCGs'!$A$6:$C$160,3,FALSE)","v":"Programme Budget - Maternity - Non-elective (EM + ONEL) admissions per 1000 population across secondary care - Activity"},"2011/12","08R",5362,null,260069,20.62,20.07,21.18,22.221927562437848,20.345227171196932,null,20.158999999999999,14.703999999999999,"B","Y56","X24","11802031","Byar"]
[1180203,{"$f":"VLOOKUP(tblData[[#This Row],[Indicator ID]],'Similar 10 CCGs'!$A$6:$C$160,3,FALSE)","v":"Programme Budget - Maternity - Non-elective (EM + ONEL) admissions per 1000 population across secondary care - Activity"},"2011/12","08T",4855,null,192185,25.26,24.56,25.98,22.221927562437848,20.345227171196932,null,22.391999999999996,17.25,"A","Y56","X24","11802031","Byar"]
[1180203,{"$f":"VLOOKUP(tblData[[#This Row],[Indicator ID]],'Similar 10 CCGs'!$A$6:$C$160,3,FALSE)","v":"Programme Budget - Maternity - Non-elective (EM + ONEL) admissions per 1000 population across secondary care - Activity"},"2011/12","08V",6560,null,442384,14.83,14.47,15.19,22.221927562437848,20.345227171196932,null,20.808000000000003,17.247999999999998,"C","Y56","X24","11802031","Byar"]
[1180203,{"$f":"VLOOKUP(tblData[[#This Row],[Indicator ID]],'Similar 10 CCGs'!$A$6:$C$160,3,FALSE)","v":"Programme Budget - Maternity - Non-elective (EM + ONEL) admissions per 1000 population across secondary care - Activity"},"2011/12","08W",7037,null,360985,19.489999999999998,19.04,19.95,22.221927562437848,20.345227171196932,null,22.502999999999997,20.718,"","Y56","X24","11802031","Byar"]
[1180203,{"$f":"VLOOKUP(tblData[[#This Row],[Indicator ID]],'Similar 10 CCGs'!$A$6:$C$160,3,FALSE)","v":"Programme Budget - Maternity - Non-elective (EM + ONEL) admissions per 1000 population across secondary care - Activity"},"2011/12","08X",9331,null,598159,15.6,15.28,15.92,22.221927562437848,20.345227171196932,null,19.677,17.57,"C","Y56","X24","11802031","Byar"]
[1180203,{"$f":"VLOOKUP(tblData[[#This Row],[Indicator ID]],'Similar 10 CCGs'!$A$6:$C$160,3,FALSE)","v":"Programme Budget - Maternity - Non-elective (EM + ONEL) admissions per 1000 population across secondary care - Activity"},"2011/12","08Y",5109,null,301636,16.940000000000001,16.48,17.41,22.221927562437848,20.345227171196932,null,19.765999999999998,14.87,"B","Y56","X24","11802031","Byar"]
[1180203,{"$f":"VLOOKUP(tblData[[#This Row],[Indicator ID]],'Similar 10 CCGs'!$A$6:$C$160,3,FALSE)","v":"Programme Budget - Maternity - Non-elective (EM + ONEL) admissions per 1000 population across secondary care - Activity"},"2011/12","09A",3938,null,270605,14.55,14.1,15.01,22.221927562437848,20.345227171196932,null,16.643000000000001,13.663999999999998,"","Y56","X24","11802031","Byar"]
[1180203,{"$f":"VLOOKUP(tblData[[#This Row],[Indicator ID]],'Similar 10 CCGs'!$A$6:$C$160,3,FALSE)","v":"Programme Budget - Maternity - Non-elective (EM + ONEL) admissions per 1000 population across secondary care - Activity"},"2011/12","09C",2216,null,112163,19.760000000000002,18.940000000000001,20.6,22.221927562437848,19.819466861526575,null,24.893000000000004,17.68,"","Y57","X24","11802031","Byar"]
[1180203,{"$f":"VLOOKUP(tblData[[#This Row],[Indicator ID]],'Similar 10 CCGs'!$A$6:$C$160,3,FALSE)","v":"Programme Budget - Maternity - Non-elective (EM + ONEL) admissions per 1000 population across secondary care - Activity"},"2011/12","09D",3583,null,369476,9.6999999999999993,9.3800000000000008,10.02,22.221927562437848,19.819466861526575,null,21.779000000000003,15.118,"C","Y57","X24","11802031","Byar"]
[1180203,{"$f":"VLOOKUP(tblData[[#This Row],[Indicator ID]],'Similar 10 CCGs'!$A$6:$C$160,3,FALSE)","v":"Programme Budget - Maternity - Non-elective (EM + ONEL) admissions per 1000 population across secondary care - Activity"},"2011/12","09E",2755,null,208722,13.2,12.71,13.7,22.221927562437848,19.819466861526575,null,25.228000000000002,18.396000000000001,"C","Y57","X24","11802031","Byar"]
[1180203,{"$f":"VLOOKUP(tblData[[#This Row],[Indicator ID]],'Similar 10 CCGs'!$A$6:$C$160,3,FALSE)","v":"Programme Budget - Maternity - Non-elective (EM + ONEL) admissions per 1000 population across secondary care - Activity"},"2011/12","09F",2288,null,151952,15.06,14.45,15.69,22.221927562437848,19.819466861526575,null,23.522000000000002,18.661999999999999,"C","Y57","X24","11802031","Byar"]
[1180203,{"$f":"VLOOKUP(tblData[[#This Row],[Indicator ID]],'Similar 10 CCGs'!$A$6:$C$160,3,FALSE)","v":"Programme Budget - Maternity - Non-elective (EM + ONEL) admissions per 1000 population across secondary care - Activity"},"2011/12","09G",7036,null,389793,18.05,17.63,18.48,22.221927562437848,19.819466861526575,null,24.283999999999999,19.556000000000001,"","Y57","X24","11802031","Byar"]
[1180203,{"$f":"VLOOKUP(tblData[[#This Row],[Indicator ID]],'Similar 10 CCGs'!$A$6:$C$160,3,FALSE)","v":"Programme Budget - Maternity - Non-elective (EM + ONEL) admissions per 1000 population across secondary care - Activity"},"2011/12","09H",2354,null,135592,17.36,16.670000000000002,18.079999999999998,22.221927562437848,19.819466861526575,null,23.066999999999997,18.271999999999998,"","Y57","X24","11802031","Byar"]
[1180203,{"$f":"VLOOKUP(tblData[[#This Row],[Indicator ID]],'Similar 10 CCGs'!$A$6:$C$160,3,FALSE)","v":"Programme Budget - Maternity - Non-elective (EM + ONEL) admissions per 1000 population across secondary care - Activity"},"2011/12","09J",4633,null,242820,19.079999999999998,18.53,19.64,22.221927562437848,19.819466861526575,null,24.521999999999998,18.733999999999998,"","Y57","X24","11802031","Byar"]
[1180203,{"$f":"VLOOKUP(tblData[[#This Row],[Indicator ID]],'Similar 10 CCGs'!$A$6:$C$160,3,FALSE)","v":"Programme Budget - Maternity - Non-elective (EM + ONEL) admissions per 1000 population across secondary care - Activity"},"2011/12","09L",2894,null,161865,17.88,17.23,18.54,22.221927562437848,19.819466861526575,null,18.523,12.856,"","Y57","X24","11802031","Byar"]
[1180203,{"$f":"VLOOKUP(tblData[[#This Row],[Indicator ID]],'Similar 10 CCGs'!$A$6:$C$160,3,FALSE)","v":"Programme Budget - Maternity - Non-elective (EM + ONEL) admissions per 1000 population across secondary care - Activity"},"2011/12","09N",3376,null,198986,16.97,16.399999999999999,17.55,22.221927562437848,19.819466861526575,null,20.395000000000003,13.302000000000001,"","Y57","X24","11802031","Byar"]
[1180203,{"$f":"VLOOKUP(tblData[[#This Row],[Indicator ID]],'Similar 10 CCGs'!$A$6:$C$160,3,FALSE)","v":"Programme Budget - Maternity - Non-elective (EM + ONEL) admissions per 1000 population across secondary care - Activity"},"2011/12","09P",2217,null,146261,15.16,14.53,15.8,22.221927562437848,19.819466861526575,null,23.335000000000001,18.46,"C","Y57","X24","11802031","Byar"]
[1180203,{"$f":"VLOOKUP(tblData[[#This Row],[Indicator ID]],'Similar 10 CCGs'!$A$6:$C$160,3,FALSE)","v":"Programme Budget - Maternity - Non-elective (EM + ONEL) admissions per 1000 population across secondary care - Activity"},"2011/12","09W",5077,null,280475,18.100000000000001,17.61,18.61,22.221927562437848,19.819466861526575,null,22.443000000000001,17.45,"C","Y57","X24","11802031","Byar"]
[1180203,{"$f":"VLOOKUP(tblData[[#This Row],[Indicator ID]],'Similar 10 CCGs'!$A$6:$C$160,3,FALSE)","v":"Programme Budget - Maternity - Non-elective (EM + ONEL) admissions per 1000 population across secondary care - Activity"},"2011/12","09X",2686,null,190851,14.07,13.55,14.62,22.221927562437848,19.819466861526575,null,21.124999999999996,13.907999999999998,"C","Y57","X24","11802031","Byar"]
[1180203,{"$f":"VLOOKUP(tblData[[#This Row],[Indicator ID]],'Similar 10 CCGs'!$A$6:$C$160,3,FALSE)","v":"Programme Budget - Maternity - Non-elective (EM + ONEL) admissions per 1000 population across secondary care - Activity"},"2011/12","09Y",6172,null,338134,18.25,17.8,18.71,22.221927562437848,19.819466861526575,null,19.423999999999999,15.571999999999999,"","Y57","X24","11802031","Byar"]
[1180203,{"$f":"VLOOKUP(tblData[[#This Row],[Indicator ID]],'Similar 10 CCGs'!$A$6:$C$160,3,FALSE)","v":"Programme Budget - Maternity - Non-elective (EM + ONEL) admissions per 1000 population across secondary care - Activity"},"2011/12","10A",3189,null,166933,19.100000000000001,18.45,19.78,22.221927562437848,19.819466861526575,null,24.193000000000005,20.396000000000001,"C","Y57","X24","11802031","Byar"]
[1180203,{"$f":"VLOOKUP(tblData[[#This Row],[Indicator ID]],'Similar 10 CCGs'!$A$6:$C$160,3,FALSE)","v":"Programme Budget - Maternity - Non-elective (EM + ONEL) admissions per 1000 population across secondary care - Activity"},"2011/12","10C",1340,null,83356,16.079999999999998,15.23,16.96,22.221927562437848,19.819466861526575,null,17.526999999999997,12.87,"","Y57","X24","11802031","Byar"]
[1180203,{"$f":"VLOOKUP(tblData[[#This Row],[Indicator ID]],'Similar 10 CCGs'!$A$6:$C$160,3,FALSE)","v":"Programme Budget - Maternity - Non-elective (EM + ONEL) admissions per 1000 population across secondary care - Activity"},"2011/12","10D",1745,null,98382,17.739999999999998,16.91,18.59,22.221927562437848,19.819466861526575,null,25.308,20.794,"","Y57","X24","11802031","Byar"]
[1180203,{"$f":"VLOOKUP(tblData[[#This Row],[Indicator ID]],'Similar 10 CCGs'!$A$6:$C$160,3,FALSE)","v":"Programme Budget - Maternity - Non-elective (EM + ONEL) admissions per 1000 population across secondary care - Activity"},"2011/12","10E",2489,null,120565,20.64,19.84,21.47,22.221927562437848,19.819466861526575,null,24.007999999999999,18.128,"","Y57","X24","11802031","Byar"]
[1180203,{"$f":"VLOOKUP(tblData[[#This Row],[Indicator ID]],'Similar 10 CCGs'!$A$6:$C$160,3,FALSE)","v":"Programme Budget - Maternity - Non-elective (EM + ONEL) admissions per 1000 population across secondary care - Activity"},"2011/12","10G",1959,null,132835,14.75,14.1,15.42,22.221927562437848,19.819466861526575,null,17.861999999999998,13.406000000000001,"","Y57","X24","11802031","Byar"]
[1180203,{"$f":"VLOOKUP(tblData[[#This Row],[Indicator ID]],'Similar 10 CCGs'!$A$6:$C$160,3,FALSE)","v":"Programme Budget - Maternity - Non-elective (EM + ONEL) admissions per 1000 population across secondary care - Activity"},"2011/12","10H",6483,null,293545,22.09,21.55,22.63,22.221927562437848,19.819466861526575,null,18.657,14.718,"A","Y57","X24","11802031","Byar"]
[1180203,{"$f":"VLOOKUP(tblData[[#This Row],[Indicator ID]],'Similar 10 CCGs'!$A$6:$C$160,3,FALSE)","v":"Programme Budget - Maternity - Non-elective (EM + ONEL) admissions per 1000 population across secondary care - Activity"},"2011/12","10J",3770,null,203565,18.52,17.93,19.12,22.221927562437848,19.819466861526575,null,18.451000000000001,14.236000000000001,"","Y57","X24","11802031","Byar"]
[1180203,{"$f":"VLOOKUP(tblData[[#This Row],[Indicator ID]],'Similar 10 CCGs'!$A$6:$C$160,3,FALSE)","v":"Programme Budget - Maternity - Non-elective (EM + ONEL) admissions per 1000 population across secondary care - Activity"},"2011/12","10K",4284,null,169823,25.23,24.48,25.99,22.221927562437848,19.819466861526575,null,21.347999999999999,13.462,"A","Y57","X24","11802031","Byar"]
[1180203,{"$f":"VLOOKUP(tblData[[#This Row],[Indicator ID]],'Similar 10 CCGs'!$A$6:$C$160,3,FALSE)","v":"Programme Budget - Maternity - Non-elective (EM + ONEL) admissions per 1000 population across secondary care - Activity"},"2011/12","10L",1682,null,108029,15.57,14.83,16.329999999999998,22.221927562437848,19.819466861526575,null,22.508000000000003,17.476000000000003,"C","Y57","X24","11802031","Byar"]
[1180203,{"$f":"VLOOKUP(tblData[[#This Row],[Indicator ID]],'Similar 10 CCGs'!$A$6:$C$160,3,FALSE)","v":"Programme Budget - Maternity - Non-elective (EM + ONEL) admissions per 1000 population across secondary care - Activity"},"2011/12","10M",1080,null,105095,10.28,9.67,10.91,22.221927562437848,19.819466861526575,null,21.831,16.866,"C","Y57","X24","11802031","Byar"]
[1180203,{"$f":"VLOOKUP(tblData[[#This Row],[Indicator ID]],'Similar 10 CCGs'!$A$6:$C$160,3,FALSE)","v":"Programme Budget - Maternity - Non-elective (EM + ONEL) admissions per 1000 population across secondary care - Activity"},"2011/12","10N",226,null,104961,2.15,1.88,2.4500000000000002,22.221927562437848,19.819466861526575,null,19.627999999999997,15.634,"C","Y57","X24","11802031","Byar"]
[1180203,{"$f":"VLOOKUP(tblData[[#This Row],[Indicator ID]],'Similar 10 CCGs'!$A$6:$C$160,3,FALSE)","v":"Programme Budget - Maternity - Non-elective (EM + ONEL) admissions per 1000 population across secondary care - Activity"},"2011/12","10Q",10978,null,705610,15.56,15.27,15.85,22.221927562437848,19.819466861526575,null,23.864000000000001,19.333999999999996,"C","Y57","X24","11802031","Byar"]
[1180203,{"$f":"VLOOKUP(tblData[[#This Row],[Indicator ID]],'Similar 10 CCGs'!$A$6:$C$160,3,FALSE)","v":"Programme Budget - Maternity - Non-elective (EM + ONEL) admissions per 1000 population across secondary care - Activity"},"2011/12","10R",5782,null,244554,23.64,23.04,24.26,22.221927562437848,19.819466861526575,null,24.494999999999997,16.846,"B","Y57","X24","11802031","Byar"]
[1180203,{"$f":"VLOOKUP(tblData[[#This Row],[Indicator ID]],'Similar 10 CCGs'!$A$6:$C$160,3,FALSE)","v":"Programme Budget - Maternity - Non-elective (EM + ONEL) admissions per 1000 population across secondary care - Activity"},"2011/12","10T",3948,null,173735,22.72,22.02,23.44,22.221927562437848,19.819466861526575,null,25.155000000000001,19.794,"C","Y57","X24","11802031","Byar"]
[1180203,{"$f":"VLOOKUP(tblData[[#This Row],[Indicator ID]],'Similar 10 CCGs'!$A$6:$C$160,3,FALSE)","v":"Programme Budget - Maternity - Non-elective (EM + ONEL) admissions per 1000 population across secondary care - Activity"},"2011/12","10V",4200,null,170534,24.63,23.89,25.38,22.221927562437848,19.819466861526575,null,25.957000000000001,20.074000000000002,"B","Y57","X24","11802031","Byar"]
[1180203,{"$f":"VLOOKUP(tblData[[#This Row],[Indicator ID]],'Similar 10 CCGs'!$A$6:$C$160,3,FALSE)","v":"Programme Budget - Maternity - Non-elective (EM + ONEL) admissions per 1000 population across secondary care - Activity"},"2011/12","10W",209,null,170668,1.22,1.06,1.4,22.221927562437848,19.819466861526575,null,20.508999999999997,14.516,"C","Y57","X24","11802031","Byar"]
[1180203,{"$f":"VLOOKUP(tblData[[#This Row],[Indicator ID]],'Similar 10 CCGs'!$A$6:$C$160,3,FALSE)","v":"Programme Budget - Maternity - Non-elective (EM + ONEL) admissions per 1000 population across secondary care - Activity"},"2011/12","10X",5314,null,313728,16.940000000000001,16.489999999999998,17.399999999999999,22.221927562437848,19.819466861526575,null,17.756999999999998,12.032,"","Y57","X24","11802031","Byar"]
[1180203,{"$f":"VLOOKUP(tblData[[#This Row],[Indicator ID]],'Similar 10 CCGs'!$A$6:$C$160,3,FALSE)","v":"Programme Budget - Maternity - Non-elective (EM + ONEL) admissions per 1000 population across secondary care - Activity"},"2011/12","10Y",4643,null,176625,26.29,25.54,27.05,22.221927562437848,19.819466861526575,null,19.525000000000002,15.423999999999998,"A","Y57","X24","11802031","Byar"]
[1180203,{"$f":"VLOOKUP(tblData[[#This Row],[Indicator ID]],'Similar 10 CCGs'!$A$6:$C$160,3,FALSE)","v":"Programme Budget - Maternity - Non-elective (EM + ONEL) admissions per 1000 population across secondary care - Activity"},"2011/12","11A",7758,null,447497,17.34,16.95,17.73,22.221927562437848,19.819466861526575,null,22.631,18.66,"C","Y57","X24","11802031","Byar"]
[1180203,{"$f":"VLOOKUP(tblData[[#This Row],[Indicator ID]],'Similar 10 CCGs'!$A$6:$C$160,3,FALSE)","v":"Programme Budget - Maternity - Non-elective (EM + ONEL) admissions per 1000 population across secondary care - Activity"},"2011/12","11C",2418,null,151018,16.010000000000002,15.38,16.66,22.221927562437848,19.819466861526575,null,20.177,14.217999999999998,"B","Y57","X24","11802031","Byar"]
[1180203,{"$f":"VLOOKUP(tblData[[#This Row],[Indicator ID]],'Similar 10 CCGs'!$A$6:$C$160,3,FALSE)","v":"Programme Budget - Maternity - Non-elective (EM + ONEL) admissions per 1000 population across secondary care - Activity"},"2011/12","11D",422,null,138215,3.05,2.77,3.36,22.221927562437848,19.819466861526575,null,18.309000000000001,15.475999999999999,"C","Y57","X24","11802031","Byar"]
[1180203,{"$f":"VLOOKUP(tblData[[#This Row],[Indicator ID]],'Similar 10 CCGs'!$A$6:$C$160,3,FALSE)","v":"Programme Budget - Maternity - Non-elective (EM + ONEL) admissions per 1000 population across secondary care - Activity"},"2011/12","11E",2474,null,187783,13.17,12.66,13.7,22.221927562437848,19.819466861526575,null,22.760999999999999,16.544,"C","Y57","X24","11802031","Byar"]
[1180203,{"$f":"VLOOKUP(tblData[[#This Row],[Indicator ID]],'Similar 10 CCGs'!$A$6:$C$160,3,FALSE)","v":"Programme Budget - Maternity - Non-elective (EM + ONEL) admissions per 1000 population across secondary care - Activity"},"2011/12","11H",13460,null,571352,23.56,23.16,23.96,22.221927562437848,19.819466861526575,null,21.210999999999995,14.419999999999998,"A","Y57","X24","11802031","Byar"]
[1180203,{"$f":"VLOOKUP(tblData[[#This Row],[Indicator ID]],'Similar 10 CCGs'!$A$6:$C$160,3,FALSE)","v":"Programme Budget - Maternity - Non-elective (EM + ONEL) admissions per 1000 population across secondary care - Activity"},"2011/12","11J",17520,null,659553,26.56,26.17,26.96,22.221927562437848,19.819466861526575,null,22.432000000000002,17.898,"A","Y57","X24","11802031","Byar"]
[1180203,{"$f":"VLOOKUP(tblData[[#This Row],[Indicator ID]],'Similar 10 CCGs'!$A$6:$C$160,3,FALSE)","v":"Programme Budget - Maternity - Non-elective (EM + ONEL) admissions per 1000 population across secondary care - Activity"},"2011/12","11M",14220,null,540188,26.32,25.89,26.76,22.221927562437848,19.819466861526575,null,23.386000000000003,19.065999999999999,"A","Y57","X24","11802031","Byar"]
[1180203,{"$f":"VLOOKUP(tblData[[#This Row],[Indicator ID]],'Similar 10 CCGs'!$A$6:$C$160,3,FALSE)","v":"Programme Budget - Maternity - Non-elective (EM + ONEL) admissions per 1000 population across secondary care - Activity"},"2011/12","11N",11319,null,455499,24.85,24.39,25.31,22.221927562437848,19.819466861526575,null,22.434999999999999,18.979999999999997,"A","Y57","X24","11802031","Byar"]
[1180203,{"$f":"VLOOKUP(tblData[[#This Row],[Indicator ID]],'Similar 10 CCGs'!$A$6:$C$160,3,FALSE)","v":"Programme Budget - Maternity - Non-elective (EM + ONEL) admissions per 1000 population across secondary care - Activity"},"2011/12","11T",6482,null,173424,37.380000000000003,36.47,38.299999999999997,22.221927562437848,19.819466861526575,null,21.878999999999998,17.110000000000003,"A","Y57","X24","11802031","Byar"]
[1180203,{"$f":"VLOOKUP(tblData[[#This Row],[Indicator ID]],'Similar 10 CCGs'!$A$6:$C$160,3,FALSE)","v":"Programme Budget - Maternity - Non-elective (EM + ONEL) admissions per 1000 population across secondary care - Activity"},"2011/12","11X",13074,null,438117,29.84,29.33,30.36,22.221927562437848,19.819466861526575,null,21.859999999999996,18.303999999999998,"A","Y57","X24","11802031","Byar"]
[1180203,{"$f":"VLOOKUP(tblData[[#This Row],[Indicator ID]],'Similar 10 CCGs'!$A$6:$C$160,3,FALSE)","v":"Programme Budget - Maternity - Non-elective (EM + ONEL) admissions per 1000 population across secondary care - Activity"},"2011/12","12A",6735,null,239486,28.12,27.46,28.8,22.221927562437848,19.819466861526575,null,20.254999999999999,16.693999999999999,"A","Y57","X24","11802031","Byar"]
[1180203,{"$f":"VLOOKUP(tblData[[#This Row],[Indicator ID]],'Similar 10 CCGs'!$A$6:$C$160,3,FALSE)","v":"Programme Budget - Maternity - Non-elective (EM + ONEL) admissions per 1000 population across secondary care - Activity"},"2011/12","12D",4177,null,223304,18.71,18.14,19.28,22.221927562437848,19.819466861526575,null,21.332000000000001,16.995999999999999,"C","Y57","X24","11802031","Byar"]
[1180203,{"$f":"VLOOKUP(tblData[[#This Row],[Indicator ID]],'Similar 10 CCGs'!$A$6:$C$160,3,FALSE)","v":"Programme Budget - Maternity - Non-elective (EM + ONEL) admissions per 1000 population across secondary care - Activity"},"2011/12","12F",8777,null,292033,30.05,29.43,30.69,22.221927562437848,23.959823067100675,null,25.507999999999999,19.889999999999997,"A","Y54","X24","11802031","Byar"]
[1180203,{"$f":"VLOOKUP(tblData[[#This Row],[Indicator ID]],'Similar 10 CCGs'!$A$6:$C$160,3,FALSE)","v":"Programme Budget - Maternity - Non-elective (EM + ONEL) admissions per 1000 population across secondary care - Activity"},"2011/12","13P",27134,null,773717,35.07,34.65,35.49,22.221927562437848,23.916027890557519,null,25.736000000000001,22.631999999999998,"A","Y55","X24","11802031","Byar"]
[1180203,{"$f":"VLOOKUP(tblData[[#This Row],[Indicator ID]],'Similar 10 CCGs'!$A$6:$C$160,3,FALSE)","v":"Programme Budget - Maternity - Non-elective (EM + ONEL) admissions per 1000 population across secondary care - Activity"},"2011/12","99A",5764,null,542011,10.63,10.36,10.91,22.221927562437848,23.959823067100675,null,22.106999999999999,15.975999999999999,"C","Y54","X24","11802031","Byar"]
[1180203,{"$f":"VLOOKUP(tblData[[#This Row],[Indicator ID]],'Similar 10 CCGs'!$A$6:$C$160,3,FALSE)","v":"Programme Budget - Maternity - Non-elective (EM + ONEL) admissions per 1000 population across secondary care - Activity"},"2011/12","99C",3766,null,202721,18.579999999999998,17.989999999999998,19.18,22.221927562437848,23.959823067100675,null,25.782,17.612000000000002,"C","Y54","X24","11802031","Byar"]
[1180203,{"$f":"VLOOKUP(tblData[[#This Row],[Indicator ID]],'Similar 10 CCGs'!$A$6:$C$160,3,FALSE)","v":"Programme Budget - Maternity - Non-elective (EM + ONEL) admissions per 1000 population across secondary care - Activity"},"2011/12","99D",2841,null,129590,21.92,21.12,22.74,22.221927562437848,23.916027890557519,null,20.300999999999995,13.856,"A","Y55","X24","11802031","Byar"]
[1180203,{"$f":"VLOOKUP(tblData[[#This Row],[Indicator ID]],'Similar 10 CCGs'!$A$6:$C$160,3,FALSE)","v":"Programme Budget - Maternity - Non-elective (EM + ONEL) admissions per 1000 population across secondary care - Activity"},"2011/12","99E",7012,null,247221,28.36,27.7,29.04,22.221927562437848,23.916027890557519,null,21.720000000000002,16.332000000000001,"A","Y55","X24","11802031","Byar"]
[1180203,{"$f":"VLOOKUP(tblData[[#This Row],[Indicator ID]],'Similar 10 CCGs'!$A$6:$C$160,3,FALSE)","v":"Programme Budget - Maternity - Non-elective (EM + ONEL) admissions per 1000 population across secondary care - Activity"},"2011/12","99F",2858,null,144616,19.760000000000002,19.04,20.5,22.221927562437848,23.916027890557519,null,21.664999999999999,12.012,"","Y55","X24","11802031","Byar"]
[1180203,{"$f":"VLOOKUP(tblData[[#This Row],[Indicator ID]],'Similar 10 CCGs'!$A$6:$C$160,3,FALSE)","v":"Programme Budget - Maternity - Non-elective (EM + ONEL) admissions per 1000 population across secondary care - Activity"},"2011/12","99G",3971,null,176180,22.54,21.84,23.25,22.221927562437848,23.916027890557519,null,25.195999999999998,18.616,"","Y55","X24","11802031","Byar"]
[1180203,{"$f":"VLOOKUP(tblData[[#This Row],[Indicator ID]],'Similar 10 CCGs'!$A$6:$C$160,3,FALSE)","v":"Programme Budget - Maternity - Non-elective (EM + ONEL) admissions per 1000 population across secondary care - Activity"},"2011/12","99H",4745,null,248466,19.100000000000001,18.559999999999999,19.649999999999999,22.221927562437848,19.819466861526575,null,19.256,13.343999999999999,"","Y57","X24","11802031","Byar"]
[1180203,{"$f":"VLOOKUP(tblData[[#This Row],[Indicator ID]],'Similar 10 CCGs'!$A$6:$C$160,3,FALSE)","v":"Programme Budget - Maternity - Non-elective (EM + ONEL) admissions per 1000 population across secondary care - Activity"},"2011/12","99J",9268,null,414155,22.38,21.92,22.84,22.221927562437848,19.819466861526575,null,22.130000000000003,17.128,"A","Y57","X24","11802031","Byar"]
[1180203,{"$f":"VLOOKUP(tblData[[#This Row],[Indicator ID]],'Similar 10 CCGs'!$A$6:$C$160,3,FALSE)","v":"Programme Budget - Maternity - Non-elective (EM + ONEL) admissions per 1000 population across secondary care - Activity"},"2011/12","99K",1828,null,127367,14.35,13.7,15.03,22.221927562437848,19.819466861526575,null,21.032,14.428000000000001,"C","Y57","X24","11802031","Byar"]
[1180203,{"$f":"VLOOKUP(tblData[[#This Row],[Indicator ID]],'Similar 10 CCGs'!$A$6:$C$160,3,FALSE)","v":"Programme Budget - Maternity - Non-elective (EM + ONEL) admissions per 1000 population across secondary care - Activity"},"2011/12","99M",3426,null,207966,16.47,15.93,17.03,22.221927562437848,19.819466861526575,null,18.478999999999999,13.681999999999999,"","Y57","X24","11802031","Byar"]
[1180203,{"$f":"VLOOKUP(tblData[[#This Row],[Indicator ID]],'Similar 10 CCGs'!$A$6:$C$160,3,FALSE)","v":"Programme Budget - Maternity - Non-elective (EM + ONEL) admissions per 1000 population across secondary care - Activity"},"2011/12","99N",8507,null,393571,21.61,21.16,22.08,22.221927562437848,19.819466861526575,null,21.420999999999999,16.734000000000002,"A","Y57","X24","11802031","Byar"]
[1180203,{"$f":"VLOOKUP(tblData[[#This Row],[Indicator ID]],'Similar 10 CCGs'!$A$6:$C$160,3,FALSE)","v":"Programme Budget - Maternity - Non-elective (EM + ONEL) admissions per 1000 population across secondary care - Activity"},"2011/12","99P",18343,null,805592,22.77,22.44,23.1,22.221927562437848,19.819466861526575,null,23.354999999999997,18.048000000000002,"","Y57","X24","11802031","Byar"]
[1180203,{"$f":"VLOOKUP(tblData[[#This Row],[Indicator ID]],'Similar 10 CCGs'!$A$6:$C$160,3,FALSE)","v":"Programme Budget - Maternity - Non-elective (EM + ONEL) admissions per 1000 population across secondary care - Activity"},"2011/12","99Q",3136,null,222193,14.11,13.62,14.62,22.221927562437848,19.819466861526575,null,25.062000000000001,19.835999999999999,"C","Y57","X24","11802031","Byar"]
[1180311,{"$f":"VLOOKUP(tblData[[#This Row],[Indicator ID]],'Similar 10 CCGs'!$A$6:$C$160,3,FALSE)","v":"Percentage (%) of live and still births <2500 grams"},2011,"00C",95.799406988726275,null,1282.8282893334804,7.4678277510157516,6.1561339113262949,9.0822201690950841,73.134732550027238,75.846340812686392,null,7.7752979904099178,7.1924433631533571,"B","Y54","X24","11803111","Wilson"]
[1180311,{"$f":"VLOOKUP(tblData[[#This Row],[Indicator ID]],'Similar 10 CCGs'!$A$6:$C$160,3,FALSE)","v":"Percentage (%) of live and still births <2500 grams"},2011,"00D",244.65346562045471,null,3181.8019085684127,7.6891482452636897,6.8760704780288631,8.6377389737043195,73.134732550027238,75.846340812686392,null,7.8204896643709345,7.1381066994289615,"B","Y54","X24","11803111","Wilson"]
[1180311,{"$f":"VLOOKUP(tblData[[#This Row],[Indicator ID]],'Similar 10 CCGs'!$A$6:$C$160,3,FALSE)","v":"Percentage (%) of live and still births <2500 grams"},2011,"00F",178.15842806969857,null,2405.3548668260437,7.4067419542458328,6.4129969763771832,8.4998614299013475,73.134732550027238,75.846340812686392,null,7.6284538841765039,7.159393426574205,"B","Y54","X24","11803111","Wilson"]
[1180311,{"$f":"VLOOKUP(tblData[[#This Row],[Indicator ID]],'Similar 10 CCGs'!$A$6:$C$160,3,FALSE)","v":"Percentage (%) of live and still births <2500 grams"},2011,"00G",145.03553220896575,null,1755.4932180642033,8.2618110236220463,7.1467102905326465,9.655686939983795,73.134732550027238,75.846340812686392,null,7.2484941113516275,6.5487445579776775,"B","Y54","X24","11803111","Wilson"]
[1180311,{"$f":"VLOOKUP(tblData[[#This Row],[Indicator ID]],'Similar 10 CCGs'!$A$6:$C$160,3,FALSE)","v":"Percentage (%) of live and still births <2500 grams"},2011,"00H",125.95428043999006,null,1522.5392980403967,8.2726456126354897,7.0760496670596158,9.7683905446053316,73.134732550027238,75.846340812686392,null,7.9960150761686943,7.1575117621479993,"B","Y54","X24","11803111","Wilson"]
[1180311,{"$f":"VLOOKUP(tblData[[#This Row],[Indicator ID]],'Similar 10 CCGs'!$A$6:$C$160,3,FALSE)","v":"Percentage (%) of live and still births <2500 grams"},2011,"00J",209.89022011152821,null,2730.1764292299999,7.6877896191757902,6.8106938935327888,8.7110679657592911,73.134732550027238,75.846340812686392,null,7.044853056795473,6.4956554202214534,"B","Y54","X24","11803111","Wilson"]
[1180311,{"$f":"VLOOKUP(tblData[[#This Row],[Indicator ID]],'Similar 10 CCGs'!$A$6:$C$160,3,FALSE)","v":"Percentage (%) of live and still births <2500 grams"},2011,"00K",271.67511577775474,null,3606.613616156721,7.5326925668088931,6.7107689716730174,8.4368085214583548,73.134732550027238,75.846340812686392,null,7.7661717351776201,7.0155969850127047,"B","Y54","X24","11803111","Wilson"]
[1180311,{"$f":"VLOOKUP(tblData[[#This Row],[Indicator ID]],'Similar 10 CCGs'!$A$6:$C$160,3,FALSE)","v":"Percentage (%) of live and still births <2500 grams"},2011,"00L",190.90400678410958,null,3017.6387300437063,6.3262710967838292,5.5281489853812271,7.3239237360370826,73.134732550027238,75.846340812686392,null,6.9205225417806222,6.3337103730271549,"B","Y54","X24","11803111","Wilson"]
[1180311,{"$f":"VLOOKUP(tblData[[#This Row],[Indicator ID]],'Similar 10 CCGs'!$A$6:$C$160,3,FALSE)","v":"Percentage (%) of live and still births <2500 grams"},2011,"00M",301.34344228292372,null,3684.4307468154107,8.178833122142029,7.3156962651654478,9.1138980505333258,73.134732550027238,75.846340812686392,null,7.6945512644242058,6.9767074388602595,"B","Y54","X24","11803111","Wilson"]
[1180311,{"$f":"VLOOKUP(tblData[[#This Row],[Indicator ID]],'Similar 10 CCGs'!$A$6:$C$160,3,FALSE)","v":"Percentage (%) of live and still births <2500 grams"},2011,"00N",141.51858944056224,null,1666.6513146222715,8.4911935807422267,7.1895416067776372,9.8929726296271703,73.134732550027238,75.846340812686392,null,7.0449111431397302,6.6295709256040141,"B","Y54","X24","11803111","Wilson"]
[1180311,{"$f":"VLOOKUP(tblData[[#This Row],[Indicator ID]],'Similar 10 CCGs'!$A$6:$C$160,3,FALSE)","v":"Percentage (%) of live and still births <2500 grams"},2011,"00P",235.72351043525472,null,3182.2749859243499,7.4073897283513519,6.4971005007756881,8.3176789559270166,73.134732550027238,75.846340812686392,null,7.5954399552656868,6.7388025997689907,"B","Y54","X24","11803111","Wilson"]
[1180311,{"$f":"VLOOKUP(tblData[[#This Row],[Indicator ID]],'Similar 10 CCGs'!$A$6:$C$160,3,FALSE)","v":"Percentage (%) of live and still births <2500 grams"},2011,"00Q",225.58134812146943,null,2435.8057121871393,9.2610567005739224,8.1970034450908535,10.421842070191815,73.134732550027238,75.846340812686392,null,8.5362957790059948,7.753493044781214,"A","Y54","X24","11803111","Wilson"]
[1180311,{"$f":"VLOOKUP(tblData[[#This Row],[Indicator ID]],'Similar 10 CCGs'!$A$6:$C$160,3,FALSE)","v":"Percentage (%) of live and still births <2500 grams"},2011,"00R",135.54084808430187,null,1872.9951345858149,7.2365830311820174,6.1890450841157207,8.4745824231694584,73.134732550027238,75.846340812686392,null,7.3922467413911379,6.613144980263816,"B","Y54","X24","11803111","Wilson"]
[1180311,{"$f":"VLOOKUP(tblData[[#This Row],[Indicator ID]],'Similar 10 CCGs'!$A$6:$C$160,3,FALSE)","v":"Percentage (%) of live and still births <2500 grams"},2011,"00T",347.66489127314185,null,3871.5901933344776,8.9798990572839816,8.177535986476526,9.9828528957933003,73.134732550027238,75.846340812686392,null,7.9063903649520908,7.0428863797189312,"A","Y54","X24","11803111","Wilson"]
[1180311,{"$f":"VLOOKUP(tblData[[#This Row],[Indicator ID]],'Similar 10 CCGs'!$A$6:$C$160,3,FALSE)","v":"Percentage (%) of live and still births <2500 grams"},2011,"00V",164.99082458948396,null,2545.9816340371681,6.4804404864404974,5.5775838450598512,7.4836145324189927,73.134732550027238,75.846340812686392,null,7.3750508921016387,6.5932883838709531,"B","Y54","X24","11803111","Wilson"]
[1180311,{"$f":"VLOOKUP(tblData[[#This Row],[Indicator ID]],'Similar 10 CCGs'!$A$6:$C$160,3,FALSE)","v":"Percentage (%) of live and still births <2500 grams"},2011,"00W",242.81372718908352,null,3182.1497078878574,7.6304935178631306,6.6781364715446463,8.5828505641816157,73.134732550027238,75.846340812686392,null,8.4868419284612351,7.5708288175686054,"B","Y54","X24","11803111","Wilson"]
[1180311,{"$f":"VLOOKUP(tblData[[#This Row],[Indicator ID]],'Similar 10 CCGs'!$A$6:$C$160,3,FALSE)","v":"Percentage (%) of live and still births <2500 grams"},2011,"00X",168.59486106199481,null,2014.4698238796134,8.3691926810451047,7.2543129430725504,9.7229752200117758,73.134732550027238,75.846340812686392,null,7.4340163400316923,6.8409110441885472,"B","Y54","X24","11803111","Wilson"]
[1180311,{"$f":"VLOOKUP(tblData[[#This Row],[Indicator ID]],'Similar 10 CCGs'!$A$6:$C$160,3,FALSE)","v":"Percentage (%) of live and still births <2500 grams"},2011,"00Y",256.62190897603489,null,3310.3845125130706,7.752027234480412,6.8581421586232478,8.745232874321708,73.134732550027238,75.846340812686392,null,8.1647962459287431,7.3235222428209514,"B","Y54","X24","11803111","Wilson"]
[1180311,{"$f":"VLOOKUP(tblData[[#This Row],[Indicator ID]],'Similar 10 CCGs'!$A$6:$C$160,3,FALSE)","v":"Percentage (%) of live and still births <2500 grams"},2011,"01A",382.89373056628443,null,4668.351329147441,8.2019047747250529,7.4978261699843705,9.0568573661958833,73.134732550027238,75.846340812686392,null,8.0000095592560001,7.2695583126186616,"A","Y54","X24","11803111","Wilson"]
[1180311,{"$f":"VLOOKUP(tblData[[#This Row],[Indicator ID]],'Similar 10 CCGs'!$A$6:$C$160,3,FALSE)","v":"Percentage (%) of live and still births <2500 grams"},2011,"01C",139.53607874470472,null,2120.0427541007366,6.5817577723281371,5.618025515348152,7.8208421027309774,73.134732550027238,75.846340812686392,null,6.48355583223245,5.6827990277429494,"B","Y54","X24","11803111","Wilson"]
[1180311,{"$f":"VLOOKUP(tblData[[#This Row],[Indicator ID]],'Similar 10 CCGs'!$A$6:$C$160,3,FALSE)","v":"Percentage (%) of live and still births <2500 grams"},2011,"01D",200.44715862239474,null,3021.1377339737405,6.63482357551253,5.8326606017505167,7.6375272927150464,73.134732550027238,75.846340812686392,null,8.1479719969202797,7.3516882890448318,"","Y54","X24","11803111","Wilson"]
[1180311,{"$f":"VLOOKUP(tblData[[#This Row],[Indicator ID]],'Similar 10 CCGs'!$A$6:$C$160,3,FALSE)","v":"Percentage (%) of live and still births <2500 grams"},2011,"01E",212.52505457654308,null,2577.1854706310369,8.2464012388097636,7.2359707496526404,9.3410342687299828,73.134732550027238,75.846340812686392,null,7.6576929958682127,7.1380962357954187,"B","Y54","X24","11803111","Wilson"]
[1180311,{"$f":"VLOOKUP(tblData[[#This Row],[Indicator ID]],'Similar 10 CCGs'!$A$6:$C$160,3,FALSE)","v":"Percentage (%) of live and still births <2500 grams"},2011,"01F",130.78079345787177,null,1543.637480401896,8.4722478637809537,7.1608298625495692,9.9854224805863971,73.134732550027238,75.846340812686392,null,7.7625144946528497,7.1035261249564696,"B","Y54","X24","11803111","Wilson"]
[1180311,{"$f":"VLOOKUP(tblData[[#This Row],[Indicator ID]],'Similar 10 CCGs'!$A$6:$C$160,3,FALSE)","v":"Percentage (%) of live and still births <2500 grams"},2011,"01G",267.65224089255042,null,3572.6423897876766,7.4917165417291338,6.6939393198481607,8.3892159163452291,73.134732550027238,75.846340812686392,null,7.9136212072310927,7.2460091849493065,"B","Y54","X24","11803111","Wilson"]
[1180311,{"$f":"VLOOKUP(tblData[[#This Row],[Indicator ID]],'Similar 10 CCGs'!$A$6:$C$160,3,FALSE)","v":"Percentage (%) of live and still births <2500 grams"},2011,"01H",379.22663210745975,null,5166.3712971820614,7.3402899306579963,6.7899002416508676,8.0282770419169083,73.134732550027238,75.846340812686392,null,6.3810785349232741,5.9315332825105429,"A","Y54","X24","11803111","Wilson"]
[1180311,{"$f":"VLOOKUP(tblData[[#This Row],[Indicator ID]],'Similar 10 CCGs'!$A$6:$C$160,3,FALSE)","v":"Percentage (%) of live and still births <2500 grams"},2011,"01J",138.81909655058814,null,1981.8675329959024,7.0044588873576927,5.9106559654556419,8.1976984385235649,73.134732550027238,75.846340812686392,null,7.4934056324048983,6.8192519056835907,"B","Y54","X24","11803111","Wilson"]
[1180311,{"$f":"VLOOKUP(tblData[[#This Row],[Indicator ID]],'Similar 10 CCGs'!$A$6:$C$160,3,FALSE)","v":"Percentage (%) of live and still births <2500 grams"},2011,"01K",116.50409646323294,null,1656.6524172350453,7.0325009187913068,5.8660193628434021,8.2961892710682044,73.134732550027238,75.846340812686392,null,7.1010173801155378,6.4640390485366481,"B","Y54","X24","11803111","Wilson"]
[1180311,{"$f":"VLOOKUP(tblData[[#This Row],[Indicator ID]],'Similar 10 CCGs'!$A$6:$C$160,3,FALSE)","v":"Percentage (%) of live and still births <2500 grams"},2011,"01M",209.78429034022128,null,2765.3925890861842,7.5860581665022782,6.5670341540824531,8.6050821789221033,73.134732550027238,75.846340812686392,null,8.2651201936344574,7.398125937048647,"B","Y54","X24","11803111","Wilson"]
[1180311,{"$f":"VLOOKUP(tblData[[#This Row],[Indicator ID]],'Similar 10 CCGs'!$A$6:$C$160,3,FALSE)","v":"Percentage (%) of live and still births <2500 grams"},2011,"01N",188.23359648551792,null,2471.4065390079923,7.6164561966836004,6.5362772121857748,8.696635181181426,73.134732550027238,75.846340812686392,null,7.7297213770502875,7.0734827031729068,"B","Y54","X24","11803111","Wilson"]
[1180311,{"$f":"VLOOKUP(tblData[[#This Row],[Indicator ID]],'Similar 10 CCGs'!$A$6:$C$160,3,FALSE)","v":"Percentage (%) of live and still births <2500 grams"},2011,"01R",120.72686777824786,null,1827.599692389248,6.6057610034076912,5.5685221786427936,7.9393537781054189,73.134732550027238,75.846340812686392,null,7.2111461420658802,6.4613194887862964,"B","Y54","X24","11803111","Wilson"]
[1180311,{"$f":"VLOOKUP(tblData[[#This Row],[Indicator ID]],'Similar 10 CCGs'!$A$6:$C$160,3,FALSE)","v":"Percentage (%) of live and still births <2500 grams"},2011,"01T",117.18530441770351,null,1540.3066773465407,7.6079203019217294,6.3883964314751562,9.0984494769119859,73.134732550027238,75.846340812686392,null,7.5051988373539986,6.8851362305181976,"B","Y54","X24","11803111","Wilson"]
[1180311,{"$f":"VLOOKUP(tblData[[#This Row],[Indicator ID]],'Similar 10 CCGs'!$A$6:$C$160,3,FALSE)","v":"Percentage (%) of live and still births <2500 grams"},2011,"01V",90.987021101692591,null,1198.1681607084747,7.5938440100004101,6.2168370075615096,9.2768525685368441,73.134732550027238,75.846340812686392,null,7.1848552863361714,6.4604898357782856,"B","Y54","X24","11803111","Wilson"]
[1180311,{"$f":"VLOOKUP(tblData[[#This Row],[Indicator ID]],'Similar 10 CCGs'!$A$6:$C$160,3,FALSE)","v":"Percentage (%) of live and still births <2500 grams"},2011,"01W",202.04260400795022,null,3398.5139960207666,5.9450278634872991,5.2465493892533646,6.8430716160737859,73.134732550027238,75.846340812686392,null,7.1386724454583241,6.6348863094320949,"","Y54","X24","11803111","Wilson"]
[1180311,{"$f":"VLOOKUP(tblData[[#This Row],[Indicator ID]],'Similar 10 CCGs'!$A$6:$C$160,3,FALSE)","v":"Percentage (%) of live and still births <2500 grams"},2011,"01X",157.10442428119424,null,2214.3015230242945,7.0949878617533946,6.1226677706776726,8.2617719710442614,73.134732550027238,75.846340812686392,null,7.6791563021919087,7.030164755222029,"B","Y54","X24","11803111","Wilson"]
[1180311,{"$f":"VLOOKUP(tblData[[#This Row],[Indicator ID]],'Similar 10 CCGs'!$A$6:$C$160,3,FALSE)","v":"Percentage (%) of live and still births <2500 grams"},2011,"01Y",204.4696446059969,null,3069.8850607454033,6.6604983756736917,5.8760234851511077,7.641091988826922,73.134732550027238,75.846340812686392,null,7.9474884841977671,7.2683925679719037,"","Y54","X24","11803111","Wilson"]
[1180311,{"$f":"VLOOKUP(tblData[[#This Row],[Indicator ID]],'Similar 10 CCGs'!$A$6:$C$160,3,FALSE)","v":"Percentage (%) of live and still births <2500 grams"},2011,"02A",193.6150615668034,null,2870.2282723950284,6.7456328623382831,5.9370628774599643,7.7563453434361822,73.134732550027238,75.846340812686392,null,6.9352202976684394,6.4244573468641111,"B","Y54","X24","11803111","Wilson"]
[1180311,{"$f":"VLOOKUP(tblData[[#This Row],[Indicator ID]],'Similar 10 CCGs'!$A$6:$C$160,3,FALSE)","v":"Percentage (%) of live and still births <2500 grams"},2011,"02D",78.607847782940894,null,1107.6544509316641,7.0967843551590208,5.6230067376527328,8.7547841748535955,73.134732550027238,75.846340812686392,null,6.8942917033125397,6.3458308658999458,"B","Y54","X24","11803111","Wilson"]
[1180311,{"$f":"VLOOKUP(tblData[[#This Row],[Indicator ID]],'Similar 10 CCGs'!$A$6:$C$160,3,FALSE)","v":"Percentage (%) of live and still births <2500 grams"},2011,"02E",154.8986598569619,null,2376.2411743273879,6.5186421955173417,5.6148842069015137,7.5228177384238162,73.134732550027238,75.846340812686392,null,7.7703937740373901,7.3260855098099782,"B","Y54","X24","11803111","Wilson"]
[1180311,{"$f":"VLOOKUP(tblData[[#This Row],[Indicator ID]],'Similar 10 CCGs'!$A$6:$C$160,3,FALSE)","v":"Percentage (%) of live and still births <2500 grams"},2011,"02F",189.97901171089194,null,2677.1068599067726,7.096429901849632,6.1482790749206719,8.1630995821447119,73.134732550027238,75.846340812686392,null,6.9480521654678213,6.4404487058525763,"B","Y54","X24","11803111","Wilson"]
[1180311,{"$f":"VLOOKUP(tblData[[#This Row],[Indicator ID]],'Similar 10 CCGs'!$A$6:$C$160,3,FALSE)","v":"Percentage (%) of live and still births <2500 grams"},2011,"02G",80.691455206752622,null,1087.8834401806089,7.4172886750952234,5.9881319768200418,9.1526932372865133,73.134732550027238,75.846340812686392,null,7.2521517166159937,6.8240033564165188,"B","Y54","X24","11803111","Wilson"]
[1180311,{"$f":"VLOOKUP(tblData[[#This Row],[Indicator ID]],'Similar 10 CCGs'!$A$6:$C$160,3,FALSE)","v":"Percentage (%) of live and still births <2500 grams"},2011,"02H",291.16136026981729,null,3928.5232794033973,7.4114709157084162,6.6052636513130505,8.2176781801037802,73.134732550027238,75.846340812686392,null,7.6830388855014791,6.911084041987853,"B","Y54","X24","11803111","Wilson"]
[1180311,{"$f":"VLOOKUP(tblData[[#This Row],[Indicator ID]],'Similar 10 CCGs'!$A$6:$C$160,3,FALSE)","v":"Percentage (%) of live and still births <2500 grams"},2011,"02M",84.83936587994927,null,1344.3872057382555,6.3106347276907222,5.0124035580373034,7.8685121312748247,73.134732550027238,75.846340812686392,null,6.6779754427529125,5.8705812583232353,"B","Y54","X24","11803111","Wilson"]
[1180311,{"$f":"VLOOKUP(tblData[[#This Row],[Indicator ID]],'Similar 10 CCGs'!$A$6:$C$160,3,FALSE)","v":"Percentage (%) of live and still births <2500 grams"},2011,"02N",172.57347385110359,null,2021.0954322984333,8.5386108490111887,7.4053356637071399,9.8607652318659156,73.134732550027238,75.846340812686392,null,6.8908962044118809,6.0456423996639268,"A","Y54","X24","11803111","Wilson"]
[1180311,{"$f":"VLOOKUP(tblData[[#This Row],[Indicator ID]],'Similar 10 CCGs'!$A$6:$C$160,3,FALSE)","v":"Percentage (%) of live and still births <2500 grams"},2011,"02P",263.64376073138197,null,3101.9097256335335,8.4994014671892302,7.5180867393286581,9.4807161950498031,73.134732550027238,75.846340812686392,null,7.8240918142176721,7.2508003629268076,"B","Y54","X24","11803111","Wilson"]
[1180311,{"$f":"VLOOKUP(tblData[[#This Row],[Indicator ID]],'Similar 10 CCGs'!$A$6:$C$160,3,FALSE)","v":"Percentage (%) of live and still births <2500 grams"},2011,"02Q",100.04111782334974,null,1246.8340265429667,8.023611458593944,6.59779863544534,9.653111827906633,73.134732550027238,75.846340812686392,null,7.7237090718844952,7.1703296583810907,"B","Y54","X24","11803111","Wilson"]
[1180311,{"$f":"VLOOKUP(tblData[[#This Row],[Indicator ID]],'Similar 10 CCGs'!$A$6:$C$160,3,FALSE)","v":"Percentage (%) of live and still births <2500 grams"},2011,"02R",448.41121133702569,null,4940.7539711261079,9.0757648317959614,8.2979906647694754,9.9831680266601968,73.134732550027238,75.846340812686392,null,8.1881830490467671,7.351167659529203,"A","Y54","X24","11803111","Wilson"]
[1180311,{"$f":"VLOOKUP(tblData[[#This Row],[Indicator ID]],'Similar 10 CCGs'!$A$6:$C$160,3,FALSE)","v":"Percentage (%) of live and still births <2500 grams"},2011,"02T",197.2719119807056,null,2590.9783297421113,7.6138001509391513,6.7134922314953647,8.7141764969260027,73.134732550027238,75.846340812686392,null,7.2578680988297464,6.1382711663693588,"B","Y54","X24","11803111","Wilson"]
[1180311,{"$f":"VLOOKUP(tblData[[#This Row],[Indicator ID]],'Similar 10 CCGs'!$A$6:$C$160,3,FALSE)","v":"Percentage (%) of live and still births <2500 grams"},2011,"02V",191.80431945586349,null,2508.0122194563032,7.6476628769154713,6.6443989253059712,8.8515796188468734,73.134732550027238,75.846340812686392,null,7.5912380548012219,6.9778982934340679,"B","Y54","X24","11803111","Wilson"]
[1180311,{"$f":"VLOOKUP(tblData[[#This Row],[Indicator ID]],'Similar 10 CCGs'!$A$6:$C$160,3,FALSE)","v":"Percentage (%) of live and still births <2500 grams"},2011,"02W",161.88726723004294,null,1780.5711933841753,9.091872755863136,7.7947530019830173,10.605179135389944,73.134732550027238,75.846340812686392,null,8.1259896501147857,6.6495540522079395,"B","Y54","X24","11803111","Wilson"]
[1180311,{"$f":"VLOOKUP(tblData[[#This Row],[Indicator ID]],'Similar 10 CCGs'!$A$6:$C$160,3,FALSE)","v":"Percentage (%) of live and still births <2500 grams"},2011,"02X",367.50710455851549,null,3809.3017406359386,9.647623884401515,8.7520058867260389,10.642754992929824,73.134732550027238,75.846340812686392,null,7.6817384097271031,7.3001782182666677,"A","Y54","X24","11803111","Wilson"]
[1180311,{"$f":"VLOOKUP(tblData[[#This Row],[Indicator ID]],'Similar 10 CCGs'!$A$6:$C$160,3,FALSE)","v":"Percentage (%) of live and still births <2500 grams"},2011,"02Y",173.79488033538399,null,2714.5748909349404,6.402287183741187,5.5466832641662247,7.4717920832098885,73.134732550027238,75.846340812686392,null,6.5101512276409279,6.1185174252995882,"B","Y54","X24","11803111","Wilson"]
[1180311,{"$f":"VLOOKUP(tblData[[#This Row],[Indicator ID]],'Similar 10 CCGs'!$A$6:$C$160,3,FALSE)","v":"Percentage (%) of live and still births <2500 grams"},2011,"03A",272.71952448445944,null,3209.8466269746154,8.4963412953318098,7.5529586331487737,9.4397239575148451,73.134732550027238,75.846340812686392,null,7.4587415791412157,6.7793898739229856,"B","Y54","X24","11803111","Wilson"]
[1180311,{"$f":"VLOOKUP(tblData[[#This Row],[Indicator ID]],'Similar 10 CCGs'!$A$6:$C$160,3,FALSE)","v":"Percentage (%) of live and still births <2500 grams"},2011,"03C",345.94298368285871,null,4478.4646413295786,7.7245889247470796,6.970952455048554,8.6289526883853114,73.134732550027238,75.846340812686392,null,7.1186449512519143,6.2925594786818797,"B","Y54","X24","11803111","Wilson"]
[1180311,{"$f":"VLOOKUP(tblData[[#This Row],[Indicator ID]],'Similar 10 CCGs'!$A$6:$C$160,3,FALSE)","v":"Percentage (%) of live and still births <2500 grams"},2011,"03D",90.959014912024415,null,1454.0102033375704,6.2557342928704962,4.9976698774664925,7.7496857861627504,73.134732550027238,75.846340812686392,null,6.015413113134203,5.378214751528021,"B","Y54","X24","11803111","Wilson"]
[1180311,{"$f":"VLOOKUP(tblData[[#This Row],[Indicator ID]],'Similar 10 CCGs'!$A$6:$C$160,3,FALSE)","v":"Percentage (%) of live and still births <2500 grams"},2011,"03E",94.388204372283866,null,1623.395976441034,5.8142440748935966,4.7013533245305279,7.0283067116533076,73.134732550027238,75.846340812686392,null,6.1787659989774264,5.5384680425966408,"B","Y54","X24","11803111","Wilson"]
[1180311,{"$f":"VLOOKUP(tblData[[#This Row],[Indicator ID]],'Similar 10 CCGs'!$A$6:$C$160,3,FALSE)","v":"Percentage (%) of live and still births <2500 grams"},2011,"03F",276.79881683658459,null,3986.8338245580021,6.94282302742507,6.1750742298577954,7.8065404246882544,73.134732550027238,75.846340812686392,null,7.9617604791091878,7.2969365577947496,"","Y54","X24","11803111","Wilson"]
[1180311,{"$f":"VLOOKUP(tblData[[#This Row],[Indicator ID]],'Similar 10 CCGs'!$A$6:$C$160,3,FALSE)","v":"Percentage (%) of live and still births <2500 grams"},2011,"03G",249.00200834354612,null,3239.4119695789414,7.6866422264875247,6.8025261546921358,8.7475815126419931,73.134732550027238,75.846340812686392,null,7.7060984740796501,6.976255826059,"B","Y54","X24","11803111","Wilson"]
[1180311,{"$f":"VLOOKUP(tblData[[#This Row],[Indicator ID]],'Similar 10 CCGs'!$A$6:$C$160,3,FALSE)","v":"Percentage (%) of live and still births <2500 grams"},2011,"03H",141.04698017938222,null,2067.3903401746265,6.8224648939526524,5.8344118955712867,8.0081284920102913,73.134732550027238,75.846340812686392,null,7.7655783888677217,7.1482210724054482,"","Y54","X24","11803111","Wilson"]
[1180311,{"$f":"VLOOKUP(tblData[[#This Row],[Indicator ID]],'Similar 10 CCGs'!$A$6:$C$160,3,FALSE)","v":"Percentage (%) of live and still births <2500 grams"},2011,"03J",211.06321751512075,null,2485.4161802750073,8.4920674127005533,7.4200739859620892,9.5640608394390156,73.134732550027238,75.846340812686392,null,8.4696128956450227,7.7278626957743981,"B","Y54","X24","11803111","Wilson"]
[1180311,{"$f":"VLOOKUP(tblData[[#This Row],[Indicator ID]],'Similar 10 CCGs'!$A$6:$C$160,3,FALSE)","v":"Percentage (%) of live and still births <2500 grams"},2011,"03K",164.97198614415697,null,1865.425755116557,8.8436640103025201,7.6428065611041518,10.244664367700617,73.134732550027238,75.846340812686392,null,7.582019012300675,7.0317253897568053,"A","Y54","X24","11803111","Wilson"]
[1180311,{"$f":"VLOOKUP(tblData[[#This Row],[Indicator ID]],'Similar 10 CCGs'!$A$6:$C$160,3,FALSE)","v":"Percentage (%) of live and still births <2500 grams"},2011,"03L",258.39817350240639,null,2932.6657945040279,8.81103376957096,7.7870642166448878,9.9374002777896386,73.134732550027238,75.846340812686392,null,7.848382761268164,7.0320912102132143,"A","Y54","X24","11803111","Wilson"]
[1180311,{"$f":"VLOOKUP(tblData[[#This Row],[Indicator ID]],'Similar 10 CCGs'!$A$6:$C$160,3,FALSE)","v":"Percentage (%) of live and still births <2500 grams"},2011,"03M",84.383628715178276,null,1130.5979091173408,7.4636285840168126,6.0912004667132784,9.1301484407425306,73.134732550027238,75.846340812686392,null,6.8687536862790193,6.1238914522927885,"B","Y54","X24","11803111","Wilson"]
[1180311,{"$f":"VLOOKUP(tblData[[#This Row],[Indicator ID]],'Similar 10 CCGs'!$A$6:$C$160,3,FALSE)","v":"Percentage (%) of live and still births <2500 grams"},2011,"03N",519.37708874908742,null,6827.2637625983116,7.6073974407489935,7.0083753010399663,8.3062566037428596,73.134732550027238,75.846340812686392,null,7.2884830264441716,6.6430444677251455,"B","Y54","X24","11803111","Wilson"]
[1180311,{"$f":"VLOOKUP(tblData[[#This Row],[Indicator ID]],'Similar 10 CCGs'!$A$6:$C$160,3,FALSE)","v":"Percentage (%) of live and still births <2500 grams"},2011,"03Q",206.50696595431054,null,3423.3279448198591,6.0323454043248921,5.2547124954784845,6.8099783131712996,73.134732550027238,75.846340812686392,null,6.5966207746629379,5.9774505564689715,"B","Y54","X24","11803111","Wilson"]
[1180311,{"$f":"VLOOKUP(tblData[[#This Row],[Indicator ID]],'Similar 10 CCGs'!$A$6:$C$160,3,FALSE)","v":"Percentage (%) of live and still births <2500 grams"},2011,"03R",315.60339145059379,null,4269.3037070156824,7.3923855764106801,6.7049080295303316,8.2762852795425577,73.134732550027238,75.846340812686392,null,7.6258743497314896,6.7426196676285386,"B","Y54","X24","11803111","Wilson"]
[1180311,{"$f":"VLOOKUP(tblData[[#This Row],[Indicator ID]],'Similar 10 CCGs'!$A$6:$C$160,3,FALSE)","v":"Percentage (%) of live and still births <2500 grams"},2011,"03T",151.18456533027776,null,2447.9476192278657,6.17597223661038,5.2537517731427927,7.251896110655899,73.134732550027238,75.425444922337874,null,6.9437858215760881,6.2667055061397052,"B","Y55","X24","11803111","Wilson"]
[1180311,{"$f":"VLOOKUP(tblData[[#This Row],[Indicator ID]],'Similar 10 CCGs'!$A$6:$C$160,3,FALSE)","v":"Percentage (%) of live and still births <2500 grams"},2011,"03V",65.179128525243456,null,984.35125381358614,6.621531518624642,5.2512817139464474,8.2854062814481644,73.134732550027238,75.425444922337874,null,7.3505941075785133,6.7000403563446413,"B","Y55","X24","11803111","Wilson"]
[1180311,{"$f":"VLOOKUP(tblData[[#This Row],[Indicator ID]],'Similar 10 CCGs'!$A$6:$C$160,3,FALSE)","v":"Percentage (%) of live and still births <2500 grams"},2011,"03W",217.63570474564952,null,3154.5232036285374,6.8991632236310965,6.1230951339090947,7.8415316182935273,73.134732550027238,75.425444922337874,null,6.2105742598366751,5.6537860094702657,"B","Y55","X24","11803111","Wilson"]
[1180311,{"$f":"VLOOKUP(tblData[[#This Row],[Indicator ID]],'Similar 10 CCGs'!$A$6:$C$160,3,FALSE)","v":"Percentage (%) of live and still births <2500 grams"},2011,"03X",77.581496346308683,null,1107.5219115226305,7.0049626593526249,5.7030894696885301,8.6323041464327428,73.134732550027238,75.425444922337874,null,7.6371757020775259,7.1830953405586531,"B","Y55","X24","11803111","Wilson"]
[1180311,{"$f":"VLOOKUP(tblData[[#This Row],[Indicator ID]],'Similar 10 CCGs'!$A$6:$C$160,3,FALSE)","v":"Percentage (%) of live and still births <2500 grams"},2011,"03Y",74.631034894055105,null,1107.7250199320924,6.737325017595996,5.517280493167025,8.2188076544026032,73.134732550027238,75.425444922337874,null,7.8168550182138414,7.4564080237840376,"B","Y55","X24","11803111","Wilson"]
[1180311,{"$f":"VLOOKUP(tblData[[#This Row],[Indicator ID]],'Similar 10 CCGs'!$A$6:$C$160,3,FALSE)","v":"Percentage (%) of live and still births <2500 grams"},2011,"04C",532.45181789620472,null,5378.1517189681854,9.9002751450521966,9.1144344491844205,10.686115840919975,73.134732550027238,75.425444922337874,null,8.5347867337289696,7.773833109838046,"A","Y55","X24","11803111","Wilson"]
[1180311,{"$f":"VLOOKUP(tblData[[#This Row],[Indicator ID]],'Similar 10 CCGs'!$A$6:$C$160,3,FALSE)","v":"Percentage (%) of live and still births <2500 grams"},2011,"04D",188.56953431771046,null,2627.6234618703788,7.1764290833163766,6.3228587406463781,8.2269771973717596,73.134732550027238,75.425444922337874,null,7.3920208513512495,6.8729162020199883,"B","Y55","X24","11803111","Wilson"]
[1180311,{"$f":"VLOOKUP(tblData[[#This Row],[Indicator ID]],'Similar 10 CCGs'!$A$6:$C$160,3,FALSE)","v":"Percentage (%) of live and still births <2500 grams"},2011,"04E",181.0664635184491,null,2326.0716462069254,7.7842169571049222,6.7144421673680998,8.930404231822946,73.134732550027238,75.425444922337874,null,7.8399376318903489,7.1078863899775584,"B","Y55","X24","11803111","Wilson"]
[1180311,{"$f":"VLOOKUP(tblData[[#This Row],[Indicator ID]],'Similar 10 CCGs'!$A$6:$C$160,3,FALSE)","v":"Percentage (%) of live and still births <2500 grams"},2011,"04F",281.30034235290969,null,3912.3251511736958,7.1901064324502713,6.3938188052834528,7.9863940596170897,73.134732550027238,75.425444922337874,null,6.9202664469195199,6.3806487500585201,"B","Y55","X24","11803111","Wilson"]
[1180311,{"$f":"VLOOKUP(tblData[[#This Row],[Indicator ID]],'Similar 10 CCGs'!$A$6:$C$160,3,FALSE)","v":"Percentage (%) of live and still births <2500 grams"},2011,"04G",571.02013546433261,null,7921.8636931252095,7.2081540100201185,6.7263144642133526,7.7502234990527299,73.134732550027238,75.425444922337874,null,6.6370824375943958,6.1254363625805386,"B","Y55","X24","11803111","Wilson"]
[1180311,{"$f":"VLOOKUP(tblData[[#This Row],[Indicator ID]],'Similar 10 CCGs'!$A$6:$C$160,3,FALSE)","v":"Percentage (%) of live and still births <2500 grams"},2011,"04H",101.70648236320807,null,1335.0301933942308,7.618290797201051,6.3663841855429038,9.1590989346264617,73.134732550027238,75.425444922337874,null,7.7337875660447866,7.0289440003211663,"B","Y55","X24","11803111","Wilson"]
[1180311,{"$f":"VLOOKUP(tblData[[#This Row],[Indicator ID]],'Similar 10 CCGs'!$A$6:$C$160,3,FALSE)","v":"Percentage (%) of live and still births <2500 grams"},2011,"04J",184.07668421429938,null,3066.5113083034234,6.0028046763062992,5.3373312928530039,6.8497708007014033,73.134732550027238,75.425444922337874,null,6.8956668608766947,6.1610815005461319,"","Y55","X24","11803111","Wilson"]
[1180311,{"$f":"VLOOKUP(tblData[[#This Row],[Indicator ID]],'Similar 10 CCGs'!$A$6:$C$160,3,FALSE)","v":"Percentage (%) of live and still births <2500 grams"},2011,"04K",409.16795111312024,null,4619.3924929085151,8.8576138905983104,8.0796055554069337,9.7328732676886087,73.134732550027238,75.425444922337874,null,7.4191858669871689,6.9706035482352799,"A","Y55","X24","11803111","Wilson"]
[1180311,{"$f":"VLOOKUP(tblData[[#This Row],[Indicator ID]],'Similar 10 CCGs'!$A$6:$C$160,3,FALSE)","v":"Percentage (%) of live and still births <2500 grams"},2011,"04L",127.93298979221397,null,1611.3662591706598,7.9394109851883528,6.6854035911110996,9.3725622927052132,73.134732550027238,75.425444922337874,null,7.6554885775533448,7.0587714205717109,"B","Y55","X24","11803111","Wilson"]
[1180311,{"$f":"VLOOKUP(tblData[[#This Row],[Indicator ID]],'Similar 10 CCGs'!$A$6:$C$160,3,FALSE)","v":"Percentage (%) of live and still births <2500 grams"},2011,"04M",74.847943687462745,null,1038.294050628745,7.2087424214882221,5.7661007770396351,8.8733289343135144,73.134732550027238,75.425444922337874,null,7.2886813464410025,6.6276471097455572,"B","Y55","X24","11803111","Wilson"]
[1180311,{"$f":"VLOOKUP(tblData[[#This Row],[Indicator ID]],'Similar 10 CCGs'!$A$6:$C$160,3,FALSE)","v":"Percentage (%) of live and still births <2500 grams"},2011,"04N",89.120669779876934,null,1249.5051879370999,7.132476970905004,5.7826530595334713,8.6751328696153287,73.134732550027238,75.425444922337874,null,5.9928075498975968,5.3288525425007771,"B","Y55","X24","11803111","Wilson"]
[1180311,{"$f":"VLOOKUP(tblData[[#This Row],[Indicator ID]],'Similar 10 CCGs'!$A$6:$C$160,3,FALSE)","v":"Percentage (%) of live and still births <2500 grams"},2011,"04Q",79.515916507445581,null,1389.6426797300849,5.72204046891322,4.685683546105623,6.965668776282337,73.134732550027238,75.425444922337874,null,6.6873911322708679,5.962992746880353,"B","Y55","X24","11803111","Wilson"]
[1180311,{"$f":"VLOOKUP(tblData[[#This Row],[Indicator ID]],'Similar 10 CCGs'!$A$6:$C$160,3,FALSE)","v":"Percentage (%) of live and still births <2500 grams"},2011,"04R",513.77443499860624,null,6517.8990303164064,7.8825160164174166,7.2454195634671255,8.5904009641399632,73.134732550027238,75.425444922337874,null,6.5816410203646329,6.114191780044604,"A","Y55","X24","11803111","Wilson"]
[1180311,{"$f":"VLOOKUP(tblData[[#This Row],[Indicator ID]],'Similar 10 CCGs'!$A$6:$C$160,3,FALSE)","v":"Percentage (%) of live and still births <2500 grams"},2011,"04V",265.95279971213927,null,3914.4079621375508,6.7942024000714971,6.0339334313495741,7.6927020903792256,73.134732550027238,75.425444922337874,null,6.7042513061381257,6.0372619254315625,"B","Y55","X24","11803111","Wilson"]
[1180311,{"$f":"VLOOKUP(tblData[[#This Row],[Indicator ID]],'Similar 10 CCGs'!$A$6:$C$160,3,FALSE)","v":"Percentage (%) of live and still births <2500 grams"},2011,"04X",356.26751869639202,null,3635.4815994170981,9.7997337891495544,8.9268492892297946,10.890839414049253,73.134732550027238,75.425444922337874,null,8.6552452834469804,7.8528591103430454,"A","Y55","X24","11803111","Wilson"]
[1180311,{"$f":"VLOOKUP(tblData[[#This Row],[Indicator ID]],'Similar 10 CCGs'!$A$6:$C$160,3,FALSE)","v":"Percentage (%) of live and still births <2500 grams"},2011,"04Y",108.7160513510451,null,1425.4884777339832,7.6265822592873382,6.4182779129077066,9.0938089656054633,73.134732550027238,75.425444922337874,null,7.5060037194869667,6.9207513753775345,"B","Y55","X24","11803111","Wilson"]
[1180311,{"$f":"VLOOKUP(tblData[[#This Row],[Indicator ID]],'Similar 10 CCGs'!$A$6:$C$160,3,FALSE)","v":"Percentage (%) of live and still births <2500 grams"},2011,"05A",483.86640030689557,null,6254.9115744671371,7.7357832248510521,7.1323965948040984,8.4253679449047141,73.134732550027238,75.425444922337874,null,7.8811399446610206,7.1211729115627307,"B","Y55","X24","11803111","Wilson"]
[1180311,{"$f":"VLOOKUP(tblData[[#This Row],[Indicator ID]],'Similar 10 CCGs'!$A$6:$C$160,3,FALSE)","v":"Percentage (%) of live and still births <2500 grams"},2011,"05C",290.456338250192,null,3669.4585033926205,7.915509549478454,7.1067368715697823,8.9264753968642925,73.134732550027238,75.425444922337874,null,7.2587728428259082,6.7165811471943284,"B","Y55","X24","11803111","Wilson"]
[1180311,{"$f":"VLOOKUP(tblData[[#This Row],[Indicator ID]],'Similar 10 CCGs'!$A$6:$C$160,3,FALSE)","v":"Percentage (%) of live and still births <2500 grams"},2011,"05D",142.76704339854331,null,1660.9365549381889,8.59557476618102,7.2882042858832454,9.9963288522143507,73.134732550027238,75.425444922337874,null,7.0219410392467356,6.0948259892672541,"A","Y55","X24","11803111","Wilson"]
[1180311,{"$f":"VLOOKUP(tblData[[#This Row],[Indicator ID]],'Similar 10 CCGs'!$A$6:$C$160,3,FALSE)","v":"Percentage (%) of live and still births <2500 grams"},2011,"05F",95.991205099860636,null,1840.819187759588,5.2145917284080996,4.3021297209373728,6.3298230708723207,73.134732550027238,75.425444922337874,null,6.6870493420349053,6.2271657784868708,"","Y55","X24","11803111","Wilson"]
[1180311,{"$f":"VLOOKUP(tblData[[#This Row],[Indicator ID]],'Similar 10 CCGs'!$A$6:$C$160,3,FALSE)","v":"Percentage (%) of live and still births <2500 grams"},2011,"05G",141.23425239317544,null,2097.6169606627464,6.7330811602778127,5.6505928929346227,7.8928900181455148,73.134732550027238,75.425444922337874,null,7.2169892371403721,6.1982562014721889,"B","Y55","X24","11803111","Wilson"]
[1180311,{"$f":"VLOOKUP(tblData[[#This Row],[Indicator ID]],'Similar 10 CCGs'!$A$6:$C$160,3,FALSE)","v":"Percentage (%) of live and still births <2500 grams"},2011,"05H",174.64712862007741,null,2168.2115256333022,8.0548934712015985,7.0434935904751317,9.2348599987158106,73.134732550027238,75.425444922337874,null,7.4065898993435777,6.8202963571137811,"B","Y55","X24","11803111","Wilson"]
[1180311,{"$f":"VLOOKUP(tblData[[#This Row],[Indicator ID]],'Similar 10 CCGs'!$A$6:$C$160,3,FALSE)","v":"Percentage (%) of live and still births <2500 grams"},2011,"05J",147.286225508196,null,1975.9564044786684,7.4539208038375548,6.3862753827995871,8.6639189476805853,73.134732550027238,75.425444922337874,null,7.4804341497317726,6.9011391754306644,"B","Y55","X24","11803111","Wilson"]
[1180311,{"$f":"VLOOKUP(tblData[[#This Row],[Indicator ID]],'Similar 10 CCGs'!$A$6:$C$160,3,FALSE)","v":"Percentage (%) of live and still births <2500 grams"},2011,"05L",761.25169862483779,null,7985.8314808199948,9.5325289602363554,8.9044516785005747,10.160606241972134,73.134732550027238,75.425444922337874,null,8.9122902985964494,8.2116310658256104,"A","Y55","X24","11803111","Wilson"]
[1180311,{"$f":"VLOOKUP(tblData[[#This Row],[Indicator ID]],'Similar 10 CCGs'!$A$6:$C$160,3,FALSE)","v":"Percentage (%) of live and still births <2500 grams"},2011,"05N",184.99447027559827,null,2873.9649103534143,6.4369077579603893,5.6232428683548035,7.45398886996737,73.134732550027238,75.425444922337874,null,6.0603039702872525,5.6599988634700757,"B","Y55","X24","11803111","Wilson"]
[1180311,{"$f":"VLOOKUP(tblData[[#This Row],[Indicator ID]],'Similar 10 CCGs'!$A$6:$C$160,3,FALSE)","v":"Percentage (%) of live and still births <2500 grams"},2011,"05P",189.44274395861493,null,2706.9528686729668,6.9983761502092827,6.1334931929845187,8.05545532015066,73.134732550027238,75.425444922337874,null,7.0086135720831262,6.4685230127590616,"B","Y55","X24","11803111","Wilson"]
[1180311,{"$f":"VLOOKUP(tblData[[#This Row],[Indicator ID]],'Similar 10 CCGs'!$A$6:$C$160,3,FALSE)","v":"Percentage (%) of live and still births <2500 grams"},2011,"05Q",185.76584694721063,null,2235.8351844519925,8.3085662234420106,7.1922154887892917,9.6342327208421139,73.134732550027238,75.425444922337874,null,7.1011503097879443,6.313500579463895,"A","Y55","X24","11803111","Wilson"]
[1180311,{"$f":"VLOOKUP(tblData[[#This Row],[Indicator ID]],'Similar 10 CCGs'!$A$6:$C$160,3,FALSE)","v":"Percentage (%) of live and still births <2500 grams"},2011,"05R",188.75993488661746,null,2732.4827904105932,6.9080008682599487,6.0399244728844348,7.8484169632500898,73.134732550027238,75.425444922337874,null,6.1379643954806706,5.5569087637927161,"B","Y55","X24","11803111","Wilson"]
[1180311,{"$f":"VLOOKUP(tblData[[#This Row],[Indicator ID]],'Similar 10 CCGs'!$A$6:$C$160,3,FALSE)","v":"Percentage (%) of live and still births <2500 grams"},2011,"05T",214.91897698007298,null,3024.1127489150504,7.106844050612156,6.2690724424216171,8.1379475683851261,73.134732550027238,75.425444922337874,null,6.5698667232812866,6.0706484336616544,"B","Y55","X24","11803111","Wilson"]
[1180311,{"$f":"VLOOKUP(tblData[[#This Row],[Indicator ID]],'Similar 10 CCGs'!$A$6:$C$160,3,FALSE)","v":"Percentage (%) of live and still births <2500 grams"},2011,"05V",73.079392152870554,null,1373.9002496991129,5.3191192132671272,4.2669954178720575,6.5625382441885733,73.134732550027238,75.425444922337874,null,6.7658304306442769,6.1333800673904708,"","Y55","X24","11803111","Wilson"]
[1180311,{"$f":"VLOOKUP(tblData[[#This Row],[Indicator ID]],'Similar 10 CCGs'!$A$6:$C$160,3,FALSE)","v":"Percentage (%) of live and still births <2500 grams"},2011,"05W",360.2590440368661,null,3928.0678742257228,9.1714057794349646,8.3956672560236072,10.141078933699159,73.134732550027238,75.425444922337874,null,7.5170458807187783,6.9767074388602595,"A","Y55","X24","11803111","Wilson"]
[1180311,{"$f":"VLOOKUP(tblData[[#This Row],[Indicator ID]],'Similar 10 CCGs'!$A$6:$C$160,3,FALSE)","v":"Percentage (%) of live and still births <2500 grams"},2011,"05X",180.09292915845589,null,2296.6770604308085,7.841456348446056,6.8414737662557679,9.0414354470744005,73.134732550027238,75.425444922337874,null,7.1648471027669718,6.2599178241837787,"B","Y55","X24","11803111","Wilson"]
[1180311,{"$f":"VLOOKUP(tblData[[#This Row],[Indicator ID]],'Similar 10 CCGs'!$A$6:$C$160,3,FALSE)","v":"Percentage (%) of live and still births <2500 grams"},2011,"05Y",337.12348526214043,null,3655.8170928809341,9.2215632428282479,8.3108603942361263,10.233455296819495,73.134732550027238,75.425444922337874,null,8.127558575612218,7.349082981067153,"A","Y55","X24","11803111","Wilson"]
[1180311,{"$f":"VLOOKUP(tblData[[#This Row],[Indicator ID]],'Similar 10 CCGs'!$A$6:$C$160,3,FALSE)","v":"Percentage (%) of live and still births <2500 grams"},2011,"06A",267.22614993806184,null,3598.8017659086395,7.4254201070336396,6.6242145933048846,8.426926999194583,73.134732550027238,75.425444922337874,null,8.054477301806525,7.2098767302022084,"B","Y55","X24","11803111","Wilson"]
[1180311,{"$f":"VLOOKUP(tblData[[#This Row],[Indicator ID]],'Similar 10 CCGs'!$A$6:$C$160,3,FALSE)","v":"Percentage (%) of live and still births <2500 grams"},2011,"06D",101.76063477528389,null,1143.1474862744567,8.9017940376988527,7.3782109360365968,10.711048970922782,73.134732550027238,75.425444922337874,null,6.663231497237045,5.9353267395551512,"A","Y55","X24","11803111","Wilson"]
[1180311,{"$f":"VLOOKUP(tblData[[#This Row],[Indicator ID]],'Similar 10 CCGs'!$A$6:$C$160,3,FALSE)","v":"Percentage (%) of live and still births <2500 grams"},2011,"06F",380.86987138284297,null,5525.5976812229337,6.8928266832946168,6.2720512783819,7.5911990138214236,73.134732550027238,75.425444922337874,null,6.8009321395924456,6.3184936566473171,"B","Y55","X24","11803111","Wilson"]
[1180311,{"$f":"VLOOKUP(tblData[[#This Row],[Indicator ID]],'Similar 10 CCGs'!$A$6:$C$160,3,FALSE)","v":"Percentage (%) of live and still births <2500 grams"},2011,"06H",737.88772531137658,null,10785.527689287561,6.8414615081306032,6.4083596812434527,7.2745633350177537,73.134732550027238,75.425444922337874,null,6.75987801672935,6.3235969739802806,"B","Y55","X24","11803111","Wilson"]
[1180311,{"$f":"VLOOKUP(tblData[[#This Row],[Indicator ID]],'Similar 10 CCGs'!$A$6:$C$160,3,FALSE)","v":"Percentage (%) of live and still births <2500 grams"},2011,"06K",500.29818166464952,null,7190.3797176282269,6.9578826336264026,6.4059028921880872,7.5600423515591109,73.134732550027238,75.425444922337874,null,6.5189295708099646,5.9855477754121065,"B","Y55","X24","11803111","Wilson"]
[1180311,{"$f":"VLOOKUP(tblData[[#This Row],[Indicator ID]],'Similar 10 CCGs'!$A$6:$C$160,3,FALSE)","v":"Percentage (%) of live and still births <2500 grams"},2011,"06L",284.94779561617293,null,4284.5555600495563,6.6505800105175235,5.992671370447872,7.368298526957143,73.134732550027238,75.425444922337874,null,6.4578488131337579,6.1620380782009239,"B","Y55","X24","11803111","Wilson"]
[1180311,{"$f":"VLOOKUP(tblData[[#This Row],[Indicator ID]],'Similar 10 CCGs'!$A$6:$C$160,3,FALSE)","v":"Percentage (%) of live and still births <2500 grams"},2011,"06M",176.855420750794,null,2443.2767262211323,7.2384523149911697,6.3049633339068372,8.3873618301718871,73.134732550027238,75.425444922337874,null,6.8334666879859638,6.3090814923216199,"B","Y55","X24","11803111","Wilson"]
[1180311,{"$f":"VLOOKUP(tblData[[#This Row],[Indicator ID]],'Similar 10 CCGs'!$A$6:$C$160,3,FALSE)","v":"Percentage (%) of live and still births <2500 grams"},2011,"06N",518.00976631008382,null,7723.6467545276228,6.706802923197194,6.1568755016841514,7.3567171486216996,73.134732550027238,75.425444922337874,null,6.710613225393443,6.236009151879311,"B","Y55","X24","11803111","Wilson"]
[1180311,{"$f":"VLOOKUP(tblData[[#This Row],[Indicator ID]],'Similar 10 CCGs'!$A$6:$C$160,3,FALSE)","v":"Percentage (%) of live and still births <2500 grams"},2011,"06P",328.51488503631663,null,3451.318935369246,9.5185316450961324,8.6094250466372859,10.629661932101387,73.134732550027238,75.425444922337874,null,8.7019560698073803,8.1078820580789603,"A","Y55","X24","11803111","Wilson"]
[1180311,{"$f":"VLOOKUP(tblData[[#This Row],[Indicator ID]],'Similar 10 CCGs'!$A$6:$C$160,3,FALSE)","v":"Percentage (%) of live and still births <2500 grams"},2011,"06Q",245.45516165012046,null,4197.7224497751849,5.8473413758755335,5.3036072471444946,6.5949758028807128,73.134732550027238,75.425444922337874,null,6.395576351853359,5.9628201811287518,"B","Y55","X24","11803111","Wilson"]
[1180311,{"$f":"VLOOKUP(tblData[[#This Row],[Indicator ID]],'Similar 10 CCGs'!$A$6:$C$160,3,FALSE)","v":"Percentage (%) of live and still births <2500 grams"},2011,"06T",278.1337773686277,null,3569.8217810970077,7.7912510602464051,7.0463220446958328,8.6851658789070907,73.134732550027238,75.425444922337874,null,6.7397568304195961,6.4624285316613381,"A","Y55","X24","11803111","Wilson"]
[1180311,{"$f":"VLOOKUP(tblData[[#This Row],[Indicator ID]],'Similar 10 CCGs'!$A$6:$C$160,3,FALSE)","v":"Percentage (%) of live and still births <2500 grams"},2011,"06V",83.224469620719177,null,1456.8517718106812,5.7126243884977921,4.6207315163956455,7.1164866526291242,73.134732550027238,75.425444922337874,null,6.4745923953622722,5.7350410249997612,"B","Y55","X24","11803111","Wilson"]
[1180311,{"$f":"VLOOKUP(tblData[[#This Row],[Indicator ID]],'Similar 10 CCGs'!$A$6:$C$160,3,FALSE)","v":"Percentage (%) of live and still births <2500 grams"},2011,"06W",159.15231152008536,null,2471.6488709056443,6.4391149322828314,5.5261570171648202,7.4350690215024784,73.134732550027238,75.425444922337874,null,7.1367033829121596,6.4269280296365423,"B","Y55","X24","11803111","Wilson"]
[1180311,{"$f":"VLOOKUP(tblData[[#This Row],[Indicator ID]],'Similar 10 CCGs'!$A$6:$C$160,3,FALSE)","v":"Percentage (%) of live and still births <2500 grams"},2011,"06Y",151.00446618984756,null,2389.7425417223494,6.3188591889490624,5.4918948242954766,7.3713592894172635,73.134732550027238,75.425444922337874,null,6.1724924958549883,5.5655377674486939,"B","Y55","X24","11803111","Wilson"]
[1180311,{"$f":"VLOOKUP(tblData[[#This Row],[Indicator ID]],'Similar 10 CCGs'!$A$6:$C$160,3,FALSE)","v":"Percentage (%) of live and still births <2500 grams"},2011,"07G",179.90644610755672,null,2404.7988813759503,7.4811431218156557,6.4849794135307794,8.5769232009290182,73.134732550027238,75.425444922337874,null,7.1439091308052314,6.5779237593031841,"B","Y55","X24","11803111","Wilson"]
[1180311,{"$f":"VLOOKUP(tblData[[#This Row],[Indicator ID]],'Similar 10 CCGs'!$A$6:$C$160,3,FALSE)","v":"Percentage (%) of live and still births <2500 grams"},2011,"07H",239.96905452678132,null,3598.0773608341665,6.6693689562902474,5.9245711581464162,7.5495845359147751,73.134732550027238,75.425444922337874,null,6.5334266771905671,5.9365916116257491,"B","Y55","X24","11803111","Wilson"]
[1180311,{"$f":"VLOOKUP(tblData[[#This Row],[Indicator ID]],'Similar 10 CCGs'!$A$6:$C$160,3,FALSE)","v":"Percentage (%) of live and still births <2500 grams"},2011,"07J",119.28576672641442,null,1760.2658030293785,6.7765769533854634,5.7313608838022736,8.0118323083474134,73.134732550027238,75.425444922337874,null,6.4955771011635619,5.9124743781458662,"B","Y55","X24","11803111","Wilson"]
[1180311,{"$f":"VLOOKUP(tblData[[#This Row],[Indicator ID]],'Similar 10 CCGs'!$A$6:$C$160,3,FALSE)","v":"Percentage (%) of live and still births <2500 grams"},2011,"07K",199.5313933391254,null,3020.8924476089496,6.6050479055305464,5.7923722518396019,7.6208924726442273,73.134732550027238,75.425444922337874,null,6.0743167029023786,5.5655377674486939,"B","Y55","X24","11803111","Wilson"]
[1180311,{"$f":"VLOOKUP(tblData[[#This Row],[Indicator ID]],'Similar 10 CCGs'!$A$6:$C$160,3,FALSE)","v":"Percentage (%) of live and still births <2500 grams"},2011,"07L",296.96723447123424,null,3571.7051553598235,8.3144386659574909,7.4085385857163599,9.220338746198621,73.134732550027238,76.639829182082735,null,8.5659133374368288,7.8658246168373029,"B","Y56","X24","11803111","Wilson"]
[1180311,{"$f":"VLOOKUP(tblData[[#This Row],[Indicator ID]],'Similar 10 CCGs'!$A$6:$C$160,3,FALSE)","v":"Percentage (%) of live and still births <2500 grams"},2011,"07M",423.6757923623224,null,5569.8425097024674,7.6066027293284195,7.0105547698172099,8.4013333420100338,73.134732550027238,76.639829182082735,null,7.0382728887718482,6.5338920139147323,"A","Y56","X24","11803111","Wilson"]
[1180311,{"$f":"VLOOKUP(tblData[[#This Row],[Indicator ID]],'Similar 10 CCGs'!$A$6:$C$160,3,FALSE)","v":"Percentage (%) of live and still births <2500 grams"},2011,"07N",204.44835163802639,null,3075.1029467971612,6.6485042997005115,5.7275205719131819,7.569488027487842,73.134732550027238,76.639829182082735,null,7.1645979413534899,6.8172706423566751,"B","Y56","X24","11803111","Wilson"]
[1180311,{"$f":"VLOOKUP(tblData[[#This Row],[Indicator ID]],'Similar 10 CCGs'!$A$6:$C$160,3,FALSE)","v":"Percentage (%) of live and still births <2500 grams"},2011,"07P",440.07903685389846,null,5145.2653055577939,8.5530873671088532,7.7509381231773151,9.3552366110403913,73.134732550027238,76.639829182082735,null,8.2392267472784919,7.7030042148322906,"A","Y56","X24","11803111","Wilson"]
[1180311,{"$f":"VLOOKUP(tblData[[#This Row],[Indicator ID]],'Similar 10 CCGs'!$A$6:$C$160,3,FALSE)","v":"Percentage (%) of live and still births <2500 grams"},2011,"07Q",292.04509795367733,null,4210.27787533623,6.9364803607019594,6.239207953755372,7.8329734553475703,73.134732550027238,76.639829182082735,null,6.7916627463590498,6.385635610090679,"B","Y56","X24","11803111","Wilson"]
[1180311,{"$f":"VLOOKUP(tblData[[#This Row],[Indicator ID]],'Similar 10 CCGs'!$A$6:$C$160,3,FALSE)","v":"Percentage (%) of live and still births <2500 grams"},2011,"07R",270.07143846863005,null,3349.9918742721507,8.0618535388927839,7.1858201617171655,9.0352239579768039,73.134732550027238,76.639829182082735,null,7.1303427924207252,6.456485346669723,"A","Y56","X24","11803111","Wilson"]
[1180311,{"$f":"VLOOKUP(tblData[[#This Row],[Indicator ID]],'Similar 10 CCGs'!$A$6:$C$160,3,FALSE)","v":"Percentage (%) of live and still births <2500 grams"},2011,"07T",345.54709461612629,null,4471.0685216974271,7.7285126125720929,6.9402399857743573,8.5167852393698293,73.134732550027238,76.639829182082735,null,7.7532546038711443,7.0462623744721089,"B","Y56","X24","11803111","Wilson"]
[1180311,{"$f":"VLOOKUP(tblData[[#This Row],[Indicator ID]],'Similar 10 CCGs'!$A$6:$C$160,3,FALSE)","v":"Percentage (%) of live and still births <2500 grams"},2011,"07V",462.09171414552429,null,5607.4919035835192,8.2406131313398845,7.5347127400314866,8.9465135226482797,73.134732550027238,76.639829182082735,null,8.0934156323559954,7.6551853753715644,"B","Y56","X24","11803111","Wilson"]
[1180311,{"$f":"VLOOKUP(tblData[[#This Row],[Indicator ID]],'Similar 10 CCGs'!$A$6:$C$160,3,FALSE)","v":"Percentage (%) of live and still births <2500 grams"},2011,"07W",509.94095395708587,null,6094.7777445230249,8.3668506930435029,7.6815116508763834,9.1500953126630673,73.134732550027238,76.639829182082735,null,8.7751941768131569,8.1167328579486941,"B","Y56","X24","11803111","Wilson"]
[1180311,{"$f":"VLOOKUP(tblData[[#This Row],[Indicator ID]],'Similar 10 CCGs'!$A$6:$C$160,3,FALSE)","v":"Percentage (%) of live and still births <2500 grams"},2011,"07X",398.23343878671716,null,4654.9285064194146,8.5550924839668383,7.8353227114210853,9.3776865097334152,73.134732550027238,76.639829182082735,null,7.671157332880826,6.9854764805746985,"A","Y56","X24","11803111","Wilson"]
[1180311,{"$f":"VLOOKUP(tblData[[#This Row],[Indicator ID]],'Similar 10 CCGs'!$A$6:$C$160,3,FALSE)","v":"Percentage (%) of live and still births <2500 grams"},2011,"07Y",350.99644455383094,null,4472.5679645514765,7.847761002979639,7.0416134256629146,8.6539085802963616,73.134732550027238,76.639829182082735,null,8.6492826120301167,8.0855509952364581,"B","Y56","X24","11803111","Wilson"]
[1180311,{"$f":"VLOOKUP(tblData[[#This Row],[Indicator ID]],'Similar 10 CCGs'!$A$6:$C$160,3,FALSE)","v":"Percentage (%) of live and still births <2500 grams"},2011,"08A",330.53072720272945,null,4551.2728789523526,7.2623799098333484,6.5686223654116338,8.055245674886736,73.134732550027238,76.639829182082735,null,8.3112886424540662,7.8467231071076444,"","Y56","X24","11803111","Wilson"]
[1180311,{"$f":"VLOOKUP(tblData[[#This Row],[Indicator ID]],'Similar 10 CCGs'!$A$6:$C$160,3,FALSE)","v":"Percentage (%) of live and still births <2500 grams"},2011,"08C",179.94550299064821,null,2714.5560626242304,6.628910909899953,5.715608948129387,7.6436908674228041,73.134732550027238,76.639829182082735,null,7.8512052377381938,7.2257591881990155,"B","Y56","X24","11803111","Wilson"]
[1180311,{"$f":"VLOOKUP(tblData[[#This Row],[Indicator ID]],'Similar 10 CCGs'!$A$6:$C$160,3,FALSE)","v":"Percentage (%) of live and still births <2500 grams"},2011,"08D",357.512932362257,null,4411.5587688470341,8.1040047542128377,7.320324245523814,8.9856453264879903,73.134732550027238,76.639829182082735,null,7.9496980904360637,7.3815123535814138,"B","Y56","X24","11803111","Wilson"]
[1180311,{"$f":"VLOOKUP(tblData[[#This Row],[Indicator ID]],'Similar 10 CCGs'!$A$6:$C$160,3,FALSE)","v":"Percentage (%) of live and still births <2500 grams"},2011,"08E",293.12508236569357,null,3252.747085138868,9.0116161722170691,8.0777984576430697,10.049191410632623,73.134732550027238,76.639829182082735,null,7.8171847323462256,7.0055688438330446,"A","Y56","X24","11803111","Wilson"]
[1180311,{"$f":"VLOOKUP(tblData[[#This Row],[Indicator ID]],'Similar 10 CCGs'!$A$6:$C$160,3,FALSE)","v":"Percentage (%) of live and still births <2500 grams"},2011,"08F",236.06684137015193,null,3122.0992012069642,7.5611576108437379,6.6773757895802932,8.5431374122475656,73.134732550027238,76.639829182082735,null,6.9688656691775277,6.3180626845510464,"B","Y56","X24","11803111","Wilson"]
[1180311,{"$f":"VLOOKUP(tblData[[#This Row],[Indicator ID]],'Similar 10 CCGs'!$A$6:$C$160,3,FALSE)","v":"Percentage (%) of live and still births <2500 grams"},2011,"08G",343.91469211734193,null,4137.8236010723795,8.3114875179360279,7.4929232329810871,9.1300518028909678,73.134732550027238,76.639829182082735,null,7.8017623638981224,7.0057433616670455,"A","Y56","X24","11803111","Wilson"]
[1180311,{"$f":"VLOOKUP(tblData[[#This Row],[Indicator ID]],'Similar 10 CCGs'!$A$6:$C$160,3,FALSE)","v":"Percentage (%) of live and still births <2500 grams"},2011,"08H",194.27206206322143,null,3003.3500120146737,6.4685122042402909,5.6633346681160548,7.3743369323800572,73.134732550027238,76.639829182082735,null,6.8095279367228354,5.4810287773508595,"B","Y56","X24","11803111","Wilson"]
[1180311,{"$f":"VLOOKUP(tblData[[#This Row],[Indicator ID]],'Similar 10 CCGs'!$A$6:$C$160,3,FALSE)","v":"Percentage (%) of live and still births <2500 grams"},2011,"08J",155.75752604576104,null,2525.2641769366919,6.1679695719877099,5.3065629740536373,7.2207998583515769,73.134732550027238,76.639829182082735,null,6.9603075784854411,6.2196412878927587,"","Y56","X24","11803111","Wilson"]
[1180311,{"$f":"VLOOKUP(tblData[[#This Row],[Indicator ID]],'Similar 10 CCGs'!$A$6:$C$160,3,FALSE)","v":"Percentage (%) of live and still births <2500 grams"},2011,"08K",394.66957124941405,null,5149.6787161507546,7.6639649384654991,6.9834516329429013,8.4416944304913279,73.134732550027238,76.639829182082735,null,8.2042542899869932,7.3862704192879365,"B","Y56","X24","11803111","Wilson"]
[1180311,{"$f":"VLOOKUP(tblData[[#This Row],[Indicator ID]],'Similar 10 CCGs'!$A$6:$C$160,3,FALSE)","v":"Percentage (%) of live and still births <2500 grams"},2011,"08L",402.14326233256691,null,4878.794258223661,8.2426772076874748,7.5425853954148385,9.0427821359990563,73.134732550027238,76.639829182082735,null,8.0476010126753188,7.5932812250010473,"B","Y56","X24","11803111","Wilson"]
[1180311,{"$f":"VLOOKUP(tblData[[#This Row],[Indicator ID]],'Similar 10 CCGs'!$A$6:$C$160,3,FALSE)","v":"Percentage (%) of live and still births <2500 grams"},2011,"08M",697.2708310413459,null,6388.7969367169599,10.913961391292172,10.215538024059519,11.712159525272348,73.134732550027238,76.639829182082735,null,7.9186756773121285,6.4954016199682822,"A","Y56","X24","11803111","Wilson"]
[1180311,{"$f":"VLOOKUP(tblData[[#This Row],[Indicator ID]],'Similar 10 CCGs'!$A$6:$C$160,3,FALSE)","v":"Percentage (%) of live and still births <2500 grams"},2011,"08N",385.34680265980728,null,4373.4412743319535,8.8110661259232135,7.9890771638871705,9.7358037082137621,73.134732550027238,76.639829182082735,null,8.6623247044985412,8.0537538131171509,"B","Y56","X24","11803111","Wilson"]
[1180311,{"$f":"VLOOKUP(tblData[[#This Row],[Indicator ID]],'Similar 10 CCGs'!$A$6:$C$160,3,FALSE)","v":"Percentage (%) of live and still births <2500 grams"},2011,"08P",193.89538848116158,null,2871.8671125556598,6.7515445834335646,5.939236489728529,7.7669297005648588,73.134732550027238,76.639829182082735,null,6.3477492911396807,5.7900137389814841,"B","Y56","X24","11803111","Wilson"]
[1180311,{"$f":"VLOOKUP(tblData[[#This Row],[Indicator ID]],'Similar 10 CCGs'!$A$6:$C$160,3,FALSE)","v":"Percentage (%) of live and still births <2500 grams"},2011,"08Q",409.94208260124083,null,4835.7387301031076,8.4773414256088238,7.6562870309855073,9.2983958202321411,73.134732550027238,76.639829182082735,null,7.678371722567471,7.0462623744721089,"A","Y56","X24","11803111","Wilson"]
[1180311,{"$f":"VLOOKUP(tblData[[#This Row],[Indicator ID]],'Similar 10 CCGs'!$A$6:$C$160,3,FALSE)","v":"Percentage (%) of live and still births <2500 grams"},2011,"08R",233.03275267086426,null,3300.6245882643175,7.0602622757957452,6.2352329532451352,7.9884202636651818,73.134732550027238,76.639829182082735,null,7.4558584031087731,6.7003517352134478,"B","Y56","X24","11803111","Wilson"]
[1180311,{"$f":"VLOOKUP(tblData[[#This Row],[Indicator ID]],'Similar 10 CCGs'!$A$6:$C$160,3,FALSE)","v":"Percentage (%) of live and still births <2500 grams"},2011,"08T",160.99452251051864,null,2537.2452943628223,6.3452486390737066,5.5091495965450674,7.3903724422345061,73.134732550027238,76.639829182082735,null,6.9869288441217279,6.583744812385854,"B","Y56","X24","11803111","Wilson"]
[1180311,{"$f":"VLOOKUP(tblData[[#This Row],[Indicator ID]],'Similar 10 CCGs'!$A$6:$C$160,3,FALSE)","v":"Percentage (%) of live and still births <2500 grams"},2011,"08V",2.5449847503508214,null,4501.0227670231925,5.654236563735443E-2,5.654236563735443E-2,5.654236563735443E-2,73.134732550027238,76.639829182082735,null,8.7427773551982142,8.0920092239775805,"C","Y56","X24","11803111","Wilson"]
[1180311,{"$f":"VLOOKUP(tblData[[#This Row],[Indicator ID]],'Similar 10 CCGs'!$A$6:$C$160,3,FALSE)","v":"Percentage (%) of live and still births <2500 grams"},2011,"08W",439.07623381527054,null,4920.1049061916765,8.9241234117329018,8.2317009214067358,9.8143808992951147,73.134732550027238,76.639829182082735,null,8.1405355577787599,7.6791545367507812,"B","Y56","X24","11803111","Wilson"]
[1180311,{"$f":"VLOOKUP(tblData[[#This Row],[Indicator ID]],'Similar 10 CCGs'!$A$6:$C$160,3,FALSE)","v":"Percentage (%) of live and still births <2500 grams"},2011,"08X",412.27712534398643,null,5720.0778863999931,7.2075439099214513,6.6232009482156373,7.8892773652449009,73.134732550027238,76.639829182082735,null,7.4441116508070211,6.529057855798496,"B","Y56","X24","11803111","Wilson"]
[1180311,{"$f":"VLOOKUP(tblData[[#This Row],[Indicator ID]],'Similar 10 CCGs'!$A$6:$C$160,3,FALSE)","v":"Percentage (%) of live and still births <2500 grams"},2011,"08Y",205.99857954829008,null,3071.4602181354453,6.7068613922449947,5.9527415628701732,7.7123544980780903,73.134732550027238,76.639829182082735,null,7.0456193842403447,6.4831853268504416,"B","Y56","X24","11803111","Wilson"]
[1180311,{"$f":"VLOOKUP(tblData[[#This Row],[Indicator ID]],'Similar 10 CCGs'!$A$6:$C$160,3,FALSE)","v":"Percentage (%) of live and still births <2500 grams"},2011,"09A",171.50792678508608,null,2520.2165522287905,6.8052853090505465,5.92281867880817,7.9083685968535171,73.134732550027238,76.639829182082735,null,7.0016476293472936,6.4212104668396055,"B","Y56","X24","11803111","Wilson"]
[1180311,{"$f":"VLOOKUP(tblData[[#This Row],[Indicator ID]],'Similar 10 CCGs'!$A$6:$C$160,3,FALSE)","v":"Percentage (%) of live and still births <2500 grams"},2011,"09C",70.276194998668004,null,1429.6232164752794,4.9157144476104131,3.910172718417102,6.1223645226423864,73.134732550027238,64.340871685626425,null,6.8858996394221279,5.9495960430665349,"","Y57","X24","11803111","Wilson"]
[1180311,{"$f":"VLOOKUP(tblData[[#This Row],[Indicator ID]],'Similar 10 CCGs'!$A$6:$C$160,3,FALSE)","v":"Percentage (%) of live and still births <2500 grams"},2011,"09D",236.26171824628022,null,3345.6928563683955,7.0616678932904815,6.2691926645437741,8.0522619292238673,73.134732550027238,64.340871685626425,null,7.2013340811003248,6.5899625524406602,"B","Y57","X24","11803111","Wilson"]
[1180311,{"$f":"VLOOKUP(tblData[[#This Row],[Indicator ID]],'Similar 10 CCGs'!$A$6:$C$160,3,FALSE)","v":"Percentage (%) of live and still births <2500 grams"},2011,"09E",118.03369047463215,null,2074.6195723708047,5.6894137145224777,4.8197560236391173,6.8199687126708461,73.134732550027238,64.340871685626425,null,7.0330033359606317,6.4663464912416684,"C","Y57","X24","11803111","Wilson"]
[1180311,{"$f":"VLOOKUP(tblData[[#This Row],[Indicator ID]],'Similar 10 CCGs'!$A$6:$C$160,3,FALSE)","v":"Percentage (%) of live and still births <2500 grams"},2011,"09F",106.68829859379234,null,1908.6237466459479,5.5898025360565287,4.6186100670027459,6.7104092311185859,73.134732550027238,64.340871685626425,null,6.8201392811344048,6.1870234378766016,"","Y57","X24","11803111","Wilson"]
[1180311,{"$f":"VLOOKUP(tblData[[#This Row],[Indicator ID]],'Similar 10 CCGs'!$A$6:$C$160,3,FALSE)","v":"Percentage (%) of live and still births <2500 grams"},2011,"09G",313.94909499202254,null,5019.244556947704,6.254907315832023,5.6312768835591012,6.9919250994272941,73.134732550027238,64.340871685626425,null,6.4961277850430816,6.119972005059604,"B","Y57","X24","11803111","Wilson"]
[1180311,{"$f":"VLOOKUP(tblData[[#This Row],[Indicator ID]],'Similar 10 CCGs'!$A$6:$C$160,3,FALSE)","v":"Percentage (%) of live and still births <2500 grams"},2011,"09H",141.00041604623885,null,1884.1567815683027,7.483475760911749,6.3531223774021344,8.802221375006301,73.134732550027238,64.340871685626425,null,7.1268710196532847,6.5497585284141309,"B","Y57","X24","11803111","Wilson"]
[1180311,{"$f":"VLOOKUP(tblData[[#This Row],[Indicator ID]],'Similar 10 CCGs'!$A$6:$C$160,3,FALSE)","v":"Percentage (%) of live and still births <2500 grams"},2011,"09J",250.32694018680053,null,3370.3866439283779,7.4272469788519633,6.5831406184545118,8.4661471147257483,73.134732550027238,64.340871685626425,null,7.1280095907556227,6.3479290915488091,"A","Y57","X24","11803111","Wilson"]
[1180311,{"$f":"VLOOKUP(tblData[[#This Row],[Indicator ID]],'Similar 10 CCGs'!$A$6:$C$160,3,FALSE)","v":"Percentage (%) of live and still births <2500 grams"},2011,"09L",139.98513269071009,null,2048.6216803399234,6.8331373251640422,5.9208494905562397,7.9278827266934062,73.134732550027238,64.340871685626425,null,6.651957728485435,6.0414401057921916,"B","Y57","X24","11803111","Wilson"]
[1180311,{"$f":"VLOOKUP(tblData[[#This Row],[Indicator ID]],'Similar 10 CCGs'!$A$6:$C$160,3,FALSE)","v":"Percentage (%) of live and still births <2500 grams"},2011,"09N",117.35062354150449,null,2362.2343864064273,4.9677806832718785,4.1548757716342459,5.9432665772370381,73.134732550027238,64.340871685626425,null,6.3482231178397601,5.7047126761578948,"","Y57","X24","11803111","Wilson"]
[1180311,{"$f":"VLOOKUP(tblData[[#This Row],[Indicator ID]],'Similar 10 CCGs'!$A$6:$C$160,3,FALSE)","v":"Percentage (%) of live and still births <2500 grams"},2011,"09P",128.36458178519169,null,1933.7629450161005,6.6380722681664022,5.7835894742668277,7.7061757605408703,73.134732550027238,64.340871685626425,null,6.6302169988000985,5.9417849563200047,"B","Y57","X24","11803111","Wilson"]
[1180311,{"$f":"VLOOKUP(tblData[[#This Row],[Indicator ID]],'Similar 10 CCGs'!$A$6:$C$160,3,FALSE)","v":"Percentage (%) of live and still births <2500 grams"},2011,"09W",218.80850145918185,null,3748.8771515897447,5.8366410157343829,5.1559761078902486,6.7117816115339846,73.134732550027238,64.340871685626425,null,7.2025485269310652,6.6547654552068733,"C","Y57","X24","11803111","Wilson"]
[1180311,{"$f":"VLOOKUP(tblData[[#This Row],[Indicator ID]],'Similar 10 CCGs'!$A$6:$C$160,3,FALSE)","v":"Percentage (%) of live and still births <2500 grams"},2011,"09X",152.44612974275614,null,2300.1691629023585,6.6276051431973491,5.669023591611273,7.6660684907489314,73.134732550027238,64.340871685626425,null,6.0972942708456772,5.3612686977307131,"B","Y57","X24","11803111","Wilson"]
[1180311,{"$f":"VLOOKUP(tblData[[#This Row],[Indicator ID]],'Similar 10 CCGs'!$A$6:$C$160,3,FALSE)","v":"Percentage (%) of live and still births <2500 grams"},2011,"09Y",296.57600138161934,null,4513.2307630103087,6.5712571981097687,5.9194937125501879,7.331647931262613,73.134732550027238,64.340871685626425,null,6.4763494728245616,5.9987664437876429,"B","Y57","X24","11803111","Wilson"]
[1180311,{"$f":"VLOOKUP(tblData[[#This Row],[Indicator ID]],'Similar 10 CCGs'!$A$6:$C$160,3,FALSE)","v":"Percentage (%) of live and still births <2500 grams"},2011,"10A",161.27927543933919,null,2118.0179828801479,7.6146320164867776,6.50474167999693,8.872507731175272,73.134732550027238,64.340871685626425,null,7.4343786799533929,6.8048386904528453,"B","Y57","X24","11803111","Wilson"]
[1180311,{"$f":"VLOOKUP(tblData[[#This Row],[Indicator ID]],'Similar 10 CCGs'!$A$6:$C$160,3,FALSE)","v":"Percentage (%) of live and still births <2500 grams"},2011,"10C",53.335878686705072,null,1008.4364518502813,5.2889677469357927,4.1001674135266599,6.8740348581479696,73.134732550027238,64.340871685626425,null,6.4537330661700922,5.9718472899028825,"B","Y57","X24","11803111","Wilson"]
[1180311,{"$f":"VLOOKUP(tblData[[#This Row],[Indicator ID]],'Similar 10 CCGs'!$A$6:$C$160,3,FALSE)","v":"Percentage (%) of live and still births <2500 grams"},2011,"10D",74.486708208669683,null,1283.5084804790577,5.8033670475529862,4.6494799383986845,7.1880315785381494,73.134732550027238,64.340871685626425,null,7.579729809544415,6.8876196081438037,"B","Y57","X24","11803111","Wilson"]
[1180311,{"$f":"VLOOKUP(tblData[[#This Row],[Indicator ID]],'Similar 10 CCGs'!$A$6:$C$160,3,FALSE)","v":"Percentage (%) of live and still births <2500 grams"},2011,"10E",109.88860489418157,null,1690.496881435341,6.5003731211192211,5.3996218253739681,7.8012610160908844,73.134732550027238,64.340871685626425,null,7.4895542354358753,7.1079788398826036,"B","Y57","X24","11803111","Wilson"]
[1180311,{"$f":"VLOOKUP(tblData[[#This Row],[Indicator ID]],'Similar 10 CCGs'!$A$6:$C$160,3,FALSE)","v":"Percentage (%) of live and still births <2500 grams"},2011,"10G",114.29520860901326,null,1791.1157184750357,6.3812297234667081,5.3617050654642835,7.5861225011059359,73.134732550027238,64.340871685626425,null,6.3307150234321146,5.6607881310757131,"B","Y57","X24","11803111","Wilson"]
[1180311,{"$f":"VLOOKUP(tblData[[#This Row],[Indicator ID]],'Similar 10 CCGs'!$A$6:$C$160,3,FALSE)","v":"Percentage (%) of live and still births <2500 grams"},2011,"10H",260.84267623757108,null,3757.9695535153587,6.9410534737719782,6.2047347155022825,7.7510041078686438,73.134732550027238,64.340871685626425,null,6.3957267017411876,6.0220527578647909,"B","Y57","X24","11803111","Wilson"]
[1180311,{"$f":"VLOOKUP(tblData[[#This Row],[Indicator ID]],'Similar 10 CCGs'!$A$6:$C$160,3,FALSE)","v":"Percentage (%) of live and still births <2500 grams"},2011,"10J",150.82625341463293,null,2714.6055481901371,5.5561020095604965,4.8306743259316871,6.462886614096508,73.134732550027238,64.340871685626425,null,6.6323649493683563,6.1593611777222232,"B","Y57","X24","11803111","Wilson"]
[1180311,{"$f":"VLOOKUP(tblData[[#This Row],[Indicator ID]],'Similar 10 CCGs'!$A$6:$C$160,3,FALSE)","v":"Percentage (%) of live and still births <2500 grams"},2011,"10K",132.29820304967151,null,2197.9600867716954,6.0191358271654316,5.1117069950154477,7.0778027980070792,73.134732550027238,64.340871685626425,null,6.6849303501997968,6.0349431352290299,"B","Y57","X24","11803111","Wilson"]
[1180311,{"$f":"VLOOKUP(tblData[[#This Row],[Indicator ID]],'Similar 10 CCGs'!$A$6:$C$160,3,FALSE)","v":"Percentage (%) of live and still births <2500 grams"},2011,"10L",99.076760373897827,null,1321.031338389939,7.4999553375207348,6.199881611074149,9.1000460777626877,73.134732550027238,64.340871685626425,null,6.4232392627500348,5.9124743781458662,"B","Y57","X24","11803111","Wilson"]
[1180311,{"$f":"VLOOKUP(tblData[[#This Row],[Indicator ID]],'Similar 10 CCGs'!$A$6:$C$160,3,FALSE)","v":"Percentage (%) of live and still births <2500 grams"},2011,"10M",86.228030560830049,null,1422.738178029887,6.0607096858982787,4.9920433029300133,7.4855981965226333,73.134732550027238,64.340871685626425,null,6.4186746260063341,5.5534797225527397,"B","Y57","X24","11803111","Wilson"]
[1180311,{"$f":"VLOOKUP(tblData[[#This Row],[Indicator ID]],'Similar 10 CCGs'!$A$6:$C$160,3,FALSE)","v":"Percentage (%) of live and still births <2500 grams"},2011,"10N",104.77991525220823,null,1490.5844107730852,7.0294519716508086,5.7570547437631063,8.5563286451160536,73.134732550027238,64.340871685626425,null,6.581076465352349,6.0218339752899581,"B","Y57","X24","11803111","Wilson"]
[1180311,{"$f":"VLOOKUP(tblData[[#This Row],[Indicator ID]],'Similar 10 CCGs'!$A$6:$C$160,3,FALSE)","v":"Percentage (%) of live and still births <2500 grams"},2011,"10Q",603.05611072374802,null,8412.0495947419731,7.1689557215722264,6.6652096897274751,7.823825562970403,73.134732550027238,64.340871685626425,null,6.6908401830586754,6.2251121958195181,"B","Y57","X24","11803111","Wilson"]
[1180311,{"$f":"VLOOKUP(tblData[[#This Row],[Indicator ID]],'Similar 10 CCGs'!$A$6:$C$160,3,FALSE)","v":"Percentage (%) of live and still births <2500 grams"},2011,"10R",178.81782471164155,null,2742.1734410619829,6.5210253310012876,5.6349682414124809,7.5055332083221842,73.134732550027238,64.340871685626425,null,7.1690780451801972,6.3827524128664717,"B","Y57","X24","11803111","Wilson"]
[1180311,{"$f":"VLOOKUP(tblData[[#This Row],[Indicator ID]],'Similar 10 CCGs'!$A$6:$C$160,3,FALSE)","v":"Percentage (%) of live and still births <2500 grams"},2011,"10T",215.48468529791285,null,2648.5116464605285,8.1360671222981633,7.1152830826674416,9.2589295658919593,73.134732550027238,64.340871685626425,null,8.6226658461606984,8.0019891794850118,"B","Y57","X24","11803111","Wilson"]
[1180311,{"$f":"VLOOKUP(tblData[[#This Row],[Indicator ID]],'Similar 10 CCGs'!$A$6:$C$160,3,FALSE)","v":"Percentage (%) of live and still births <2500 grams"},2011,"10V",142.50374229772692,null,2169.5982911933779,6.5682086345737005,5.6428015752075167,7.724967458781431,73.134732550027238,64.340871685626425,null,6.9993213069374445,6.1772763094331484,"B","Y57","X24","11803111","Wilson"]
[1180311,{"$f":"VLOOKUP(tblData[[#This Row],[Indicator ID]],'Similar 10 CCGs'!$A$6:$C$160,3,FALSE)","v":"Percentage (%) of live and still births <2500 grams"},2011,"10W",133.99392950717069,null,1828.6704371007347,7.3273962759310169,6.1636883514642999,8.7238457852910773,73.134732550027238,64.340871685626425,null,7.6296531390777202,7.058095165231788,"B","Y57","X24","11803111","Wilson"]
[1180311,{"$f":"VLOOKUP(tblData[[#This Row],[Indicator ID]],'Similar 10 CCGs'!$A$6:$C$160,3,FALSE)","v":"Percentage (%) of live and still births <2500 grams"},2011,"10X",291.9324927715187,null,3716.6270203074646,7.8547696924231065,6.9789689977932277,8.7305703870529854,73.134732550027238,64.340871685626425,null,7.0321236026538427,6.274623900408633,"B","Y57","X24","11803111","Wilson"]
[1180311,{"$f":"VLOOKUP(tblData[[#This Row],[Indicator ID]],'Similar 10 CCGs'!$A$6:$C$160,3,FALSE)","v":"Percentage (%) of live and still births <2500 grams"},2011,"10Y",189.64957791186706,null,2465.0106972468234,7.6936614564669892,6.7428320962030952,8.8346566887836619,73.134732550027238,64.340871685626425,null,6.286670121509883,5.4017957970463089,"A","Y57","X24","11803111","Wilson"]
[1180311,{"$f":"VLOOKUP(tblData[[#This Row],[Indicator ID]],'Similar 10 CCGs'!$A$6:$C$160,3,FALSE)","v":"Percentage (%) of live and still births <2500 grams"},2011,"11A",366.57639625438918,null,5585.1369053709086,6.5634272259624202,5.9240233891296512,7.3190863058556923,73.134732550027238,64.340871685626425,null,6.3491020341424802,5.8243190092439265,"B","Y57","X24","11803111","Wilson"]
[1180311,{"$f":"VLOOKUP(tblData[[#This Row],[Indicator ID]],'Similar 10 CCGs'!$A$6:$C$160,3,FALSE)","v":"Percentage (%) of live and still births <2500 grams"},2011,"11C",132.73045257782923,null,1759.850013421842,7.5421457263706753,6.3285834630197826,8.8568381783341437,73.134732550027238,64.340871685626425,null,6.1368550517250871,5.3647264757988538,"B","Y57","X24","11803111","Wilson"]
[1180311,{"$f":"VLOOKUP(tblData[[#This Row],[Indicator ID]],'Similar 10 CCGs'!$A$6:$C$160,3,FALSE)","v":"Percentage (%) of live and still births <2500 grams"},2011,"11D",115.74701923772376,null,1795.0592797636527,6.4480889596561761,5.4187580160965201,7.7862191862837289,73.134732550027238,64.340871685626425,null,6.2724805566121606,5.6474162838378188,"B","Y57","X24","11803111","Wilson"]
[1180311,{"$f":"VLOOKUP(tblData[[#This Row],[Indicator ID]],'Similar 10 CCGs'!$A$6:$C$160,3,FALSE)","v":"Percentage (%) of live and still births <2500 grams"},2011,"11E",115.22025358978544,null,1909.6534305815103,6.033568800737819,5.0542190334862749,7.2087885214396721,73.134732550027238,64.340871685626425,null,6.6972775540911176,6.1538641052190588,"B","Y57","X24","11803111","Wilson"]
[1180311,{"$f":"VLOOKUP(tblData[[#This Row],[Indicator ID]],'Similar 10 CCGs'!$A$6:$C$160,3,FALSE)","v":"Percentage (%) of live and still births <2500 grams"},2011,"11H",395.44672968083194,null,6840.7601601169708,5.7807424968114969,5.1886009191904634,6.2741938114956914,73.134732550027238,64.340871685626425,null,7.292886558214323,6.8744041824702053,"C","Y57","X24","11803111","Wilson"]
[1180311,{"$f":"VLOOKUP(tblData[[#This Row],[Indicator ID]],'Similar 10 CCGs'!$A$6:$C$160,3,FALSE)","v":"Percentage (%) of live and still births <2500 grams"},2011,"11J",495.50094626571661,null,7750.0155142840604,6.3935477980974156,5.8914231845723712,6.8956724116224599,73.134732550027238,64.340871685626425,null,6.5420190644086444,5.9675361792613044,"B","Y57","X24","11803111","Wilson"]
[1180311,{"$f":"VLOOKUP(tblData[[#This Row],[Indicator ID]],'Similar 10 CCGs'!$A$6:$C$160,3,FALSE)","v":"Percentage (%) of live and still births <2500 grams"},2011,"11M",354.08108428245788,null,6810.2318412866634,5.1992515458263906,4.7006480740838388,5.7885101942494055,73.134732550027238,64.340871685626425,null,6.5883839596133686,6.0859503097468473,"C","Y57","X24","11803111","Wilson"]
[1180311,{"$f":"VLOOKUP(tblData[[#This Row],[Indicator ID]],'Similar 10 CCGs'!$A$6:$C$160,3,FALSE)","v":"Percentage (%) of live and still births <2500 grams"},2011,"11N",330.20410632138771,null,5791.7699254811341,5.7012642175000936,5.1017771031690522,6.3007513318311332,73.134732550027238,64.340871685626425,null,6.5676768544483171,6.1152529880561683,"","Y57","X24","11803111","Wilson"]
[1180311,{"$f":"VLOOKUP(tblData[[#This Row],[Indicator ID]],'Similar 10 CCGs'!$A$6:$C$160,3,FALSE)","v":"Percentage (%) of live and still births <2500 grams"},2011,"11T",115.2921607511482,null,2298.4338878952553,5.0161182080692646,4.2101703668318944,6.0235530096159771,73.134732550027238,64.340871685626425,null,6.683445708076059,6.0782099514722372,"C","Y57","X24","11803111","Wilson"]
[1180311,{"$f":"VLOOKUP(tblData[[#This Row],[Indicator ID]],'Similar 10 CCGs'!$A$6:$C$160,3,FALSE)","v":"Percentage (%) of live and still births <2500 grams"},2011,"11X",384.66901959781978,null,5694.6196997532734,6.754955376817982,6.1479779268266324,7.417112594990364,73.134732550027238,64.340871685626425,null,6.5220198088252799,5.9353081708170574,"B","Y57","X24","11803111","Wilson"]
[1180311,{"$f":"VLOOKUP(tblData[[#This Row],[Indicator ID]],'Similar 10 CCGs'!$A$6:$C$160,3,FALSE)","v":"Percentage (%) of live and still births <2500 grams"},2011,"12A",161.57089599084185,null,2981.562278243081,5.4190012118763891,4.5967284100443795,6.2412740137083977,73.134732550027238,64.340871685626425,null,6.6899807278203678,6.2143014473461697,"","Y57","X24","11803111","Wilson"]
[1180311,{"$f":"VLOOKUP(tblData[[#This Row],[Indicator ID]],'Similar 10 CCGs'!$A$6:$C$160,3,FALSE)","v":"Percentage (%) of live and still births <2500 grams"},2011,"12D",221.13531261292491,null,3028.8558086143635,7.3009521279948144,6.4072358249401784,8.2939702424999666,73.134732550027238,64.340871685626425,null,6.5422575958210576,5.8933511735541293,"B","Y57","X24","11803111","Wilson"]
[1180311,{"$f":"VLOOKUP(tblData[[#This Row],[Indicator ID]],'Similar 10 CCGs'!$A$6:$C$160,3,FALSE)","v":"Percentage (%) of live and still births <2500 grams"},2011,"12F",250.7671470909749,null,3798.8614174136978,6.6011133215198896,5.9005789017671946,7.5018004326304997,73.134732550027238,75.846340812686392,null,7.6349959310398976,7.0502523891422282,"","Y54","X24","11803111","Wilson"]
[1180311,{"$f":"VLOOKUP(tblData[[#This Row],[Indicator ID]],'Similar 10 CCGs'!$A$6:$C$160,3,FALSE)","v":"Percentage (%) of live and still births <2500 grams"},2011,"13P",1058.2147877408352,null,10830.776756312605,9.7704422457425846,9.2653801212850482,10.401769901314506,73.134732550027238,75.425444922337874,null,8.4469031541107782,7.5719083319627316,"A","Y55","X24","11803111","Wilson"]
[1180311,{"$f":"VLOOKUP(tblData[[#This Row],[Indicator ID]],'Similar 10 CCGs'!$A$6:$C$160,3,FALSE)","v":"Percentage (%) of live and still births <2500 grams"},2011,"99A",469.14422491593365,null,5963.3103335041696,7.8671777700399232,7.1731222680685987,8.561233272011247,73.134732550027238,75.846340812686392,null,7.5113201919040238,6.936867937521507,"B","Y54","X24","11803111","Wilson"]
[1180311,{"$f":"VLOOKUP(tblData[[#This Row],[Indicator ID]],'Similar 10 CCGs'!$A$6:$C$160,3,FALSE)","v":"Percentage (%) of live and still births <2500 grams"},2011,"99C",171.8779788517738,null,2494.9966489193771,6.8889062005841533,6.0047338011316684,7.9695613554705247,73.134732550027238,75.846340812686392,null,7.527246102770496,6.8378090712870288,"B","Y54","X24","11803111","Wilson"]
[1180311,{"$f":"VLOOKUP(tblData[[#This Row],[Indicator ID]],'Similar 10 CCGs'!$A$6:$C$160,3,FALSE)","v":"Percentage (%) of live and still births <2500 grams"},2011,"99D",92.567607514072407,null,1680.6808864415675,5.5077444064983556,4.5174482182359466,6.802747114226122,73.134732550027238,75.425444922337874,null,6.1185576011998322,5.4881180247346819,"B","Y55","X24","11803111","Wilson"]
[1180311,{"$f":"VLOOKUP(tblData[[#This Row],[Indicator ID]],'Similar 10 CCGs'!$A$6:$C$160,3,FALSE)","v":"Percentage (%) of live and still births <2500 grams"},2011,"99E",211.32114189791443,null,3126.9593881633305,6.7580392216746139,5.9244851986141462,7.6749486470411288,73.134732550027238,75.425444922337874,null,6.721586583433405,6.0111621487834928,"B","Y55","X24","11803111","Wilson"]
[1180311,{"$f":"VLOOKUP(tblData[[#This Row],[Indicator ID]],'Similar 10 CCGs'!$A$6:$C$160,3,FALSE)","v":"Percentage (%) of live and still births <2500 grams"},2011,"99F",108.43986855442022,null,1627.3444742546087,6.6636087361952159,5.6487698940652269,8.0408900219430581,73.134732550027238,75.425444922337874,null,6.7064280093693416,5.9208443308025851,"B","Y55","X24","11803111","Wilson"]
[1180311,{"$f":"VLOOKUP(tblData[[#This Row],[Indicator ID]],'Similar 10 CCGs'!$A$6:$C$160,3,FALSE)","v":"Percentage (%) of live and still births <2500 grams"},2011,"99G",145.19103728245673,null,2261.4943890482186,6.4201369672008068,5.5239483711933168,7.5154785845432936,73.134732550027238,75.425444922337874,null,6.935397175011599,6.4545175309810388,"B","Y55","X24","11803111","Wilson"]
[1180311,{"$f":"VLOOKUP(tblData[[#This Row],[Indicator ID]],'Similar 10 CCGs'!$A$6:$C$160,3,FALSE)","v":"Percentage (%) of live and still births <2500 grams"},2011,"99H",225.73564834889368,null,3449.6202936608979,6.5437824784284437,5.7134824682975731,7.595495824594213,73.134732550027238,64.340871685626425,null,6.3900789142517445,5.9683581510156731,"B","Y57","X24","11803111","Wilson"]
[1180311,{"$f":"VLOOKUP(tblData[[#This Row],[Indicator ID]],'Similar 10 CCGs'!$A$6:$C$160,3,FALSE)","v":"Percentage (%) of live and still births <2500 grams"},2011,"99J",339.16696084440866,null,5471.4160553043039,6.1988881382105978,5.6146690259128622,6.8415291617381069,73.134732550027238,64.340871685626425,null,6.670548076280399,6.075886149873492,"B","Y57","X24","11803111","Wilson"]
[1180311,{"$f":"VLOOKUP(tblData[[#This Row],[Indicator ID]],'Similar 10 CCGs'!$A$6:$C$160,3,FALSE)","v":"Percentage (%) of live and still births <2500 grams"},2011,"99K",75.751326249530337,null,1477.3315418654804,5.1275779405533015,4.1632182001969618,6.3812456030165432,73.134732550027238,64.340871685626425,null,6.2387110435501647,5.6631762902489866,"","Y57","X24","11803111","Wilson"]
[1180311,{"$f":"VLOOKUP(tblData[[#This Row],[Indicator ID]],'Similar 10 CCGs'!$A$6:$C$160,3,FALSE)","v":"Percentage (%) of live and still births <2500 grams"},2011,"99M",154.28267397336057,null,2759.097351917886,5.5917807273497111,4.8629330279655649,6.4531461902582468,73.134732550027238,64.340871685626425,null,6.4179362679736087,5.8186779302991125,"B","Y57","X24","11803111","Wilson"]
[1180311,{"$f":"VLOOKUP(tblData[[#This Row],[Indicator ID]],'Similar 10 CCGs'!$A$6:$C$160,3,FALSE)","v":"Percentage (%) of live and still births <2500 grams"},2011,"99N",334.85529159535633,null,5472.5373844755259,6.1188305911855911,5.5200753800713409,6.7175858022998423,73.134732550027238,64.340871685626425,null,6.5071160264374726,6.0918976592784926,"B","Y57","X24","11803111","Wilson"]
[1180311,{"$f":"VLOOKUP(tblData[[#This Row],[Indicator ID]],'Similar 10 CCGs'!$A$6:$C$160,3,FALSE)","v":"Percentage (%) of live and still births <2500 grams"},2011,"99P",642.84798408211418,null,9504.9639633728748,6.7632869157559323,6.2720712607297617,7.2545025707821029,73.134732550027238,64.340871685626425,null,6.7053823351002677,6.1224892328408611,"B","Y57","X24","11803111","Wilson"]
[1180311,{"$f":"VLOOKUP(tblData[[#This Row],[Indicator ID]],'Similar 10 CCGs'!$A$6:$C$160,3,FALSE)","v":"Percentage (%) of live and still births <2500 grams"},2011,"99Q",191.42597984023047,null,2794.7450804764035,6.8494969783648108,6.0079577452789241,7.9014210197221688,73.134732550027238,64.340871685626425,null,6.8782194176635842,6.1294845622475265,"B","Y57","X24","11803111","Wilson"]
[1180312,{"$f":"VLOOKUP(tblData[[#This Row],[Indicator ID]],'Similar 10 CCGs'!$A$6:$C$160,3,FALSE)","v":"Teenage conceptions (aged under 18): rates per 1,000 females aged 15-17"},2011,"00C",76.708908873198325,null,1856.4000000000003,41.321325615814644,36.060541439935434,47.124369687915163,35.330839380107328,40.602492033989293,null,41.599550395939232,35.34828548480052,"B","Y54","X24","11803121","Byar"]
[1180312,{"$f":"VLOOKUP(tblData[[#This Row],[Indicator ID]],'Similar 10 CCGs'!$A$6:$C$160,3,FALSE)","v":"Teenage conceptions (aged under 18): rates per 1,000 females aged 15-17"},2011,"00D",217.17588242504604,null,5221.19999932666,41.595013110597876,38.33566335138277,45.00203730823236,35.330839380107328,40.602492033989293,null,43.579480297297174,39.585745744135778,"","Y54","X24","11803121","Byar"]
[1180312,{"$f":"VLOOKUP(tblData[[#This Row],[Indicator ID]],'Similar 10 CCGs'!$A$6:$C$160,3,FALSE)","v":"Teenage conceptions (aged under 18): rates per 1,000 females aged 15-17"},2011,"00F",152.08473523901779,null,3771.0000001459152,40.330080942225671,36.574071100939918,44.369970742452836,35.330839380107328,40.602492033989293,null,40.273978243703091,34.685448192045911,"","Y54","X24","11803121","Byar"]
[1180312,{"$f":"VLOOKUP(tblData[[#This Row],[Indicator ID]],'Similar 10 CCGs'!$A$6:$C$160,3,FALSE)","v":"Teenage conceptions (aged under 18): rates per 1,000 females aged 15-17"},2011,"00G",146.92116741992069,null,3230.399998874223,45.480797260748496,40.45208432323615,50.825236454860622,35.330839380107328,40.602492033989293,null,41.962864006443013,35.598686944167213,"B","Y54","X24","11803121","Byar"]
[1180312,{"$f":"VLOOKUP(tblData[[#This Row],[Indicator ID]],'Similar 10 CCGs'!$A$6:$C$160,3,FALSE)","v":"Teenage conceptions (aged under 18): rates per 1,000 females aged 15-17"},2011,"00H",110.49618590182797,null,2426.3999999999996,45.53914684381305,40.142919100494183,51.274175152272292,35.330839380107328,40.602492033989293,null,46.591480793367708,41.706630647778908,"B","Y54","X24","11803121","Byar"]
[1180312,{"$f":"VLOOKUP(tblData[[#This Row],[Indicator ID]],'Similar 10 CCGs'!$A$6:$C$160,3,FALSE)","v":"Teenage conceptions (aged under 18): rates per 1,000 females aged 15-17"},2011,"00J",205.65062657888674,null,4926,41.747995651418336,38.232019864864249,45.423273074229023,35.330839380107328,40.602492033989293,null,38.112139137972761,31.658336592448286,"B","Y54","X24","11803121","Byar"]
[1180312,{"$f":"VLOOKUP(tblData[[#This Row],[Indicator ID]],'Similar 10 CCGs'!$A$6:$C$160,3,FALSE)","v":"Teenage conceptions (aged under 18): rates per 1,000 females aged 15-17"},2011,"00K",235.39091393588302,null,5510.4000000009428,42.717572941318736,39.771354438362103,45.880550898680319,35.330839380107328,40.602492033989293,null,44.912318150653206,42.122381547532427,"","Y54","X24","11803121","Byar"]
[1180312,{"$f":"VLOOKUP(tblData[[#This Row],[Indicator ID]],'Similar 10 CCGs'!$A$6:$C$160,3,FALSE)","v":"Teenage conceptions (aged under 18): rates per 1,000 females aged 15-17"},2011,"00L",185.56395104643778,null,5479.7999999999984,33.863270748282389,31.123920434553916,36.780449066756049,35.330839380107328,40.602492033989293,null,34.550212562900079,28.847037999969917,"B","Y54","X24","11803121","Byar"]
[1180312,{"$f":"VLOOKUP(tblData[[#This Row],[Indicator ID]],'Similar 10 CCGs'!$A$6:$C$160,3,FALSE)","v":"Teenage conceptions (aged under 18): rates per 1,000 females aged 15-17"},2011,"00M",296.98727975962447,null,5571.5999995369002,53.30376907608396,49.66935237835083,57.191460600814317,35.330839380107328,40.602492033989293,null,44.945934256346447,39.207559467642113,"A","Y54","X24","11803121","Byar"]
[1180312,{"$f":"VLOOKUP(tblData[[#This Row],[Indicator ID]],'Similar 10 CCGs'!$A$6:$C$160,3,FALSE)","v":"Teenage conceptions (aged under 18): rates per 1,000 females aged 15-17"},2011,"00N",128.37083359873168,null,2743.8,46.785783803021964,42.227127163077689,51.701812131207795,35.330839380107328,40.602492033989293,null,41.052349583432893,35.669922343283915,"A","Y54","X24","11803121","Byar"]
[1180312,{"$f":"VLOOKUP(tblData[[#This Row],[Indicator ID]],'Similar 10 CCGs'!$A$6:$C$160,3,FALSE)","v":"Teenage conceptions (aged under 18): rates per 1,000 females aged 15-17"},2011,"00P",255.65747334454215,null,5249.3999997022329,48.70222756106299,45.254981793847243,52.339733038830595,35.330839380107328,40.602492033989293,null,43.806571347608852,38.342442594495822,"A","Y54","X24","11803121","Byar"]
[1180312,{"$f":"VLOOKUP(tblData[[#This Row],[Indicator ID]],'Similar 10 CCGs'!$A$6:$C$160,3,FALSE)","v":"Teenage conceptions (aged under 18): rates per 1,000 females aged 15-17"},2011,"00Q",116.95881605347924,null,3274.7999999999993,35.714796645132303,32.039486069469802,39.700833935188321,35.330839380107328,40.602492033989293,null,40.881898053286982,37.380888341850422,"","Y54","X24","11803121","Byar"]
[1180312,{"$f":"VLOOKUP(tblData[[#This Row],[Indicator ID]],'Similar 10 CCGs'!$A$6:$C$160,3,FALSE)","v":"Teenage conceptions (aged under 18): rates per 1,000 females aged 15-17"},2011,"00R",173.17896899495869,null,3108.6000006233512,55.70963422770123,50.736253203283027,61.038070047421108,35.330839380107328,40.602492033989293,null,42.957436550514053,36.726361676532065,"A","Y54","X24","11803121","Byar"]
[1180312,{"$f":"VLOOKUP(tblData[[#This Row],[Indicator ID]],'Similar 10 CCGs'!$A$6:$C$160,3,FALSE)","v":"Teenage conceptions (aged under 18): rates per 1,000 females aged 15-17"},2011,"00T",229.59460965431495,null,5441.4,42.194032722151462,39.023342263349299,45.552627660877818,35.330839380107328,40.602492033989293,null,44.363968356816748,39.009529756201253,"B","Y54","X24","11803121","Byar"]
[1180312,{"$f":"VLOOKUP(tblData[[#This Row],[Indicator ID]],'Similar 10 CCGs'!$A$6:$C$160,3,FALSE)","v":"Teenage conceptions (aged under 18): rates per 1,000 females aged 15-17"},2011,"00V",132.07762795066304,null,3513.599999999999,37.59039957612223,34.009250282906279,41.448185704979267,35.330839380107328,40.602492033989293,null,41.870608318327768,35.442420518219812,"B","Y54","X24","11803121","Byar"]
[1180312,{"$f":"VLOOKUP(tblData[[#This Row],[Indicator ID]],'Similar 10 CCGs'!$A$6:$C$160,3,FALSE)","v":"Teenage conceptions (aged under 18): rates per 1,000 females aged 15-17"},2011,"00W",246.57419558519911,null,4323.0000007060444,57.037750530864663,52.032618487769604,62.25261312498138,35.330839380107328,40.602492033989293,null,44.747081757740901,37.064048055905275,"A","Y54","X24","11803121","Byar"]
[1180312,{"$f":"VLOOKUP(tblData[[#This Row],[Indicator ID]],'Similar 10 CCGs'!$A$6:$C$160,3,FALSE)","v":"Teenage conceptions (aged under 18): rates per 1,000 females aged 15-17"},2011,"00X",107.94853067581728,null,2963.4,36.427256082816115,32.691314509242346,40.572540272070057,35.330839380107328,40.602492033989293,null,36.499071839378097,31.742209210218419,"B","Y54","X24","11803121","Byar"]
[1180312,{"$f":"VLOOKUP(tblData[[#This Row],[Indicator ID]],'Similar 10 CCGs'!$A$6:$C$160,3,FALSE)","v":"Teenage conceptions (aged under 18): rates per 1,000 females aged 15-17"},2011,"00Y",186.25707242469571,null,4571.3999996879138,40.743989245616518,37.44693593650274,44.258131945162113,35.330839380107328,40.602492033989293,null,40.981247638026119,37.654675869239085,"B","Y54","X24","11803121","Byar"]
[1180312,{"$f":"VLOOKUP(tblData[[#This Row],[Indicator ID]],'Similar 10 CCGs'!$A$6:$C$160,3,FALSE)","v":"Teenage conceptions (aged under 18): rates per 1,000 females aged 15-17"},2011,"01A",301.07132200422677,null,7060.7999999999984,42.639831464455426,39.837184839595551,45.725550165060262,35.330839380107328,40.602492033989293,null,43.453420652579112,39.276454957774448,"A","Y54","X24","11803121","Byar"]
[1180312,{"$f":"VLOOKUP(tblData[[#This Row],[Indicator ID]],'Similar 10 CCGs'!$A$6:$C$160,3,FALSE)","v":"Teenage conceptions (aged under 18): rates per 1,000 females aged 15-17"},2011,"01C",88.609924960347286,null,3114.6,28.449857111779135,25.280883903319914,31.824165153668215,35.330839380107328,40.602492033989293,null,29.193489592643381,27.497828370778024,"B","Y54","X24","11803121","Byar"]
[1180312,{"$f":"VLOOKUP(tblData[[#This Row],[Indicator ID]],'Similar 10 CCGs'!$A$6:$C$160,3,FALSE)","v":"Teenage conceptions (aged under 18): rates per 1,000 females aged 15-17"},2011,"01D",167.91994024657987,null,4303.800000654519,39.016669041554607,35.635635317480251,42.632066975911449,35.330839380107328,40.602492033989293,null,44.971636262812197,39.71015328196313,"","Y54","X24","11803121","Byar"]
[1180312,{"$f":"VLOOKUP(tblData[[#This Row],[Indicator ID]],'Similar 10 CCGs'!$A$6:$C$160,3,FALSE)","v":"Teenage conceptions (aged under 18): rates per 1,000 females aged 15-17"},2011,"01E",161.71246126837508,null,3976.2000008033351,40.670102418314812,36.652335648826572,45.045314384730837,35.330839380107328,40.602492033989293,null,44.770189928630082,39.718835830032752,"B","Y54","X24","11803121","Byar"]
[1180312,{"$f":"VLOOKUP(tblData[[#This Row],[Indicator ID]],'Similar 10 CCGs'!$A$6:$C$160,3,FALSE)","v":"Teenage conceptions (aged under 18): rates per 1,000 females aged 15-17"},2011,"01F",131.90306468221794,null,2432.4,54.227538514314233,48.831123789569766,60.051055371938489,35.330839380107328,40.602492033989293,null,45.945308505752593,41.286100218578532,"A","Y54","X24","11803121","Byar"]
[1180312,{"$f":"VLOOKUP(tblData[[#This Row],[Indicator ID]],'Similar 10 CCGs'!$A$6:$C$160,3,FALSE)","v":"Teenage conceptions (aged under 18): rates per 1,000 females aged 15-17"},2011,"01G",240.81901071066866,null,4737.6000014917172,50.831435882058962,46.892442947793185,55.012304223234409,35.330839380107328,40.602492033989293,null,48.570685881178264,44.857533887850479,"A","Y54","X24","11803121","Byar"]
[1180312,{"$f":"VLOOKUP(tblData[[#This Row],[Indicator ID]],'Similar 10 CCGs'!$A$6:$C$160,3,FALSE)","v":"Teenage conceptions (aged under 18): rates per 1,000 females aged 15-17"},2011,"01H",299.51836945416238,null,9169.2000018754152,32.66570359386867,30.147739382521415,35.431481718108586,35.330839380107328,40.602492033989293,null,31.956658312549955,27.642232757344964,"A","Y54","X24","11803121","Byar"]
[1180312,{"$f":"VLOOKUP(tblData[[#This Row],[Indicator ID]],'Similar 10 CCGs'!$A$6:$C$160,3,FALSE)","v":"Teenage conceptions (aged under 18): rates per 1,000 females aged 15-17"},2011,"01J",131.07683184140939,null,3300.6000000000013,39.713031521968531,35.826632055880665,43.912227259056479,35.330839380107328,40.602492033989293,null,49.141265033049464,43.485153334350301,"","Y54","X24","11803121","Byar"]
[1180312,{"$f":"VLOOKUP(tblData[[#This Row],[Indicator ID]],'Similar 10 CCGs'!$A$6:$C$160,3,FALSE)","v":"Teenage conceptions (aged under 18): rates per 1,000 females aged 15-17"},2011,"01K",114.94054579154832,null,3704.9999882011966,31.023089381264143,27.380323423448072,35.034598357507178,35.330839380107328,40.602492033989293,null,36.845857610118017,31.020050172182188,"","Y54","X24","11803121","Byar"]
[1180312,{"$f":"VLOOKUP(tblData[[#This Row],[Indicator ID]],'Similar 10 CCGs'!$A$6:$C$160,3,FALSE)","v":"Teenage conceptions (aged under 18): rates per 1,000 females aged 15-17"},2011,"01M",194.62520453965291,null,3432.6,56.699063258070531,51.343561603557518,62.278977036644875,35.330839380107328,40.602492033989293,null,43.667481513444741,39.698480782905847,"A","Y54","X24","11803121","Byar"]
[1180312,{"$f":"VLOOKUP(tblData[[#This Row],[Indicator ID]],'Similar 10 CCGs'!$A$6:$C$160,3,FALSE)","v":"Teenage conceptions (aged under 18): rates per 1,000 females aged 15-17"},2011,"01N",186.69817935780691,null,3268.7999999999997,57.115204159877301,51.438301291895641,63.029986859269357,35.330839380107328,40.602492033989293,null,48.28768496629506,44.328990633262421,"A","Y54","X24","11803121","Byar"]
[1180312,{"$f":"VLOOKUP(tblData[[#This Row],[Indicator ID]],'Similar 10 CCGs'!$A$6:$C$160,3,FALSE)","v":"Teenage conceptions (aged under 18): rates per 1,000 females aged 15-17"},2011,"01R",90.463477616104925,null,3193.1999999999989,28.330038085965473,24.919358384578295,31.961714085616546,35.330839380107328,40.602492033989293,null,34.585622296703349,30.782706073818666,"","Y54","X24","11803121","Byar"]
[1180312,{"$f":"VLOOKUP(tblData[[#This Row],[Indicator ID]],'Similar 10 CCGs'!$A$6:$C$160,3,FALSE)","v":"Teenage conceptions (aged under 18): rates per 1,000 females aged 15-17"},2011,"01T",88.578075003592431,null,2950.7999996988096,30.018325543118362,26.496597575411037,33.788420679253342,35.330839380107328,40.602492033989293,null,45.704481579320358,41.464087838767405,"C","Y54","X24","11803121","Byar"]
[1180312,{"$f":"VLOOKUP(tblData[[#This Row],[Indicator ID]],'Similar 10 CCGs'!$A$6:$C$160,3,FALSE)","v":"Teenage conceptions (aged under 18): rates per 1,000 females aged 15-17"},2011,"01V",60.100655609906454,null,2027.9999986531238,29.635431779990981,25.658925710911657,33.892377894885534,35.330839380107328,40.602492033989293,null,34.3221332255224,29.648176064878747,"B","Y54","X24","11803121","Byar"]
[1180312,{"$f":"VLOOKUP(tblData[[#This Row],[Indicator ID]],'Similar 10 CCGs'!$A$6:$C$160,3,FALSE)","v":"Teenage conceptions (aged under 18): rates per 1,000 females aged 15-17"},2011,"01W",172.73609040660307,null,5143.8000000000011,33.58141654158463,30.779415030275949,36.573263550781661,35.330839380107328,40.602492033989293,null,38.340545450384965,33.846450953226586,"","Y54","X24","11803121","Byar"]
[1180312,{"$f":"VLOOKUP(tblData[[#This Row],[Indicator ID]],'Similar 10 CCGs'!$A$6:$C$160,3,FALSE)","v":"Teenage conceptions (aged under 18): rates per 1,000 females aged 15-17"},2011,"01X",160.76897641536098,null,3451.8000000000011,46.575403098488017,42.617005412404701,50.80674234823676,35.330839380107328,40.602492033989293,null,43.227471105585039,39.103335141709891,"A","Y54","X24","11803121","Byar"]
[1180312,{"$f":"VLOOKUP(tblData[[#This Row],[Indicator ID]],'Similar 10 CCGs'!$A$6:$C$160,3,FALSE)","v":"Teenage conceptions (aged under 18): rates per 1,000 females aged 15-17"},2011,"01Y",219.50640620903394,null,4469.3999999999996,49.113170942192234,45.276063526676836,53.18261788080784,35.330839380107328,40.602492033989293,null,46.662428426154619,42.346033646646859,"A","Y54","X24","11803121","Byar"]
[1180312,{"$f":"VLOOKUP(tblData[[#This Row],[Indicator ID]],'Similar 10 CCGs'!$A$6:$C$160,3,FALSE)","v":"Teenage conceptions (aged under 18): rates per 1,000 females aged 15-17"},2011,"02A",114.39741243835755,null,3952.7999999999997,28.940855200960726,26.031141048842372,32.097342898341765,35.330839380107328,40.602492033989293,null,34.540545447175489,31.835525285745131,"","Y54","X24","11803121","Byar"]
[1180312,{"$f":"VLOOKUP(tblData[[#This Row],[Indicator ID]],'Similar 10 CCGs'!$A$6:$C$160,3,FALSE)","v":"Teenage conceptions (aged under 18): rates per 1,000 females aged 15-17"},2011,"02D",58.609061196842084,null,1855.8000000000002,31.581561157906066,26.834217595757949,36.637371652864559,35.330839380107328,40.602492033989293,null,33.007784965716183,28.347765205974714,"B","Y54","X24","11803121","Byar"]
[1180312,{"$f":"VLOOKUP(tblData[[#This Row],[Indicator ID]],'Similar 10 CCGs'!$A$6:$C$160,3,FALSE)","v":"Teenage conceptions (aged under 18): rates per 1,000 females aged 15-17"},2011,"02E",131.46027756595586,null,3646.2,36.054050125049606,32.584961942305476,39.791118640044104,35.330839380107328,40.602492033989293,null,40.780559317125743,35.615583278074496,"B","Y54","X24","11803121","Byar"]
[1180312,{"$f":"VLOOKUP(tblData[[#This Row],[Indicator ID]],'Similar 10 CCGs'!$A$6:$C$160,3,FALSE)","v":"Teenage conceptions (aged under 18): rates per 1,000 females aged 15-17"},2011,"02F",144.35790501198537,null,4551,31.720040653040073,28.665850067771935,34.972682601628051,35.330839380107328,40.602492033989293,null,34.030559515563148,29.138847251137502,"B","Y54","X24","11803121","Byar"]
[1180312,{"$f":"VLOOKUP(tblData[[#This Row],[Indicator ID]],'Similar 10 CCGs'!$A$6:$C$160,3,FALSE)","v":"Teenage conceptions (aged under 18): rates per 1,000 females aged 15-17"},2011,"02G",73.980713281373056,null,2164.8000037087481,34.174387081776082,29.620402320308543,39.22350666296937,35.330839380107328,40.602492033989293,null,38.529787681778963,30.83559067905643,"B","Y54","X24","11803121","Byar"]
[1180312,{"$f":"VLOOKUP(tblData[[#This Row],[Indicator ID]],'Similar 10 CCGs'!$A$6:$C$160,3,FALSE)","v":"Teenage conceptions (aged under 18): rates per 1,000 females aged 15-17"},2011,"02H",255.50198551932559,null,5783.4000000000005,44.178508406702903,41.110836051104286,47.413021647422795,35.330839380107328,40.602492033989293,null,44.007979607112659,40.47850836816837,"B","Y54","X24","11803121","Byar"]
[1180312,{"$f":"VLOOKUP(tblData[[#This Row],[Indicator ID]],'Similar 10 CCGs'!$A$6:$C$160,3,FALSE)","v":"Teenage conceptions (aged under 18): rates per 1,000 females aged 15-17"},2011,"02M",87.728530578046104,null,2585.3999999999987,33.932285363211165,29.935499430153882,38.352919019633809,35.330839380107328,40.602492033989293,null,32.255202167971369,29.594603662908789,"B","Y54","X24","11803121","Byar"]
[1180312,{"$f":"VLOOKUP(tblData[[#This Row],[Indicator ID]],'Similar 10 CCGs'!$A$6:$C$160,3,FALSE)","v":"Teenage conceptions (aged under 18): rates per 1,000 females aged 15-17"},2011,"02N",85.206165420864664,null,2786.4000017574926,30.57930138067821,26.727030820154624,34.608065663556836,35.330839380107328,40.602492033989293,null,33.628755867741049,27.677156463408608,"","Y54","X24","11803121","Byar"]
[1180312,{"$f":"VLOOKUP(tblData[[#This Row],[Indicator ID]],'Similar 10 CCGs'!$A$6:$C$160,3,FALSE)","v":"Teenage conceptions (aged under 18): rates per 1,000 females aged 15-17"},2011,"02P",228.0931754529997,null,4542.6000000000013,50.212031755602439,46.487208168062502,54.158464819413993,35.330839380107328,40.602492033989293,null,45.230309180409378,42.901461396827891,"A","Y54","X24","11803121","Byar"]
[1180312,{"$f":"VLOOKUP(tblData[[#This Row],[Indicator ID]],'Similar 10 CCGs'!$A$6:$C$160,3,FALSE)","v":"Teenage conceptions (aged under 18): rates per 1,000 females aged 15-17"},2011,"02Q",65.849658816612447,null,2024.3999999999994,32.527987955252158,28.212494983396994,37.31268557898207,35.330839380107328,40.602492033989293,null,41.112289343487063,35.424578876430857,"","Y54","X24","11803121","Byar"]
[1180312,{"$f":"VLOOKUP(tblData[[#This Row],[Indicator ID]],'Similar 10 CCGs'!$A$6:$C$160,3,FALSE)","v":"Teenage conceptions (aged under 18): rates per 1,000 females aged 15-17"},2011,"02R",210.19331843011577,null,5995.8000028603446,35.056759453257506,32.412920988226588,37.82172671354504,35.330839380107328,40.602492033989293,null,42.518032512631478,38.83427323416457,"","Y54","X24","11803121","Byar"]
[1180312,{"$f":"VLOOKUP(tblData[[#This Row],[Indicator ID]],'Similar 10 CCGs'!$A$6:$C$160,3,FALSE)","v":"Teenage conceptions (aged under 18): rates per 1,000 females aged 15-17"},2011,"02T",157.20761573684109,null,3844.1999996992299,40.894754630128766,37.26760174791972,44.779410487018446,35.330839380107328,40.602492033989293,null,39.212532265435172,33.436000891081143,"B","Y54","X24","11803121","Byar"]
[1180312,{"$f":"VLOOKUP(tblData[[#This Row],[Indicator ID]],'Similar 10 CCGs'!$A$6:$C$160,3,FALSE)","v":"Teenage conceptions (aged under 18): rates per 1,000 females aged 15-17"},2011,"02V",143.48968924745424,null,3397.1999999999994,42.237633712308444,38.118363439175297,46.50958201041049,35.330839380107328,40.602492033989293,null,37.295203485390637,32.204646253376652,"B","Y54","X24","11803121","Byar"]
[1180312,{"$f":"VLOOKUP(tblData[[#This Row],[Indicator ID]],'Similar 10 CCGs'!$A$6:$C$160,3,FALSE)","v":"Teenage conceptions (aged under 18): rates per 1,000 females aged 15-17"},2011,"02W",92.639217565610807,null,2650.8000000000006,34.947645075302091,30.538428050043247,39.558872606633329,35.330839380107328,40.602492033989293,null,37.117633421089437,32.340039654111706,"B","Y54","X24","11803121","Byar"]
[1180312,{"$f":"VLOOKUP(tblData[[#This Row],[Indicator ID]],'Similar 10 CCGs'!$A$6:$C$160,3,FALSE)","v":"Teenage conceptions (aged under 18): rates per 1,000 females aged 15-17"},2011,"02X",270.05793024371167,null,5694.6000044617158,47.423511753612445,44.179981622456651,50.84161768154285,35.330839380107328,40.602492033989293,null,44.388370309954141,41.567179085277154,"A","Y54","X24","11803121","Byar"]
[1180312,{"$f":"VLOOKUP(tblData[[#This Row],[Indicator ID]],'Similar 10 CCGs'!$A$6:$C$160,3,FALSE)","v":"Teenage conceptions (aged under 18): rates per 1,000 females aged 15-17"},2011,"02Y",167.33128521994192,null,5448.6000000000013,30.710877146412269,28.048385796409072,33.546530369292469,35.330839380107328,40.602492033989293,null,29.840720709464694,25.103487906111233,"B","Y54","X24","11803121","Byar"]
[1180312,{"$f":"VLOOKUP(tblData[[#This Row],[Indicator ID]],'Similar 10 CCGs'!$A$6:$C$160,3,FALSE)","v":"Teenage conceptions (aged under 18): rates per 1,000 females aged 15-17"},2011,"03A",178.57649775635309,null,4343.4000035093359,41.11444895981689,37.627812197731465,44.773688903308667,35.330839380107328,40.602492033989293,null,41.295719904212767,36.446375003986965,"B","Y54","X24","11803121","Byar"]
[1180312,{"$f":"VLOOKUP(tblData[[#This Row],[Indicator ID]],'Similar 10 CCGs'!$A$6:$C$160,3,FALSE)","v":"Teenage conceptions (aged under 18): rates per 1,000 females aged 15-17"},2011,"03C",336.43992555918811,null,7831.8000124557047,42.958186499159019,39.863853944502978,46.167208440943462,35.330839380107328,40.602492033989293,null,40.595715905009449,35.44607743439613,"B","Y54","X24","11803121","Byar"]
[1180312,{"$f":"VLOOKUP(tblData[[#This Row],[Indicator ID]],'Similar 10 CCGs'!$A$6:$C$160,3,FALSE)","v":"Teenage conceptions (aged under 18): rates per 1,000 females aged 15-17"},2011,"03D",59.456532213560173,null,2363.9999980051766,25.150817370444845,21.928932648664212,28.878894063051625,35.330839380107328,40.602492033989293,null,27.878283729130526,25.366813996681543,"","Y54","X24","11803121","Byar"]
[1180312,{"$f":"VLOOKUP(tblData[[#This Row],[Indicator ID]],'Similar 10 CCGs'!$A$6:$C$160,3,FALSE)","v":"Teenage conceptions (aged under 18): rates per 1,000 females aged 15-17"},2011,"03E",44.793696438981272,null,2708.3999999999996,16.538803883835946,14.005937899133574,19.396179566175036,35.330839380107328,40.602492033989293,null,28.775661348906464,26.486793249604773,"C","Y54","X24","11803121","Byar"]
[1180312,{"$f":"VLOOKUP(tblData[[#This Row],[Indicator ID]],'Similar 10 CCGs'!$A$6:$C$160,3,FALSE)","v":"Teenage conceptions (aged under 18): rates per 1,000 females aged 15-17"},2011,"03F",306.56229150480391,null,5656.2000021542344,54.199337256116443,50.511555855511318,58.084337383678815,35.330839380107328,40.602492033989293,null,48.591815975327535,45.353602188278487,"A","Y54","X24","11803121","Byar"]
[1180312,{"$f":"VLOOKUP(tblData[[#This Row],[Indicator ID]],'Similar 10 CCGs'!$A$6:$C$160,3,FALSE)","v":"Teenage conceptions (aged under 18): rates per 1,000 females aged 15-17"},2011,"03G",200.9242636721452,null,4676.4000011251983,42.965585412667949,39.335520715632434,46.730196053937213,35.330839380107328,40.602492033989293,null,44.839707063087943,40.386697936453103,"B","Y54","X24","11803121","Byar"]
[1180312,{"$f":"VLOOKUP(tblData[[#This Row],[Indicator ID]],'Similar 10 CCGs'!$A$6:$C$160,3,FALSE)","v":"Teenage conceptions (aged under 18): rates per 1,000 females aged 15-17"},2011,"03H",167.07114776962885,null,3143.4000010670902,53.149821121369598,48.578459731922052,58.035401329571563,35.330839380107328,40.602492033989293,null,41.060385207239634,34.842974185635875,"A","Y54","X24","11803121","Byar"]
[1180312,{"$f":"VLOOKUP(tblData[[#This Row],[Indicator ID]],'Similar 10 CCGs'!$A$6:$C$160,3,FALSE)","v":"Teenage conceptions (aged under 18): rates per 1,000 females aged 15-17"},2011,"03J",143.44179349710126,null,3489.6,41.105511662397198,37.14354390508106,45.263613484201642,35.330839380107328,40.602492033989293,null,39.88909766035249,35.333044611946647,"B","Y54","X24","11803121","Byar"]
[1180312,{"$f":"VLOOKUP(tblData[[#This Row],[Indicator ID]],'Similar 10 CCGs'!$A$6:$C$160,3,FALSE)","v":"Teenage conceptions (aged under 18): rates per 1,000 females aged 15-17"},2011,"03K",128.55651053574277,null,2987.3999999999996,43.032908393835037,38.828856339731175,47.564738581883311,35.330839380107328,40.602492033989293,null,35.949382375265373,32.02111501478182,"B","Y54","X24","11803121","Byar"]
[1180312,{"$f":"VLOOKUP(tblData[[#This Row],[Indicator ID]],'Similar 10 CCGs'!$A$6:$C$160,3,FALSE)","v":"Teenage conceptions (aged under 18): rates per 1,000 females aged 15-17"},2011,"03L",211.1862759958116,null,4760.4000032117792,44.363136680389673,40.94755880047061,47.982728258147056,35.330839380107328,40.602492033989293,null,46.877244520344071,43.444163730779216,"B","Y54","X24","11803121","Byar"]
[1180312,{"$f":"VLOOKUP(tblData[[#This Row],[Indicator ID]],'Similar 10 CCGs'!$A$6:$C$160,3,FALSE)","v":"Teenage conceptions (aged under 18): rates per 1,000 females aged 15-17"},2011,"03M",68.164391297003533,null,2103.5999956692808,32.403684843760594,27.514006202350192,37.837655664356021,35.330839380107328,40.602492033989293,null,34.538374916887378,28.39520694080386,"B","Y54","X24","11803121","Byar"]
[1180312,{"$f":"VLOOKUP(tblData[[#This Row],[Indicator ID]],'Similar 10 CCGs'!$A$6:$C$160,3,FALSE)","v":"Teenage conceptions (aged under 18): rates per 1,000 females aged 15-17"},2011,"03N",465.09844487754651,null,11696.399999680334,39.764238987231778,37.432649845046939,42.203105125283145,35.330839380107328,40.602492033989293,null,41.453463186305427,37.164444509739333,"B","Y54","X24","11803121","Byar"]
[1180312,{"$f":"VLOOKUP(tblData[[#This Row],[Indicator ID]],'Similar 10 CCGs'!$A$6:$C$160,3,FALSE)","v":"Teenage conceptions (aged under 18): rates per 1,000 females aged 15-17"},2011,"03Q",163.265348126579,null,6701.9999991583272,24.360690562083366,21.868898597722854,27.103602215131588,35.330839380107328,40.602492033989293,null,29.045622540750827,24.683135289968575,"","Y54","X24","11803121","Byar"]
[1180312,{"$f":"VLOOKUP(tblData[[#This Row],[Indicator ID]],'Similar 10 CCGs'!$A$6:$C$160,3,FALSE)","v":"Teenage conceptions (aged under 18): rates per 1,000 females aged 15-17"},2011,"03R",266.80776476710514,null,6372.0000004972453,41.871902816428836,39.001790579755109,44.898627580995075,35.330839380107328,40.602492033989293,null,44.632609567694331,41.343613192190709,"","Y54","X24","11803121","Byar"]
[1180312,{"$f":"VLOOKUP(tblData[[#This Row],[Indicator ID]],'Similar 10 CCGs'!$A$6:$C$160,3,FALSE)","v":"Teenage conceptions (aged under 18): rates per 1,000 females aged 15-17"},2011,"03T",157.724008957823,null,4039.2000017049832,39.048328602506999,35.535992057133953,42.884535699850588,35.330839380107328,35.115834126821326,null,36.040300493801325,31.893776660844292,"A","Y55","X24","11803121","Byar"]
[1180312,{"$f":"VLOOKUP(tblData[[#This Row],[Indicator ID]],'Similar 10 CCGs'!$A$6:$C$160,3,FALSE)","v":"Teenage conceptions (aged under 18): rates per 1,000 females aged 15-17"},2011,"03V",70.264810914604055,null,1242.6000010234129,56.546604584527223,48.906744222521652,65.034625976623744,35.330839380107328,35.115834126821326,null,41.777758122348864,35.662235153825947,"A","Y55","X24","11803121","Byar"]
[1180312,{"$f":"VLOOKUP(tblData[[#This Row],[Indicator ID]],'Similar 10 CCGs'!$A$6:$C$160,3,FALSE)","v":"Teenage conceptions (aged under 18): rates per 1,000 females aged 15-17"},2011,"03W",136.3119798119364,null,5738.3999980566477,23.754353105064038,21.369062219172832,26.458985201472533,35.330839380107328,35.115834126821326,null,24.695561592224937,21.174810792182477,"","Y55","X24","11803121","Byar"]
[1180312,{"$f":"VLOOKUP(tblData[[#This Row],[Indicator ID]],'Similar 10 CCGs'!$A$6:$C$160,3,FALSE)","v":"Teenage conceptions (aged under 18): rates per 1,000 females aged 15-17"},2011,"03X",52.737265302474654,null,1746.5999999999997,30.194243274060842,25.76319129779959,35.114622985956451,35.330839380107328,35.115834126821326,null,37.511638806436068,32.855238432195399,"","Y55","X24","11803121","Byar"]
[1180312,{"$f":"VLOOKUP(tblData[[#This Row],[Indicator ID]],'Similar 10 CCGs'!$A$6:$C$160,3,FALSE)","v":"Teenage conceptions (aged under 18): rates per 1,000 females aged 15-17"},2011,"03Y",58.803398877274319,null,1840.199999984598,31.954895597090797,27.135265444020973,37.396398632158473,35.330839380107328,35.115834126821326,null,39.180239422619195,33.90214680747269,"B","Y55","X24","11803121","Byar"]
[1180312,{"$f":"VLOOKUP(tblData[[#This Row],[Indicator ID]],'Similar 10 CCGs'!$A$6:$C$160,3,FALSE)","v":"Teenage conceptions (aged under 18): rates per 1,000 females aged 15-17"},2011,"04C",297.0966306882367,null,7624.8,38.964514569331214,36.024976595543251,42.077987261719024,35.330839380107328,35.115834126821326,null,38.378067622768199,32.324403868615512,"","Y55","X24","11803121","Byar"]
[1180312,{"$f":"VLOOKUP(tblData[[#This Row],[Indicator ID]],'Similar 10 CCGs'!$A$6:$C$160,3,FALSE)","v":"Teenage conceptions (aged under 18): rates per 1,000 females aged 15-17"},2011,"04D",174.70248565086214,null,4520.3999999999987,38.647572261495043,34.382691276757555,43.343213479237363,35.330839380107328,35.115834126821326,null,37.136735109071893,31.746552898082598,"B","Y55","X24","11803121","Byar"]
[1180312,{"$f":"VLOOKUP(tblData[[#This Row],[Indicator ID]],'Similar 10 CCGs'!$A$6:$C$160,3,FALSE)","v":"Teenage conceptions (aged under 18): rates per 1,000 females aged 15-17"},2011,"04E",143.95459398692293,null,3261.0000005793913,44.144309709091111,40.189408011426544,48.484411032705417,35.330839380107328,35.115834126821326,null,42.178710350720038,37.806902362480976,"A","Y55","X24","11803121","Byar"]
[1180312,{"$f":"VLOOKUP(tblData[[#This Row],[Indicator ID]],'Similar 10 CCGs'!$A$6:$C$160,3,FALSE)","v":"Teenage conceptions (aged under 18): rates per 1,000 females aged 15-17"},2011,"04F",137.89437680562855,null,4599.0000002335501,29.983556598961929,27.094985896729483,33.09324220481561,35.330839380107328,35.115834126821326,null,28.388234933932075,23.382129690172995,"","Y55","X24","11803121","Byar"]
[1180312,{"$f":"VLOOKUP(tblData[[#This Row],[Indicator ID]],'Similar 10 CCGs'!$A$6:$C$160,3,FALSE)","v":"Teenage conceptions (aged under 18): rates per 1,000 females aged 15-17"},2011,"04G",393.70453728725943,null,11114.999998635398,35.421011006351328,33.178193912794924,37.828055409723454,35.330839380107328,35.115834126821326,null,27.528510759018928,24.001774186509028,"A","Y55","X24","11803121","Byar"]
[1180312,{"$f":"VLOOKUP(tblData[[#This Row],[Indicator ID]],'Similar 10 CCGs'!$A$6:$C$160,3,FALSE)","v":"Teenage conceptions (aged under 18): rates per 1,000 females aged 15-17"},2011,"04H",78.757126158967921,null,2300.3999967616687,34.236274678245664,29.962849880627072,38.973147173651739,35.330839380107328,35.115834126821326,null,35.40147038876502,31.016482726955541,"B","Y55","X24","11803121","Byar"]
[1180312,{"$f":"VLOOKUP(tblData[[#This Row],[Indicator ID]],'Similar 10 CCGs'!$A$6:$C$160,3,FALSE)","v":"Teenage conceptions (aged under 18): rates per 1,000 females aged 15-17"},2011,"04J",153.01748222215573,null,4944.5999987164823,30.946382369023979,28.112100087727086,34.093658706424407,35.330839380107328,35.115834126821326,null,32.631165538120008,30.307075202779735,"B","Y55","X24","11803121","Byar"]
[1180312,{"$f":"VLOOKUP(tblData[[#This Row],[Indicator ID]],'Similar 10 CCGs'!$A$6:$C$160,3,FALSE)","v":"Teenage conceptions (aged under 18): rates per 1,000 females aged 15-17"},2011,"04K",417.46661868060369,null,7978.7999824732624,52.321980698555841,48.628969028106908,56.216374406479574,35.330839380107328,35.115834126821326,null,45.185017935625119,40.134178650857542,"A","Y55","X24","11803121","Byar"]
[1180312,{"$f":"VLOOKUP(tblData[[#This Row],[Indicator ID]],'Similar 10 CCGs'!$A$6:$C$160,3,FALSE)","v":"Teenage conceptions (aged under 18): rates per 1,000 females aged 15-17"},2011,"04L",88.737381375744789,null,2456.4000010940308,36.124972046988667,32.224842212115703,40.454668881599453,35.330839380107328,35.115834126821326,null,35.564899184427304,30.505169913432873,"B","Y55","X24","11803121","Byar"]
[1180312,{"$f":"VLOOKUP(tblData[[#This Row],[Indicator ID]],'Similar 10 CCGs'!$A$6:$C$160,3,FALSE)","v":"Teenage conceptions (aged under 18): rates per 1,000 females aged 15-17"},2011,"04M",42.953451616642255,null,1528.2,28.10721869954342,23.666032730793567,33.127667638066271,35.330839380107328,35.115834126821326,null,31.601949212719127,28.509345749904547,"B","Y55","X24","11803121","Byar"]
[1180312,{"$f":"VLOOKUP(tblData[[#This Row],[Indicator ID]],'Similar 10 CCGs'!$A$6:$C$160,3,FALSE)","v":"Teenage conceptions (aged under 18): rates per 1,000 females aged 15-17"},2011,"04N",38.388841138595915,null,1994.9999959705308,19.242526925379991,16.158585910188233,22.826844371096474,35.330839380107328,35.115834126821326,null,24.285149637127105,20.870923858059388,"C","Y55","X24","11803121","Byar"]
[1180312,{"$f":"VLOOKUP(tblData[[#This Row],[Indicator ID]],'Similar 10 CCGs'!$A$6:$C$160,3,FALSE)","v":"Teenage conceptions (aged under 18): rates per 1,000 females aged 15-17"},2011,"04Q",64.445267338414496,null,2294.3999999999996,28.088069795334079,24.158044596483876,32.426970404869913,35.330839380107328,35.115834126821326,null,27.726297531712259,23.478022633512378,"B","Y55","X24","11803121","Byar"]
[1180312,{"$f":"VLOOKUP(tblData[[#This Row],[Indicator ID]],'Similar 10 CCGs'!$A$6:$C$160,3,FALSE)","v":"Teenage conceptions (aged under 18): rates per 1,000 females aged 15-17"},2011,"04R",346.90780171473335,null,9436.8000000000029,36.761169222059728,34.246260230581179,39.432884178280645,35.330839380107328,35.115834126821326,null,29.520548945897957,25.498644897387763,"A","Y55","X24","11803121","Byar"]
[1180312,{"$f":"VLOOKUP(tblData[[#This Row],[Indicator ID]],'Similar 10 CCGs'!$A$6:$C$160,3,FALSE)","v":"Teenage conceptions (aged under 18): rates per 1,000 females aged 15-17"},2011,"04V",188.2818218683006,null,6634.8000035568439,28.377919721372876,26.041782757609415,30.942536500601278,35.330839380107328,35.115834126821326,null,29.485868323290333,24.086300819055094,"","Y55","X24","11803121","Byar"]
[1180312,{"$f":"VLOOKUP(tblData[[#This Row],[Indicator ID]],'Similar 10 CCGs'!$A$6:$C$160,3,FALSE)","v":"Teenage conceptions (aged under 18): rates per 1,000 females aged 15-17"},2011,"04X",200.70144512318109,null,4838.3999985841774,41.480953451949148,37.978385729861479,45.0872596628802,35.330839380107328,35.115834126821326,null,39.877763795750418,34.58854333581386,"B","Y55","X24","11803121","Byar"]
[1180312,{"$f":"VLOOKUP(tblData[[#This Row],[Indicator ID]],'Similar 10 CCGs'!$A$6:$C$160,3,FALSE)","v":"Teenage conceptions (aged under 18): rates per 1,000 females aged 15-17"},2011,"04Y",107.93684749099603,null,2460.5999999001683,43.866068233510227,38.911676523146198,49.288722378507146,35.330839380107328,35.115834126821326,null,36.939139453041747,33.198002155545581,"A","Y55","X24","11803121","Byar"]
[1180312,{"$f":"VLOOKUP(tblData[[#This Row],[Indicator ID]],'Similar 10 CCGs'!$A$6:$C$160,3,FALSE)","v":"Teenage conceptions (aged under 18): rates per 1,000 females aged 15-17"},2011,"05A",426.8848928791121,null,9077.4000016382124,47.027220658125842,44.085126853022942,50.118767070446594,35.330839380107328,35.115834126821326,null,42.029685205481741,38.068351343296086,"B","Y55","X24","11803121","Byar"]
[1180312,{"$f":"VLOOKUP(tblData[[#This Row],[Indicator ID]],'Similar 10 CCGs'!$A$6:$C$160,3,FALSE)","v":"Teenage conceptions (aged under 18): rates per 1,000 females aged 15-17"},2011,"05C",222.7920019212863,null,5642.3999975000843,39.485325751452628,36.558013030608237,42.583995081754331,35.330839380107328,35.115834126821326,null,35.565355174198395,30.931971156902705,"B","Y55","X24","11803121","Byar"]
[1180312,{"$f":"VLOOKUP(tblData[[#This Row],[Indicator ID]],'Similar 10 CCGs'!$A$6:$C$160,3,FALSE)","v":"Teenage conceptions (aged under 18): rates per 1,000 females aged 15-17"},2011,"05D",82.466241421174203,null,2341.2000002243208,35.223919961247539,31.039260269810935,39.830304441112546,35.330839380107328,35.115834126821326,null,36.985826189756565,31.551509473505195,"B","Y55","X24","11803121","Byar"]
[1180312,{"$f":"VLOOKUP(tblData[[#This Row],[Indicator ID]],'Similar 10 CCGs'!$A$6:$C$160,3,FALSE)","v":"Teenage conceptions (aged under 18): rates per 1,000 females aged 15-17"},2011,"05F",88.129831207389955,null,3052.7999998267169,28.868524375128533,25.536739471367223,32.508102533936288,35.330839380107328,35.115834126821326,null,30.959046558877283,25.352172700505967,"B","Y55","X24","11803121","Byar"]
[1180312,{"$f":"VLOOKUP(tblData[[#This Row],[Indicator ID]],'Similar 10 CCGs'!$A$6:$C$160,3,FALSE)","v":"Teenage conceptions (aged under 18): rates per 1,000 females aged 15-17"},2011,"05G",124.99277916392673,null,3781.1999941498684,33.056378757355041,29.591347143535803,36.883611601301823,35.330839380107328,35.115834126821326,null,33.044839384850732,30.443185098396164,"B","Y55","X24","11803121","Byar"]
[1180312,{"$f":"VLOOKUP(tblData[[#This Row],[Indicator ID]],'Similar 10 CCGs'!$A$6:$C$160,3,FALSE)","v":"Teenage conceptions (aged under 18): rates per 1,000 females aged 15-17"},2011,"05H",150.45974152784251,null,3250.799996938506,46.28391216609463,42.063752083110856,50.854341821056224,35.330839380107328,35.115834126821326,null,36.872859221770589,31.729831690924506,"A","Y55","X24","11803121","Byar"]
[1180312,{"$f":"VLOOKUP(tblData[[#This Row],[Indicator ID]],'Similar 10 CCGs'!$A$6:$C$160,3,FALSE)","v":"Teenage conceptions (aged under 18): rates per 1,000 females aged 15-17"},2011,"05J",96.733283308960509,null,3055.2,31.661849734538006,27.754057098940365,36.050422073042924,35.330839380107328,35.115834126821326,null,36.511446344383891,32.694211073739034,"B","Y55","X24","11803121","Byar"]
[1180312,{"$f":"VLOOKUP(tblData[[#This Row],[Indicator ID]],'Similar 10 CCGs'!$A$6:$C$160,3,FALSE)","v":"Teenage conceptions (aged under 18): rates per 1,000 females aged 15-17"},2011,"05L",492.42984049442896,null,10437.000008481891,47.181167011041815,44.583191630772291,49.910811748013899,35.330839380107328,35.115834126821326,null,40.221876186672006,33.565828101329984,"B","Y55","X24","11803121","Byar"]
[1180312,{"$f":"VLOOKUP(tblData[[#This Row],[Indicator ID]],'Similar 10 CCGs'!$A$6:$C$160,3,FALSE)","v":"Teenage conceptions (aged under 18): rates per 1,000 females aged 15-17"},2011,"05N",131.05843761691955,null,5089.800002447827,25.749231316336573,23.366074457423476,28.309633847942141,35.330839380107328,35.115834126821326,null,28.382084816824101,25.446150723651549,"B","Y55","X24","11803121","Byar"]
[1180312,{"$f":"VLOOKUP(tblData[[#This Row],[Indicator ID]],'Similar 10 CCGs'!$A$6:$C$160,3,FALSE)","v":"Teenage conceptions (aged under 18): rates per 1,000 females aged 15-17"},2011,"05P",122.20815755993839,null,4335.0000000117352,28.191039806137844,25.576304004248687,31.029298743573715,35.330839380107328,35.115834126821326,null,34.185468975412761,29.847019656881209,"","Y55","X24","11803121","Byar"]
[1180312,{"$f":"VLOOKUP(tblData[[#This Row],[Indicator ID]],'Similar 10 CCGs'!$A$6:$C$160,3,FALSE)","v":"Teenage conceptions (aged under 18): rates per 1,000 females aged 15-17"},2011,"05Q",142.59488447197364,null,3661.7999993683884,38.941199545734165,35.759252565994259,42.495711108355493,35.330839380107328,35.115834126821326,null,34.360009474347393,28.968767217802945,"A","Y55","X24","11803121","Byar"]
[1180312,{"$f":"VLOOKUP(tblData[[#This Row],[Indicator ID]],'Similar 10 CCGs'!$A$6:$C$160,3,FALSE)","v":"Teenage conceptions (aged under 18): rates per 1,000 females aged 15-17"},2011,"05R",111.58634662401072,null,4201.7999908177217,26.556796341535204,23.662574336272058,29.78889834050409,35.330839380107328,35.115834126821326,null,26.53423895604169,22.657985172127411,"B","Y55","X24","11803121","Byar"]
[1180312,{"$f":"VLOOKUP(tblData[[#This Row],[Indicator ID]],'Similar 10 CCGs'!$A$6:$C$160,3,FALSE)","v":"Teenage conceptions (aged under 18): rates per 1,000 females aged 15-17"},2011,"05T",164.2326491420732,null,5232.0000020953275,31.390032315806732,28.758477609640373,34.321830426407594,35.330839380107328,35.115834126821326,null,29.670155189999114,26.958146306249404,"B","Y55","X24","11803121","Byar"]
[1180312,{"$f":"VLOOKUP(tblData[[#This Row],[Indicator ID]],'Similar 10 CCGs'!$A$6:$C$160,3,FALSE)","v":"Teenage conceptions (aged under 18): rates per 1,000 females aged 15-17"},2011,"05V",73.068756855054005,null,2405.400000170087,30.376967177969266,26.503796251990956,34.672331370958538,35.330839380107328,35.115834126821326,null,28.482773381647341,25.057691728324436,"B","Y55","X24","11803121","Byar"]
[1180312,{"$f":"VLOOKUP(tblData[[#This Row],[Indicator ID]],'Similar 10 CCGs'!$A$6:$C$160,3,FALSE)","v":"Teenage conceptions (aged under 18): rates per 1,000 females aged 15-17"},2011,"05W",250.65155134648822,null,4955.9999973319,50.575373583823321,46.781923256233405,54.592937188494062,35.330839380107328,35.115834126821326,null,46.823209957558717,42.416431771614512,"B","Y55","X24","11803121","Byar"]
[1180312,{"$f":"VLOOKUP(tblData[[#This Row],[Indicator ID]],'Similar 10 CCGs'!$A$6:$C$160,3,FALSE)","v":"Teenage conceptions (aged under 18): rates per 1,000 females aged 15-17"},2011,"05X",153.889378990626,null,3405.5999949385046,45.187156218974799,41.066118239233198,49.605420712932961,35.330839380107328,35.115834126821326,null,41.282768322850629,37.635610576547251,"B","Y55","X24","11803121","Byar"]
[1180312,{"$f":"VLOOKUP(tblData[[#This Row],[Indicator ID]],'Similar 10 CCGs'!$A$6:$C$160,3,FALSE)","v":"Teenage conceptions (aged under 18): rates per 1,000 females aged 15-17"},2011,"05Y",268.2761898969888,null,5096.9999974369857,52.634135772393734,49.016735493311927,56.443649685889127,35.330839380107328,35.115834126821326,null,43.937286624553195,39.623392424995458,"A","Y55","X24","11803121","Byar"]
[1180312,{"$f":"VLOOKUP(tblData[[#This Row],[Indicator ID]],'Similar 10 CCGs'!$A$6:$C$160,3,FALSE)","v":"Teenage conceptions (aged under 18): rates per 1,000 females aged 15-17"},2011,"06A",252.05324019911228,null,4878.60000159429,51.665076070336397,47.879728683104048,55.665244971389356,35.330839380107328,35.115834126821326,null,43.162887515032665,37.347965469995685,"A","Y55","X24","11803121","Byar"]
[1180312,{"$f":"VLOOKUP(tblData[[#This Row],[Indicator ID]],'Similar 10 CCGs'!$A$6:$C$160,3,FALSE)","v":"Teenage conceptions (aged under 18): rates per 1,000 females aged 15-17"},2011,"06D",55.516141554788213,null,1813.8000006566085,30.607642261931289,26.101023795661625,35.689628666871201,35.330839380107328,35.115834126821326,null,32.629901632432613,29.350515893376489,"B","Y55","X24","11803121","Byar"]
[1180312,{"$f":"VLOOKUP(tblData[[#This Row],[Indicator ID]],'Similar 10 CCGs'!$A$6:$C$160,3,FALSE)","v":"Teenage conceptions (aged under 18): rates per 1,000 females aged 15-17"},2011,"06F",252.58686010565771,null,7661.9999986197572,32.966178563189644,30.728890293820449,35.366140270173709,35.330839380107328,35.115834126821326,null,29.255978712050819,25.227834625691862,"A","Y55","X24","11803121","Byar"]
[1180312,{"$f":"VLOOKUP(tblData[[#This Row],[Indicator ID]],'Similar 10 CCGs'!$A$6:$C$160,3,FALSE)","v":"Teenage conceptions (aged under 18): rates per 1,000 females aged 15-17"},2011,"06H",474.0434662538085,null,15719.999990726345,30.15543680238293,28.150539966088914,32.303950329140307,35.330839380107328,35.115834126821326,null,28.279463926831561,23.770784587180721,"B","Y55","X24","11803121","Byar"]
[1180312,{"$f":"VLOOKUP(tblData[[#This Row],[Indicator ID]],'Similar 10 CCGs'!$A$6:$C$160,3,FALSE)","v":"Teenage conceptions (aged under 18): rates per 1,000 females aged 15-17"},2011,"06K",265.76811640370715,null,10253.399998054671,25.919998873947186,24.55648685095305,27.45820346929937,35.330839380107328,35.115834126821326,null,28.168625735739234,24.289272482368879,"B","Y55","X24","11803121","Byar"]
[1180312,{"$f":"VLOOKUP(tblData[[#This Row],[Indicator ID]],'Similar 10 CCGs'!$A$6:$C$160,3,FALSE)","v":"Teenage conceptions (aged under 18): rates per 1,000 females aged 15-17"},2011,"06L",169.63520603767751,null,6668.4000000000005,25.438666852270032,22.83464968846803,28.294754440765992,35.330839380107328,35.115834126821326,null,27.595312642779714,24.770546282397397,"","Y55","X24","11803121","Byar"]
[1180312,{"$f":"VLOOKUP(tblData[[#This Row],[Indicator ID]],'Similar 10 CCGs'!$A$6:$C$160,3,FALSE)","v":"Teenage conceptions (aged under 18): rates per 1,000 females aged 15-17"},2011,"06M",186.06902641375495,null,4045.2000000000003,45.997485022682426,42.513563597893231,49.821435782834975,35.330839380107328,35.115834126821326,null,34.62346514054903,31.642072815923505,"A","Y55","X24","11803121","Byar"]
[1180312,{"$f":"VLOOKUP(tblData[[#This Row],[Indicator ID]],'Similar 10 CCGs'!$A$6:$C$160,3,FALSE)","v":"Teenage conceptions (aged under 18): rates per 1,000 females aged 15-17"},2011,"06N",207.75209441143434,null,10154.400005545711,20.459317566569457,18.857836115382703,22.23765302361485,35.330839380107328,35.115834126821326,null,28.854060044151289,24.919902334016918,"C","Y55","X24","11803121","Byar"]
[1180312,{"$f":"VLOOKUP(tblData[[#This Row],[Indicator ID]],'Similar 10 CCGs'!$A$6:$C$160,3,FALSE)","v":"Teenage conceptions (aged under 18): rates per 1,000 females aged 15-17"},2011,"06P",121.88746571594228,null,3934.2000000000007,30.981512306426275,27.786495716700024,34.440125135163576,35.330839380107328,35.115834126821326,null,36.921205466226851,32.597127329226304,"","Y55","X24","11803121","Byar"]
[1180312,{"$f":"VLOOKUP(tblData[[#This Row],[Indicator ID]],'Similar 10 CCGs'!$A$6:$C$160,3,FALSE)","v":"Teenage conceptions (aged under 18): rates per 1,000 females aged 15-17"},2011,"06Q",172.32005673314697,null,6625.7999999217855,26.007434081194894,24.001279392022706,28.223791208355582,35.330839380107328,35.115834126821326,null,24.54299433413869,20.181420018609309,"B","Y55","X24","11803121","Byar"]
[1180312,{"$f":"VLOOKUP(tblData[[#This Row],[Indicator ID]],'Similar 10 CCGs'!$A$6:$C$160,3,FALSE)","v":"Teenage conceptions (aged under 18): rates per 1,000 females aged 15-17"},2011,"06T",207.28695701477716,null,5995.8000011844588,34.572026580911306,31.927139135139775,37.459008152835906,35.330839380107328,35.115834126821326,null,32.953284568366989,29.367240893226143,"B","Y55","X24","11803121","Byar"]
[1180312,{"$f":"VLOOKUP(tblData[[#This Row],[Indicator ID]],'Similar 10 CCGs'!$A$6:$C$160,3,FALSE)","v":"Teenage conceptions (aged under 18): rates per 1,000 females aged 15-17"},2011,"06V",66.551837753012776,null,2603.4,25.563431571411527,22.032888815912909,29.561307174451585,35.330839380107328,35.115834126821326,null,30.889774025192317,29.055576206083963,"","Y55","X24","11803121","Byar"]
[1180312,{"$f":"VLOOKUP(tblData[[#This Row],[Indicator ID]],'Similar 10 CCGs'!$A$6:$C$160,3,FALSE)","v":"Teenage conceptions (aged under 18): rates per 1,000 females aged 15-17"},2011,"06W",154.02472968916234,null,3803.9999999999995,40.490202336793473,35.743069070625864,45.677521373664717,35.330839380107328,35.115834126821326,null,37.158396436418585,29.034391816258267,"B","Y55","X24","11803121","Byar"]
[1180312,{"$f":"VLOOKUP(tblData[[#This Row],[Indicator ID]],'Similar 10 CCGs'!$A$6:$C$160,3,FALSE)","v":"Teenage conceptions (aged under 18): rates per 1,000 females aged 15-17"},2011,"06Y",92.96416981574329,null,3854.9999999999995,24.115219148052734,21.678330829947747,26.860021513666712,35.330839380107328,35.115834126821326,null,26.846366161275615,23.742712174355837,"","Y55","X24","11803121","Byar"]
[1180312,{"$f":"VLOOKUP(tblData[[#This Row],[Indicator ID]],'Similar 10 CCGs'!$A$6:$C$160,3,FALSE)","v":"Teenage conceptions (aged under 18): rates per 1,000 females aged 15-17"},2011,"07G",103.80446677017142,null,3002.4000000000005,34.573829859502865,30.820797601250515,38.657904433881491,35.330839380107328,35.115834126821326,null,32.922124548234891,26.358066791593775,"B","Y55","X24","11803121","Byar"]
[1180312,{"$f":"VLOOKUP(tblData[[#This Row],[Indicator ID]],'Similar 10 CCGs'!$A$6:$C$160,3,FALSE)","v":"Teenage conceptions (aged under 18): rates per 1,000 females aged 15-17"},2011,"07H",140.9780933662303,null,5011.2000003098328,28.132601643820617,25.62917472954053,30.936317075442133,35.330839380107328,35.115834126821326,null,30.745615838268851,26.340686586510667,"B","Y55","X24","11803121","Byar"]
[1180312,{"$f":"VLOOKUP(tblData[[#This Row],[Indicator ID]],'Similar 10 CCGs'!$A$6:$C$160,3,FALSE)","v":"Teenage conceptions (aged under 18): rates per 1,000 females aged 15-17"},2011,"07J",91.330788264047968,null,2632.7999999999993,34.689603564284411,30.713034361681686,39.04497607626012,35.330839380107328,35.115834126821326,null,34.740521976861132,29.756361363393886,"B","Y55","X24","11803121","Byar"]
[1180312,{"$f":"VLOOKUP(tblData[[#This Row],[Indicator ID]],'Similar 10 CCGs'!$A$6:$C$160,3,FALSE)","v":"Teenage conceptions (aged under 18): rates per 1,000 females aged 15-17"},2011,"07K",90.575203554923647,null,3828.6,23.657525872361607,20.752434235923239,26.924768276515998,35.330839380107328,35.115834126821326,null,27.542805927940378,25.135591707685382,"","Y55","X24","11803121","Byar"]
[1180312,{"$f":"VLOOKUP(tblData[[#This Row],[Indicator ID]],'Similar 10 CCGs'!$A$6:$C$160,3,FALSE)","v":"Teenage conceptions (aged under 18): rates per 1,000 females aged 15-17"},2011,"07L",184.98393274692484,null,3716.4000023873323,49.775032996473819,45.545430164979116,54.277933789397345,35.330839380107328,35.626925775673662,null,41.772318366379821,35.058169646401574,"A","Y56","X24","11803121","Byar"]
[1180312,{"$f":"VLOOKUP(tblData[[#This Row],[Indicator ID]],'Similar 10 CCGs'!$A$6:$C$160,3,FALSE)","v":"Teenage conceptions (aged under 18): rates per 1,000 females aged 15-17"},2011,"07M",123.59211936826961,null,6107.4000000000024,20.236454034166677,18.289461814242646,22.341503339175294,35.330839380107328,35.626925775673662,null,30.758020681285792,28.591440415796598,"C","Y56","X24","11803121","Byar"]
[1180312,{"$f":"VLOOKUP(tblData[[#This Row],[Indicator ID]],'Similar 10 CCGs'!$A$6:$C$160,3,FALSE)","v":"Teenage conceptions (aged under 18): rates per 1,000 females aged 15-17"},2011,"07N",142.09379101269704,null,4297.7999992382238,33.061983116450946,30.086962273586217,36.25306642013399,35.330839380107328,35.626925775673662,null,31.168727864170886,28.163638723400929,"B","Y56","X24","11803121","Byar"]
[1180312,{"$f":"VLOOKUP(tblData[[#This Row],[Indicator ID]],'Similar 10 CCGs'!$A$6:$C$160,3,FALSE)","v":"Teenage conceptions (aged under 18): rates per 1,000 females aged 15-17"},2011,"07P",167.56790455249549,null,5512.2000006684138,30.399460203217604,27.465022882117317,33.555127411879482,35.330839380107328,35.626925775673662,null,39.871491544344693,33.064029666375703,"C","Y56","X24","11803121","Byar"]
[1180312,{"$f":"VLOOKUP(tblData[[#This Row],[Indicator ID]],'Similar 10 CCGs'!$A$6:$C$160,3,FALSE)","v":"Teenage conceptions (aged under 18): rates per 1,000 females aged 15-17"},2011,"07Q",164.82884993437364,null,5376,30.660128336007002,28.088270219233817,33.407670113138643,35.330839380107328,35.626925775673662,null,28.800386758543585,24.618546400540488,"B","Y56","X24","11803121","Byar"]
[1180312,{"$f":"VLOOKUP(tblData[[#This Row],[Indicator ID]],'Similar 10 CCGs'!$A$6:$C$160,3,FALSE)","v":"Teenage conceptions (aged under 18): rates per 1,000 females aged 15-17"},2011,"07R",106.06804807565032,null,3946.7999985733013,26.874442108541619,23.661484916116333,30.43495773238087,35.330839380107328,35.626925775673662,null,42.899376982867345,34.607035521535387,"C","Y56","X24","11803121","Byar"]
[1180312,{"$f":"VLOOKUP(tblData[[#This Row],[Indicator ID]],'Similar 10 CCGs'!$A$6:$C$160,3,FALSE)","v":"Teenage conceptions (aged under 18): rates per 1,000 females aged 15-17"},2011,"07T",183.98468431923456,null,4400.400000226613,41.810899988582783,38.057274772415632,45.832802067902463,35.330839380107328,35.626925775673662,null,43.966676385814488,38.843052987842263,"B","Y56","X24","11803121","Byar"]
[1180312,{"$f":"VLOOKUP(tblData[[#This Row],[Indicator ID]],'Similar 10 CCGs'!$A$6:$C$160,3,FALSE)","v":"Teenage conceptions (aged under 18): rates per 1,000 females aged 15-17"},2011,"07V",269.05634814871615,null,6821.4000003915226,39.442980639351646,36.69434203614,42.340230957956173,35.330839380107328,35.626925775673662,null,38.338218721308714,29.478710823217348,"A","Y56","X24","11803121","Byar"]
[1180312,{"$f":"VLOOKUP(tblData[[#This Row],[Indicator ID]],'Similar 10 CCGs'!$A$6:$C$160,3,FALSE)","v":"Teenage conceptions (aged under 18): rates per 1,000 females aged 15-17"},2011,"07W",174.27982973761337,null,6004.2000001284696,29.026319865075173,26.474387639082348,31.766227327050402,35.330839380107328,35.626925775673662,null,35.07757081857757,29.289216087873893,"C","Y56","X24","11803121","Byar"]
[1180312,{"$f":"VLOOKUP(tblData[[#This Row],[Indicator ID]],'Similar 10 CCGs'!$A$6:$C$160,3,FALSE)","v":"Teenage conceptions (aged under 18): rates per 1,000 females aged 15-17"},2011,"07X",171.93715407584807,null,5318.4000029364415,32.328736834558633,29.574164587802017,35.264332795272331,35.330839380107328,35.626925775673662,null,36.348169314687162,28.758975837486481,"B","Y56","X24","11803121","Byar"]
[1180312,{"$f":"VLOOKUP(tblData[[#This Row],[Indicator ID]],'Similar 10 CCGs'!$A$6:$C$160,3,FALSE)","v":"Teenage conceptions (aged under 18): rates per 1,000 females aged 15-17"},2011,"07Y",144.44295721335794,null,4242.5999999038349,34.045858015516892,30.654474631575603,37.698194148251424,35.330839380107328,35.626925775673662,null,32.164866576110938,28.405001913345423,"B","Y56","X24","11803121","Byar"]
[1180312,{"$f":"VLOOKUP(tblData[[#This Row],[Indicator ID]],'Similar 10 CCGs'!$A$6:$C$160,3,FALSE)","v":"Teenage conceptions (aged under 18): rates per 1,000 females aged 15-17"},2011,"08A",236.12787256803387,null,4835.4000042918669,48.833162170337189,44.782717403957349,53.144127472575256,35.330839380107328,35.626925775673662,null,42.54106482121253,35.406416342983377,"A","Y56","X24","11803121","Byar"]
[1180312,{"$f":"VLOOKUP(tblData[[#This Row],[Indicator ID]],'Similar 10 CCGs'!$A$6:$C$160,3,FALSE)","v":"Teenage conceptions (aged under 18): rates per 1,000 females aged 15-17"},2011,"08C",94.410847194204308,null,2347.7999999999997,40.212474313912736,35.326821115864668,45.563529094475186,35.330839380107328,35.626925775673662,null,38.581325544369413,31.491673748491003,"B","Y56","X24","11803121","Byar"]
[1180312,{"$f":"VLOOKUP(tblData[[#This Row],[Indicator ID]],'Similar 10 CCGs'!$A$6:$C$160,3,FALSE)","v":"Teenage conceptions (aged under 18): rates per 1,000 females aged 15-17"},2011,"08D",204.15412470876356,null,4338.0000070199885,47.061808293773673,43.022220223181783,51.371020156762143,35.330839380107328,35.626925775673662,null,41.385509819245122,36.58729097842189,"A","Y56","X24","11803121","Byar"]
[1180312,{"$f":"VLOOKUP(tblData[[#This Row],[Indicator ID]],'Similar 10 CCGs'!$A$6:$C$160,3,FALSE)","v":"Teenage conceptions (aged under 18): rates per 1,000 females aged 15-17"},2011,"08E",85.179861183317456,null,4052.999999049056,21.01649671929508,18.49651887550381,23.786068027568756,35.330839380107328,35.626925775673662,null,29.465987566844142,26.829387460526455,"","Y56","X24","11803121","Byar"]
[1180312,{"$f":"VLOOKUP(tblData[[#This Row],[Indicator ID]],'Similar 10 CCGs'!$A$6:$C$160,3,FALSE)","v":"Teenage conceptions (aged under 18): rates per 1,000 females aged 15-17"},2011,"08F",159.05434306461385,null,4712.4000003665333,33.752300961769478,30.884131733662407,36.826392115497427,35.330839380107328,35.626925775673662,null,32.471965800355591,28.489945667511194,"B","Y56","X24","11803121","Byar"]
[1180312,{"$f":"VLOOKUP(tblData[[#This Row],[Indicator ID]],'Similar 10 CCGs'!$A$6:$C$160,3,FALSE)","v":"Teenage conceptions (aged under 18): rates per 1,000 females aged 15-17"},2011,"08G",163.57477869973442,null,5076.0000004204931,32.22513370492198,29.253169499395508,35.407154900788377,35.330839380107328,35.626925775673662,null,33.97925295545825,27.220425948796674,"B","Y56","X24","11803121","Byar"]
[1180312,{"$f":"VLOOKUP(tblData[[#This Row],[Indicator ID]],'Similar 10 CCGs'!$A$6:$C$160,3,FALSE)","v":"Teenage conceptions (aged under 18): rates per 1,000 females aged 15-17"},2011,"08H",120.96163236278957,null,2880.6000000000004,41.991818497115034,37.38746817466135,46.999567993950826,35.330839380107328,35.626925775673662,null,36.252020038934901,29.363829125766507,"A","Y56","X24","11803121","Byar"]
[1180312,{"$f":"VLOOKUP(tblData[[#This Row],[Indicator ID]],'Similar 10 CCGs'!$A$6:$C$160,3,FALSE)","v":"Teenage conceptions (aged under 18): rates per 1,000 females aged 15-17"},2011,"08J",81.36831055805726,null,3287.3999999999992,24.751569799250863,21.476049080652853,28.403992293995724,35.330839380107328,35.626925775673662,null,26.412406938444985,20.1457513176547,"B","Y56","X24","11803121","Byar"]
[1180312,{"$f":"VLOOKUP(tblData[[#This Row],[Indicator ID]],'Similar 10 CCGs'!$A$6:$C$160,3,FALSE)","v":"Teenage conceptions (aged under 18): rates per 1,000 females aged 15-17"},2011,"08K",245.73488220668546,null,4963.200002227245,49.511380177387871,45.606732112232457,53.666256297912135,35.330839380107328,35.626925775673662,null,42.963002961386877,38.206555234751178,"A","Y56","X24","11803121","Byar"]
[1180312,{"$f":"VLOOKUP(tblData[[#This Row],[Indicator ID]],'Similar 10 CCGs'!$A$6:$C$160,3,FALSE)","v":"Teenage conceptions (aged under 18): rates per 1,000 females aged 15-17"},2011,"08L",239.01286493899727,null,5014.8000026158279,47.661494937848566,43.963195233042782,51.587080271299996,35.330839380107328,35.626925775673662,null,44.082988973367677,38.652970551223596,"A","Y56","X24","11803121","Byar"]
[1180312,{"$f":"VLOOKUP(tblData[[#This Row],[Indicator ID]],'Similar 10 CCGs'!$A$6:$C$160,3,FALSE)","v":"Teenage conceptions (aged under 18): rates per 1,000 females aged 15-17"},2011,"08M",247.49830876083377,null,6241.1999991841076,39.655564441643982,36.459271596539566,43.056690636559651,35.330839380107328,35.626925775673662,null,39.129596498943286,33.156431299941133,"B","Y56","X24","11803121","Byar"]
[1180312,{"$f":"VLOOKUP(tblData[[#This Row],[Indicator ID]],'Similar 10 CCGs'!$A$6:$C$160,3,FALSE)","v":"Teenage conceptions (aged under 18): rates per 1,000 females aged 15-17"},2011,"08N",153.93637950313851,null,5030.4000012157439,30.60122047271296,27.876459007723504,33.518143653742271,35.330839380107328,35.626925775673662,null,32.835607177051244,26.463489584937083,"","Y56","X24","11803121","Byar"]
[1180312,{"$f":"VLOOKUP(tblData[[#This Row],[Indicator ID]],'Similar 10 CCGs'!$A$6:$C$160,3,FALSE)","v":"Teenage conceptions (aged under 18): rates per 1,000 females aged 15-17"},2011,"08P",56.816934372744768,null,2835,20.041246692326197,17.141518804338357,23.306124005557336,35.330839380107328,35.626925775673662,null,23.883314174547191,18.493365725857245,"","Y56","X24","11803121","Byar"]
[1180312,{"$f":"VLOOKUP(tblData[[#This Row],[Indicator ID]],'Similar 10 CCGs'!$A$6:$C$160,3,FALSE)","v":"Teenage conceptions (aged under 18): rates per 1,000 females aged 15-17"},2011,"08Q",245.65838076048956,null,4689.60000112947,52.383653339586274,48.167040932532231,56.862048594713919,35.330839380107328,35.626925775673662,null,42.909401050714138,38.673806045845389,"A","Y56","X24","11803121","Byar"]
[1180312,{"$f":"VLOOKUP(tblData[[#This Row],[Indicator ID]],'Similar 10 CCGs'!$A$6:$C$160,3,FALSE)","v":"Teenage conceptions (aged under 18): rates per 1,000 females aged 15-17"},2011,"08R",98.601501010484554,null,3061.8000014797994,32.203769339221843,28.475762012158548,36.276173301475602,35.330839380107328,35.626925775673662,null,30.447035518087251,24.7173927044491,"A","Y56","X24","11803121","Byar"]
[1180312,{"$f":"VLOOKUP(tblData[[#This Row],[Indicator ID]],'Similar 10 CCGs'!$A$6:$C$160,3,FALSE)","v":"Teenage conceptions (aged under 18): rates per 1,000 females aged 15-17"},2011,"08T",93.838891262421143,null,3177.6,29.531373131426591,26.245508902686392,33.101330562077763,35.330839380107328,35.626925775673662,null,30.592243963783307,26.556009435304624,"B","Y56","X24","11803121","Byar"]
[1180312,{"$f":"VLOOKUP(tblData[[#This Row],[Indicator ID]],'Similar 10 CCGs'!$A$6:$C$160,3,FALSE)","v":"Teenage conceptions (aged under 18): rates per 1,000 females aged 15-17"},2011,"08V",133.65078334260818,null,4007.9999977681427,33.346003846564798,29.841992807417153,37.144877693408404,35.330839380107328,35.626925775673662,null,37.826882092681828,30.189460133012851,"C","Y56","X24","11803121","Byar"]
[1180312,{"$f":"VLOOKUP(tblData[[#This Row],[Indicator ID]],'Similar 10 CCGs'!$A$6:$C$160,3,FALSE)","v":"Teenage conceptions (aged under 18): rates per 1,000 females aged 15-17"},2011,"08W",203.21858970647878,null,4764.0000000587179,42.657134698567184,39.038766172522074,46.520164633140254,35.330839380107328,35.626925775673662,null,41.339609544492404,34.576686007089805,"B","Y56","X24","11803121","Byar"]
[1180312,{"$f":"VLOOKUP(tblData[[#This Row],[Indicator ID]],'Similar 10 CCGs'!$A$6:$C$160,3,FALSE)","v":"Teenage conceptions (aged under 18): rates per 1,000 females aged 15-17"},2011,"08X",162.2761445704908,null,4165.7999979657943,38.954377226398776,35.05815989888265,43.173005022793021,35.330839380107328,35.626925775673662,null,36.327190778204688,30.085511918945212,"B","Y56","X24","11803121","Byar"]
[1180312,{"$f":"VLOOKUP(tblData[[#This Row],[Indicator ID]],'Similar 10 CCGs'!$A$6:$C$160,3,FALSE)","v":"Teenage conceptions (aged under 18): rates per 1,000 females aged 15-17"},2011,"08Y",65.004102017438797,null,2626.1999993590293,24.75215217169454,21.760871484756283,28.192780916473289,35.330839380107328,35.626925775673662,null,33.326517404262169,26.568185274439941,"C","Y56","X24","11803121","Byar"]
[1180312,{"$f":"VLOOKUP(tblData[[#This Row],[Indicator ID]],'Similar 10 CCGs'!$A$6:$C$160,3,FALSE)","v":"Teenage conceptions (aged under 18): rates per 1,000 females aged 15-17"},2011,"09A",87.869451327208466,null,2794.1999999002301,31.447087298813951,26.965873992089385,36.396723740752144,35.330839380107328,35.626925775673662,null,38.007122728857389,33.004822328191288,"","Y56","X24","11803121","Byar"]
[1180312,{"$f":"VLOOKUP(tblData[[#This Row],[Indicator ID]],'Similar 10 CCGs'!$A$6:$C$160,3,FALSE)","v":"Teenage conceptions (aged under 18): rates per 1,000 females aged 15-17"},2011,"09C",80.178224722186243,null,2248.8000000000002,35.653781893537108,31.244405185598598,40.510498642276779,35.330839380107328,29.368933254820924,null,30.282202347179169,25.207340985312445,"A","Y57","X24","11803121","Byar"]
[1180312,{"$f":"VLOOKUP(tblData[[#This Row],[Indicator ID]],'Similar 10 CCGs'!$A$6:$C$160,3,FALSE)","v":"Teenage conceptions (aged under 18): rates per 1,000 females aged 15-17"},2011,"09D",180.3476858659356,null,5268.5999977952524,34.23066582040876,31.009399629775508,37.697566309858821,35.330839380107328,29.368933254820924,null,41.543199607758154,38.350415756363923,"C","Y57","X24","11803121","Byar"]
[1180312,{"$f":"VLOOKUP(tblData[[#This Row],[Indicator ID]],'Similar 10 CCGs'!$A$6:$C$160,3,FALSE)","v":"Teenage conceptions (aged under 18): rates per 1,000 females aged 15-17"},2011,"09E",145.72320652359443,null,4767.6000001499096,30.565317249562124,27.538142568247235,33.910432688393122,35.330839380107328,29.368933254820924,null,33.154629444309833,27.083679038833083,"C","Y57","X24","11803121","Byar"]
[1180312,{"$f":"VLOOKUP(tblData[[#This Row],[Indicator ID]],'Similar 10 CCGs'!$A$6:$C$160,3,FALSE)","v":"Teenage conceptions (aged under 18): rates per 1,000 females aged 15-17"},2011,"09F",107.9236866459327,null,3295.2000005688169,32.751786424891641,28.773584586091051,37.170468876437077,35.330839380107328,29.368933254820924,null,34.567404348115389,30.294727291962801,"B","Y57","X24","11803121","Byar"]
[1180312,{"$f":"VLOOKUP(tblData[[#This Row],[Indicator ID]],'Similar 10 CCGs'!$A$6:$C$160,3,FALSE)","v":"Teenage conceptions (aged under 18): rates per 1,000 females aged 15-17"},2011,"09G",229.99993547798712,null,7882.8000007805294,29.177441449131436,26.797855595745435,31.800626936393073,35.330839380107328,29.368933254820924,null,32.432431657060768,29.050336704151164,"B","Y57","X24","11803121","Byar"]
[1180312,{"$f":"VLOOKUP(tblData[[#This Row],[Indicator ID]],'Similar 10 CCGs'!$A$6:$C$160,3,FALSE)","v":"Teenage conceptions (aged under 18): rates per 1,000 females aged 15-17"},2011,"09H",79.041859226146343,null,2201.9999973679687,35.895485613362574,31.345582326078155,40.924406093498504,35.330839380107328,29.368933254820924,null,32.803008866023241,27.805392953264374,"A","Y57","X24","11803121","Byar"]
[1180312,{"$f":"VLOOKUP(tblData[[#This Row],[Indicator ID]],'Similar 10 CCGs'!$A$6:$C$160,3,FALSE)","v":"Teenage conceptions (aged under 18): rates per 1,000 females aged 15-17"},2011,"09J",143.05066311003827,null,4548.599999535757,31.449382914443657,28.49919959273398,34.711665695145804,35.330839380107328,29.368933254820924,null,31.761220497847169,26.295874134613847,"B","Y57","X24","11803121","Byar"]
[1180312,{"$f":"VLOOKUP(tblData[[#This Row],[Indicator ID]],'Similar 10 CCGs'!$A$6:$C$160,3,FALSE)","v":"Teenage conceptions (aged under 18): rates per 1,000 females aged 15-17"},2011,"09L",60.345745331108922,null,2884.2000000000003,20.922871274914677,17.70400882787974,24.519737701575767,35.330839380107328,29.368933254820924,null,25.048501625530157,20.451278138043214,"","Y57","X24","11803121","Byar"]
[1180312,{"$f":"VLOOKUP(tblData[[#This Row],[Indicator ID]],'Similar 10 CCGs'!$A$6:$C$160,3,FALSE)","v":"Teenage conceptions (aged under 18): rates per 1,000 females aged 15-17"},2011,"09N",72.556005028273901,null,4035.600000128627,17.978988260967714,15.290643992240787,21.009366603852193,35.330839380107328,29.368933254820924,null,24.541034851813979,21.413637119205461,"C","Y57","X24","11803121","Byar"]
[1180312,{"$f":"VLOOKUP(tblData[[#This Row],[Indicator ID]],'Similar 10 CCGs'!$A$6:$C$160,3,FALSE)","v":"Teenage conceptions (aged under 18): rates per 1,000 females aged 15-17"},2011,"09P",125.72983307685573,null,3176.4000001894842,39.582493725398393,35.359686365266064,44.210777528217015,35.330839380107328,29.368933254820924,null,34.976519708081305,31.206934858057043,"A","Y57","X24","11803121","Byar"]
[1180312,{"$f":"VLOOKUP(tblData[[#This Row],[Indicator ID]],'Similar 10 CCGs'!$A$6:$C$160,3,FALSE)","v":"Teenage conceptions (aged under 18): rates per 1,000 females aged 15-17"},2011,"09W",238.65886352329693,null,5659.2000020891719,42.171837615774791,39.100921345514145,45.423204421078765,35.330839380107328,29.368933254820924,null,36.955541253461021,32.54497596044812,"A","Y57","X24","11803121","Byar"]
[1180312,{"$f":"VLOOKUP(tblData[[#This Row],[Indicator ID]],'Similar 10 CCGs'!$A$6:$C$160,3,FALSE)","v":"Teenage conceptions (aged under 18): rates per 1,000 females aged 15-17"},2011,"09X",69.125438893415733,null,3831.6000060033134,18.040880776988899,15.677074986041049,20.719947714913481,35.330839380107328,29.368933254820924,null,24.380379585358689,20.439807697791885,"C","Y57","X24","11803121","Byar"]
[1180312,{"$f":"VLOOKUP(tblData[[#This Row],[Indicator ID]],'Similar 10 CCGs'!$A$6:$C$160,3,FALSE)","v":"Teenage conceptions (aged under 18): rates per 1,000 females aged 15-17"},2011,"09Y",156.66287924424179,null,5588.9999987835936,28.030574213336621,25.756151951439755,30.634293803361381,35.330839380107328,29.368933254820924,null,25.354343506977322,21.017010928061733,"B","Y57","X24","11803121","Byar"]
[1180312,{"$f":"VLOOKUP(tblData[[#This Row],[Indicator ID]],'Similar 10 CCGs'!$A$6:$C$160,3,FALSE)","v":"Teenage conceptions (aged under 18): rates per 1,000 females aged 15-17"},2011,"10A",143.24657132348315,null,3569.3999999999996,40.131834852771661,36.277287532646127,44.379192328925981,35.330839380107328,29.368933254820924,null,36.919154862652974,33.341433852374266,"A","Y57","X24","11803121","Byar"]
[1180312,{"$f":"VLOOKUP(tblData[[#This Row],[Indicator ID]],'Similar 10 CCGs'!$A$6:$C$160,3,FALSE)","v":"Teenage conceptions (aged under 18): rates per 1,000 females aged 15-17"},2011,"10C",27.594438669710886,null,1503.5999974011038,18.352247085266342,14.86284886068405,22.449503726386734,35.330839380107328,29.368933254820924,null,21.837640927245651,16.969479261342162,"C","Y57","X24","11803121","Byar"]
[1180312,{"$f":"VLOOKUP(tblData[[#This Row],[Indicator ID]],'Similar 10 CCGs'!$A$6:$C$160,3,FALSE)","v":"Teenage conceptions (aged under 18): rates per 1,000 females aged 15-17"},2011,"10D",84.032399517980608,null,2012.3999992317549,41.757304487209524,36.685694829421692,47.261085032959571,35.330839380107328,29.368933254820924,null,40.751184263449993,35.707343823682251,"A","Y57","X24","11803121","Byar"]
[1180312,{"$f":"VLOOKUP(tblData[[#This Row],[Indicator ID]],'Similar 10 CCGs'!$A$6:$C$160,3,FALSE)","v":"Teenage conceptions (aged under 18): rates per 1,000 females aged 15-17"},2011,"10E",128.84478999865476,null,2532.5999999999995,50.874512358309559,45.913130910207194,56.225362938380329,35.330839380107328,29.368933254820924,null,39.08760393469489,32.582374171096617,"A","Y57","X24","11803121","Byar"]
[1180312,{"$f":"VLOOKUP(tblData[[#This Row],[Indicator ID]],'Similar 10 CCGs'!$A$6:$C$160,3,FALSE)","v":"Teenage conceptions (aged under 18): rates per 1,000 females aged 15-17"},2011,"10G",47.086994117101817,null,2699.3999999999992,17.443503784952888,14.693911860224889,20.574557596156819,35.330839380107328,29.368933254820924,null,24.428344705475133,18.321743758149381,"","Y57","X24","11803121","Byar"]
[1180312,{"$f":"VLOOKUP(tblData[[#This Row],[Indicator ID]],'Similar 10 CCGs'!$A$6:$C$160,3,FALSE)","v":"Teenage conceptions (aged under 18): rates per 1,000 females aged 15-17"},2011,"10H",120.75812756308387,null,5796.5999986990691,20.832579027392889,18.832462573084282,23.052991743821096,35.330839380107328,29.368933254820924,null,25.60713090981065,21.25561427823822,"","Y57","X24","11803121","Byar"]
[1180312,{"$f":"VLOOKUP(tblData[[#This Row],[Indicator ID]],'Similar 10 CCGs'!$A$6:$C$160,3,FALSE)","v":"Teenage conceptions (aged under 18): rates per 1,000 females aged 15-17"},2011,"10J",90.878122265174241,null,3614.4000045180383,25.143349422193346,22.059589574394195,28.537886744213026,35.330839380107328,29.368933254820924,null,24.42957086239073,20.150145176829984,"B","Y57","X24","11803121","Byar"]
[1180312,{"$f":"VLOOKUP(tblData[[#This Row],[Indicator ID]],'Similar 10 CCGs'!$A$6:$C$160,3,FALSE)","v":"Teenage conceptions (aged under 18): rates per 1,000 females aged 15-17"},2011,"10K",101.8249701820364,null,3431.9999999999995,29.669280356071216,26.932582559858389,32.787216041790479,35.330839380107328,29.368933254820924,null,28.910654523496749,23.676116229064757,"B","Y57","X24","11803121","Byar"]
[1180312,{"$f":"VLOOKUP(tblData[[#This Row],[Indicator ID]],'Similar 10 CCGs'!$A$6:$C$160,3,FALSE)","v":"Teenage conceptions (aged under 18): rates per 1,000 females aged 15-17"},2011,"10L",75.044404076620978,null,2397.6,31.299801500092165,27.401227074422366,35.597475332651932,35.330839380107328,29.368933254820924,null,35.079502183280354,30.269055213031937,"","Y57","X24","11803121","Byar"]
[1180312,{"$f":"VLOOKUP(tblData[[#This Row],[Indicator ID]],'Similar 10 CCGs'!$A$6:$C$160,3,FALSE)","v":"Teenage conceptions (aged under 18): rates per 1,000 females aged 15-17"},2011,"10M",48.896718143251405,null,2148.6,22.757478424672534,19.451638422127726,26.400972470907931,35.330839380107328,29.368933254820924,null,25.942970675551113,20.800259075121254,"B","Y57","X24","11803121","Byar"]
[1180312,{"$f":"VLOOKUP(tblData[[#This Row],[Indicator ID]],'Similar 10 CCGs'!$A$6:$C$160,3,FALSE)","v":"Teenage conceptions (aged under 18): rates per 1,000 females aged 15-17"},2011,"10N",57.619550455265198,null,1745.9999995205987,33.000888013222145,27.276620809722164,39.253968116177838,35.330839380107328,29.368933254820924,null,28.893496377851903,22.028582149238073,"B","Y57","X24","11803121","Byar"]
[1180312,{"$f":"VLOOKUP(tblData[[#This Row],[Indicator ID]],'Similar 10 CCGs'!$A$6:$C$160,3,FALSE)","v":"Teenage conceptions (aged under 18): rates per 1,000 females aged 15-17"},2011,"10Q",303.78969070795404,null,12757.200011023195,23.813194936620619,21.877851398944809,25.955804151047907,35.330839380107328,29.368933254820924,null,29.864019120614234,25.88378631636213,"C","Y57","X24","11803121","Byar"]
[1180312,{"$f":"VLOOKUP(tblData[[#This Row],[Indicator ID]],'Similar 10 CCGs'!$A$6:$C$160,3,FALSE)","v":"Teenage conceptions (aged under 18): rates per 1,000 females aged 15-17"},2011,"10R",180.52575985120066,null,4330.8000003406023,41.684159932807546,37.745065871877209,45.925173881613631,35.330839380107328,29.368933254820924,null,42.226245629302561,37.375480041806263,"B","Y57","X24","11803121","Byar"]
[1180312,{"$f":"VLOOKUP(tblData[[#This Row],[Indicator ID]],'Similar 10 CCGs'!$A$6:$C$160,3,FALSE)","v":"Teenage conceptions (aged under 18): rates per 1,000 females aged 15-17"},2011,"10T",76.30622591445011,null,2457.0000003262653,31.05666499972218,26.938754268930378,35.609156940872538,35.330839380107328,29.368933254820924,null,32.749388906626024,27.012163447504594,"","Y57","X24","11803121","Byar"]
[1180312,{"$f":"VLOOKUP(tblData[[#This Row],[Indicator ID]],'Similar 10 CCGs'!$A$6:$C$160,3,FALSE)","v":"Teenage conceptions (aged under 18): rates per 1,000 females aged 15-17"},2011,"10V",106.42454994186519,null,3738,28.470987143356123,25.034182634635137,32.254148527231422,35.330839380107328,29.368933254820924,null,30.754020574579016,28.244041004784048,"B","Y57","X24","11803121","Byar"]
[1180312,{"$f":"VLOOKUP(tblData[[#This Row],[Indicator ID]],'Similar 10 CCGs'!$A$6:$C$160,3,FALSE)","v":"Teenage conceptions (aged under 18): rates per 1,000 females aged 15-17"},2011,"10W",88.301439536374218,null,2498.4000006013321,35.34319545113722,30.107900245774065,41.062131887531997,35.330839380107328,29.368933254820924,null,44.465257250260656,39.547628430460989,"C","Y57","X24","11803121","Byar"]
[1180312,{"$f":"VLOOKUP(tblData[[#This Row],[Indicator ID]],'Similar 10 CCGs'!$A$6:$C$160,3,FALSE)","v":"Teenage conceptions (aged under 18): rates per 1,000 females aged 15-17"},2011,"10X",255.71505432873212,null,5384.3999999999978,47.491838334583655,43.582946870852709,51.658351877204488,35.330839380107328,29.368933254820924,null,43.623416198865094,37.578291544704811,"A","Y57","X24","11803121","Byar"]
[1180312,{"$f":"VLOOKUP(tblData[[#This Row],[Indicator ID]],'Similar 10 CCGs'!$A$6:$C$160,3,FALSE)","v":"Teenage conceptions (aged under 18): rates per 1,000 females aged 15-17"},2011,"10Y",77.737617448129299,null,3547.1999999999994,21.915205640541643,19.254780774917009,24.857076460775748,35.330839380107328,29.368933254820924,null,26.40578550558984,21.527053282028231,"","Y57","X24","11803121","Byar"]
[1180312,{"$f":"VLOOKUP(tblData[[#This Row],[Indicator ID]],'Similar 10 CCGs'!$A$6:$C$160,3,FALSE)","v":"Teenage conceptions (aged under 18): rates per 1,000 females aged 15-17"},2011,"11A",236.15329330491144,null,9502.2000012984063,24.852486084553348,22.967431222094234,26.92921212616012,35.330839380107328,29.368933254820924,null,27.194660687113537,24.985875677337827,"","Y57","X24","11803121","Byar"]
[1180312,{"$f":"VLOOKUP(tblData[[#This Row],[Indicator ID]],'Similar 10 CCGs'!$A$6:$C$160,3,FALSE)","v":"Teenage conceptions (aged under 18): rates per 1,000 females aged 15-17"},2011,"11C",37.651617760634203,null,2498.4,15.070292091192043,12.69251368716788,17.810484981968401,35.330839380107328,29.368933254820924,null,23.981733783575184,18.291306805440787,"C","Y57","X24","11803121","Byar"]
[1180312,{"$f":"VLOOKUP(tblData[[#This Row],[Indicator ID]],'Similar 10 CCGs'!$A$6:$C$160,3,FALSE)","v":"Teenage conceptions (aged under 18): rates per 1,000 females aged 15-17"},2011,"11D",40.095430244082422,null,2628.6000000000004,15.253530489265167,12.806211858324637,18.043191224529242,35.330839380107328,29.368933254820924,null,20.01336361882251,17.589222580542394,"C","Y57","X24","11803121","Byar"]
[1180312,{"$f":"VLOOKUP(tblData[[#This Row],[Indicator ID]],'Similar 10 CCGs'!$A$6:$C$160,3,FALSE)","v":"Teenage conceptions (aged under 18): rates per 1,000 females aged 15-17"},2011,"11E",79.989846697440825,null,4012.200000116814,19.936654876404951,17.255741905324498,22.930545516837324,35.330839380107328,29.368933254820924,null,30.768569494616507,26.173164159623695,"C","Y57","X24","11803121","Byar"]
[1180312,{"$f":"VLOOKUP(tblData[[#This Row],[Indicator ID]],'Similar 10 CCGs'!$A$6:$C$160,3,FALSE)","v":"Teenage conceptions (aged under 18): rates per 1,000 females aged 15-17"},2011,"11H",347.56756012044764,null,8493.5999994162357,40.921112383952142,38.085388808252844,43.910758208680484,35.330839380107328,29.368933254820924,null,44.84750225850788,40.044592578626194,"","Y57","X24","11803121","Byar"]
[1180312,{"$f":"VLOOKUP(tblData[[#This Row],[Indicator ID]],'Similar 10 CCGs'!$A$6:$C$160,3,FALSE)","v":"Teenage conceptions (aged under 18): rates per 1,000 females aged 15-17"},2011,"11J",388.1292406376474,null,13083.000001655333,29.666685056068115,27.586226423338534,31.939696988683124,35.330839380107328,29.368933254820924,null,29.688751552895191,26.646461015581917,"B","Y57","X24","11803121","Byar"]
[1180312,{"$f":"VLOOKUP(tblData[[#This Row],[Indicator ID]],'Similar 10 CCGs'!$A$6:$C$160,3,FALSE)","v":"Teenage conceptions (aged under 18): rates per 1,000 females aged 15-17"},2011,"11M",267.40756565905161,null,11231.400003695082,23.808925474212977,21.71920978264648,26.103020387969476,35.330839380107328,29.368933254820924,null,28.791148278049519,25.707357019455838,"C","Y57","X24","11803121","Byar"]
[1180312,{"$f":"VLOOKUP(tblData[[#This Row],[Indicator ID]],'Similar 10 CCGs'!$A$6:$C$160,3,FALSE)","v":"Teenage conceptions (aged under 18): rates per 1,000 females aged 15-17"},2011,"11N",296.10942336690806,null,9534.6000040256313,31.056302649496235,29.030404145196442,33.185891287942795,35.330839380107328,29.368933254820924,null,29.383133585040859,26.470554544973176,"B","Y57","X24","11803121","Byar"]
[1180312,{"$f":"VLOOKUP(tblData[[#This Row],[Indicator ID]],'Similar 10 CCGs'!$A$6:$C$160,3,FALSE)","v":"Teenage conceptions (aged under 18): rates per 1,000 females aged 15-17"},2011,"11T",105.07135477540078,null,3410.4000024591805,30.809100017486404,27.531866527269305,34.366940050084523,35.330839380107328,29.368933254820924,null,27.151720810204488,24.381218432175267,"B","Y57","X24","11803121","Byar"]
[1180312,{"$f":"VLOOKUP(tblData[[#This Row],[Indicator ID]],'Similar 10 CCGs'!$A$6:$C$160,3,FALSE)","v":"Teenage conceptions (aged under 18): rates per 1,000 females aged 15-17"},2011,"11X",288.19390626572402,null,9911.9999955576113,29.075252864698104,27.144714860545058,31.1865047495791,35.330839380107328,29.368933254820924,null,29.217980399312513,25.919143813096298,"B","Y57","X24","11803121","Byar"]
[1180312,{"$f":"VLOOKUP(tblData[[#This Row],[Indicator ID]],'Similar 10 CCGs'!$A$6:$C$160,3,FALSE)","v":"Teenage conceptions (aged under 18): rates per 1,000 females aged 15-17"},2011,"12A",115.53648010668093,null,4623.5999979458838,24.988424638379197,22.454053558159369,27.730650092510228,35.330839380107328,29.368933254820924,null,26.513942688689419,20.370180836336566,"","Y57","X24","11803121","Byar"]
[1180312,{"$f":"VLOOKUP(tblData[[#This Row],[Indicator ID]],'Similar 10 CCGs'!$A$6:$C$160,3,FALSE)","v":"Teenage conceptions (aged under 18): rates per 1,000 females aged 15-17"},2011,"12D",121.09880483209137,null,3785.4000016649734,31.991019384695722,28.718374997998843,35.533664482727829,35.330839380107328,29.368933254820924,null,27.725455587751942,21.507467656950382,"B","Y57","X24","11803121","Byar"]
[1180312,{"$f":"VLOOKUP(tblData[[#This Row],[Indicator ID]],'Similar 10 CCGs'!$A$6:$C$160,3,FALSE)","v":"Teenage conceptions (aged under 18): rates per 1,000 females aged 15-17"},2011,"12F",248.62631022911583,null,5937.0000014566476,41.877431390957582,38.92197095566425,44.997578612661854,35.330839380107328,40.602492033989293,null,42.788374931699764,38.249033283686529,"B","Y54","X24","11803121","Byar"]
[1180312,{"$f":"VLOOKUP(tblData[[#This Row],[Indicator ID]],'Similar 10 CCGs'!$A$6:$C$160,3,FALSE)","v":"Teenage conceptions (aged under 18): rates per 1,000 females aged 15-17"},2011,"13P",603.8067824157348,null,14414.999990904245,41.887393881146885,39.860763445004864,43.974048732395453,35.330839380107328,35.115834126821326,null,42.922513713134897,37.704700979459957,"B","Y55","X24","11803121","Byar"]
[1180312,{"$f":"VLOOKUP(tblData[[#This Row],[Indicator ID]],'Similar 10 CCGs'!$A$6:$C$160,3,FALSE)","v":"Teenage conceptions (aged under 18): rates per 1,000 females aged 15-17"},2011,"99A",433.46193518142786,null,9839.4000129515935,44.053695815889412,41.341601997278509,46.896453777310242,35.330839380107328,40.602492033989293,null,47.713520304519932,42.222016617447863,"B","Y54","X24","11803121","Byar"]
[1180312,{"$f":"VLOOKUP(tblData[[#This Row],[Indicator ID]],'Similar 10 CCGs'!$A$6:$C$160,3,FALSE)","v":"Teenage conceptions (aged under 18): rates per 1,000 females aged 15-17"},2011,"99C",139.57362771361602,null,3711.6000000000004,37.604706248953548,34.036367446671349,41.454689260317693,35.330839380107328,40.602492033989293,null,39.63303928509702,33.656556708508205,"B","Y54","X24","11803121","Byar"]
[1180312,{"$f":"VLOOKUP(tblData[[#This Row],[Indicator ID]],'Similar 10 CCGs'!$A$6:$C$160,3,FALSE)","v":"Teenage conceptions (aged under 18): rates per 1,000 females aged 15-17"},2011,"99D",80.273418350612175,null,2615.3999958809823,30.692597108295299,27.015095377107393,34.864334104330204,35.330839380107328,35.115834126821326,null,26.650413958593752,23.478022633512378,"B","Y55","X24","11803121","Byar"]
[1180312,{"$f":"VLOOKUP(tblData[[#This Row],[Indicator ID]],'Similar 10 CCGs'!$A$6:$C$160,3,FALSE)","v":"Teenage conceptions (aged under 18): rates per 1,000 females aged 15-17"},2011,"99E",166.01825425832655,null,4790.3999995644363,34.65644920537359,31.313645270134487,38.2541551735779,35.330839380107328,35.115834126821326,null,28.468618022795397,24.462538112515396,"A","Y55","X24","11803121","Byar"]
[1180312,{"$f":"VLOOKUP(tblData[[#This Row],[Indicator ID]],'Similar 10 CCGs'!$A$6:$C$160,3,FALSE)","v":"Teenage conceptions (aged under 18): rates per 1,000 females aged 15-17"},2011,"99F",85.401506826383482,null,3213.0000013566187,26.579989663966565,23.319136942695966,30.266154733021438,35.330839380107328,35.115834126821326,null,30.394632263953703,27.641505479839147,"","Y55","X24","11803121","Byar"]
[1180312,{"$f":"VLOOKUP(tblData[[#This Row],[Indicator ID]],'Similar 10 CCGs'!$A$6:$C$160,3,FALSE)","v":"Teenage conceptions (aged under 18): rates per 1,000 females aged 15-17"},2011,"99G",123.53593659674925,null,3213.5999989233783,38.441603385031215,34.441119577818625,42.774626251727923,35.330839380107328,35.115834126821326,null,38.203987356765445,31.664407333584755,"B","Y55","X24","11803121","Byar"]
[1180312,{"$f":"VLOOKUP(tblData[[#This Row],[Indicator ID]],'Similar 10 CCGs'!$A$6:$C$160,3,FALSE)","v":"Teenage conceptions (aged under 18): rates per 1,000 females aged 15-17"},2011,"99H",100.65700218220701,null,4958.4000002080502,20.300298922633012,18.072542087630776,22.872716330366472,35.330839380107328,29.368933254820924,null,23.76304462341033,19.760842934725133,"C","Y57","X24","11803121","Byar"]
[1180312,{"$f":"VLOOKUP(tblData[[#This Row],[Indicator ID]],'Similar 10 CCGs'!$A$6:$C$160,3,FALSE)","v":"Teenage conceptions (aged under 18): rates per 1,000 females aged 15-17"},2011,"99J",226.80874636647971,null,8381.3999984274687,27.060961940610625,24.720151910728493,29.616425729750752,35.330839380107328,29.368933254820924,null,26.774261710234718,23.953927431328406,"B","Y57","X24","11803121","Byar"]
[1180312,{"$f":"VLOOKUP(tblData[[#This Row],[Indicator ID]],'Similar 10 CCGs'!$A$6:$C$160,3,FALSE)","v":"Teenage conceptions (aged under 18): rates per 1,000 females aged 15-17"},2011,"99K",72.94787689622197,null,2891.9999967569274,25.224023851322723,22.346300432660627,28.445870321596615,35.330839380107328,29.368933254820924,null,25.624148877853287,21.740978640015022,"B","Y57","X24","11803121","Byar"]
[1180312,{"$f":"VLOOKUP(tblData[[#This Row],[Indicator ID]],'Similar 10 CCGs'!$A$6:$C$160,3,FALSE)","v":"Teenage conceptions (aged under 18): rates per 1,000 females aged 15-17"},2011,"99M",72.939133740760298,null,3831.0000027460069,19.039189164311814,16.346948442920905,22.106474646613741,35.330839380107328,29.368933254820924,null,22.40316940513442,17.283974474661893,"C","Y57","X24","11803121","Byar"]
[1180312,{"$f":"VLOOKUP(tblData[[#This Row],[Indicator ID]],'Similar 10 CCGs'!$A$6:$C$160,3,FALSE)","v":"Teenage conceptions (aged under 18): rates per 1,000 females aged 15-17"},2011,"99N",228.27353267776911,null,8673.6000019211042,26.318199205313721,24.460105387479913,28.279902943693912,35.330839380107328,29.368933254820924,null,27.027429015554752,24.754886078009513,"B","Y57","X24","11803121","Byar"]
[1180312,{"$f":"VLOOKUP(tblData[[#This Row],[Indicator ID]],'Similar 10 CCGs'!$A$6:$C$160,3,FALSE)","v":"Teenage conceptions (aged under 18): rates per 1,000 females aged 15-17"},2011,"99P",546.97277577210673,null,16566.600009381025,33.01659818323477,31.077566049746121,35.080005671373698,35.330839380107328,29.368933254820924,null,29.727616769031197,26.243308883230632,"A","Y57","X24","11803121","Byar"]
[1180312,{"$f":"VLOOKUP(tblData[[#This Row],[Indicator ID]],'Similar 10 CCGs'!$A$6:$C$160,3,FALSE)","v":"Teenage conceptions (aged under 18): rates per 1,000 females aged 15-17"},2011,"99Q",196.55119061143807,null,4849.2000025173911,40.532704468654913,36.87879678601702,44.484098221955435,35.330839380107328,29.368933254820924,null,33.94369967373617,30.627016948631638,"A","Y57","X24","11803121","Byar"]

{"sheet":"closest CCG (code)","index":2,"n_rows":12,"n_cols":212,"rows_kept":12,"cut":false,"hidden":true,"merged":[]}
[null,"02N","09C","10Y","07L","07M","02P","99E","02Q","11E","06F","07N","13P","04X","00Q","00R","00T","10G","02W","02R","07P","09D","11H","07Q","00V","02T","06H","07R","04Y","09E","99F","09A","00W","10H","00X","07T","09G","03V","05A","09H","07V","01H","00C","09J","02X","11J","05C","00D","07W","06K","01A","03W","02Y","05D","09L","09F","01C","07X","03X","10K","02M","00F","11M","06M","03A","01E","08A","09N","01F","03D","08C","03Y","08D","03E","08E","00K","09P","08F","05F","06N","01D","99K","08G","09X","07Y","03F","06L","10L","08H","11N","08J","01J","08K","01K","02V","03G","03C","04C","08L","03T","04D","99A","06P","04E","09W","08R","06Q","04F","04G","04H","10M","00G","00H","08M","10N","04J","00J","06T","99M","03H","10J","03J","03K","01M","06V","11T","05G","99C","09Y","99P","00L","06W","04K","04L","04M","00Y","10Q","10R","08N","05J","08P","03L","04N","01G","05L","03M","03N","05N","10T","05P","11X","01R","99Q","05Q","10V","12A","10A","99D","01N","06Y","10W","01T","00M","00N","05R","04Q","05T","10X","99G","04R","01V","08Q","01X","05V","01W","05W","00P","99H","10C","08T","10D","12D","01Y","05X","10E","07G","08V","02A","03Q","02D","03R","05Y","08W","08X","02E","05H","02F","07H","11A","99J","02G","04V","08Y","07J","07K","02H","99N","11C","12F","11D","06A","06D"]
[null,"NHS Airedale, Wharfedale and Craven CCG","NHS Ashford CCG","NHS Aylesbury Vale CCG","NHS Barking & Dagenham CCG","NHS Barnet CCG","NHS Barnsley CCG","NHS Basildon and Brentwood CCG","NHS Bassetlaw CCG","NHS Bath and North East Somerset CCG","NHS Bedfordshire CCG","NHS Bexley CCG","NHS B'ham xcity","NHS Birmingham South and Central CCG","NHS Blackburn with Darwen CCG","NHS Blackpool CCG","NHS Bolton CCG","NHS Bracknell and Ascot CCG","NHS Bradford City CCG","NHS Bradford Districts CCG","NHS Brent CCG","NHS Brighton & Hove CCG","NHS Bristol CCG","NHS Bromley CCG","NHS Bury CCG","NHS Calderdale CCG","NHS Cambridgeshire and Peterborough CCG","NHS Camden CCG","NHS Cannock Chase CCG","NHS Canterbury and Coastal CCG","NHS Castle Point and Rochford CCG","NHS Central London (Westminster) CCG","NHS Central Manchester CCG","NHS Chiltern CCG","NHS Chorley and South Ribble CCG","NHS City and Hackney CCG","NHS Coastal West Sussex CCG","NHS Corby CCG","NHS Coventry and Rugby CCG","NHS Crawley CCG","NHS Croydon CCG","NHS Cumbria CCG","NHS Darlington CCG","NHS Dartford, Gravesham and Swanley CCG","NHS Doncaster CCG","NHS Dorset CCG","NHS Dudley CCG","NHS Durham Dales, Easington and Sedgefield CCG","NHS Ealing CCG","NHS East and North Hertfordshire CCG","NHS East Lancashire CCG","NHS East Leicestershire and Rutland CCG","NHS East Riding of Yorkshire CCG","NHS East Staffordshire CCG","NHS East Surrey CCG","NHS Eastbourne, Hailsham and Seaford CCG","NHS Eastern Cheshire CCG","NHS Enfield CCG","NHS Erewash CCG","NHS Fareham and Gosport CCG","NHS Fylde & Wyre CCG","NHS Gateshead CCG","NHS Gloucestershire CCG","NHS Great Yarmouth & Waveney CCG","NHS Greater Huddersfield CCG","NHS Greater Preston CCG","NHS Greenwich CCG","NHS Guildford and Waverley CCG","NHS Halton CCG","NHS Hambleton, Richmondshire and Whitby CCG","NHS Hammersmith and Fulham CCG","NHS Hardwick CCG","NHS Haringey CCG","NHS Harrogate and Rural District CCG","NHS Harrow CCG","NHS Hartlepool and Stockton-on-Tees CCG","NHS Hastings & Rother CCG","NHS Havering CCG","NHS Herefordshire CCG","NHS Herts Valleys CCG","NHS Heywood, Middleton & Rochdale CCG","NHS High Weald Lewes Havens CCG","NHS Hillingdon CCG","NHS Horsham and Mid Sussex CCG","NHS Hounslow CCG","NHS Hull CCG","NHS Ipswich and East Suffolk CCG","NHS Isle of Wight CCG","NHS Islington CCG","NHS Kernow CCG","NHS Kingston CCG","NHS Knowsley CCG","NHS Lambeth CCG","NHS Lancashire North CCG","NHS Leeds North CCG","NHS Leeds South and East CCG","NHS Leeds West CCG","NHS Leicester City CCG","NHS Lewisham CCG","NHS Lincolnshire East CCG","NHS Lincolnshire West CCG","NHS Liverpool CCG","NHS Luton CCG","NHS Mansfield & Ashfield CCG","NHS Medway CCG","NHS Merton CCG","NHS Mid Essex CCG","NHS Milton Keynes CCG","NHS Nene CCG","NHS Newark & Sherwood CCG","NHS Newbury and District CCG","NHS Newcastle North and East CCG","NHS Newcastle West CCG","NHS Newham CCG","NHS North & West Reading CCG","NHS North Derbyshire CCG","NHS North Durham CCG","NHS North East Essex CCG","NHS North East Hampshire and Farnham CCG","NHS North East Lincolnshire CCG","NHS North Hampshire CCG","NHS North Kirklees CCG","NHS North Lincolnshire CCG","NHS North Manchester CCG","NHS North Norfolk CCG","NHS North Somerset CCG","NHS North Staffordshire CCG","NHS North Tyneside CCG","NHS North West Surrey CCG","NHS North, East, West Devon CCG","NHS Northumberland CCG","NHS Norwich CCG","NHS Nottingham City CCG","NHS Nottingham North & East CCG","NHS Nottingham West CCG","NHS Oldham CCG","NHS Oxfordshire CCG","NHS Portsmouth CCG","NHS Redbridge CCG","NHS Redditch and Bromsgrove CCG","NHS Richmond CCG","NHS Rotherham CCG","NHS Rushcliffe CCG","NHS Salford CCG","NHS Sandwell and West Birmingham CCG","NHS Scarborough and Ryedale CCG","NHS Sheffield CCG","NHS Shropshire CCG","NHS Slough CCG","NHS Solihull CCG","NHS Somerset CCG","NHS South Cheshire CCG","NHS South Devon and Torbay CCG","NHS South East Staffs and Seisdon Peninsular CCG","NHS South Eastern Hampshire CCG","NHS South Gloucestershire CCG","NHS South Kent Coast CCG","NHS South Lincolnshire CCG","NHS South Manchester CCG","NHS South Norfolk CCG","NHS South Reading CCG","NHS South Sefton CCG","NHS South Tees CCG","NHS South Tyneside CCG","NHS South Warwickshire CCG","NHS South West Lincolnshire CCG ","NHS South Worcestershire CCG","NHS Southampton CCG","NHS Southend CCG","NHS Southern Derbyshire CCG","NHS Southport and Formby CCG","NHS Southwark CCG","NHS St Helens CCG","NHS Stafford and Surrounds CCG","NHS Stockport CCG","NHS Stoke on Trent CCG","NHS Sunderland CCG","NHS Surrey Downs CCG","NHS Surrey Heath CCG","NHS Sutton CCG","NHS Swale CCG","NHS Swindon CCG","NHS Tameside and Glossop CCG","NHS Telford & Wrekin CCG","NHS Thanet CCG","NHS Thurrock CCG","NHS Tower Hamlets CCG","NHS Trafford CCG","NHS Vale of York CCG","NHS Vale Royal CCG","NHS Wakefield CCG ","NHS Walsall CCG","NHS Waltham Forest CCG","NHS Wandsworth CCG","NHS Warrington CCG","NHS Warwickshire North CCG","NHS West Cheshire CCG","NHS West Essex CCG","NHS West Hampshire CCG","NHS West Kent CCG","NHS West Lancashire CCG","NHS West Leicestershire CCG","NHS West London (Kensington and Chelsea, Queen's Park and Paddington) CCG","NHS West Norfolk CCG","NHS West Suffolk CCG","NHS Wigan Borough CCG","NHS Wiltshire CCG","NHS Windsor, Ascot and Maidenhead CCG","NHS Wirral CCG","NHS Wokingham CCG","NHS Wolverhampton CCG","NHS Wyre Forest CCG"]
[1,"02T","10M","10M","08A","08T","00K","12A","03Y","09E","06Q","08T","05L","04C","00Y","01J","01D","11D","10T","00Y","08W","01E","05A","99E","01Y","05D","10Q","09A","03X","11E","10V","07R","04K","99H","05J","08L","11N","01F","11H","12D","08A","11N","02Q","99E","00K","11N","08F","02X","07Y","06F","02T","06Q","05T","03K","09X","02M","11T","07V","04L","99F","99Q","00D","11A","10A","05X","01A","08W","03W","01Y","05F","08X","02Q","08A","05R","08N","02H","07J","05C","03D","06K","00T","04Q","07M","99H","07W","05W","99N","07J","08Y","11X","08T","00M","08Q","09E","03G","05W","10X","04X","07T","06M","10A","01G","10T","02P","09J","07Y","99N","07G","04R","02Q","09C","03C","05W","08W","02D","00L","04D","02F","10J","02P","99M","00Y","04H","04X","09F","01C","04J","04L","99H","11J","04J","00J","03C","03X","04L","02R","06H","10X","10T","05H","99M","01Y","99D","05W","13P","09P","05A","00L","06P","02A","11N","05H","03T","05J","11T","05Q","06M","99K","10X","07K","10X","00N","05W","01T","05T","99K","05R","10R","01W","06F","02M","08K","02P","99D","99G","01Y","01T","09X","11D","07N","05D","09H","03L","02E","03H","04F","00W","05P","04V","02G","02P","00H","08A","08C","05J","05J","06T","99E","11M","99N","05H","06T","08H","10L","06Y","00K","06L","99M","03R","10G","05Y","04H"]
[2,"10A","10Y","09C","08W","07N","02X","12D","04H","03Q","04R","08F","05A","06P","02R","00P","02R","12A","04X","00T","07W","10R","10X","08F","02A","10D","04G","08H","04L","00J","10K","08Y","04C","10J","05H","08Q","11X","00V","03A","08T","07X","11X","03Y","09W","02P","09G","01W","02P","07P","04R","03G","05T","00L","10D","10J","03T","99D","08A","04Y","05Q","09F","03Y","11X","03T","09J","02V","07V","04N","03L","99D","08H","04H","07V","99K","08G","02X","06M","07Q","07K","04G","00Y","99D","06P","09L","08N","01G","05T","09P","08X","01H","11C","00R","07T","11E","07H","01A","00G","05L","08D","99Q","03H","11H","08N","01X","03A","07W","03W","09H","06K","01R","10Y","04K","01G","07P","07H","05G","05G","05T","11C","10E","10M","02R","05D","01D","10L","10V","05V","04E","07Q","06H","02Y","00N","10X","05Q","03X","01D","04G","06W","08E","02E","10N","00K","09X","03F","04X","06M","04R","07K","08N","01W","11M","04H","02M","04L","99F","99E","03K","06Y","01G","99K","11H","01X","00P","01X","02Y","06Y","02Y","03C","02A","04G","04M","07T","01T","05G","02A","00M","12F","10H","10G","09H","02T","99E","05W","00K","02G","09W","07P","01W","04D","01R","12F","06A","07P","08R","05H","02E","05T","10J","99N","06L","02D","03W","08X","09P","03D","02P","99J","10J","01X","10C","00H","01C"]
[3,"05D","05D","10J","07X","08G","04E","09J","00C","02F","06K","07Q","02R","05L","01D","01T","00Y","99M","06P","01D","07V","00J","09D","09Y","03L","09C","99P","10X","05Q","01K","05Q","09D","04X","06F","02E","08W","11A","01Y","03N","10G","08D","00L","03H","12D","00D","11X","99C","00F","08W","06N","00T","09N","05R","04H","09J","10L","06D","07M","99C","12A","06D","02P","99N","07J","05H","00M","08D","06Y","01X","07K","07T","00X","08L","04Q","07Y","02P","10A","05P","07J","06F","02R","06Y","08N","04N","08G","01Y","07K","03T","08C","09G","09H","01F","08L","01E","02T","02V","04K","00W","08A","04J","05G","09D","04X","99C","05X","08T","06F","12D","06F","03K","10J","10X","01Y","07W","99M","05T","06W","04J","11D","02Q","09L","05Y","02Q","03G","02M","99D","04H","03X","06Q","10Q","05N","09E","01N","99C","99F","00T","11M","03F","06P","00X","11C","02P","06Y","00H","04C","07J","11H","03D","07Y","10V","99N","05J","02F","04Y","01C","12D","09P","01C","03F","99D","01E","00P","01Y","00P","03E","99D","04J","06W","00N","06K","99F","08L","03L","03D","12F","01G","00N","09Y","12A","02A","09C","12A","00V","01Y","00C","09J","07W","99G","02Y","05H","03L","02R","07W","08H","00X","00X","01R","06F","11X","06F","03H","03Q","09A","06M","05F","03R","06Q","11D","00P","99M","05W","11T"]
[4,"09C","10D","09L","06P","04F","01X","10J","00X","01K","99J","09H","00T","01M","04X","00M","00V","12D","00Q","05Y","08A","11H","10R","99H","99G","03A","11M","10R","05J","04D","04M","10R","01M","06Q","02Q","08D","99Q","05X","04R","09J","08W","02Y","00X","09L","02H","99P","05P","03R","08R","04G","01E","09X","04J","09C","10M","99Q","10V","07G","05Q","10V","03T","04E","04R","09P","09W","03G","07L","09X","03V","06Y","08R","00C","08W","05T","07M","03L","10L","07N","05N","10H","05W","07K","06A","03W","08R","00P","06Y","06M","08D","11M","99M","00P","08C","09D","03A","00T","09E","00Q","08W","07J","00J","03N","08G","02H","12D","08G","09X","10G","06N","05H","09L","10R","05Y","07T","02V","02Y","09E","10V","10H","00C","99E","09H","10A","01G","99D","05T","00L","01X","12A","11N","05T","10R","00G","04Y","06D","00Q","04R","00J","08G","05Q","10C","01X","09N","01Y","06P","10A","04V","05F","08G","08F","11A","05Q","09F","12A","01R","10K","04H","11T","10R","04Q","01N","12F","03L","99C","03W","07K","06T","11H","01X","11M","04L","08C","04E","04N","99C","03L","00M","12A","99M","08F","03H","09J","03R","03A","02Q","07N","04C","00V","11E","05J","02H","03J","08D","08Y","02P","01R","02G","06Q","06Q","06Q","04H","09N","08D","05F","04Q","04E","11A","10C","03L","99H","00T","10V"]
[5,"03E","02T","09N","07V","07Q","02H","05J","03H","04D","10H","07M","06A","00Q","00T","00N","00M","10C","04C","03J","08D","10X","03N","12D","02E","02N","04R","00W","00X","03Q","05P","08H","10W","99M","04H","08K","06T","02D","05W","02A","07P","09G","02P","03A","03L","11M","04L","03H","08N","06Q","05W","05R","06M","02T","12D","07J","04J","07N","03Y","09X","01C","02Q","11N","02Y","02T","05W","07X","06Q","01T","05N","08K","04E","07X","99D","10T","04E","03M","02A","06Y","09Y","00M","03D","05A","12A","08E","00M","02Y","09F","07R","11J","12D","01T","08W","03C","01E","01D","01K","07Y","08Q","10L","03K","03F","03J","00K","02E","08P","06L","07M","11M","06D","07H","09E","01F","08V","10J","06T","04V","05G","10G","05H","09X","01D","00X","00H","03D","01R","03K","00X","10H","11M","10A","10X","00W","05J","10K","03J","99P","09D","07Y","01R","11D","03R","99K","00M","01M","10L","99A","02Y","08E","99E","01H","00X","06T","01R","06D","09X","00L","04Q","99A","03D","04K","00F","00T","00F","01C","03D","03W","01N","00V","99N","06D","08W","00N","04J","05P","03F","01X","06Q","10K","07Q","00C","05J","00K","03L","01T","09H","07R","02E","05T","02E","01Y","03L","07V","08D","05X","04H","05R","10H","03W","06K","02Q","04R","07R","10A","99K","02X","11M","09N","01W","10J","08G","03Y"]
[6,"07H","07H","05D","08D","08J","03R","01R","03K","06W","07H","09J","08G","00Y","03J","99G","05W","10J","08N","00Q","07Y","04D","03F","10H","05X","07H","06K","11H","02E","06W","01C","10X","01N","99E","03Y","08A","02Y","01X","08G","05X","08L","11M","03K","06F","03R","11A","02H","00C","08G","11M","01D","11T","07K","04Q","99E","06M","05R","07L","05J","11T","01V","99C","06K","05T","00K","02T","08L","99K","00K","04Q","08Q","05H","07P","02Y","07W","03R","03T","10K","02Y","04R","00V","05T","07Y","11T","06P","00K","99J","03D","09A","11A","07M","05W","08X","06W","10N","02T","09D","07W","07V","09F","04H","00P","02R","03Y","99E","08X","99E","08T","06H","03Y","05D","01N","03L","07Y","11C","03T","06T","04V","99E","02G","10H","00H","03Y","00T","01C","06D","06D","00N","99E","11X","05G","06T","10W","00X","99C","05Y","11X","01G","07W","04L","08T","02H","05V","01F","06A","03T","00J","06Y","03J","99G","06L","10V","06M","03X","10K","99H","07J","03D","04K","02Y","10R","10E","01G","99G","11T","04H","00L","09D","05P","04V","99C","07P","12F","01C","03R","00H","03R","03W","11C","08J","03K","10J","02P","05H","01X","12D","07Y","08F","09N","00V","00K","01Y","07L","07W","01R","02Q","99Q","05T","09G","11M","01R","01R","08C","03T","99D","03L","11X","10H","02P","09X","01Y","01R"]
[7,"04Q","04Q","09J","10T","09H","03L","07H","05H","06T","99N","07G","04X","02R","01A","01X","01Y","09L","05L","01A","08R","00P","99A","12A","00T","05H","06N","09D","04E","04V","04L","08X","05L","07H","02P","08C","04J","03L","00T","03A","07M","06L","04H","05D","04E","01H","02A","02Q","05L","99N","00Y","99N","06Y","10A","04N","06V","05T","08D","00X","04L","10V","01X","06L","10L","02E","04D","07P","01R","05W","05V","08W","03X","07T","11T","08J","01Y","05F","99E","10L","06Q","01Y","04N","08T","10J","10T","03L","06Q","05F","07T","00L","08G","03F","07P","00J","00V","00V","10R","08G","07P","00L","02F","00M","00Y","00F","00K","08J","10J","07N","10Q","00X","09X","09D","01D","04C","00V","01C","00F","01R","12D","03Y","07H","00Q","01R","00Y","07J","05R","01R","01W","12D","01H","06M","02F","10R","03Y","10V","01A","06N","11H","07M","04H","09Y","12F","04Q","00P","08G","05F","10R","04J","04X","05C","09G","11T","04J","10K","06T","10G","05T","05V","05W","04N","02V","03H","01T","12F","99K","05D","11T","03F","12F","06Q","09F","08A","01Y","06Y","01X","03R","05W","99E","99F","07M","05X","02E","01X","05J","03Y","10G","04X","05C","02F","10V","01X","00T","08L","07P","02H","02P","04J","01R","06L","03W","02F","05T","08R","03D","05N","02E","03W","12D","01T","09L","01D","04J"]
[8,"06M","10J","10H","01M","09J","03H","06Q","02P","04V","09J","02A","05Y","01D","06P","12F","03G","09H","03J","03G","08L","01K","06W","07N","05H","03H","11J","01N","03Y","02F","11T","11H","07R","09Y","01R","07P","11J","02E","03F","05J","07L","05T","05H","12A","03H","06H","05Q","03L","08E","99J","00M","06L","06L","01R","10Y","04J","05V","04F","05H","99E","11T","00N","06Q","00L","05J","03H","01M","04Q","04E","99K","07W","00F","08H","02F","06P","02E","00L","04L","04Q","07Q","00H","11T","09H","06Q","04X","01F","03W","10A","08V","02Y","08F","01D","08D","02F","02N","01Y","06W","06P","08K","09P","01R","05W","05L","00X","10D","10N","99H","07Q","11X","05J","04Q","01K","00K","05L","02A","06D","03H","99Q","99H","04H","12D","00T","00C","06A","05V","09X","02Q","03Y","09X","04G","03T","04V","99A","05H","01V","03G","06K","09E","04X","04Y","08J","05W","09L","03L","02R","02N","03A","06L","07M","99F","05T","05T","06D","05H","05Q","09Y","05D","04N","00M","05F","05A","02P","03R","03Y","99D","05T","02F","04K","99C","11X","00N","08D","99C","06D","05C","00P","01Y","10J","99H","12D","04H","09L","01F","00V","00N","09L","08W","05J","06T","07H","02X","05W","08R","08W","05Q","02G","10V","02T","06K","04R","10E","04D","08T","02Y","02Y","01X","06F","12A","02H","12A","02A","04L"]
[9,"05T","01R","04Q","04X","09Y","00D","09X","00F","03E","04G","12D","00Y","08G","03G","05W","01A","99E","08V","00V","05L","99A","00P","02A","02D","01A","11X","08Y","99C","01E","03X","03C","08W","03W","04L","08H","00L","02A","01E","02E","08R","06M","00D","10Y","00C","99N","03X","12F","04C","11A","02R","06Y","05N","09J","99H","06D","03W","06P","04M","03X","10L","01T","04G","04J","01Y","02G","05L","99D","02P","10L","07R","02P","08X","01C","08T","05X","09F","12A","10A","11M","03G","05R","02R","99E","08W","03R","11X","02Y","08L","06T","10C","03V","08A","04D","05H","01G","11H","10W","07L","06D","06T","01N","07Y","03L","05J","08W","09N","99M","99N","10A","01R","00J","03A","08Q","10M","04H","02F","02Y","12A","02X","06Q","03A","05H","02R","04J","99K","03Y","00F","10J","11A","03K","00P","11H","04M","05Q","00V","11N","03A","05L","03X","10J","02X","07K","00K","08W","04D","04D","99D","02R","05H","02Y","02D","05T","00X","05T","10J","04D","07K","01J","06L","08G","03L","00V","04E","07K","04N","06L","09E","01T","03R","99Q","08X","03R","04H","03L","00K","03L","09L","09X","99G","05H","10G","00M","10D","04H","05X","05L","99E","05R","04H","01W","01D","05L","11H","00K","03H","05H","09C","11N","10Y","01X","06Q","08J","09F","06L","99C","05T","99E","00D","11C","03L","05H"]
[10,"04H","02N","06Q","05L","12D","05H","05Q","02G","05T","99E","99E","01D","00T","05Y","01W","05Y","09X","00Y","05W","08N","06W","01G","09J","03V","00V","11A","04K","05H","06T","12A","08C","08A","09X","99C","08X","03T","04E","03R","99E","08G","03T","01X","05J","00F","04R","04E","00K","04X","09Y","01Y","99H","99D","05H","12A","05G","01R","08T","04E","99H","04J","00C","99J","06T","02X","01Y","08R","10Y","05X","02Y","07P","04L","07L","06Y","08R","01X","02Y","05Q","06M","07H","05Y","03E","08J","09N","07P","02P","00L","00L","07P","06L","09Y","01Y","08M","10X","02F","00M","00J","00Y","08X","10A","05T","10X","00Q","02X","06F","07M","10H","09J","06Q","05G","09N","06W","00C","04X","99G","05V","02P","06M","10C","00D","10Y","06P","05G","05L","06D","03W","06T","02P","09L","04R","06L","11E","03N","06D","05P","02T","06F","01E","03J","99E","07Q","01F","03W","03G","08N","03E","03F","05V","00Y","05J","04R","02E","10V","02E","05P","09L","02Q","05T","00P","05T","03C","02G","03F","10E","06Y","01R","01R","00J","10E","06L","03X","08H","05H","01R","02E","00V","01W","11D","12D","05P","02Q","99M","05X","09W","10A","03A","08N","12D","09E","10J","05H","00Y","07T","07Y","04Y","03Y","03T","02D","05T","11A","01T","05G","07M","00L","05T","01Y","06K","02D","00N","10H","05A","99D"]

{"sheet":"Similar 10 CCGs","index":3,"n_rows":162,"n_cols":19,"rows_kept":162,"cut":false,"hidden":false,"merged":[[1,5,1,14],[3,2,3,3],[161,6,163,8],[161,5,163,5],[1,15,4,15],[4,2,4,3]]}
[]
[null,null,null,null,null,"Similar 10 CCGs to the selected CCG:",null,null,null,null,null,null,null,null,null,"Rank of Selected CCG within similar 10 CCGs (where 11=\"worst\", e.g. higher spending)"]
[null,null,null,"Selected CCG Code:",{"$f":"INDEX('closest CCG (code)'!$B$1:$HD$1,MATCH(E4,'closest CCG (code)'!$B$2:$HD$2,0))","v":"02N"},{"$f":"TRANSPOSE(OFFSET('closest CCG (code)'!$A$3,0,MATCH($E$3,'closest CCG (code)'!$B$1:$HD$1,0),10,1))","v":"02T"},"10A","05D","09C","03E","07H","04Q","06M","05T","04H"]
[null,null,"Select Your CCG:    ",null,"NHS Airedale, Wharfedale and Craven CCG",{"$f":"HLOOKUP(F3,'closest CCG (code)'!$B$1:$HD$2,2,FALSE)","v":"NHS Calderdale CCG"},{"$f":"HLOOKUP(G3,'closest CCG (code)'!$B$1:$HD$2,2,FALSE)","v":"NHS South Kent Coast CCG"},{"$f":"HLOOKUP(H3,'closest CCG (code)'!$B$1:$HD$2,2,FALSE)","v":"NHS East Staffordshire CCG"},{"$f":"HLOOKUP(I3,'closest CCG (code)'!$B$1:$HD$2,2,FALSE)","v":"NHS Ashford CCG"},{"$f":"HLOOKUP(J3,'closest CCG (code)'!$B$1:$HD$2,2,FALSE)","v":"NHS Harrogate and Rural District CCG"},{"$f":"HLOOKUP(K3,'closest CCG (code)'!$B$1:$HD$2,2,FALSE)","v":"NHS West Essex CCG"},{"$f":"HLOOKUP(L3,'closest CCG (code)'!$B$1:$HD$2,2,FALSE)","v":"NHS South West Lincolnshire CCG "},{"$f":"HLOOKUP(M3,'closest CCG (code)'!$B$1:$HD$2,2,FALSE)","v":"NHS Great Yarmouth & Waveney CCG"},{"$f":"HLOOKUP(N3,'closest CCG (code)'!$B$1:$HD$2,2,FALSE)","v":"NHS South Worcestershire CCG"},{"$f":"HLOOKUP(O3,'closest CCG (code)'!$B$1:$HD$2,2,FALSE)","v":"NHS Newark & Sherwood CCG"}]
["indicator ID",null,"Indicator Name",null,"Value","Value","Value","Value","Value","Value","Value","Value","Value","Value","Value",null,null,null,"Direction if \"better\""]
[101,null,"Asthma Prevalence",null,{"$f":"SUMIFS(Data!$H$2:$H$32706,Data!$A$2:$A$32706,$A6,Data!$D$2:$D$32706,$E$3)","v":6.49},{"$f":"SUMIFS(Data!$H$2:$H$32706,Data!$A$2:$A$32706,$A6,Data!$D$2:$D$32706,F$3)","v":6.34},{"$f":"SUMIFS(Data!$H$2:$H$32706,Data!$A$2:$A$32706,$A6,Data!$D$2:$D$32706,G$3)","v":5.59},{"$f":"SUMIFS(Data!$H$2:$H$32706,Data!$A$2:$A$32706,$A6,Data!$D$2:$D$32706,H$3)","v":6.05},{"$f":"SUMIFS(Data!$H$2:$H$32706,Data!$A$2:$A$32706,$A6,Data!$D$2:$D$32706,I$3)","v":5.63},{"$f":"SUMIFS(Data!$H$2:$H$32706,Data!$A$2:$A$32706,$A6,Data!$D$2:$D$32706,J$3)","v":5.86},{"$f":"SUMIFS(Data!$H$2:$H$32706,Data!$A$2:$A$32706,$A6,Data!$D$2:$D$32706,K$3)","v":5.88},{"$f":"SUMIFS(Data!$H$2:$H$32706,Data!$A$2:$A$32706,$A6,Data!$D$2:$D$32706,L$3)","v":5.96},{"$f":"SUMIFS(Data!$H$2:$H$32706,Data!$A$2:$A$32706,$A6,Data!$D$2:$D$32706,M$3)","v":6.6},{"$f":"SUMIFS(Data!$H$2:$H$32706,Data!$A$2:$A$32706,$A6,Data!$D$2:$D$32706,N$3)","v":5.8},{"$f":"SUMIFS(Data!$H$2:$H$32706,Data!$A$2:$A$32706,$A6,Data!$D$2:$D$32706,O$3)","v":5.99},{"$f":"IF(S6=\"-\",RANK(E6,E6:O6,1),RANK(E6,E6:O6,0))","v":10},null,null,"-"]
[102,null,"Atrial Fibrillation Prevalence",null,{"$f":"SUMIFS(Data!$H$2:$H$32706,Data!$A$2:$A$32706,$A7,Data!$D$2:$D$32706,$E$3)","v":2.04},{"$f":"SUMIFS(Data!$H$2:$H$32706,Data!$A$2:$A$32706,$A7,Data!$D$2:$D$32706,F$3)","v":1.36},{"$f":"SUMIFS(Data!$H$2:$H$32706,Data!$A$2:$A$32706,$A7,Data!$D$2:$D$32706,G$3)","v":2.0499999999999998},{"$f":"SUMIFS(Data!$H$2:$H$32706,Data!$A$2:$A$32706,$A7,Data!$D$2:$D$32706,H$3)","v":1.59},{"$f":"SUMIFS(Data!$H$2:$H$32706,Data!$A$2:$A$32706,$A7,Data!$D$2:$D$32706,I$3)","v":1.94},{"$f":"SUMIFS(Data!$H$2:$H$32706,Data!$A$2:$A$32706,$A7,Data!$D$2:$D$32706,J$3)","v":1.96},{"$f":"SUMIFS(Data!$H$2:$H$32706,Data!$A$2:$A$32706,$A7,Data!$D$2:$D$32706,K$3)","v":1.52},{"$f":"SUMIFS(Data!$H$2:$H$32706,Data!$A$2:$A$32706,$A7,Data!$D$2:$D$32706,L$3)","v":1.71},{"$f":"SUMIFS(Data!$H$2:$H$32706,Data!$A$2:$A$32706,$A7,Data!$D$2:$D$32706,M$3)","v":1.91},{"$f":"SUMIFS(Data!$H$2:$H$32706,Data!$A$2:$A$32706,$A7,Data!$D$2:$D$32706,N$3)","v":1.77},{"$f":"SUMIFS(Data!$H$2:$H$32706,Data!$A$2:$A$32706,$A7,Data!$D$2:$D$32706,O$3)","v":1.71},10,null,null,"-"]
[103,null,"Cancer Prevalence",null,{"$f":"SUMIFS(Data!$H$2:$H$32706,Data!$A$2:$A$32706,$A8,Data!$D$2:$D$32706,$E$3)","v":1.88},{"$f":"SUMIFS(Data!$H$2:$H$32706,Data!$A$2:$A$32706,$A8,Data!$D$2:$D$32706,F$3)","v":1.83},{"$f":"SUMIFS(Data!$H$2:$H$32706,Data!$A$2:$A$32706,$A8,Data!$D$2:$D$32706,G$3)","v":2.13},{"$f":"SUMIFS(Data!$H$2:$H$32706,Data!$A$2:$A$32706,$A8,Data!$D$2:$D$32706,H$3)","v":2.0499999999999998},{"$f":"SUMIFS(Data!$H$2:$H$32706,Data!$A$2:$A$32706,$A8,Data!$D$2:$D$32706,I$3)","v":1.97},{"$f":"SUMIFS(Data!$H$2:$H$32706,Data!$A$2:$A$32706,$A8,Data!$D$2:$D$32706,J$3)","v":2.33},{"$f":"SUMIFS(Data!$H$2:$H$32706,Data!$A$2:$A$32706,$A8,Data!$D$2:$D$32706,K$3)","v":1.86},{"$f":"SUMIFS(Data!$H$2:$H$32706,Data!$A$2:$A$32706,$A8,Data!$D$2:$D$32706,L$3)","v":2.21},{"$f":"SUMIFS(Data!$H$2:$H$32706,Data!$A$2:$A$32706,$A8,Data!$D$2:$D$32706,M$3)","v":2.27},{"$f":"SUMIFS(Data!$H$2:$H$32706,Data!$A$2:$A$32706,$A8,Data!$D$2:$D$32706,N$3)","v":2.17},{"$f":"SUMIFS(Data!$H$2:$H$32706,Data!$A$2:$A$32706,$A8,Data!$D$2:$D$32706,O$3)","v":1.9},3,null,null,"-"]
[104,null,"Cardiovascular Disease Primary Prevention Prevalence",null,{"$f":"SUMIFS(Data!$H$2:$H$32706,Data!$A$2:$A$32706,$A9,Data!$D$2:$D$32706,$E$3)","v":1.7},{"$f":"SUMIFS(Data!$H$2:$H$32706,Data!$A$2:$A$32706,$A9,Data!$D$2:$D$32706,F$3)","v":1.57},{"$f":"SUMIFS(Data!$H$2:$H$32706,Data!$A$2:$A$32706,$A9,Data!$D$2:$D$32706,G$3)","v":1.88},{"$f":"SUMIFS(Data!$H$2:$H$32706,Data!$A$2:$A$32706,$A9,Data!$D$2:$D$32706,H$3)","v":1.63},{"$f":"SUMIFS(Data!$H$2:$H$32706,Data!$A$2:$A$32706,$A9,Data!$D$2:$D$32706,I$3)","v":1.73},{"$f":"SUMIFS(Data!$H$2:$H$32706,Data!$A$2:$A$32706,$A9,Data!$D$2:$D$32706,J$3)","v":1.59},{"$f":"SUMIFS(Data!$H$2:$H$32706,Data!$A$2:$A$32706,$A9,Data!$D$2:$D$32706,K$3)","v":1.74},{"$f":"SUMIFS(Data!$H$2:$H$32706,Data!$A$2:$A$32706,$A9,Data!$D$2:$D$32706,L$3)","v":1.91},{"$f":"SUMIFS(Data!$H$2:$H$32706,Data!$A$2:$A$32706,$A9,Data!$D$2:$D$32706,M$3)","v":2.4900000000000002},{"$f":"SUMIFS(Data!$H$2:$H$32706,Data!$A$2:$A$32706,$A9,Data!$D$2:$D$32706,N$3)","v":1.5},{"$f":"SUMIFS(Data!$H$2:$H$32706,Data!$A$2:$A$32706,$A9,Data!$D$2:$D$32706,O$3)","v":1.57},6,null,null,"-"]
[105,null,"Chronic Kidney Disease (ages 18+) Prevalence",null,{"$f":"SUMIFS(Data!$H$2:$H$32706,Data!$A$2:$A$32706,$A10,Data!$D$2:$D$32706,$E$3)","v":4.49},{"$f":"SUMIFS(Data!$H$2:$H$32706,Data!$A$2:$A$32706,$A10,Data!$D$2:$D$32706,F$3)","v":4.5199999999999996},{"$f":"SUMIFS(Data!$H$2:$H$32706,Data!$A$2:$A$32706,$A10,Data!$D$2:$D$32706,G$3)","v":4.68},{"$f":"SUMIFS(Data!$H$2:$H$32706,Data!$A$2:$A$32706,$A10,Data!$D$2:$D$32706,H$3)","v":3.94},{"$f":"SUMIFS(Data!$H$2:$H$32706,Data!$A$2:$A$32706,$A10,Data!$D$2:$D$32706,I$3)","v":4.22},{"$f":"SUMIFS(Data!$H$2:$H$32706,Data!$A$2:$A$32706,$A10,Data!$D$2:$D$32706,J$3)","v":4},{"$f":"SUMIFS(Data!$H$2:$H$32706,Data!$A$2:$A$32706,$A10,Data!$D$2:$D$32706,K$3)","v":3.52},{"$f":"SUMIFS(Data!$H$2:$H$32706,Data!$A$2:$A$32706,$A10,Data!$D$2:$D$32706,L$3)","v":6.14},{"$f":"SUMIFS(Data!$H$2:$H$32706,Data!$A$2:$A$32706,$A10,Data!$D$2:$D$32706,M$3)","v":5.96},{"$f":"SUMIFS(Data!$H$2:$H$32706,Data!$A$2:$A$32706,$A10,Data!$D$2:$D$32706,N$3)","v":4.9800000000000004},{"$f":"SUMIFS(Data!$H$2:$H$32706,Data!$A$2:$A$32706,$A10,Data!$D$2:$D$32706,O$3)","v":5.27},5,null,null,"-"]
[106,null,"Chronic Obstructive Pulmonary Disease Prevalence",null,{"$f":"SUMIFS(Data!$H$2:$H$32706,Data!$A$2:$A$32706,$A11,Data!$D$2:$D$32706,$E$3)","v":1.92},{"$f":"SUMIFS(Data!$H$2:$H$32706,Data!$A$2:$A$32706,$A11,Data!$D$2:$D$32706,F$3)","v":1.79},{"$f":"SUMIFS(Data!$H$2:$H$32706,Data!$A$2:$A$32706,$A11,Data!$D$2:$D$32706,G$3)","v":2.06},{"$f":"SUMIFS(Data!$H$2:$H$32706,Data!$A$2:$A$32706,$A11,Data!$D$2:$D$32706,H$3)","v":1.59},{"$f":"SUMIFS(Data!$H$2:$H$32706,Data!$A$2:$A$32706,$A11,Data!$D$2:$D$32706,I$3)","v":1.55},{"$f":"SUMIFS(Data!$H$2:$H$32706,Data!$A$2:$A$32706,$A11,Data!$D$2:$D$32706,J$3)","v":1.57},{"$f":"SUMIFS(Data!$H$2:$H$32706,Data!$A$2:$A$32706,$A11,Data!$D$2:$D$32706,K$3)","v":1.56},{"$f":"SUMIFS(Data!$H$2:$H$32706,Data!$A$2:$A$32706,$A11,Data!$D$2:$D$32706,L$3)","v":1.66},{"$f":"SUMIFS(Data!$H$2:$H$32706,Data!$A$2:$A$32706,$A11,Data!$D$2:$D$32706,M$3)","v":2.4300000000000002},{"$f":"SUMIFS(Data!$H$2:$H$32706,Data!$A$2:$A$32706,$A11,Data!$D$2:$D$32706,N$3)","v":1.54},{"$f":"SUMIFS(Data!$H$2:$H$32706,Data!$A$2:$A$32706,$A11,Data!$D$2:$D$32706,O$3)","v":1.94},8,null,null,"-"]
[107,null,"Coronary Heart Disease Prevalence",null,{"$f":"SUMIFS(Data!$H$2:$H$32706,Data!$A$2:$A$32706,$A12,Data!$D$2:$D$32706,$E$3)","v":4.21},{"$f":"SUMIFS(Data!$H$2:$H$32706,Data!$A$2:$A$32706,$A12,Data!$D$2:$D$32706,F$3)","v":3.98},{"$f":"SUMIFS(Data!$H$2:$H$32706,Data!$A$2:$A$32706,$A12,Data!$D$2:$D$32706,G$3)","v":3.82},{"$f":"SUMIFS(Data!$H$2:$H$32706,Data!$A$2:$A$32706,$A12,Data!$D$2:$D$32706,H$3)","v":3.47},{"$f":"SUMIFS(Data!$H$2:$H$32706,Data!$A$2:$A$32706,$A12,Data!$D$2:$D$32706,I$3)","v":3.1},{"$f":"SUMIFS(Data!$H$2:$H$32706,Data!$A$2:$A$32706,$A12,Data!$D$2:$D$32706,J$3)","v":3.97},{"$f":"SUMIFS(Data!$H$2:$H$32706,Data!$A$2:$A$32706,$A12,Data!$D$2:$D$32706,K$3)","v":3.05},{"$f":"SUMIFS(Data!$H$2:$H$32706,Data!$A$2:$A$32706,$A12,Data!$D$2:$D$32706,L$3)","v":4.29},{"$f":"SUMIFS(Data!$H$2:$H$32706,Data!$A$2:$A$32706,$A12,Data!$D$2:$D$32706,M$3)","v":4.21},{"$f":"SUMIFS(Data!$H$2:$H$32706,Data!$A$2:$A$32706,$A12,Data!$D$2:$D$32706,N$3)","v":3.35},{"$f":"SUMIFS(Data!$H$2:$H$32706,Data!$A$2:$A$32706,$A12,Data!$D$2:$D$32706,O$3)","v":4.03},9,null,null,"-"]
[108,null,"Dementia Prevalence",null,{"$f":"SUMIFS(Data!$H$2:$H$32706,Data!$A$2:$A$32706,$A13,Data!$D$2:$D$32706,$E$3)","v":0.71},{"$f":"SUMIFS(Data!$H$2:$H$32706,Data!$A$2:$A$32706,$A13,Data!$D$2:$D$32706,F$3)","v":0.55000000000000004},{"$f":"SUMIFS(Data!$H$2:$H$32706,Data!$A$2:$A$32706,$A13,Data!$D$2:$D$32706,G$3)","v":0.59},{"$f":"SUMIFS(Data!$H$2:$H$32706,Data!$A$2:$A$32706,$A13,Data!$D$2:$D$32706,H$3)","v":0.53},{"$f":"SUMIFS(Data!$H$2:$H$32706,Data!$A$2:$A$32706,$A13,Data!$D$2:$D$32706,I$3)","v":0.47},{"$f":"SUMIFS(Data!$H$2:$H$32706,Data!$A$2:$A$32706,$A13,Data!$D$2:$D$32706,J$3)","v":0.77},{"$f":"SUMIFS(Data!$H$2:$H$32706,Data!$A$2:$A$32706,$A13,Data!$D$2:$D$32706,K$3)","v":0.59},{"$f":"SUMIFS(Data!$H$2:$H$32706,Data!$A$2:$A$32706,$A13,Data!$D$2:$D$32706,L$3)","v":0.6},{"$f":"SUMIFS(Data!$H$2:$H$32706,Data!$A$2:$A$32706,$A13,Data!$D$2:$D$32706,M$3)","v":0.81},{"$f":"SUMIFS(Data!$H$2:$H$32706,Data!$A$2:$A$32706,$A13,Data!$D$2:$D$32706,N$3)","v":0.54},{"$f":"SUMIFS(Data!$H$2:$H$32706,Data!$A$2:$A$32706,$A13,Data!$D$2:$D$32706,O$3)","v":0.44},9,null,null,"-"]
[109,null,"Depression (ages 18+) Prevalence",null,{"$f":"SUMIFS(Data!$H$2:$H$32706,Data!$A$2:$A$32706,$A14,Data!$D$2:$D$32706,$E$3)","v":12.42},{"$f":"SUMIFS(Data!$H$2:$H$32706,Data!$A$2:$A$32706,$A14,Data!$D$2:$D$32706,F$3)","v":14.89},{"$f":"SUMIFS(Data!$H$2:$H$32706,Data!$A$2:$A$32706,$A14,Data!$D$2:$D$32706,G$3)","v":10.32},{"$f":"SUMIFS(Data!$H$2:$H$32706,Data!$A$2:$A$32706,$A14,Data!$D$2:$D$32706,H$3)","v":12.21},{"$f":"SUMIFS(Data!$H$2:$H$32706,Data!$A$2:$A$32706,$A14,Data!$D$2:$D$32706,I$3)","v":13.23},{"$f":"SUMIFS(Data!$H$2:$H$32706,Data!$A$2:$A$32706,$A14,Data!$D$2:$D$32706,J$3)","v":13.93},{"$f":"SUMIFS(Data!$H$2:$H$32706,Data!$A$2:$A$32706,$A14,Data!$D$2:$D$32706,K$3)","v":12.26},{"$f":"SUMIFS(Data!$H$2:$H$32706,Data!$A$2:$A$32706,$A14,Data!$D$2:$D$32706,L$3)","v":13.45},{"$f":"SUMIFS(Data!$H$2:$H$32706,Data!$A$2:$A$32706,$A14,Data!$D$2:$D$32706,M$3)","v":15.31},{"$f":"SUMIFS(Data!$H$2:$H$32706,Data!$A$2:$A$32706,$A14,Data!$D$2:$D$32706,N$3)","v":13},{"$f":"SUMIFS(Data!$H$2:$H$32706,Data!$A$2:$A$32706,$A14,Data!$D$2:$D$32706,O$3)","v":12.56},4,null,null,"-"]
[110,null,"Diabetes Mellitus (Diabetes) (ages 17+) Prevalence",null,{"$f":"SUMIFS(Data!$H$2:$H$32706,Data!$A$2:$A$32706,$A15,Data!$D$2:$D$32706,$E$3)","v":6.06},{"$f":"SUMIFS(Data!$H$2:$H$32706,Data!$A$2:$A$32706,$A15,Data!$D$2:$D$32706,F$3)","v":5.59},{"$f":"SUMIFS(Data!$H$2:$H$32706,Data!$A$2:$A$32706,$A15,Data!$D$2:$D$32706,G$3)","v":6.43},{"$f":"SUMIFS(Data!$H$2:$H$32706,Data!$A$2:$A$32706,$A15,Data!$D$2:$D$32706,H$3)","v":5.97},{"$f":"SUMIFS(Data!$H$2:$H$32706,Data!$A$2:$A$32706,$A15,Data!$D$2:$D$32706,I$3)","v":5.67},{"$f":"SUMIFS(Data!$H$2:$H$32706,Data!$A$2:$A$32706,$A15,Data!$D$2:$D$32706,J$3)","v":4.71},{"$f":"SUMIFS(Data!$H$2:$H$32706,Data!$A$2:$A$32706,$A15,Data!$D$2:$D$32706,K$3)","v":5.55},{"$f":"SUMIFS(Data!$H$2:$H$32706,Data!$A$2:$A$32706,$A15,Data!$D$2:$D$32706,L$3)","v":5.95},{"$f":"SUMIFS(Data!$H$2:$H$32706,Data!$A$2:$A$32706,$A15,Data!$D$2:$D$32706,M$3)","v":6.57},{"$f":"SUMIFS(Data!$H$2:$H$32706,Data!$A$2:$A$32706,$A15,Data!$D$2:$D$32706,N$3)","v":6.03},{"$f":"SUMIFS(Data!$H$2:$H$32706,Data!$A$2:$A$32706,$A15,Data!$D$2:$D$32706,O$3)","v":5.67},9,null,null,"-"]
[111,null,"Epilepsy (ages 18+) Prevalence",null,{"$f":"SUMIFS(Data!$H$2:$H$32706,Data!$A$2:$A$32706,$A16,Data!$D$2:$D$32706,$E$3)","v":0.8},{"$f":"SUMIFS(Data!$H$2:$H$32706,Data!$A$2:$A$32706,$A16,Data!$D$2:$D$32706,F$3)","v":1.02},{"$f":"SUMIFS(Data!$H$2:$H$32706,Data!$A$2:$A$32706,$A16,Data!$D$2:$D$32706,G$3)","v":1.01},{"$f":"SUMIFS(Data!$H$2:$H$32706,Data!$A$2:$A$32706,$A16,Data!$D$2:$D$32706,H$3)","v":0.85},{"$f":"SUMIFS(Data!$H$2:$H$32706,Data!$A$2:$A$32706,$A16,Data!$D$2:$D$32706,I$3)","v":0.81},{"$f":"SUMIFS(Data!$H$2:$H$32706,Data!$A$2:$A$32706,$A16,Data!$D$2:$D$32706,J$3)","v":0.76},{"$f":"SUMIFS(Data!$H$2:$H$32706,Data!$A$2:$A$32706,$A16,Data!$D$2:$D$32706,K$3)","v":0.69},{"$f":"SUMIFS(Data!$H$2:$H$32706,Data!$A$2:$A$32706,$A16,Data!$D$2:$D$32706,L$3)","v":0.79},{"$f":"SUMIFS(Data!$H$2:$H$32706,Data!$A$2:$A$32706,$A16,Data!$D$2:$D$32706,M$3)","v":0.92},{"$f":"SUMIFS(Data!$H$2:$H$32706,Data!$A$2:$A$32706,$A16,Data!$D$2:$D$32706,N$3)","v":0.76},{"$f":"SUMIFS(Data!$H$2:$H$32706,Data!$A$2:$A$32706,$A16,Data!$D$2:$D$32706,O$3)","v":0.95},5,null,null,"-"]
[112,null,"Heart Failure Prevalence",null,{"$f":"SUMIFS(Data!$H$2:$H$32706,Data!$A$2:$A$32706,$A17,Data!$D$2:$D$32706,$E$3)","v":0.95},{"$f":"SUMIFS(Data!$H$2:$H$32706,Data!$A$2:$A$32706,$A17,Data!$D$2:$D$32706,F$3)","v":0.69},{"$f":"SUMIFS(Data!$H$2:$H$32706,Data!$A$2:$A$32706,$A17,Data!$D$2:$D$32706,G$3)","v":0.64},{"$f":"SUMIFS(Data!$H$2:$H$32706,Data!$A$2:$A$32706,$A17,Data!$D$2:$D$32706,H$3)","v":0.82},{"$f":"SUMIFS(Data!$H$2:$H$32706,Data!$A$2:$A$32706,$A17,Data!$D$2:$D$32706,I$3)","v":0.56999999999999995},{"$f":"SUMIFS(Data!$H$2:$H$32706,Data!$A$2:$A$32706,$A17,Data!$D$2:$D$32706,J$3)","v":0.86},{"$f":"SUMIFS(Data!$H$2:$H$32706,Data!$A$2:$A$32706,$A17,Data!$D$2:$D$32706,K$3)","v":0.79},{"$f":"SUMIFS(Data!$H$2:$H$32706,Data!$A$2:$A$32706,$A17,Data!$D$2:$D$32706,L$3)","v":0.97},{"$f":"SUMIFS(Data!$H$2:$H$32706,Data!$A$2:$A$32706,$A17,Data!$D$2:$D$32706,M$3)","v":1},{"$f":"SUMIFS(Data!$H$2:$H$32706,Data!$A$2:$A$32706,$A17,Data!$D$2:$D$32706,N$3)","v":0.76},{"$f":"SUMIFS(Data!$H$2:$H$32706,Data!$A$2:$A$32706,$A17,Data!$D$2:$D$32706,O$3)","v":0.81},9,null,null,"-"]
[113,null,"Heart Failure Due to LVD Prevalence",null,{"$f":"SUMIFS(Data!$H$2:$H$32706,Data!$A$2:$A$32706,$A18,Data!$D$2:$D$32706,$E$3)","v":0.42},{"$f":"SUMIFS(Data!$H$2:$H$32706,Data!$A$2:$A$32706,$A18,Data!$D$2:$D$32706,F$3)","v":0.36},{"$f":"SUMIFS(Data!$H$2:$H$32706,Data!$A$2:$A$32706,$A18,Data!$D$2:$D$32706,G$3)","v":0.38},{"$f":"SUMIFS(Data!$H$2:$H$32706,Data!$A$2:$A$32706,$A18,Data!$D$2:$D$32706,H$3)","v":0.42},{"$f":"SUMIFS(Data!$H$2:$H$32706,Data!$A$2:$A$32706,$A18,Data!$D$2:$D$32706,I$3)","v":0.31},{"$f":"SUMIFS(Data!$H$2:$H$32706,Data!$A$2:$A$32706,$A18,Data!$D$2:$D$32706,J$3)","v":0.4},{"$f":"SUMIFS(Data!$H$2:$H$32706,Data!$A$2:$A$32706,$A18,Data!$D$2:$D$32706,K$3)","v":0.51},{"$f":"SUMIFS(Data!$H$2:$H$32706,Data!$A$2:$A$32706,$A18,Data!$D$2:$D$32706,L$3)","v":0.64},{"$f":"SUMIFS(Data!$H$2:$H$32706,Data!$A$2:$A$32706,$A18,Data!$D$2:$D$32706,M$3)","v":0.55000000000000004},{"$f":"SUMIFS(Data!$H$2:$H$32706,Data!$A$2:$A$32706,$A18,Data!$D$2:$D$32706,N$3)","v":0.46},{"$f":"SUMIFS(Data!$H$2:$H$32706,Data!$A$2:$A$32706,$A18,Data!$D$2:$D$32706,O$3)","v":0.43},5,null,null,"-"]
[114,null,"Hypertension Prevalence",null,{"$f":"SUMIFS(Data!$H$2:$H$32706,Data!$A$2:$A$32706,$A19,Data!$D$2:$D$32706,$E$3)","v":14.58},{"$f":"SUMIFS(Data!$H$2:$H$32706,Data!$A$2:$A$32706,$A19,Data!$D$2:$D$32706,F$3)","v":13.22},{"$f":"SUMIFS(Data!$H$2:$H$32706,Data!$A$2:$A$32706,$A19,Data!$D$2:$D$32706,G$3)","v":15.78},{"$f":"SUMIFS(Data!$H$2:$H$32706,Data!$A$2:$A$32706,$A19,Data!$D$2:$D$32706,H$3)","v":13.74},{"$f":"SUMIFS(Data!$H$2:$H$32706,Data!$A$2:$A$32706,$A19,Data!$D$2:$D$32706,I$3)","v":13.81},{"$f":"SUMIFS(Data!$H$2:$H$32706,Data!$A$2:$A$32706,$A19,Data!$D$2:$D$32706,J$3)","v":14.65},{"$f":"SUMIFS(Data!$H$2:$H$32706,Data!$A$2:$A$32706,$A19,Data!$D$2:$D$32706,K$3)","v":13.79},{"$f":"SUMIFS(Data!$H$2:$H$32706,Data!$A$2:$A$32706,$A19,Data!$D$2:$D$32706,L$3)","v":16.25},{"$f":"SUMIFS(Data!$H$2:$H$32706,Data!$A$2:$A$32706,$A19,Data!$D$2:$D$32706,M$3)","v":16.68},{"$f":"SUMIFS(Data!$H$2:$H$32706,Data!$A$2:$A$32706,$A19,Data!$D$2:$D$32706,N$3)","v":14.3},{"$f":"SUMIFS(Data!$H$2:$H$32706,Data!$A$2:$A$32706,$A19,Data!$D$2:$D$32706,O$3)","v":14.5},7,null,null,"-"]
[115,null,"Hypothyroidism Prevalence",null,{"$f":"SUMIFS(Data!$H$2:$H$32706,Data!$A$2:$A$32706,$A20,Data!$D$2:$D$32706,$E$3)","v":3.03},{"$f":"SUMIFS(Data!$H$2:$H$32706,Data!$A$2:$A$32706,$A20,Data!$D$2:$D$32706,F$3)","v":4.07},{"$f":"SUMIFS(Data!$H$2:$H$32706,Data!$A$2:$A$32706,$A20,Data!$D$2:$D$32706,G$3)","v":3.26},{"$f":"SUMIFS(Data!$H$2:$H$32706,Data!$A$2:$A$32706,$A20,Data!$D$2:$D$32706,H$3)","v":3.48},{"$f":"SUMIFS(Data!$H$2:$H$32706,Data!$A$2:$A$32706,$A20,Data!$D$2:$D$32706,I$3)","v":3.14},{"$f":"SUMIFS(Data!$H$2:$H$32706,Data!$A$2:$A$32706,$A20,Data!$D$2:$D$32706,J$3)","v":3.66},{"$f":"SUMIFS(Data!$H$2:$H$32706,Data!$A$2:$A$32706,$A20,Data!$D$2:$D$32706,K$3)","v":3.11},{"$f":"SUMIFS(Data!$H$2:$H$32706,Data!$A$2:$A$32706,$A20,Data!$D$2:$D$32706,L$3)","v":3.38},{"$f":"SUMIFS(Data!$H$2:$H$32706,Data!$A$2:$A$32706,$A20,Data!$D$2:$D$32706,M$3)","v":4.71},{"$f":"SUMIFS(Data!$H$2:$H$32706,Data!$A$2:$A$32706,$A20,Data!$D$2:$D$32706,N$3)","v":3.7},{"$f":"SUMIFS(Data!$H$2:$H$32706,Data!$A$2:$A$32706,$A20,Data!$D$2:$D$32706,O$3)","v":3.35},1,null,null,"-"]
[116,null,"Learning Disabilities (ages 18+) Prevalence",null,{"$f":"SUMIFS(Data!$H$2:$H$32706,Data!$A$2:$A$32706,$A21,Data!$D$2:$D$32706,$E$3)","v":0.38},{"$f":"SUMIFS(Data!$H$2:$H$32706,Data!$A$2:$A$32706,$A21,Data!$D$2:$D$32706,F$3)","v":0.52},{"$f":"SUMIFS(Data!$H$2:$H$32706,Data!$A$2:$A$32706,$A21,Data!$D$2:$D$32706,G$3)","v":0.71},{"$f":"SUMIFS(Data!$H$2:$H$32706,Data!$A$2:$A$32706,$A21,Data!$D$2:$D$32706,H$3)","v":0.45},{"$f":"SUMIFS(Data!$H$2:$H$32706,Data!$A$2:$A$32706,$A21,Data!$D$2:$D$32706,I$3)","v":0.45},{"$f":"SUMIFS(Data!$H$2:$H$32706,Data!$A$2:$A$32706,$A21,Data!$D$2:$D$32706,J$3)","v":0.65},{"$f":"SUMIFS(Data!$H$2:$H$32706,Data!$A$2:$A$32706,$A21,Data!$D$2:$D$32706,K$3)","v":0.25},{"$f":"SUMIFS(Data!$H$2:$H$32706,Data!$A$2:$A$32706,$A21,Data!$D$2:$D$32706,L$3)","v":0.42},{"$f":"SUMIFS(Data!$H$2:$H$32706,Data!$A$2:$A$32706,$A21,Data!$D$2:$D$32706,M$3)","v":0.55000000000000004},{"$f":"SUMIFS(Data!$H$2:$H$32706,Data!$A$2:$A$32706,$A21,Data!$D$2:$D$32706,N$3)","v":0.41},{"$f":"SUMIFS(Data!$H$2:$H$32706,Data!$A$2:$A$32706,$A21,Data!$D$2:$D$32706,O$3)","v":0.57999999999999996},2,null,null,"-"]
[117,null,"Mental Health Prevalence",null,{"$f":"SUMIFS(Data!$H$2:$H$32706,Data!$A$2:$A$32706,$A22,Data!$D$2:$D$32706,$E$3)","v":0.86},{"$f":"SUMIFS(Data!$H$2:$H$32706,Data!$A$2:$A$32706,$A22,Data!$D$2:$D$32706,F$3)","v":0.87},{"$f":"SUMIFS(Data!$H$2:$H$32706,Data!$A$2:$A$32706,$A22,Data!$D$2:$D$32706,G$3)","v":0.79},{"$f":"SUMIFS(Data!$H$2:$H$32706,Data!$A$2:$A$32706,$A22,Data!$D$2:$D$32706,H$3)","v":0.54},{"$f":"SUMIFS(Data!$H$2:$H$32706,Data!$A$2:$A$32706,$A22,Data!$D$2:$D$32706,I$3)","v":0.64},{"$f":"SUMIFS(Data!$H$2:$H$32706,Data!$A$2:$A$32706,$A22,Data!$D$2:$D$32706,J$3)","v":0.73},{"$f":"SUMIFS(Data!$H$2:$H$32706,Data!$A$2:$A$32706,$A22,Data!$D$2:$D$32706,K$3)","v":0.65},{"$f":"SUMIFS(Data!$H$2:$H$32706,Data!$A$2:$A$32706,$A22,Data!$D$2:$D$32706,L$3)","v":0.6},{"$f":"SUMIFS(Data!$H$2:$H$32706,Data!$A$2:$A$32706,$A22,Data!$D$2:$D$32706,M$3)","v":0.91},{"$f":"SUMIFS(Data!$H$2:$H$32706,Data!$A$2:$A$32706,$A22,Data!$D$2:$D$32706,N$3)","v":0.69},{"$f":"SUMIFS(Data!$H$2:$H$32706,Data!$A$2:$A$32706,$A22,Data!$D$2:$D$32706,O$3)","v":0.54},9,null,null,"-"]
[118,null,"Obesity (ages 16+) Prevalence",null,{"$f":"SUMIFS(Data!$H$2:$H$32706,Data!$A$2:$A$32706,$A23,Data!$D$2:$D$32706,$E$3)","v":9.9700000000000006},{"$f":"SUMIFS(Data!$H$2:$H$32706,Data!$A$2:$A$32706,$A23,Data!$D$2:$D$32706,F$3)","v":11},{"$f":"SUMIFS(Data!$H$2:$H$32706,Data!$A$2:$A$32706,$A23,Data!$D$2:$D$32706,G$3)","v":11.54},{"$f":"SUMIFS(Data!$H$2:$H$32706,Data!$A$2:$A$32706,$A23,Data!$D$2:$D$32706,H$3)","v":13.1},{"$f":"SUMIFS(Data!$H$2:$H$32706,Data!$A$2:$A$32706,$A23,Data!$D$2:$D$32706,I$3)","v":12.54},{"$f":"SUMIFS(Data!$H$2:$H$32706,Data!$A$2:$A$32706,$A23,Data!$D$2:$D$32706,J$3)","v":8.58},{"$f":"SUMIFS(Data!$H$2:$H$32706,Data!$A$2:$A$32706,$A23,Data!$D$2:$D$32706,K$3)","v":9.75},{"$f":"SUMIFS(Data!$H$2:$H$32706,Data!$A$2:$A$32706,$A23,Data!$D$2:$D$32706,L$3)","v":11.84},{"$f":"SUMIFS(Data!$H$2:$H$32706,Data!$A$2:$A$32706,$A23,Data!$D$2:$D$32706,M$3)","v":13.19},{"$f":"SUMIFS(Data!$H$2:$H$32706,Data!$A$2:$A$32706,$A23,Data!$D$2:$D$32706,N$3)","v":10.039999999999999},{"$f":"SUMIFS(Data!$H$2:$H$32706,Data!$A$2:$A$32706,$A23,Data!$D$2:$D$32706,O$3)","v":12.44},3,null,null,"-"]
[119,null,"Palliative Care Prevalence",null,{"$f":"SUMIFS(Data!$H$2:$H$32706,Data!$A$2:$A$32706,$A24,Data!$D$2:$D$32706,$E$3)","v":0.25},{"$f":"SUMIFS(Data!$H$2:$H$32706,Data!$A$2:$A$32706,$A24,Data!$D$2:$D$32706,F$3)","v":0.24},{"$f":"SUMIFS(Data!$H$2:$H$32706,Data!$A$2:$A$32706,$A24,Data!$D$2:$D$32706,G$3)","v":0.13},{"$f":"SUMIFS(Data!$H$2:$H$32706,Data!$A$2:$A$32706,$A24,Data!$D$2:$D$32706,H$3)","v":0.11},{"$f":"SUMIFS(Data!$H$2:$H$32706,Data!$A$2:$A$32706,$A24,Data!$D$2:$D$32706,I$3)","v":0.11},{"$f":"SUMIFS(Data!$H$2:$H$32706,Data!$A$2:$A$32706,$A24,Data!$D$2:$D$32706,J$3)","v":0.19},{"$f":"SUMIFS(Data!$H$2:$H$32706,Data!$A$2:$A$32706,$A24,Data!$D$2:$D$32706,K$3)","v":0.15},{"$f":"SUMIFS(Data!$H$2:$H$32706,Data!$A$2:$A$32706,$A24,Data!$D$2:$D$32706,L$3)","v":0.19},{"$f":"SUMIFS(Data!$H$2:$H$32706,Data!$A$2:$A$32706,$A24,Data!$D$2:$D$32706,M$3)","v":0.33},{"$f":"SUMIFS(Data!$H$2:$H$32706,Data!$A$2:$A$32706,$A24,Data!$D$2:$D$32706,N$3)","v":0.52},{"$f":"SUMIFS(Data!$H$2:$H$32706,Data!$A$2:$A$32706,$A24,Data!$D$2:$D$32706,O$3)","v":0.28999999999999998},8,null,null,"-"]
[120,null,"Stroke or Transient Ischaemic Attacks (TIA) Prevalence",null,{"$f":"SUMIFS(Data!$H$2:$H$32706,Data!$A$2:$A$32706,$A25,Data!$D$2:$D$32706,$E$3)","v":2.2799999999999998},{"$f":"SUMIFS(Data!$H$2:$H$32706,Data!$A$2:$A$32706,$A25,Data!$D$2:$D$32706,F$3)","v":1.88},{"$f":"SUMIFS(Data!$H$2:$H$32706,Data!$A$2:$A$32706,$A25,Data!$D$2:$D$32706,G$3)","v":2.09},{"$f":"SUMIFS(Data!$H$2:$H$32706,Data!$A$2:$A$32706,$A25,Data!$D$2:$D$32706,H$3)","v":1.78},{"$f":"SUMIFS(Data!$H$2:$H$32706,Data!$A$2:$A$32706,$A25,Data!$D$2:$D$32706,I$3)","v":1.78},{"$f":"SUMIFS(Data!$H$2:$H$32706,Data!$A$2:$A$32706,$A25,Data!$D$2:$D$32706,J$3)","v":2.15},{"$f":"SUMIFS(Data!$H$2:$H$32706,Data!$A$2:$A$32706,$A25,Data!$D$2:$D$32706,K$3)","v":1.56},{"$f":"SUMIFS(Data!$H$2:$H$32706,Data!$A$2:$A$32706,$A25,Data!$D$2:$D$32706,L$3)","v":2.0099999999999998},{"$f":"SUMIFS(Data!$H$2:$H$32706,Data!$A$2:$A$32706,$A25,Data!$D$2:$D$32706,M$3)","v":2.15},{"$f":"SUMIFS(Data!$H$2:$H$32706,Data!$A$2:$A$32706,$A25,Data!$D$2:$D$32706,N$3)","v":1.85},{"$f":"SUMIFS(Data!$H$2:$H$32706,Data!$A$2:$A$32706,$A25,Data!$D$2:$D$32706,O$3)","v":1.92},11,null,null,"-"]
[151,null,"Index of Mutiple Deprivation (2010)",null,{"$f":"SUMIFS(Data!$H$2:$H$32706,Data!$A$2:$A$32706,$A26,Data!$D$2:$D$32706,$E$3)","v":19.88},{"$f":"SUMIFS(Data!$H$2:$H$32706,Data!$A$2:$A$32706,$A26,Data!$D$2:$D$32706,F$3)","v":23.63},{"$f":"SUMIFS(Data!$H$2:$H$32706,Data!$A$2:$A$32706,$A26,Data!$D$2:$D$32706,G$3)","v":23.3},{"$f":"SUMIFS(Data!$H$2:$H$32706,Data!$A$2:$A$32706,$A26,Data!$D$2:$D$32706,H$3)","v":18.66},{"$f":"SUMIFS(Data!$H$2:$H$32706,Data!$A$2:$A$32706,$A26,Data!$D$2:$D$32706,I$3)","v":15.61},{"$f":"SUMIFS(Data!$H$2:$H$32706,Data!$A$2:$A$32706,$A26,Data!$D$2:$D$32706,J$3)","v":10.42},{"$f":"SUMIFS(Data!$H$2:$H$32706,Data!$A$2:$A$32706,$A26,Data!$D$2:$D$32706,K$3)","v":15.74},{"$f":"SUMIFS(Data!$H$2:$H$32706,Data!$A$2:$A$32706,$A26,Data!$D$2:$D$32706,L$3)","v":14.59},{"$f":"SUMIFS(Data!$H$2:$H$32706,Data!$A$2:$A$32706,$A26,Data!$D$2:$D$32706,M$3)","v":24.78},{"$f":"SUMIFS(Data!$H$2:$H$32706,Data!$A$2:$A$32706,$A26,Data!$D$2:$D$32706,N$3)","v":15.67},{"$f":"SUMIFS(Data!$H$2:$H$32706,Data!$A$2:$A$32706,$A26,Data!$D$2:$D$32706,O$3)","v":19.75},8,null,null,"-"]
[1000101,null,"Programme Budget - Overall - Total admissions per 1000 population across secondary care - Cost",null,{"$f":"SUMIFS(Data!$H$2:$H$32706,Data!$A$2:$A$32706,$A27,Data!$D$2:$D$32706,$E$3)","v":348797.49},{"$f":"SUMIFS(Data!$H$2:$H$32706,Data!$A$2:$A$32706,$A27,Data!$D$2:$D$32706,F$3)","v":365194.12},{"$f":"SUMIFS(Data!$H$2:$H$32706,Data!$A$2:$A$32706,$A27,Data!$D$2:$D$32706,G$3)","v":340117.79},{"$f":"SUMIFS(Data!$H$2:$H$32706,Data!$A$2:$A$32706,$A27,Data!$D$2:$D$32706,H$3)","v":337176.77},{"$f":"SUMIFS(Data!$H$2:$H$32706,Data!$A$2:$A$32706,$A27,Data!$D$2:$D$32706,I$3)","v":330101.81},{"$f":"SUMIFS(Data!$H$2:$H$32706,Data!$A$2:$A$32706,$A27,Data!$D$2:$D$32706,J$3)","v":306827.5},{"$f":"SUMIFS(Data!$H$2:$H$32706,Data!$A$2:$A$32706,$A27,Data!$D$2:$D$32706,K$3)","v":306503.51},{"$f":"SUMIFS(Data!$H$2:$H$32706,Data!$A$2:$A$32706,$A27,Data!$D$2:$D$32706,L$3)","v":358130.36},{"$f":"SUMIFS(Data!$H$2:$H$32706,Data!$A$2:$A$32706,$A27,Data!$D$2:$D$32706,M$3)","v":318949.15999999997},{"$f":"SUMIFS(Data!$H$2:$H$32706,Data!$A$2:$A$32706,$A27,Data!$D$2:$D$32706,N$3)","v":291488.98},{"$f":"SUMIFS(Data!$H$2:$H$32706,Data!$A$2:$A$32706,$A27,Data!$D$2:$D$32706,O$3)","v":338568.06},{"$f":"IF(S27=\"-\",RANK(E27,E27:O27,1),RANK(E27,E27:O27,0))","v":9},null,null,"-"]
[1000102,null,"Programme Budget - Overall - Total elective (IP + DC) admissions per 1000 population across secondary care - Cost",null,{"$f":"SUMIFS(Data!$H$2:$H$32706,Data!$A$2:$A$32706,$A28,Data!$D$2:$D$32706,$E$3)","v":157190.74},{"$f":"SUMIFS(Data!$H$2:$H$32706,Data!$A$2:$A$32706,$A28,Data!$D$2:$D$32706,F$3)","v":144137.69},{"$f":"SUMIFS(Data!$H$2:$H$32706,Data!$A$2:$A$32706,$A28,Data!$D$2:$D$32706,G$3)","v":154293.04999999999},{"$f":"SUMIFS(Data!$H$2:$H$32706,Data!$A$2:$A$32706,$A28,Data!$D$2:$D$32706,H$3)","v":140318.38},{"$f":"SUMIFS(Data!$H$2:$H$32706,Data!$A$2:$A$32706,$A28,Data!$D$2:$D$32706,I$3)","v":149007.06},{"$f":"SUMIFS(Data!$H$2:$H$32706,Data!$A$2:$A$32706,$A28,Data!$D$2:$D$32706,J$3)","v":142063.85},{"$f":"SUMIFS(Data!$H$2:$H$32706,Data!$A$2:$A$32706,$A28,Data!$D$2:$D$32706,K$3)","v":128579.41},{"$f":"SUMIFS(Data!$H$2:$H$32706,Data!$A$2:$A$32706,$A28,Data!$D$2:$D$32706,L$3)","v":159090.20000000001},{"$f":"SUMIFS(Data!$H$2:$H$32706,Data!$A$2:$A$32706,$A28,Data!$D$2:$D$32706,M$3)","v":135964.42000000001},{"$f":"SUMIFS(Data!$H$2:$H$32706,Data!$A$2:$A$32706,$A28,Data!$D$2:$D$32706,N$3)","v":127282.22},{"$f":"SUMIFS(Data!$H$2:$H$32706,Data!$A$2:$A$32706,$A28,Data!$D$2:$D$32706,O$3)","v":150480.32999999999},10,null,null,"-"]
[1000103,null,"Programme Budget - Overall - Non-elective (EM + ONEL) admissions per 1000 population across secondary care - Cost",null,{"$f":"SUMIFS(Data!$H$2:$H$32706,Data!$A$2:$A$32706,$A29,Data!$D$2:$D$32706,$E$3)","v":191505.24},{"$f":"SUMIFS(Data!$H$2:$H$32706,Data!$A$2:$A$32706,$A29,Data!$D$2:$D$32706,F$3)","v":221293.93},{"$f":"SUMIFS(Data!$H$2:$H$32706,Data!$A$2:$A$32706,$A29,Data!$D$2:$D$32706,G$3)","v":185665.99},{"$f":"SUMIFS(Data!$H$2:$H$32706,Data!$A$2:$A$32706,$A29,Data!$D$2:$D$32706,H$3)","v":196881.85},{"$f":"SUMIFS(Data!$H$2:$H$32706,Data!$A$2:$A$32706,$A29,Data!$D$2:$D$32706,I$3)","v":180843.45},{"$f":"SUMIFS(Data!$H$2:$H$32706,Data!$A$2:$A$32706,$A29,Data!$D$2:$D$32706,J$3)","v":164458.45000000001},{"$f":"SUMIFS(Data!$H$2:$H$32706,Data!$A$2:$A$32706,$A29,Data!$D$2:$D$32706,K$3)","v":177923.45},{"$f":"SUMIFS(Data!$H$2:$H$32706,Data!$A$2:$A$32706,$A29,Data!$D$2:$D$32706,L$3)","v":198662.61},{"$f":"SUMIFS(Data!$H$2:$H$32706,Data!$A$2:$A$32706,$A29,Data!$D$2:$D$32706,M$3)","v":182963.83},{"$f":"SUMIFS(Data!$H$2:$H$32706,Data!$A$2:$A$32706,$A29,Data!$D$2:$D$32706,N$3)","v":164091.49},{"$f":"SUMIFS(Data!$H$2:$H$32706,Data!$A$2:$A$32706,$A29,Data!$D$2:$D$32706,O$3)","v":187767.19},8,null,null,"-"]
[1000104,null,"Programme Budget - Overall - First OP appointment following GP referral consistent with previous profiles - Cost",null,{"$f":"SUMIFS(Data!$H$2:$H$32706,Data!$A$2:$A$32706,$A30,Data!$D$2:$D$32706,$E$3)","v":19322.55},{"$f":"SUMIFS(Data!$H$2:$H$32706,Data!$A$2:$A$32706,$A30,Data!$D$2:$D$32706,F$3)","v":25918.2},{"$f":"SUMIFS(Data!$H$2:$H$32706,Data!$A$2:$A$32706,$A30,Data!$D$2:$D$32706,G$3)","v":25116.99},{"$f":"SUMIFS(Data!$H$2:$H$32706,Data!$A$2:$A$32706,$A30,Data!$D$2:$D$32706,H$3)","v":22898.28},{"$f":"SUMIFS(Data!$H$2:$H$32706,Data!$A$2:$A$32706,$A30,Data!$D$2:$D$32706,I$3)","v":20365.66},{"$f":"SUMIFS(Data!$H$2:$H$32706,Data!$A$2:$A$32706,$A30,Data!$D$2:$D$32706,J$3)","v":28361.759999999998},{"$f":"SUMIFS(Data!$H$2:$H$32706,Data!$A$2:$A$32706,$A30,Data!$D$2:$D$32706,K$3)","v":26742.82},{"$f":"SUMIFS(Data!$H$2:$H$32706,Data!$A$2:$A$32706,$A30,Data!$D$2:$D$32706,L$3)","v":29289.47},{"$f":"SUMIFS(Data!$H$2:$H$32706,Data!$A$2:$A$32706,$A30,Data!$D$2:$D$32706,M$3)","v":32209.35},{"$f":"SUMIFS(Data!$H$2:$H$32706,Data!$A$2:$A$32706,$A30,Data!$D$2:$D$32706,N$3)","v":24975.01},{"$f":"SUMIFS(Data!$H$2:$H$32706,Data!$A$2:$A$32706,$A30,Data!$D$2:$D$32706,O$3)","v":30446.87},1,null,null,"-"]
[1000105,null,"Programme Budget - Overall - Cost prescribed per 1000 ASTRO-PU population - Cost",null,{"$f":"SUMIFS(Data!$H$2:$H$32706,Data!$A$2:$A$32706,$A31,Data!$D$2:$D$32706,$E$3)","v":147214.39000000001},{"$f":"SUMIFS(Data!$H$2:$H$32706,Data!$A$2:$A$32706,$A31,Data!$D$2:$D$32706,F$3)","v":151482.84},{"$f":"SUMIFS(Data!$H$2:$H$32706,Data!$A$2:$A$32706,$A31,Data!$D$2:$D$32706,G$3)","v":149633.79},{"$f":"SUMIFS(Data!$H$2:$H$32706,Data!$A$2:$A$32706,$A31,Data!$D$2:$D$32706,H$3)","v":137791.39000000001},{"$f":"SUMIFS(Data!$H$2:$H$32706,Data!$A$2:$A$32706,$A31,Data!$D$2:$D$32706,I$3)","v":140394.1},{"$f":"SUMIFS(Data!$H$2:$H$32706,Data!$A$2:$A$32706,$A31,Data!$D$2:$D$32706,J$3)","v":134299.23000000001},{"$f":"SUMIFS(Data!$H$2:$H$32706,Data!$A$2:$A$32706,$A31,Data!$D$2:$D$32706,K$3)","v":133443.15},{"$f":"SUMIFS(Data!$H$2:$H$32706,Data!$A$2:$A$32706,$A31,Data!$D$2:$D$32706,L$3)","v":136774.01},{"$f":"SUMIFS(Data!$H$2:$H$32706,Data!$A$2:$A$32706,$A31,Data!$D$2:$D$32706,M$3)","v":135013.44},{"$f":"SUMIFS(Data!$H$2:$H$32706,Data!$A$2:$A$32706,$A31,Data!$D$2:$D$32706,N$3)","v":139272.89000000001},{"$f":"SUMIFS(Data!$H$2:$H$32706,Data!$A$2:$A$32706,$A31,Data!$D$2:$D$32706,O$3)","v":137129.60999999999},9,null,null,"-"]
[1000201,null,"Programme Budget - Overall - Total admissions per 1000 population across secondary care - Activity",null,{"$f":"SUMIFS(Data!$H$2:$H$32706,Data!$A$2:$A$32706,$A32,Data!$D$2:$D$32706,$E$3)","v":280.8},{"$f":"SUMIFS(Data!$H$2:$H$32706,Data!$A$2:$A$32706,$A32,Data!$D$2:$D$32706,F$3)","v":275.41000000000003},{"$f":"SUMIFS(Data!$H$2:$H$32706,Data!$A$2:$A$32706,$A32,Data!$D$2:$D$32706,G$3)","v":240.7},{"$f":"SUMIFS(Data!$H$2:$H$32706,Data!$A$2:$A$32706,$A32,Data!$D$2:$D$32706,H$3)","v":247.15},{"$f":"SUMIFS(Data!$H$2:$H$32706,Data!$A$2:$A$32706,$A32,Data!$D$2:$D$32706,I$3)","v":228.67},{"$f":"SUMIFS(Data!$H$2:$H$32706,Data!$A$2:$A$32706,$A32,Data!$D$2:$D$32706,J$3)","v":229.63},{"$f":"SUMIFS(Data!$H$2:$H$32706,Data!$A$2:$A$32706,$A32,Data!$D$2:$D$32706,K$3)","v":216.87},{"$f":"SUMIFS(Data!$H$2:$H$32706,Data!$A$2:$A$32706,$A32,Data!$D$2:$D$32706,L$3)","v":244.38},{"$f":"SUMIFS(Data!$H$2:$H$32706,Data!$A$2:$A$32706,$A32,Data!$D$2:$D$32706,M$3)","v":229.39},{"$f":"SUMIFS(Data!$H$2:$H$32706,Data!$A$2:$A$32706,$A32,Data!$D$2:$D$32706,N$3)","v":207.19},{"$f":"SUMIFS(Data!$H$2:$H$32706,Data!$A$2:$A$32706,$A32,Data!$D$2:$D$32706,O$3)","v":236.75},11,null,null,"-"]
[1000202,null,"Programme Budget - Overall - Total elective (IP + DC) admissions per 1000 population across secondary care - Activity",null,{"$f":"SUMIFS(Data!$H$2:$H$32706,Data!$A$2:$A$32706,$A33,Data!$D$2:$D$32706,$E$3)","v":160.81},{"$f":"SUMIFS(Data!$H$2:$H$32706,Data!$A$2:$A$32706,$A33,Data!$D$2:$D$32706,F$3)","v":133.49},{"$f":"SUMIFS(Data!$H$2:$H$32706,Data!$A$2:$A$32706,$A33,Data!$D$2:$D$32706,G$3)","v":132.41999999999999},{"$f":"SUMIFS(Data!$H$2:$H$32706,Data!$A$2:$A$32706,$A33,Data!$D$2:$D$32706,H$3)","v":128.33000000000001},{"$f":"SUMIFS(Data!$H$2:$H$32706,Data!$A$2:$A$32706,$A33,Data!$D$2:$D$32706,I$3)","v":128.07},{"$f":"SUMIFS(Data!$H$2:$H$32706,Data!$A$2:$A$32706,$A33,Data!$D$2:$D$32706,J$3)","v":137.04},{"$f":"SUMIFS(Data!$H$2:$H$32706,Data!$A$2:$A$32706,$A33,Data!$D$2:$D$32706,K$3)","v":120.5},{"$f":"SUMIFS(Data!$H$2:$H$32706,Data!$A$2:$A$32706,$A33,Data!$D$2:$D$32706,L$3)","v":137.62},{"$f":"SUMIFS(Data!$H$2:$H$32706,Data!$A$2:$A$32706,$A33,Data!$D$2:$D$32706,M$3)","v":126.09},{"$f":"SUMIFS(Data!$H$2:$H$32706,Data!$A$2:$A$32706,$A33,Data!$D$2:$D$32706,N$3)","v":114.63},{"$f":"SUMIFS(Data!$H$2:$H$32706,Data!$A$2:$A$32706,$A33,Data!$D$2:$D$32706,O$3)","v":132.4},11,null,null,"-"]
[1000203,null,"Programme Budget - Overall - Non-elective (EM + ONEL) admissions per 1000 population across secondary care - Activity",null,{"$f":"SUMIFS(Data!$H$2:$H$32706,Data!$A$2:$A$32706,$A34,Data!$D$2:$D$32706,$E$3)","v":119.38},{"$f":"SUMIFS(Data!$H$2:$H$32706,Data!$A$2:$A$32706,$A34,Data!$D$2:$D$32706,F$3)","v":142.19},{"$f":"SUMIFS(Data!$H$2:$H$32706,Data!$A$2:$A$32706,$A34,Data!$D$2:$D$32706,G$3)","v":107.93},{"$f":"SUMIFS(Data!$H$2:$H$32706,Data!$A$2:$A$32706,$A34,Data!$D$2:$D$32706,H$3)","v":118.91},{"$f":"SUMIFS(Data!$H$2:$H$32706,Data!$A$2:$A$32706,$A34,Data!$D$2:$D$32706,I$3)","v":100.46},{"$f":"SUMIFS(Data!$H$2:$H$32706,Data!$A$2:$A$32706,$A34,Data!$D$2:$D$32706,J$3)","v":91.46},{"$f":"SUMIFS(Data!$H$2:$H$32706,Data!$A$2:$A$32706,$A34,Data!$D$2:$D$32706,K$3)","v":96.25},{"$f":"SUMIFS(Data!$H$2:$H$32706,Data!$A$2:$A$32706,$A34,Data!$D$2:$D$32706,L$3)","v":105.98},{"$f":"SUMIFS(Data!$H$2:$H$32706,Data!$A$2:$A$32706,$A34,Data!$D$2:$D$32706,M$3)","v":102.92},{"$f":"SUMIFS(Data!$H$2:$H$32706,Data!$A$2:$A$32706,$A34,Data!$D$2:$D$32706,N$3)","v":92.19},{"$f":"SUMIFS(Data!$H$2:$H$32706,Data!$A$2:$A$32706,$A34,Data!$D$2:$D$32706,O$3)","v":103.82},10,null,null,"-"]
[1000204,null,"Programme Budget - Overall - First OP appointment following GP referral consistent with previous profiles - Activity",null,{"$f":"SUMIFS(Data!$H$2:$H$32706,Data!$A$2:$A$32706,$A35,Data!$D$2:$D$32706,$E$3)","v":130.29},{"$f":"SUMIFS(Data!$H$2:$H$32706,Data!$A$2:$A$32706,$A35,Data!$D$2:$D$32706,F$3)","v":170.08},{"$f":"SUMIFS(Data!$H$2:$H$32706,Data!$A$2:$A$32706,$A35,Data!$D$2:$D$32706,G$3)","v":159.91},{"$f":"SUMIFS(Data!$H$2:$H$32706,Data!$A$2:$A$32706,$A35,Data!$D$2:$D$32706,H$3)","v":165.1},{"$f":"SUMIFS(Data!$H$2:$H$32706,Data!$A$2:$A$32706,$A35,Data!$D$2:$D$32706,I$3)","v":128.94999999999999},{"$f":"SUMIFS(Data!$H$2:$H$32706,Data!$A$2:$A$32706,$A35,Data!$D$2:$D$32706,J$3)","v":199.01},{"$f":"SUMIFS(Data!$H$2:$H$32706,Data!$A$2:$A$32706,$A35,Data!$D$2:$D$32706,K$3)","v":167.35},{"$f":"SUMIFS(Data!$H$2:$H$32706,Data!$A$2:$A$32706,$A35,Data!$D$2:$D$32706,L$3)","v":184.79},{"$f":"SUMIFS(Data!$H$2:$H$32706,Data!$A$2:$A$32706,$A35,Data!$D$2:$D$32706,M$3)","v":218.76},{"$f":"SUMIFS(Data!$H$2:$H$32706,Data!$A$2:$A$32706,$A35,Data!$D$2:$D$32706,N$3)","v":167.93},{"$f":"SUMIFS(Data!$H$2:$H$32706,Data!$A$2:$A$32706,$A35,Data!$D$2:$D$32706,O$3)","v":187.93},2,null,null,"-"]
[1000211,null,"Potential years of life lost (PYLL) FEMALE from causes considered amenable to healthcare. Directly age and sex standardised potential years of life lost (PYLL) per 100,000",null,{"$f":"SUMIFS(Data!$H$2:$H$32706,Data!$A$2:$A$32706,$A36,Data!$D$2:$D$32706,$E$3)","v":2170.0100000000002},{"$f":"SUMIFS(Data!$H$2:$H$32706,Data!$A$2:$A$32706,$A36,Data!$D$2:$D$32706,F$3)","v":2071.3200000000002},{"$f":"SUMIFS(Data!$H$2:$H$32706,Data!$A$2:$A$32706,$A36,Data!$D$2:$D$32706,G$3)","v":1997.01},{"$f":"SUMIFS(Data!$H$2:$H$32706,Data!$A$2:$A$32706,$A36,Data!$D$2:$D$32706,H$3)","v":1787.66},{"$f":"SUMIFS(Data!$H$2:$H$32706,Data!$A$2:$A$32706,$A36,Data!$D$2:$D$32706,I$3)","v":1552.55},{"$f":"SUMIFS(Data!$H$2:$H$32706,Data!$A$2:$A$32706,$A36,Data!$D$2:$D$32706,J$3)","v":1971.09},{"$f":"SUMIFS(Data!$H$2:$H$32706,Data!$A$2:$A$32706,$A36,Data!$D$2:$D$32706,K$3)","v":1859.23},{"$f":"SUMIFS(Data!$H$2:$H$32706,Data!$A$2:$A$32706,$A36,Data!$D$2:$D$32706,L$3)","v":1869.77},{"$f":"SUMIFS(Data!$H$2:$H$32706,Data!$A$2:$A$32706,$A36,Data!$D$2:$D$32706,M$3)","v":1904.16},{"$f":"SUMIFS(Data!$H$2:$H$32706,Data!$A$2:$A$32706,$A36,Data!$D$2:$D$32706,N$3)","v":1697.55},{"$f":"SUMIFS(Data!$H$2:$H$32706,Data!$A$2:$A$32706,$A36,Data!$D$2:$D$32706,O$3)","v":1806.53},11,null,null,"-"]
[1000212,null,"Potential years of life lost (PYLL) MALE from causes considered amenable to healthcare. Directly age and sex standardised potential years of life lost (PYLL) per 100,000",null,{"$f":"SUMIFS(Data!$H$2:$H$32706,Data!$A$2:$A$32706,$A37,Data!$D$2:$D$32706,$E$3)","v":2039.08},{"$f":"SUMIFS(Data!$H$2:$H$32706,Data!$A$2:$A$32706,$A37,Data!$D$2:$D$32706,F$3)","v":2533.25},{"$f":"SUMIFS(Data!$H$2:$H$32706,Data!$A$2:$A$32706,$A37,Data!$D$2:$D$32706,G$3)","v":2746.73},{"$f":"SUMIFS(Data!$H$2:$H$32706,Data!$A$2:$A$32706,$A37,Data!$D$2:$D$32706,H$3)","v":2130.5700000000002},{"$f":"SUMIFS(Data!$H$2:$H$32706,Data!$A$2:$A$32706,$A37,Data!$D$2:$D$32706,I$3)","v":2077.96},{"$f":"SUMIFS(Data!$H$2:$H$32706,Data!$A$2:$A$32706,$A37,Data!$D$2:$D$32706,J$3)","v":1909.42},{"$f":"SUMIFS(Data!$H$2:$H$32706,Data!$A$2:$A$32706,$A37,Data!$D$2:$D$32706,K$3)","v":2068.67},{"$f":"SUMIFS(Data!$H$2:$H$32706,Data!$A$2:$A$32706,$A37,Data!$D$2:$D$32706,L$3)","v":1944.97},{"$f":"SUMIFS(Data!$H$2:$H$32706,Data!$A$2:$A$32706,$A37,Data!$D$2:$D$32706,M$3)","v":2280.84},{"$f":"SUMIFS(Data!$H$2:$H$32706,Data!$A$2:$A$32706,$A37,Data!$D$2:$D$32706,N$3)","v":2182.44},{"$f":"SUMIFS(Data!$H$2:$H$32706,Data!$A$2:$A$32706,$A37,Data!$D$2:$D$32706,O$3)","v":1977.86},4,null,null,"-"]
[1020101,null,"Programme Budget - Cancer - Total admissions per 1000 population across secondary care - Cost",null,{"$f":"SUMIFS(Data!$H$2:$H$32706,Data!$A$2:$A$32706,$A38,Data!$D$2:$D$32706,$E$3)","v":39768.550000000003},{"$f":"SUMIFS(Data!$H$2:$H$32706,Data!$A$2:$A$32706,$A38,Data!$D$2:$D$32706,F$3)","v":35856.35},{"$f":"SUMIFS(Data!$H$2:$H$32706,Data!$A$2:$A$32706,$A38,Data!$D$2:$D$32706,G$3)","v":33318.550000000003},{"$f":"SUMIFS(Data!$H$2:$H$32706,Data!$A$2:$A$32706,$A38,Data!$D$2:$D$32706,H$3)","v":37395.31},{"$f":"SUMIFS(Data!$H$2:$H$32706,Data!$A$2:$A$32706,$A38,Data!$D$2:$D$32706,I$3)","v":36281.89},{"$f":"SUMIFS(Data!$H$2:$H$32706,Data!$A$2:$A$32706,$A38,Data!$D$2:$D$32706,J$3)","v":33189.24},{"$f":"SUMIFS(Data!$H$2:$H$32706,Data!$A$2:$A$32706,$A38,Data!$D$2:$D$32706,K$3)","v":34500.480000000003},{"$f":"SUMIFS(Data!$H$2:$H$32706,Data!$A$2:$A$32706,$A38,Data!$D$2:$D$32706,L$3)","v":38727.300000000003},{"$f":"SUMIFS(Data!$H$2:$H$32706,Data!$A$2:$A$32706,$A38,Data!$D$2:$D$32706,M$3)","v":38731.69},{"$f":"SUMIFS(Data!$H$2:$H$32706,Data!$A$2:$A$32706,$A38,Data!$D$2:$D$32706,N$3)","v":34909.21},{"$f":"SUMIFS(Data!$H$2:$H$32706,Data!$A$2:$A$32706,$A38,Data!$D$2:$D$32706,O$3)","v":38083.07},11,null,null,"-"]
[1020102,null,"Programme Budget - Cancer - Total elective (IP + DC) admissions per 1000 population across secondary care - Cost",null,{"$f":"SUMIFS(Data!$H$2:$H$32706,Data!$A$2:$A$32706,$A39,Data!$D$2:$D$32706,$E$3)","v":30606.03},{"$f":"SUMIFS(Data!$H$2:$H$32706,Data!$A$2:$A$32706,$A39,Data!$D$2:$D$32706,F$3)","v":25378.41},{"$f":"SUMIFS(Data!$H$2:$H$32706,Data!$A$2:$A$32706,$A39,Data!$D$2:$D$32706,G$3)","v":25886.71},{"$f":"SUMIFS(Data!$H$2:$H$32706,Data!$A$2:$A$32706,$A39,Data!$D$2:$D$32706,H$3)","v":27842.83},{"$f":"SUMIFS(Data!$H$2:$H$32706,Data!$A$2:$A$32706,$A39,Data!$D$2:$D$32706,I$3)","v":29247.59},{"$f":"SUMIFS(Data!$H$2:$H$32706,Data!$A$2:$A$32706,$A39,Data!$D$2:$D$32706,J$3)","v":26146.61},{"$f":"SUMIFS(Data!$H$2:$H$32706,Data!$A$2:$A$32706,$A39,Data!$D$2:$D$32706,K$3)","v":26297.71},{"$f":"SUMIFS(Data!$H$2:$H$32706,Data!$A$2:$A$32706,$A39,Data!$D$2:$D$32706,L$3)","v":29272.639999999999},{"$f":"SUMIFS(Data!$H$2:$H$32706,Data!$A$2:$A$32706,$A39,Data!$D$2:$D$32706,M$3)","v":24698.98},{"$f":"SUMIFS(Data!$H$2:$H$32706,Data!$A$2:$A$32706,$A39,Data!$D$2:$D$32706,N$3)","v":25517.34},{"$f":"SUMIFS(Data!$H$2:$H$32706,Data!$A$2:$A$32706,$A39,Data!$D$2:$D$32706,O$3)","v":27927.27},11,null,null,"-"]
[1020103,null,"Programme Budget - Cancer - Non-elective (EM + ONEL) admissions per 1000 population across secondary care - Cost",null,{"$f":"SUMIFS(Data!$H$2:$H$32706,Data!$A$2:$A$32706,$A40,Data!$D$2:$D$32706,$E$3)","v":9209.2000000000007},{"$f":"SUMIFS(Data!$H$2:$H$32706,Data!$A$2:$A$32706,$A40,Data!$D$2:$D$32706,F$3)","v":10483.58},{"$f":"SUMIFS(Data!$H$2:$H$32706,Data!$A$2:$A$32706,$A40,Data!$D$2:$D$32706,G$3)","v":7488.68},{"$f":"SUMIFS(Data!$H$2:$H$32706,Data!$A$2:$A$32706,$A40,Data!$D$2:$D$32706,H$3)","v":9554.6200000000008},{"$f":"SUMIFS(Data!$H$2:$H$32706,Data!$A$2:$A$32706,$A40,Data!$D$2:$D$32706,I$3)","v":7018.43},{"$f":"SUMIFS(Data!$H$2:$H$32706,Data!$A$2:$A$32706,$A40,Data!$D$2:$D$32706,J$3)","v":7084.74},{"$f":"SUMIFS(Data!$H$2:$H$32706,Data!$A$2:$A$32706,$A40,Data!$D$2:$D$32706,K$3)","v":8210.01},{"$f":"SUMIFS(Data!$H$2:$H$32706,Data!$A$2:$A$32706,$A40,Data!$D$2:$D$32706,L$3)","v":9475.02},{"$f":"SUMIFS(Data!$H$2:$H$32706,Data!$A$2:$A$32706,$A40,Data!$D$2:$D$32706,M$3)","v":13906.49},{"$f":"SUMIFS(Data!$H$2:$H$32706,Data!$A$2:$A$32706,$A40,Data!$D$2:$D$32706,N$3)","v":9400.5},{"$f":"SUMIFS(Data!$H$2:$H$32706,Data!$A$2:$A$32706,$A40,Data!$D$2:$D$32706,O$3)","v":10160.15},5,null,null,"-"]
[1020105,null,"Programme Budget - Cancer - Cost prescribed per 1000 ASTRO-PU population - Cost",null,{"$f":"SUMIFS(Data!$H$2:$H$32706,Data!$A$2:$A$32706,$A41,Data!$D$2:$D$32706,$E$3)","v":5769.02},{"$f":"SUMIFS(Data!$H$2:$H$32706,Data!$A$2:$A$32706,$A41,Data!$D$2:$D$32706,F$3)","v":5109.63},{"$f":"SUMIFS(Data!$H$2:$H$32706,Data!$A$2:$A$32706,$A41,Data!$D$2:$D$32706,G$3)","v":6960.6},{"$f":"SUMIFS(Data!$H$2:$H$32706,Data!$A$2:$A$32706,$A41,Data!$D$2:$D$32706,H$3)","v":5278.73},{"$f":"SUMIFS(Data!$H$2:$H$32706,Data!$A$2:$A$32706,$A41,Data!$D$2:$D$32706,I$3)","v":6246.41},{"$f":"SUMIFS(Data!$H$2:$H$32706,Data!$A$2:$A$32706,$A41,Data!$D$2:$D$32706,J$3)","v":5692.6},{"$f":"SUMIFS(Data!$H$2:$H$32706,Data!$A$2:$A$32706,$A41,Data!$D$2:$D$32706,K$3)","v":5623.66},{"$f":"SUMIFS(Data!$H$2:$H$32706,Data!$A$2:$A$32706,$A41,Data!$D$2:$D$32706,L$3)","v":6489.4},{"$f":"SUMIFS(Data!$H$2:$H$32706,Data!$A$2:$A$32706,$A41,Data!$D$2:$D$32706,M$3)","v":7516.77},{"$f":"SUMIFS(Data!$H$2:$H$32706,Data!$A$2:$A$32706,$A41,Data!$D$2:$D$32706,N$3)","v":5611.16},{"$f":"SUMIFS(Data!$H$2:$H$32706,Data!$A$2:$A$32706,$A41,Data!$D$2:$D$32706,O$3)","v":6220.62},6,null,null,"-"]
[1020201,null,"Programme Budget - Cancer - Total admissions per 1000 population across secondary care - Activity",null,{"$f":"SUMIFS(Data!$H$2:$H$32706,Data!$A$2:$A$32706,$A42,Data!$D$2:$D$32706,$E$3)","v":42.65},{"$f":"SUMIFS(Data!$H$2:$H$32706,Data!$A$2:$A$32706,$A42,Data!$D$2:$D$32706,F$3)","v":35.22},{"$f":"SUMIFS(Data!$H$2:$H$32706,Data!$A$2:$A$32706,$A42,Data!$D$2:$D$32706,G$3)","v":30.41},{"$f":"SUMIFS(Data!$H$2:$H$32706,Data!$A$2:$A$32706,$A42,Data!$D$2:$D$32706,H$3)","v":38.21},{"$f":"SUMIFS(Data!$H$2:$H$32706,Data!$A$2:$A$32706,$A42,Data!$D$2:$D$32706,I$3)","v":35.880000000000003},{"$f":"SUMIFS(Data!$H$2:$H$32706,Data!$A$2:$A$32706,$A42,Data!$D$2:$D$32706,J$3)","v":36.9},{"$f":"SUMIFS(Data!$H$2:$H$32706,Data!$A$2:$A$32706,$A42,Data!$D$2:$D$32706,K$3)","v":35.4},{"$f":"SUMIFS(Data!$H$2:$H$32706,Data!$A$2:$A$32706,$A42,Data!$D$2:$D$32706,L$3)","v":35.54},{"$f":"SUMIFS(Data!$H$2:$H$32706,Data!$A$2:$A$32706,$A42,Data!$D$2:$D$32706,M$3)","v":31.49},{"$f":"SUMIFS(Data!$H$2:$H$32706,Data!$A$2:$A$32706,$A42,Data!$D$2:$D$32706,N$3)","v":34.090000000000003},{"$f":"SUMIFS(Data!$H$2:$H$32706,Data!$A$2:$A$32706,$A42,Data!$D$2:$D$32706,O$3)","v":34.79},11,null,null,"-"]
[1020202,null,"Programme Budget - Cancer - Total elective (IP + DC) admissions per 1000 population across secondary care - Activity",null,{"$f":"SUMIFS(Data!$H$2:$H$32706,Data!$A$2:$A$32706,$A43,Data!$D$2:$D$32706,$E$3)","v":39.979999999999997},{"$f":"SUMIFS(Data!$H$2:$H$32706,Data!$A$2:$A$32706,$A43,Data!$D$2:$D$32706,F$3)","v":31.74},{"$f":"SUMIFS(Data!$H$2:$H$32706,Data!$A$2:$A$32706,$A43,Data!$D$2:$D$32706,G$3)","v":28.23},{"$f":"SUMIFS(Data!$H$2:$H$32706,Data!$A$2:$A$32706,$A43,Data!$D$2:$D$32706,H$3)","v":35.549999999999997},{"$f":"SUMIFS(Data!$H$2:$H$32706,Data!$A$2:$A$32706,$A43,Data!$D$2:$D$32706,I$3)","v":33.799999999999997},{"$f":"SUMIFS(Data!$H$2:$H$32706,Data!$A$2:$A$32706,$A43,Data!$D$2:$D$32706,J$3)","v":34.53},{"$f":"SUMIFS(Data!$H$2:$H$32706,Data!$A$2:$A$32706,$A43,Data!$D$2:$D$32706,K$3)","v":32.950000000000003},{"$f":"SUMIFS(Data!$H$2:$H$32706,Data!$A$2:$A$32706,$A43,Data!$D$2:$D$32706,L$3)","v":32.71},{"$f":"SUMIFS(Data!$H$2:$H$32706,Data!$A$2:$A$32706,$A43,Data!$D$2:$D$32706,M$3)","v":24.25},{"$f":"SUMIFS(Data!$H$2:$H$32706,Data!$A$2:$A$32706,$A43,Data!$D$2:$D$32706,N$3)","v":31.33},{"$f":"SUMIFS(Data!$H$2:$H$32706,Data!$A$2:$A$32706,$A43,Data!$D$2:$D$32706,O$3)","v":31.88},11,null,null,"-"]
[1020203,null,"Programme Budget - Cancer - Non-elective (EM + ONEL) admissions per 1000 population across secondary care - Activity",null,{"$f":"SUMIFS(Data!$H$2:$H$32706,Data!$A$2:$A$32706,$A44,Data!$D$2:$D$32706,$E$3)","v":2.69},{"$f":"SUMIFS(Data!$H$2:$H$32706,Data!$A$2:$A$32706,$A44,Data!$D$2:$D$32706,F$3)","v":3.49},{"$f":"SUMIFS(Data!$H$2:$H$32706,Data!$A$2:$A$32706,$A44,Data!$D$2:$D$32706,G$3)","v":2.21},{"$f":"SUMIFS(Data!$H$2:$H$32706,Data!$A$2:$A$32706,$A44,Data!$D$2:$D$32706,H$3)","v":2.66},{"$f":"SUMIFS(Data!$H$2:$H$32706,Data!$A$2:$A$32706,$A44,Data!$D$2:$D$32706,I$3)","v":2.0699999999999998},{"$f":"SUMIFS(Data!$H$2:$H$32706,Data!$A$2:$A$32706,$A44,Data!$D$2:$D$32706,J$3)","v":2.41},{"$f":"SUMIFS(Data!$H$2:$H$32706,Data!$A$2:$A$32706,$A44,Data!$D$2:$D$32706,K$3)","v":2.44},{"$f":"SUMIFS(Data!$H$2:$H$32706,Data!$A$2:$A$32706,$A44,Data!$D$2:$D$32706,L$3)","v":2.82},{"$f":"SUMIFS(Data!$H$2:$H$32706,Data!$A$2:$A$32706,$A44,Data!$D$2:$D$32706,M$3)","v":7.14},{"$f":"SUMIFS(Data!$H$2:$H$32706,Data!$A$2:$A$32706,$A44,Data!$D$2:$D$32706,N$3)","v":2.75},{"$f":"SUMIFS(Data!$H$2:$H$32706,Data!$A$2:$A$32706,$A44,Data!$D$2:$D$32706,O$3)","v":2.91},6,null,null,"-"]
[1020211,null,"Females aged 50-70 screened for breast cancer in last 36 months  (%)",null,{"$f":"SUMIFS(Data!$H$2:$H$32706,Data!$A$2:$A$32706,$A45,Data!$D$2:$D$32706,$E$3)","v":72.935381048971308},{"$f":"SUMIFS(Data!$H$2:$H$32706,Data!$A$2:$A$32706,$A45,Data!$D$2:$D$32706,F$3)","v":69.076519158327315},{"$f":"SUMIFS(Data!$H$2:$H$32706,Data!$A$2:$A$32706,$A45,Data!$D$2:$D$32706,G$3)","v":73.717394437238795},{"$f":"SUMIFS(Data!$H$2:$H$32706,Data!$A$2:$A$32706,$A45,Data!$D$2:$D$32706,H$3)","v":75.441374860695646},{"$f":"SUMIFS(Data!$H$2:$H$32706,Data!$A$2:$A$32706,$A45,Data!$D$2:$D$32706,I$3)","v":74.674054758800523},{"$f":"SUMIFS(Data!$H$2:$H$32706,Data!$A$2:$A$32706,$A45,Data!$D$2:$D$32706,J$3)","v":74.122422620969601},{"$f":"SUMIFS(Data!$H$2:$H$32706,Data!$A$2:$A$32706,$A45,Data!$D$2:$D$32706,K$3)","v":71.500222915737851},{"$f":"SUMIFS(Data!$H$2:$H$32706,Data!$A$2:$A$32706,$A45,Data!$D$2:$D$32706,L$3)","v":74.249068186801139},{"$f":"SUMIFS(Data!$H$2:$H$32706,Data!$A$2:$A$32706,$A45,Data!$D$2:$D$32706,M$3)","v":79.230532471529699},{"$f":"SUMIFS(Data!$H$2:$H$32706,Data!$A$2:$A$32706,$A45,Data!$D$2:$D$32706,N$3)","v":78.386406544996859},{"$f":"SUMIFS(Data!$H$2:$H$32706,Data!$A$2:$A$32706,$A45,Data!$D$2:$D$32706,O$3)","v":75.766348773841969},9,null,null,"+"]
[1020212,null,"Programme Budget - Cancer - Emergency Bed Days For Cancer per 1000 Population",null,{"$f":"SUMIFS(Data!$H$2:$H$32706,Data!$A$2:$A$32706,$A46,Data!$D$2:$D$32706,$E$3)","v":26.49},{"$f":"SUMIFS(Data!$H$2:$H$32706,Data!$A$2:$A$32706,$A46,Data!$D$2:$D$32706,F$3)","v":28.88},{"$f":"SUMIFS(Data!$H$2:$H$32706,Data!$A$2:$A$32706,$A46,Data!$D$2:$D$32706,G$3)","v":18.13},{"$f":"SUMIFS(Data!$H$2:$H$32706,Data!$A$2:$A$32706,$A46,Data!$D$2:$D$32706,H$3)","v":30.1},{"$f":"SUMIFS(Data!$H$2:$H$32706,Data!$A$2:$A$32706,$A46,Data!$D$2:$D$32706,I$3)","v":17.61},{"$f":"SUMIFS(Data!$H$2:$H$32706,Data!$A$2:$A$32706,$A46,Data!$D$2:$D$32706,J$3)","v":20.99},{"$f":"SUMIFS(Data!$H$2:$H$32706,Data!$A$2:$A$32706,$A46,Data!$D$2:$D$32706,K$3)","v":22.31},{"$f":"SUMIFS(Data!$H$2:$H$32706,Data!$A$2:$A$32706,$A46,Data!$D$2:$D$32706,L$3)","v":26.75},{"$f":"SUMIFS(Data!$H$2:$H$32706,Data!$A$2:$A$32706,$A46,Data!$D$2:$D$32706,M$3)","v":25.32},{"$f":"SUMIFS(Data!$H$2:$H$32706,Data!$A$2:$A$32706,$A46,Data!$D$2:$D$32706,N$3)","v":24.9},{"$f":"SUMIFS(Data!$H$2:$H$32706,Data!$A$2:$A$32706,$A46,Data!$D$2:$D$32706,O$3)","v":29.65},7,null,null,"-"]
[1020220,null,"Rate of urgent GP referrals for suspected cancer per population",null,{"$f":"SUMIFS(Data!$H$2:$H$32706,Data!$A$2:$A$32706,$A47,Data!$D$2:$D$32706,$E$3)","v":2319.2252413405117},{"$f":"SUMIFS(Data!$H$2:$H$32706,Data!$A$2:$A$32706,$A47,Data!$D$2:$D$32706,F$3)","v":1761.7008489219443},{"$f":"SUMIFS(Data!$H$2:$H$32706,Data!$A$2:$A$32706,$A47,Data!$D$2:$D$32706,G$3)","v":2826.5354560203014},{"$f":"SUMIFS(Data!$H$2:$H$32706,Data!$A$2:$A$32706,$A47,Data!$D$2:$D$32706,H$3)","v":2322.9372759506518},{"$f":"SUMIFS(Data!$H$2:$H$32706,Data!$A$2:$A$32706,$A47,Data!$D$2:$D$32706,I$3)","v":2830.4156406412862},{"$f":"SUMIFS(Data!$H$2:$H$32706,Data!$A$2:$A$32706,$A47,Data!$D$2:$D$32706,J$3)","v":2375.2412033666851},{"$f":"SUMIFS(Data!$H$2:$H$32706,Data!$A$2:$A$32706,$A47,Data!$D$2:$D$32706,K$3)","v":2652.8860350925383},{"$f":"SUMIFS(Data!$H$2:$H$32706,Data!$A$2:$A$32706,$A47,Data!$D$2:$D$32706,L$3)","v":2513.150473847696},{"$f":"SUMIFS(Data!$H$2:$H$32706,Data!$A$2:$A$32706,$A47,Data!$D$2:$D$32706,M$3)","v":2675.5621019798118},{"$f":"SUMIFS(Data!$H$2:$H$32706,Data!$A$2:$A$32706,$A47,Data!$D$2:$D$32706,N$3)","v":2226.4456398631737},{"$f":"SUMIFS(Data!$H$2:$H$32706,Data!$A$2:$A$32706,$A47,Data!$D$2:$D$32706,O$3)","v":2697.9052725587821},3,null,null,"-"]
[1020313,null,"Mortality from all cancers: Under 75 Directly age-standardised rates (DSR) per 100,000 European Standard",null,{"$f":"SUMIFS(Data!$H$2:$H$32706,Data!$A$2:$A$32706,$A48,Data!$D$2:$D$32706,$E$3)","v":96.827465649106102},{"$f":"SUMIFS(Data!$H$2:$H$32706,Data!$A$2:$A$32706,$A48,Data!$D$2:$D$32706,F$3)","v":120.03810961599883},{"$f":"SUMIFS(Data!$H$2:$H$32706,Data!$A$2:$A$32706,$A48,Data!$D$2:$D$32706,G$3)","v":107.67175822744248},{"$f":"SUMIFS(Data!$H$2:$H$32706,Data!$A$2:$A$32706,$A48,Data!$D$2:$D$32706,H$3)","v":107.81696750250988},{"$f":"SUMIFS(Data!$H$2:$H$32706,Data!$A$2:$A$32706,$A48,Data!$D$2:$D$32706,I$3)","v":95.686766414277656},{"$f":"SUMIFS(Data!$H$2:$H$32706,Data!$A$2:$A$32706,$A48,Data!$D$2:$D$32706,J$3)","v":99.61172421150961},{"$f":"SUMIFS(Data!$H$2:$H$32706,Data!$A$2:$A$32706,$A48,Data!$D$2:$D$32706,K$3)","v":106.3975662986041},{"$f":"SUMIFS(Data!$H$2:$H$32706,Data!$A$2:$A$32706,$A48,Data!$D$2:$D$32706,L$3)","v":100.12677578380288},{"$f":"SUMIFS(Data!$H$2:$H$32706,Data!$A$2:$A$32706,$A48,Data!$D$2:$D$32706,M$3)","v":107.1377271244376},{"$f":"SUMIFS(Data!$H$2:$H$32706,Data!$A$2:$A$32706,$A48,Data!$D$2:$D$32706,N$3)","v":97.595551283153043},{"$f":"SUMIFS(Data!$H$2:$H$32706,Data!$A$2:$A$32706,$A48,Data!$D$2:$D$32706,O$3)","v":106.09388919327638},2,null,null,"-"]
[1020314,null,"Mortality from all cancers: All ages Directly age-standardised rates (DSR) per 100,000 European Standard",null,{"$f":"SUMIFS(Data!$H$2:$H$32706,Data!$A$2:$A$32706,$A49,Data!$D$2:$D$32706,$E$3)","v":157.08289688682501},{"$f":"SUMIFS(Data!$H$2:$H$32706,Data!$A$2:$A$32706,$A49,Data!$D$2:$D$32706,F$3)","v":178.84763495589698},{"$f":"SUMIFS(Data!$H$2:$H$32706,Data!$A$2:$A$32706,$A49,Data!$D$2:$D$32706,G$3)","v":170.00604052607869},{"$f":"SUMIFS(Data!$H$2:$H$32706,Data!$A$2:$A$32706,$A49,Data!$D$2:$D$32706,H$3)","v":166.99937082912803},{"$f":"SUMIFS(Data!$H$2:$H$32706,Data!$A$2:$A$32706,$A49,Data!$D$2:$D$32706,I$3)","v":148.35662978521481},{"$f":"SUMIFS(Data!$H$2:$H$32706,Data!$A$2:$A$32706,$A49,Data!$D$2:$D$32706,J$3)","v":154.15148057718588},{"$f":"SUMIFS(Data!$H$2:$H$32706,Data!$A$2:$A$32706,$A49,Data!$D$2:$D$32706,K$3)","v":165.66265030575136},{"$f":"SUMIFS(Data!$H$2:$H$32706,Data!$A$2:$A$32706,$A49,Data!$D$2:$D$32706,L$3)","v":160.25378407378417},{"$f":"SUMIFS(Data!$H$2:$H$32706,Data!$A$2:$A$32706,$A49,Data!$D$2:$D$32706,M$3)","v":165.03213658232309},{"$f":"SUMIFS(Data!$H$2:$H$32706,Data!$A$2:$A$32706,$A49,Data!$D$2:$D$32706,N$3)","v":155.9346073278474},{"$f":"SUMIFS(Data!$H$2:$H$32706,Data!$A$2:$A$32706,$A49,Data!$D$2:$D$32706,O$3)","v":166.36194316211188},4,null,null,"-"]
[1020315,null,"Mortality from colorectal cancer: Under 75 Directly age-standardised rates (DSR) per 100,000 European Standard",null,{"$f":"SUMIFS(Data!$H$2:$H$32706,Data!$A$2:$A$32706,$A50,Data!$D$2:$D$32706,$E$3)","v":9.3823330340871678},{"$f":"SUMIFS(Data!$H$2:$H$32706,Data!$A$2:$A$32706,$A50,Data!$D$2:$D$32706,F$3)","v":9.4495320823707001},{"$f":"SUMIFS(Data!$H$2:$H$32706,Data!$A$2:$A$32706,$A50,Data!$D$2:$D$32706,G$3)","v":10.038262045347905},{"$f":"SUMIFS(Data!$H$2:$H$32706,Data!$A$2:$A$32706,$A50,Data!$D$2:$D$32706,H$3)","v":12.801212544927138},{"$f":"SUMIFS(Data!$H$2:$H$32706,Data!$A$2:$A$32706,$A50,Data!$D$2:$D$32706,I$3)","v":10.113927072044318},{"$f":"SUMIFS(Data!$H$2:$H$32706,Data!$A$2:$A$32706,$A50,Data!$D$2:$D$32706,J$3)","v":9.4578068134305848},{"$f":"SUMIFS(Data!$H$2:$H$32706,Data!$A$2:$A$32706,$A50,Data!$D$2:$D$32706,K$3)","v":11.418000884712697},{"$f":"SUMIFS(Data!$H$2:$H$32706,Data!$A$2:$A$32706,$A50,Data!$D$2:$D$32706,L$3)","v":10.577472430391497},{"$f":"SUMIFS(Data!$H$2:$H$32706,Data!$A$2:$A$32706,$A50,Data!$D$2:$D$32706,M$3)","v":9.026042044589234},{"$f":"SUMIFS(Data!$H$2:$H$32706,Data!$A$2:$A$32706,$A50,Data!$D$2:$D$32706,N$3)","v":9.5163176339617674},{"$f":"SUMIFS(Data!$H$2:$H$32706,Data!$A$2:$A$32706,$A50,Data!$D$2:$D$32706,O$3)","v":9.5485001067954958},2,null,null,"-"]
[1020316,null,"Mortality from lung cancer: Under 75 Directly age-standardised rates (DSR) per 100,000 European Standard",null,{"$f":"SUMIFS(Data!$H$2:$H$32706,Data!$A$2:$A$32706,$A51,Data!$D$2:$D$32706,$E$3)","v":23.085360998621216},{"$f":"SUMIFS(Data!$H$2:$H$32706,Data!$A$2:$A$32706,$A51,Data!$D$2:$D$32706,F$3)","v":32.192334456807842},{"$f":"SUMIFS(Data!$H$2:$H$32706,Data!$A$2:$A$32706,$A51,Data!$D$2:$D$32706,G$3)","v":23.974767456961484},{"$f":"SUMIFS(Data!$H$2:$H$32706,Data!$A$2:$A$32706,$A51,Data!$D$2:$D$32706,H$3)","v":20.415183191993467},{"$f":"SUMIFS(Data!$H$2:$H$32706,Data!$A$2:$A$32706,$A51,Data!$D$2:$D$32706,I$3)","v":18.561456012879351},{"$f":"SUMIFS(Data!$H$2:$H$32706,Data!$A$2:$A$32706,$A51,Data!$D$2:$D$32706,J$3)","v":21.116589417721155},{"$f":"SUMIFS(Data!$H$2:$H$32706,Data!$A$2:$A$32706,$A51,Data!$D$2:$D$32706,K$3)","v":22.541378974256432},{"$f":"SUMIFS(Data!$H$2:$H$32706,Data!$A$2:$A$32706,$A51,Data!$D$2:$D$32706,L$3)","v":18.636190045348986},{"$f":"SUMIFS(Data!$H$2:$H$32706,Data!$A$2:$A$32706,$A51,Data!$D$2:$D$32706,M$3)","v":26.76480488432097},{"$f":"SUMIFS(Data!$H$2:$H$32706,Data!$A$2:$A$32706,$A51,Data!$D$2:$D$32706,N$3)","v":19.299932073824348},{"$f":"SUMIFS(Data!$H$2:$H$32706,Data!$A$2:$A$32706,$A51,Data!$D$2:$D$32706,O$3)","v":21.787133211465946},8,null,null,"-"]
[1020317,null,"Mortality from breast cancer: Under 75 Directly age-standardised rates (DSR) per 100,000 European Standard",null,{"$f":"SUMIFS(Data!$H$2:$H$32706,Data!$A$2:$A$32706,$A52,Data!$D$2:$D$32706,$E$3)","v":10.31447203769779},{"$f":"SUMIFS(Data!$H$2:$H$32706,Data!$A$2:$A$32706,$A52,Data!$D$2:$D$32706,F$3)","v":9.2874826413553873},{"$f":"SUMIFS(Data!$H$2:$H$32706,Data!$A$2:$A$32706,$A52,Data!$D$2:$D$32706,G$3)","v":10.383718670274957},{"$f":"SUMIFS(Data!$H$2:$H$32706,Data!$A$2:$A$32706,$A52,Data!$D$2:$D$32706,H$3)","v":7.4075850616080929},{"$f":"SUMIFS(Data!$H$2:$H$32706,Data!$A$2:$A$32706,$A52,Data!$D$2:$D$32706,I$3)","v":9.1985886980030074},{"$f":"SUMIFS(Data!$H$2:$H$32706,Data!$A$2:$A$32706,$A52,Data!$D$2:$D$32706,J$3)","v":8.7689695458342367},{"$f":"SUMIFS(Data!$H$2:$H$32706,Data!$A$2:$A$32706,$A52,Data!$D$2:$D$32706,K$3)","v":11.123496590410264},{"$f":"SUMIFS(Data!$H$2:$H$32706,Data!$A$2:$A$32706,$A52,Data!$D$2:$D$32706,L$3)","v":8.8637117623514161},{"$f":"SUMIFS(Data!$H$2:$H$32706,Data!$A$2:$A$32706,$A52,Data!$D$2:$D$32706,M$3)","v":10.11501033614641},{"$f":"SUMIFS(Data!$H$2:$H$32706,Data!$A$2:$A$32706,$A52,Data!$D$2:$D$32706,N$3)","v":8.8101217573674244},{"$f":"SUMIFS(Data!$H$2:$H$32706,Data!$A$2:$A$32706,$A52,Data!$D$2:$D$32706,O$3)","v":13.569685288516247},8,null,null,"-"]
[1020318,null,"Percentage receiving first definitive treatment within two months of urgent referral from GP",null,{"$f":"SUMIFS(Data!$H$2:$H$32706,Data!$A$2:$A$32706,$A53,Data!$D$2:$D$32706,$E$3)","v":91.302219622640322},{"$f":"SUMIFS(Data!$H$2:$H$32706,Data!$A$2:$A$32706,$A53,Data!$D$2:$D$32706,F$3)","v":90.799031476997584},{"$f":"SUMIFS(Data!$H$2:$H$32706,Data!$A$2:$A$32706,$A53,Data!$D$2:$D$32706,G$3)","v":86.747572815533985},{"$f":"SUMIFS(Data!$H$2:$H$32706,Data!$A$2:$A$32706,$A53,Data!$D$2:$D$32706,H$3)","v":86.010709504685394},{"$f":"SUMIFS(Data!$H$2:$H$32706,Data!$A$2:$A$32706,$A53,Data!$D$2:$D$32706,I$3)","v":86.747572815533985},{"$f":"SUMIFS(Data!$H$2:$H$32706,Data!$A$2:$A$32706,$A53,Data!$D$2:$D$32706,J$3)","v":87.865497076023374},{"$f":"SUMIFS(Data!$H$2:$H$32706,Data!$A$2:$A$32706,$A53,Data!$D$2:$D$32706,K$3)","v":80.198019801980209},{"$f":"SUMIFS(Data!$H$2:$H$32706,Data!$A$2:$A$32706,$A53,Data!$D$2:$D$32706,L$3)","v":83.389021479713605},{"$f":"SUMIFS(Data!$H$2:$H$32706,Data!$A$2:$A$32706,$A53,Data!$D$2:$D$32706,M$3)","v":87.412587412587413},{"$f":"SUMIFS(Data!$H$2:$H$32706,Data!$A$2:$A$32706,$A53,Data!$D$2:$D$32706,N$3)","v":87.620357634112793},{"$f":"SUMIFS(Data!$H$2:$H$32706,Data!$A$2:$A$32706,$A53,Data!$D$2:$D$32706,O$3)","v":86.588610963278342},1,null,null,"+"]
[1020319,null,"Rate of successful quitters at 4-weeks per 100,000 smokers",null,{"$f":"SUMIFS(Data!$H$2:$H$32706,Data!$A$2:$A$32706,$A54,Data!$D$2:$D$32706,$E$3)","v":3815.7218796370234},{"$f":"SUMIFS(Data!$H$2:$H$32706,Data!$A$2:$A$32706,$A54,Data!$D$2:$D$32706,F$3)","v":4224.259715797346},{"$f":"SUMIFS(Data!$H$2:$H$32706,Data!$A$2:$A$32706,$A54,Data!$D$2:$D$32706,G$3)","v":4134.4409433782102},{"$f":"SUMIFS(Data!$H$2:$H$32706,Data!$A$2:$A$32706,$A54,Data!$D$2:$D$32706,H$3)","v":4596.6651644885087},{"$f":"SUMIFS(Data!$H$2:$H$32706,Data!$A$2:$A$32706,$A54,Data!$D$2:$D$32706,I$3)","v":4134.4409433782112},{"$f":"SUMIFS(Data!$H$2:$H$32706,Data!$A$2:$A$32706,$A54,Data!$D$2:$D$32706,J$3)","v":3543.176585470736},{"$f":"SUMIFS(Data!$H$2:$H$32706,Data!$A$2:$A$32706,$A54,Data!$D$2:$D$32706,K$3)","v":4804.3609933373709},{"$f":"SUMIFS(Data!$H$2:$H$32706,Data!$A$2:$A$32706,$A54,Data!$D$2:$D$32706,L$3)","v":5210.9280835676973},{"$f":"SUMIFS(Data!$H$2:$H$32706,Data!$A$2:$A$32706,$A54,Data!$D$2:$D$32706,M$3)","v":5496.6064429786829},{"$f":"SUMIFS(Data!$H$2:$H$32706,Data!$A$2:$A$32706,$A54,Data!$D$2:$D$32706,N$3)","v":3280.8643412657757},{"$f":"SUMIFS(Data!$H$2:$H$32706,Data!$A$2:$A$32706,$A54,Data!$D$2:$D$32706,O$3)","v":5265.6385012175642},9,null,null,"+"]
[1040101,null,"Programme Budget - Endocrine - Total admissions per 1000 population across secondary care - Cost",null,{"$f":"SUMIFS(Data!$H$2:$H$32706,Data!$A$2:$A$32706,$A55,Data!$D$2:$D$32706,$E$3)","v":6193.75},{"$f":"SUMIFS(Data!$H$2:$H$32706,Data!$A$2:$A$32706,$A55,Data!$D$2:$D$32706,F$3)","v":5327.15},{"$f":"SUMIFS(Data!$H$2:$H$32706,Data!$A$2:$A$32706,$A55,Data!$D$2:$D$32706,G$3)","v":4865.2700000000004},{"$f":"SUMIFS(Data!$H$2:$H$32706,Data!$A$2:$A$32706,$A55,Data!$D$2:$D$32706,H$3)","v":4455.0600000000004},{"$f":"SUMIFS(Data!$H$2:$H$32706,Data!$A$2:$A$32706,$A55,Data!$D$2:$D$32706,I$3)","v":4610.13},{"$f":"SUMIFS(Data!$H$2:$H$32706,Data!$A$2:$A$32706,$A55,Data!$D$2:$D$32706,J$3)","v":4114.6499999999996},{"$f":"SUMIFS(Data!$H$2:$H$32706,Data!$A$2:$A$32706,$A55,Data!$D$2:$D$32706,K$3)","v":4858.6899999999996},{"$f":"SUMIFS(Data!$H$2:$H$32706,Data!$A$2:$A$32706,$A55,Data!$D$2:$D$32706,L$3)","v":3881.28},{"$f":"SUMIFS(Data!$H$2:$H$32706,Data!$A$2:$A$32706,$A55,Data!$D$2:$D$32706,M$3)","v":3791.1},{"$f":"SUMIFS(Data!$H$2:$H$32706,Data!$A$2:$A$32706,$A55,Data!$D$2:$D$32706,N$3)","v":3620.54},{"$f":"SUMIFS(Data!$H$2:$H$32706,Data!$A$2:$A$32706,$A55,Data!$D$2:$D$32706,O$3)","v":3961.08},11,null,null,"-"]
[1040102,null,"Programme Budget - Endocrine - Total elective (IP + DC) admissions per 1000 population across secondary care - Cost",null,{"$f":"SUMIFS(Data!$H$2:$H$32706,Data!$A$2:$A$32706,$A56,Data!$D$2:$D$32706,$E$3)","v":2065.6999999999998},{"$f":"SUMIFS(Data!$H$2:$H$32706,Data!$A$2:$A$32706,$A56,Data!$D$2:$D$32706,F$3)","v":2326.1},{"$f":"SUMIFS(Data!$H$2:$H$32706,Data!$A$2:$A$32706,$A56,Data!$D$2:$D$32706,G$3)","v":1591.07},{"$f":"SUMIFS(Data!$H$2:$H$32706,Data!$A$2:$A$32706,$A56,Data!$D$2:$D$32706,H$3)","v":1296.3599999999999},{"$f":"SUMIFS(Data!$H$2:$H$32706,Data!$A$2:$A$32706,$A56,Data!$D$2:$D$32706,I$3)","v":1528.41},{"$f":"SUMIFS(Data!$H$2:$H$32706,Data!$A$2:$A$32706,$A56,Data!$D$2:$D$32706,J$3)","v":1635.07},{"$f":"SUMIFS(Data!$H$2:$H$32706,Data!$A$2:$A$32706,$A56,Data!$D$2:$D$32706,K$3)","v":1406.67},{"$f":"SUMIFS(Data!$H$2:$H$32706,Data!$A$2:$A$32706,$A56,Data!$D$2:$D$32706,L$3)","v":981.88},{"$f":"SUMIFS(Data!$H$2:$H$32706,Data!$A$2:$A$32706,$A56,Data!$D$2:$D$32706,M$3)","v":1191.79},{"$f":"SUMIFS(Data!$H$2:$H$32706,Data!$A$2:$A$32706,$A56,Data!$D$2:$D$32706,N$3)","v":1389.47},{"$f":"SUMIFS(Data!$H$2:$H$32706,Data!$A$2:$A$32706,$A56,Data!$D$2:$D$32706,O$3)","v":1242.74},10,null,null,"-"]
[1040103,null,"Programme Budget - Endocrine - Non-elective (EM + ONEL) admissions per 1000 population across secondary care - Cost",null,{"$f":"SUMIFS(Data!$H$2:$H$32706,Data!$A$2:$A$32706,$A57,Data!$D$2:$D$32706,$E$3)","v":4131.38},{"$f":"SUMIFS(Data!$H$2:$H$32706,Data!$A$2:$A$32706,$A57,Data!$D$2:$D$32706,F$3)","v":2982.36},{"$f":"SUMIFS(Data!$H$2:$H$32706,Data!$A$2:$A$32706,$A57,Data!$D$2:$D$32706,G$3)","v":3275.27},{"$f":"SUMIFS(Data!$H$2:$H$32706,Data!$A$2:$A$32706,$A57,Data!$D$2:$D$32706,H$3)","v":3157.57},{"$f":"SUMIFS(Data!$H$2:$H$32706,Data!$A$2:$A$32706,$A57,Data!$D$2:$D$32706,I$3)","v":3081.31},{"$f":"SUMIFS(Data!$H$2:$H$32706,Data!$A$2:$A$32706,$A57,Data!$D$2:$D$32706,J$3)","v":2495.0100000000002},{"$f":"SUMIFS(Data!$H$2:$H$32706,Data!$A$2:$A$32706,$A57,Data!$D$2:$D$32706,K$3)","v":3450.38},{"$f":"SUMIFS(Data!$H$2:$H$32706,Data!$A$2:$A$32706,$A57,Data!$D$2:$D$32706,L$3)","v":2887.93},{"$f":"SUMIFS(Data!$H$2:$H$32706,Data!$A$2:$A$32706,$A57,Data!$D$2:$D$32706,M$3)","v":2595.5},{"$f":"SUMIFS(Data!$H$2:$H$32706,Data!$A$2:$A$32706,$A57,Data!$D$2:$D$32706,N$3)","v":2242.5300000000002},{"$f":"SUMIFS(Data!$H$2:$H$32706,Data!$A$2:$A$32706,$A57,Data!$D$2:$D$32706,O$3)","v":2717.24},11,null,null,"-"]
[1040105,null,"Programme Budget - Endocrine - Cost prescribed per 1000 ASTRO-PU population - Cost",null,{"$f":"SUMIFS(Data!$H$2:$H$32706,Data!$A$2:$A$32706,$A58,Data!$D$2:$D$32706,$E$3)","v":25534.66},{"$f":"SUMIFS(Data!$H$2:$H$32706,Data!$A$2:$A$32706,$A58,Data!$D$2:$D$32706,F$3)","v":26243.360000000001},{"$f":"SUMIFS(Data!$H$2:$H$32706,Data!$A$2:$A$32706,$A58,Data!$D$2:$D$32706,G$3)","v":23978.3},{"$f":"SUMIFS(Data!$H$2:$H$32706,Data!$A$2:$A$32706,$A58,Data!$D$2:$D$32706,H$3)","v":23575.19},{"$f":"SUMIFS(Data!$H$2:$H$32706,Data!$A$2:$A$32706,$A58,Data!$D$2:$D$32706,I$3)","v":22653.39},{"$f":"SUMIFS(Data!$H$2:$H$32706,Data!$A$2:$A$32706,$A58,Data!$D$2:$D$32706,J$3)","v":20155.05},{"$f":"SUMIFS(Data!$H$2:$H$32706,Data!$A$2:$A$32706,$A58,Data!$D$2:$D$32706,K$3)","v":22539.41},{"$f":"SUMIFS(Data!$H$2:$H$32706,Data!$A$2:$A$32706,$A58,Data!$D$2:$D$32706,L$3)","v":20866.8},{"$f":"SUMIFS(Data!$H$2:$H$32706,Data!$A$2:$A$32706,$A58,Data!$D$2:$D$32706,M$3)","v":20635.95},{"$f":"SUMIFS(Data!$H$2:$H$32706,Data!$A$2:$A$32706,$A58,Data!$D$2:$D$32706,N$3)","v":22130.22},{"$f":"SUMIFS(Data!$H$2:$H$32706,Data!$A$2:$A$32706,$A58,Data!$D$2:$D$32706,O$3)","v":20331.759999999998},10,null,null,"-"]
[1040111,null,"Diabetes blood testing reagents total net ingredient cost (£) per diabetes registration",null,{"$f":"SUMIFS(Data!$H$2:$H$32706,Data!$A$2:$A$32706,$A59,Data!$D$2:$D$32706,$E$3)","v":312.06581077540113},{"$f":"SUMIFS(Data!$H$2:$H$32706,Data!$A$2:$A$32706,$A59,Data!$D$2:$D$32706,F$3)","v":313.77285078676067},{"$f":"SUMIFS(Data!$H$2:$H$32706,Data!$A$2:$A$32706,$A59,Data!$D$2:$D$32706,G$3)","v":330.82624125827283},{"$f":"SUMIFS(Data!$H$2:$H$32706,Data!$A$2:$A$32706,$A59,Data!$D$2:$D$32706,H$3)","v":335.60849920283437},{"$f":"SUMIFS(Data!$H$2:$H$32706,Data!$A$2:$A$32706,$A59,Data!$D$2:$D$32706,I$3)","v":330.82624125827277},{"$f":"SUMIFS(Data!$H$2:$H$32706,Data!$A$2:$A$32706,$A59,Data!$D$2:$D$32706,J$3)","v":320.487659220159},{"$f":"SUMIFS(Data!$H$2:$H$32706,Data!$A$2:$A$32706,$A59,Data!$D$2:$D$32706,K$3)","v":286.04073521104027},{"$f":"SUMIFS(Data!$H$2:$H$32706,Data!$A$2:$A$32706,$A59,Data!$D$2:$D$32706,L$3)","v":323.19367032001242},{"$f":"SUMIFS(Data!$H$2:$H$32706,Data!$A$2:$A$32706,$A59,Data!$D$2:$D$32706,M$3)","v":286.34653731850216},{"$f":"SUMIFS(Data!$H$2:$H$32706,Data!$A$2:$A$32706,$A59,Data!$D$2:$D$32706,N$3)","v":343.91164512695758},{"$f":"SUMIFS(Data!$H$2:$H$32706,Data!$A$2:$A$32706,$A59,Data!$D$2:$D$32706,O$3)","v":296.6584879434543},{"$f":"IF(S59=\"-\",RANK(E59,E59:O59,1),RANK(E59,E59:O59,0))","v":4},null,null,"-"]
[1040201,null,"Programme Budget - Endocrine - Total admissions per 1000 population across secondary care - Activity",null,{"$f":"SUMIFS(Data!$H$2:$H$32706,Data!$A$2:$A$32706,$A60,Data!$D$2:$D$32706,$E$3)","v":5.4},{"$f":"SUMIFS(Data!$H$2:$H$32706,Data!$A$2:$A$32706,$A60,Data!$D$2:$D$32706,F$3)","v":5.83},{"$f":"SUMIFS(Data!$H$2:$H$32706,Data!$A$2:$A$32706,$A60,Data!$D$2:$D$32706,G$3)","v":3.63},{"$f":"SUMIFS(Data!$H$2:$H$32706,Data!$A$2:$A$32706,$A60,Data!$D$2:$D$32706,H$3)","v":4.07},{"$f":"SUMIFS(Data!$H$2:$H$32706,Data!$A$2:$A$32706,$A60,Data!$D$2:$D$32706,I$3)","v":3.06},{"$f":"SUMIFS(Data!$H$2:$H$32706,Data!$A$2:$A$32706,$A60,Data!$D$2:$D$32706,J$3)","v":4.5599999999999996},{"$f":"SUMIFS(Data!$H$2:$H$32706,Data!$A$2:$A$32706,$A60,Data!$D$2:$D$32706,K$3)","v":3.72},{"$f":"SUMIFS(Data!$H$2:$H$32706,Data!$A$2:$A$32706,$A60,Data!$D$2:$D$32706,L$3)","v":2.65},{"$f":"SUMIFS(Data!$H$2:$H$32706,Data!$A$2:$A$32706,$A60,Data!$D$2:$D$32706,M$3)","v":3.36},{"$f":"SUMIFS(Data!$H$2:$H$32706,Data!$A$2:$A$32706,$A60,Data!$D$2:$D$32706,N$3)","v":3.07},{"$f":"SUMIFS(Data!$H$2:$H$32706,Data!$A$2:$A$32706,$A60,Data!$D$2:$D$32706,O$3)","v":2.61},10,null,null,"-"]
[1040202,null,"Programme Budget - Endocrine - Total elective (IP + DC) admissions per 1000 population across secondary care - Activity",null,{"$f":"SUMIFS(Data!$H$2:$H$32706,Data!$A$2:$A$32706,$A61,Data!$D$2:$D$32706,$E$3)","v":3.24},{"$f":"SUMIFS(Data!$H$2:$H$32706,Data!$A$2:$A$32706,$A61,Data!$D$2:$D$32706,F$3)","v":4.01},{"$f":"SUMIFS(Data!$H$2:$H$32706,Data!$A$2:$A$32706,$A61,Data!$D$2:$D$32706,G$3)","v":1.71},{"$f":"SUMIFS(Data!$H$2:$H$32706,Data!$A$2:$A$32706,$A61,Data!$D$2:$D$32706,H$3)","v":2.23},{"$f":"SUMIFS(Data!$H$2:$H$32706,Data!$A$2:$A$32706,$A61,Data!$D$2:$D$32706,I$3)","v":1.36},{"$f":"SUMIFS(Data!$H$2:$H$32706,Data!$A$2:$A$32706,$A61,Data!$D$2:$D$32706,J$3)","v":3.11},{"$f":"SUMIFS(Data!$H$2:$H$32706,Data!$A$2:$A$32706,$A61,Data!$D$2:$D$32706,K$3)","v":1.92},{"$f":"SUMIFS(Data!$H$2:$H$32706,Data!$A$2:$A$32706,$A61,Data!$D$2:$D$32706,L$3)","v":1.2},{"$f":"SUMIFS(Data!$H$2:$H$32706,Data!$A$2:$A$32706,$A61,Data!$D$2:$D$32706,M$3)","v":1.8},{"$f":"SUMIFS(Data!$H$2:$H$32706,Data!$A$2:$A$32706,$A61,Data!$D$2:$D$32706,N$3)","v":1.76},{"$f":"SUMIFS(Data!$H$2:$H$32706,Data!$A$2:$A$32706,$A61,Data!$D$2:$D$32706,O$3)","v":1.1000000000000001},10,null,null,"-"]
[1040203,null,"Programme Budget - Endocrine - Non-elective (EM + ONEL) admissions per 1000 population across secondary care - Activity",null,{"$f":"SUMIFS(Data!$H$2:$H$32706,Data!$A$2:$A$32706,$A62,Data!$D$2:$D$32706,$E$3)","v":2.2000000000000002},{"$f":"SUMIFS(Data!$H$2:$H$32706,Data!$A$2:$A$32706,$A62,Data!$D$2:$D$32706,F$3)","v":1.85},{"$f":"SUMIFS(Data!$H$2:$H$32706,Data!$A$2:$A$32706,$A62,Data!$D$2:$D$32706,G$3)","v":1.96},{"$f":"SUMIFS(Data!$H$2:$H$32706,Data!$A$2:$A$32706,$A62,Data!$D$2:$D$32706,H$3)","v":1.89},{"$f":"SUMIFS(Data!$H$2:$H$32706,Data!$A$2:$A$32706,$A62,Data!$D$2:$D$32706,I$3)","v":1.75},{"$f":"SUMIFS(Data!$H$2:$H$32706,Data!$A$2:$A$32706,$A62,Data!$D$2:$D$32706,J$3)","v":1.49},{"$f":"SUMIFS(Data!$H$2:$H$32706,Data!$A$2:$A$32706,$A62,Data!$D$2:$D$32706,K$3)","v":1.8},{"$f":"SUMIFS(Data!$H$2:$H$32706,Data!$A$2:$A$32706,$A62,Data!$D$2:$D$32706,L$3)","v":1.49},{"$f":"SUMIFS(Data!$H$2:$H$32706,Data!$A$2:$A$32706,$A62,Data!$D$2:$D$32706,M$3)","v":1.59},{"$f":"SUMIFS(Data!$H$2:$H$32706,Data!$A$2:$A$32706,$A62,Data!$D$2:$D$32706,N$3)","v":1.33},{"$f":"SUMIFS(Data!$H$2:$H$32706,Data!$A$2:$A$32706,$A62,Data!$D$2:$D$32706,O$3)","v":1.52},11,null,null,"-"]
[1040215,null,"Observed vs expected number of emergency bed days for patients with diabetes",null,{"$f":"SUMIFS(Data!$H$2:$H$32706,Data!$A$2:$A$32706,$A63,Data!$D$2:$D$32706,$E$3)","v":1.032012382353912},{"$f":"SUMIFS(Data!$H$2:$H$32706,Data!$A$2:$A$32706,$A63,Data!$D$2:$D$32706,F$3)","v":1.4844044100046443},{"$f":"SUMIFS(Data!$H$2:$H$32706,Data!$A$2:$A$32706,$A63,Data!$D$2:$D$32706,G$3)","v":1.8141930500016312},{"$f":"SUMIFS(Data!$H$2:$H$32706,Data!$A$2:$A$32706,$A63,Data!$D$2:$D$32706,H$3)","v":1.3608095427733373},{"$f":"SUMIFS(Data!$H$2:$H$32706,Data!$A$2:$A$32706,$A63,Data!$D$2:$D$32706,I$3)","v":1.8649088851501476},{"$f":"SUMIFS(Data!$H$2:$H$32706,Data!$A$2:$A$32706,$A63,Data!$D$2:$D$32706,J$3)","v":1.0040392466559642},{"$f":"SUMIFS(Data!$H$2:$H$32706,Data!$A$2:$A$32706,$A63,Data!$D$2:$D$32706,K$3)","v":1.4129094511867866},{"$f":"SUMIFS(Data!$H$2:$H$32706,Data!$A$2:$A$32706,$A63,Data!$D$2:$D$32706,L$3)","v":0.89167052968201554},{"$f":"SUMIFS(Data!$H$2:$H$32706,Data!$A$2:$A$32706,$A63,Data!$D$2:$D$32706,M$3)","v":1.8323803417561957},{"$f":"SUMIFS(Data!$H$2:$H$32706,Data!$A$2:$A$32706,$A63,Data!$D$2:$D$32706,N$3)","v":1.0591998984472073},{"$f":"SUMIFS(Data!$H$2:$H$32706,Data!$A$2:$A$32706,$A63,Data!$D$2:$D$32706,O$3)","v":1.5924003984161261},3,null,null,"-"]
[1040312,null,"DM 17: The percentage of diabetic patients whose last cholesterol was 5mmol or less",null,{"$f":"SUMIFS(Data!$H$2:$H$32706,Data!$A$2:$A$32706,$A64,Data!$D$2:$D$32706,$E$3)","v":71.700356718192623},{"$f":"SUMIFS(Data!$H$2:$H$32706,Data!$A$2:$A$32706,$A64,Data!$D$2:$D$32706,F$3)","v":78.19103972950127},{"$f":"SUMIFS(Data!$H$2:$H$32706,Data!$A$2:$A$32706,$A64,Data!$D$2:$D$32706,G$3)","v":74.755887421022408},{"$f":"SUMIFS(Data!$H$2:$H$32706,Data!$A$2:$A$32706,$A64,Data!$D$2:$D$32706,H$3)","v":76.387802971071153},{"$f":"SUMIFS(Data!$H$2:$H$32706,Data!$A$2:$A$32706,$A64,Data!$D$2:$D$32706,I$3)","v":74.505893019038979},{"$f":"SUMIFS(Data!$H$2:$H$32706,Data!$A$2:$A$32706,$A64,Data!$D$2:$D$32706,J$3)","v":74.410281438099886},{"$f":"SUMIFS(Data!$H$2:$H$32706,Data!$A$2:$A$32706,$A64,Data!$D$2:$D$32706,K$3)","v":73.232440822662014},{"$f":"SUMIFS(Data!$H$2:$H$32706,Data!$A$2:$A$32706,$A64,Data!$D$2:$D$32706,L$3)","v":73.052260339852509},{"$f":"SUMIFS(Data!$H$2:$H$32706,Data!$A$2:$A$32706,$A64,Data!$D$2:$D$32706,M$3)","v":72.261540936142836},{"$f":"SUMIFS(Data!$H$2:$H$32706,Data!$A$2:$A$32706,$A64,Data!$D$2:$D$32706,N$3)","v":71.713451917732073},{"$f":"SUMIFS(Data!$H$2:$H$32706,Data!$A$2:$A$32706,$A64,Data!$D$2:$D$32706,O$3)","v":72.677966101694906},11,null,null,"+"]
[1040313,null,"DM 27: The percentage of patients with diabetes in whom the last IFCC-HbA1c is 64 mmol/mol (equivalent to HbA1c of 8% in DCCT values) or less (or equivalent test/reference range depending on local laboratory) in the preceding 15 months",null,{"$f":"SUMIFS(Data!$H$2:$H$32706,Data!$A$2:$A$32706,$A65,Data!$D$2:$D$32706,$E$3)","v":75.214691504822312},{"$f":"SUMIFS(Data!$H$2:$H$32706,Data!$A$2:$A$32706,$A65,Data!$D$2:$D$32706,F$3)","v":73.087489433643285},{"$f":"SUMIFS(Data!$H$2:$H$32706,Data!$A$2:$A$32706,$A65,Data!$D$2:$D$32706,G$3)","v":76.076967260195289},{"$f":"SUMIFS(Data!$H$2:$H$32706,Data!$A$2:$A$32706,$A65,Data!$D$2:$D$32706,H$3)","v":70.52384675527756},{"$f":"SUMIFS(Data!$H$2:$H$32706,Data!$A$2:$A$32706,$A65,Data!$D$2:$D$32706,I$3)","v":74.850407978241165},{"$f":"SUMIFS(Data!$H$2:$H$32706,Data!$A$2:$A$32706,$A65,Data!$D$2:$D$32706,J$3)","v":80.16918822189686},{"$f":"SUMIFS(Data!$H$2:$H$32706,Data!$A$2:$A$32706,$A65,Data!$D$2:$D$32706,K$3)","v":70.205665502522308},{"$f":"SUMIFS(Data!$H$2:$H$32706,Data!$A$2:$A$32706,$A65,Data!$D$2:$D$32706,L$3)","v":74.783584482205839},{"$f":"SUMIFS(Data!$H$2:$H$32706,Data!$A$2:$A$32706,$A65,Data!$D$2:$D$32706,M$3)","v":68.047289689560884},{"$f":"SUMIFS(Data!$H$2:$H$32706,Data!$A$2:$A$32706,$A65,Data!$D$2:$D$32706,N$3)","v":77.181767648693722},{"$f":"SUMIFS(Data!$H$2:$H$32706,Data!$A$2:$A$32706,$A65,Data!$D$2:$D$32706,O$3)","v":67.118644067796609},4,null,null,"+"]
[1040314,null,"DM 30: The percentage of diabetic patients whose last blood pressure was 150/90 or less",null,{"$f":"SUMIFS(Data!$H$2:$H$32706,Data!$A$2:$A$32706,$A66,Data!$D$2:$D$32706,$E$3)","v":86.537191174527678},{"$f":"SUMIFS(Data!$H$2:$H$32706,Data!$A$2:$A$32706,$A66,Data!$D$2:$D$32706,F$3)","v":86.30600169061708},{"$f":"SUMIFS(Data!$H$2:$H$32706,Data!$A$2:$A$32706,$A66,Data!$D$2:$D$32706,G$3)","v":86.722190312081182},{"$f":"SUMIFS(Data!$H$2:$H$32706,Data!$A$2:$A$32706,$A66,Data!$D$2:$D$32706,H$3)","v":86.473807662236126},{"$f":"SUMIFS(Data!$H$2:$H$32706,Data!$A$2:$A$32706,$A66,Data!$D$2:$D$32706,I$3)","v":87.90571169537624},{"$f":"SUMIFS(Data!$H$2:$H$32706,Data!$A$2:$A$32706,$A66,Data!$D$2:$D$32706,J$3)","v":88.709939808036438},{"$f":"SUMIFS(Data!$H$2:$H$32706,Data!$A$2:$A$32706,$A66,Data!$D$2:$D$32706,K$3)","v":86.255335661622041},{"$f":"SUMIFS(Data!$H$2:$H$32706,Data!$A$2:$A$32706,$A66,Data!$D$2:$D$32706,L$3)","v":84.273805706957361},{"$f":"SUMIFS(Data!$H$2:$H$32706,Data!$A$2:$A$32706,$A66,Data!$D$2:$D$32706,M$3)","v":86.335853305452787},{"$f":"SUMIFS(Data!$H$2:$H$32706,Data!$A$2:$A$32706,$A66,Data!$D$2:$D$32706,N$3)","v":86.325736520289055},{"$f":"SUMIFS(Data!$H$2:$H$32706,Data!$A$2:$A$32706,$A66,Data!$D$2:$D$32706,O$3)","v":87.084745762711862},5,null,null,"+"]
[1050105,null,"Programme Budget - Mental Health - Cost prescribed per 1000 ASTRO-PU population - Cost",null,{"$f":"SUMIFS(Data!$H$2:$H$32706,Data!$A$2:$A$32706,$A67,Data!$D$2:$D$32706,$E$3)","v":12249.49},{"$f":"SUMIFS(Data!$H$2:$H$32706,Data!$A$2:$A$32706,$A67,Data!$D$2:$D$32706,F$3)","v":13825.36},{"$f":"SUMIFS(Data!$H$2:$H$32706,Data!$A$2:$A$32706,$A67,Data!$D$2:$D$32706,G$3)","v":10778.48},{"$f":"SUMIFS(Data!$H$2:$H$32706,Data!$A$2:$A$32706,$A67,Data!$D$2:$D$32706,H$3)","v":10615.81},{"$f":"SUMIFS(Data!$H$2:$H$32706,Data!$A$2:$A$32706,$A67,Data!$D$2:$D$32706,I$3)","v":10032.030000000001},{"$f":"SUMIFS(Data!$H$2:$H$32706,Data!$A$2:$A$32706,$A67,Data!$D$2:$D$32706,J$3)","v":11642.98},{"$f":"SUMIFS(Data!$H$2:$H$32706,Data!$A$2:$A$32706,$A67,Data!$D$2:$D$32706,K$3)","v":12393.6},{"$f":"SUMIFS(Data!$H$2:$H$32706,Data!$A$2:$A$32706,$A67,Data!$D$2:$D$32706,L$3)","v":11303.56},{"$f":"SUMIFS(Data!$H$2:$H$32706,Data!$A$2:$A$32706,$A67,Data!$D$2:$D$32706,M$3)","v":15219.08},{"$f":"SUMIFS(Data!$H$2:$H$32706,Data!$A$2:$A$32706,$A67,Data!$D$2:$D$32706,N$3)","v":14040.7},{"$f":"SUMIFS(Data!$H$2:$H$32706,Data!$A$2:$A$32706,$A67,Data!$D$2:$D$32706,O$3)","v":9617.39},7,null,null,"-"]
[1050211,null,"Total bed‐days in hospital per population for patients >74 years with a secondary diagnosis of dementia",null,{"$f":"SUMIFS(Data!$H$2:$H$32706,Data!$A$2:$A$32706,$A68,Data!$D$2:$D$32706,$E$3)","v":441.78889340356665},{"$f":"SUMIFS(Data!$H$2:$H$32706,Data!$A$2:$A$32706,$A68,Data!$D$2:$D$32706,F$3)","v":469.81195391969237},{"$f":"SUMIFS(Data!$H$2:$H$32706,Data!$A$2:$A$32706,$A68,Data!$D$2:$D$32706,G$3)","v":403.56138556540475},{"$f":"SUMIFS(Data!$H$2:$H$32706,Data!$A$2:$A$32706,$A68,Data!$D$2:$D$32706,H$3)","v":577.34507225042807},{"$f":"SUMIFS(Data!$H$2:$H$32706,Data!$A$2:$A$32706,$A68,Data!$D$2:$D$32706,I$3)","v":344.53024099582149},{"$f":"SUMIFS(Data!$H$2:$H$32706,Data!$A$2:$A$32706,$A68,Data!$D$2:$D$32706,J$3)","v":395.60440110014883},{"$f":"SUMIFS(Data!$H$2:$H$32706,Data!$A$2:$A$32706,$A68,Data!$D$2:$D$32706,K$3)","v":475.97719637902543},{"$f":"SUMIFS(Data!$H$2:$H$32706,Data!$A$2:$A$32706,$A68,Data!$D$2:$D$32706,L$3)","v":372.90596698483728},{"$f":"SUMIFS(Data!$H$2:$H$32706,Data!$A$2:$A$32706,$A68,Data!$D$2:$D$32706,M$3)","v":423.66240000601863},{"$f":"SUMIFS(Data!$H$2:$H$32706,Data!$A$2:$A$32706,$A68,Data!$D$2:$D$32706,N$3)","v":441.58460349557555},{"$f":"SUMIFS(Data!$H$2:$H$32706,Data!$A$2:$A$32706,$A68,Data!$D$2:$D$32706,O$3)","v":527.2093238922705},7,null,null,"-"]
[1050212,null,"Rate of admissions to hospital for patients >74 years with a secondary diagnosis of dementia",null,{"$f":"SUMIFS(Data!$H$2:$H$32706,Data!$A$2:$A$32706,$A69,Data!$D$2:$D$32706,$E$3)","v":55.391897768826993},{"$f":"SUMIFS(Data!$H$2:$H$32706,Data!$A$2:$A$32706,$A69,Data!$D$2:$D$32706,F$3)","v":51.00641493772352},{"$f":"SUMIFS(Data!$H$2:$H$32706,Data!$A$2:$A$32706,$A69,Data!$D$2:$D$32706,G$3)","v":52.532513174906136},{"$f":"SUMIFS(Data!$H$2:$H$32706,Data!$A$2:$A$32706,$A69,Data!$D$2:$D$32706,H$3)","v":55.091893003224719},{"$f":"SUMIFS(Data!$H$2:$H$32706,Data!$A$2:$A$32706,$A69,Data!$D$2:$D$32706,I$3)","v":40.624399753142818},{"$f":"SUMIFS(Data!$H$2:$H$32706,Data!$A$2:$A$32706,$A69,Data!$D$2:$D$32706,J$3)","v":41.025201840669361},{"$f":"SUMIFS(Data!$H$2:$H$32706,Data!$A$2:$A$32706,$A69,Data!$D$2:$D$32706,K$3)","v":55.797768058690188},{"$f":"SUMIFS(Data!$H$2:$H$32706,Data!$A$2:$A$32706,$A69,Data!$D$2:$D$32706,L$3)","v":42.276424203078058},{"$f":"SUMIFS(Data!$H$2:$H$32706,Data!$A$2:$A$32706,$A69,Data!$D$2:$D$32706,M$3)","v":46.793510689933449},{"$f":"SUMIFS(Data!$H$2:$H$32706,Data!$A$2:$A$32706,$A69,Data!$D$2:$D$32706,N$3)","v":37.545767493469938},{"$f":"SUMIFS(Data!$H$2:$H$32706,Data!$A$2:$A$32706,$A69,Data!$D$2:$D$32706,O$3)","v":42.500055170293479},10,null,null,"-"]
[1050216,null,"Mental Health - Emergency hospital admissions for self harm per 100,000 2011/12 (Directly standardised)",null,{"$f":"SUMIFS(Data!$H$2:$H$32706,Data!$A$2:$A$32706,$A70,Data!$D$2:$D$32706,$E$3)","v":232.9195021599173},{"$f":"SUMIFS(Data!$H$2:$H$32706,Data!$A$2:$A$32706,$A70,Data!$D$2:$D$32706,F$3)","v":318.731651752441},{"$f":"SUMIFS(Data!$H$2:$H$32706,Data!$A$2:$A$32706,$A70,Data!$D$2:$D$32706,G$3)","v":226.99846808680508},{"$f":"SUMIFS(Data!$H$2:$H$32706,Data!$A$2:$A$32706,$A70,Data!$D$2:$D$32706,H$3)","v":198.15483846927751},{"$f":"SUMIFS(Data!$H$2:$H$32706,Data!$A$2:$A$32706,$A70,Data!$D$2:$D$32706,I$3)","v":226.98751780857398},{"$f":"SUMIFS(Data!$H$2:$H$32706,Data!$A$2:$A$32706,$A70,Data!$D$2:$D$32706,J$3)","v":166.07304444848401},{"$f":"SUMIFS(Data!$H$2:$H$32706,Data!$A$2:$A$32706,$A70,Data!$D$2:$D$32706,K$3)","v":140.75094612073389},{"$f":"SUMIFS(Data!$H$2:$H$32706,Data!$A$2:$A$32706,$A70,Data!$D$2:$D$32706,L$3)","v":215.68342941153713},{"$f":"SUMIFS(Data!$H$2:$H$32706,Data!$A$2:$A$32706,$A70,Data!$D$2:$D$32706,M$3)","v":208.92568480105271},{"$f":"SUMIFS(Data!$H$2:$H$32706,Data!$A$2:$A$32706,$A70,Data!$D$2:$D$32706,N$3)","v":221.50085401180584},{"$f":"SUMIFS(Data!$H$2:$H$32706,Data!$A$2:$A$32706,$A70,Data!$D$2:$D$32706,O$3)","v":189.80391728101964},10,null,null,"-"]
[1050313,null,"Mortality from suicide and injury undetermined: All Ages, Directly age-standardised rates (DSR) per 100,000",null,{"$f":"SUMIFS(Data!$H$2:$H$32706,Data!$A$2:$A$32706,$A71,Data!$D$2:$D$32706,$E$3)","v":8.3416367931111175},{"$f":"SUMIFS(Data!$H$2:$H$32706,Data!$A$2:$A$32706,$A71,Data!$D$2:$D$32706,F$3)","v":10.26899036532464},{"$f":"SUMIFS(Data!$H$2:$H$32706,Data!$A$2:$A$32706,$A71,Data!$D$2:$D$32706,G$3)","v":8.9047261040057055},{"$f":"SUMIFS(Data!$H$2:$H$32706,Data!$A$2:$A$32706,$A71,Data!$D$2:$D$32706,H$3)","v":7.2850322275655826},{"$f":"SUMIFS(Data!$H$2:$H$32706,Data!$A$2:$A$32706,$A71,Data!$D$2:$D$32706,I$3)","v":6.1635057344636026},{"$f":"SUMIFS(Data!$H$2:$H$32706,Data!$A$2:$A$32706,$A71,Data!$D$2:$D$32706,J$3)","v":8.4263652016160027},{"$f":"SUMIFS(Data!$H$2:$H$32706,Data!$A$2:$A$32706,$A71,Data!$D$2:$D$32706,K$3)","v":10.111112564502085},{"$f":"SUMIFS(Data!$H$2:$H$32706,Data!$A$2:$A$32706,$A71,Data!$D$2:$D$32706,L$3)","v":8.9611260885534989},{"$f":"SUMIFS(Data!$H$2:$H$32706,Data!$A$2:$A$32706,$A71,Data!$D$2:$D$32706,M$3)","v":9.754492214356425},{"$f":"SUMIFS(Data!$H$2:$H$32706,Data!$A$2:$A$32706,$A71,Data!$D$2:$D$32706,N$3)","v":8.00066569614253},{"$f":"SUMIFS(Data!$H$2:$H$32706,Data!$A$2:$A$32706,$A71,Data!$D$2:$D$32706,O$3)","v":6.7040918014247062},5,null,null,"-"]
[1050315,null,"Mental Health - % of people with mental illness and or disability in settled accommodation, 2011/12",null,{"$f":"SUMIFS(Data!$H$2:$H$32706,Data!$A$2:$A$32706,$A72,Data!$D$2:$D$32706,$E$3)","v":61.978249985557767},{"$f":"SUMIFS(Data!$H$2:$H$32706,Data!$A$2:$A$32706,$A72,Data!$D$2:$D$32706,F$3)","v":51.815210635116316},{"$f":"SUMIFS(Data!$H$2:$H$32706,Data!$A$2:$A$32706,$A72,Data!$D$2:$D$32706,G$3)","v":68.399939122667845},{"$f":"SUMIFS(Data!$H$2:$H$32706,Data!$A$2:$A$32706,$A72,Data!$D$2:$D$32706,H$3)","v":76.453255579982866},{"$f":"SUMIFS(Data!$H$2:$H$32706,Data!$A$2:$A$32706,$A72,Data!$D$2:$D$32706,I$3)","v":68.399532120191694},{"$f":"SUMIFS(Data!$H$2:$H$32706,Data!$A$2:$A$32706,$A72,Data!$D$2:$D$32706,J$3)","v":43.85758495107595},{"$f":"SUMIFS(Data!$H$2:$H$32706,Data!$A$2:$A$32706,$A72,Data!$D$2:$D$32706,K$3)","v":78.974965953340671},{"$f":"SUMIFS(Data!$H$2:$H$32706,Data!$A$2:$A$32706,$A72,Data!$D$2:$D$32706,L$3)","v":66.031849731109986},{"$f":"SUMIFS(Data!$H$2:$H$32706,Data!$A$2:$A$32706,$A72,Data!$D$2:$D$32706,M$3)","v":54.419020327596357},{"$f":"SUMIFS(Data!$H$2:$H$32706,Data!$A$2:$A$32706,$A72,Data!$D$2:$D$32706,N$3)","v":70.650604298753834},{"$f":"SUMIFS(Data!$H$2:$H$32706,Data!$A$2:$A$32706,$A72,Data!$D$2:$D$32706,O$3)","v":64.924483006372611},8,null,null,"+"]
[1050317,null,"Mental Health - Improving access to psychological therapies - recovery rate per 1,000 2011/12 NB PER 100",null,{"$f":"SUMIFS(Data!$H$2:$H$32706,Data!$A$2:$A$32706,$A73,Data!$D$2:$D$32706,$E$3)","v":43.386691500478122},{"$f":"SUMIFS(Data!$H$2:$H$32706,Data!$A$2:$A$32706,$A73,Data!$D$2:$D$32706,F$3)","v":50.730411686586983},{"$f":"SUMIFS(Data!$H$2:$H$32706,Data!$A$2:$A$32706,$A73,Data!$D$2:$D$32706,G$3)","v":50.018698578908008},{"$f":"SUMIFS(Data!$H$2:$H$32706,Data!$A$2:$A$32706,$A73,Data!$D$2:$D$32706,H$3)","v":27.547169811320753},{"$f":"SUMIFS(Data!$H$2:$H$32706,Data!$A$2:$A$32706,$A73,Data!$D$2:$D$32706,I$3)","v":50.018698578907994},{"$f":"SUMIFS(Data!$H$2:$H$32706,Data!$A$2:$A$32706,$A73,Data!$D$2:$D$32706,J$3)","v":65.25612472160357},{"$f":"SUMIFS(Data!$H$2:$H$32706,Data!$A$2:$A$32706,$A73,Data!$D$2:$D$32706,K$3)","v":97.928436911487765},{"$f":"SUMIFS(Data!$H$2:$H$32706,Data!$A$2:$A$32706,$A73,Data!$D$2:$D$32706,L$3)","v":54.932587964485371},{"$f":"SUMIFS(Data!$H$2:$H$32706,Data!$A$2:$A$32706,$A73,Data!$D$2:$D$32706,M$3)","v":41.657810839532409},{"$f":"SUMIFS(Data!$H$2:$H$32706,Data!$A$2:$A$32706,$A73,Data!$D$2:$D$32706,N$3)","v":57.23684210526315},{"$f":"SUMIFS(Data!$H$2:$H$32706,Data!$A$2:$A$32706,$A73,Data!$D$2:$D$32706,O$3)","v":47.587013746709559},9,null,null,"+"]
[1050318,null,"Mental health - Excess under 75 mortality rate in adults with serious mental illness, 2010/11 (Directly age-sex standardised)",null,{"$f":"SUMIFS(Data!$H$2:$H$32706,Data!$A$2:$A$32706,$A74,Data!$D$2:$D$32706,$E$3)","v":1070.4117900034018},{"$f":"SUMIFS(Data!$H$2:$H$32706,Data!$A$2:$A$32706,$A74,Data!$D$2:$D$32706,F$3)","v":840.59908780252272},{"$f":"SUMIFS(Data!$H$2:$H$32706,Data!$A$2:$A$32706,$A74,Data!$D$2:$D$32706,G$3)","v":914.00130237571284},{"$f":"SUMIFS(Data!$H$2:$H$32706,Data!$A$2:$A$32706,$A74,Data!$D$2:$D$32706,H$3)","v":532.02340052912029},{"$f":"SUMIFS(Data!$H$2:$H$32706,Data!$A$2:$A$32706,$A74,Data!$D$2:$D$32706,I$3)","v":914.00841859862715},{"$f":"SUMIFS(Data!$H$2:$H$32706,Data!$A$2:$A$32706,$A74,Data!$D$2:$D$32706,J$3)","v":1159.9988779750897},{"$f":"SUMIFS(Data!$H$2:$H$32706,Data!$A$2:$A$32706,$A74,Data!$D$2:$D$32706,K$3)","v":892.73061051306104},{"$f":"SUMIFS(Data!$H$2:$H$32706,Data!$A$2:$A$32706,$A74,Data!$D$2:$D$32706,L$3)","v":814.28993693658833},{"$f":"SUMIFS(Data!$H$2:$H$32706,Data!$A$2:$A$32706,$A74,Data!$D$2:$D$32706,M$3)","v":805.75278768570138},{"$f":"SUMIFS(Data!$H$2:$H$32706,Data!$A$2:$A$32706,$A74,Data!$D$2:$D$32706,N$3)","v":864.96328774048959},{"$f":"SUMIFS(Data!$H$2:$H$32706,Data!$A$2:$A$32706,$A74,Data!$D$2:$D$32706,O$3)","v":957.38527739597646},10,null,null,"-"]
[1050414,null,"Reported numbers of dementia on GP registers as a percentage of estimated prevalence",null,{"$f":"SUMIFS(Data!$H$2:$H$32706,Data!$A$2:$A$32706,$A75,Data!$D$2:$D$32706,$E$3)","v":54.371990716011851},{"$f":"SUMIFS(Data!$H$2:$H$32706,Data!$A$2:$A$32706,$A75,Data!$D$2:$D$32706,F$3)","v":52.259667682435982},{"$f":"SUMIFS(Data!$H$2:$H$32706,Data!$A$2:$A$32706,$A75,Data!$D$2:$D$32706,G$3)","v":42.367425072479925},{"$f":"SUMIFS(Data!$H$2:$H$32706,Data!$A$2:$A$32706,$A75,Data!$D$2:$D$32706,H$3)","v":47.002685619740838},{"$f":"SUMIFS(Data!$H$2:$H$32706,Data!$A$2:$A$32706,$A75,Data!$D$2:$D$32706,I$3)","v":44.011531991320531},{"$f":"SUMIFS(Data!$H$2:$H$32706,Data!$A$2:$A$32706,$A75,Data!$D$2:$D$32706,J$3)","v":58.951391099513494},{"$f":"SUMIFS(Data!$H$2:$H$32706,Data!$A$2:$A$32706,$A75,Data!$D$2:$D$32706,K$3)","v":51.490419539783247},{"$f":"SUMIFS(Data!$H$2:$H$32706,Data!$A$2:$A$32706,$A75,Data!$D$2:$D$32706,L$3)","v":46.88101217485903},{"$f":"SUMIFS(Data!$H$2:$H$32706,Data!$A$2:$A$32706,$A75,Data!$D$2:$D$32706,M$3)","v":55.205861983856039},{"$f":"SUMIFS(Data!$H$2:$H$32706,Data!$A$2:$A$32706,$A75,Data!$D$2:$D$32706,N$3)","v":41.858112794904216},{"$f":"SUMIFS(Data!$H$2:$H$32706,Data!$A$2:$A$32706,$A75,Data!$D$2:$D$32706,O$3)","v":36.321776153659464},3,null,null,"+"]
[1070101,null,"Programme Budget - Neurological - Total admissions per 1000 population across secondary care - Cost",null,{"$f":"SUMIFS(Data!$H$2:$H$32706,Data!$A$2:$A$32706,$A76,Data!$D$2:$D$32706,$E$3)","v":22398.080000000002},{"$f":"SUMIFS(Data!$H$2:$H$32706,Data!$A$2:$A$32706,$A76,Data!$D$2:$D$32706,F$3)","v":28108.71},{"$f":"SUMIFS(Data!$H$2:$H$32706,Data!$A$2:$A$32706,$A76,Data!$D$2:$D$32706,G$3)","v":27509.02},{"$f":"SUMIFS(Data!$H$2:$H$32706,Data!$A$2:$A$32706,$A76,Data!$D$2:$D$32706,H$3)","v":22302.31},{"$f":"SUMIFS(Data!$H$2:$H$32706,Data!$A$2:$A$32706,$A76,Data!$D$2:$D$32706,I$3)","v":26280.92},{"$f":"SUMIFS(Data!$H$2:$H$32706,Data!$A$2:$A$32706,$A76,Data!$D$2:$D$32706,J$3)","v":22568.58},{"$f":"SUMIFS(Data!$H$2:$H$32706,Data!$A$2:$A$32706,$A76,Data!$D$2:$D$32706,K$3)","v":20986.55},{"$f":"SUMIFS(Data!$H$2:$H$32706,Data!$A$2:$A$32706,$A76,Data!$D$2:$D$32706,L$3)","v":23929.51},{"$f":"SUMIFS(Data!$H$2:$H$32706,Data!$A$2:$A$32706,$A76,Data!$D$2:$D$32706,M$3)","v":18546.669999999998},{"$f":"SUMIFS(Data!$H$2:$H$32706,Data!$A$2:$A$32706,$A76,Data!$D$2:$D$32706,N$3)","v":21517.439999999999},{"$f":"SUMIFS(Data!$H$2:$H$32706,Data!$A$2:$A$32706,$A76,Data!$D$2:$D$32706,O$3)","v":27710.799999999999},5,null,null,"-"]
[1070102,null,"Programme Budget - Neurological - Total elective (IP + DC) admissions per 1000 population across secondary care - Cost",null,{"$f":"SUMIFS(Data!$H$2:$H$32706,Data!$A$2:$A$32706,$A77,Data!$D$2:$D$32706,$E$3)","v":8247.5499999999993},{"$f":"SUMIFS(Data!$H$2:$H$32706,Data!$A$2:$A$32706,$A77,Data!$D$2:$D$32706,F$3)","v":7445.64},{"$f":"SUMIFS(Data!$H$2:$H$32706,Data!$A$2:$A$32706,$A77,Data!$D$2:$D$32706,G$3)","v":10817.16},{"$f":"SUMIFS(Data!$H$2:$H$32706,Data!$A$2:$A$32706,$A77,Data!$D$2:$D$32706,H$3)","v":6794.22},{"$f":"SUMIFS(Data!$H$2:$H$32706,Data!$A$2:$A$32706,$A77,Data!$D$2:$D$32706,I$3)","v":9973.15},{"$f":"SUMIFS(Data!$H$2:$H$32706,Data!$A$2:$A$32706,$A77,Data!$D$2:$D$32706,J$3)","v":6259.68},{"$f":"SUMIFS(Data!$H$2:$H$32706,Data!$A$2:$A$32706,$A77,Data!$D$2:$D$32706,K$3)","v":6007.2},{"$f":"SUMIFS(Data!$H$2:$H$32706,Data!$A$2:$A$32706,$A77,Data!$D$2:$D$32706,L$3)","v":7284.42},{"$f":"SUMIFS(Data!$H$2:$H$32706,Data!$A$2:$A$32706,$A77,Data!$D$2:$D$32706,M$3)","v":6093.92},{"$f":"SUMIFS(Data!$H$2:$H$32706,Data!$A$2:$A$32706,$A77,Data!$D$2:$D$32706,N$3)","v":7163.52},{"$f":"SUMIFS(Data!$H$2:$H$32706,Data!$A$2:$A$32706,$A77,Data!$D$2:$D$32706,O$3)","v":9975.7199999999993},8,null,null,"-"]
[1070103,null,"Programme Budget - Neurological - Non-elective (EM + ONEL) admissions per 1000 population across secondary care - Cost",null,{"$f":"SUMIFS(Data!$H$2:$H$32706,Data!$A$2:$A$32706,$A78,Data!$D$2:$D$32706,$E$3)","v":14176.74},{"$f":"SUMIFS(Data!$H$2:$H$32706,Data!$A$2:$A$32706,$A78,Data!$D$2:$D$32706,F$3)","v":20685.650000000001},{"$f":"SUMIFS(Data!$H$2:$H$32706,Data!$A$2:$A$32706,$A78,Data!$D$2:$D$32706,G$3)","v":16751.87},{"$f":"SUMIFS(Data!$H$2:$H$32706,Data!$A$2:$A$32706,$A78,Data!$D$2:$D$32706,H$3)","v":15506.89},{"$f":"SUMIFS(Data!$H$2:$H$32706,Data!$A$2:$A$32706,$A78,Data!$D$2:$D$32706,I$3)","v":16277.21},{"$f":"SUMIFS(Data!$H$2:$H$32706,Data!$A$2:$A$32706,$A78,Data!$D$2:$D$32706,J$3)","v":16306.22},{"$f":"SUMIFS(Data!$H$2:$H$32706,Data!$A$2:$A$32706,$A78,Data!$D$2:$D$32706,K$3)","v":14979.62},{"$f":"SUMIFS(Data!$H$2:$H$32706,Data!$A$2:$A$32706,$A78,Data!$D$2:$D$32706,L$3)","v":16644.669999999998},{"$f":"SUMIFS(Data!$H$2:$H$32706,Data!$A$2:$A$32706,$A78,Data!$D$2:$D$32706,M$3)","v":12473.94},{"$f":"SUMIFS(Data!$H$2:$H$32706,Data!$A$2:$A$32706,$A78,Data!$D$2:$D$32706,N$3)","v":14361.05},{"$f":"SUMIFS(Data!$H$2:$H$32706,Data!$A$2:$A$32706,$A78,Data!$D$2:$D$32706,O$3)","v":17722.77},2,null,null,"-"]
[1070105,null,"Programme Budget - Neurological - Cost prescribed per 1000 ASTRO-PU population - Cost",null,{"$f":"SUMIFS(Data!$H$2:$H$32706,Data!$A$2:$A$32706,$A79,Data!$D$2:$D$32706,$E$3)","v":10288.06},{"$f":"SUMIFS(Data!$H$2:$H$32706,Data!$A$2:$A$32706,$A79,Data!$D$2:$D$32706,F$3)","v":11132.32},{"$f":"SUMIFS(Data!$H$2:$H$32706,Data!$A$2:$A$32706,$A79,Data!$D$2:$D$32706,G$3)","v":12407.03},{"$f":"SUMIFS(Data!$H$2:$H$32706,Data!$A$2:$A$32706,$A79,Data!$D$2:$D$32706,H$3)","v":10340.9},{"$f":"SUMIFS(Data!$H$2:$H$32706,Data!$A$2:$A$32706,$A79,Data!$D$2:$D$32706,I$3)","v":11652.33},{"$f":"SUMIFS(Data!$H$2:$H$32706,Data!$A$2:$A$32706,$A79,Data!$D$2:$D$32706,J$3)","v":11175.18},{"$f":"SUMIFS(Data!$H$2:$H$32706,Data!$A$2:$A$32706,$A79,Data!$D$2:$D$32706,K$3)","v":9348.31},{"$f":"SUMIFS(Data!$H$2:$H$32706,Data!$A$2:$A$32706,$A79,Data!$D$2:$D$32706,L$3)","v":10651.21},{"$f":"SUMIFS(Data!$H$2:$H$32706,Data!$A$2:$A$32706,$A79,Data!$D$2:$D$32706,M$3)","v":10408.540000000001},{"$f":"SUMIFS(Data!$H$2:$H$32706,Data!$A$2:$A$32706,$A79,Data!$D$2:$D$32706,N$3)","v":9374.57},{"$f":"SUMIFS(Data!$H$2:$H$32706,Data!$A$2:$A$32706,$A79,Data!$D$2:$D$32706,O$3)","v":10965.91},3,null,null,"-"]
[1070201,null,"Programme Budget - Neurological - Total admissions per 1000 population across secondary care - Activity",null,{"$f":"SUMIFS(Data!$H$2:$H$32706,Data!$A$2:$A$32706,$A80,Data!$D$2:$D$32706,$E$3)","v":21.69},{"$f":"SUMIFS(Data!$H$2:$H$32706,Data!$A$2:$A$32706,$A80,Data!$D$2:$D$32706,F$3)","v":27.66},{"$f":"SUMIFS(Data!$H$2:$H$32706,Data!$A$2:$A$32706,$A80,Data!$D$2:$D$32706,G$3)","v":28.89},{"$f":"SUMIFS(Data!$H$2:$H$32706,Data!$A$2:$A$32706,$A80,Data!$D$2:$D$32706,H$3)","v":22.39},{"$f":"SUMIFS(Data!$H$2:$H$32706,Data!$A$2:$A$32706,$A80,Data!$D$2:$D$32706,I$3)","v":25.78},{"$f":"SUMIFS(Data!$H$2:$H$32706,Data!$A$2:$A$32706,$A80,Data!$D$2:$D$32706,J$3)","v":18.920000000000002},{"$f":"SUMIFS(Data!$H$2:$H$32706,Data!$A$2:$A$32706,$A80,Data!$D$2:$D$32706,K$3)","v":20.87},{"$f":"SUMIFS(Data!$H$2:$H$32706,Data!$A$2:$A$32706,$A80,Data!$D$2:$D$32706,L$3)","v":21.53},{"$f":"SUMIFS(Data!$H$2:$H$32706,Data!$A$2:$A$32706,$A80,Data!$D$2:$D$32706,M$3)","v":17.079999999999998},{"$f":"SUMIFS(Data!$H$2:$H$32706,Data!$A$2:$A$32706,$A80,Data!$D$2:$D$32706,N$3)","v":20.53},{"$f":"SUMIFS(Data!$H$2:$H$32706,Data!$A$2:$A$32706,$A80,Data!$D$2:$D$32706,O$3)","v":25.07},6,null,null,"-"]
[1070202,null,"Programme Budget - Neurological - Total elective (IP + DC) admissions per 1000 population across secondary care - Activity",null,{"$f":"SUMIFS(Data!$H$2:$H$32706,Data!$A$2:$A$32706,$A81,Data!$D$2:$D$32706,$E$3)","v":8.59},{"$f":"SUMIFS(Data!$H$2:$H$32706,Data!$A$2:$A$32706,$A81,Data!$D$2:$D$32706,F$3)","v":7.47},{"$f":"SUMIFS(Data!$H$2:$H$32706,Data!$A$2:$A$32706,$A81,Data!$D$2:$D$32706,G$3)","v":11.32},{"$f":"SUMIFS(Data!$H$2:$H$32706,Data!$A$2:$A$32706,$A81,Data!$D$2:$D$32706,H$3)","v":6.56},{"$f":"SUMIFS(Data!$H$2:$H$32706,Data!$A$2:$A$32706,$A81,Data!$D$2:$D$32706,I$3)","v":9.77},{"$f":"SUMIFS(Data!$H$2:$H$32706,Data!$A$2:$A$32706,$A81,Data!$D$2:$D$32706,J$3)","v":5.14},{"$f":"SUMIFS(Data!$H$2:$H$32706,Data!$A$2:$A$32706,$A81,Data!$D$2:$D$32706,K$3)","v":6.59},{"$f":"SUMIFS(Data!$H$2:$H$32706,Data!$A$2:$A$32706,$A81,Data!$D$2:$D$32706,L$3)","v":8.11},{"$f":"SUMIFS(Data!$H$2:$H$32706,Data!$A$2:$A$32706,$A81,Data!$D$2:$D$32706,M$3)","v":6.35},{"$f":"SUMIFS(Data!$H$2:$H$32706,Data!$A$2:$A$32706,$A81,Data!$D$2:$D$32706,N$3)","v":7.77},{"$f":"SUMIFS(Data!$H$2:$H$32706,Data!$A$2:$A$32706,$A81,Data!$D$2:$D$32706,O$3)","v":10.02},8,null,null,"-"]
[1070203,null,"Programme Budget - Neurological - Non-elective (EM + ONEL) admissions per 1000 population across secondary care - Activity",null,{"$f":"SUMIFS(Data!$H$2:$H$32706,Data!$A$2:$A$32706,$A82,Data!$D$2:$D$32706,$E$3)","v":13.1},{"$f":"SUMIFS(Data!$H$2:$H$32706,Data!$A$2:$A$32706,$A82,Data!$D$2:$D$32706,F$3)","v":20.23},{"$f":"SUMIFS(Data!$H$2:$H$32706,Data!$A$2:$A$32706,$A82,Data!$D$2:$D$32706,G$3)","v":17.57},{"$f":"SUMIFS(Data!$H$2:$H$32706,Data!$A$2:$A$32706,$A82,Data!$D$2:$D$32706,H$3)","v":15.81},{"$f":"SUMIFS(Data!$H$2:$H$32706,Data!$A$2:$A$32706,$A82,Data!$D$2:$D$32706,I$3)","v":15.96},{"$f":"SUMIFS(Data!$H$2:$H$32706,Data!$A$2:$A$32706,$A82,Data!$D$2:$D$32706,J$3)","v":13.78},{"$f":"SUMIFS(Data!$H$2:$H$32706,Data!$A$2:$A$32706,$A82,Data!$D$2:$D$32706,K$3)","v":14.29},{"$f":"SUMIFS(Data!$H$2:$H$32706,Data!$A$2:$A$32706,$A82,Data!$D$2:$D$32706,L$3)","v":13.43},{"$f":"SUMIFS(Data!$H$2:$H$32706,Data!$A$2:$A$32706,$A82,Data!$D$2:$D$32706,M$3)","v":10.73},{"$f":"SUMIFS(Data!$H$2:$H$32706,Data!$A$2:$A$32706,$A82,Data!$D$2:$D$32706,N$3)","v":12.74},{"$f":"SUMIFS(Data!$H$2:$H$32706,Data!$A$2:$A$32706,$A82,Data!$D$2:$D$32706,O$3)","v":15.03},3,null,null,"-"]
[1070211,null,"Emergency admission rate for children with epilepsy per population aged 0–17 years",null,{"$f":"SUMIFS(Data!$H$2:$H$32706,Data!$A$2:$A$32706,$A83,Data!$D$2:$D$32706,$E$3)","v":0.7230581936236592},{"$f":"SUMIFS(Data!$H$2:$H$32706,Data!$A$2:$A$32706,$A83,Data!$D$2:$D$32706,F$3)","v":0.90404202402607436},{"$f":"SUMIFS(Data!$H$2:$H$32706,Data!$A$2:$A$32706,$A83,Data!$D$2:$D$32706,G$3)","v":0.74897788217782346},{"$f":"SUMIFS(Data!$H$2:$H$32706,Data!$A$2:$A$32706,$A83,Data!$D$2:$D$32706,H$3)","v":1.1882644340531434},{"$f":"SUMIFS(Data!$H$2:$H$32706,Data!$A$2:$A$32706,$A83,Data!$D$2:$D$32706,I$3)","v":0.82691420289641893},{"$f":"SUMIFS(Data!$H$2:$H$32706,Data!$A$2:$A$32706,$A83,Data!$D$2:$D$32706,J$3)","v":1.2204322689480536},{"$f":"SUMIFS(Data!$H$2:$H$32706,Data!$A$2:$A$32706,$A83,Data!$D$2:$D$32706,K$3)","v":0.50441851732994525},{"$f":"SUMIFS(Data!$H$2:$H$32706,Data!$A$2:$A$32706,$A83,Data!$D$2:$D$32706,L$3)","v":0.55982817532050355},{"$f":"SUMIFS(Data!$H$2:$H$32706,Data!$A$2:$A$32706,$A83,Data!$D$2:$D$32706,M$3)","v":0.60487251438233913},{"$f":"SUMIFS(Data!$H$2:$H$32706,Data!$A$2:$A$32706,$A83,Data!$D$2:$D$32706,N$3)","v":0.78488615794531391},{"$f":"SUMIFS(Data!$H$2:$H$32706,Data!$A$2:$A$32706,$A83,Data!$D$2:$D$32706,O$3)","v":1.0667603658649296},4,null,null,"-"]
[1070312,null,"Mortality from epilepsy: Under 75 Directly age-standardised rates (DSR) per 100,000 European Standard population,",null,{"$f":"SUMIFS(Data!$H$2:$H$32706,Data!$A$2:$A$32706,$A84,Data!$D$2:$D$32706,$E$3)","v":2.2287941851227973},{"$f":"SUMIFS(Data!$H$2:$H$32706,Data!$A$2:$A$32706,$A84,Data!$D$2:$D$32706,F$3)","v":1.1487862671596301},{"$f":"SUMIFS(Data!$H$2:$H$32706,Data!$A$2:$A$32706,$A84,Data!$D$2:$D$32706,G$3)","v":0.9770228679795302},{"$f":"SUMIFS(Data!$H$2:$H$32706,Data!$A$2:$A$32706,$A84,Data!$D$2:$D$32706,H$3)","v":1.2250988792704931},{"$f":"SUMIFS(Data!$H$2:$H$32706,Data!$A$2:$A$32706,$A84,Data!$D$2:$D$32706,I$3)","v":1.4323036323714449},{"$f":"SUMIFS(Data!$H$2:$H$32706,Data!$A$2:$A$32706,$A84,Data!$D$2:$D$32706,J$3)","v":1.9337359931469085},{"$f":"SUMIFS(Data!$H$2:$H$32706,Data!$A$2:$A$32706,$A84,Data!$D$2:$D$32706,K$3)","v":0.64998964318371144},{"$f":"SUMIFS(Data!$H$2:$H$32706,Data!$A$2:$A$32706,$A84,Data!$D$2:$D$32706,L$3)","v":0.41082952906314535},{"$f":"SUMIFS(Data!$H$2:$H$32706,Data!$A$2:$A$32706,$A84,Data!$D$2:$D$32706,M$3)","v":1.3138465611144727},{"$f":"SUMIFS(Data!$H$2:$H$32706,Data!$A$2:$A$32706,$A84,Data!$D$2:$D$32706,N$3)","v":1.2989043272806955},{"$f":"SUMIFS(Data!$H$2:$H$32706,Data!$A$2:$A$32706,$A84,Data!$D$2:$D$32706,O$3)","v":2.6775408280751911},10,null,null,"-"]
[1070313,null,"Epilepsy 08: Percentage of patients with epilepsy on drug treatment and convulsion free, 18+ yrs",null,{"$f":"SUMIFS(Data!$H$2:$H$32706,Data!$A$2:$A$32706,$A85,Data!$D$2:$D$32706,$E$3)","v":64.933741080530069},{"$f":"SUMIFS(Data!$H$2:$H$32706,Data!$A$2:$A$32706,$A85,Data!$D$2:$D$32706,F$3)","v":58.490566037735846},{"$f":"SUMIFS(Data!$H$2:$H$32706,Data!$A$2:$A$32706,$A85,Data!$D$2:$D$32706,G$3)","v":61.881188118811878},{"$f":"SUMIFS(Data!$H$2:$H$32706,Data!$A$2:$A$32706,$A85,Data!$D$2:$D$32706,H$3)","v":66.77852348993288},{"$f":"SUMIFS(Data!$H$2:$H$32706,Data!$A$2:$A$32706,$A85,Data!$D$2:$D$32706,I$3)","v":65.850515463917532},{"$f":"SUMIFS(Data!$H$2:$H$32706,Data!$A$2:$A$32706,$A85,Data!$D$2:$D$32706,J$3)","v":69.135802469135797},{"$f":"SUMIFS(Data!$H$2:$H$32706,Data!$A$2:$A$32706,$A85,Data!$D$2:$D$32706,K$3)","v":71.653048397234443},{"$f":"SUMIFS(Data!$H$2:$H$32706,Data!$A$2:$A$32706,$A85,Data!$D$2:$D$32706,L$3)","v":70.501835985312127},{"$f":"SUMIFS(Data!$H$2:$H$32706,Data!$A$2:$A$32706,$A85,Data!$D$2:$D$32706,M$3)","v":57.851722124927029},{"$f":"SUMIFS(Data!$H$2:$H$32706,Data!$A$2:$A$32706,$A85,Data!$D$2:$D$32706,N$3)","v":64.0625},{"$f":"SUMIFS(Data!$H$2:$H$32706,Data!$A$2:$A$32706,$A85,Data!$D$2:$D$32706,O$3)","v":64.206268958543987},6,null,null,"+"]
[1100101,null,"Programme Budget - Circulation - Total admissions per 1000 population across secondary care - Cost",null,{"$f":"SUMIFS(Data!$H$2:$H$32706,Data!$A$2:$A$32706,$A86,Data!$D$2:$D$32706,$E$3)","v":38471.85},{"$f":"SUMIFS(Data!$H$2:$H$32706,Data!$A$2:$A$32706,$A86,Data!$D$2:$D$32706,F$3)","v":40739.949999999997},{"$f":"SUMIFS(Data!$H$2:$H$32706,Data!$A$2:$A$32706,$A86,Data!$D$2:$D$32706,G$3)","v":44334.67},{"$f":"SUMIFS(Data!$H$2:$H$32706,Data!$A$2:$A$32706,$A86,Data!$D$2:$D$32706,H$3)","v":37062.67},{"$f":"SUMIFS(Data!$H$2:$H$32706,Data!$A$2:$A$32706,$A86,Data!$D$2:$D$32706,I$3)","v":46641.66},{"$f":"SUMIFS(Data!$H$2:$H$32706,Data!$A$2:$A$32706,$A86,Data!$D$2:$D$32706,J$3)","v":36405.519999999997},{"$f":"SUMIFS(Data!$H$2:$H$32706,Data!$A$2:$A$32706,$A86,Data!$D$2:$D$32706,K$3)","v":30596.14},{"$f":"SUMIFS(Data!$H$2:$H$32706,Data!$A$2:$A$32706,$A86,Data!$D$2:$D$32706,L$3)","v":44828.78},{"$f":"SUMIFS(Data!$H$2:$H$32706,Data!$A$2:$A$32706,$A86,Data!$D$2:$D$32706,M$3)","v":34324.76},{"$f":"SUMIFS(Data!$H$2:$H$32706,Data!$A$2:$A$32706,$A86,Data!$D$2:$D$32706,N$3)","v":26130.74},{"$f":"SUMIFS(Data!$H$2:$H$32706,Data!$A$2:$A$32706,$A86,Data!$D$2:$D$32706,O$3)","v":39304.769999999997},6,null,null,"-"]
[1100102,null,"Programme Budget - Circulation - Total elective (IP + DC) admissions per 1000 population across secondary care - Cost",null,{"$f":"SUMIFS(Data!$H$2:$H$32706,Data!$A$2:$A$32706,$A87,Data!$D$2:$D$32706,$E$3)","v":10795.39},{"$f":"SUMIFS(Data!$H$2:$H$32706,Data!$A$2:$A$32706,$A87,Data!$D$2:$D$32706,F$3)","v":9858.31},{"$f":"SUMIFS(Data!$H$2:$H$32706,Data!$A$2:$A$32706,$A87,Data!$D$2:$D$32706,G$3)","v":16226.39},{"$f":"SUMIFS(Data!$H$2:$H$32706,Data!$A$2:$A$32706,$A87,Data!$D$2:$D$32706,H$3)","v":11616.92},{"$f":"SUMIFS(Data!$H$2:$H$32706,Data!$A$2:$A$32706,$A87,Data!$D$2:$D$32706,I$3)","v":16452.87},{"$f":"SUMIFS(Data!$H$2:$H$32706,Data!$A$2:$A$32706,$A87,Data!$D$2:$D$32706,J$3)","v":12057.45},{"$f":"SUMIFS(Data!$H$2:$H$32706,Data!$A$2:$A$32706,$A87,Data!$D$2:$D$32706,K$3)","v":7796.24},{"$f":"SUMIFS(Data!$H$2:$H$32706,Data!$A$2:$A$32706,$A87,Data!$D$2:$D$32706,L$3)","v":13274.08},{"$f":"SUMIFS(Data!$H$2:$H$32706,Data!$A$2:$A$32706,$A87,Data!$D$2:$D$32706,M$3)","v":8576.69},{"$f":"SUMIFS(Data!$H$2:$H$32706,Data!$A$2:$A$32706,$A87,Data!$D$2:$D$32706,N$3)","v":5644.44},{"$f":"SUMIFS(Data!$H$2:$H$32706,Data!$A$2:$A$32706,$A87,Data!$D$2:$D$32706,O$3)","v":12387.16},5,null,null,"-"]
[1100103,null,"Programme Budget - Circulation - Non-elective (EM + ONEL) admissions per 1000 population across secondary care - Cost",null,{"$f":"SUMIFS(Data!$H$2:$H$32706,Data!$A$2:$A$32706,$A88,Data!$D$2:$D$32706,$E$3)","v":27662.35},{"$f":"SUMIFS(Data!$H$2:$H$32706,Data!$A$2:$A$32706,$A88,Data!$D$2:$D$32706,F$3)","v":30916.63},{"$f":"SUMIFS(Data!$H$2:$H$32706,Data!$A$2:$A$32706,$A88,Data!$D$2:$D$32706,G$3)","v":28193.13},{"$f":"SUMIFS(Data!$H$2:$H$32706,Data!$A$2:$A$32706,$A88,Data!$D$2:$D$32706,H$3)","v":25443.38},{"$f":"SUMIFS(Data!$H$2:$H$32706,Data!$A$2:$A$32706,$A88,Data!$D$2:$D$32706,I$3)","v":30157.759999999998},{"$f":"SUMIFS(Data!$H$2:$H$32706,Data!$A$2:$A$32706,$A88,Data!$D$2:$D$32706,J$3)","v":24381.88},{"$f":"SUMIFS(Data!$H$2:$H$32706,Data!$A$2:$A$32706,$A88,Data!$D$2:$D$32706,K$3)","v":22785.34},{"$f":"SUMIFS(Data!$H$2:$H$32706,Data!$A$2:$A$32706,$A88,Data!$D$2:$D$32706,L$3)","v":31555.08},{"$f":"SUMIFS(Data!$H$2:$H$32706,Data!$A$2:$A$32706,$A88,Data!$D$2:$D$32706,M$3)","v":25695.29},{"$f":"SUMIFS(Data!$H$2:$H$32706,Data!$A$2:$A$32706,$A88,Data!$D$2:$D$32706,N$3)","v":20452.46},{"$f":"SUMIFS(Data!$H$2:$H$32706,Data!$A$2:$A$32706,$A88,Data!$D$2:$D$32706,O$3)","v":26919.77},7,null,null,"-"]
[1100105,null,"Programme Budget - Circulation - Cost prescribed per 1000 ASTRO-PU population - Cost",null,{"$f":"SUMIFS(Data!$H$2:$H$32706,Data!$A$2:$A$32706,$A89,Data!$D$2:$D$32706,$E$3)","v":24415.34},{"$f":"SUMIFS(Data!$H$2:$H$32706,Data!$A$2:$A$32706,$A89,Data!$D$2:$D$32706,F$3)","v":25604.82},{"$f":"SUMIFS(Data!$H$2:$H$32706,Data!$A$2:$A$32706,$A89,Data!$D$2:$D$32706,G$3)","v":27325.46},{"$f":"SUMIFS(Data!$H$2:$H$32706,Data!$A$2:$A$32706,$A89,Data!$D$2:$D$32706,H$3)","v":24486},{"$f":"SUMIFS(Data!$H$2:$H$32706,Data!$A$2:$A$32706,$A89,Data!$D$2:$D$32706,I$3)","v":24200.78},{"$f":"SUMIFS(Data!$H$2:$H$32706,Data!$A$2:$A$32706,$A89,Data!$D$2:$D$32706,J$3)","v":21372.84},{"$f":"SUMIFS(Data!$H$2:$H$32706,Data!$A$2:$A$32706,$A89,Data!$D$2:$D$32706,K$3)","v":21986.16},{"$f":"SUMIFS(Data!$H$2:$H$32706,Data!$A$2:$A$32706,$A89,Data!$D$2:$D$32706,L$3)","v":24059.73},{"$f":"SUMIFS(Data!$H$2:$H$32706,Data!$A$2:$A$32706,$A89,Data!$D$2:$D$32706,M$3)","v":18864.599999999999},{"$f":"SUMIFS(Data!$H$2:$H$32706,Data!$A$2:$A$32706,$A89,Data!$D$2:$D$32706,N$3)","v":22752.29},{"$f":"SUMIFS(Data!$H$2:$H$32706,Data!$A$2:$A$32706,$A89,Data!$D$2:$D$32706,O$3)","v":21172.86},8,null,null,"-"]
[1100201,null,"Programme Budget - Circulation - Total admissions per 1000 population across secondary care - Activity",null,{"$f":"SUMIFS(Data!$H$2:$H$32706,Data!$A$2:$A$32706,$A90,Data!$D$2:$D$32706,$E$3)","v":16.64},{"$f":"SUMIFS(Data!$H$2:$H$32706,Data!$A$2:$A$32706,$A90,Data!$D$2:$D$32706,F$3)","v":16.38},{"$f":"SUMIFS(Data!$H$2:$H$32706,Data!$A$2:$A$32706,$A90,Data!$D$2:$D$32706,G$3)","v":16.87},{"$f":"SUMIFS(Data!$H$2:$H$32706,Data!$A$2:$A$32706,$A90,Data!$D$2:$D$32706,H$3)","v":14.92},{"$f":"SUMIFS(Data!$H$2:$H$32706,Data!$A$2:$A$32706,$A90,Data!$D$2:$D$32706,I$3)","v":17.57},{"$f":"SUMIFS(Data!$H$2:$H$32706,Data!$A$2:$A$32706,$A90,Data!$D$2:$D$32706,J$3)","v":14.84},{"$f":"SUMIFS(Data!$H$2:$H$32706,Data!$A$2:$A$32706,$A90,Data!$D$2:$D$32706,K$3)","v":13.63},{"$f":"SUMIFS(Data!$H$2:$H$32706,Data!$A$2:$A$32706,$A90,Data!$D$2:$D$32706,L$3)","v":15.81},{"$f":"SUMIFS(Data!$H$2:$H$32706,Data!$A$2:$A$32706,$A90,Data!$D$2:$D$32706,M$3)","v":13.92},{"$f":"SUMIFS(Data!$H$2:$H$32706,Data!$A$2:$A$32706,$A90,Data!$D$2:$D$32706,N$3)","v":11.05},{"$f":"SUMIFS(Data!$H$2:$H$32706,Data!$A$2:$A$32706,$A90,Data!$D$2:$D$32706,O$3)","v":14.15},9,null,null,"-"]
[1100202,null,"Programme Budget - Circulation - Total elective (IP + DC) admissions per 1000 population across secondary care - Activity",null,{"$f":"SUMIFS(Data!$H$2:$H$32706,Data!$A$2:$A$32706,$A91,Data!$D$2:$D$32706,$E$3)","v":6.02},{"$f":"SUMIFS(Data!$H$2:$H$32706,Data!$A$2:$A$32706,$A91,Data!$D$2:$D$32706,F$3)","v":4.47},{"$f":"SUMIFS(Data!$H$2:$H$32706,Data!$A$2:$A$32706,$A91,Data!$D$2:$D$32706,G$3)","v":6.08},{"$f":"SUMIFS(Data!$H$2:$H$32706,Data!$A$2:$A$32706,$A91,Data!$D$2:$D$32706,H$3)","v":4.78},{"$f":"SUMIFS(Data!$H$2:$H$32706,Data!$A$2:$A$32706,$A91,Data!$D$2:$D$32706,I$3)","v":6.54},{"$f":"SUMIFS(Data!$H$2:$H$32706,Data!$A$2:$A$32706,$A91,Data!$D$2:$D$32706,J$3)","v":6.22},{"$f":"SUMIFS(Data!$H$2:$H$32706,Data!$A$2:$A$32706,$A91,Data!$D$2:$D$32706,K$3)","v":4.3600000000000003},{"$f":"SUMIFS(Data!$H$2:$H$32706,Data!$A$2:$A$32706,$A91,Data!$D$2:$D$32706,L$3)","v":5.33},{"$f":"SUMIFS(Data!$H$2:$H$32706,Data!$A$2:$A$32706,$A91,Data!$D$2:$D$32706,M$3)","v":4.3},{"$f":"SUMIFS(Data!$H$2:$H$32706,Data!$A$2:$A$32706,$A91,Data!$D$2:$D$32706,N$3)","v":3.23},{"$f":"SUMIFS(Data!$H$2:$H$32706,Data!$A$2:$A$32706,$A91,Data!$D$2:$D$32706,O$3)","v":4.8099999999999996},{"$f":"IF(S91=\"-\",RANK(E91,E91:O91,1),RANK(E91,E91:O91,0))","v":8},null,null,"-"]
[1100203,null,"Programme Budget - Circulation - Non-elective (EM + ONEL) admissions per 1000 population across secondary care - Activity",null,{"$f":"SUMIFS(Data!$H$2:$H$32706,Data!$A$2:$A$32706,$A92,Data!$D$2:$D$32706,$E$3)","v":10.61},{"$f":"SUMIFS(Data!$H$2:$H$32706,Data!$A$2:$A$32706,$A92,Data!$D$2:$D$32706,F$3)","v":11.95},{"$f":"SUMIFS(Data!$H$2:$H$32706,Data!$A$2:$A$32706,$A92,Data!$D$2:$D$32706,G$3)","v":10.8},{"$f":"SUMIFS(Data!$H$2:$H$32706,Data!$A$2:$A$32706,$A92,Data!$D$2:$D$32706,H$3)","v":10.15},{"$f":"SUMIFS(Data!$H$2:$H$32706,Data!$A$2:$A$32706,$A92,Data!$D$2:$D$32706,I$3)","v":11.03},{"$f":"SUMIFS(Data!$H$2:$H$32706,Data!$A$2:$A$32706,$A92,Data!$D$2:$D$32706,J$3)","v":8.66},{"$f":"SUMIFS(Data!$H$2:$H$32706,Data!$A$2:$A$32706,$A92,Data!$D$2:$D$32706,K$3)","v":9.24},{"$f":"SUMIFS(Data!$H$2:$H$32706,Data!$A$2:$A$32706,$A92,Data!$D$2:$D$32706,L$3)","v":10.45},{"$f":"SUMIFS(Data!$H$2:$H$32706,Data!$A$2:$A$32706,$A92,Data!$D$2:$D$32706,M$3)","v":9.6},{"$f":"SUMIFS(Data!$H$2:$H$32706,Data!$A$2:$A$32706,$A92,Data!$D$2:$D$32706,N$3)","v":7.8},{"$f":"SUMIFS(Data!$H$2:$H$32706,Data!$A$2:$A$32706,$A92,Data!$D$2:$D$32706,O$3)","v":9.32},8,null,null,"-"]
[1100211,null,"Percentage of transient ischaemic attack (TIA) cases with a higher risk who are treated within 24 hours",null,{"$f":"SUMIFS(Data!$H$2:$H$32706,Data!$A$2:$A$32706,$A93,Data!$D$2:$D$32706,$E$3)","v":68.127639105783416},{"$f":"SUMIFS(Data!$H$2:$H$32706,Data!$A$2:$A$32706,$A93,Data!$D$2:$D$32706,F$3)","v":70.238095238095227},{"$f":"SUMIFS(Data!$H$2:$H$32706,Data!$A$2:$A$32706,$A93,Data!$D$2:$D$32706,G$3)","v":95.609756097560989},{"$f":"SUMIFS(Data!$H$2:$H$32706,Data!$A$2:$A$32706,$A93,Data!$D$2:$D$32706,H$3)","v":68.085106382978722},{"$f":"SUMIFS(Data!$H$2:$H$32706,Data!$A$2:$A$32706,$A93,Data!$D$2:$D$32706,I$3)","v":95.609756097560975},{"$f":"SUMIFS(Data!$H$2:$H$32706,Data!$A$2:$A$32706,$A93,Data!$D$2:$D$32706,J$3)","v":68.776371308016877},{"$f":"SUMIFS(Data!$H$2:$H$32706,Data!$A$2:$A$32706,$A93,Data!$D$2:$D$32706,K$3)","v":49.019607843137251},{"$f":"SUMIFS(Data!$H$2:$H$32706,Data!$A$2:$A$32706,$A93,Data!$D$2:$D$32706,L$3)","v":59.187620889748558},{"$f":"SUMIFS(Data!$H$2:$H$32706,Data!$A$2:$A$32706,$A93,Data!$D$2:$D$32706,M$3)","v":78.536585365853668},{"$f":"SUMIFS(Data!$H$2:$H$32706,Data!$A$2:$A$32706,$A93,Data!$D$2:$D$32706,N$3)","v":61.495844875346265},{"$f":"SUMIFS(Data!$H$2:$H$32706,Data!$A$2:$A$32706,$A93,Data!$D$2:$D$32706,O$3)","v":95.426829268292678},7,null,null,"+"]
[1100212,null,"Percentage of patients admitted to hospital following a stroke who spend 90% of their time on a stroke unit by PCT",null,{"$f":"SUMIFS(Data!$H$2:$H$32706,Data!$A$2:$A$32706,$A94,Data!$D$2:$D$32706,$E$3)","v":80.354014856358418},{"$f":"SUMIFS(Data!$H$2:$H$32706,Data!$A$2:$A$32706,$A94,Data!$D$2:$D$32706,F$3)","v":84.459459459459467},{"$f":"SUMIFS(Data!$H$2:$H$32706,Data!$A$2:$A$32706,$A94,Data!$D$2:$D$32706,G$3)","v":91.052114060963618},{"$f":"SUMIFS(Data!$H$2:$H$32706,Data!$A$2:$A$32706,$A94,Data!$D$2:$D$32706,H$3)","v":81.818181818181813},{"$f":"SUMIFS(Data!$H$2:$H$32706,Data!$A$2:$A$32706,$A94,Data!$D$2:$D$32706,I$3)","v":91.052114060963603},{"$f":"SUMIFS(Data!$H$2:$H$32706,Data!$A$2:$A$32706,$A94,Data!$D$2:$D$32706,J$3)","v":82.859603789836356},{"$f":"SUMIFS(Data!$H$2:$H$32706,Data!$A$2:$A$32706,$A94,Data!$D$2:$D$32706,K$3)","v":92.619926199261997},{"$f":"SUMIFS(Data!$H$2:$H$32706,Data!$A$2:$A$32706,$A94,Data!$D$2:$D$32706,L$3)","v":77.725563909774436},{"$f":"SUMIFS(Data!$H$2:$H$32706,Data!$A$2:$A$32706,$A94,Data!$D$2:$D$32706,M$3)","v":90.487238979118331},{"$f":"SUMIFS(Data!$H$2:$H$32706,Data!$A$2:$A$32706,$A94,Data!$D$2:$D$32706,N$3)","v":79.104477611940311},{"$f":"SUMIFS(Data!$H$2:$H$32706,Data!$A$2:$A$32706,$A94,Data!$D$2:$D$32706,O$3)","v":95.94137542277339},9,null,null,"+"]
[1100313,null,"Mortality from all circulatory diseases: Under 75 Directly age-standardised rates (DSR) per 100,000 European",null,{"$f":"SUMIFS(Data!$H$2:$H$32706,Data!$A$2:$A$32706,$A95,Data!$D$2:$D$32706,$E$3)","v":54.26814552952316},{"$f":"SUMIFS(Data!$H$2:$H$32706,Data!$A$2:$A$32706,$A95,Data!$D$2:$D$32706,F$3)","v":76.744886812127575},{"$f":"SUMIFS(Data!$H$2:$H$32706,Data!$A$2:$A$32706,$A95,Data!$D$2:$D$32706,G$3)","v":68.356301411871229},{"$f":"SUMIFS(Data!$H$2:$H$32706,Data!$A$2:$A$32706,$A95,Data!$D$2:$D$32706,H$3)","v":62.869036742922155},{"$f":"SUMIFS(Data!$H$2:$H$32706,Data!$A$2:$A$32706,$A95,Data!$D$2:$D$32706,I$3)","v":55.839047455100484},{"$f":"SUMIFS(Data!$H$2:$H$32706,Data!$A$2:$A$32706,$A95,Data!$D$2:$D$32706,J$3)","v":53.560579219886812},{"$f":"SUMIFS(Data!$H$2:$H$32706,Data!$A$2:$A$32706,$A95,Data!$D$2:$D$32706,K$3)","v":55.470203718181864},{"$f":"SUMIFS(Data!$H$2:$H$32706,Data!$A$2:$A$32706,$A95,Data!$D$2:$D$32706,L$3)","v":53.510600316650596},{"$f":"SUMIFS(Data!$H$2:$H$32706,Data!$A$2:$A$32706,$A95,Data!$D$2:$D$32706,M$3)","v":59.42308281697629},{"$f":"SUMIFS(Data!$H$2:$H$32706,Data!$A$2:$A$32706,$A95,Data!$D$2:$D$32706,N$3)","v":55.22205598389769},{"$f":"SUMIFS(Data!$H$2:$H$32706,Data!$A$2:$A$32706,$A95,Data!$D$2:$D$32706,O$3)","v":66.200798202409686},3,null,null,"-"]
[1100314,null,"Mortality from coronary heart disease: Under 75 Directly age-standardised rates (DSR) per 100,000 European",null,{"$f":"SUMIFS(Data!$H$2:$H$32706,Data!$A$2:$A$32706,$A96,Data!$D$2:$D$32706,$E$3)","v":30.161600517966377},{"$f":"SUMIFS(Data!$H$2:$H$32706,Data!$A$2:$A$32706,$A96,Data!$D$2:$D$32706,F$3)","v":36.625468138226438},{"$f":"SUMIFS(Data!$H$2:$H$32706,Data!$A$2:$A$32706,$A96,Data!$D$2:$D$32706,G$3)","v":37.468557380111847},{"$f":"SUMIFS(Data!$H$2:$H$32706,Data!$A$2:$A$32706,$A96,Data!$D$2:$D$32706,H$3)","v":35.584871460736004},{"$f":"SUMIFS(Data!$H$2:$H$32706,Data!$A$2:$A$32706,$A96,Data!$D$2:$D$32706,I$3)","v":33.065525936648385},{"$f":"SUMIFS(Data!$H$2:$H$32706,Data!$A$2:$A$32706,$A96,Data!$D$2:$D$32706,J$3)","v":33.916630278357935},{"$f":"SUMIFS(Data!$H$2:$H$32706,Data!$A$2:$A$32706,$A96,Data!$D$2:$D$32706,K$3)","v":29.624159254646475},{"$f":"SUMIFS(Data!$H$2:$H$32706,Data!$A$2:$A$32706,$A96,Data!$D$2:$D$32706,L$3)","v":29.179430031631941},{"$f":"SUMIFS(Data!$H$2:$H$32706,Data!$A$2:$A$32706,$A96,Data!$D$2:$D$32706,M$3)","v":30.09307814447082},{"$f":"SUMIFS(Data!$H$2:$H$32706,Data!$A$2:$A$32706,$A96,Data!$D$2:$D$32706,N$3)","v":29.095356223641431},{"$f":"SUMIFS(Data!$H$2:$H$32706,Data!$A$2:$A$32706,$A96,Data!$D$2:$D$32706,O$3)","v":37.729877835397829},5,null,null,"-"]
[1100315,null,"Mortality from acute MI: Under 75 Directly age-standardised rates (DSR) per 100,000 European Standard population,",null,{"$f":"SUMIFS(Data!$H$2:$H$32706,Data!$A$2:$A$32706,$A97,Data!$D$2:$D$32706,$E$3)","v":16.56974975743308},{"$f":"SUMIFS(Data!$H$2:$H$32706,Data!$A$2:$A$32706,$A97,Data!$D$2:$D$32706,F$3)","v":17.71849184300374},{"$f":"SUMIFS(Data!$H$2:$H$32706,Data!$A$2:$A$32706,$A97,Data!$D$2:$D$32706,G$3)","v":13.533269969027886},{"$f":"SUMIFS(Data!$H$2:$H$32706,Data!$A$2:$A$32706,$A97,Data!$D$2:$D$32706,H$3)","v":11.27591795012677},{"$f":"SUMIFS(Data!$H$2:$H$32706,Data!$A$2:$A$32706,$A97,Data!$D$2:$D$32706,I$3)","v":9.9445600112972894},{"$f":"SUMIFS(Data!$H$2:$H$32706,Data!$A$2:$A$32706,$A97,Data!$D$2:$D$32706,J$3)","v":13.662432042301042},{"$f":"SUMIFS(Data!$H$2:$H$32706,Data!$A$2:$A$32706,$A97,Data!$D$2:$D$32706,K$3)","v":14.566867663516001},{"$f":"SUMIFS(Data!$H$2:$H$32706,Data!$A$2:$A$32706,$A97,Data!$D$2:$D$32706,L$3)","v":11.150964976427794},{"$f":"SUMIFS(Data!$H$2:$H$32706,Data!$A$2:$A$32706,$A97,Data!$D$2:$D$32706,M$3)","v":11.455617547925172},{"$f":"SUMIFS(Data!$H$2:$H$32706,Data!$A$2:$A$32706,$A97,Data!$D$2:$D$32706,N$3)","v":14.167490792225282},{"$f":"SUMIFS(Data!$H$2:$H$32706,Data!$A$2:$A$32706,$A97,Data!$D$2:$D$32706,O$3)","v":11.797926082457492},10,null,null,"-"]
[1100316,null,"Mortality from stroke: Under 75 Directly age-standardised rates (DSR) per 100,000 European Standard population,",null,{"$f":"SUMIFS(Data!$H$2:$H$32706,Data!$A$2:$A$32706,$A98,Data!$D$2:$D$32706,$E$3)","v":11.197314147709429},{"$f":"SUMIFS(Data!$H$2:$H$32706,Data!$A$2:$A$32706,$A98,Data!$D$2:$D$32706,F$3)","v":14.94375003674257},{"$f":"SUMIFS(Data!$H$2:$H$32706,Data!$A$2:$A$32706,$A98,Data!$D$2:$D$32706,G$3)","v":9.5145756554335374},{"$f":"SUMIFS(Data!$H$2:$H$32706,Data!$A$2:$A$32706,$A98,Data!$D$2:$D$32706,H$3)","v":11.900837642528293},{"$f":"SUMIFS(Data!$H$2:$H$32706,Data!$A$2:$A$32706,$A98,Data!$D$2:$D$32706,I$3)","v":9.0758409285151007},{"$f":"SUMIFS(Data!$H$2:$H$32706,Data!$A$2:$A$32706,$A98,Data!$D$2:$D$32706,J$3)","v":10.574511798487736},{"$f":"SUMIFS(Data!$H$2:$H$32706,Data!$A$2:$A$32706,$A98,Data!$D$2:$D$32706,K$3)","v":10.647898227460491},{"$f":"SUMIFS(Data!$H$2:$H$32706,Data!$A$2:$A$32706,$A98,Data!$D$2:$D$32706,L$3)","v":7.6834427233085139},{"$f":"SUMIFS(Data!$H$2:$H$32706,Data!$A$2:$A$32706,$A98,Data!$D$2:$D$32706,M$3)","v":11.558665911228125},{"$f":"SUMIFS(Data!$H$2:$H$32706,Data!$A$2:$A$32706,$A98,Data!$D$2:$D$32706,N$3)","v":10.143823985763365},{"$f":"SUMIFS(Data!$H$2:$H$32706,Data!$A$2:$A$32706,$A98,Data!$D$2:$D$32706,O$3)","v":12.91193625434507},7,null,null,"-"]
[1100317,null,"CHD 06: % of patients with CHD whose last blood pressure reading (as measured within the last 15 months) is 150/90 or less",null,{"$f":"SUMIFS(Data!$H$2:$H$32706,Data!$A$2:$A$32706,$A99,Data!$D$2:$D$32706,$E$3)","v":87.131735612883531},{"$f":"SUMIFS(Data!$H$2:$H$32706,Data!$A$2:$A$32706,$A99,Data!$D$2:$D$32706,F$3)","v":87.744982290436838},{"$f":"SUMIFS(Data!$H$2:$H$32706,Data!$A$2:$A$32706,$A99,Data!$D$2:$D$32706,G$3)","v":86.499934529265417},{"$f":"SUMIFS(Data!$H$2:$H$32706,Data!$A$2:$A$32706,$A99,Data!$D$2:$D$32706,H$3)","v":87.882049074472661},{"$f":"SUMIFS(Data!$H$2:$H$32706,Data!$A$2:$A$32706,$A99,Data!$D$2:$D$32706,I$3)","v":90.14158363922391},{"$f":"SUMIFS(Data!$H$2:$H$32706,Data!$A$2:$A$32706,$A99,Data!$D$2:$D$32706,J$3)","v":89.90361826512877},{"$f":"SUMIFS(Data!$H$2:$H$32706,Data!$A$2:$A$32706,$A99,Data!$D$2:$D$32706,K$3)","v":86.385609893198421},{"$f":"SUMIFS(Data!$H$2:$H$32706,Data!$A$2:$A$32706,$A99,Data!$D$2:$D$32706,L$3)","v":85.866234000360549},{"$f":"SUMIFS(Data!$H$2:$H$32706,Data!$A$2:$A$32706,$A99,Data!$D$2:$D$32706,M$3)","v":87.484574249280129},{"$f":"SUMIFS(Data!$H$2:$H$32706,Data!$A$2:$A$32706,$A99,Data!$D$2:$D$32706,N$3)","v":87.846655791190869},{"$f":"SUMIFS(Data!$H$2:$H$32706,Data!$A$2:$A$32706,$A99,Data!$D$2:$D$32706,O$3)","v":88.282006585318612},8,null,null,"+"]
[1100318,null,"CHD 08: % of patients with CHD whose last measured cholesterol (as measured within the last 15 months) is 5 mmol/l or less,",null,{"$f":"SUMIFS(Data!$H$2:$H$32706,Data!$A$2:$A$32706,$A100,Data!$D$2:$D$32706,$E$3)","v":71.546328804762624},{"$f":"SUMIFS(Data!$H$2:$H$32706,Data!$A$2:$A$32706,$A100,Data!$D$2:$D$32706,F$3)","v":75.147579693034245},{"$f":"SUMIFS(Data!$H$2:$H$32706,Data!$A$2:$A$32706,$A100,Data!$D$2:$D$32706,G$3)","v":72.004713892889882},{"$f":"SUMIFS(Data!$H$2:$H$32706,Data!$A$2:$A$32706,$A100,Data!$D$2:$D$32706,H$3)","v":76.022384847180362},{"$f":"SUMIFS(Data!$H$2:$H$32706,Data!$A$2:$A$32706,$A100,Data!$D$2:$D$32706,I$3)","v":73.833245936025165},{"$f":"SUMIFS(Data!$H$2:$H$32706,Data!$A$2:$A$32706,$A100,Data!$D$2:$D$32706,J$3)","v":72.460104281877065},{"$f":"SUMIFS(Data!$H$2:$H$32706,Data!$A$2:$A$32706,$A100,Data!$D$2:$D$32706,K$3)","v":71.512085441259131},{"$f":"SUMIFS(Data!$H$2:$H$32706,Data!$A$2:$A$32706,$A100,Data!$D$2:$D$32706,L$3)","v":72.147106544077872},{"$f":"SUMIFS(Data!$H$2:$H$32706,Data!$A$2:$A$32706,$A100,Data!$D$2:$D$32706,M$3)","v":69.940353763883181},{"$f":"SUMIFS(Data!$H$2:$H$32706,Data!$A$2:$A$32706,$A100,Data!$D$2:$D$32706,N$3)","v":71.778140293637847},{"$f":"SUMIFS(Data!$H$2:$H$32706,Data!$A$2:$A$32706,$A100,Data!$D$2:$D$32706,O$3)","v":71.392601200852212},8,null,null,"+"]
[1100419,null,"Reported numbers of people with coronary heart disease (CHD) on GP registers as a percentage of estimated prevalence",null,{"$f":"SUMIFS(Data!$H$2:$H$32706,Data!$A$2:$A$32706,$A101,Data!$D$2:$D$32706,$E$3)","v":84.940375597245563},{"$f":"SUMIFS(Data!$H$2:$H$32706,Data!$A$2:$A$32706,$A101,Data!$D$2:$D$32706,F$3)","v":84.283326181401634},{"$f":"SUMIFS(Data!$H$2:$H$32706,Data!$A$2:$A$32706,$A101,Data!$D$2:$D$32706,G$3)","v":65.325064455408722},{"$f":"SUMIFS(Data!$H$2:$H$32706,Data!$A$2:$A$32706,$A101,Data!$D$2:$D$32706,H$3)","v":76.094549295237002},{"$f":"SUMIFS(Data!$H$2:$H$32706,Data!$A$2:$A$32706,$A101,Data!$D$2:$D$32706,I$3)","v":72.636019083797066},{"$f":"SUMIFS(Data!$H$2:$H$32706,Data!$A$2:$A$32706,$A101,Data!$D$2:$D$32706,J$3)","v":86.78750865363682},{"$f":"SUMIFS(Data!$H$2:$H$32706,Data!$A$2:$A$32706,$A101,Data!$D$2:$D$32706,K$3)","v":72.731957651132404},{"$f":"SUMIFS(Data!$H$2:$H$32706,Data!$A$2:$A$32706,$A101,Data!$D$2:$D$32706,L$3)","v":86.691128363509449},{"$f":"SUMIFS(Data!$H$2:$H$32706,Data!$A$2:$A$32706,$A101,Data!$D$2:$D$32706,M$3)","v":68.667258855356408},{"$f":"SUMIFS(Data!$H$2:$H$32706,Data!$A$2:$A$32706,$A101,Data!$D$2:$D$32706,N$3)","v":67.301915146779322},{"$f":"SUMIFS(Data!$H$2:$H$32706,Data!$A$2:$A$32706,$A101,Data!$D$2:$D$32706,O$3)","v":78.333155854462106},3,null,null,"+"]
[1100420,null,"Reported numbers of people with hypertension on GP registers as a percentage of estimated prevalence",null,{"$f":"SUMIFS(Data!$H$2:$H$32706,Data!$A$2:$A$32706,$A102,Data!$D$2:$D$32706,$E$3)","v":55.377683395703578},{"$f":"SUMIFS(Data!$H$2:$H$32706,Data!$A$2:$A$32706,$A102,Data!$D$2:$D$32706,F$3)","v":53.112577151718597},{"$f":"SUMIFS(Data!$H$2:$H$32706,Data!$A$2:$A$32706,$A102,Data!$D$2:$D$32706,G$3)","v":55.300660617622825},{"$f":"SUMIFS(Data!$H$2:$H$32706,Data!$A$2:$A$32706,$A102,Data!$D$2:$D$32706,H$3)","v":54.358531772360053},{"$f":"SUMIFS(Data!$H$2:$H$32706,Data!$A$2:$A$32706,$A102,Data!$D$2:$D$32706,I$3)","v":56.644776630803186},{"$f":"SUMIFS(Data!$H$2:$H$32706,Data!$A$2:$A$32706,$A102,Data!$D$2:$D$32706,J$3)","v":56.912323163926672},{"$f":"SUMIFS(Data!$H$2:$H$32706,Data!$A$2:$A$32706,$A102,Data!$D$2:$D$32706,K$3)","v":56.558080951638992},{"$f":"SUMIFS(Data!$H$2:$H$32706,Data!$A$2:$A$32706,$A102,Data!$D$2:$D$32706,L$3)","v":60.421967519422594},{"$f":"SUMIFS(Data!$H$2:$H$32706,Data!$A$2:$A$32706,$A102,Data!$D$2:$D$32706,M$3)","v":56.712438809360442},{"$f":"SUMIFS(Data!$H$2:$H$32706,Data!$A$2:$A$32706,$A102,Data!$D$2:$D$32706,N$3)","v":52.858205388382217},{"$f":"SUMIFS(Data!$H$2:$H$32706,Data!$A$2:$A$32706,$A102,Data!$D$2:$D$32706,O$3)","v":53.504060016444363},6,null,null,"+"]
[1110101,null,"Programme Budget - Respiratory - Total admissions per 1000 population across secondary care - Cost",null,{"$f":"SUMIFS(Data!$H$2:$H$32706,Data!$A$2:$A$32706,$A103,Data!$D$2:$D$32706,$E$3)","v":25632.46},{"$f":"SUMIFS(Data!$H$2:$H$32706,Data!$A$2:$A$32706,$A103,Data!$D$2:$D$32706,F$3)","v":29980.32},{"$f":"SUMIFS(Data!$H$2:$H$32706,Data!$A$2:$A$32706,$A103,Data!$D$2:$D$32706,G$3)","v":26868.53},{"$f":"SUMIFS(Data!$H$2:$H$32706,Data!$A$2:$A$32706,$A103,Data!$D$2:$D$32706,H$3)","v":27177.53},{"$f":"SUMIFS(Data!$H$2:$H$32706,Data!$A$2:$A$32706,$A103,Data!$D$2:$D$32706,I$3)","v":24931.07},{"$f":"SUMIFS(Data!$H$2:$H$32706,Data!$A$2:$A$32706,$A103,Data!$D$2:$D$32706,J$3)","v":22447.78},{"$f":"SUMIFS(Data!$H$2:$H$32706,Data!$A$2:$A$32706,$A103,Data!$D$2:$D$32706,K$3)","v":26506.77},{"$f":"SUMIFS(Data!$H$2:$H$32706,Data!$A$2:$A$32706,$A103,Data!$D$2:$D$32706,L$3)","v":27903.48},{"$f":"SUMIFS(Data!$H$2:$H$32706,Data!$A$2:$A$32706,$A103,Data!$D$2:$D$32706,M$3)","v":25072.49},{"$f":"SUMIFS(Data!$H$2:$H$32706,Data!$A$2:$A$32706,$A103,Data!$D$2:$D$32706,N$3)","v":22594.49},{"$f":"SUMIFS(Data!$H$2:$H$32706,Data!$A$2:$A$32706,$A103,Data!$D$2:$D$32706,O$3)","v":24373.91},6,null,null,"-"]
[1110102,null,"Programme Budget - Respiratory - Total elective (IP + DC) admissions per 1000 population across secondary care - Cost",null,{"$f":"SUMIFS(Data!$H$2:$H$32706,Data!$A$2:$A$32706,$A104,Data!$D$2:$D$32706,$E$3)","v":3944.11},{"$f":"SUMIFS(Data!$H$2:$H$32706,Data!$A$2:$A$32706,$A104,Data!$D$2:$D$32706,F$3)","v":3821.61},{"$f":"SUMIFS(Data!$H$2:$H$32706,Data!$A$2:$A$32706,$A104,Data!$D$2:$D$32706,G$3)","v":5195.71},{"$f":"SUMIFS(Data!$H$2:$H$32706,Data!$A$2:$A$32706,$A104,Data!$D$2:$D$32706,H$3)","v":4224.3999999999996},{"$f":"SUMIFS(Data!$H$2:$H$32706,Data!$A$2:$A$32706,$A104,Data!$D$2:$D$32706,I$3)","v":5067.8599999999997},{"$f":"SUMIFS(Data!$H$2:$H$32706,Data!$A$2:$A$32706,$A104,Data!$D$2:$D$32706,J$3)","v":3089.59},{"$f":"SUMIFS(Data!$H$2:$H$32706,Data!$A$2:$A$32706,$A104,Data!$D$2:$D$32706,K$3)","v":5042.43},{"$f":"SUMIFS(Data!$H$2:$H$32706,Data!$A$2:$A$32706,$A104,Data!$D$2:$D$32706,L$3)","v":3866.96},{"$f":"SUMIFS(Data!$H$2:$H$32706,Data!$A$2:$A$32706,$A104,Data!$D$2:$D$32706,M$3)","v":5192.12},{"$f":"SUMIFS(Data!$H$2:$H$32706,Data!$A$2:$A$32706,$A104,Data!$D$2:$D$32706,N$3)","v":3431.18},{"$f":"SUMIFS(Data!$H$2:$H$32706,Data!$A$2:$A$32706,$A104,Data!$D$2:$D$32706,O$3)","v":3757.8},6,null,null,"-"]
[1110103,null,"Programme Budget - Respiratory - Non-elective (EM + ONEL) admissions per 1000 population across secondary care - Cost",null,{"$f":"SUMIFS(Data!$H$2:$H$32706,Data!$A$2:$A$32706,$A105,Data!$D$2:$D$32706,$E$3)","v":21675.89},{"$f":"SUMIFS(Data!$H$2:$H$32706,Data!$A$2:$A$32706,$A105,Data!$D$2:$D$32706,F$3)","v":26186.1},{"$f":"SUMIFS(Data!$H$2:$H$32706,Data!$A$2:$A$32706,$A105,Data!$D$2:$D$32706,G$3)","v":21782.02},{"$f":"SUMIFS(Data!$H$2:$H$32706,Data!$A$2:$A$32706,$A105,Data!$D$2:$D$32706,H$3)","v":22950.23},{"$f":"SUMIFS(Data!$H$2:$H$32706,Data!$A$2:$A$32706,$A105,Data!$D$2:$D$32706,I$3)","v":19863.36},{"$f":"SUMIFS(Data!$H$2:$H$32706,Data!$A$2:$A$32706,$A105,Data!$D$2:$D$32706,J$3)","v":19312.12},{"$f":"SUMIFS(Data!$H$2:$H$32706,Data!$A$2:$A$32706,$A105,Data!$D$2:$D$32706,K$3)","v":21487.64},{"$f":"SUMIFS(Data!$H$2:$H$32706,Data!$A$2:$A$32706,$A105,Data!$D$2:$D$32706,L$3)","v":23984.51},{"$f":"SUMIFS(Data!$H$2:$H$32706,Data!$A$2:$A$32706,$A105,Data!$D$2:$D$32706,M$3)","v":20065.18},{"$f":"SUMIFS(Data!$H$2:$H$32706,Data!$A$2:$A$32706,$A105,Data!$D$2:$D$32706,N$3)","v":19147.8},{"$f":"SUMIFS(Data!$H$2:$H$32706,Data!$A$2:$A$32706,$A105,Data!$D$2:$D$32706,O$3)","v":20608.27},7,null,null,"-"]
[1110105,null,"Programme Budget - Respiratory - Cost prescribed per 1000 ASTRO-PU population - Cost",null,{"$f":"SUMIFS(Data!$H$2:$H$32706,Data!$A$2:$A$32706,$A106,Data!$D$2:$D$32706,$E$3)","v":19406.349999999999},{"$f":"SUMIFS(Data!$H$2:$H$32706,Data!$A$2:$A$32706,$A106,Data!$D$2:$D$32706,F$3)","v":21048.7},{"$f":"SUMIFS(Data!$H$2:$H$32706,Data!$A$2:$A$32706,$A106,Data!$D$2:$D$32706,G$3)","v":19860.189999999999},{"$f":"SUMIFS(Data!$H$2:$H$32706,Data!$A$2:$A$32706,$A106,Data!$D$2:$D$32706,H$3)","v":16689.11},{"$f":"SUMIFS(Data!$H$2:$H$32706,Data!$A$2:$A$32706,$A106,Data!$D$2:$D$32706,I$3)","v":16961.5},{"$f":"SUMIFS(Data!$H$2:$H$32706,Data!$A$2:$A$32706,$A106,Data!$D$2:$D$32706,J$3)","v":16034.69},{"$f":"SUMIFS(Data!$H$2:$H$32706,Data!$A$2:$A$32706,$A106,Data!$D$2:$D$32706,K$3)","v":18580.060000000001},{"$f":"SUMIFS(Data!$H$2:$H$32706,Data!$A$2:$A$32706,$A106,Data!$D$2:$D$32706,L$3)","v":17687.22},{"$f":"SUMIFS(Data!$H$2:$H$32706,Data!$A$2:$A$32706,$A106,Data!$D$2:$D$32706,M$3)","v":18232.38},{"$f":"SUMIFS(Data!$H$2:$H$32706,Data!$A$2:$A$32706,$A106,Data!$D$2:$D$32706,N$3)","v":17430.740000000002},{"$f":"SUMIFS(Data!$H$2:$H$32706,Data!$A$2:$A$32706,$A106,Data!$D$2:$D$32706,O$3)","v":20282.03},8,null,null,"-"]
[1110201,null,"Programme Budget - Respiratory - Total admissions per 1000 population across secondary care - Activity",null,{"$f":"SUMIFS(Data!$H$2:$H$32706,Data!$A$2:$A$32706,$A107,Data!$D$2:$D$32706,$E$3)","v":15.97},{"$f":"SUMIFS(Data!$H$2:$H$32706,Data!$A$2:$A$32706,$A107,Data!$D$2:$D$32706,F$3)","v":19.059999999999999},{"$f":"SUMIFS(Data!$H$2:$H$32706,Data!$A$2:$A$32706,$A107,Data!$D$2:$D$32706,G$3)","v":16.739999999999998},{"$f":"SUMIFS(Data!$H$2:$H$32706,Data!$A$2:$A$32706,$A107,Data!$D$2:$D$32706,H$3)","v":16.78},{"$f":"SUMIFS(Data!$H$2:$H$32706,Data!$A$2:$A$32706,$A107,Data!$D$2:$D$32706,I$3)","v":15.68},{"$f":"SUMIFS(Data!$H$2:$H$32706,Data!$A$2:$A$32706,$A107,Data!$D$2:$D$32706,J$3)","v":13.59},{"$f":"SUMIFS(Data!$H$2:$H$32706,Data!$A$2:$A$32706,$A107,Data!$D$2:$D$32706,K$3)","v":14.12},{"$f":"SUMIFS(Data!$H$2:$H$32706,Data!$A$2:$A$32706,$A107,Data!$D$2:$D$32706,L$3)","v":15.9},{"$f":"SUMIFS(Data!$H$2:$H$32706,Data!$A$2:$A$32706,$A107,Data!$D$2:$D$32706,M$3)","v":14.8},{"$f":"SUMIFS(Data!$H$2:$H$32706,Data!$A$2:$A$32706,$A107,Data!$D$2:$D$32706,N$3)","v":13.67},{"$f":"SUMIFS(Data!$H$2:$H$32706,Data!$A$2:$A$32706,$A107,Data!$D$2:$D$32706,O$3)","v":14.93},8,null,null,"-"]
[1110202,null,"Programme Budget - Respiratory - Total elective (IP + DC) admissions per 1000 population across secondary care - Activity",null,{"$f":"SUMIFS(Data!$H$2:$H$32706,Data!$A$2:$A$32706,$A108,Data!$D$2:$D$32706,$E$3)","v":3.35},{"$f":"SUMIFS(Data!$H$2:$H$32706,Data!$A$2:$A$32706,$A108,Data!$D$2:$D$32706,F$3)","v":3.36},{"$f":"SUMIFS(Data!$H$2:$H$32706,Data!$A$2:$A$32706,$A108,Data!$D$2:$D$32706,G$3)","v":4.2699999999999996},{"$f":"SUMIFS(Data!$H$2:$H$32706,Data!$A$2:$A$32706,$A108,Data!$D$2:$D$32706,H$3)","v":3.9},{"$f":"SUMIFS(Data!$H$2:$H$32706,Data!$A$2:$A$32706,$A108,Data!$D$2:$D$32706,I$3)","v":4.43},{"$f":"SUMIFS(Data!$H$2:$H$32706,Data!$A$2:$A$32706,$A108,Data!$D$2:$D$32706,J$3)","v":2.44},{"$f":"SUMIFS(Data!$H$2:$H$32706,Data!$A$2:$A$32706,$A108,Data!$D$2:$D$32706,K$3)","v":3.59},{"$f":"SUMIFS(Data!$H$2:$H$32706,Data!$A$2:$A$32706,$A108,Data!$D$2:$D$32706,L$3)","v":3.56},{"$f":"SUMIFS(Data!$H$2:$H$32706,Data!$A$2:$A$32706,$A108,Data!$D$2:$D$32706,M$3)","v":3.75},{"$f":"SUMIFS(Data!$H$2:$H$32706,Data!$A$2:$A$32706,$A108,Data!$D$2:$D$32706,N$3)","v":2.88},{"$f":"SUMIFS(Data!$H$2:$H$32706,Data!$A$2:$A$32706,$A108,Data!$D$2:$D$32706,O$3)","v":4.05},3,null,null,"-"]
[1110203,null,"Programme Budget - Respiratory - Non-elective (EM + ONEL) admissions per 1000 population across secondary care - Activity",null,{"$f":"SUMIFS(Data!$H$2:$H$32706,Data!$A$2:$A$32706,$A109,Data!$D$2:$D$32706,$E$3)","v":12.62},{"$f":"SUMIFS(Data!$H$2:$H$32706,Data!$A$2:$A$32706,$A109,Data!$D$2:$D$32706,F$3)","v":15.7},{"$f":"SUMIFS(Data!$H$2:$H$32706,Data!$A$2:$A$32706,$A109,Data!$D$2:$D$32706,G$3)","v":12.49},{"$f":"SUMIFS(Data!$H$2:$H$32706,Data!$A$2:$A$32706,$A109,Data!$D$2:$D$32706,H$3)","v":12.87},{"$f":"SUMIFS(Data!$H$2:$H$32706,Data!$A$2:$A$32706,$A109,Data!$D$2:$D$32706,I$3)","v":11.22},{"$f":"SUMIFS(Data!$H$2:$H$32706,Data!$A$2:$A$32706,$A109,Data!$D$2:$D$32706,J$3)","v":11.13},{"$f":"SUMIFS(Data!$H$2:$H$32706,Data!$A$2:$A$32706,$A109,Data!$D$2:$D$32706,K$3)","v":10.52},{"$f":"SUMIFS(Data!$H$2:$H$32706,Data!$A$2:$A$32706,$A109,Data!$D$2:$D$32706,L$3)","v":12.37},{"$f":"SUMIFS(Data!$H$2:$H$32706,Data!$A$2:$A$32706,$A109,Data!$D$2:$D$32706,M$3)","v":11.09},{"$f":"SUMIFS(Data!$H$2:$H$32706,Data!$A$2:$A$32706,$A109,Data!$D$2:$D$32706,N$3)","v":10.78},{"$f":"SUMIFS(Data!$H$2:$H$32706,Data!$A$2:$A$32706,$A109,Data!$D$2:$D$32706,O$3)","v":10.89},9,null,null,"-"]
[1110211,null,"Emergency COPD Admissions Per 100 Patients On Disease Register",null,{"$f":"SUMIFS(Data!$H$2:$H$32706,Data!$A$2:$A$32706,$A110,Data!$D$2:$D$32706,$E$3)","v":1105.9137988640161},{"$f":"SUMIFS(Data!$H$2:$H$32706,Data!$A$2:$A$32706,$A110,Data!$D$2:$D$32706,F$3)","v":1314.4802304268133},{"$f":"SUMIFS(Data!$H$2:$H$32706,Data!$A$2:$A$32706,$A110,Data!$D$2:$D$32706,G$3)","v":1306.9835111542193},{"$f":"SUMIFS(Data!$H$2:$H$32706,Data!$A$2:$A$32706,$A110,Data!$D$2:$D$32706,H$3)","v":917.21542803386637},{"$f":"SUMIFS(Data!$H$2:$H$32706,Data!$A$2:$A$32706,$A110,Data!$D$2:$D$32706,I$3)","v":1060.3674540682414},{"$f":"SUMIFS(Data!$H$2:$H$32706,Data!$A$2:$A$32706,$A110,Data!$D$2:$D$32706,J$3)","v":955.61775289884054},{"$f":"SUMIFS(Data!$H$2:$H$32706,Data!$A$2:$A$32706,$A110,Data!$D$2:$D$32706,K$3)","v":950.07697382889819},{"$f":"SUMIFS(Data!$H$2:$H$32706,Data!$A$2:$A$32706,$A110,Data!$D$2:$D$32706,L$3)","v":1191.2517449976735},{"$f":"SUMIFS(Data!$H$2:$H$32706,Data!$A$2:$A$32706,$A110,Data!$D$2:$D$32706,M$3)","v":976.78571428571445},{"$f":"SUMIFS(Data!$H$2:$H$32706,Data!$A$2:$A$32706,$A110,Data!$D$2:$D$32706,N$3)","v":1042.822276458842},{"$f":"SUMIFS(Data!$H$2:$H$32706,Data!$A$2:$A$32706,$A110,Data!$D$2:$D$32706,O$3)","v":916.39871382636659},8,null,null,"-"]
[1110312,null,"Mortality from asthma: Directly age-standardised rates (DSR) per 100,000 European Standard population",null,{"$f":"SUMIFS(Data!$H$2:$H$32706,Data!$A$2:$A$32706,$A111,Data!$D$2:$D$32706,$E$3)","v":0.22508654216447674},{"$f":"SUMIFS(Data!$H$2:$H$32706,Data!$A$2:$A$32706,$A111,Data!$D$2:$D$32706,F$3)","v":0.49108301722108377},{"$f":"SUMIFS(Data!$H$2:$H$32706,Data!$A$2:$A$32706,$A111,Data!$D$2:$D$32706,G$3)","v":0.72556339946586557},{"$f":"SUMIFS(Data!$H$2:$H$32706,Data!$A$2:$A$32706,$A111,Data!$D$2:$D$32706,H$3)","v":0.69938490090414707},{"$f":"SUMIFS(Data!$H$2:$H$32706,Data!$A$2:$A$32706,$A111,Data!$D$2:$D$32706,I$3)","v":0.93371216572878257},{"$f":"SUMIFS(Data!$H$2:$H$32706,Data!$A$2:$A$32706,$A111,Data!$D$2:$D$32706,J$3)","v":0},{"$f":"SUMIFS(Data!$H$2:$H$32706,Data!$A$2:$A$32706,$A111,Data!$D$2:$D$32706,K$3)","v":0.91586140958587026},{"$f":"SUMIFS(Data!$H$2:$H$32706,Data!$A$2:$A$32706,$A111,Data!$D$2:$D$32706,L$3)","v":0.52873719407072073},{"$f":"SUMIFS(Data!$H$2:$H$32706,Data!$A$2:$A$32706,$A111,Data!$D$2:$D$32706,M$3)","v":0.25471071544375024},{"$f":"SUMIFS(Data!$H$2:$H$32706,Data!$A$2:$A$32706,$A111,Data!$D$2:$D$32706,N$3)","v":0.44565066629568301},{"$f":"SUMIFS(Data!$H$2:$H$32706,Data!$A$2:$A$32706,$A111,Data!$D$2:$D$32706,O$3)","v":0.52942295619544466},2,null,null,"-"]
[1110313,null,"Mortality from bronchitis and emphysema and COPD:Under 75 Directly age-standardised rates (DSR) per 100,000",null,{"$f":"SUMIFS(Data!$H$2:$H$32706,Data!$A$2:$A$32706,$A112,Data!$D$2:$D$32706,$E$3)","v":12.213410419945387},{"$f":"SUMIFS(Data!$H$2:$H$32706,Data!$A$2:$A$32706,$A112,Data!$D$2:$D$32706,F$3)","v":18.802686797186205},{"$f":"SUMIFS(Data!$H$2:$H$32706,Data!$A$2:$A$32706,$A112,Data!$D$2:$D$32706,G$3)","v":12.299759255769322},{"$f":"SUMIFS(Data!$H$2:$H$32706,Data!$A$2:$A$32706,$A112,Data!$D$2:$D$32706,H$3)","v":8.830702602449092},{"$f":"SUMIFS(Data!$H$2:$H$32706,Data!$A$2:$A$32706,$A112,Data!$D$2:$D$32706,I$3)","v":6.8850265436397207},{"$f":"SUMIFS(Data!$H$2:$H$32706,Data!$A$2:$A$32706,$A112,Data!$D$2:$D$32706,J$3)","v":9.0858116939213289},{"$f":"SUMIFS(Data!$H$2:$H$32706,Data!$A$2:$A$32706,$A112,Data!$D$2:$D$32706,K$3)","v":8.4740637759684159},{"$f":"SUMIFS(Data!$H$2:$H$32706,Data!$A$2:$A$32706,$A112,Data!$D$2:$D$32706,L$3)","v":8.6833564589817325},{"$f":"SUMIFS(Data!$H$2:$H$32706,Data!$A$2:$A$32706,$A112,Data!$D$2:$D$32706,M$3)","v":11.172875874330211},{"$f":"SUMIFS(Data!$H$2:$H$32706,Data!$A$2:$A$32706,$A112,Data!$D$2:$D$32706,N$3)","v":9.0737897523662312},{"$f":"SUMIFS(Data!$H$2:$H$32706,Data!$A$2:$A$32706,$A112,Data!$D$2:$D$32706,O$3)","v":9.4325662238469299},9,null,null,"-"]
[1110415,null,"Reported numbers of people with COPD on GP registers as a percentage of estimated prevalence",null,{"$f":"SUMIFS(Data!$H$2:$H$32706,Data!$A$2:$A$32706,$A113,Data!$D$2:$D$32706,$E$3)","v":66.942354833394887},{"$f":"SUMIFS(Data!$H$2:$H$32706,Data!$A$2:$A$32706,$A113,Data!$D$2:$D$32706,F$3)","v":69.224889799784791},{"$f":"SUMIFS(Data!$H$2:$H$32706,Data!$A$2:$A$32706,$A113,Data!$D$2:$D$32706,G$3)","v":63.744683343421116},{"$f":"SUMIFS(Data!$H$2:$H$32706,Data!$A$2:$A$32706,$A113,Data!$D$2:$D$32706,H$3)","v":67.598393751759573},{"$f":"SUMIFS(Data!$H$2:$H$32706,Data!$A$2:$A$32706,$A113,Data!$D$2:$D$32706,I$3)","v":64.891016222581371},{"$f":"SUMIFS(Data!$H$2:$H$32706,Data!$A$2:$A$32706,$A113,Data!$D$2:$D$32706,J$3)","v":69.580173056725741},{"$f":"SUMIFS(Data!$H$2:$H$32706,Data!$A$2:$A$32706,$A113,Data!$D$2:$D$32706,K$3)","v":72.685505469856977},{"$f":"SUMIFS(Data!$H$2:$H$32706,Data!$A$2:$A$32706,$A113,Data!$D$2:$D$32706,L$3)","v":67.650201833344639},{"$f":"SUMIFS(Data!$H$2:$H$32706,Data!$A$2:$A$32706,$A113,Data!$D$2:$D$32706,M$3)","v":76.612225684386999},{"$f":"SUMIFS(Data!$H$2:$H$32706,Data!$A$2:$A$32706,$A113,Data!$D$2:$D$32706,N$3)","v":60.821243164903869},{"$f":"SUMIFS(Data!$H$2:$H$32706,Data!$A$2:$A$32706,$A113,Data!$D$2:$D$32706,O$3)","v":70.543312918988619},8,null,null,"+"]
[1130101,null,"Programme Budget - Gastro Intestinal - Total admissions per 1000 population across secondary care - Cost",null,{"$f":"SUMIFS(Data!$H$2:$H$32706,Data!$A$2:$A$32706,$A114,Data!$D$2:$D$32706,$E$3)","v":40392.22},{"$f":"SUMIFS(Data!$H$2:$H$32706,Data!$A$2:$A$32706,$A114,Data!$D$2:$D$32706,F$3)","v":44904.73},{"$f":"SUMIFS(Data!$H$2:$H$32706,Data!$A$2:$A$32706,$A114,Data!$D$2:$D$32706,G$3)","v":40464.01},{"$f":"SUMIFS(Data!$H$2:$H$32706,Data!$A$2:$A$32706,$A114,Data!$D$2:$D$32706,H$3)","v":33688.910000000003},{"$f":"SUMIFS(Data!$H$2:$H$32706,Data!$A$2:$A$32706,$A114,Data!$D$2:$D$32706,I$3)","v":35185.269999999997},{"$f":"SUMIFS(Data!$H$2:$H$32706,Data!$A$2:$A$32706,$A114,Data!$D$2:$D$32706,J$3)","v":37188.18},{"$f":"SUMIFS(Data!$H$2:$H$32706,Data!$A$2:$A$32706,$A114,Data!$D$2:$D$32706,K$3)","v":36299.93},{"$f":"SUMIFS(Data!$H$2:$H$32706,Data!$A$2:$A$32706,$A114,Data!$D$2:$D$32706,L$3)","v":36543.35},{"$f":"SUMIFS(Data!$H$2:$H$32706,Data!$A$2:$A$32706,$A114,Data!$D$2:$D$32706,M$3)","v":36828.120000000003},{"$f":"SUMIFS(Data!$H$2:$H$32706,Data!$A$2:$A$32706,$A114,Data!$D$2:$D$32706,N$3)","v":33185.339999999997},{"$f":"SUMIFS(Data!$H$2:$H$32706,Data!$A$2:$A$32706,$A114,Data!$D$2:$D$32706,O$3)","v":35716.230000000003},9,null,null,"-"]
[1130102,null,"Programme Budget - Gastro Intestinal - Total elective (IP + DC) admissions per 1000 population across secondary care - Cost",null,{"$f":"SUMIFS(Data!$H$2:$H$32706,Data!$A$2:$A$32706,$A115,Data!$D$2:$D$32706,$E$3)","v":17271.169999999998},{"$f":"SUMIFS(Data!$H$2:$H$32706,Data!$A$2:$A$32706,$A115,Data!$D$2:$D$32706,F$3)","v":18549.169999999998},{"$f":"SUMIFS(Data!$H$2:$H$32706,Data!$A$2:$A$32706,$A115,Data!$D$2:$D$32706,G$3)","v":16454.98},{"$f":"SUMIFS(Data!$H$2:$H$32706,Data!$A$2:$A$32706,$A115,Data!$D$2:$D$32706,H$3)","v":13915.04},{"$f":"SUMIFS(Data!$H$2:$H$32706,Data!$A$2:$A$32706,$A115,Data!$D$2:$D$32706,I$3)","v":13785.59},{"$f":"SUMIFS(Data!$H$2:$H$32706,Data!$A$2:$A$32706,$A115,Data!$D$2:$D$32706,J$3)","v":17860.98},{"$f":"SUMIFS(Data!$H$2:$H$32706,Data!$A$2:$A$32706,$A115,Data!$D$2:$D$32706,K$3)","v":14958.31},{"$f":"SUMIFS(Data!$H$2:$H$32706,Data!$A$2:$A$32706,$A115,Data!$D$2:$D$32706,L$3)","v":15463.34},{"$f":"SUMIFS(Data!$H$2:$H$32706,Data!$A$2:$A$32706,$A115,Data!$D$2:$D$32706,M$3)","v":13731.71},{"$f":"SUMIFS(Data!$H$2:$H$32706,Data!$A$2:$A$32706,$A115,Data!$D$2:$D$32706,N$3)","v":13713.14},{"$f":"SUMIFS(Data!$H$2:$H$32706,Data!$A$2:$A$32706,$A115,Data!$D$2:$D$32706,O$3)","v":14408.15},9,null,null,"-"]
[1130103,null,"Programme Budget - Gastro Intestinal - Non-elective (EM + ONEL) admissions per 1000 population across secondary care - Cost",null,{"$f":"SUMIFS(Data!$H$2:$H$32706,Data!$A$2:$A$32706,$A116,Data!$D$2:$D$32706,$E$3)","v":23133.93},{"$f":"SUMIFS(Data!$H$2:$H$32706,Data!$A$2:$A$32706,$A116,Data!$D$2:$D$32706,F$3)","v":26353.69},{"$f":"SUMIFS(Data!$H$2:$H$32706,Data!$A$2:$A$32706,$A116,Data!$D$2:$D$32706,G$3)","v":24005.78},{"$f":"SUMIFS(Data!$H$2:$H$32706,Data!$A$2:$A$32706,$A116,Data!$D$2:$D$32706,H$3)","v":19773.48},{"$f":"SUMIFS(Data!$H$2:$H$32706,Data!$A$2:$A$32706,$A116,Data!$D$2:$D$32706,I$3)","v":21405.19},{"$f":"SUMIFS(Data!$H$2:$H$32706,Data!$A$2:$A$32706,$A116,Data!$D$2:$D$32706,J$3)","v":19345.810000000001},{"$f":"SUMIFS(Data!$H$2:$H$32706,Data!$A$2:$A$32706,$A116,Data!$D$2:$D$32706,K$3)","v":21341.84},{"$f":"SUMIFS(Data!$H$2:$H$32706,Data!$A$2:$A$32706,$A116,Data!$D$2:$D$32706,L$3)","v":21078.76},{"$f":"SUMIFS(Data!$H$2:$H$32706,Data!$A$2:$A$32706,$A116,Data!$D$2:$D$32706,M$3)","v":23053.43},{"$f":"SUMIFS(Data!$H$2:$H$32706,Data!$A$2:$A$32706,$A116,Data!$D$2:$D$32706,N$3)","v":19472.84},{"$f":"SUMIFS(Data!$H$2:$H$32706,Data!$A$2:$A$32706,$A116,Data!$D$2:$D$32706,O$3)","v":21309.54},9,null,null,"-"]
[1130105,null,"Programme Budget - Gastro Intestinal - Cost prescribed per 1000 ASTRO-PU population - Cost",null,{"$f":"SUMIFS(Data!$H$2:$H$32706,Data!$A$2:$A$32706,$A117,Data!$D$2:$D$32706,$E$3)","v":12280.79},{"$f":"SUMIFS(Data!$H$2:$H$32706,Data!$A$2:$A$32706,$A117,Data!$D$2:$D$32706,F$3)","v":11921.44},{"$f":"SUMIFS(Data!$H$2:$H$32706,Data!$A$2:$A$32706,$A117,Data!$D$2:$D$32706,G$3)","v":11558.72},{"$f":"SUMIFS(Data!$H$2:$H$32706,Data!$A$2:$A$32706,$A117,Data!$D$2:$D$32706,H$3)","v":10949.94},{"$f":"SUMIFS(Data!$H$2:$H$32706,Data!$A$2:$A$32706,$A117,Data!$D$2:$D$32706,I$3)","v":11436.19},{"$f":"SUMIFS(Data!$H$2:$H$32706,Data!$A$2:$A$32706,$A117,Data!$D$2:$D$32706,J$3)","v":11421.19},{"$f":"SUMIFS(Data!$H$2:$H$32706,Data!$A$2:$A$32706,$A117,Data!$D$2:$D$32706,K$3)","v":9790.2900000000009},{"$f":"SUMIFS(Data!$H$2:$H$32706,Data!$A$2:$A$32706,$A117,Data!$D$2:$D$32706,L$3)","v":11795.51},{"$f":"SUMIFS(Data!$H$2:$H$32706,Data!$A$2:$A$32706,$A117,Data!$D$2:$D$32706,M$3)","v":10623.31},{"$f":"SUMIFS(Data!$H$2:$H$32706,Data!$A$2:$A$32706,$A117,Data!$D$2:$D$32706,N$3)","v":11614.92},{"$f":"SUMIFS(Data!$H$2:$H$32706,Data!$A$2:$A$32706,$A117,Data!$D$2:$D$32706,O$3)","v":11437.25},11,null,null,"-"]
[1130201,null,"Programme Budget - Gastro Intestinal - Total admissions per 1000 population across secondary care - Activity",null,{"$f":"SUMIFS(Data!$H$2:$H$32706,Data!$A$2:$A$32706,$A118,Data!$D$2:$D$32706,$E$3)","v":36.85},{"$f":"SUMIFS(Data!$H$2:$H$32706,Data!$A$2:$A$32706,$A118,Data!$D$2:$D$32706,F$3)","v":35.630000000000003},{"$f":"SUMIFS(Data!$H$2:$H$32706,Data!$A$2:$A$32706,$A118,Data!$D$2:$D$32706,G$3)","v":31.73},{"$f":"SUMIFS(Data!$H$2:$H$32706,Data!$A$2:$A$32706,$A118,Data!$D$2:$D$32706,H$3)","v":30.91},{"$f":"SUMIFS(Data!$H$2:$H$32706,Data!$A$2:$A$32706,$A118,Data!$D$2:$D$32706,I$3)","v":28.31},{"$f":"SUMIFS(Data!$H$2:$H$32706,Data!$A$2:$A$32706,$A118,Data!$D$2:$D$32706,J$3)","v":36.89},{"$f":"SUMIFS(Data!$H$2:$H$32706,Data!$A$2:$A$32706,$A118,Data!$D$2:$D$32706,K$3)","v":30.02},{"$f":"SUMIFS(Data!$H$2:$H$32706,Data!$A$2:$A$32706,$A118,Data!$D$2:$D$32706,L$3)","v":31.78},{"$f":"SUMIFS(Data!$H$2:$H$32706,Data!$A$2:$A$32706,$A118,Data!$D$2:$D$32706,M$3)","v":29.98},{"$f":"SUMIFS(Data!$H$2:$H$32706,Data!$A$2:$A$32706,$A118,Data!$D$2:$D$32706,N$3)","v":26.75},{"$f":"SUMIFS(Data!$H$2:$H$32706,Data!$A$2:$A$32706,$A118,Data!$D$2:$D$32706,O$3)","v":29.6},10,null,null,"-"]
[1130202,null,"Programme Budget - Gastro Intestinal - Total elective (IP + DC) admissions per 1000 population across secondary care - Activity",null,{"$f":"SUMIFS(Data!$H$2:$H$32706,Data!$A$2:$A$32706,$A119,Data!$D$2:$D$32706,$E$3)","v":24.49},{"$f":"SUMIFS(Data!$H$2:$H$32706,Data!$A$2:$A$32706,$A119,Data!$D$2:$D$32706,F$3)","v":22.51},{"$f":"SUMIFS(Data!$H$2:$H$32706,Data!$A$2:$A$32706,$A119,Data!$D$2:$D$32706,G$3)","v":20.55},{"$f":"SUMIFS(Data!$H$2:$H$32706,Data!$A$2:$A$32706,$A119,Data!$D$2:$D$32706,H$3)","v":20.260000000000002},{"$f":"SUMIFS(Data!$H$2:$H$32706,Data!$A$2:$A$32706,$A119,Data!$D$2:$D$32706,I$3)","v":18.010000000000002},{"$f":"SUMIFS(Data!$H$2:$H$32706,Data!$A$2:$A$32706,$A119,Data!$D$2:$D$32706,J$3)","v":26.82},{"$f":"SUMIFS(Data!$H$2:$H$32706,Data!$A$2:$A$32706,$A119,Data!$D$2:$D$32706,K$3)","v":20.28},{"$f":"SUMIFS(Data!$H$2:$H$32706,Data!$A$2:$A$32706,$A119,Data!$D$2:$D$32706,L$3)","v":21.34},{"$f":"SUMIFS(Data!$H$2:$H$32706,Data!$A$2:$A$32706,$A119,Data!$D$2:$D$32706,M$3)","v":19.16},{"$f":"SUMIFS(Data!$H$2:$H$32706,Data!$A$2:$A$32706,$A119,Data!$D$2:$D$32706,N$3)","v":17.3},{"$f":"SUMIFS(Data!$H$2:$H$32706,Data!$A$2:$A$32706,$A119,Data!$D$2:$D$32706,O$3)","v":19.39},10,null,null,"-"]
[1130203,null,"Programme Budget - Gastro Intestinal - Non-elective (EM + ONEL) admissions per 1000 population across secondary care - Activity",null,{"$f":"SUMIFS(Data!$H$2:$H$32706,Data!$A$2:$A$32706,$A120,Data!$D$2:$D$32706,$E$3)","v":12.34},{"$f":"SUMIFS(Data!$H$2:$H$32706,Data!$A$2:$A$32706,$A120,Data!$D$2:$D$32706,F$3)","v":13.15},{"$f":"SUMIFS(Data!$H$2:$H$32706,Data!$A$2:$A$32706,$A120,Data!$D$2:$D$32706,G$3)","v":11.21},{"$f":"SUMIFS(Data!$H$2:$H$32706,Data!$A$2:$A$32706,$A120,Data!$D$2:$D$32706,H$3)","v":10.65},{"$f":"SUMIFS(Data!$H$2:$H$32706,Data!$A$2:$A$32706,$A120,Data!$D$2:$D$32706,I$3)","v":10.34},{"$f":"SUMIFS(Data!$H$2:$H$32706,Data!$A$2:$A$32706,$A120,Data!$D$2:$D$32706,J$3)","v":10},{"$f":"SUMIFS(Data!$H$2:$H$32706,Data!$A$2:$A$32706,$A120,Data!$D$2:$D$32706,K$3)","v":9.74},{"$f":"SUMIFS(Data!$H$2:$H$32706,Data!$A$2:$A$32706,$A120,Data!$D$2:$D$32706,L$3)","v":10.43},{"$f":"SUMIFS(Data!$H$2:$H$32706,Data!$A$2:$A$32706,$A120,Data!$D$2:$D$32706,M$3)","v":10.83},{"$f":"SUMIFS(Data!$H$2:$H$32706,Data!$A$2:$A$32706,$A120,Data!$D$2:$D$32706,N$3)","v":9.4499999999999993},{"$f":"SUMIFS(Data!$H$2:$H$32706,Data!$A$2:$A$32706,$A120,Data!$D$2:$D$32706,O$3)","v":10.23},10,null,null,"-"]
[1130212,null,"Emergency admissions for alcohol related liver disease",null,{"$f":"SUMIFS(Data!$H$2:$H$32706,Data!$A$2:$A$32706,$A121,Data!$D$2:$D$32706,$E$3)","v":23.79},{"$f":"SUMIFS(Data!$H$2:$H$32706,Data!$A$2:$A$32706,$A121,Data!$D$2:$D$32706,F$3)","v":28.5},{"$f":"SUMIFS(Data!$H$2:$H$32706,Data!$A$2:$A$32706,$A121,Data!$D$2:$D$32706,G$3)","v":20.37},{"$f":"SUMIFS(Data!$H$2:$H$32706,Data!$A$2:$A$32706,$A121,Data!$D$2:$D$32706,H$3)","v":19.96},{"$f":"SUMIFS(Data!$H$2:$H$32706,Data!$A$2:$A$32706,$A121,Data!$D$2:$D$32706,I$3)","v":13.83},{"$f":"SUMIFS(Data!$H$2:$H$32706,Data!$A$2:$A$32706,$A121,Data!$D$2:$D$32706,J$3)","v":27},{"$f":"SUMIFS(Data!$H$2:$H$32706,Data!$A$2:$A$32706,$A121,Data!$D$2:$D$32706,K$3)","v":18.149999999999999},{"$f":"SUMIFS(Data!$H$2:$H$32706,Data!$A$2:$A$32706,$A121,Data!$D$2:$D$32706,L$3)","v":18.04},{"$f":"SUMIFS(Data!$H$2:$H$32706,Data!$A$2:$A$32706,$A121,Data!$D$2:$D$32706,M$3)","v":43.98},{"$f":"SUMIFS(Data!$H$2:$H$32706,Data!$A$2:$A$32706,$A121,Data!$D$2:$D$32706,N$3)","v":21.59},{"$f":"SUMIFS(Data!$H$2:$H$32706,Data!$A$2:$A$32706,$A121,Data!$D$2:$D$32706,O$3)","v":22.06},8,null,null,"-"]
[1130311,null,"Mortality from Gastrointestinal disease: Under 75 Directly age-standardised rates (DSR) per 100,000 European",null,{"$f":"SUMIFS(Data!$H$2:$H$32706,Data!$A$2:$A$32706,$A122,Data!$D$2:$D$32706,$E$3)","v":13.139094283888433},{"$f":"SUMIFS(Data!$H$2:$H$32706,Data!$A$2:$A$32706,$A122,Data!$D$2:$D$32706,F$3)","v":22.515697743090062},{"$f":"SUMIFS(Data!$H$2:$H$32706,Data!$A$2:$A$32706,$A122,Data!$D$2:$D$32706,G$3)","v":22.433380053919972},{"$f":"SUMIFS(Data!$H$2:$H$32706,Data!$A$2:$A$32706,$A122,Data!$D$2:$D$32706,H$3)","v":19.527265032345291},{"$f":"SUMIFS(Data!$H$2:$H$32706,Data!$A$2:$A$32706,$A122,Data!$D$2:$D$32706,I$3)","v":13.700593872284172},{"$f":"SUMIFS(Data!$H$2:$H$32706,Data!$A$2:$A$32706,$A122,Data!$D$2:$D$32706,J$3)","v":12.601868632689479},{"$f":"SUMIFS(Data!$H$2:$H$32706,Data!$A$2:$A$32706,$A122,Data!$D$2:$D$32706,K$3)","v":15.336396836507452},{"$f":"SUMIFS(Data!$H$2:$H$32706,Data!$A$2:$A$32706,$A122,Data!$D$2:$D$32706,L$3)","v":16.994225539113859},{"$f":"SUMIFS(Data!$H$2:$H$32706,Data!$A$2:$A$32706,$A122,Data!$D$2:$D$32706,M$3)","v":17.793004048128832},{"$f":"SUMIFS(Data!$H$2:$H$32706,Data!$A$2:$A$32706,$A122,Data!$D$2:$D$32706,N$3)","v":15.377315946955244},{"$f":"SUMIFS(Data!$H$2:$H$32706,Data!$A$2:$A$32706,$A122,Data!$D$2:$D$32706,O$3)","v":14.959490804030354},2,null,null,"-"]
[1130313,null,"Mortality from liver disease: Under 75 Direct Standardised Rates (DSR) per 100,000 ",null,{"$f":"SUMIFS(Data!$H$2:$H$32706,Data!$A$2:$A$32706,$A123,Data!$D$2:$D$32706,$E$3)","v":9.6199999999999992},{"$f":"SUMIFS(Data!$H$2:$H$32706,Data!$A$2:$A$32706,$A123,Data!$D$2:$D$32706,F$3)","v":27.68},{"$f":"SUMIFS(Data!$H$2:$H$32706,Data!$A$2:$A$32706,$A123,Data!$D$2:$D$32706,G$3)","v":22.72},{"$f":"SUMIFS(Data!$H$2:$H$32706,Data!$A$2:$A$32706,$A123,Data!$D$2:$D$32706,H$3)","v":16.309999999999999},{"$f":"SUMIFS(Data!$H$2:$H$32706,Data!$A$2:$A$32706,$A123,Data!$D$2:$D$32706,I$3)","v":5.81},{"$f":"SUMIFS(Data!$H$2:$H$32706,Data!$A$2:$A$32706,$A123,Data!$D$2:$D$32706,J$3)","v":8.69},{"$f":"SUMIFS(Data!$H$2:$H$32706,Data!$A$2:$A$32706,$A123,Data!$D$2:$D$32706,K$3)","v":16.75},{"$f":"SUMIFS(Data!$H$2:$H$32706,Data!$A$2:$A$32706,$A123,Data!$D$2:$D$32706,L$3)","v":12.99},{"$f":"SUMIFS(Data!$H$2:$H$32706,Data!$A$2:$A$32706,$A123,Data!$D$2:$D$32706,M$3)","v":17.079999999999998},{"$f":"SUMIFS(Data!$H$2:$H$32706,Data!$A$2:$A$32706,$A123,Data!$D$2:$D$32706,N$3)","v":10.58},{"$f":"SUMIFS(Data!$H$2:$H$32706,Data!$A$2:$A$32706,$A123,Data!$D$2:$D$32706,O$3)","v":13.13},{"$f":"IF(S123=\"-\",RANK(E123,E123:O123,1),RANK(E123,E123:O123,0))","v":3},null,null,"-"]
[1150101,null,"Programme Budget - Musculo Skeletal - Total admissions per 1000 population across secondary care - Cost",null,{"$f":"SUMIFS(Data!$H$2:$H$32706,Data!$A$2:$A$32706,$A124,Data!$D$2:$D$32706,$E$3)","v":36144.22},{"$f":"SUMIFS(Data!$H$2:$H$32706,Data!$A$2:$A$32706,$A124,Data!$D$2:$D$32706,F$3)","v":40862.9},{"$f":"SUMIFS(Data!$H$2:$H$32706,Data!$A$2:$A$32706,$A124,Data!$D$2:$D$32706,G$3)","v":37604.78},{"$f":"SUMIFS(Data!$H$2:$H$32706,Data!$A$2:$A$32706,$A124,Data!$D$2:$D$32706,H$3)","v":42390.45},{"$f":"SUMIFS(Data!$H$2:$H$32706,Data!$A$2:$A$32706,$A124,Data!$D$2:$D$32706,I$3)","v":35376.33},{"$f":"SUMIFS(Data!$H$2:$H$32706,Data!$A$2:$A$32706,$A124,Data!$D$2:$D$32706,J$3)","v":37598.15},{"$f":"SUMIFS(Data!$H$2:$H$32706,Data!$A$2:$A$32706,$A124,Data!$D$2:$D$32706,K$3)","v":35975.160000000003},{"$f":"SUMIFS(Data!$H$2:$H$32706,Data!$A$2:$A$32706,$A124,Data!$D$2:$D$32706,L$3)","v":44669.919999999998},{"$f":"SUMIFS(Data!$H$2:$H$32706,Data!$A$2:$A$32706,$A124,Data!$D$2:$D$32706,M$3)","v":33173.26},{"$f":"SUMIFS(Data!$H$2:$H$32706,Data!$A$2:$A$32706,$A124,Data!$D$2:$D$32706,N$3)","v":37056.449999999997},{"$f":"SUMIFS(Data!$H$2:$H$32706,Data!$A$2:$A$32706,$A124,Data!$D$2:$D$32706,O$3)","v":45724.77},4,null,null,"-"]
[1150102,null,"Programme Budget - Musculo Skeletal - Total elective (IP + DC) admissions per 1000 population across secondary care - Cost",null,{"$f":"SUMIFS(Data!$H$2:$H$32706,Data!$A$2:$A$32706,$A125,Data!$D$2:$D$32706,$E$3)","v":32998.61},{"$f":"SUMIFS(Data!$H$2:$H$32706,Data!$A$2:$A$32706,$A125,Data!$D$2:$D$32706,F$3)","v":37210.9},{"$f":"SUMIFS(Data!$H$2:$H$32706,Data!$A$2:$A$32706,$A125,Data!$D$2:$D$32706,G$3)","v":34324.839999999997},{"$f":"SUMIFS(Data!$H$2:$H$32706,Data!$A$2:$A$32706,$A125,Data!$D$2:$D$32706,H$3)","v":38577.96},{"$f":"SUMIFS(Data!$H$2:$H$32706,Data!$A$2:$A$32706,$A125,Data!$D$2:$D$32706,I$3)","v":32333.42},{"$f":"SUMIFS(Data!$H$2:$H$32706,Data!$A$2:$A$32706,$A125,Data!$D$2:$D$32706,J$3)","v":35019.199999999997},{"$f":"SUMIFS(Data!$H$2:$H$32706,Data!$A$2:$A$32706,$A125,Data!$D$2:$D$32706,K$3)","v":31942.52},{"$f":"SUMIFS(Data!$H$2:$H$32706,Data!$A$2:$A$32706,$A125,Data!$D$2:$D$32706,L$3)","v":41314},{"$f":"SUMIFS(Data!$H$2:$H$32706,Data!$A$2:$A$32706,$A125,Data!$D$2:$D$32706,M$3)","v":30495.69},{"$f":"SUMIFS(Data!$H$2:$H$32706,Data!$A$2:$A$32706,$A125,Data!$D$2:$D$32706,N$3)","v":34736.06},{"$f":"SUMIFS(Data!$H$2:$H$32706,Data!$A$2:$A$32706,$A125,Data!$D$2:$D$32706,O$3)","v":41000.410000000003},4,null,null,"-"]
[1150103,null,"Programme Budget - Musculo Skeletal - Non-elective (EM + ONEL) admissions per 1000 population across secondary care - Cost",null,{"$f":"SUMIFS(Data!$H$2:$H$32706,Data!$A$2:$A$32706,$A126,Data!$D$2:$D$32706,$E$3)","v":3148.56},{"$f":"SUMIFS(Data!$H$2:$H$32706,Data!$A$2:$A$32706,$A126,Data!$D$2:$D$32706,F$3)","v":3649.65},{"$f":"SUMIFS(Data!$H$2:$H$32706,Data!$A$2:$A$32706,$A126,Data!$D$2:$D$32706,G$3)","v":3281.54},{"$f":"SUMIFS(Data!$H$2:$H$32706,Data!$A$2:$A$32706,$A126,Data!$D$2:$D$32706,H$3)","v":3811.26},{"$f":"SUMIFS(Data!$H$2:$H$32706,Data!$A$2:$A$32706,$A126,Data!$D$2:$D$32706,I$3)","v":3039.93},{"$f":"SUMIFS(Data!$H$2:$H$32706,Data!$A$2:$A$32706,$A126,Data!$D$2:$D$32706,J$3)","v":2581.27},{"$f":"SUMIFS(Data!$H$2:$H$32706,Data!$A$2:$A$32706,$A126,Data!$D$2:$D$32706,K$3)","v":4025.26},{"$f":"SUMIFS(Data!$H$2:$H$32706,Data!$A$2:$A$32706,$A126,Data!$D$2:$D$32706,L$3)","v":3342.17},{"$f":"SUMIFS(Data!$H$2:$H$32706,Data!$A$2:$A$32706,$A126,Data!$D$2:$D$32706,M$3)","v":2684},{"$f":"SUMIFS(Data!$H$2:$H$32706,Data!$A$2:$A$32706,$A126,Data!$D$2:$D$32706,N$3)","v":2316.85},{"$f":"SUMIFS(Data!$H$2:$H$32706,Data!$A$2:$A$32706,$A126,Data!$D$2:$D$32706,O$3)","v":4733.82},5,null,null,"-"]
[1150105,null,"Programme Budget - Musculo Skeletal - Cost prescribed per 1000 ASTRO-PU population - Cost",null,{"$f":"SUMIFS(Data!$H$2:$H$32706,Data!$A$2:$A$32706,$A127,Data!$D$2:$D$32706,$E$3)","v":5935.85},{"$f":"SUMIFS(Data!$H$2:$H$32706,Data!$A$2:$A$32706,$A127,Data!$D$2:$D$32706,F$3)","v":6327.43},{"$f":"SUMIFS(Data!$H$2:$H$32706,Data!$A$2:$A$32706,$A127,Data!$D$2:$D$32706,G$3)","v":6196.97},{"$f":"SUMIFS(Data!$H$2:$H$32706,Data!$A$2:$A$32706,$A127,Data!$D$2:$D$32706,H$3)","v":5981.9},{"$f":"SUMIFS(Data!$H$2:$H$32706,Data!$A$2:$A$32706,$A127,Data!$D$2:$D$32706,I$3)","v":5702.61},{"$f":"SUMIFS(Data!$H$2:$H$32706,Data!$A$2:$A$32706,$A127,Data!$D$2:$D$32706,J$3)","v":5556.09},{"$f":"SUMIFS(Data!$H$2:$H$32706,Data!$A$2:$A$32706,$A127,Data!$D$2:$D$32706,K$3)","v":4674.78},{"$f":"SUMIFS(Data!$H$2:$H$32706,Data!$A$2:$A$32706,$A127,Data!$D$2:$D$32706,L$3)","v":5700.8},{"$f":"SUMIFS(Data!$H$2:$H$32706,Data!$A$2:$A$32706,$A127,Data!$D$2:$D$32706,M$3)","v":5835.37},{"$f":"SUMIFS(Data!$H$2:$H$32706,Data!$A$2:$A$32706,$A127,Data!$D$2:$D$32706,N$3)","v":5594.58},{"$f":"SUMIFS(Data!$H$2:$H$32706,Data!$A$2:$A$32706,$A127,Data!$D$2:$D$32706,O$3)","v":6582.45},7,null,null,"-"]
[1150201,null,"Programme Budget - Musculo Skeletal - Total admissions per 1000 population across secondary care - Activity",null,{"$f":"SUMIFS(Data!$H$2:$H$32706,Data!$A$2:$A$32706,$A128,Data!$D$2:$D$32706,$E$3)","v":15.25},{"$f":"SUMIFS(Data!$H$2:$H$32706,Data!$A$2:$A$32706,$A128,Data!$D$2:$D$32706,F$3)","v":18.239999999999998},{"$f":"SUMIFS(Data!$H$2:$H$32706,Data!$A$2:$A$32706,$A128,Data!$D$2:$D$32706,G$3)","v":16.39},{"$f":"SUMIFS(Data!$H$2:$H$32706,Data!$A$2:$A$32706,$A128,Data!$D$2:$D$32706,H$3)","v":17.8},{"$f":"SUMIFS(Data!$H$2:$H$32706,Data!$A$2:$A$32706,$A128,Data!$D$2:$D$32706,I$3)","v":15.76},{"$f":"SUMIFS(Data!$H$2:$H$32706,Data!$A$2:$A$32706,$A128,Data!$D$2:$D$32706,J$3)","v":14.01},{"$f":"SUMIFS(Data!$H$2:$H$32706,Data!$A$2:$A$32706,$A128,Data!$D$2:$D$32706,K$3)","v":16.54},{"$f":"SUMIFS(Data!$H$2:$H$32706,Data!$A$2:$A$32706,$A128,Data!$D$2:$D$32706,L$3)","v":18.48},{"$f":"SUMIFS(Data!$H$2:$H$32706,Data!$A$2:$A$32706,$A128,Data!$D$2:$D$32706,M$3)","v":14.86},{"$f":"SUMIFS(Data!$H$2:$H$32706,Data!$A$2:$A$32706,$A128,Data!$D$2:$D$32706,N$3)","v":15.38},{"$f":"SUMIFS(Data!$H$2:$H$32706,Data!$A$2:$A$32706,$A128,Data!$D$2:$D$32706,O$3)","v":20.010000000000002},3,null,null,"-"]
[1150202,null,"Programme Budget - Musculo Skeletal - Total elective (IP + DC) admissions per 1000 population across secondary care - Activity",null,{"$f":"SUMIFS(Data!$H$2:$H$32706,Data!$A$2:$A$32706,$A129,Data!$D$2:$D$32706,$E$3)","v":13.73},{"$f":"SUMIFS(Data!$H$2:$H$32706,Data!$A$2:$A$32706,$A129,Data!$D$2:$D$32706,F$3)","v":15.3},{"$f":"SUMIFS(Data!$H$2:$H$32706,Data!$A$2:$A$32706,$A129,Data!$D$2:$D$32706,G$3)","v":14},{"$f":"SUMIFS(Data!$H$2:$H$32706,Data!$A$2:$A$32706,$A129,Data!$D$2:$D$32706,H$3)","v":15.97},{"$f":"SUMIFS(Data!$H$2:$H$32706,Data!$A$2:$A$32706,$A129,Data!$D$2:$D$32706,I$3)","v":13.67},{"$f":"SUMIFS(Data!$H$2:$H$32706,Data!$A$2:$A$32706,$A129,Data!$D$2:$D$32706,J$3)","v":12.78},{"$f":"SUMIFS(Data!$H$2:$H$32706,Data!$A$2:$A$32706,$A129,Data!$D$2:$D$32706,K$3)","v":13.79},{"$f":"SUMIFS(Data!$H$2:$H$32706,Data!$A$2:$A$32706,$A129,Data!$D$2:$D$32706,L$3)","v":16.64},{"$f":"SUMIFS(Data!$H$2:$H$32706,Data!$A$2:$A$32706,$A129,Data!$D$2:$D$32706,M$3)","v":13.56},{"$f":"SUMIFS(Data!$H$2:$H$32706,Data!$A$2:$A$32706,$A129,Data!$D$2:$D$32706,N$3)","v":14.39},{"$f":"SUMIFS(Data!$H$2:$H$32706,Data!$A$2:$A$32706,$A129,Data!$D$2:$D$32706,O$3)","v":17.64},4,null,null,"-"]
[1150203,null,"Programme Budget - Musculo Skeletal - Non-elective (EM + ONEL) admissions per 1000 population across secondary care - Activity",null,{"$f":"SUMIFS(Data!$H$2:$H$32706,Data!$A$2:$A$32706,$A130,Data!$D$2:$D$32706,$E$3)","v":1.53},{"$f":"SUMIFS(Data!$H$2:$H$32706,Data!$A$2:$A$32706,$A130,Data!$D$2:$D$32706,F$3)","v":2.97},{"$f":"SUMIFS(Data!$H$2:$H$32706,Data!$A$2:$A$32706,$A130,Data!$D$2:$D$32706,G$3)","v":2.39},{"$f":"SUMIFS(Data!$H$2:$H$32706,Data!$A$2:$A$32706,$A130,Data!$D$2:$D$32706,H$3)","v":1.83},{"$f":"SUMIFS(Data!$H$2:$H$32706,Data!$A$2:$A$32706,$A130,Data!$D$2:$D$32706,I$3)","v":2.09},{"$f":"SUMIFS(Data!$H$2:$H$32706,Data!$A$2:$A$32706,$A130,Data!$D$2:$D$32706,J$3)","v":1.22},{"$f":"SUMIFS(Data!$H$2:$H$32706,Data!$A$2:$A$32706,$A130,Data!$D$2:$D$32706,K$3)","v":2.76},{"$f":"SUMIFS(Data!$H$2:$H$32706,Data!$A$2:$A$32706,$A130,Data!$D$2:$D$32706,L$3)","v":1.82},{"$f":"SUMIFS(Data!$H$2:$H$32706,Data!$A$2:$A$32706,$A130,Data!$D$2:$D$32706,M$3)","v":1.3},{"$f":"SUMIFS(Data!$H$2:$H$32706,Data!$A$2:$A$32706,$A130,Data!$D$2:$D$32706,N$3)","v":0.99},{"$f":"SUMIFS(Data!$H$2:$H$32706,Data!$A$2:$A$32706,$A130,Data!$D$2:$D$32706,O$3)","v":2.4},4,null,null,"-"]
[1150311,null,"Hip replacement, EQ-5D, Health Gain (Provisional 2011/12)",null,{"$f":"SUMIFS(Data!$H$2:$H$32706,Data!$A$2:$A$32706,$A131,Data!$D$2:$D$32706,$E$3)","v":0.40200000000000002},{"$f":"SUMIFS(Data!$H$2:$H$32706,Data!$A$2:$A$32706,$A131,Data!$D$2:$D$32706,F$3)","v":0.40400000000000003},{"$f":"SUMIFS(Data!$H$2:$H$32706,Data!$A$2:$A$32706,$A131,Data!$D$2:$D$32706,G$3)","v":0.4},{"$f":"SUMIFS(Data!$H$2:$H$32706,Data!$A$2:$A$32706,$A131,Data!$D$2:$D$32706,H$3)","v":0.44700000000000001},{"$f":"SUMIFS(Data!$H$2:$H$32706,Data!$A$2:$A$32706,$A131,Data!$D$2:$D$32706,I$3)","v":0.39300000000000002},{"$f":"SUMIFS(Data!$H$2:$H$32706,Data!$A$2:$A$32706,$A131,Data!$D$2:$D$32706,J$3)","v":0.375},{"$f":"SUMIFS(Data!$H$2:$H$32706,Data!$A$2:$A$32706,$A131,Data!$D$2:$D$32706,K$3)","v":0.40799999999999997},{"$f":"SUMIFS(Data!$H$2:$H$32706,Data!$A$2:$A$32706,$A131,Data!$D$2:$D$32706,L$3)","v":0.36199999999999999},{"$f":"SUMIFS(Data!$H$2:$H$32706,Data!$A$2:$A$32706,$A131,Data!$D$2:$D$32706,M$3)","v":0.436},{"$f":"SUMIFS(Data!$H$2:$H$32706,Data!$A$2:$A$32706,$A131,Data!$D$2:$D$32706,N$3)","v":0.45900000000000002},{"$f":"SUMIFS(Data!$H$2:$H$32706,Data!$A$2:$A$32706,$A131,Data!$D$2:$D$32706,O$3)","v":0.39900000000000002},6,null,null,"+"]
[1150312,null,"Knee replacement, EQ-5D, Health Gain (Provisional 2011/12)",null,{"$f":"SUMIFS(Data!$H$2:$H$32706,Data!$A$2:$A$32706,$A132,Data!$D$2:$D$32706,$E$3)","v":0.34200000000000003},{"$f":"SUMIFS(Data!$H$2:$H$32706,Data!$A$2:$A$32706,$A132,Data!$D$2:$D$32706,F$3)","v":0.30199999999999999},{"$f":"SUMIFS(Data!$H$2:$H$32706,Data!$A$2:$A$32706,$A132,Data!$D$2:$D$32706,G$3)","v":0.27100000000000002},{"$f":"SUMIFS(Data!$H$2:$H$32706,Data!$A$2:$A$32706,$A132,Data!$D$2:$D$32706,H$3)","v":0.27900000000000003},{"$f":"SUMIFS(Data!$H$2:$H$32706,Data!$A$2:$A$32706,$A132,Data!$D$2:$D$32706,I$3)","v":0.32400000000000001},{"$f":"SUMIFS(Data!$H$2:$H$32706,Data!$A$2:$A$32706,$A132,Data!$D$2:$D$32706,J$3)","v":0.27900000000000003},{"$f":"SUMIFS(Data!$H$2:$H$32706,Data!$A$2:$A$32706,$A132,Data!$D$2:$D$32706,K$3)","v":0.309},{"$f":"SUMIFS(Data!$H$2:$H$32706,Data!$A$2:$A$32706,$A132,Data!$D$2:$D$32706,L$3)","v":0.27900000000000003},{"$f":"SUMIFS(Data!$H$2:$H$32706,Data!$A$2:$A$32706,$A132,Data!$D$2:$D$32706,M$3)","v":0.248},{"$f":"SUMIFS(Data!$H$2:$H$32706,Data!$A$2:$A$32706,$A132,Data!$D$2:$D$32706,N$3)","v":0.26700000000000002},{"$f":"SUMIFS(Data!$H$2:$H$32706,Data!$A$2:$A$32706,$A132,Data!$D$2:$D$32706,O$3)","v":0.39100000000000001},2,null,null,"+"]
[1150313,null,"Hip replacement, Oxford score, Health Gain (Provisional 2011/12)",null,{"$f":"SUMIFS(Data!$H$2:$H$32706,Data!$A$2:$A$32706,$A133,Data!$D$2:$D$32706,$E$3)","v":20.22},{"$f":"SUMIFS(Data!$H$2:$H$32706,Data!$A$2:$A$32706,$A133,Data!$D$2:$D$32706,F$3)","v":20.100999999999999},{"$f":"SUMIFS(Data!$H$2:$H$32706,Data!$A$2:$A$32706,$A133,Data!$D$2:$D$32706,G$3)","v":18.927},{"$f":"SUMIFS(Data!$H$2:$H$32706,Data!$A$2:$A$32706,$A133,Data!$D$2:$D$32706,H$3)","v":21.099},{"$f":"SUMIFS(Data!$H$2:$H$32706,Data!$A$2:$A$32706,$A133,Data!$D$2:$D$32706,I$3)","v":21.071000000000002},{"$f":"SUMIFS(Data!$H$2:$H$32706,Data!$A$2:$A$32706,$A133,Data!$D$2:$D$32706,J$3)","v":19.577999999999999},{"$f":"SUMIFS(Data!$H$2:$H$32706,Data!$A$2:$A$32706,$A133,Data!$D$2:$D$32706,K$3)","v":19.602},{"$f":"SUMIFS(Data!$H$2:$H$32706,Data!$A$2:$A$32706,$A133,Data!$D$2:$D$32706,L$3)","v":18.183},{"$f":"SUMIFS(Data!$H$2:$H$32706,Data!$A$2:$A$32706,$A133,Data!$D$2:$D$32706,M$3)","v":20.265999999999998},{"$f":"SUMIFS(Data!$H$2:$H$32706,Data!$A$2:$A$32706,$A133,Data!$D$2:$D$32706,N$3)","v":21.734000000000002},{"$f":"SUMIFS(Data!$H$2:$H$32706,Data!$A$2:$A$32706,$A133,Data!$D$2:$D$32706,O$3)","v":21.088000000000001},6,null,null,"+"]
[1150314,null,"Knee replacement, Oxford score, Health Gain (Provisional 2011/12)",null,{"$f":"SUMIFS(Data!$H$2:$H$32706,Data!$A$2:$A$32706,$A134,Data!$D$2:$D$32706,$E$3)","v":16.358000000000001},{"$f":"SUMIFS(Data!$H$2:$H$32706,Data!$A$2:$A$32706,$A134,Data!$D$2:$D$32706,F$3)","v":16.315999999999999},{"$f":"SUMIFS(Data!$H$2:$H$32706,Data!$A$2:$A$32706,$A134,Data!$D$2:$D$32706,G$3)","v":14.695},{"$f":"SUMIFS(Data!$H$2:$H$32706,Data!$A$2:$A$32706,$A134,Data!$D$2:$D$32706,H$3)","v":15.106999999999999},{"$f":"SUMIFS(Data!$H$2:$H$32706,Data!$A$2:$A$32706,$A134,Data!$D$2:$D$32706,I$3)","v":15.632999999999999},{"$f":"SUMIFS(Data!$H$2:$H$32706,Data!$A$2:$A$32706,$A134,Data!$D$2:$D$32706,J$3)","v":15.163},{"$f":"SUMIFS(Data!$H$2:$H$32706,Data!$A$2:$A$32706,$A134,Data!$D$2:$D$32706,K$3)","v":14.871},{"$f":"SUMIFS(Data!$H$2:$H$32706,Data!$A$2:$A$32706,$A134,Data!$D$2:$D$32706,L$3)","v":14.247999999999999},{"$f":"SUMIFS(Data!$H$2:$H$32706,Data!$A$2:$A$32706,$A134,Data!$D$2:$D$32706,M$3)","v":13.301},{"$f":"SUMIFS(Data!$H$2:$H$32706,Data!$A$2:$A$32706,$A134,Data!$D$2:$D$32706,N$3)","v":15.247},{"$f":"SUMIFS(Data!$H$2:$H$32706,Data!$A$2:$A$32706,$A134,Data!$D$2:$D$32706,O$3)","v":16.707999999999998},2,null,null,"+"]
[1160101,null,"Programme Budget - Trauma and Injuries - Total admissions per 1000 population across secondary care - Cost",null,{"$f":"SUMIFS(Data!$H$2:$H$32706,Data!$A$2:$A$32706,$A135,Data!$D$2:$D$32706,$E$3)","v":23127.22},{"$f":"SUMIFS(Data!$H$2:$H$32706,Data!$A$2:$A$32706,$A135,Data!$D$2:$D$32706,F$3)","v":24614.19},{"$f":"SUMIFS(Data!$H$2:$H$32706,Data!$A$2:$A$32706,$A135,Data!$D$2:$D$32706,G$3)","v":22651.14},{"$f":"SUMIFS(Data!$H$2:$H$32706,Data!$A$2:$A$32706,$A135,Data!$D$2:$D$32706,H$3)","v":25917.58},{"$f":"SUMIFS(Data!$H$2:$H$32706,Data!$A$2:$A$32706,$A135,Data!$D$2:$D$32706,I$3)","v":21324.51},{"$f":"SUMIFS(Data!$H$2:$H$32706,Data!$A$2:$A$32706,$A135,Data!$D$2:$D$32706,J$3)","v":23325.33},{"$f":"SUMIFS(Data!$H$2:$H$32706,Data!$A$2:$A$32706,$A135,Data!$D$2:$D$32706,K$3)","v":21819.71},{"$f":"SUMIFS(Data!$H$2:$H$32706,Data!$A$2:$A$32706,$A135,Data!$D$2:$D$32706,L$3)","v":27273.42},{"$f":"SUMIFS(Data!$H$2:$H$32706,Data!$A$2:$A$32706,$A135,Data!$D$2:$D$32706,M$3)","v":23434.29},{"$f":"SUMIFS(Data!$H$2:$H$32706,Data!$A$2:$A$32706,$A135,Data!$D$2:$D$32706,N$3)","v":21591.439999999999},{"$f":"SUMIFS(Data!$H$2:$H$32706,Data!$A$2:$A$32706,$A135,Data!$D$2:$D$32706,O$3)","v":22717.84},6,null,null,"-"]
[1160102,null,"Programme Budget - Trauma and Injuries - Total elective (IP + DC) admissions per 1000 population across secondary care - Cost",null,{"$f":"SUMIFS(Data!$H$2:$H$32706,Data!$A$2:$A$32706,$A136,Data!$D$2:$D$32706,$E$3)","v":2003.34},{"$f":"SUMIFS(Data!$H$2:$H$32706,Data!$A$2:$A$32706,$A136,Data!$D$2:$D$32706,F$3)","v":1262.78},{"$f":"SUMIFS(Data!$H$2:$H$32706,Data!$A$2:$A$32706,$A136,Data!$D$2:$D$32706,G$3)","v":2035.99},{"$f":"SUMIFS(Data!$H$2:$H$32706,Data!$A$2:$A$32706,$A136,Data!$D$2:$D$32706,H$3)","v":2001.62},{"$f":"SUMIFS(Data!$H$2:$H$32706,Data!$A$2:$A$32706,$A136,Data!$D$2:$D$32706,I$3)","v":2188.4699999999998},{"$f":"SUMIFS(Data!$H$2:$H$32706,Data!$A$2:$A$32706,$A136,Data!$D$2:$D$32706,J$3)","v":3158.38},{"$f":"SUMIFS(Data!$H$2:$H$32706,Data!$A$2:$A$32706,$A136,Data!$D$2:$D$32706,K$3)","v":2081.13},{"$f":"SUMIFS(Data!$H$2:$H$32706,Data!$A$2:$A$32706,$A136,Data!$D$2:$D$32706,L$3)","v":4543.17},{"$f":"SUMIFS(Data!$H$2:$H$32706,Data!$A$2:$A$32706,$A136,Data!$D$2:$D$32706,M$3)","v":3221.67},{"$f":"SUMIFS(Data!$H$2:$H$32706,Data!$A$2:$A$32706,$A136,Data!$D$2:$D$32706,N$3)","v":2381.02},{"$f":"SUMIFS(Data!$H$2:$H$32706,Data!$A$2:$A$32706,$A136,Data!$D$2:$D$32706,O$3)","v":2080.52},3,null,null,"-"]
[1160103,null,"Programme Budget - Trauma and Injuries - Non-elective (EM + ONEL) admissions per 1000 population across secondary care - Cost",null,{"$f":"SUMIFS(Data!$H$2:$H$32706,Data!$A$2:$A$32706,$A137,Data!$D$2:$D$32706,$E$3)","v":21055.95},{"$f":"SUMIFS(Data!$H$2:$H$32706,Data!$A$2:$A$32706,$A137,Data!$D$2:$D$32706,F$3)","v":23367.56},{"$f":"SUMIFS(Data!$H$2:$H$32706,Data!$A$2:$A$32706,$A137,Data!$D$2:$D$32706,G$3)","v":20546.939999999999},{"$f":"SUMIFS(Data!$H$2:$H$32706,Data!$A$2:$A$32706,$A137,Data!$D$2:$D$32706,H$3)","v":23886.18},{"$f":"SUMIFS(Data!$H$2:$H$32706,Data!$A$2:$A$32706,$A137,Data!$D$2:$D$32706,I$3)","v":19132.77},{"$f":"SUMIFS(Data!$H$2:$H$32706,Data!$A$2:$A$32706,$A137,Data!$D$2:$D$32706,J$3)","v":20207.22},{"$f":"SUMIFS(Data!$H$2:$H$32706,Data!$A$2:$A$32706,$A137,Data!$D$2:$D$32706,K$3)","v":19720.669999999998},{"$f":"SUMIFS(Data!$H$2:$H$32706,Data!$A$2:$A$32706,$A137,Data!$D$2:$D$32706,L$3)","v":22841.14},{"$f":"SUMIFS(Data!$H$2:$H$32706,Data!$A$2:$A$32706,$A137,Data!$D$2:$D$32706,M$3)","v":20277.05},{"$f":"SUMIFS(Data!$H$2:$H$32706,Data!$A$2:$A$32706,$A137,Data!$D$2:$D$32706,N$3)","v":19198.16},{"$f":"SUMIFS(Data!$H$2:$H$32706,Data!$A$2:$A$32706,$A137,Data!$D$2:$D$32706,O$3)","v":20603.400000000001},8,null,null,"-"]
[1160105,null,"Programme Budget - Trauma and Injuries - Cost prescribed per 1000 ASTRO-PU population - Cost",null,{"$f":"SUMIFS(Data!$H$2:$H$32706,Data!$A$2:$A$32706,$A138,Data!$D$2:$D$32706,$E$3)","v":1663.38},{"$f":"SUMIFS(Data!$H$2:$H$32706,Data!$A$2:$A$32706,$A138,Data!$D$2:$D$32706,F$3)","v":1675.18},{"$f":"SUMIFS(Data!$H$2:$H$32706,Data!$A$2:$A$32706,$A138,Data!$D$2:$D$32706,G$3)","v":2106.66},{"$f":"SUMIFS(Data!$H$2:$H$32706,Data!$A$2:$A$32706,$A138,Data!$D$2:$D$32706,H$3)","v":1804.3},{"$f":"SUMIFS(Data!$H$2:$H$32706,Data!$A$2:$A$32706,$A138,Data!$D$2:$D$32706,I$3)","v":2128.79},{"$f":"SUMIFS(Data!$H$2:$H$32706,Data!$A$2:$A$32706,$A138,Data!$D$2:$D$32706,J$3)","v":1791.13},{"$f":"SUMIFS(Data!$H$2:$H$32706,Data!$A$2:$A$32706,$A138,Data!$D$2:$D$32706,K$3)","v":1679.25},{"$f":"SUMIFS(Data!$H$2:$H$32706,Data!$A$2:$A$32706,$A138,Data!$D$2:$D$32706,L$3)","v":1652.62},{"$f":"SUMIFS(Data!$H$2:$H$32706,Data!$A$2:$A$32706,$A138,Data!$D$2:$D$32706,M$3)","v":1820.18},{"$f":"SUMIFS(Data!$H$2:$H$32706,Data!$A$2:$A$32706,$A138,Data!$D$2:$D$32706,N$3)","v":2009.58},{"$f":"SUMIFS(Data!$H$2:$H$32706,Data!$A$2:$A$32706,$A138,Data!$D$2:$D$32706,O$3)","v":2180.37},2,null,null,"-"]
[1160201,null,"Programme Budget - Trauma and Injuries - Total admissions per 1000 population across secondary care - Activity",null,{"$f":"SUMIFS(Data!$H$2:$H$32706,Data!$A$2:$A$32706,$A139,Data!$D$2:$D$32706,$E$3)","v":9.4600000000000009},{"$f":"SUMIFS(Data!$H$2:$H$32706,Data!$A$2:$A$32706,$A139,Data!$D$2:$D$32706,F$3)","v":11.4},{"$f":"SUMIFS(Data!$H$2:$H$32706,Data!$A$2:$A$32706,$A139,Data!$D$2:$D$32706,G$3)","v":9.5299999999999994},{"$f":"SUMIFS(Data!$H$2:$H$32706,Data!$A$2:$A$32706,$A139,Data!$D$2:$D$32706,H$3)","v":11.14},{"$f":"SUMIFS(Data!$H$2:$H$32706,Data!$A$2:$A$32706,$A139,Data!$D$2:$D$32706,I$3)","v":8.64},{"$f":"SUMIFS(Data!$H$2:$H$32706,Data!$A$2:$A$32706,$A139,Data!$D$2:$D$32706,J$3)","v":8.99},{"$f":"SUMIFS(Data!$H$2:$H$32706,Data!$A$2:$A$32706,$A139,Data!$D$2:$D$32706,K$3)","v":9.5399999999999991},{"$f":"SUMIFS(Data!$H$2:$H$32706,Data!$A$2:$A$32706,$A139,Data!$D$2:$D$32706,L$3)","v":10.88},{"$f":"SUMIFS(Data!$H$2:$H$32706,Data!$A$2:$A$32706,$A139,Data!$D$2:$D$32706,M$3)","v":8.86},{"$f":"SUMIFS(Data!$H$2:$H$32706,Data!$A$2:$A$32706,$A139,Data!$D$2:$D$32706,N$3)","v":8.75},{"$f":"SUMIFS(Data!$H$2:$H$32706,Data!$A$2:$A$32706,$A139,Data!$D$2:$D$32706,O$3)","v":9.68},5,null,null,"-"]
[1160202,null,"Programme Budget - Trauma and Injuries - Total elective (IP + DC) admissions per 1000 population across secondary care - Activity",null,{"$f":"SUMIFS(Data!$H$2:$H$32706,Data!$A$2:$A$32706,$A140,Data!$D$2:$D$32706,$E$3)","v":0.9},{"$f":"SUMIFS(Data!$H$2:$H$32706,Data!$A$2:$A$32706,$A140,Data!$D$2:$D$32706,F$3)","v":0.67},{"$f":"SUMIFS(Data!$H$2:$H$32706,Data!$A$2:$A$32706,$A140,Data!$D$2:$D$32706,G$3)","v":0.96},{"$f":"SUMIFS(Data!$H$2:$H$32706,Data!$A$2:$A$32706,$A140,Data!$D$2:$D$32706,H$3)","v":0.85},{"$f":"SUMIFS(Data!$H$2:$H$32706,Data!$A$2:$A$32706,$A140,Data!$D$2:$D$32706,I$3)","v":0.94},{"$f":"SUMIFS(Data!$H$2:$H$32706,Data!$A$2:$A$32706,$A140,Data!$D$2:$D$32706,J$3)","v":1.22},{"$f":"SUMIFS(Data!$H$2:$H$32706,Data!$A$2:$A$32706,$A140,Data!$D$2:$D$32706,K$3)","v":0.99},{"$f":"SUMIFS(Data!$H$2:$H$32706,Data!$A$2:$A$32706,$A140,Data!$D$2:$D$32706,L$3)","v":1.93},{"$f":"SUMIFS(Data!$H$2:$H$32706,Data!$A$2:$A$32706,$A140,Data!$D$2:$D$32706,M$3)","v":1.1100000000000001},{"$f":"SUMIFS(Data!$H$2:$H$32706,Data!$A$2:$A$32706,$A140,Data!$D$2:$D$32706,N$3)","v":0.95},{"$f":"SUMIFS(Data!$H$2:$H$32706,Data!$A$2:$A$32706,$A140,Data!$D$2:$D$32706,O$3)","v":1.02},3,null,null,"-"]
[1160203,null,"Programme Budget - Trauma and Injuries - Non-elective (EM + ONEL) admissions per 1000 population across secondary care - Activity",null,{"$f":"SUMIFS(Data!$H$2:$H$32706,Data!$A$2:$A$32706,$A141,Data!$D$2:$D$32706,$E$3)","v":8.5399999999999991},{"$f":"SUMIFS(Data!$H$2:$H$32706,Data!$A$2:$A$32706,$A141,Data!$D$2:$D$32706,F$3)","v":10.73},{"$f":"SUMIFS(Data!$H$2:$H$32706,Data!$A$2:$A$32706,$A141,Data!$D$2:$D$32706,G$3)","v":8.5299999999999994},{"$f":"SUMIFS(Data!$H$2:$H$32706,Data!$A$2:$A$32706,$A141,Data!$D$2:$D$32706,H$3)","v":10.26},{"$f":"SUMIFS(Data!$H$2:$H$32706,Data!$A$2:$A$32706,$A141,Data!$D$2:$D$32706,I$3)","v":7.69},{"$f":"SUMIFS(Data!$H$2:$H$32706,Data!$A$2:$A$32706,$A141,Data!$D$2:$D$32706,J$3)","v":7.77},{"$f":"SUMIFS(Data!$H$2:$H$32706,Data!$A$2:$A$32706,$A141,Data!$D$2:$D$32706,K$3)","v":8.5299999999999994},{"$f":"SUMIFS(Data!$H$2:$H$32706,Data!$A$2:$A$32706,$A141,Data!$D$2:$D$32706,L$3)","v":9.0299999999999994},{"$f":"SUMIFS(Data!$H$2:$H$32706,Data!$A$2:$A$32706,$A141,Data!$D$2:$D$32706,M$3)","v":7.75},{"$f":"SUMIFS(Data!$H$2:$H$32706,Data!$A$2:$A$32706,$A141,Data!$D$2:$D$32706,N$3)","v":7.79},{"$f":"SUMIFS(Data!$H$2:$H$32706,Data!$A$2:$A$32706,$A141,Data!$D$2:$D$32706,O$3)","v":8.66},7,null,null,"-"]
[1160311,null,"Mortality from accidents all yrs",null,{"$f":"SUMIFS(Data!$H$2:$H$32706,Data!$A$2:$A$32706,$A142,Data!$D$2:$D$32706,$E$3)","v":11.401110511437057},{"$f":"SUMIFS(Data!$H$2:$H$32706,Data!$A$2:$A$32706,$A142,Data!$D$2:$D$32706,F$3)","v":14.93395740700015},{"$f":"SUMIFS(Data!$H$2:$H$32706,Data!$A$2:$A$32706,$A142,Data!$D$2:$D$32706,G$3)","v":13.531312025138032},{"$f":"SUMIFS(Data!$H$2:$H$32706,Data!$A$2:$A$32706,$A142,Data!$D$2:$D$32706,H$3)","v":15.942399417322795},{"$f":"SUMIFS(Data!$H$2:$H$32706,Data!$A$2:$A$32706,$A142,Data!$D$2:$D$32706,I$3)","v":11.149789359748308},{"$f":"SUMIFS(Data!$H$2:$H$32706,Data!$A$2:$A$32706,$A142,Data!$D$2:$D$32706,J$3)","v":12.923394313523147},{"$f":"SUMIFS(Data!$H$2:$H$32706,Data!$A$2:$A$32706,$A142,Data!$D$2:$D$32706,K$3)","v":12.154821238292943},{"$f":"SUMIFS(Data!$H$2:$H$32706,Data!$A$2:$A$32706,$A142,Data!$D$2:$D$32706,L$3)","v":12.992433854027642},{"$f":"SUMIFS(Data!$H$2:$H$32706,Data!$A$2:$A$32706,$A142,Data!$D$2:$D$32706,M$3)","v":20.771133462402908},{"$f":"SUMIFS(Data!$H$2:$H$32706,Data!$A$2:$A$32706,$A142,Data!$D$2:$D$32706,N$3)","v":17.249503496226019},{"$f":"SUMIFS(Data!$H$2:$H$32706,Data!$A$2:$A$32706,$A142,Data!$D$2:$D$32706,O$3)","v":18.895190827135881},2,null,null,"-"]
[1170101,null,"Programme Budget - Genito Urinary - Total admissions per 1000 population across secondary care - Cost",null,{"$f":"SUMIFS(Data!$H$2:$H$32706,Data!$A$2:$A$32706,$A143,Data!$D$2:$D$32706,$E$3)","v":30306.89},{"$f":"SUMIFS(Data!$H$2:$H$32706,Data!$A$2:$A$32706,$A143,Data!$D$2:$D$32706,F$3)","v":26813.22},{"$f":"SUMIFS(Data!$H$2:$H$32706,Data!$A$2:$A$32706,$A143,Data!$D$2:$D$32706,G$3)","v":25697.75},{"$f":"SUMIFS(Data!$H$2:$H$32706,Data!$A$2:$A$32706,$A143,Data!$D$2:$D$32706,H$3)","v":25331.3},{"$f":"SUMIFS(Data!$H$2:$H$32706,Data!$A$2:$A$32706,$A143,Data!$D$2:$D$32706,I$3)","v":24297.41},{"$f":"SUMIFS(Data!$H$2:$H$32706,Data!$A$2:$A$32706,$A143,Data!$D$2:$D$32706,J$3)","v":22427.46},{"$f":"SUMIFS(Data!$H$2:$H$32706,Data!$A$2:$A$32706,$A143,Data!$D$2:$D$32706,K$3)","v":25260.99},{"$f":"SUMIFS(Data!$H$2:$H$32706,Data!$A$2:$A$32706,$A143,Data!$D$2:$D$32706,L$3)","v":25104.77},{"$f":"SUMIFS(Data!$H$2:$H$32706,Data!$A$2:$A$32706,$A143,Data!$D$2:$D$32706,M$3)","v":24269.03},{"$f":"SUMIFS(Data!$H$2:$H$32706,Data!$A$2:$A$32706,$A143,Data!$D$2:$D$32706,N$3)","v":24894.36},{"$f":"SUMIFS(Data!$H$2:$H$32706,Data!$A$2:$A$32706,$A143,Data!$D$2:$D$32706,O$3)","v":26889.34},11,null,null,"-"]
[1170102,null,"Programme Budget - Genito Urinary - Total elective (IP + DC) admissions per 1000 population across secondary care - Cost",null,{"$f":"SUMIFS(Data!$H$2:$H$32706,Data!$A$2:$A$32706,$A144,Data!$D$2:$D$32706,$E$3)","v":17297.75},{"$f":"SUMIFS(Data!$H$2:$H$32706,Data!$A$2:$A$32706,$A144,Data!$D$2:$D$32706,F$3)","v":11684.02},{"$f":"SUMIFS(Data!$H$2:$H$32706,Data!$A$2:$A$32706,$A144,Data!$D$2:$D$32706,G$3)","v":14742.59},{"$f":"SUMIFS(Data!$H$2:$H$32706,Data!$A$2:$A$32706,$A144,Data!$D$2:$D$32706,H$3)","v":10054.15},{"$f":"SUMIFS(Data!$H$2:$H$32706,Data!$A$2:$A$32706,$A144,Data!$D$2:$D$32706,I$3)","v":13298.02},{"$f":"SUMIFS(Data!$H$2:$H$32706,Data!$A$2:$A$32706,$A144,Data!$D$2:$D$32706,J$3)","v":11686.11},{"$f":"SUMIFS(Data!$H$2:$H$32706,Data!$A$2:$A$32706,$A144,Data!$D$2:$D$32706,K$3)","v":12188.11},{"$f":"SUMIFS(Data!$H$2:$H$32706,Data!$A$2:$A$32706,$A144,Data!$D$2:$D$32706,L$3)","v":10933.43},{"$f":"SUMIFS(Data!$H$2:$H$32706,Data!$A$2:$A$32706,$A144,Data!$D$2:$D$32706,M$3)","v":12462.97},{"$f":"SUMIFS(Data!$H$2:$H$32706,Data!$A$2:$A$32706,$A144,Data!$D$2:$D$32706,N$3)","v":12414.58},{"$f":"SUMIFS(Data!$H$2:$H$32706,Data!$A$2:$A$32706,$A144,Data!$D$2:$D$32706,O$3)","v":13505.27},11,null,null,"-"]
[1170103,null,"Programme Budget - Genito Urinary - Non-elective (EM + ONEL) admissions per 1000 population across secondary care - Cost",null,{"$f":"SUMIFS(Data!$H$2:$H$32706,Data!$A$2:$A$32706,$A145,Data!$D$2:$D$32706,$E$3)","v":13203.67},{"$f":"SUMIFS(Data!$H$2:$H$32706,Data!$A$2:$A$32706,$A145,Data!$D$2:$D$32706,F$3)","v":15165.95},{"$f":"SUMIFS(Data!$H$2:$H$32706,Data!$A$2:$A$32706,$A145,Data!$D$2:$D$32706,G$3)","v":11172.72},{"$f":"SUMIFS(Data!$H$2:$H$32706,Data!$A$2:$A$32706,$A145,Data!$D$2:$D$32706,H$3)","v":15266.8},{"$f":"SUMIFS(Data!$H$2:$H$32706,Data!$A$2:$A$32706,$A145,Data!$D$2:$D$32706,I$3)","v":10969.16},{"$f":"SUMIFS(Data!$H$2:$H$32706,Data!$A$2:$A$32706,$A145,Data!$D$2:$D$32706,J$3)","v":10799.66},{"$f":"SUMIFS(Data!$H$2:$H$32706,Data!$A$2:$A$32706,$A145,Data!$D$2:$D$32706,K$3)","v":13075.89},{"$f":"SUMIFS(Data!$H$2:$H$32706,Data!$A$2:$A$32706,$A145,Data!$D$2:$D$32706,L$3)","v":14137.38},{"$f":"SUMIFS(Data!$H$2:$H$32706,Data!$A$2:$A$32706,$A145,Data!$D$2:$D$32706,M$3)","v":11922.36},{"$f":"SUMIFS(Data!$H$2:$H$32706,Data!$A$2:$A$32706,$A145,Data!$D$2:$D$32706,N$3)","v":12518.62},{"$f":"SUMIFS(Data!$H$2:$H$32706,Data!$A$2:$A$32706,$A145,Data!$D$2:$D$32706,O$3)","v":13403.63},7,null,null,"-"]
[1170105,null,"Programme Budget - Genito Urinary - Cost prescribed per 1000 ASTRO-PU population - Cost",null,{"$f":"SUMIFS(Data!$H$2:$H$32706,Data!$A$2:$A$32706,$A146,Data!$D$2:$D$32706,$E$3)","v":7694.75},{"$f":"SUMIFS(Data!$H$2:$H$32706,Data!$A$2:$A$32706,$A146,Data!$D$2:$D$32706,F$3)","v":7556.1},{"$f":"SUMIFS(Data!$H$2:$H$32706,Data!$A$2:$A$32706,$A146,Data!$D$2:$D$32706,G$3)","v":7071.49},{"$f":"SUMIFS(Data!$H$2:$H$32706,Data!$A$2:$A$32706,$A146,Data!$D$2:$D$32706,H$3)","v":6968.21},{"$f":"SUMIFS(Data!$H$2:$H$32706,Data!$A$2:$A$32706,$A146,Data!$D$2:$D$32706,I$3)","v":7212.04},{"$f":"SUMIFS(Data!$H$2:$H$32706,Data!$A$2:$A$32706,$A146,Data!$D$2:$D$32706,J$3)","v":7872.51},{"$f":"SUMIFS(Data!$H$2:$H$32706,Data!$A$2:$A$32706,$A146,Data!$D$2:$D$32706,K$3)","v":6504.22},{"$f":"SUMIFS(Data!$H$2:$H$32706,Data!$A$2:$A$32706,$A146,Data!$D$2:$D$32706,L$3)","v":6892.38},{"$f":"SUMIFS(Data!$H$2:$H$32706,Data!$A$2:$A$32706,$A146,Data!$D$2:$D$32706,M$3)","v":7041.43},{"$f":"SUMIFS(Data!$H$2:$H$32706,Data!$A$2:$A$32706,$A146,Data!$D$2:$D$32706,N$3)","v":7507.01},{"$f":"SUMIFS(Data!$H$2:$H$32706,Data!$A$2:$A$32706,$A146,Data!$D$2:$D$32706,O$3)","v":6677.12},10,null,null,"-"]
[1170201,null,"Programme Budget - Genito Urinary - Total admissions per 1000 population across secondary care - Activity",null,{"$f":"SUMIFS(Data!$H$2:$H$32706,Data!$A$2:$A$32706,$A147,Data!$D$2:$D$32706,$E$3)","v":26.17},{"$f":"SUMIFS(Data!$H$2:$H$32706,Data!$A$2:$A$32706,$A147,Data!$D$2:$D$32706,F$3)","v":19.059999999999999},{"$f":"SUMIFS(Data!$H$2:$H$32706,Data!$A$2:$A$32706,$A147,Data!$D$2:$D$32706,G$3)","v":21.54},{"$f":"SUMIFS(Data!$H$2:$H$32706,Data!$A$2:$A$32706,$A147,Data!$D$2:$D$32706,H$3)","v":17.309999999999999},{"$f":"SUMIFS(Data!$H$2:$H$32706,Data!$A$2:$A$32706,$A147,Data!$D$2:$D$32706,I$3)","v":18.98},{"$f":"SUMIFS(Data!$H$2:$H$32706,Data!$A$2:$A$32706,$A147,Data!$D$2:$D$32706,J$3)","v":20.239999999999998},{"$f":"SUMIFS(Data!$H$2:$H$32706,Data!$A$2:$A$32706,$A147,Data!$D$2:$D$32706,K$3)","v":19.579999999999998},{"$f":"SUMIFS(Data!$H$2:$H$32706,Data!$A$2:$A$32706,$A147,Data!$D$2:$D$32706,L$3)","v":18.47},{"$f":"SUMIFS(Data!$H$2:$H$32706,Data!$A$2:$A$32706,$A147,Data!$D$2:$D$32706,M$3)","v":20.079999999999998},{"$f":"SUMIFS(Data!$H$2:$H$32706,Data!$A$2:$A$32706,$A147,Data!$D$2:$D$32706,N$3)","v":18.170000000000002},{"$f":"SUMIFS(Data!$H$2:$H$32706,Data!$A$2:$A$32706,$A147,Data!$D$2:$D$32706,O$3)","v":22.14},11,null,null,"-"]
[1170202,null,"Programme Budget - Genito Urinary - Total elective (IP + DC) admissions per 1000 population across secondary care - Activity",null,{"$f":"SUMIFS(Data!$H$2:$H$32706,Data!$A$2:$A$32706,$A148,Data!$D$2:$D$32706,$E$3)","v":19.18},{"$f":"SUMIFS(Data!$H$2:$H$32706,Data!$A$2:$A$32706,$A148,Data!$D$2:$D$32706,F$3)","v":11.71},{"$f":"SUMIFS(Data!$H$2:$H$32706,Data!$A$2:$A$32706,$A148,Data!$D$2:$D$32706,G$3)","v":14.77},{"$f":"SUMIFS(Data!$H$2:$H$32706,Data!$A$2:$A$32706,$A148,Data!$D$2:$D$32706,H$3)","v":10.08},{"$f":"SUMIFS(Data!$H$2:$H$32706,Data!$A$2:$A$32706,$A148,Data!$D$2:$D$32706,I$3)","v":12.82},{"$f":"SUMIFS(Data!$H$2:$H$32706,Data!$A$2:$A$32706,$A148,Data!$D$2:$D$32706,J$3)","v":14.4},{"$f":"SUMIFS(Data!$H$2:$H$32706,Data!$A$2:$A$32706,$A148,Data!$D$2:$D$32706,K$3)","v":12.93},{"$f":"SUMIFS(Data!$H$2:$H$32706,Data!$A$2:$A$32706,$A148,Data!$D$2:$D$32706,L$3)","v":12.18},{"$f":"SUMIFS(Data!$H$2:$H$32706,Data!$A$2:$A$32706,$A148,Data!$D$2:$D$32706,M$3)","v":13.97},{"$f":"SUMIFS(Data!$H$2:$H$32706,Data!$A$2:$A$32706,$A148,Data!$D$2:$D$32706,N$3)","v":12.3},{"$f":"SUMIFS(Data!$H$2:$H$32706,Data!$A$2:$A$32706,$A148,Data!$D$2:$D$32706,O$3)","v":15.38},11,null,null,"-"]
[1170203,null,"Programme Budget - Genito Urinary - Non-elective (EM + ONEL) admissions per 1000 population across secondary care - Activity",null,{"$f":"SUMIFS(Data!$H$2:$H$32706,Data!$A$2:$A$32706,$A149,Data!$D$2:$D$32706,$E$3)","v":6.98},{"$f":"SUMIFS(Data!$H$2:$H$32706,Data!$A$2:$A$32706,$A149,Data!$D$2:$D$32706,F$3)","v":7.4},{"$f":"SUMIFS(Data!$H$2:$H$32706,Data!$A$2:$A$32706,$A149,Data!$D$2:$D$32706,G$3)","v":6.79},{"$f":"SUMIFS(Data!$H$2:$H$32706,Data!$A$2:$A$32706,$A149,Data!$D$2:$D$32706,H$3)","v":7.24},{"$f":"SUMIFS(Data!$H$2:$H$32706,Data!$A$2:$A$32706,$A149,Data!$D$2:$D$32706,I$3)","v":6.17},{"$f":"SUMIFS(Data!$H$2:$H$32706,Data!$A$2:$A$32706,$A149,Data!$D$2:$D$32706,J$3)","v":5.83},{"$f":"SUMIFS(Data!$H$2:$H$32706,Data!$A$2:$A$32706,$A149,Data!$D$2:$D$32706,K$3)","v":6.66},{"$f":"SUMIFS(Data!$H$2:$H$32706,Data!$A$2:$A$32706,$A149,Data!$D$2:$D$32706,L$3)","v":6.3},{"$f":"SUMIFS(Data!$H$2:$H$32706,Data!$A$2:$A$32706,$A149,Data!$D$2:$D$32706,M$3)","v":6.15},{"$f":"SUMIFS(Data!$H$2:$H$32706,Data!$A$2:$A$32706,$A149,Data!$D$2:$D$32706,N$3)","v":5.86},{"$f":"SUMIFS(Data!$H$2:$H$32706,Data!$A$2:$A$32706,$A149,Data!$D$2:$D$32706,O$3)","v":6.77},9,null,null,"-"]
[1170312,null,"CKD05: The percentage of patients on the CKD register with hypertension and proteinuria who are treated with an angiotensin converting enzyme inhibitor (ACE-I) or angiotensin receptor blocker (ARB) (unless a contraindication or side effects are recorded)",null,{"$f":"SUMIFS(Data!$H$2:$H$32706,Data!$A$2:$A$32706,$A150,Data!$D$2:$D$32706,$E$3)","v":79.228486646884278},{"$f":"SUMIFS(Data!$H$2:$H$32706,Data!$A$2:$A$32706,$A150,Data!$D$2:$D$32706,F$3)","v":83.993115318416528},{"$f":"SUMIFS(Data!$H$2:$H$32706,Data!$A$2:$A$32706,$A150,Data!$D$2:$D$32706,G$3)","v":76.587795765877956},{"$f":"SUMIFS(Data!$H$2:$H$32706,Data!$A$2:$A$32706,$A150,Data!$D$2:$D$32706,H$3)","v":78.94736842105263},{"$f":"SUMIFS(Data!$H$2:$H$32706,Data!$A$2:$A$32706,$A150,Data!$D$2:$D$32706,I$3)","v":64.839319470699436},{"$f":"SUMIFS(Data!$H$2:$H$32706,Data!$A$2:$A$32706,$A150,Data!$D$2:$D$32706,J$3)","v":79.60526315789474},{"$f":"SUMIFS(Data!$H$2:$H$32706,Data!$A$2:$A$32706,$A150,Data!$D$2:$D$32706,K$3)","v":81.467181467181476},{"$f":"SUMIFS(Data!$H$2:$H$32706,Data!$A$2:$A$32706,$A150,Data!$D$2:$D$32706,L$3)","v":80.11363636363636},{"$f":"SUMIFS(Data!$H$2:$H$32706,Data!$A$2:$A$32706,$A150,Data!$D$2:$D$32706,M$3)","v":81.010719754977032},{"$f":"SUMIFS(Data!$H$2:$H$32706,Data!$A$2:$A$32706,$A150,Data!$D$2:$D$32706,N$3)","v":76.583210603829173},{"$f":"SUMIFS(Data!$H$2:$H$32706,Data!$A$2:$A$32706,$A150,Data!$D$2:$D$32706,O$3)","v":74.534161490683232},6,null,null,"+"]
[1170314,null,"CKD03: % patients on CKD register, whom the last blood pressure reading, measured in the preceding 15 months, is 140/85 or less",null,{"$f":"SUMIFS(Data!$H$2:$H$32706,Data!$A$2:$A$32706,$A151,Data!$D$2:$D$32706,$E$3)","v":68.513489045808441},{"$f":"SUMIFS(Data!$H$2:$H$32706,Data!$A$2:$A$32706,$A151,Data!$D$2:$D$32706,F$3)","v":69.859379145661975},{"$f":"SUMIFS(Data!$H$2:$H$32706,Data!$A$2:$A$32706,$A151,Data!$D$2:$D$32706,G$3)","v":69.364084788694839},{"$f":"SUMIFS(Data!$H$2:$H$32706,Data!$A$2:$A$32706,$A151,Data!$D$2:$D$32706,H$3)","v":70.432692307692307},{"$f":"SUMIFS(Data!$H$2:$H$32706,Data!$A$2:$A$32706,$A151,Data!$D$2:$D$32706,I$3)","v":72.090143635463093},{"$f":"SUMIFS(Data!$H$2:$H$32706,Data!$A$2:$A$32706,$A151,Data!$D$2:$D$32706,J$3)","v":70.976509415647442},{"$f":"SUMIFS(Data!$H$2:$H$32706,Data!$A$2:$A$32706,$A151,Data!$D$2:$D$32706,K$3)","v":71.380763510163618},{"$f":"SUMIFS(Data!$H$2:$H$32706,Data!$A$2:$A$32706,$A151,Data!$D$2:$D$32706,L$3)","v":69.108380592312528},{"$f":"SUMIFS(Data!$H$2:$H$32706,Data!$A$2:$A$32706,$A151,Data!$D$2:$D$32706,M$3)","v":69.602732338666186},{"$f":"SUMIFS(Data!$H$2:$H$32706,Data!$A$2:$A$32706,$A151,Data!$D$2:$D$32706,N$3)","v":69.243238631516078},{"$f":"SUMIFS(Data!$H$2:$H$32706,Data!$A$2:$A$32706,$A151,Data!$D$2:$D$32706,O$3)","v":69.618377176732125},11,null,null,"+"]
[1180101,null,"Programme Budget - Maternity - Total admissions per 1000 population across secondary care - Cost",null,{"$f":"SUMIFS(Data!$H$2:$H$32706,Data!$A$2:$A$32706,$A152,Data!$D$2:$D$32706,$E$3)","v":40073.089999999997},{"$f":"SUMIFS(Data!$H$2:$H$32706,Data!$A$2:$A$32706,$A152,Data!$D$2:$D$32706,F$3)","v":35853.360000000001},{"$f":"SUMIFS(Data!$H$2:$H$32706,Data!$A$2:$A$32706,$A152,Data!$D$2:$D$32706,G$3)","v":28348.29},{"$f":"SUMIFS(Data!$H$2:$H$32706,Data!$A$2:$A$32706,$A152,Data!$D$2:$D$32706,H$3)","v":37982.5},{"$f":"SUMIFS(Data!$H$2:$H$32706,Data!$A$2:$A$32706,$A152,Data!$D$2:$D$32706,I$3)","v":28927.360000000001},{"$f":"SUMIFS(Data!$H$2:$H$32706,Data!$A$2:$A$32706,$A152,Data!$D$2:$D$32706,J$3)","v":26315.7},{"$f":"SUMIFS(Data!$H$2:$H$32706,Data!$A$2:$A$32706,$A152,Data!$D$2:$D$32706,K$3)","v":29245.919999999998},{"$f":"SUMIFS(Data!$H$2:$H$32706,Data!$A$2:$A$32706,$A152,Data!$D$2:$D$32706,L$3)","v":30706.03},{"$f":"SUMIFS(Data!$H$2:$H$32706,Data!$A$2:$A$32706,$A152,Data!$D$2:$D$32706,M$3)","v":31446.31},{"$f":"SUMIFS(Data!$H$2:$H$32706,Data!$A$2:$A$32706,$A152,Data!$D$2:$D$32706,N$3)","v":27889.95},{"$f":"SUMIFS(Data!$H$2:$H$32706,Data!$A$2:$A$32706,$A152,Data!$D$2:$D$32706,O$3)","v":27554.31},11,null,null,"-"]
[1180102,null,"Programme Budget - Maternity - Total elective (IP + DC) admissions per 1000 population across secondary care - Cost",null,{"$f":"SUMIFS(Data!$H$2:$H$32706,Data!$A$2:$A$32706,$A153,Data!$D$2:$D$32706,$E$3)","v":5319.27},{"$f":"SUMIFS(Data!$H$2:$H$32706,Data!$A$2:$A$32706,$A153,Data!$D$2:$D$32706,F$3)","v":2637.64},{"$f":"SUMIFS(Data!$H$2:$H$32706,Data!$A$2:$A$32706,$A153,Data!$D$2:$D$32706,G$3)","v":673.22},{"$f":"SUMIFS(Data!$H$2:$H$32706,Data!$A$2:$A$32706,$A153,Data!$D$2:$D$32706,H$3)","v":1836.87},{"$f":"SUMIFS(Data!$H$2:$H$32706,Data!$A$2:$A$32706,$A153,Data!$D$2:$D$32706,I$3)","v":625.27},{"$f":"SUMIFS(Data!$H$2:$H$32706,Data!$A$2:$A$32706,$A153,Data!$D$2:$D$32706,J$3)","v":3314},{"$f":"SUMIFS(Data!$H$2:$H$32706,Data!$A$2:$A$32706,$A153,Data!$D$2:$D$32706,K$3)","v":1655.28},{"$f":"SUMIFS(Data!$H$2:$H$32706,Data!$A$2:$A$32706,$A153,Data!$D$2:$D$32706,L$3)","v":2101.88},{"$f":"SUMIFS(Data!$H$2:$H$32706,Data!$A$2:$A$32706,$A153,Data!$D$2:$D$32706,M$3)","v":2285.7199999999998},{"$f":"SUMIFS(Data!$H$2:$H$32706,Data!$A$2:$A$32706,$A153,Data!$D$2:$D$32706,N$3)","v":866.77},{"$f":"SUMIFS(Data!$H$2:$H$32706,Data!$A$2:$A$32706,$A153,Data!$D$2:$D$32706,O$3)","v":1485.11},11,null,null,"-"]
[1180103,null,"Programme Budget - Maternity - Non-elective (EM + ONEL) admissions per 1000 population across secondary care - Cost",null,{"$f":"SUMIFS(Data!$H$2:$H$32706,Data!$A$2:$A$32706,$A154,Data!$D$2:$D$32706,$E$3)","v":34655.379999999997},{"$f":"SUMIFS(Data!$H$2:$H$32706,Data!$A$2:$A$32706,$A154,Data!$D$2:$D$32706,F$3)","v":33198.699999999997},{"$f":"SUMIFS(Data!$H$2:$H$32706,Data!$A$2:$A$32706,$A154,Data!$D$2:$D$32706,G$3)","v":27694.34},{"$f":"SUMIFS(Data!$H$2:$H$32706,Data!$A$2:$A$32706,$A154,Data!$D$2:$D$32706,H$3)","v":36147.5},{"$f":"SUMIFS(Data!$H$2:$H$32706,Data!$A$2:$A$32706,$A154,Data!$D$2:$D$32706,I$3)","v":28320.77},{"$f":"SUMIFS(Data!$H$2:$H$32706,Data!$A$2:$A$32706,$A154,Data!$D$2:$D$32706,J$3)","v":22927.62},{"$f":"SUMIFS(Data!$H$2:$H$32706,Data!$A$2:$A$32706,$A154,Data!$D$2:$D$32706,K$3)","v":27588.21},{"$f":"SUMIFS(Data!$H$2:$H$32706,Data!$A$2:$A$32706,$A154,Data!$D$2:$D$32706,L$3)","v":28579.33},{"$f":"SUMIFS(Data!$H$2:$H$32706,Data!$A$2:$A$32706,$A154,Data!$D$2:$D$32706,M$3)","v":29138.39},{"$f":"SUMIFS(Data!$H$2:$H$32706,Data!$A$2:$A$32706,$A154,Data!$D$2:$D$32706,N$3)","v":27039.37},{"$f":"SUMIFS(Data!$H$2:$H$32706,Data!$A$2:$A$32706,$A154,Data!$D$2:$D$32706,O$3)","v":26065.51},10,null,null,"-"]
[1180105,null,"Programme Budget - Maternity - Cost prescribed per 1000 ASTRO-PU population - Cost",null,{"$f":"SUMIFS(Data!$H$2:$H$32706,Data!$A$2:$A$32706,$A155,Data!$D$2:$D$32706,$E$3)","v":1499.36},{"$f":"SUMIFS(Data!$H$2:$H$32706,Data!$A$2:$A$32706,$A155,Data!$D$2:$D$32706,F$3)","v":1615.13},{"$f":"SUMIFS(Data!$H$2:$H$32706,Data!$A$2:$A$32706,$A155,Data!$D$2:$D$32706,G$3)","v":1211.69},{"$f":"SUMIFS(Data!$H$2:$H$32706,Data!$A$2:$A$32706,$A155,Data!$D$2:$D$32706,H$3)","v":1558.9},{"$f":"SUMIFS(Data!$H$2:$H$32706,Data!$A$2:$A$32706,$A155,Data!$D$2:$D$32706,I$3)","v":1782.06},{"$f":"SUMIFS(Data!$H$2:$H$32706,Data!$A$2:$A$32706,$A155,Data!$D$2:$D$32706,J$3)","v":1943.42},{"$f":"SUMIFS(Data!$H$2:$H$32706,Data!$A$2:$A$32706,$A155,Data!$D$2:$D$32706,K$3)","v":1728.13},{"$f":"SUMIFS(Data!$H$2:$H$32706,Data!$A$2:$A$32706,$A155,Data!$D$2:$D$32706,L$3)","v":1613.3},{"$f":"SUMIFS(Data!$H$2:$H$32706,Data!$A$2:$A$32706,$A155,Data!$D$2:$D$32706,M$3)","v":1113.02},{"$f":"SUMIFS(Data!$H$2:$H$32706,Data!$A$2:$A$32706,$A155,Data!$D$2:$D$32706,N$3)","v":1385.19},{"$f":"SUMIFS(Data!$H$2:$H$32706,Data!$A$2:$A$32706,$A155,Data!$D$2:$D$32706,O$3)","v":1636.61},{"$f":"IF(S155=\"-\",RANK(E155,E155:O155,1),RANK(E155,E155:O155,0))","v":4},null,null,"-"]
[1180201,null,"Programme Budget - Maternity - Total admissions per 1000 population across secondary care - Activity",null,{"$f":"SUMIFS(Data!$H$2:$H$32706,Data!$A$2:$A$32706,$A156,Data!$D$2:$D$32706,$E$3)","v":46.41},{"$f":"SUMIFS(Data!$H$2:$H$32706,Data!$A$2:$A$32706,$A156,Data!$D$2:$D$32706,F$3)","v":39.79},{"$f":"SUMIFS(Data!$H$2:$H$32706,Data!$A$2:$A$32706,$A156,Data!$D$2:$D$32706,G$3)","v":20.02},{"$f":"SUMIFS(Data!$H$2:$H$32706,Data!$A$2:$A$32706,$A156,Data!$D$2:$D$32706,H$3)","v":35.43},{"$f":"SUMIFS(Data!$H$2:$H$32706,Data!$A$2:$A$32706,$A156,Data!$D$2:$D$32706,I$3)","v":20.64},{"$f":"SUMIFS(Data!$H$2:$H$32706,Data!$A$2:$A$32706,$A156,Data!$D$2:$D$32706,J$3)","v":19.190000000000001},{"$f":"SUMIFS(Data!$H$2:$H$32706,Data!$A$2:$A$32706,$A156,Data!$D$2:$D$32706,K$3)","v":18.940000000000001},{"$f":"SUMIFS(Data!$H$2:$H$32706,Data!$A$2:$A$32706,$A156,Data!$D$2:$D$32706,L$3)","v":28.44},{"$f":"SUMIFS(Data!$H$2:$H$32706,Data!$A$2:$A$32706,$A156,Data!$D$2:$D$32706,M$3)","v":27.07},{"$f":"SUMIFS(Data!$H$2:$H$32706,Data!$A$2:$A$32706,$A156,Data!$D$2:$D$32706,N$3)","v":21.06},{"$f":"SUMIFS(Data!$H$2:$H$32706,Data!$A$2:$A$32706,$A156,Data!$D$2:$D$32706,O$3)","v":24.27},11,null,null,"-"]
[1180202,null,"Programme Budget - Maternity - Total elective (IP + DC) admissions per 1000 population across secondary care - Activity",null,{"$f":"SUMIFS(Data!$H$2:$H$32706,Data!$A$2:$A$32706,$A157,Data!$D$2:$D$32706,$E$3)","v":9.85},{"$f":"SUMIFS(Data!$H$2:$H$32706,Data!$A$2:$A$32706,$A157,Data!$D$2:$D$32706,F$3)","v":4.9000000000000004},{"$f":"SUMIFS(Data!$H$2:$H$32706,Data!$A$2:$A$32706,$A157,Data!$D$2:$D$32706,G$3)","v":0.95},{"$f":"SUMIFS(Data!$H$2:$H$32706,Data!$A$2:$A$32706,$A157,Data!$D$2:$D$32706,H$3)","v":3.22},{"$f":"SUMIFS(Data!$H$2:$H$32706,Data!$A$2:$A$32706,$A157,Data!$D$2:$D$32706,I$3)","v":0.9},{"$f":"SUMIFS(Data!$H$2:$H$32706,Data!$A$2:$A$32706,$A157,Data!$D$2:$D$32706,J$3)","v":3.74},{"$f":"SUMIFS(Data!$H$2:$H$32706,Data!$A$2:$A$32706,$A157,Data!$D$2:$D$32706,K$3)","v":2.04},{"$f":"SUMIFS(Data!$H$2:$H$32706,Data!$A$2:$A$32706,$A157,Data!$D$2:$D$32706,L$3)","v":3.5},{"$f":"SUMIFS(Data!$H$2:$H$32706,Data!$A$2:$A$32706,$A157,Data!$D$2:$D$32706,M$3)","v":4.25},{"$f":"SUMIFS(Data!$H$2:$H$32706,Data!$A$2:$A$32706,$A157,Data!$D$2:$D$32706,N$3)","v":1.44},{"$f":"SUMIFS(Data!$H$2:$H$32706,Data!$A$2:$A$32706,$A157,Data!$D$2:$D$32706,O$3)","v":2.2999999999999998},11,null,null,"-"]
[1180203,null,"Programme Budget - Maternity - Non-elective (EM + ONEL) admissions per 1000 population across secondary care - Activity",null,{"$f":"SUMIFS(Data!$H$2:$H$32706,Data!$A$2:$A$32706,$A158,Data!$D$2:$D$32706,$E$3)","v":36.42},{"$f":"SUMIFS(Data!$H$2:$H$32706,Data!$A$2:$A$32706,$A158,Data!$D$2:$D$32706,F$3)","v":34.86},{"$f":"SUMIFS(Data!$H$2:$H$32706,Data!$A$2:$A$32706,$A158,Data!$D$2:$D$32706,G$3)","v":19.100000000000001},{"$f":"SUMIFS(Data!$H$2:$H$32706,Data!$A$2:$A$32706,$A158,Data!$D$2:$D$32706,H$3)","v":32.229999999999997},{"$f":"SUMIFS(Data!$H$2:$H$32706,Data!$A$2:$A$32706,$A158,Data!$D$2:$D$32706,I$3)","v":19.760000000000002},{"$f":"SUMIFS(Data!$H$2:$H$32706,Data!$A$2:$A$32706,$A158,Data!$D$2:$D$32706,J$3)","v":15.38},{"$f":"SUMIFS(Data!$H$2:$H$32706,Data!$A$2:$A$32706,$A158,Data!$D$2:$D$32706,K$3)","v":16.89},{"$f":"SUMIFS(Data!$H$2:$H$32706,Data!$A$2:$A$32706,$A158,Data!$D$2:$D$32706,L$3)","v":24.97},{"$f":"SUMIFS(Data!$H$2:$H$32706,Data!$A$2:$A$32706,$A158,Data!$D$2:$D$32706,M$3)","v":22.74},{"$f":"SUMIFS(Data!$H$2:$H$32706,Data!$A$2:$A$32706,$A158,Data!$D$2:$D$32706,N$3)","v":19.64},{"$f":"SUMIFS(Data!$H$2:$H$32706,Data!$A$2:$A$32706,$A158,Data!$D$2:$D$32706,O$3)","v":21.98},11,null,null,"-"]
[1180311,null,"Percentage (%) of live and still births <2500 grams",null,{"$f":"SUMIFS(Data!$H$2:$H$32706,Data!$A$2:$A$32706,$A159,Data!$D$2:$D$32706,$E$3)","v":8.5386108490111887},{"$f":"SUMIFS(Data!$H$2:$H$32706,Data!$A$2:$A$32706,$A159,Data!$D$2:$D$32706,F$3)","v":7.6138001509391513},{"$f":"SUMIFS(Data!$H$2:$H$32706,Data!$A$2:$A$32706,$A159,Data!$D$2:$D$32706,G$3)","v":7.6146320164867776},{"$f":"SUMIFS(Data!$H$2:$H$32706,Data!$A$2:$A$32706,$A159,Data!$D$2:$D$32706,H$3)","v":8.59557476618102},{"$f":"SUMIFS(Data!$H$2:$H$32706,Data!$A$2:$A$32706,$A159,Data!$D$2:$D$32706,I$3)","v":4.9157144476104131},{"$f":"SUMIFS(Data!$H$2:$H$32706,Data!$A$2:$A$32706,$A159,Data!$D$2:$D$32706,J$3)","v":5.8142440748935966},{"$f":"SUMIFS(Data!$H$2:$H$32706,Data!$A$2:$A$32706,$A159,Data!$D$2:$D$32706,K$3)","v":6.6693689562902474},{"$f":"SUMIFS(Data!$H$2:$H$32706,Data!$A$2:$A$32706,$A159,Data!$D$2:$D$32706,L$3)","v":5.72204046891322},{"$f":"SUMIFS(Data!$H$2:$H$32706,Data!$A$2:$A$32706,$A159,Data!$D$2:$D$32706,M$3)","v":7.2384523149911697},{"$f":"SUMIFS(Data!$H$2:$H$32706,Data!$A$2:$A$32706,$A159,Data!$D$2:$D$32706,N$3)","v":7.106844050612156},{"$f":"SUMIFS(Data!$H$2:$H$32706,Data!$A$2:$A$32706,$A159,Data!$D$2:$D$32706,O$3)","v":7.618290797201051},10,null,null,"-"]
[1180312,null,"Teenage conceptions (aged under 18): rates per 1,000 females aged 15-17",null,{"$f":"SUMIFS(Data!$H$2:$H$32706,Data!$A$2:$A$32706,$A160,Data!$D$2:$D$32706,$E$3)","v":30.57930138067821},{"$f":"SUMIFS(Data!$H$2:$H$32706,Data!$A$2:$A$32706,$A160,Data!$D$2:$D$32706,F$3)","v":40.894754630128766},{"$f":"SUMIFS(Data!$H$2:$H$32706,Data!$A$2:$A$32706,$A160,Data!$D$2:$D$32706,G$3)","v":40.131834852771661},{"$f":"SUMIFS(Data!$H$2:$H$32706,Data!$A$2:$A$32706,$A160,Data!$D$2:$D$32706,H$3)","v":35.223919961247539},{"$f":"SUMIFS(Data!$H$2:$H$32706,Data!$A$2:$A$32706,$A160,Data!$D$2:$D$32706,I$3)","v":35.653781893537108},{"$f":"SUMIFS(Data!$H$2:$H$32706,Data!$A$2:$A$32706,$A160,Data!$D$2:$D$32706,J$3)","v":16.538803883835946},{"$f":"SUMIFS(Data!$H$2:$H$32706,Data!$A$2:$A$32706,$A160,Data!$D$2:$D$32706,K$3)","v":28.132601643820617},{"$f":"SUMIFS(Data!$H$2:$H$32706,Data!$A$2:$A$32706,$A160,Data!$D$2:$D$32706,L$3)","v":28.088069795334079},{"$f":"SUMIFS(Data!$H$2:$H$32706,Data!$A$2:$A$32706,$A160,Data!$D$2:$D$32706,M$3)","v":45.997485022682426},{"$f":"SUMIFS(Data!$H$2:$H$32706,Data!$A$2:$A$32706,$A160,Data!$D$2:$D$32706,N$3)","v":31.390032315806732},{"$f":"SUMIFS(Data!$H$2:$H$32706,Data!$A$2:$A$32706,$A160,Data!$D$2:$D$32706,O$3)","v":34.236274678245664},4,null,null,"-"]
[null,null,null,null,null,null,null,null,null,null,null,null,null,null,"Average Rank (out of 11)",{"$f":"AVERAGE(P6:P160)","v":7.032258064516129}]
[null,null,null,null,null,50,"This symbol denotes the best five of the similar ten CCGs for each indicator. Where two values are the same, the best six may be shown instead."]