{"text_format":"1","workbook":"xlsx","n_sheets":4,"sheets":["Version","Instructions","Front sheet","Work sheet 1"],"not_rendered":{"charts":2,"images":16,"macros":1,"external_links":0,"defined_names":66,"comments":0,"pivot_tables":0},"unopened":[],"bounds":{"document_bytes":16777216,"sheet_cells":100000,"rows_first":2000,"rows_last":500,"rows_between":2000,"halvings":0,"cell_chars":16384,"cell_head_chars":4096},"cells_cut":0,"cells_raw":0,"read":"whole","date_system":"1900"}

{"sheet":"Version","index":0,"n_rows":26,"n_cols":4,"rows_kept":26,"cut":false,"hidden":false,"merged":[[20,3,20,8],[23,3,23,8],[18,3,18,8],[13,3,13,8],[14,3,14,8],[15,3,15,8],[16,3,16,8],[17,3,17,8],[25,3,25,8],[24,3,24,8],[22,3,22,8],[1,1,1,6],[4,3,4,8],[5,3,5,8],[6,3,6,8],[7,3,7,8],[8,3,8,8],[9,3,9,8],[10,3,10,8],[11,3,11,8],[12,3,12,8],[2,1,2,8],[21,3,21,8],[19,3,19,8]]}
[]
[null,"SPC XmR tool: versions"]
[null,"For queries and feedback, please email england.improvementanalyticsteam@nhs.net and quote the tool name and version number"]
[]
[null,"Version number","Date"]
[null,"V1.0"]
[null,"V2.0"]
[null,"V3.0"]
[null,"V4.0",44445,"*new functions added\n- additional duration option added (fortnightly and 4 weekly)\n- Neither purple icon\n- amendment to the 2 out of 3 rule (all 3 data points that are included within the rule are required to be on the same side of the mean beyond 2 sigma and within 3 sigma limits)\n"]
[null,"V4.1",44477,"* new function added\n- choice to set shift and trend rule to 6 or 7"]
[null,"v4.2",44482,"*new function added\n- data type format for TIME "]
[null,"v4.3",44595,"First point of trend highlighted"]
[null,"v4.6",44942,"Icon height functionality added\nCan now handle missing data\nmR chat instructions ammended"]
[null,"v4.7",45019,"Correction to date formular - field G12"]
[null,"v4.8",45154,"Correction to formula in column F following changes to accommodate older versions of Excel"]
[null,"V4.9","31/08/2023","Further correction to forumla in Column F following error in last update"]
[null,"v5.0",45210,"Correction to 2/3 rule\n Addition of currencyto data type list"]
[null,"v5.1",45362,"Minor changes to ensure agreement between tools"]
[null,"v5.2",45385,"Amended formula for dates, planned duration for 2 weeks was not displaying dates correctly. "]
[null,"v5.3",45444,"Additional series added to chart to allow rule prioritisation, order of rules  (trend, shift, 2/3 and single). Amendment to formula assigning icons on chart."]
[null,"v5.4",45536,"NHS digital certificate added"]
[null,"v5.5",45609,"Correction for missing data"]
[null,"v5.6",45813,"Amendment made to VBA to change the orientation of the first comment box, previosuly not changing orientation."]
[null,"v5.7",45980,"Amendment to columnns T, W, Z & AC (resets rules when step change entered)\nColumn W =IF(ISERROR(E9),0,IF(F9=F8,IF(E9<G9,1,0),0))\nColumn T =IF(ISERROR(E9),0,IF(F9=F8,IF(E9>G9,1,0),0))\nColumn Z =IF(OR(ISERROR(E9),ISERROR(E8)),0,IF(F9=F8,IF(E9>E8,1,0)))\nColumn AC =IF(OR(ISERROR(E9),ISERROR(E8)),0,IF(F9=F8,IF(E9<E8,1,0)))\n\n "]
[null,"v5.71",46027,"Amendment to start date cell, removed end date data validation"]
[null,"v5.8",46034,"Amendment to cell (F3, F4, F5, F6 & F7) from  =IF(E3=0,0,MAXIFS(C$8:C$119,F$8:F$119,C3)) to =IF(E3=0,0,MAXIFS(C$8:C$120,F$8:F$120,C3)) "]

{"sheet":"Instructions","index":1,"n_rows":67,"n_cols":4,"rows_kept":67,"cut":false,"hidden":false,"merged":[[66,2,66,12],[2,2,2,10]]}
[]
[]
[null,null,"SPC XmR tool"]
[]
[]
[]
[null,null,"Instructions"]
[]
[null,null,"Set-up"]
[]
[null,null,"1)","Save your file using the save as function under the file tab on your computer."]
[]
[null,null,"2)","Enter your organisation's name."]
[]
[null,null,"3)","Enter your team's or unit's name."]
[]
[null,null,"4)","Enter what you are measuring (patients, falls, etc)."]
[]
[null,null,"5)","Enter a maximum theoretical value (as an error check- optional)."]
[]
[null,null,"6)","Enter the start date."]
[]
[null,null,"7)","Choose days, weeks or months for your data frequency"]
[]
[null,null,"8)","Choose the duration of your projectin days weeks or months."]
[]
[null,null,"9)","You can change the date format of the horizontal axis from dd/mm/yy to mm yy . "]
[null,null,null,"Choose from the drop down list, then click the  'change axis' button."]
[]
[null,null,"10)","You can change the vertical axis units and format. Enter the highest and lowest values you want to display,"]
[null,null,null,"and the type of axis you want to use (integer, decimal or percentage) and click the 'change axis' button"]
[]
[null,null,"11)","If you are using a baseline, specify the period (between 12 and 20)."]
[null,null,null,"You can also do this by selecting an intervention date at the end of your baseline period."]
[]
[null,null,"Daily use"]
[]
[null,null,"1)","Enter your data against the correct date in the yellow and green cells."]
[]
[null,null,"2)","Save your data each day by clicking the red SAVE button."]
[]
[]
[]
[null,null,"Statistical process control"]
[]
[null,null,"An SPC chart is a plot of data over time. It allows you to distinguish between common and special cause"]
[null,null,"variation. It includes a mean and two process limits which are both used in the statistical interpretation of data."]
[]
[null,null,"To help you interpret the data a number of rules can be applied. "]
[]
[null,null,"The rules (please note the rules are ordered to priortised in the order trend, shift, 2 out of 3, single point)"]
[null,null,"1)","Any single point  outside the process limits."]
[null,null,"2) ","A run of 6 /7 points or more above or below the mean (a  shift), or a run of 6/7 points or more all consecutively"]
[null,null,null,"ascending or descending (a trend)."]
[null,null,"3) ","2 out of 3 points outside either the upper or lower 2 sigma limit but not crossing the mean line."]
[null,null,"4) ","If there is a large change in the moving range (greater that 3.27 * av moving range) "]
[null,null,null,"this will be shown on the moving range chart only."]
[]
[null,null,"All these rules are aids to interpretation but still require intelligent examination of the data. "]
[null,null,"This tool highlights when a rule has been broken and highlights whether this is improvement or deterioration"]
[]
[]
[null,null,"If you change in your process and observe a persistent shift in your data, it may be appropriate to change the"]
[null,null,"process limits.  A process limit change can be added if the observed change is sustained for a longer period not just"]
[null,null,"7 points. You should try and find out the cause of the process change before recalculating the limits and annotate this "]
[null,null,"on the chart. Be very cautions if you do not know what changed the process."]
[null,null,"\nIcon key"]

{"sheet":"Front sheet","index":2,"n_rows":55,"n_cols":60,"rows_kept":55,"cut":false,"hidden":false,"merged":[[4,2,4,4],[5,2,5,4],[6,2,6,4],[7,2,7,4],[42,2,43,4],[46,2,47,4],[48,2,49,4],[48,5,49,5],[46,5,47,5],[44,5,45,5],[1,2,2,8],[4,5,4,9],[40,5,41,5],[42,5,43,5],[40,7,42,23],[43,8,44,23],[43,7,44,7],[38,2,39,5],[38,7,39,23],[40,2,41,4],[4,11,4,12],[2,11,2,12],[2,20,2,22],[2,17,3,18],[44,2,45,4],[45,7,46,7],[35,27,36,29],[5,5,5,7],[5,25,6,26],[6,5,6,7],[47,7,48,7],[47,8,48,23],[48,27,50,30],[49,8,49,23],[7,5,7,6],[4,17,5,18],[23,28,24,29],[45,8,46,23],[50,7,51,7],[50,8,51,23]]}
[]
[null,null,"Statistical Process Control (XmR) tool"]
[null,null,null,null,null,null,null,null,null,null,null,"Target",null,null,null,null,null,"Points for significance",null,6," (shift and trend)",null,null,null,null,null,null,null,null,null,null,null,null,null,null,null,null,null,null,null,null,null,null,null,null,null,null,null,"08:00:00"]
[]
[null,null,"Chart title",null,null,null,null,null,null,null,null,"Maximum number",null,null,null,null,null,{"$f":"IF(P7=\"days\",\"Include weekends?\",\"\")","v":""},null,"Yes",null,null,null,null,null,null,null,null,null,null,null,null,null,null,null,null,null,null,null,null,null,"Days",null,"Yes",null,null,null,null,"18:00:00","Integer",null,"dd/mm/yy",null,"Vertical ",null,null,null,null,"High is good",1]
[null,null,"Team/unit name",null,null,null,null,null,null,null,null,"Start date",null,null,null,{"$f":"IF(P7=\"months\",\" please select date <= 28th\",IF(P7=\"Quarters\",\" please select date <= 28th\"))","v":" please select date <= 28th"},null,null,null,null,null,null,null,null,null,null,null,null,null,null,null,null,null,null,null,null,null,null,null,null,null,"Weeks",null,"No",null,null,null,null,null,"Decimal",null,"mmm yy",null,"Horizontal",null,null,null,null,"Low is good",2]
[null,null,"Your measure",null,null,null,null,null,null,null,null,"Planned duration",null,null,null,"Months",null,"Set baseline",null,null,{"$f":"P7","v":"Months"},null,"Icon height",{"$f":"AH9","v":1.05},null,null,null,null,null,null,null,null,null,null,null,null,null,null,null,null,null,"2 Weeks",null,null,null,null,null,null,null,"Percentage",null,null,null,null,null,null,null,null,"Neither",3]
[null,null,"What does improvement look like?",null,null,"High is good",null,null,null,null,null,"(days, weeks, months)",null,null,null,null,null,"(choose baseline period 12 - 20*)",null,null," ",null," ",null,null,null,null,null,null,null,null,null,null,null,null,null,null,null,null,null,null,"4 Weeks",null,null,null,null,null,null,null,"Time",null,"hh:mm:ss"]
[null,null,"Date",{"$f":"F7","v":0},"Date",{"$f":"F7","v":0},"Date",{"$f":"F7","v":0},"Date",{"$f":"F7","v":0},null,null,null,null,null,null,null,null,null,null,null,null,null,null,null,null,null,null,null,null,null,null,null,{"$f":"AD19","v":1.05},null,null,null,null,null,null,null,"Months",null,null,null,null,null,null,null,"Currency"]
[null,1,{"$f":"IF(U3=\"No\",IF(WEEKDAY(O6)=1,O6+1,IF(WEEKDAY(O6)=7,O6+2,O6)),O6)","v":"00:00:00"},null,{"$f":"IF(OR(C37=\"\",B10+28>$O$7),\"\",IF($P$7=\"Days\",IF($T$5=\"No\",IF(WEEKDAY(C37)=6,C37+3,C37+1),C37+1),IF($P$7=\"Months\",DATE(YEAR(C37),MONTH(C37)+1,DAY(C37)),IF($P$7=\"Quarters\",DATE(YEAR(C37),MONTH(C37)+3,DAY(C37)),IF($P$7=\"4 weeks\",$C37+28,IF($P$7=\"2 weeks\",$C37+14,C37+7))))))","v":""},null,{"$f":"IF(OR(E37=\"\",B10+56>$O$7),\"\",IF($P$7=\"Days\",IF($T$5=\"No\",IF(WEEKDAY(E37)=6,E37+3,E37+1),E37+1),IF($P$7=\"Months\",DATE(YEAR(E37),MONTH(E37)+1,DAY(E37)),IF($P$7=\"Quarters\",DATE(YEAR(E37),MONTH(E37)+3,DAY(E37)),IF($P$7=\"4 weeks\",$E37+28,IF($P$7=\"2 weeks\",$E37+14,E37+7))))))","v":""},null,{"$f":"IF(OR(G37=\"\",B10+84>$O$7),\"\",IF($P$7=\"Days\",IF($T$5=\"No\",IF(WEEKDAY(G37)=6,G37+3,G37+1),G37+1),IF($P$7=\"Months\",DATE(YEAR(G37),MONTH(G37)+1,DAY(G37)),IF($P$7=\"Quarters\",DATE(YEAR(G37),MONTH(G37)+3,DAY(G37)),IF($P$7=\"4 weeks\",$G37+28,IF($P$7=\"2 weeks\",$G37+14,G37+7))))))","v":""},null,null,null,null,null,null,null,null,null,null,null,null,null,null,null,null,null,null,null,null,null,null,null,null,null,null,null,null,null,null,null,null,"Quarters"]
[null,2,{"$f":"IF(OR(C10=\"\",B11>$O$7),\"\",IF($P$7=\"Days\",IF($T$5=\"No\",IF(WEEKDAY(C10)=6,C10+3,C10+1),C10+1),IF($P$7=\"Months\",DATE(YEAR(C10),MONTH(C10)+1,DAY(C10)),IF($P$7=\"Quarters\",DATE(YEAR(C10),MONTH(C10)+3,DAY(C10)),IF($P$7=\"4 weeks\",$C10+28,IF($P$7=\"2 weeks\",$C10+14,C10+7))))))","v":""},null,{"$f":"IF(OR(E10=\"\",B11+28>$O$7),\"\",IF($P$7=\"Days\",IF($T$5=\"No\",IF(WEEKDAY(E10)=6,E10+3,E10+1),E10+1),IF($P$7=\"Months\",DATE(YEAR(E10),MONTH(E10)+1,DAY(E10)),IF($P$7=\"Quarters\",DATE(YEAR(E10),MONTH(E10)+3,DAY(E10)),IF($P$7=\"4 weeks\",$E10+28,IF($P$7=\"2 weeks\",$E10+14,E10+7))))))","v":""},null,{"$f":"IF(OR(G10=\"\",B11+56>$O$7),\"\",IF($P$7=\"Days\",IF($T$5=\"No\",IF(WEEKDAY(G10)=6,G10+3,G10+1),G10+1),IF($P$7=\"Months\",DATE(YEAR(G10),MONTH(G10)+1,DAY(G10)),IF($P$7=\"Quarters\",DATE(YEAR(G10),MONTH(G10)+3,DAY(G10)),IF($P$7=\"4 weeks\",$G10+28,IF($P$7=\"2 weeks\",$G10+14,G10+7))))))","v":""},null,{"$f":"IF(OR(I10=\"\",B11+84>$O$7),\"\",IF($P$7=\"Days\",IF($T$5=\"No\",IF(WEEKDAY(I10)=6,I10+3,I10+1),I10+1),IF($P$7=\"Months\",DATE(YEAR(I10),MONTH(I10)+1,DAY(I10)),IF($P$7=\"Quarters\",DATE(YEAR(I10),MONTH(I10)+3,DAY(I10)),IF($P$7=\"4 weeks\",$I10+28,IF($P$7=\"2 weeks\",$I10+14,I10+7))))))","v":""}]
[null,3,{"$f":"IF(OR(C11=\"\",B12>$O$7),\"\",IF($P$7=\"Days\",IF($T$5=\"No\",IF(WEEKDAY(C11)=6,C11+3,C11+1),C11+1),IF($P$7=\"Months\",DATE(YEAR(C11),MONTH(C11)+1,DAY(C11)),IF($P$7=\"Quarters\",DATE(YEAR(C11),MONTH(C11)+3,DAY(C11)),IF($P$7=\"4 weeks\",$C11+28,IF($P$7=\"2 weeks\",$C11+14,C11+7))))))","v":""},null,{"$f":"IF(OR(E11=\"\",B12+28>$O$7),\"\",IF($P$7=\"Days\",IF($T$5=\"No\",IF(WEEKDAY(E11)=6,E11+3,E11+1),E11+1),IF($P$7=\"Months\",DATE(YEAR(E11),MONTH(E11)+1,DAY(E11)),IF($P$7=\"Quarters\",DATE(YEAR(E11),MONTH(E11)+3,DAY(E11)),IF($P$7=\"4 weeks\",$E11+28,IF($P$7=\"2 weeks\",$E11+14,E11+7))))))","v":""},null,{"$f":"IF(OR(G11=\"\",B12+56>$O$7),\"\",IF($P$7=\"Days\",IF($T$5=\"No\",IF(WEEKDAY(G11)=6,G11+3,G11+1),G11+1),IF($P$7=\"Months\",DATE(YEAR(G11),MONTH(G11)+1,DAY(G11)),IF($P$7=\"Quarters\",DATE(YEAR(G11),MONTH(G11)+3,DAY(G11)),IF($P$7=\"4 weeks\",$G11+28,IF($P$7=\"2 weeks\",$G11+14,G11+7))))))","v":""},null,{"$f":"IF(OR(I11=\"\",B12+84>$O$7),\"\",IF($P$7=\"Days\",IF($T$5=\"No\",IF(WEEKDAY(I11)=6,I11+3,I11+1),I11+1),IF($P$7=\"Months\",DATE(YEAR(I11),MONTH(I11)+1,DAY(I11)),IF($P$7=\"Quarters\",DATE(YEAR(I11),MONTH(I11)+3,DAY(I11)),IF($P$7=\"4 weeks\",$I11+28,IF($P$7=\"2 weeks\",$I11+14,I11+7))))))","v":""}]
[null,4,"",null,{"$f":"IF(OR(E12=\"\",B13+28>$O$7),\"\",IF($P$7=\"Days\",IF($T$5=\"No\",IF(WEEKDAY(E12)=6,E12+3,E12+1),E12+1),IF($P$7=\"Months\",DATE(YEAR(E12),MONTH(E12)+1,DAY(E12)),IF($P$7=\"Quarters\",DATE(YEAR(E12),MONTH(E12)+3,DAY(E12)),IF($P$7=\"4 weeks\",$E12+28,IF($P$7=\"2 weeks\",$E12+14,E12+7))))))","v":""},null,{"$f":"IF(OR(G12=\"\",B13+56>$O$7),\"\",IF($P$7=\"Days\",IF($T$5=\"No\",IF(WEEKDAY(G12)=6,G12+3,G12+1),G12+1),IF($P$7=\"Months\",DATE(YEAR(G12),MONTH(G12)+1,DAY(G12)),IF($P$7=\"Quarters\",DATE(YEAR(G12),MONTH(G12)+3,DAY(G12)),IF($P$7=\"4 weeks\",$G12+28,IF($P$7=\"2 weeks\",$G12+14,G12+7))))))","v":""},null,""]
[null,5,"",null,"",null,"",null,""]
[null,6,"",null,"",null,"",null,""]
[null,7,"",null,"",null,"",null,"",null,null,null,null,null,null,null,null,null,null,{"$f":"AD18","v":0}]
[null,8,"",null,"",null,"",null,"",null,null,null,null,null,null,null,null,null,null,null,null,null,null,null,null,null,null,null,"Set vertical axis","* see instruction sheet point 9"]
[null,9,"",null,"",null,"",null,"",null,null,null,null,null,null,null,null,null,null,null,null,null,null,null,null,null,null,null,"min value",0]
[null,10,"",null,"",null,"",null,"",null,null,null,null,null,null,null,null,null,null,null,null,null,null,null,null,null,null,null,"max value",1.05]
[null,11,"",null,"",null,"",null,"",null,null,null,null,null,null,null,null,null,null,null,null,null,null,null,null,null,null,null,"number format","Percentage"]
[null,12,"",null,"",null,"",null,"",null,null,null,null,null,null,null,null,null,null,null,null,null,null,null,null,null,null,null,"date format","dd/mm/yy"]
[null,13,"",null,"",null,"",null,""]
[null,14,"",null,"",null,"",null,""]
[null,15,"",null,"",null,"",null,"",null,null,null,null,null,null,null,null,null,null,null,null,null,null,null,null,null,null,null,"Interventions annotation date\nselect a date and enter a comment"]
[null,16,"",null,"",null,"",null,""]
[null,17,"",null,"",null,"",null,""]
[null,18,"",null,{"$f":"IF(OR(E26=\"\",B27+28>$O$7),\"\",IF($P$7=\"Days\",IF($T$5=\"No\",IF(WEEKDAY(E26)=6,E26+3,E26+1),E26+1),IF($P$7=\"Months\",DATE(YEAR(E26),MONTH(E26)+1,DAY(E26)),IF($P$7=\"Quarters\",DATE(YEAR(E26),MONTH(E26)+3,DAY(E26)),IF($P$7=\"4 weeks\",$E26+28,IF($P$7=\"2 weeks\",$E26+14,E26+7))))))","v":""},null,"",null,""]
[null,19,"",null,"",null,"",null,""]
[null,20,"",null,"",null,"",null,""]
[null,21,"",null,"",null,"",null,""]
[null,22,"",null,"",null,"",null,""]
[null,23,"",null,"",null,"",null,""]
[null,24,"",null,"",null,"",null,""]
[null,25,"",null,"",null,"",null,""]
[null,26,"",null,"",null,"",null,""]
[null,27,"",null,"",null,"",null,"",null,null,null,null,null,null,null,null,null,null,null,null,null,null,null,null,null,null,"Recalculating the process limits\nselect a date and enter a comment"]
[null,28,"",null,"",null,"",null,""]
[null,29]
[null,null,"Summary statistics",null,null,null,null,"Data observations"]
[]
[null,null,"Mean observation - ",null,null,{"$f":"IFERROR(OFFSET('Work sheet 1'!G8,'Work sheet 1'!E3,0),\"\")","v":""},null,{"$f":"'Work sheet 1'!G1","v":"This type of chart (SPC) allows you to identify statistically significant changes in data. The dotted lines (process limits) represent the expected range for data points if variation is within expected limits - that is, normal. You can apply a number of rules to identify when the process is not in control - that is, special variation."}]
[]
[null,null,"Average moving range - ",null,null,{"$f":"IFERROR(OFFSET('Work sheet 1'!M8,'Work sheet 1'!E3,0),\"\")","v":""}]
[null,null,null,null,null,null,null,{"$f":"IF(I44=\"\",\"\",IF(I44='Work sheet 1'!$Q$4,'Work sheet 1'!$R$5,IF(I44='Work sheet 1'!$T$4,'Work sheet 1'!$T$5,IF(I44='Work sheet 1'!$Z$4,'Work sheet 1'!$Z$5,IF(I44='Work sheet 1'!$AN$4,'Work sheet 1'!$AN$5,IF(I44='Work sheet 1'!$AQ$4,'Work sheet 1'!$AQ$5,IF(OR(I44='Work sheet 1'!$AH$5,I44='Work sheet 1'!$AF$5),'Work sheet 1'!$AI$6,IF(I44='Work sheet 1'!$AK$4,'Work sheet 1'!$AL$5,\"\"))))))))","v":""},{"$f":"IF(ISERROR('Work sheet 1'!G2),\"\",'Work sheet 1'!G2)","v":""}]
[null,null,"Three sigma - 3σ",null,null,{"$f":"IFERROR(F43*2.66,\"\")","v":""}]
[null,null,null,null,null,null,null,{"$f":"IF(I46=\"\",\"\",IF(I46='Work sheet 1'!$Q$4,'Work sheet 1'!$R$5,IF(I46='Work sheet 1'!$T$4,'Work sheet 1'!$T$5,IF(I46='Work sheet 1'!$Z$4,'Work sheet 1'!$Z$5,IF(I46='Work sheet 1'!$AN$4,'Work sheet 1'!$AN$5,IF(I46='Work sheet 1'!$AQ$4,'Work sheet 1'!$AQ$5,IF(OR(I46='Work sheet 1'!$AH$5,,I46='Work sheet 1'!$AF$5),'Work sheet 1'!$AI$6,IF(I46='Work sheet 1'!$AK$4,'Work sheet 1'!$AL$5,\"\"))))))))","v":""},{"$f":"IF(ISERROR('Work sheet 1'!G3),\"\",'Work sheet 1'!G3)","v":""}]
[null,null,{"$f":"\"Upper\"&IF(ISERROR('Work sheet 1'!H9),\"\",IF('Work sheet 1'!I9>0,\"/lower\",\"\"))&\" process limit \n(% epressed as decimals)\"","v":"Upper process limit \n(% epressed as decimals)"},null,null,{"$f":"IFERROR(TEXT(F41-F45,\"0.00\"),\"\")&\"/\"&IFERROR(TEXT(F41+F45,\" 0.00\"),\"\")","v":"/"}]
[null,null,null,null,null,null,null,{"$f":"IF(I48=\"\",\"\",IF(I48='Work sheet 1'!$Q$4,'Work sheet 1'!$R$5,IF(I48='Work sheet 1'!$T$4,'Work sheet 1'!$T$5,IF(I48='Work sheet 1'!$Z$4,'Work sheet 1'!$Z$5,IF(I48='Work sheet 1'!$AN$4,'Work sheet 1'!$AN$5,IF(I48='Work sheet 1'!$AQ$4,'Work sheet 1'!$AQ$5,IF(OR(I48='Work sheet 1'!$AH$5,I48='Work sheet 1'!$AF$5),'Work sheet 1'!$AI$6,IF(I48='Work sheet 1'!$AK$4,'Work sheet 1'!$AL$5,\"\"))))))))","v":""},{"$f":"IF(ISERROR('Work sheet 1'!G4),\"\",'Work sheet 1'!G4)","v":""}]
[null,null,"Upper moving range Limit",null,null,{"$f":"IFERROR(F43*3.27,\"\")","v":""},null,null,null,null,null,null,null,null,null,null,null,null,null,null,null,null,null,null,null,null,null,"Please note annotation rotation macro may not work in earlier versions of excel. To rotate annotations unlock tool \"SPC\" and rotate manually"]
[null,null,null,null,null,null,null,{"$f":"IF(I50=\"\",\"\",IF(I50='Work sheet 1'!$Q$4,'Work sheet 1'!$R$5,IF(I50='Work sheet 1'!$T$4,'Work sheet 1'!$T$5,IF(I50='Work sheet 1'!$Z$4,'Work sheet 1'!$Z$5,IF(I50='Work sheet 1'!$AN$4,'Work sheet 1'!$AN$5,IF(I50='Work sheet 1'!$AQ$4,'Work sheet 1'!$AQ$5,IF(OR(I50='Work sheet 1'!$AH$5,I50='Work sheet 1'!$AF$5),'Work sheet 1'!$AI$6,IF(I50='Work sheet 1'!$AK$4,'Work sheet 1'!$AL$5,\"\"))))))))","v":""},{"$f":"IF(ISERROR('Work sheet 1'!G5),\"\",'Work sheet 1'!G5)","v":""}]
[null,null,null,null,null,null,null,{"$f":"IF(I51=\"\",\"\",IF(I51='Work sheet 1'!$Q$4,'Work sheet 1'!$R$5,IF(I51='Work sheet 1'!$T$4,'Work sheet 1'!$T$5,IF(I51='Work sheet 1'!$Z$4,'Work sheet 1'!$Z$5,IF(I51='Work sheet 1'!$AN$4,'Work sheet 1'!$AN$5,IF(I51='Work sheet 1'!$AQ$4,'Work sheet 1'!$AQ$5,IF(OR(I51='Work sheet 1'!$AH$5,I51='Work sheet 1'!$AF$5),'Work sheet 1'!$AI$6,IF(I51='Work sheet 1'!$AK$4,'Work sheet 1'!$AL$5,\"\"))))))))","v":""},{"$f":"IF(ISERROR('Work sheet 1'!G6),\"\",'Work sheet 1'!G6)","v":""}]
[null,null,null,null,null,null,null,null,null,null,null,null,null,null,null,null,null,null,null,null,null,null,null,null,null,null,null,null,"Turn off annotation","No"]
[]
[null,null,null,null,null,null,null,null,null,null,null,null,null,null,null,null,null,null,null,null,null,null,null,null,null,null,null,null,"Annotation orientation","Horizontal"]
[null,null,null,null,null,null,null,null,null,null,null,null,null,null,null,null,null,null,null,null,null,null,null,null,null,null,null,null,"Change annotation orientation"]

{"sheet":"Work sheet 1","index":3,"n_rows":120,"n_cols":108,"rows_kept":120,"cut":false,"hidden":true,"merged":[[6,79,6,82],[6,84,6,86],[6,95,6,97],[3,39,3,40],[5,6,5,14],[3,36,3,37],[4,6,4,14],[6,88,6,92],[6,19,6,20],[6,22,6,23],[5,42,5,45],[5,46,5,49],[5,50,5,53],[5,54,5,57],[3,19,3,20],[4,42,4,57],[0,6,0,14],[1,6,1,14],[2,6,2,14],[3,6,3,14],[3,16,3,17],[0,77,0,98],[0,104,1,107],[0,19,0,20],[0,22,0,23],[0,25,0,26],[0,66,0,70],[0,72,0,75]]}
[null,null,null,{"$f":"'Front sheet'!$F$5&\"-\"&'Front sheet'!F6& \" starting \"&TEXT('Front sheet'!O6,\"dd/mm/yy\") & IF(AND('Front sheet'!$P$7= \"days\",'Front sheet'!$T$5=\"No\"),\" excluding weekends\",\"\")","v":"- starting 00/01/00"},{"$f":"'Front sheet'!$F$5&\"-\"&'Front sheet'!F6&\" Moving range, starting \"&TEXT('Front sheet'!O6,\"dd/mm/yy\")","v":"- Moving range, starting 00/01/00"},null,"This type of chart (SPC) allows you to identify statistically significant changes in data. The dotted lines (process limits) represent the expected range for data points if variation is within expected limits - that is, normal. You can apply a number of rules to identify when the process is not in control - that is, special variation.",null,null,null,null,{"$f":"IF(ISERROR(VLOOKUP(100,$G$8:$K$120,9,0)),\"\",VLOOKUP(100,$G$8:$K$120,9,0))","v":""},null,null,null,null,"Points ><3 sigma",null,null,"Runs above mean",null,null,"Runs Below mean",null,null,"Trend up",null,null,"Trend Down",null,null,"2 out of 3",null,"2 out of 3",null,null,"Points above #Moving Range",null,null,null,null,null,null,null,null,null,null,null,null,null,null,null,null,null,null,null,null,null,null,null,null,null,null,null,null,{"$f":"IF('Front sheet'!$T$7=\"\",\"\",\"Baseline calculated on first \" &'Front sheet'!$T$7& \" values\")","v":""},"Annotations",null,null,null,null,null,"Step changes",null,null,null,"Yes","Icon - chart placement",null,null,null,null,null,null,null,null,null,null,null,null,null,null,null,null,null,null,null,null,null,null,null,null,null,null,"Look-up for chart icon"]
[null,null,null,{"$f":"'Front sheet'!F7","v":0},{"$f":"'Front sheet'!P7","v":"Months"},"correction",{"$f":"IF(Q4<>\"\",Q4,IF(T4<>\"\",T4,IF(Z4<>\"\",Z4,IF(AN4<>\"\",AN4,IF(AF4<>\"\",AF4,IF(AH4<>0,AH4,IF(AK4<>\"\",AK4,\"\")))))))","v":""},null,null,null,null,null,null,null,null,null,"how many above",{"$f":"MAX(Q9:Q128)","v":0},null,{"$f":"IF(SUM(U9:U128)>0,\"Yes\",0)","v":0},null,null,{"$f":"IF(SUM(X9:X128)>0,\"Yes\",0)","v":0},null,null,{"$f":"IF(SUM(AA9:AA128)>0,\"Yes\",0)","v":0},null,null,{"$f":"IF(SUM(AD9:AD128)>0,\"Yes\",0)","v":0},null,null,null,null,null,null,null,"how many above",{"$f":"IF(ISERROR(MAX(AK9:AK128)),\"\",MAX(AK9:AK128))","v":""},null,null,null,null,null,null,null,null,null,null,null,null,null,null,null,null,null,null,null,null,null,null,null,null,null,null,null,{"$f":"BR2/8","v":0.13125000000000001},null,{"$f":"'Front sheet'!X7","v":1.05},{"$f":"IFERROR(MIN(OFFSET(H9,0,0,E3,3)),MIN(OFFSET(J9,0,0,E3,1)))","v":0},{"$f":"BP2-BQ2","v":1.05},null,null,"points for limits",12,null,null,"No"]
[null,null,1,"Rows of data",{"$f":"MAX(B9:B120)","v":1},{"$f":"IF(E3=0,0,_xlfn.MAXIFS(C$8:C$120,F$8:F$120,C3))","v":1},{"$f":"IF(AND(T4<>\"\",T4<>G2),T4,IF(AND(Z4<>\"\",Z4<>G2),Z4,IF(AND(AN4<>\"\",AN4<>G2),AN4,IF(AND(AF4<>\"\",AF4<>G2),AF4,IF(AND(AH4<>\"\",AH4<>G2),AH4,IF(AND(AK4<>\"\",AK4<>G2),AK4,\"\"))))))","v":{"$error":"#N/A"}},null,null,null,null,null,null,null,null,null,"how many below",{"$f":"MAX(R9:R128)","v":0},null,null,null,null,null,null,null,null,null,null,null,null,null,null,{"$f":"MAX(AG9:AG128)","v":0},null,{"$f":"MAX(AI9:AI128)","v":0},null,null,null,null,null,null,null,null,null,null,null,null,null,null,null,null,null,null,null,null,null,null,null,null,null,null,null,null,null,null,{"$f":"SUM((BM9:BM120))","v":111}]
[null,null,2,"Recalculate 1",{"$f":"IF(BU6=0,0,BU5)","v":0},{"$f":"IF(E4=0,0,_xlfn.MAXIFS(C$8:C$120,F$8:F$120,C4)-F3)","v":0},{"$f":"IF(AND(Z4<>\"\",Z4<>G2,Z4<>G3),Z4,IF(AND(AN4<>\"\",AN4<>G2,AN4<>G3),AN4,IF(AND(AF4<>\"\",AF4<>G2,AF4<>G3),AF4,IF(AND(AH4<>\"\",AH4<>G2,AH4<>G3),AH4,IF(AND(AK4<>\"\",AK4<>G2,AK4<>G3),AK4,\"\")))))","v":{"$error":"#N/A"}},null,null,null,null,null,null,null,null,null,{"$f":"IF($R$3+$R$2>0,\"Points which fall outside the grey dotted lines (process limits) are unusual and should be investigated. They represent a system which may be out of control.\",\"\")&IF(R2=0,\"\",IF(R2=1,\" There is \",\" There are \")&R2&IF(R2=1,\" data point which is above the line. \",\" data points which are above the line. \"))&Q5","v":""},null,null,{"$f":"IF(OR(T2=\"Yes\",W2=\"Yes\"),\"When more than\"&\" \"&\"\"&U5&\" \"&\"sequential points fall above or below the mean that is unusual and may indicate a significant change in process. This process is not in control. There is a run of points \"&IF(AND(T2=\"Yes\",W2=\"Yes\"),\" above and below\",IF(T2=\"Yes\",\" above\",\"below\"))&\" the mean.\",\"\")","v":""},null,null,null,null,null,{"$f":"IF(OR(Z2=\"Yes\",AC2=\"Yes\"),\"When there is a run of \"&\" \"&\"\"&AA5&\" \"&\" increasing or decreasing sequential points this may indicate a significant change in the process.  This process is not in control. In this data set there is a run of \" & IF(AND(Z2=\"Yes\",AC2=\"Yes\"),\" rising and falling \",IF(Z2= \"Yes\", \"rising\", \"falling\"))& \" points.\",\"\")","v":""},null,null,null,null,null,{"$f":"IF(AG3=1,\"When 2 out of 3 points are beyond 2 sigma. This rule acts as an early warning indicator.\",\"\")","v":""},null,{"$f":"IF(AI3=1,\"When 2 out of 3 points are beyond 2 sigma. This rule acts as an early warning indicator.\",\"\")","v":""},null,null,{"$f":"IFERROR(IF($AL$3+$AL$2>0,\"On the moving range chart points which fall above the moving range process limit - grey dotted line - are unusual and suggest that the system is out of control. This should be investigated.\"&IF(AL2=0,\"\",IF(AL2=1,\" There is \",\" There are \")&AL2&IF(AL2=1,\" data point which is above the line. \",\" data points which are above the line. \")),\"\"),NA())","v":{"$error":"#N/A"}},null,null,null,null,null,null,null,null,null,null,null,null,null,null,null,null,null,null,null,null,null,null,null,null,null,null,null,null,"Date","Intervention1","Intervention2","Intervention3","Intervention4","Intervention5",null,"Recalculate limits","Recalculate limits","Recalculate limits","Recalculate limits",null,null,null,"ICONS"]
[null,null,3,"Recalculate 2",{"$f":"IF(BV6=0,0,BV5)","v":0},{"$f":"IF(E5=0,0,_xlfn.MAXIFS(C$8:C$120,F$8:F$120,C5)-F3-F4)","v":0},{"$f":"IF(AND(AN4<>\"\",AN4<>G2,AN4<>G3),AN4,IF(AND(AF4<>\"\",AF4<>G2,AF4<>G3,AF4<>G4),AF4,IF(AND(AH4<>\"\",AH4<>G2,AH4<>G3,AH4<>G4),AH4,IF(AND(AK4<>\"\",AK4<>G2,AK4<>G3,AK4<>G4),AK4,\"\"))))","v":{"$error":"#N/A"}},null,null,null,null,null,null,null,null,null,{"$f":"IF(R3>0,IF(R3=1,\" There is  \",\" There are \")&R3&\" data point(s) below the line\",\"\")","v":""},"Single point",null,"Shift",{"$f":"'Front sheet'!T3","v":6},null,null,{"$f":"'Front sheet'!T3","v":6},null,"Trend",{"$f":"'Front sheet'!T3","v":6},null,null,{"$f":"'Front sheet'!T3","v":6},null,"When 2 out of 3 points are beyond 2 sigma. This rule acts as an early warning indicator.",null,null,null,null,null,"mR",null,null,null,null,"Chart series - rules applied in order 1 to 4",null,null,null,null,null,null,null,null,null,null,null,null,null,null,null,null,null,null,null,null,null,null,null,30,6,11,18,22,null,16,33,36,82,null,null,null,{"$f":"'Front sheet'!F8","v":"High is good"},null,null,null,null,null,null,null,null,null,null,null,null,"Direction",null,null,null,"position"]
[null,null,4,"Recalculate 3",{"$f":"IF(BW6=0,0,BW5)","v":0},{"$f":"IF(E6=0,0,_xlfn.MAXIFS(C$8:C$119,F$8:F$119,C6)-F3-F4-F5)","v":0},{"$f":"IF(AND(AN4<>\"\",AN4<>G2,AN4<>G3,AN4<>G5),AN4,IF(AND(AF4<>\"\",AF4<>G2,AF4<>G3,AF4<>G4,AF4<>G5),AF4,IF(AND(AH4<>\"\",AH4<>G2,AH4<>G3,AH4<>G4,AH4<>G5),AH4,IF(AND(AK4<>\"\",AK4<>G2,AK4<>G3,AK4<>G4,AK4<>G5),AK4,\"\"))))","v":{"$error":"#N/A"}},null,null,null,null,null,null,null,null,null,null,null,null,null,null,null,null,null,null,null,null,null,null,null,null,null,"2 of 3",null,"2 of 3",null,null,null,null,null,null,null,"Trend (1)",null,null,null,"Shift (2)",null,null,null,"Single point (4)",null,null,null,"2 out of 3 (3)",null,null,null,null,null,null,null,null,null,null,"Annotation",{"$f":"'Front sheet'!AD26","v":0},{"$f":"'Front sheet'!AD28","v":0},{"$f":"'Front sheet'!$AD$30","v":0},{"$f":"'Front sheet'!$AD$32","v":0},{"$f":"'Front sheet'!$AD$34","v":0},null,{"$f":"'Front sheet'!AD39","v":0},{"$f":"'Front sheet'!AD41","v":0},{"$f":"'Front sheet'!AD43","v":0},{"$f":"'Front sheet'!AD45","v":0},null,null,null,{"$f":"VLOOKUP(CB5,'Front sheet'!$BG$5:$BH$7,2,0)","v":1},null,null,null,null,null,null,null,null,null,null,null,null,null,null,null,{"$f":"IF('Front sheet'!O3=\"\",\"\",IF(AND('Front sheet'!O3<OFFSET('Work sheet 1'!H8,$E$3,0),'Front sheet'!O3>OFFSET('Work sheet 1'!I8,$E$3,0)),\"Flip\",IF(AND('Front sheet'!O3<=OFFSET('Work sheet 1'!I8,E3,0),'Work sheet 1'!CB6=1),\"Pass\",IF(AND('Front sheet'!O3>=OFFSET('Work sheet 1'!H8,E3,0),'Work sheet 1'!CB6=2),\"Pass\",\"Fail\"))))","v":""},{"$f":"IF(E3>100,5,IF(E3>70,4,IF(E3>40,3,IF(E3>20,2,1))))","v":1}]
[null,null,5,"Recalculate 4",{"$f":"IF(BX6=0,0,BX5)","v":0},{"$f":"IF(E7=0,0,_xlfn.MAXIFS(C$8:C$120,F$8:F$120,C7)-F3-F4-F5-F6)","v":0},null,null,null,null,"Difference mR for plot","Difference",null,null,"Sigma",null,"> 3","< 3 ",null,"shift",null,null,"shift",null,null,null,null,null,null,null,null,null,null,null,null,null,null,null,null,null,null,null,null,null,{"$f":"'Front sheet'!$F$8","v":"High is good"},null,null,null,null,null,null,null,null,null,null,null,null,null,null,null,"Date","Weekday",null,null,null,null,1,2,3,4,5,null,1,2,3,4,null,null,null,"High Good",null,null,null,null,"Low good",null,null,null,"Neither",null,null,null,null,null,null,"Pass Fail"]
[null,null,null,"Date","Tally","Step marker","Mean","UCL","LCL","Tally0 - for calculating averages",null,"For. Roll avg","Cumul. Moving Avg.","2.66* MR","3.27*MR",null,"Count","Count",null,"7 points > mean",null,null,"7 points < mean",null,null,"Trend up",null,null,"Trend Down",null,"2/3 (above below mean)","2 out of 3 low",null,"2 out of 3 high",null,null,"Moving Range",null,null,"> Mean+Sigma","< Mean-Sigma","Target","Plot series High","Plot seriesLow","special cause concern","special cause Improvement","Plot series High","Plot seriesLow","special cause concern","special cause Improvement","Plot series High","Plot seriesLow","special cause concern","special cause Improvement","Plot series High","Plot seriesLow","special cause concern","special cause Improvement","special cause neither","Special cause flag",null,null,null,null,{"$f":"'Front sheet'!AD52","v":"No"},null,{"$f":"OFFSET($BN8,BO5,0)","v":""},{"$f":"OFFSET($BN8,BP5,0)","v":""},{"$f":"OFFSET($BN8,BQ5,0)","v":""},{"$f":"OFFSET($BN8,BR5,0)","v":""},{"$f":"OFFSET($BN8,BS5,0)","v":""},null,{"$f":"OFFSET($BN8,BU5,0)","v":""},{"$f":"OFFSET($BN8,BV5,0)","v":""},{"$f":"OFFSET($BN8,BW5,0)","v":""},{"$f":"OFFSET($BN8,BX5,0)","v":""},null,null,null,"Special cause markers","CC","Sc_imp","SC_concern",null,"Special cause markers","Sc_imp","SC_concern",null,"Special cause markers","Special cause up","Neither_UP","Special cause down","Neither_DOWN",null,null,"Pass fail marker","Pass","Fail","Flip Flop",null,"For summary data",null,null,null,"Plot series High","Plot seriesLow","special cause concern","special cause Improvement"]
[null,1,1,{"$f":"IF('Front sheet'!$C10=\"\",\"\",'Front sheet'!$C10)","v":0},{"$f":"IF('Front sheet'!D10=\"\",#N/A,'Front sheet'!D10)","v":{"$error":"#N/A"}},{"$f":"IF(B9=0,\"\",IF(E$4=0,1,IF(AND($E$4<>0,C9<$E$4),1,IF($E$5=0,2,IF(AND($E$5<>0,C9<$E$5),2,IF($E$6=0,3,IF(AND($E$6<>0,C9<$E$6),3,IF($E$7=0,4,IF(AND($E$7<>0,C9<$E$7),4,5)))))))))","v":1},{"$f":"IF(J9=\"\",NA(),IF('Front sheet'!$T$7<>0,AVERAGE(Tally_CL),IF(F9=1,AVERAGE(Tally),IF(F9=2,AVERAGE(Tally2),IF(F9=3,AVERAGE(Tally3),IF(F9=4,AVERAGE(Tally4),IF(F9=5,AVERAGE(Tally5))))))))","v":{"$error":"#N/A"}},{"$f":"IF(J9=\"\",NA(),IF($E$3>=BV$2,G9+$N9,#N/A))","v":{"$error":"#N/A"}},{"$f":"IF(J9=\"\",NA(),IF($E$3>=BV$2,G9-$N9,#N/A))","v":{"$error":"#N/A"}},{"$f":"IF(ISERROR(E9),\"\",E9)","v":""},{"$f":"IF(L9=\"\",NA(),L9)","v":{"$error":"#N/A"}},null,{"$f":"M10","v":{"$error":"#N/A"}},{"$f":"IF(ISERROR((M9*2.66)),N10,(M9*2.66))","v":0},{"$f":"O10","v":{"$error":"#N/A"}},null,{"$f":"IF(ISERROR($E9),0,IF($E9>$H9,MAX($Q8:Q$8)+1,0))","v":0},{"$f":"IF(ISERROR($E9),0,IF($E9<$I9,MAX($R8:R$8)+1,0))","v":0},null,{"$f":"IF(ISERROR(E9),0,IF(F9=F8,IF(E9>G9,1,0),0))","v":0},{"$f":"IF(AND(U8=1,T9=1),1,IF($U$5=7,IF(SUM(T9:T15)>=$U$5,1,0),IF(SUM(T9:T14)>=$U$5,1,0)))","v":0},null,{"$f":"IF(ISERROR(E9),0,IF(F9=F8,IF(E9<G9,1,0),0))","v":0},{"$f":"IF(AND(X8=1,W9=1),1,IF($U$5=7,IF(SUM(W9:W15)>=$U$5,1,0),IF(SUM(W9:W14)>=$U$5,1,0)))","v":0},null,{"$f":"IF(OR(ISERROR(E9),ISERROR(E8)),0,IF(F9=F8,IF(E9>E8,1,0)))","v":0},{"$f":"IF(AA$5=7,IF(AND(AA8>0,Z9>0),1,IF(SUM(Z10:Z15)>=6,1,IF(MOD(SUM(Z10:Z15),1)>0,IF(SUM(Z10:Z16)>=6,1,0),0))),IF(AND(AA8>0,Z9>0),1,IF(SUM(Z10:Z14)>=5,1,IF(MOD(SUM(Z10:Z14),1)>0,IF(SUM(Z10:Z15)>=5,1,0),0))))","v":0},null,{"$f":"IF(OR(ISERROR(E9),ISERROR(E8)),0,IF(F9=F8,IF(E9<E8,1,0)))","v":0},{"$f":"IF(AD$5=7,IF(AND(AD8>0,AC9>0),1,IF(SUM(AC10:AC15)>=6,1,IF(MOD(SUM(AC10:AC15),1)>0,IF(SUM(AC10:AC16)>=6,1,0),0))),IF(AND(AD8>0,AC9>0),1,IF(SUM(AC10:AC14)>=5,1,IF(MOD(SUM(AC10:AC14),1)>0,IF(SUM(AC10:AC15)>=5,1,0),0))))","v":0},{"$f":"IFERROR(IF(E9>G9,2,1),0)","v":0},{"$f":"IFERROR(IF(E9=\"\",0,IF(E9<G9-2*(M9/1.128),1,0)),0)","v":0},{"$f":"IF(AND(AF9=1,SUM(AE7:AE9)=3,SUM(AF7:AF9)>=2),1,IF(AND(AF9=1,SUM(AF8:AF10)>=2,SUM(AE8:AE10)=3),1,IF(AND(AF9=1,SUM(AF9:AF11)>=2,SUM(AE9:AE11)=3),1,0)))","v":0},{"$f":"IFERROR(IF(E9=\"\",0,IF(E9>G9+2*(M9/1.128),1,0)),0)","v":0},{"$f":"IF(AND(SUM(AE7:AE9)=6,SUM(AH7:AH9,)>=2,AH9=1),1,IF(AND(AH9=1,SUM(AH8:AH10)>=2,SUM(AE8:AE10)=6),1,IF(AND(AH9=1,SUM(AH9:AH11)>=2,SUM(AE9:AE11)=6),1,0)))","v":0},null,{"$f":"IF(ISERROR($L9),0,IF($L9>$O9,MAX($AK8:AK$8)+1,0))","v":{"$error":"#N/A"}},{"$f":"IF(L9>O9,L9,#N/A)","v":{"$error":"#N/A"}},null,{"$f":"IF(AND(J9>G9-M9/1.128,J9<G9+M9/1.128),1,0)","v":{"$error":"#N/A"}},{"$f":"IF(AND(AO8=1,AN9=1),1,IF(SUM(AN9:AN23)>=15,1,0))","v":{"$error":"#N/A"}},{"$f":"IF(C9<=$E$3,IF('Front sheet'!$O$3=\"\",NA(),'Front sheet'!$O$3),NA())","v":{"$error":"#N/A"}},{"$f":"IF($U$6=2,NA(),IF(AA9=0,#N/A,E9))","v":{"$error":"#N/A"}},{"$f":"IF($U$6=2,NA(),IF(AD9=0,#N/A,E9))","v":{"$error":"#N/A"}},{"$f":"IF($AS$7=\"High is good\",AR9,IF($AS$7=\"Low is good\",AQ9,NA()))","v":{"$error":"#N/A"}},{"$f":"IF($AS$7=\"High is good\",AQ9,IF($AS$7=\"Low is good\",AR9,NA()))","v":{"$error":"#N/A"}},{"$f":"IF($U$6=2,NA(),IF(U9=0,#N/A,E9))","v":{"$error":"#N/A"}},{"$f":"IF($U$6=2,NA(),IF(X9=0,#N/A,E9))","v":{"$error":"#N/A"}},{"$f":"IF($AS$7=\"High is good\",AV9,IF($AS$7=\"Low is good\",AU9,NA()))","v":{"$error":"#N/A"}},{"$f":"IF($AS$7=\"High is good\",AU9,IF($AS$7=\"Low is good\",AV9,NA()))","v":{"$error":"#N/A"}},{"$f":"IF($U$6=2,NA(),IF(Q9=0,#N/A,E9))","v":{"$error":"#N/A"}},{"$f":"IF($U$6=2,NA(),IF(R9=0,#N/A,E9))","v":{"$error":"#N/A"}},{"$f":"IF($AS$7=\"High is good\",AZ9,IF($AS$7=\"Low is good\",AY9,NA()))","v":{"$error":"#N/A"}},{"$f":"IF($AS$7=\"High is good\",AY9,IF($AS$7=\"Low is good\",AZ9,NA()))","v":{"$error":"#N/A"}},{"$f":"IF($U$6=2,NA(),IF(AI9=0,#N/A,E9))","v":{"$error":"#N/A"}},{"$f":"IF($U$6=2,NA(),IF(AG9=0,#N/A,E9))","v":{"$error":"#N/A"}},{"$f":"IF($AS$7=\"High is good\",BD9,IF($AS$7=\"Low is good\",BC9,NA()))","v":{"$error":"#N/A"}},{"$f":"IF($AS$7=\"High is good\",BC9,IF($AS$7=\"Low is good\",BD9,NA()))","v":{"$error":"#N/A"}},{"$f":"IF($AS$7=\"Neither\",BH9,NA())","v":{"$error":"#N/A"}},{"$f":"IF(AND(U9=0,R9=0,Q9=0,X9=0,X9=0,AA9=0,AD9=0,AG9=0,AI9=0),#N/A,E9)","v":{"$error":"#N/A"}},{"$f":"D9","v":"00:00:00"},{"$f":"IFERROR(WEEKDAY(BI9),\"\")","v":7},null,1,{"$f":"IF($BM$8=\"Yes\",\"\",IF(BN9=$BO$8,1,IF(BN9=$BP$8,2,IF(BN9=$BQ$8,3,IF(BN9=$BR$8,4,IF(BN9=$BS$8,5,\"\"))))))","v":""},{"$f":"D9","v":0},{"$f":"IF($BO$6=0,#N/A,IF(BM9=BO$7,$E9-$BN$2,#N/A))","v":{"$error":"#N/A"}},{"$f":"IF($BP$6=0,#N/A,IF($BM9=BP$7,$E9-$BN$2,#N/A))","v":{"$error":"#N/A"}},{"$f":"IF($BQ$6=0,#N/A,IF($BM9=BQ$7,$E9-$BN$2,#N/A))","v":{"$error":"#N/A"}},{"$f":"IF($BR$6=0,#N/A,IF($BM9=BR$7,$E9-$BN$2,#N/A))","v":{"$error":"#N/A"}},{"$f":"IF($BS$6=0,#N/A,IF($BM9=BS$7,$E9-$BN$2,#N/A))","v":{"$error":"#N/A"}},{"$f":"IF(BN9=$BU$8,1,IF(BN9=$BV$8,2,IF(BN9=$BW$8,3,IF(BN9=$BX$8,4,\"\"))))","v":""},{"$f":"IF($BU$6=0,#N/A,IF($BT9=BU$7,$E9-$BN$2,#N/A))","v":{"$error":"#N/A"}},{"$f":"IF($BU$6=0,#N/A,IF($BT9=BV$7,$E9-$BN$2,#N/A))","v":{"$error":"#N/A"}},{"$f":"IF($BW$6=0,#N/A,IF($BT9=BW$7,$E9-$BN$2,#N/A))","v":{"$error":"#N/A"}},{"$f":"IF($BX$6=0,#N/A,IF($BT9=BX$7,$E9-$BN$2,#N/A))","v":{"$error":"#N/A"}},null,null,null,1,{"$f":"IF(E$3<13,NA(),IF($CB9<>$E$3,NA(),IF(AND(ISERROR($DC9),ISERROR($DD9)),$BP$2,NA())))","v":{"$error":"#N/A"}},{"$f":"IF(E$3<13,NA(),IF(CB9<>$E$3,NA(),IF($CB$6<>1,NA(),IF(ISERROR(DD9),NA(),$BP$2))))","v":{"$error":"#N/A"}},{"$f":"IF(E$3<13,NA(),IF(CB9<>$E$3,NA(),IF($CB$6<>1,NA(),IF(ISERROR(DC9),NA(),$BP$2))))","v":{"$error":"#N/A"}},null,1,{"$f":"IF(E$3<13,NA(),IF(CB9<>$E$3,NA(),IF($CB$6=1,NA(),IF(ISERROR(DD9),NA(),$BP$2))))","v":{"$error":"#N/A"}},{"$f":"IF(E$3<13,NA(),IF(CB9<>$E$3,NA(),IF($CB$6=1,NA(),IF(ISERROR(DC9),NA(),$BP$2))))","v":{"$error":"#N/A"}},null,1,{"$f":"IF(CK9<>$E$3,NA(),IF(OR(Q9>=1,U9>=1,AA9>=1,AI9>=1),1,NA()))","v":{"$error":"#N/A"}},{"$f":"IF(AND(CK9<>$E$3,CL9<>1),NA(),IF(OR($CB$6=1,$CB$6=2),NA(),IF(ISERROR(BG9),NA(),$BP$2)))","v":{"$error":"#N/A"}},{"$f":"IF(CK9<>$E$3,NA(),IF(OR(R9>=1,X9>=1,AD9>=1,AG9>=1),1,NA()))","v":{"$error":"#N/A"}},{"$f":"IF(AND(CK9<>$E$3,CN9<>1),NA(),IF(OR($CB$6=1,$CB$6=2),NA(),IF(ISERROR(BH9),NA(),$BP$2)))","v":{"$error":"#N/A"}},null,null,1,{"$f":"IF($CB$5=\"Neither\",NA(),IF(CR9<>$E$3-$CS$6,NA(),IF($CR$6<>\"Pass\",NA(),$BP$2)))","v":{"$error":"#N/A"}},{"$f":"IF($CB$5=\"Neither\",NA(),IF(CR9<>$E$3-$CS$6,NA(),IF($CR$6<>\"Fail\",NA(),$BP$2)))","v":{"$error":"#N/A"}},{"$f":"IF($CB$5=\"Neither\",NA(),IF(CR9<>$E$3-$CS$6,NA(),IF($CR$6<>\"Flip\",NA(),$BP$2)))","v":{"$error":"#N/A"}},null,{"$f":"IF(ISERROR(E9),0,E9)","v":0},{"$f":"IF(ISERROR(E9),0,1)","v":0},null,null,{"$f":"IF($U$6=2,NA(),IF(AND(U9=0,AA9=0,AI9=0,Q9=0),#N/A,J9))","v":{"$error":"#N/A"}},{"$f":"IF($U$6=2,NA(),IF(AND(R9=0,X9=0,AD9=0,AG9=0),#N/A,J9))","v":{"$error":"#N/A"}},{"$f":"IF($CB$5=\"High is good\",$DB9,IF($CB$5=\"Low is good\",$DA9,NA()))","v":{"$error":"#N/A"}},{"$f":"IF($CB$5=\"High is good\",$DA9,IF($CB$5=\"Low is good\",$DB9,NA()))","v":{"$error":"#N/A"}}]
[null,{"$f":"IF(ISERROR(E10),0,C10)","v":0},2,{"$f":"IF('Front sheet'!$C11=\"\",\"\",'Front sheet'!$C11)","v":""},{"$f":"IF('Front sheet'!D11=\"\",#N/A,'Front sheet'!D11)","v":{"$error":"#N/A"}},"",{"$f":"IF(J10=\"\",NA(),IF('Front sheet'!$T$7<>0,AVERAGE(Tally_CL),IF(F10=1,AVERAGE(Tally),IF(F10=2,AVERAGE(Tally2),IF(F10=3,AVERAGE(Tally3),IF(F10=4,AVERAGE(Tally4),IF(F10=5,AVERAGE(Tally5))))))))","v":{"$error":"#N/A"}},{"$f":"IF(J10=\"\",NA(),IF($E$3>=BV$2,G10+$N10,#N/A))","v":{"$error":"#N/A"}},{"$f":"IF(J10=\"\",NA(),IF($E$3>=BV$2,G10-$N10,#N/A))","v":{"$error":"#N/A"}},{"$f":"IF(ISERROR(E10),\"\",E10)","v":""},{"$f":"IF(L10=\"\",NA(),L10)","v":{"$error":"#N/A"}},{"$f":"IF(ISERROR(E10),IF(C10<$E$3,\"\",NA()),IF(ISERROR(E9),\"\",IF(E9=\"\",\"\",IF(E10=\"\",\"\",ABS(E9-E10)))))","v":{"$error":"#N/A"}},{"$f":"IF(L10=\"\",NA(),IF('Front sheet'!$T$7<>0,AVERAGE(MR_CL),IF(F10=1,AVERAGE(MR_1),IF(F10=2,AVERAGE(MR_2),IF(F10=3,AVERAGE(MR_3),IF(F10=4,AVERAGE(MR_4),IF(F10=5,AVERAGE(MR_5))))))))","v":{"$error":"#N/A"}},{"$f":"IF(ISERROR((M10*2.66)),N11,(M10*2.66))","v":0},{"$f":"IF(L10=\"\",NA(),M10*3.27)","v":{"$error":"#N/A"}},null,{"$f":"IF(ISERROR($E10),0,IF($E10>$H10,MAX($Q$8:Q9)+1,0))","v":0},{"$f":"IF(ISERROR($E10),0,IF($E10<$I10,MAX($R$8:R9)+1,0))","v":0},null,{"$f":"IF(ISERROR(E10),0,IF(F10=F9,IF(E10>G10,1,0),0))","v":0},{"$f":"IF(AND(U9=1,T10=1),1,IF($U$5=7,IF(SUM(T10:T16)>=$U$5,1,0),IF(SUM(T10:T15)>=$U$5,1,0)))","v":0},null,{"$f":"IF(ISERROR(E10),0,IF(F10=F9,IF(E10<G10,1,0),0))","v":0},{"$f":"IF(AND(X9=1,W10=1),1,IF($U$5=7,IF(SUM(W10:W16)>=$U$5,1,0),IF(SUM(W10:W15)>=$U$5,1,0)))","v":0},null,{"$f":"IF(OR(ISERROR(E10),ISERROR(E9)),0,IF(F10=F9,IF(E10>E9,1,0)))","v":0},{"$f":"IF(AA$5=7,IF(AND(AA9>0,Z10>0),1,IF(SUM(Z11:Z16)>=6,1,IF(MOD(SUM(Z11:Z16),1)>0,IF(SUM(Z11:Z17)>=6,1,0),0))),IF(AND(AA9>0,Z10>0),1,IF(SUM(Z11:Z15)>=5,1,IF(MOD(SUM(Z11:Z15),1)>0,IF(SUM(Z11:Z16)>=5,1,0),0))))","v":0},null,{"$f":"IF(OR(ISERROR(E10),ISERROR(E9)),0,IF(F10=F9,IF(E10<E9,1,0)))","v":0},{"$f":"IF(AD$5=7,IF(AND(AD9>0,AC10>0),1,IF(SUM(AC11:AC16)>=6,1,IF(MOD(SUM(AC11:AC16),1)>0,IF(SUM(AC11:AC17)>=6,1,0),0))),IF(AND(AD9>0,AC10>0),1,IF(SUM(AC11:AC15)>=5,1,IF(MOD(SUM(AC11:AC15),1)>0,IF(SUM(AC11:AC16)>=5,1,0),0))))","v":0},{"$f":"IFERROR(IF(E10>G10,2,1),0)","v":0},{"$f":"IFERROR(IF(E10=\"\",0,IF(E10<G10-2*(M10/1.128),1,0)),0)","v":0},{"$f":"IF(AND(AF10=1,SUM(AE8:AE10)=3,SUM(AF8:AF10)>=2),1,IF(AND(AF10=1,SUM(AF9:AF11)>=2,SUM(AE9:AE11)=3),1,IF(AND(AF10=1,SUM(AF10:AF12)>=2,SUM(AE10:AE12)=3),1,0)))","v":0},{"$f":"IFERROR(IF(E10=\"\",0,IF(E10>G10+2*(M10/1.128),1,0)),0)","v":0},{"$f":"IF(AND(SUM(AE8:AE10)=6,SUM(AH8:AH10,)>=2,AH10=1),1,IF(AND(AH10=1,SUM(AH9:AH11)>=2,SUM(AE9:AE11)=6),1,IF(AND(AH10=1,SUM(AH10:AH12)>=2,SUM(AE10:AE12)=6),1,0)))","v":0},null,{"$f":"IF(ISERROR($L10),0,IF($L10>$O10,MAX($AK$8:AK9)+1,0))","v":0},{"$f":"IF(L10>O10,L10,#N/A)","v":{"$error":"#N/A"}},null,{"$f":"IF(AND(J10>G10-M10/1.128,J10<G10+M10/1.128),1,0)","v":{"$error":"#N/A"}},{"$error":"#N/A"},{"$f":"IF(C10<=$E$3,IF('Front sheet'!$O$3=\"\",NA(),'Front sheet'!$O$3),NA())","v":{"$error":"#N/A"}},{"$f":"IF($U$6=2,NA(),IF(AA10=0,#N/A,E10))","v":{"$error":"#N/A"}},{"$f":"IF($U$6=2,NA(),IF(AD10=0,#N/A,E10))","v":{"$error":"#N/A"}},{"$f":"IF($AS$7=\"High is good\",AR10,IF($AS$7=\"Low is good\",AQ10,NA()))","v":{"$error":"#N/A"}},{"$f":"IF($AS$7=\"High is good\",AQ10,IF($AS$7=\"Low is good\",AR10,NA()))","v":{"$error":"#N/A"}},{"$f":"IF($U$6=2,NA(),IF(U10=0,#N/A,E10))","v":{"$error":"#N/A"}},{"$f":"IF($U$6=2,NA(),IF(X10=0,#N/A,E10))","v":{"$error":"#N/A"}},{"$f":"IF($AS$7=\"High is good\",AV10,IF($AS$7=\"Low is good\",AU10,NA()))","v":{"$error":"#N/A"}},{"$f":"IF($AS$7=\"High is good\",AU10,IF($AS$7=\"Low is good\",AV10,NA()))","v":{"$error":"#N/A"}},{"$f":"IF($U$6=2,NA(),IF(Q10=0,#N/A,E10))","v":{"$error":"#N/A"}},{"$f":"IF($U$6=2,NA(),IF(R10=0,#N/A,E10))","v":{"$error":"#N/A"}},{"$f":"IF($AS$7=\"High is good\",AZ10,IF($AS$7=\"Low is good\",AY10,NA()))","v":{"$error":"#N/A"}},{"$f":"IF($AS$7=\"High is good\",AY10,IF($AS$7=\"Low is good\",AZ10,NA()))","v":{"$error":"#N/A"}},{"$f":"IF($U$6=2,NA(),IF(AI10=0,#N/A,E10))","v":{"$error":"#N/A"}},{"$f":"IF($U$6=2,NA(),IF(AG10=0,#N/A,E10))","v":{"$error":"#N/A"}},{"$f":"IF($AS$7=\"High is good\",BD10,IF($AS$7=\"Low is good\",BC10,NA()))","v":{"$error":"#N/A"}},{"$f":"IF($AS$7=\"High is good\",BC10,IF($AS$7=\"Low is good\",BD10,NA()))","v":{"$error":"#N/A"}},{"$f":"IF($AS$7=\"Neither\",BH10,NA())","v":{"$error":"#N/A"}},{"$f":"IF(AND(U10=0,R10=0,Q10=0,X10=0,X10=0,AA10=0,AD10=0,AG10=0,AI10=0),#N/A,E10)","v":{"$error":"#N/A"}},{"$f":"D10","v":""},{"$f":"IFERROR(WEEKDAY(BI10),\"\")","v":""},null,2,{"$f":"IF($BM$8=\"Yes\",\"\",IF(BN10=$BO$8,1,IF(BN10=$BP$8,2,IF(BN10=$BQ$8,3,IF(BN10=$BR$8,4,IF(BN10=$BS$8,5,\"\"))))))","v":1},"",{"$error":"#N/A"},{"$error":"#N/A"},{"$error":"#N/A"},{"$error":"#N/A"},{"$error":"#N/A"},{"$f":"IF(BN10=$BU$8,1,IF(BN10=$BV$8,2,IF(BN10=$BW$8,3,IF(BN10=$BX$8,4,\"\"))))","v":1},{"$f":"IF($BU$6=0,#N/A,IF(BT10=BU$7,$E10-$BN$2,#N/A))","v":{"$error":"#N/A"}},{"$f":"IF($BV$6=0,#N/A,IF(BT10=BV$7,$E10-$BN$2,#N/A))","v":{"$error":"#N/A"}},{"$f":"IF($BW$6=0,#N/A,IF($BT10=BW$7,$E10-$BN$2,#N/A))","v":{"$error":"#N/A"}},{"$f":"IF($BX$6=0,#N/A,IF($BT10=BX$7,$E10-$BN$2,#N/A))","v":{"$error":"#N/A"}},null,null,null,2,{"$f":"IF(E$3<13,NA(),IF($CB10<>$E$3,NA(),IF(AND(ISERROR($DC10),ISERROR($DD10)),$BP$2,NA())))","v":{"$error":"#N/A"}},{"$f":"IF(E$3<13,NA(),IF(CB10<>$E$3,NA(),IF($CB$6<>1,NA(),IF(ISERROR(DD10),NA(),$BP$2))))","v":{"$error":"#N/A"}},{"$f":"IF(E$3<13,NA(),IF(CB10<>$E$3,NA(),IF($CB$6<>1,NA(),IF(ISERROR(DC10),NA(),$BP$2))))","v":{"$error":"#N/A"}},null,2,{"$f":"IF(E$3<13,NA(),IF(CB10<>$E$3,NA(),IF($CB$6=1,NA(),IF(ISERROR(DD10),NA(),$BP$2))))","v":{"$error":"#N/A"}},{"$f":"IF(E$3<13,NA(),IF(CB10<>$E$3,NA(),IF($CB$6=1,NA(),IF(ISERROR(DC10),NA(),$BP$2))))","v":{"$error":"#N/A"}},null,2,{"$f":"IF(CK10<>$E$3,NA(),IF(OR(Q10>=1,U10>=1,AA10>=1,AI10>=1),1,NA()))","v":{"$error":"#N/A"}},{"$error":"#N/A"},{"$f":"IF(CK10<>$E$3,NA(),IF(OR(R10>=1,X10>=1,AD10>=1,AG10>=1),1,NA()))","v":{"$error":"#N/A"}},{"$error":"#N/A"},null,null,2,{"$error":"#N/A"},{"$error":"#N/A"},{"$error":"#N/A"},null,0,0,null,null,{"$f":"IF($U$6=2,NA(),IF(AND(U10=0,AA10=0,AI10=0,Q10=0),#N/A,J10))","v":{"$error":"#N/A"}},{"$f":"IF($U$6=2,NA(),IF(AND(R10=0,X10=0,AD10=0,AG10=0),#N/A,J10))","v":{"$error":"#N/A"}},{"$f":"IF($CB$5=\"High is good\",$DB10,IF($CB$5=\"Low is good\",$DA10,NA()))","v":{"$error":"#N/A"}},{"$f":"IF($CB$5=\"High is good\",$DA10,IF($CB$5=\"Low is good\",$DB10,NA()))","v":{"$error":"#N/A"}}]
[null,{"$f":"IF(ISERROR(E11),0,C11)","v":0},3,{"$f":"IF('Front sheet'!$C12=\"\",\"\",'Front sheet'!$C12)","v":""},{"$f":"IF('Front sheet'!D12=\"\",#N/A,'Front sheet'!D12)","v":{"$error":"#N/A"}},"",{"$f":"IF(J11=\"\",NA(),IF('Front sheet'!$T$7<>0,AVERAGE(Tally_CL),IF(F11=1,AVERAGE(Tally),IF(F11=2,AVERAGE(Tally2),IF(F11=3,AVERAGE(Tally3),IF(F11=4,AVERAGE(Tally4),IF(F11=5,AVERAGE(Tally5))))))))","v":{"$error":"#N/A"}},{"$error":"#N/A"},{"$error":"#N/A"},"",{"$error":"#N/A"},{"$f":"IF(ISERROR(E11),IF(C11<$E$3,\"\",NA()),IF(ISERROR(E10),\"\",IF(E10=\"\",\"\",IF(E11=\"\",\"\",ABS(E10-E11)))))","v":{"$error":"#N/A"}},{"$f":"IF(L11=\"\",NA(),IF('Front sheet'!$T$7<>0,AVERAGE(MR_CL),IF(F11=1,AVERAGE(MR_1),IF(F11=2,AVERAGE(MR_2),IF(F11=3,AVERAGE(MR_3),IF(F11=4,AVERAGE(MR_4),IF(F11=5,AVERAGE(MR_5))))))))","v":{"$error":"#N/A"}},0,{"$f":"IF(L11=\"\",NA(),M11*3.27)","v":{"$error":"#N/A"}},null,{"$f":"IF(ISERROR($E11),0,IF($E11>$H11,MAX($Q$8:Q10)+1,0))","v":0},{"$f":"IF(ISERROR($E11),0,IF($E11<$I11,MAX($R$8:R10)+1,0))","v":0},null,0,0,null,0,0,null,0,0,null,0,0,0,0,0,0,0,null,{"$f":"IF(ISERROR($L11),0,IF($L11>$O11,MAX($AK$8:AK10)+1,0))","v":0},{"$error":"#N/A"},null,{"$error":"#N/A"},{"$error":"#N/A"},{"$f":"IF(C11<=$E$3,IF('Front sheet'!$O$3=\"\",NA(),'Front sheet'!$O$3),NA())","v":{"$error":"#N/A"}},{"$error":"#N/A"},{"$error":"#N/A"},{"$error":"#N/A"},{"$error":"#N/A"},{"$error":"#N/A"},{"$f":"IF($U$6=2,NA(),IF(X11=0,#N/A,E11))","v":{"$error":"#N/A"}},{"$error":"#N/A"},{"$error":"#N/A"},{"$error":"#N/A"},{"$error":"#N/A"},{"$error":"#N/A"},{"$error":"#N/A"},{"$error":"#N/A"},{"$error":"#N/A"},{"$error":"#N/A"},{"$error":"#N/A"},{"$f":"IF($AS$7=\"Neither\",BH11,NA())","v":{"$error":"#N/A"}},{"$f":"IF(AND(U11=0,R11=0,Q11=0,X11=0,X11=0,AA11=0,AD11=0,AG11=0,AI11=0),#N/A,E11)","v":{"$error":"#N/A"}},"","",null,3,1,"",{"$error":"#N/A"},{"$error":"#N/A"},{"$error":"#N/A"},{"$error":"#N/A"},{"$error":"#N/A"},1,{"$error":"#N/A"},{"$error":"#N/A"},{"$error":"#N/A"},{"$error":"#N/A"},null,null,null,3,{"$error":"#N/A"},{"$error":"#N/A"},{"$error":"#N/A"},null,3,{"$error":"#N/A"},{"$error":"#N/A"},null,3,{"$error":"#N/A"},{"$error":"#N/A"},{"$f":"IF(CK11<>$E$3,NA(),IF(OR(R11>=1,X11>=1,AD11>=1,AG11>=1),1,NA()))","v":{"$error":"#N/A"}},{"$error":"#N/A"},null,null,3,{"$error":"#N/A"},{"$error":"#N/A"},{"$error":"#N/A"},null,0,0,null,null,{"$error":"#N/A"},{"$f":"IF($U$6=2,NA(),IF(AND(R11=0,X11=0,AD11=0,AG11=0),#N/A,J11))","v":{"$error":"#N/A"}},{"$error":"#N/A"},{"$error":"#N/A"}]
[null,0,4,{"$f":"IF('Front sheet'!$C13=\"\",\"\",'Front sheet'!$C13)","v":""},{"$f":"IF('Front sheet'!D13=\"\",#N/A,'Front sheet'!D13)","v":{"$error":"#N/A"}},"",{"$f":"IF(J12=\"\",NA(),IF('Front sheet'!$T$7<>0,AVERAGE(Tally_CL),IF(F12=1,AVERAGE(Tally),IF(F12=2,AVERAGE(Tally2),IF(F12=3,AVERAGE(Tally3),IF(F12=4,AVERAGE(Tally4),IF(F12=5,AVERAGE(Tally5))))))))","v":{"$error":"#N/A"}},{"$error":"#N/A"},{"$error":"#N/A"},"",{"$error":"#N/A"},{"$error":"#N/A"},{"$f":"IF(L12=\"\",NA(),IF('Front sheet'!$T$7<>0,AVERAGE(MR_CL),IF(F12=1,AVERAGE(MR_1),IF(F12=2,AVERAGE(MR_2),IF(F12=3,AVERAGE(MR_3),IF(F12=4,AVERAGE(MR_4),IF(F12=5,AVERAGE(MR_5))))))))","v":{"$error":"#N/A"}},0,{"$error":"#N/A"},null,{"$f":"IF(ISERROR($E12),0,IF($E12>$H12,MAX($Q$8:Q11)+1,0))","v":0},{"$f":"IF(ISERROR($E12),0,IF($E12<$I12,MAX($R$8:R11)+1,0))","v":0},null,0,0,null,0,0,null,0,0,null,0,0,0,0,0,0,0,null,{"$f":"IF(ISERROR($L12),0,IF($L12>$O12,MAX($AK$8:AK11)+1,0))","v":0},{"$error":"#N/A"},null,{"$error":"#N/A"},{"$error":"#N/A"},{"$f":"IF(C12<=$E$3,IF('Front sheet'!$O$3=\"\",NA(),'Front sheet'!$O$3),NA())","v":{"$error":"#N/A"}},{"$error":"#N/A"},{"$error":"#N/A"},{"$error":"#N/A"},{"$error":"#N/A"},{"$error":"#N/A"},{"$error":"#N/A"},{"$error":"#N/A"},{"$error":"#N/A"},{"$error":"#N/A"},{"$error":"#N/A"},{"$error":"#N/A"},{"$error":"#N/A"},{"$error":"#N/A"},{"$error":"#N/A"},{"$error":"#N/A"},{"$error":"#N/A"},{"$f":"IF($AS$7=\"Neither\",BH12,NA())","v":{"$error":"#N/A"}},{"$error":"#N/A"},"","",null,4,1,"",{"$error":"#N/A"},{"$error":"#N/A"},{"$error":"#N/A"},{"$error":"#N/A"},{"$error":"#N/A"},1,{"$error":"#N/A"},{"$error":"#N/A"},{"$error":"#N/A"},{"$error":"#N/A"},null,null,null,4,{"$error":"#N/A"},{"$error":"#N/A"},{"$error":"#N/A"},null,4,{"$error":"#N/A"},{"$error":"#N/A"},null,4,{"$error":"#N/A"},{"$error":"#N/A"},{"$error":"#N/A"},{"$error":"#N/A"},null,null,4,{"$error":"#N/A"},{"$error":"#N/A"},{"$error":"#N/A"},null,0,0,null,null,{"$error":"#N/A"},{"$error":"#N/A"},{"$error":"#N/A"},{"$error":"#N/A"}]
[null,0,5,{"$f":"IF('Front sheet'!$C14=\"\",\"\",'Front sheet'!$C14)","v":""},{"$f":"IF('Front sheet'!D14=\"\",#N/A,'Front sheet'!D14)","v":{"$error":"#N/A"}},"",{"$f":"IF(J13=\"\",NA(),IF('Front sheet'!$T$7<>0,AVERAGE(Tally_CL),IF(F13=1,AVERAGE(Tally),IF(F13=2,AVERAGE(Tally2),IF(F13=3,AVERAGE(Tally3),IF(F13=4,AVERAGE(Tally4),IF(F13=5,AVERAGE(Tally5))))))))","v":{"$error":"#N/A"}},{"$error":"#N/A"},{"$error":"#N/A"},{"$f":"IF(ISERROR(E13),\"\",E13)","v":""},{"$error":"#N/A"},{"$error":"#N/A"},{"$f":"IF(L13=\"\",NA(),IF('Front sheet'!$T$7<>0,AVERAGE(MR_CL),IF(F13=1,AVERAGE(MR_1),IF(F13=2,AVERAGE(MR_2),IF(F13=3,AVERAGE(MR_3),IF(F13=4,AVERAGE(MR_4),IF(F13=5,AVERAGE(MR_5))))))))","v":{"$error":"#N/A"}},0,{"$error":"#N/A"},null,{"$f":"IF(ISERROR($E13),0,IF($E13>$H13,MAX($Q$8:Q12)+1,0))","v":0},{"$f":"IF(ISERROR($E13),0,IF($E13<$I13,MAX($R$8:R12)+1,0))","v":0},null,0,0,null,0,0,null,0,0,null,0,0,0,0,0,0,0,null,{"$f":"IF(ISERROR($L13),0,IF($L13>$O13,MAX($AK$8:AK12)+1,0))","v":0},{"$error":"#N/A"},null,{"$error":"#N/A"},{"$error":"#N/A"},{"$f":"IF(C13<=$E$3,IF('Front sheet'!$O$3=\"\",NA(),'Front sheet'!$O$3),NA())","v":{"$error":"#N/A"}},{"$error":"#N/A"},{"$error":"#N/A"},{"$error":"#N/A"},{"$error":"#N/A"},{"$error":"#N/A"},{"$error":"#N/A"},{"$error":"#N/A"},{"$error":"#N/A"},{"$error":"#N/A"},{"$error":"#N/A"},{"$error":"#N/A"},{"$error":"#N/A"},{"$error":"#N/A"},{"$error":"#N/A"},{"$error":"#N/A"},{"$error":"#N/A"},{"$f":"IF($AS$7=\"Neither\",BH13,NA())","v":{"$error":"#N/A"}},{"$error":"#N/A"},"","",null,5,1,"",{"$error":"#N/A"},{"$error":"#N/A"},{"$error":"#N/A"},{"$error":"#N/A"},{"$error":"#N/A"},1,{"$error":"#N/A"},{"$error":"#N/A"},{"$error":"#N/A"},{"$error":"#N/A"},null,null,null,5,{"$error":"#N/A"},{"$error":"#N/A"},{"$error":"#N/A"},null,5,{"$error":"#N/A"},{"$error":"#N/A"},null,5,{"$error":"#N/A"},{"$error":"#N/A"},{"$error":"#N/A"},{"$error":"#N/A"},null,null,5,{"$error":"#N/A"},{"$error":"#N/A"},{"$error":"#N/A"},null,0,0,null,null,{"$error":"#N/A"},{"$error":"#N/A"},{"$error":"#N/A"},{"$error":"#N/A"}]
[null,0,6,{"$f":"IF('Front sheet'!$C15=\"\",\"\",'Front sheet'!$C15)","v":""},{"$f":"IF('Front sheet'!D15=\"\",#N/A,'Front sheet'!D15)","v":{"$error":"#N/A"}},"",{"$f":"IF(J14=\"\",NA(),IF('Front sheet'!$T$7<>0,AVERAGE(Tally_CL),IF(F14=1,AVERAGE(Tally),IF(F14=2,AVERAGE(Tally2),IF(F14=3,AVERAGE(Tally3),IF(F14=4,AVERAGE(Tally4),IF(F14=5,AVERAGE(Tally5))))))))","v":{"$error":"#N/A"}},{"$error":"#N/A"},{"$error":"#N/A"},"",{"$error":"#N/A"},{"$error":"#N/A"},{"$f":"IF(L14=\"\",NA(),IF('Front sheet'!$T$7<>0,AVERAGE(MR_CL),IF(F14=1,AVERAGE(MR_1),IF(F14=2,AVERAGE(MR_2),IF(F14=3,AVERAGE(MR_3),IF(F14=4,AVERAGE(MR_4),IF(F14=5,AVERAGE(MR_5))))))))","v":{"$error":"#N/A"}},0,{"$error":"#N/A"},null,{"$f":"IF(ISERROR($E14),0,IF($E14>$H14,MAX($Q$8:Q13)+1,0))","v":0},{"$f":"IF(ISERROR($E14),0,IF($E14<$I14,MAX($R$8:R13)+1,0))","v":0},null,0,0,null,0,0,null,0,0,null,0,0,0,0,0,0,0,null,{"$f":"IF(ISERROR($L14),0,IF($L14>$O14,MAX($AK$8:AK13)+1,0))","v":0},{"$error":"#N/A"},null,{"$error":"#N/A"},{"$error":"#N/A"},{"$f":"IF(C14<=$E$3,IF('Front sheet'!$O$3=\"\",NA(),'Front sheet'!$O$3),NA())","v":{"$error":"#N/A"}},{"$error":"#N/A"},{"$error":"#N/A"},{"$error":"#N/A"},{"$error":"#N/A"},{"$error":"#N/A"},{"$error":"#N/A"},{"$error":"#N/A"},{"$error":"#N/A"},{"$error":"#N/A"},{"$error":"#N/A"},{"$error":"#N/A"},{"$error":"#N/A"},{"$error":"#N/A"},{"$error":"#N/A"},{"$error":"#N/A"},{"$error":"#N/A"},{"$error":"#N/A"},{"$error":"#N/A"},"","",null,6,1,"",{"$f":"IF($BO$6=0,#N/A,IF(BM14=BO$7,$E14-$BN$2,#N/A))","v":{"$error":"#N/A"}},{"$error":"#N/A"},{"$error":"#N/A"},{"$error":"#N/A"},{"$error":"#N/A"},1,{"$error":"#N/A"},{"$error":"#N/A"},{"$error":"#N/A"},{"$error":"#N/A"},null,null,null,6,{"$error":"#N/A"},{"$error":"#N/A"},{"$error":"#N/A"},null,6,{"$error":"#N/A"},{"$error":"#N/A"},null,6,{"$error":"#N/A"},{"$error":"#N/A"},{"$error":"#N/A"},{"$error":"#N/A"},null,null,6,{"$error":"#N/A"},{"$error":"#N/A"},{"$error":"#N/A"},null,0,0,null,null,{"$error":"#N/A"},{"$error":"#N/A"},{"$error":"#N/A"},{"$error":"#N/A"}]
[null,0,7,{"$f":"IF('Front sheet'!$C16=\"\",\"\",'Front sheet'!$C16)","v":""},{"$f":"IF('Front sheet'!D16=\"\",#N/A,'Front sheet'!D16)","v":{"$error":"#N/A"}},"",{"$f":"IF(J15=\"\",NA(),IF('Front sheet'!$T$7<>0,AVERAGE(Tally_CL),IF(F15=1,AVERAGE(Tally),IF(F15=2,AVERAGE(Tally2),IF(F15=3,AVERAGE(Tally3),IF(F15=4,AVERAGE(Tally4),IF(F15=5,AVERAGE(Tally5))))))))","v":{"$error":"#N/A"}},{"$error":"#N/A"},{"$error":"#N/A"},"",{"$error":"#N/A"},{"$error":"#N/A"},{"$f":"IF(L15=\"\",NA(),IF('Front sheet'!$T$7<>0,AVERAGE(MR_CL),IF(F15=1,AVERAGE(MR_1),IF(F15=2,AVERAGE(MR_2),IF(F15=3,AVERAGE(MR_3),IF(F15=4,AVERAGE(MR_4),IF(F15=5,AVERAGE(MR_5))))))))","v":{"$error":"#N/A"}},0,{"$error":"#N/A"},null,{"$f":"IF(ISERROR($E15),0,IF($E15>$H15,MAX($Q$8:Q14)+1,0))","v":0},{"$f":"IF(ISERROR($E15),0,IF($E15<$I15,MAX($R$8:R14)+1,0))","v":0},null,0,0,null,0,0,null,0,0,null,0,0,0,0,0,0,0,null,{"$f":"IF(ISERROR($L15),0,IF($L15>$O15,MAX($AK$8:AK14)+1,0))","v":0},{"$error":"#N/A"},null,{"$error":"#N/A"},{"$error":"#N/A"},{"$f":"IF(C15<=$E$3,IF('Front sheet'!$O$3=\"\",NA(),'Front sheet'!$O$3),NA())","v":{"$error":"#N/A"}},{"$error":"#N/A"},{"$error":"#N/A"},{"$error":"#N/A"},{"$error":"#N/A"},{"$error":"#N/A"},{"$error":"#N/A"},{"$error":"#N/A"},{"$error":"#N/A"},{"$error":"#N/A"},{"$error":"#N/A"},{"$error":"#N/A"},{"$error":"#N/A"},{"$error":"#N/A"},{"$error":"#N/A"},{"$error":"#N/A"},{"$error":"#N/A"},{"$error":"#N/A"},{"$error":"#N/A"},"","",null,7,1,"",{"$error":"#N/A"},{"$error":"#N/A"},{"$error":"#N/A"},{"$error":"#N/A"},{"$error":"#N/A"},1,{"$error":"#N/A"},{"$error":"#N/A"},{"$error":"#N/A"},{"$error":"#N/A"},null,null,null,7,{"$error":"#N/A"},{"$error":"#N/A"},{"$error":"#N/A"},null,7,{"$error":"#N/A"},{"$error":"#N/A"},null,7,{"$error":"#N/A"},{"$error":"#N/A"},{"$error":"#N/A"},{"$error":"#N/A"},null,null,7,{"$error":"#N/A"},{"$error":"#N/A"},{"$error":"#N/A"},null,0,0,null,null,{"$error":"#N/A"},{"$error":"#N/A"},{"$error":"#N/A"},{"$error":"#N/A"}]
[null,0,8,{"$f":"IF('Front sheet'!$C17=\"\",\"\",'Front sheet'!$C17)","v":""},{"$f":"IF('Front sheet'!D17=\"\",#N/A,'Front sheet'!D17)","v":{"$error":"#N/A"}},"",{"$f":"IF(J16=\"\",NA(),IF('Front sheet'!$T$7<>0,AVERAGE(Tally_CL),IF(F16=1,AVERAGE(Tally),IF(F16=2,AVERAGE(Tally2),IF(F16=3,AVERAGE(Tally3),IF(F16=4,AVERAGE(Tally4),IF(F16=5,AVERAGE(Tally5))))))))","v":{"$error":"#N/A"}},{"$error":"#N/A"},{"$error":"#N/A"},"",{"$error":"#N/A"},{"$error":"#N/A"},{"$f":"IF(L16=\"\",NA(),IF('Front sheet'!$T$7<>0,AVERAGE(MR_CL),IF(F16=1,AVERAGE(MR_1),IF(F16=2,AVERAGE(MR_2),IF(F16=3,AVERAGE(MR_3),IF(F16=4,AVERAGE(MR_4),IF(F16=5,AVERAGE(MR_5))))))))","v":{"$error":"#N/A"}},0,{"$error":"#N/A"},null,{"$f":"IF(ISERROR($E16),0,IF($E16>$H16,MAX($Q$8:Q15)+1,0))","v":0},{"$f":"IF(ISERROR($E16),0,IF($E16<$I16,MAX($R$8:R15)+1,0))","v":0},null,0,0,null,0,0,null,0,0,null,0,0,0,0,0,0,0,null,{"$f":"IF(ISERROR($L16),0,IF($L16>$O16,MAX($AK$8:AK15)+1,0))","v":0},{"$error":"#N/A"},null,{"$error":"#N/A"},{"$error":"#N/A"},{"$f":"IF(C16<=$E$3,IF('Front sheet'!$O$3=\"\",NA(),'Front sheet'!$O$3),NA())","v":{"$error":"#N/A"}},{"$error":"#N/A"},{"$error":"#N/A"},{"$error":"#N/A"},{"$error":"#N/A"},{"$error":"#N/A"},{"$error":"#N/A"},{"$error":"#N/A"},{"$error":"#N/A"},{"$error":"#N/A"},{"$error":"#N/A"},{"$error":"#N/A"},{"$error":"#N/A"},{"$error":"#N/A"},{"$error":"#N/A"},{"$error":"#N/A"},{"$error":"#N/A"},{"$error":"#N/A"},{"$error":"#N/A"},"","",null,8,1,"",{"$error":"#N/A"},{"$error":"#N/A"},{"$error":"#N/A"},{"$error":"#N/A"},{"$error":"#N/A"},1,{"$f":"IF($BU$6=0,#N/A,IF(BT16=BU$7,$E16-$BN$2,#N/A))","v":{"$error":"#N/A"}},{"$error":"#N/A"},{"$error":"#N/A"},{"$error":"#N/A"},null,null,null,8,{"$error":"#N/A"},{"$error":"#N/A"},{"$error":"#N/A"},null,8,{"$error":"#N/A"},{"$error":"#N/A"},null,8,{"$error":"#N/A"},{"$error":"#N/A"},{"$error":"#N/A"},{"$error":"#N/A"},null,null,8,{"$error":"#N/A"},{"$error":"#N/A"},{"$error":"#N/A"},null,0,0,null,null,{"$error":"#N/A"},{"$error":"#N/A"},{"$error":"#N/A"},{"$error":"#N/A"}]
[null,0,9,{"$f":"IF('Front sheet'!$C18=\"\",\"\",'Front sheet'!$C18)","v":""},{"$f":"IF('Front sheet'!D18=\"\",#N/A,'Front sheet'!D18)","v":{"$error":"#N/A"}},"",{"$f":"IF(J17=\"\",NA(),IF('Front sheet'!$T$7<>0,AVERAGE(Tally_CL),IF(F17=1,AVERAGE(Tally),IF(F17=2,AVERAGE(Tally2),IF(F17=3,AVERAGE(Tally3),IF(F17=4,AVERAGE(Tally4),IF(F17=5,AVERAGE(Tally5))))))))","v":{"$error":"#N/A"}},{"$error":"#N/A"},{"$error":"#N/A"},"",{"$error":"#N/A"},{"$error":"#N/A"},{"$f":"IF(L17=\"\",NA(),IF('Front sheet'!$T$7<>0,AVERAGE(MR_CL),IF(F17=1,AVERAGE(MR_1),IF(F17=2,AVERAGE(MR_2),IF(F17=3,AVERAGE(MR_3),IF(F17=4,AVERAGE(MR_4),IF(F17=5,AVERAGE(MR_5))))))))","v":{"$error":"#N/A"}},0,{"$error":"#N/A"},null,{"$f":"IF(ISERROR($E17),0,IF($E17>$H17,MAX($Q$8:Q16)+1,0))","v":0},{"$f":"IF(ISERROR($E17),0,IF($E17<$I17,MAX($R$8:R16)+1,0))","v":0},null,0,0,null,0,0,null,0,0,null,0,0,0,0,0,0,0,null,{"$f":"IF(ISERROR($L17),0,IF($L17>$O17,MAX($AK$8:AK16)+1,0))","v":0},{"$error":"#N/A"},null,{"$error":"#N/A"},{"$error":"#N/A"},{"$f":"IF(C17<=$E$3,IF('Front sheet'!$O$3=\"\",NA(),'Front sheet'!$O$3),NA())","v":{"$error":"#N/A"}},{"$error":"#N/A"},{"$error":"#N/A"},{"$f":"IF($AS$7=\"High is good\",AR17,IF($AS$7=\"Low is good\",AQ17,NA()))","v":{"$error":"#N/A"}},{"$error":"#N/A"},{"$error":"#N/A"},{"$error":"#N/A"},{"$error":"#N/A"},{"$error":"#N/A"},{"$error":"#N/A"},{"$error":"#N/A"},{"$error":"#N/A"},{"$error":"#N/A"},{"$error":"#N/A"},{"$error":"#N/A"},{"$error":"#N/A"},{"$error":"#N/A"},{"$error":"#N/A"},{"$error":"#N/A"},"","",null,9,1,"",{"$error":"#N/A"},{"$error":"#N/A"},{"$error":"#N/A"},{"$error":"#N/A"},{"$error":"#N/A"},1,{"$error":"#N/A"},{"$error":"#N/A"},{"$error":"#N/A"},{"$error":"#N/A"},null,null,null,9,{"$error":"#N/A"},{"$error":"#N/A"},{"$error":"#N/A"},null,9,{"$error":"#N/A"},{"$error":"#N/A"},null,9,{"$error":"#N/A"},{"$error":"#N/A"},{"$error":"#N/A"},{"$error":"#N/A"},null,null,9,{"$error":"#N/A"},{"$error":"#N/A"},{"$error":"#N/A"},null,0,0,null,null,{"$error":"#N/A"},{"$error":"#N/A"},{"$error":"#N/A"},{"$error":"#N/A"}]
[null,0,10,{"$f":"IF('Front sheet'!$C19=\"\",\"\",'Front sheet'!$C19)","v":""},{"$f":"IF('Front sheet'!D19=\"\",#N/A,'Front sheet'!D19)","v":{"$error":"#N/A"}},"",{"$f":"IF(J18=\"\",NA(),IF('Front sheet'!$T$7<>0,AVERAGE(Tally_CL),IF(F18=1,AVERAGE(Tally),IF(F18=2,AVERAGE(Tally2),IF(F18=3,AVERAGE(Tally3),IF(F18=4,AVERAGE(Tally4),IF(F18=5,AVERAGE(Tally5))))))))","v":{"$error":"#N/A"}},{"$error":"#N/A"},{"$error":"#N/A"},"",{"$error":"#N/A"},{"$error":"#N/A"},{"$f":"IF(L18=\"\",NA(),IF('Front sheet'!$T$7<>0,AVERAGE(MR_CL),IF(F18=1,AVERAGE(MR_1),IF(F18=2,AVERAGE(MR_2),IF(F18=3,AVERAGE(MR_3),IF(F18=4,AVERAGE(MR_4),IF(F18=5,AVERAGE(MR_5))))))))","v":{"$error":"#N/A"}},0,{"$error":"#N/A"},null,{"$f":"IF(ISERROR($E18),0,IF($E18>$H18,MAX($Q$8:Q17)+1,0))","v":0},{"$f":"IF(ISERROR($E18),0,IF($E18<$I18,MAX($R$8:R17)+1,0))","v":0},null,0,0,null,0,0,null,0,0,null,0,0,0,0,0,0,0,null,{"$f":"IF(ISERROR($L18),0,IF($L18>$O18,MAX($AK$8:AK17)+1,0))","v":0},{"$error":"#N/A"},null,{"$error":"#N/A"},{"$error":"#N/A"},{"$f":"IF(C18<=$E$3,IF('Front sheet'!$O$3=\"\",NA(),'Front sheet'!$O$3),NA())","v":{"$error":"#N/A"}},{"$error":"#N/A"},{"$error":"#N/A"},{"$error":"#N/A"},{"$error":"#N/A"},{"$error":"#N/A"},{"$error":"#N/A"},{"$error":"#N/A"},{"$error":"#N/A"},{"$error":"#N/A"},{"$error":"#N/A"},{"$error":"#N/A"},{"$error":"#N/A"},{"$error":"#N/A"},{"$error":"#N/A"},{"$error":"#N/A"},{"$error":"#N/A"},{"$error":"#N/A"},{"$error":"#N/A"},"","",null,10,1,"",{"$error":"#N/A"},{"$error":"#N/A"},{"$error":"#N/A"},{"$error":"#N/A"},{"$error":"#N/A"},1,{"$error":"#N/A"},{"$error":"#N/A"},{"$error":"#N/A"},{"$error":"#N/A"},null,null,null,10,{"$error":"#N/A"},{"$error":"#N/A"},{"$error":"#N/A"},null,10,{"$error":"#N/A"},{"$error":"#N/A"},null,10,{"$error":"#N/A"},{"$error":"#N/A"},{"$error":"#N/A"},{"$error":"#N/A"},null,null,10,{"$error":"#N/A"},{"$error":"#N/A"},{"$error":"#N/A"},null,0,0,null,null,{"$error":"#N/A"},{"$error":"#N/A"},{"$error":"#N/A"},{"$error":"#N/A"}]
[null,0,11,{"$f":"IF('Front sheet'!$C20=\"\",\"\",'Front sheet'!$C20)","v":""},{"$f":"IF('Front sheet'!D20=\"\",#N/A,'Front sheet'!D20)","v":{"$error":"#N/A"}},"",{"$f":"IF(J19=\"\",NA(),IF('Front sheet'!$T$7<>0,AVERAGE(Tally_CL),IF(F19=1,AVERAGE(Tally),IF(F19=2,AVERAGE(Tally2),IF(F19=3,AVERAGE(Tally3),IF(F19=4,AVERAGE(Tally4),IF(F19=5,AVERAGE(Tally5))))))))","v":{"$error":"#N/A"}},{"$error":"#N/A"},{"$error":"#N/A"},"",{"$error":"#N/A"},{"$error":"#N/A"},{"$f":"IF(L19=\"\",NA(),IF('Front sheet'!$T$7<>0,AVERAGE(MR_CL),IF(F19=1,AVERAGE(MR_1),IF(F19=2,AVERAGE(MR_2),IF(F19=3,AVERAGE(MR_3),IF(F19=4,AVERAGE(MR_4),IF(F19=5,AVERAGE(MR_5))))))))","v":{"$error":"#N/A"}},0,{"$error":"#N/A"},null,{"$f":"IF(ISERROR($E19),0,IF($E19>$H19,MAX($Q$8:Q18)+1,0))","v":0},{"$f":"IF(ISERROR($E19),0,IF($E19<$I19,MAX($R$8:R18)+1,0))","v":0},null,0,0,null,0,0,null,0,0,null,0,0,0,0,0,0,0,null,{"$f":"IF(ISERROR($L19),0,IF($L19>$O19,MAX($AK$8:AK18)+1,0))","v":0},{"$error":"#N/A"},null,{"$error":"#N/A"},{"$error":"#N/A"},{"$f":"IF(C19<=$E$3,IF('Front sheet'!$O$3=\"\",NA(),'Front sheet'!$O$3),NA())","v":{"$error":"#N/A"}},{"$error":"#N/A"},{"$error":"#N/A"},{"$error":"#N/A"},{"$error":"#N/A"},{"$error":"#N/A"},{"$error":"#N/A"},{"$error":"#N/A"},{"$error":"#N/A"},{"$error":"#N/A"},{"$error":"#N/A"},{"$error":"#N/A"},{"$error":"#N/A"},{"$error":"#N/A"},{"$error":"#N/A"},{"$error":"#N/A"},{"$error":"#N/A"},{"$error":"#N/A"},{"$error":"#N/A"},"","",null,11,1,"",{"$error":"#N/A"},{"$error":"#N/A"},{"$error":"#N/A"},{"$error":"#N/A"},{"$error":"#N/A"},1,{"$error":"#N/A"},{"$error":"#N/A"},{"$error":"#N/A"},{"$error":"#N/A"},null,null,null,11,{"$error":"#N/A"},{"$error":"#N/A"},{"$error":"#N/A"},null,11,{"$error":"#N/A"},{"$error":"#N/A"},null,11,{"$error":"#N/A"},{"$error":"#N/A"},{"$error":"#N/A"},{"$error":"#N/A"},null,null,11,{"$error":"#N/A"},{"$error":"#N/A"},{"$error":"#N/A"},null,0,0,null,null,{"$error":"#N/A"},{"$error":"#N/A"},{"$error":"#N/A"},{"$error":"#N/A"}]
[null,0,12,{"$f":"IF('Front sheet'!$C21=\"\",\"\",'Front sheet'!$C21)","v":""},{"$f":"IF('Front sheet'!D21=\"\",#N/A,'Front sheet'!D21)","v":{"$error":"#N/A"}},"",{"$f":"IF(J20=\"\",NA(),IF('Front sheet'!$T$7<>0,AVERAGE(Tally_CL),IF(F20=1,AVERAGE(Tally),IF(F20=2,AVERAGE(Tally2),IF(F20=3,AVERAGE(Tally3),IF(F20=4,AVERAGE(Tally4),IF(F20=5,AVERAGE(Tally5))))))))","v":{"$error":"#N/A"}},{"$error":"#N/A"},{"$error":"#N/A"},"",{"$error":"#N/A"},{"$error":"#N/A"},{"$f":"IF(L20=\"\",NA(),IF('Front sheet'!$T$7<>0,AVERAGE(MR_CL),IF(F20=1,AVERAGE(MR_1),IF(F20=2,AVERAGE(MR_2),IF(F20=3,AVERAGE(MR_3),IF(F20=4,AVERAGE(MR_4),IF(F20=5,AVERAGE(MR_5))))))))","v":{"$error":"#N/A"}},0,{"$error":"#N/A"},null,{"$f":"IF(ISERROR($E20),0,IF($E20>$H20,MAX($Q$8:Q19)+1,0))","v":0},{"$f":"IF(ISERROR($E20),0,IF($E20<$I20,MAX($R$8:R19)+1,0))","v":0},null,0,0,null,0,0,null,0,0,null,0,0,0,0,0,0,0,null,{"$f":"IF(ISERROR($L20),0,IF($L20>$O20,MAX($AK$8:AK19)+1,0))","v":0},{"$error":"#N/A"},null,{"$error":"#N/A"},{"$error":"#N/A"},{"$f":"IF(C20<=$E$3,IF('Front sheet'!$O$3=\"\",NA(),'Front sheet'!$O$3),NA())","v":{"$error":"#N/A"}},{"$error":"#N/A"},{"$error":"#N/A"},{"$error":"#N/A"},{"$error":"#N/A"},{"$error":"#N/A"},{"$error":"#N/A"},{"$error":"#N/A"},{"$error":"#N/A"},{"$error":"#N/A"},{"$error":"#N/A"},{"$error":"#N/A"},{"$error":"#N/A"},{"$error":"#N/A"},{"$error":"#N/A"},{"$error":"#N/A"},{"$error":"#N/A"},{"$error":"#N/A"},{"$error":"#N/A"},"","",null,12,1,"",{"$error":"#N/A"},{"$error":"#N/A"},{"$error":"#N/A"},{"$error":"#N/A"},{"$error":"#N/A"},1,{"$error":"#N/A"},{"$error":"#N/A"},{"$error":"#N/A"},{"$error":"#N/A"},null,null,null,12,{"$error":"#N/A"},{"$error":"#N/A"},{"$error":"#N/A"},null,12,{"$error":"#N/A"},{"$error":"#N/A"},null,12,{"$error":"#N/A"},{"$error":"#N/A"},{"$error":"#N/A"},{"$error":"#N/A"},null,null,12,{"$error":"#N/A"},{"$error":"#N/A"},{"$error":"#N/A"},null,0,0,null,null,{"$error":"#N/A"},{"$error":"#N/A"},{"$error":"#N/A"},{"$error":"#N/A"}]
[null,0,13,{"$f":"IF('Front sheet'!$C22=\"\",\"\",'Front sheet'!$C22)","v":""},{"$f":"IF('Front sheet'!D22=\"\",#N/A,'Front sheet'!D22)","v":{"$error":"#N/A"}},"",{"$f":"IF(J21=\"\",NA(),IF('Front sheet'!$T$7<>0,AVERAGE(Tally_CL),IF(F21=1,AVERAGE(Tally),IF(F21=2,AVERAGE(Tally2),IF(F21=3,AVERAGE(Tally3),IF(F21=4,AVERAGE(Tally4),IF(F21=5,AVERAGE(Tally5))))))))","v":{"$error":"#N/A"}},{"$error":"#N/A"},{"$error":"#N/A"},"",{"$error":"#N/A"},{"$error":"#N/A"},{"$f":"IF(L21=\"\",NA(),IF('Front sheet'!$T$7<>0,AVERAGE(MR_CL),IF(F21=1,AVERAGE(MR_1),IF(F21=2,AVERAGE(MR_2),IF(F21=3,AVERAGE(MR_3),IF(F21=4,AVERAGE(MR_4),IF(F21=5,AVERAGE(MR_5))))))))","v":{"$error":"#N/A"}},0,{"$error":"#N/A"},null,{"$f":"IF(ISERROR($E21),0,IF($E21>$H21,MAX($Q$8:Q20)+1,0))","v":0},{"$f":"IF(ISERROR($E21),0,IF($E21<$I21,MAX($R$8:R20)+1,0))","v":0},null,0,0,null,0,0,null,0,0,null,0,0,0,0,0,0,0,null,{"$f":"IF(ISERROR($L21),0,IF($L21>$O21,MAX($AK$8:AK20)+1,0))","v":0},{"$error":"#N/A"},null,{"$error":"#N/A"},{"$error":"#N/A"},{"$f":"IF(C21<=$E$3,IF('Front sheet'!$O$3=\"\",NA(),'Front sheet'!$O$3),NA())","v":{"$error":"#N/A"}},{"$error":"#N/A"},{"$error":"#N/A"},{"$error":"#N/A"},{"$error":"#N/A"},{"$error":"#N/A"},{"$error":"#N/A"},{"$error":"#N/A"},{"$error":"#N/A"},{"$error":"#N/A"},{"$error":"#N/A"},{"$error":"#N/A"},{"$error":"#N/A"},{"$error":"#N/A"},{"$error":"#N/A"},{"$error":"#N/A"},{"$error":"#N/A"},{"$error":"#N/A"},{"$error":"#N/A"},"","",null,13,1,"",{"$error":"#N/A"},{"$error":"#N/A"},{"$error":"#N/A"},{"$error":"#N/A"},{"$error":"#N/A"},1,{"$error":"#N/A"},{"$error":"#N/A"},{"$error":"#N/A"},{"$error":"#N/A"},null,null,null,13,{"$error":"#N/A"},{"$error":"#N/A"},{"$error":"#N/A"},null,13,{"$error":"#N/A"},{"$error":"#N/A"},null,13,{"$error":"#N/A"},{"$error":"#N/A"},{"$error":"#N/A"},{"$error":"#N/A"},null,null,13,{"$error":"#N/A"},{"$error":"#N/A"},{"$error":"#N/A"},null,0,0,null,null,{"$f":"IF($U$6=2,NA(),IF(AND(U21=0,AA21=0,AI21=0,Q21=0),#N/A,J21))","v":{"$error":"#N/A"}},{"$f":"IF($U$6=2,NA(),IF(AND(R21=0,X21=0,AD21=0,AG21=0),#N/A,J21))","v":{"$error":"#N/A"}},{"$error":"#N/A"},{"$error":"#N/A"}]
[null,0,14,{"$f":"IF('Front sheet'!$C23=\"\",\"\",'Front sheet'!$C23)","v":""},{"$f":"IF('Front sheet'!D23=\"\",#N/A,'Front sheet'!D23)","v":{"$error":"#N/A"}},"",{"$f":"IF(J22=\"\",NA(),IF('Front sheet'!$T$7<>0,AVERAGE(Tally_CL),IF(F22=1,AVERAGE(Tally),IF(F22=2,AVERAGE(Tally2),IF(F22=3,AVERAGE(Tally3),IF(F22=4,AVERAGE(Tally4),IF(F22=5,AVERAGE(Tally5))))))))","v":{"$error":"#N/A"}},{"$error":"#N/A"},{"$error":"#N/A"},"",{"$error":"#N/A"},{"$error":"#N/A"},{"$f":"IF(L22=\"\",NA(),IF('Front sheet'!$T$7<>0,AVERAGE(MR_CL),IF(F22=1,AVERAGE(MR_1),IF(F22=2,AVERAGE(MR_2),IF(F22=3,AVERAGE(MR_3),IF(F22=4,AVERAGE(MR_4),IF(F22=5,AVERAGE(MR_5))))))))","v":{"$error":"#N/A"}},0,{"$error":"#N/A"},null,{"$f":"IF(ISERROR($E22),0,IF($E22>$H22,MAX($Q$8:Q21)+1,0))","v":0},{"$f":"IF(ISERROR($E22),0,IF($E22<$I22,MAX($R$8:R21)+1,0))","v":0},null,0,0,null,0,0,null,0,0,null,0,0,0,0,0,0,0,null,{"$f":"IF(ISERROR($L22),0,IF($L22>$O22,MAX($AK$8:AK21)+1,0))","v":0},{"$error":"#N/A"},null,{"$error":"#N/A"},{"$error":"#N/A"},{"$f":"IF(C22<=$E$3,IF('Front sheet'!$O$3=\"\",NA(),'Front sheet'!$O$3),NA())","v":{"$error":"#N/A"}},{"$error":"#N/A"},{"$error":"#N/A"},{"$error":"#N/A"},{"$error":"#N/A"},{"$error":"#N/A"},{"$error":"#N/A"},{"$error":"#N/A"},{"$error":"#N/A"},{"$error":"#N/A"},{"$error":"#N/A"},{"$error":"#N/A"},{"$error":"#N/A"},{"$error":"#N/A"},{"$error":"#N/A"},{"$error":"#N/A"},{"$error":"#N/A"},{"$error":"#N/A"},{"$error":"#N/A"},"","",null,14,1,"",{"$error":"#N/A"},{"$error":"#N/A"},{"$error":"#N/A"},{"$error":"#N/A"},{"$error":"#N/A"},1,{"$error":"#N/A"},{"$error":"#N/A"},{"$error":"#N/A"},{"$error":"#N/A"},null,null,null,14,{"$error":"#N/A"},{"$error":"#N/A"},{"$error":"#N/A"},null,14,{"$error":"#N/A"},{"$error":"#N/A"},null,14,{"$error":"#N/A"},{"$error":"#N/A"},{"$error":"#N/A"},{"$error":"#N/A"},null,null,14,{"$error":"#N/A"},{"$error":"#N/A"},{"$error":"#N/A"},null,0,0,null,null,{"$error":"#N/A"},{"$error":"#N/A"},{"$error":"#N/A"},{"$error":"#N/A"}]
[null,0,15,{"$f":"IF('Front sheet'!$C24=\"\",\"\",'Front sheet'!$C24)","v":""},{"$f":"IF('Front sheet'!D24=\"\",#N/A,'Front sheet'!D24)","v":{"$error":"#N/A"}},"",{"$f":"IF(J23=\"\",NA(),IF('Front sheet'!$T$7<>0,AVERAGE(Tally_CL),IF(F23=1,AVERAGE(Tally),IF(F23=2,AVERAGE(Tally2),IF(F23=3,AVERAGE(Tally3),IF(F23=4,AVERAGE(Tally4),IF(F23=5,AVERAGE(Tally5))))))))","v":{"$error":"#N/A"}},{"$error":"#N/A"},{"$error":"#N/A"},"",{"$error":"#N/A"},{"$error":"#N/A"},{"$f":"IF(L23=\"\",NA(),IF('Front sheet'!$T$7<>0,AVERAGE(MR_CL),IF(F23=1,AVERAGE(MR_1),IF(F23=2,AVERAGE(MR_2),IF(F23=3,AVERAGE(MR_3),IF(F23=4,AVERAGE(MR_4),IF(F23=5,AVERAGE(MR_5))))))))","v":{"$error":"#N/A"}},0,{"$error":"#N/A"},null,{"$f":"IF(ISERROR($E23),0,IF($E23>$H23,MAX($Q$8:Q22)+1,0))","v":0},{"$f":"IF(ISERROR($E23),0,IF($E23<$I23,MAX($R$8:R22)+1,0))","v":0},null,0,0,null,0,0,null,0,0,null,0,0,0,0,0,0,0,null,{"$f":"IF(ISERROR($L23),0,IF($L23>$O23,MAX($AK$8:AK22)+1,0))","v":0},{"$error":"#N/A"},null,{"$error":"#N/A"},{"$error":"#N/A"},{"$f":"IF(C23<=$E$3,IF('Front sheet'!$O$3=\"\",NA(),'Front sheet'!$O$3),NA())","v":{"$error":"#N/A"}},{"$error":"#N/A"},{"$error":"#N/A"},{"$error":"#N/A"},{"$error":"#N/A"},{"$error":"#N/A"},{"$error":"#N/A"},{"$error":"#N/A"},{"$error":"#N/A"},{"$error":"#N/A"},{"$error":"#N/A"},{"$error":"#N/A"},{"$error":"#N/A"},{"$error":"#N/A"},{"$error":"#N/A"},{"$error":"#N/A"},{"$error":"#N/A"},{"$error":"#N/A"},{"$error":"#N/A"},"","",null,15,1,"",{"$error":"#N/A"},{"$error":"#N/A"},{"$error":"#N/A"},{"$error":"#N/A"},{"$error":"#N/A"},1,{"$error":"#N/A"},{"$error":"#N/A"},{"$error":"#N/A"},{"$error":"#N/A"},null,null,null,15,{"$error":"#N/A"},{"$error":"#N/A"},{"$error":"#N/A"},null,15,{"$error":"#N/A"},{"$error":"#N/A"},null,15,{"$error":"#N/A"},{"$error":"#N/A"},{"$error":"#N/A"},{"$error":"#N/A"},null,null,15,{"$error":"#N/A"},{"$error":"#N/A"},{"$error":"#N/A"},null,0,0,null,null,{"$error":"#N/A"},{"$error":"#N/A"},{"$error":"#N/A"},{"$error":"#N/A"}]
[null,0,16,{"$f":"IF('Front sheet'!$C25=\"\",\"\",'Front sheet'!$C25)","v":""},{"$f":"IF('Front sheet'!D25=\"\",#N/A,'Front sheet'!D25)","v":{"$error":"#N/A"}},"",{"$f":"IF(J24=\"\",NA(),IF('Front sheet'!$T$7<>0,AVERAGE(Tally_CL),IF(F24=1,AVERAGE(Tally),IF(F24=2,AVERAGE(Tally2),IF(F24=3,AVERAGE(Tally3),IF(F24=4,AVERAGE(Tally4),IF(F24=5,AVERAGE(Tally5))))))))","v":{"$error":"#N/A"}},{"$error":"#N/A"},{"$error":"#N/A"},"",{"$error":"#N/A"},{"$error":"#N/A"},{"$f":"IF(L24=\"\",NA(),IF('Front sheet'!$T$7<>0,AVERAGE(MR_CL),IF(F24=1,AVERAGE(MR_1),IF(F24=2,AVERAGE(MR_2),IF(F24=3,AVERAGE(MR_3),IF(F24=4,AVERAGE(MR_4),IF(F24=5,AVERAGE(MR_5))))))))","v":{"$error":"#N/A"}},0,{"$error":"#N/A"},null,{"$f":"IF(ISERROR($E24),0,IF($E24>$H24,MAX($Q$8:Q23)+1,0))","v":0},{"$f":"IF(ISERROR($E24),0,IF($E24<$I24,MAX($R$8:R23)+1,0))","v":0},null,0,0,null,0,0,null,0,0,null,0,0,0,0,0,0,0,null,{"$f":"IF(ISERROR($L24),0,IF($L24>$O24,MAX($AK$8:AK23)+1,0))","v":0},{"$error":"#N/A"},null,{"$error":"#N/A"},{"$error":"#N/A"},{"$f":"IF(C24<=$E$3,IF('Front sheet'!$O$3=\"\",NA(),'Front sheet'!$O$3),NA())","v":{"$error":"#N/A"}},{"$error":"#N/A"},{"$error":"#N/A"},{"$error":"#N/A"},{"$error":"#N/A"},{"$error":"#N/A"},{"$error":"#N/A"},{"$error":"#N/A"},{"$error":"#N/A"},{"$error":"#N/A"},{"$error":"#N/A"},{"$error":"#N/A"},{"$error":"#N/A"},{"$error":"#N/A"},{"$error":"#N/A"},{"$error":"#N/A"},{"$error":"#N/A"},{"$error":"#N/A"},{"$error":"#N/A"},"","",null,16,1,"",{"$error":"#N/A"},{"$error":"#N/A"},{"$error":"#N/A"},{"$error":"#N/A"},{"$error":"#N/A"},1,{"$error":"#N/A"},{"$error":"#N/A"},{"$error":"#N/A"},{"$error":"#N/A"},null,null,null,16,{"$error":"#N/A"},{"$error":"#N/A"},{"$error":"#N/A"},null,16,{"$error":"#N/A"},{"$error":"#N/A"},null,16,{"$error":"#N/A"},{"$error":"#N/A"},{"$error":"#N/A"},{"$error":"#N/A"},null,null,16,{"$error":"#N/A"},{"$error":"#N/A"},{"$error":"#N/A"},null,0,0,null,null,{"$error":"#N/A"},{"$error":"#N/A"},{"$error":"#N/A"},{"$error":"#N/A"}]
[null,0,17,{"$f":"IF('Front sheet'!$C26=\"\",\"\",'Front sheet'!$C26)","v":""},{"$f":"IF('Front sheet'!D26=\"\",#N/A,'Front sheet'!D26)","v":{"$error":"#N/A"}},"",{"$f":"IF(J25=\"\",NA(),IF('Front sheet'!$T$7<>0,AVERAGE(Tally_CL),IF(F25=1,AVERAGE(Tally),IF(F25=2,AVERAGE(Tally2),IF(F25=3,AVERAGE(Tally3),IF(F25=4,AVERAGE(Tally4),IF(F25=5,AVERAGE(Tally5))))))))","v":{"$error":"#N/A"}},{"$error":"#N/A"},{"$error":"#N/A"},"",{"$error":"#N/A"},{"$error":"#N/A"},{"$f":"IF(L25=\"\",NA(),IF('Front sheet'!$T$7<>0,AVERAGE(MR_CL),IF(F25=1,AVERAGE(MR_1),IF(F25=2,AVERAGE(MR_2),IF(F25=3,AVERAGE(MR_3),IF(F25=4,AVERAGE(MR_4),IF(F25=5,AVERAGE(MR_5))))))))","v":{"$error":"#N/A"}},0,{"$error":"#N/A"},null,{"$f":"IF(ISERROR($E25),0,IF($E25>$H25,MAX($Q$8:Q24)+1,0))","v":0},{"$f":"IF(ISERROR($E25),0,IF($E25<$I25,MAX($R$8:R24)+1,0))","v":0},null,0,0,null,0,0,null,0,0,null,0,0,0,0,0,0,0,null,{"$f":"IF(ISERROR($L25),0,IF($L25>$O25,MAX($AK$8:AK24)+1,0))","v":0},{"$error":"#N/A"},null,{"$error":"#N/A"},{"$error":"#N/A"},{"$f":"IF(C25<=$E$3,IF('Front sheet'!$O$3=\"\",NA(),'Front sheet'!$O$3),NA())","v":{"$error":"#N/A"}},{"$error":"#N/A"},{"$error":"#N/A"},{"$error":"#N/A"},{"$error":"#N/A"},{"$error":"#N/A"},{"$error":"#N/A"},{"$error":"#N/A"},{"$error":"#N/A"},{"$error":"#N/A"},{"$error":"#N/A"},{"$error":"#N/A"},{"$error":"#N/A"},{"$error":"#N/A"},{"$error":"#N/A"},{"$error":"#N/A"},{"$error":"#N/A"},{"$error":"#N/A"},{"$error":"#N/A"},"","",null,17,1,"",{"$error":"#N/A"},{"$error":"#N/A"},{"$error":"#N/A"},{"$error":"#N/A"},{"$error":"#N/A"},1,{"$error":"#N/A"},{"$error":"#N/A"},{"$error":"#N/A"},{"$error":"#N/A"},null,null,null,17,{"$error":"#N/A"},{"$error":"#N/A"},{"$error":"#N/A"},null,17,{"$error":"#N/A"},{"$error":"#N/A"},null,17,{"$error":"#N/A"},{"$error":"#N/A"},{"$error":"#N/A"},{"$error":"#N/A"},null,null,17,{"$error":"#N/A"},{"$error":"#N/A"},{"$error":"#N/A"},null,0,0,null,null,{"$error":"#N/A"},{"$error":"#N/A"},{"$error":"#N/A"},{"$error":"#N/A"}]
[null,0,18,{"$f":"IF('Front sheet'!$C27=\"\",\"\",'Front sheet'!$C27)","v":""},{"$f":"IF('Front sheet'!D27=\"\",#N/A,'Front sheet'!D27)","v":{"$error":"#N/A"}},"",{"$f":"IF(J26=\"\",NA(),IF('Front sheet'!$T$7<>0,AVERAGE(Tally_CL),IF(F26=1,AVERAGE(Tally),IF(F26=2,AVERAGE(Tally2),IF(F26=3,AVERAGE(Tally3),IF(F26=4,AVERAGE(Tally4),IF(F26=5,AVERAGE(Tally5))))))))","v":{"$error":"#N/A"}},{"$error":"#N/A"},{"$error":"#N/A"},"",{"$error":"#N/A"},{"$error":"#N/A"},{"$f":"IF(L26=\"\",NA(),IF('Front sheet'!$T$7<>0,AVERAGE(MR_CL),IF(F26=1,AVERAGE(MR_1),IF(F26=2,AVERAGE(MR_2),IF(F26=3,AVERAGE(MR_3),IF(F26=4,AVERAGE(MR_4),IF(F26=5,AVERAGE(MR_5))))))))","v":{"$error":"#N/A"}},0,{"$error":"#N/A"},null,{"$f":"IF(ISERROR($E26),0,IF($E26>$H26,MAX($Q$8:Q25)+1,0))","v":0},{"$f":"IF(ISERROR($E26),0,IF($E26<$I26,MAX($R$8:R25)+1,0))","v":0},null,0,0,null,0,0,null,0,0,null,0,0,0,0,0,0,0,null,{"$f":"IF(ISERROR($L26),0,IF($L26>$O26,MAX($AK$8:AK25)+1,0))","v":0},{"$error":"#N/A"},null,{"$error":"#N/A"},{"$error":"#N/A"},{"$f":"IF(C26<=$E$3,IF('Front sheet'!$O$3=\"\",NA(),'Front sheet'!$O$3),NA())","v":{"$error":"#N/A"}},{"$error":"#N/A"},{"$error":"#N/A"},{"$error":"#N/A"},{"$error":"#N/A"},{"$error":"#N/A"},{"$error":"#N/A"},{"$error":"#N/A"},{"$error":"#N/A"},{"$error":"#N/A"},{"$error":"#N/A"},{"$error":"#N/A"},{"$error":"#N/A"},{"$error":"#N/A"},{"$error":"#N/A"},{"$error":"#N/A"},{"$error":"#N/A"},{"$error":"#N/A"},{"$error":"#N/A"},"","",null,18,1,"",{"$error":"#N/A"},{"$error":"#N/A"},{"$error":"#N/A"},{"$error":"#N/A"},{"$error":"#N/A"},1,{"$error":"#N/A"},{"$error":"#N/A"},{"$error":"#N/A"},{"$error":"#N/A"},null,null,null,18,{"$error":"#N/A"},{"$error":"#N/A"},{"$error":"#N/A"},null,18,{"$error":"#N/A"},{"$error":"#N/A"},null,18,{"$error":"#N/A"},{"$error":"#N/A"},{"$error":"#N/A"},{"$error":"#N/A"},null,null,18,{"$error":"#N/A"},{"$f":"IF($CB$5=\"Neither\",NA(),IF(CR26<>$E$3-$CS$6,NA(),IF($CR$6<>\"Fail\",NA(),$BP$2)))","v":{"$error":"#N/A"}},{"$error":"#N/A"},null,0,0,null,null,{"$error":"#N/A"},{"$error":"#N/A"},{"$error":"#N/A"},{"$error":"#N/A"}]
[null,0,19,{"$f":"IF('Front sheet'!$C28=\"\",\"\",'Front sheet'!$C28)","v":""},{"$f":"IF('Front sheet'!D28=\"\",#N/A,'Front sheet'!D28)","v":{"$error":"#N/A"}},"",{"$f":"IF(J27=\"\",NA(),IF('Front sheet'!$T$7<>0,AVERAGE(Tally_CL),IF(F27=1,AVERAGE(Tally),IF(F27=2,AVERAGE(Tally2),IF(F27=3,AVERAGE(Tally3),IF(F27=4,AVERAGE(Tally4),IF(F27=5,AVERAGE(Tally5))))))))","v":{"$error":"#N/A"}},{"$error":"#N/A"},{"$error":"#N/A"},"",{"$error":"#N/A"},{"$error":"#N/A"},{"$f":"IF(L27=\"\",NA(),IF('Front sheet'!$T$7<>0,AVERAGE(MR_CL),IF(F27=1,AVERAGE(MR_1),IF(F27=2,AVERAGE(MR_2),IF(F27=3,AVERAGE(MR_3),IF(F27=4,AVERAGE(MR_4),IF(F27=5,AVERAGE(MR_5))))))))","v":{"$error":"#N/A"}},0,{"$error":"#N/A"},null,{"$f":"IF(ISERROR($E27),0,IF($E27>$H27,MAX($Q$8:Q26)+1,0))","v":0},{"$f":"IF(ISERROR($E27),0,IF($E27<$I27,MAX($R$8:R26)+1,0))","v":0},null,0,0,null,0,0,null,0,0,null,0,0,0,0,0,0,0,null,{"$f":"IF(ISERROR($L27),0,IF($L27>$O27,MAX($AK$8:AK26)+1,0))","v":0},{"$error":"#N/A"},null,{"$error":"#N/A"},{"$error":"#N/A"},{"$f":"IF(C27<=$E$3,IF('Front sheet'!$O$3=\"\",NA(),'Front sheet'!$O$3),NA())","v":{"$error":"#N/A"}},{"$error":"#N/A"},{"$error":"#N/A"},{"$error":"#N/A"},{"$error":"#N/A"},{"$error":"#N/A"},{"$error":"#N/A"},{"$error":"#N/A"},{"$error":"#N/A"},{"$error":"#N/A"},{"$error":"#N/A"},{"$error":"#N/A"},{"$error":"#N/A"},{"$error":"#N/A"},{"$error":"#N/A"},{"$error":"#N/A"},{"$error":"#N/A"},{"$error":"#N/A"},{"$error":"#N/A"},"","",null,19,1,"",{"$error":"#N/A"},{"$error":"#N/A"},{"$error":"#N/A"},{"$error":"#N/A"},{"$error":"#N/A"},1,{"$error":"#N/A"},{"$error":"#N/A"},{"$error":"#N/A"},{"$error":"#N/A"},null,null,null,19,{"$error":"#N/A"},{"$error":"#N/A"},{"$error":"#N/A"},null,19,{"$error":"#N/A"},{"$error":"#N/A"},null,19,{"$error":"#N/A"},{"$error":"#N/A"},{"$error":"#N/A"},{"$error":"#N/A"},null,null,19,{"$error":"#N/A"},{"$error":"#N/A"},{"$error":"#N/A"},null,0,0,null,null,{"$error":"#N/A"},{"$error":"#N/A"},{"$error":"#N/A"},{"$error":"#N/A"}]
[null,0,20,{"$f":"IF('Front sheet'!$C29=\"\",\"\",'Front sheet'!$C29)","v":""},{"$f":"IF('Front sheet'!D29=\"\",#N/A,'Front sheet'!D29)","v":{"$error":"#N/A"}},"",{"$f":"IF(J28=\"\",NA(),IF('Front sheet'!$T$7<>0,AVERAGE(Tally_CL),IF(F28=1,AVERAGE(Tally),IF(F28=2,AVERAGE(Tally2),IF(F28=3,AVERAGE(Tally3),IF(F28=4,AVERAGE(Tally4),IF(F28=5,AVERAGE(Tally5))))))))","v":{"$error":"#N/A"}},{"$error":"#N/A"},{"$error":"#N/A"},"",{"$error":"#N/A"},{"$error":"#N/A"},{"$f":"IF(L28=\"\",NA(),IF('Front sheet'!$T$7<>0,AVERAGE(MR_CL),IF(F28=1,AVERAGE(MR_1),IF(F28=2,AVERAGE(MR_2),IF(F28=3,AVERAGE(MR_3),IF(F28=4,AVERAGE(MR_4),IF(F28=5,AVERAGE(MR_5))))))))","v":{"$error":"#N/A"}},0,{"$error":"#N/A"},null,{"$f":"IF(ISERROR($E28),0,IF($E28>$H28,MAX($Q$8:Q27)+1,0))","v":0},{"$f":"IF(ISERROR($E28),0,IF($E28<$I28,MAX($R$8:R27)+1,0))","v":0},null,0,0,null,0,0,null,0,0,null,0,0,0,0,0,0,0,null,{"$f":"IF(ISERROR($L28),0,IF($L28>$O28,MAX($AK$8:AK27)+1,0))","v":0},{"$error":"#N/A"},null,{"$error":"#N/A"},{"$error":"#N/A"},{"$f":"IF(C28<=$E$3,IF('Front sheet'!$O$3=\"\",NA(),'Front sheet'!$O$3),NA())","v":{"$error":"#N/A"}},{"$error":"#N/A"},{"$error":"#N/A"},{"$error":"#N/A"},{"$error":"#N/A"},{"$error":"#N/A"},{"$error":"#N/A"},{"$error":"#N/A"},{"$error":"#N/A"},{"$error":"#N/A"},{"$error":"#N/A"},{"$error":"#N/A"},{"$error":"#N/A"},{"$error":"#N/A"},{"$error":"#N/A"},{"$error":"#N/A"},{"$error":"#N/A"},{"$error":"#N/A"},{"$error":"#N/A"},"","",null,20,1,"",{"$error":"#N/A"},{"$error":"#N/A"},{"$error":"#N/A"},{"$error":"#N/A"},{"$error":"#N/A"},1,{"$error":"#N/A"},{"$error":"#N/A"},{"$error":"#N/A"},{"$error":"#N/A"},null,null,null,20,{"$error":"#N/A"},{"$error":"#N/A"},{"$error":"#N/A"},null,20,{"$error":"#N/A"},{"$error":"#N/A"},null,20,{"$error":"#N/A"},{"$error":"#N/A"},{"$error":"#N/A"},{"$error":"#N/A"},null,null,20,{"$error":"#N/A"},{"$error":"#N/A"},{"$error":"#N/A"},null,0,0,null,null,{"$error":"#N/A"},{"$error":"#N/A"},{"$error":"#N/A"},{"$error":"#N/A"}]
[null,0,21,{"$f":"IF('Front sheet'!$C30=\"\",\"\",'Front sheet'!$C30)","v":""},{"$f":"IF('Front sheet'!D30=\"\",#N/A,'Front sheet'!D30)","v":{"$error":"#N/A"}},"",{"$f":"IF(J29=\"\",NA(),IF('Front sheet'!$T$7<>0,AVERAGE(Tally_CL),IF(F29=1,AVERAGE(Tally),IF(F29=2,AVERAGE(Tally2),IF(F29=3,AVERAGE(Tally3),IF(F29=4,AVERAGE(Tally4),IF(F29=5,AVERAGE(Tally5))))))))","v":{"$error":"#N/A"}},{"$error":"#N/A"},{"$error":"#N/A"},"",{"$error":"#N/A"},{"$error":"#N/A"},{"$f":"IF(L29=\"\",NA(),IF('Front sheet'!$T$7<>0,AVERAGE(MR_CL),IF(F29=1,AVERAGE(MR_1),IF(F29=2,AVERAGE(MR_2),IF(F29=3,AVERAGE(MR_3),IF(F29=4,AVERAGE(MR_4),IF(F29=5,AVERAGE(MR_5))))))))","v":{"$error":"#N/A"}},0,{"$error":"#N/A"},null,{"$f":"IF(ISERROR($E29),0,IF($E29>$H29,MAX($Q$8:Q28)+1,0))","v":0},{"$f":"IF(ISERROR($E29),0,IF($E29<$I29,MAX($R$8:R28)+1,0))","v":0},null,0,0,null,0,0,null,0,0,null,0,0,0,0,0,0,0,null,{"$f":"IF(ISERROR($L29),0,IF($L29>$O29,MAX($AK$8:AK28)+1,0))","v":0},{"$error":"#N/A"},null,{"$error":"#N/A"},{"$error":"#N/A"},{"$f":"IF(C29<=$E$3,IF('Front sheet'!$O$3=\"\",NA(),'Front sheet'!$O$3),NA())","v":{"$error":"#N/A"}},{"$error":"#N/A"},{"$error":"#N/A"},{"$error":"#N/A"},{"$error":"#N/A"},{"$error":"#N/A"},{"$error":"#N/A"},{"$error":"#N/A"},{"$error":"#N/A"},{"$error":"#N/A"},{"$error":"#N/A"},{"$error":"#N/A"},{"$error":"#N/A"},{"$error":"#N/A"},{"$error":"#N/A"},{"$error":"#N/A"},{"$error":"#N/A"},{"$error":"#N/A"},{"$error":"#N/A"},"","",null,21,1,"",{"$error":"#N/A"},{"$error":"#N/A"},{"$error":"#N/A"},{"$error":"#N/A"},{"$error":"#N/A"},1,{"$error":"#N/A"},{"$error":"#N/A"},{"$error":"#N/A"},{"$error":"#N/A"},null,null,null,21,{"$error":"#N/A"},{"$error":"#N/A"},{"$error":"#N/A"},null,21,{"$error":"#N/A"},{"$error":"#N/A"},null,21,{"$error":"#N/A"},{"$error":"#N/A"},{"$error":"#N/A"},{"$error":"#N/A"},null,null,21,{"$error":"#N/A"},{"$error":"#N/A"},{"$error":"#N/A"},null,0,0,null,null,{"$error":"#N/A"},{"$error":"#N/A"},{"$error":"#N/A"},{"$error":"#N/A"}]
[null,0,22,{"$f":"IF('Front sheet'!$C31=\"\",\"\",'Front sheet'!$C31)","v":""},{"$f":"IF('Front sheet'!D31=\"\",#N/A,'Front sheet'!D31)","v":{"$error":"#N/A"}},"",{"$f":"IF(J30=\"\",NA(),IF('Front sheet'!$T$7<>0,AVERAGE(Tally_CL),IF(F30=1,AVERAGE(Tally),IF(F30=2,AVERAGE(Tally2),IF(F30=3,AVERAGE(Tally3),IF(F30=4,AVERAGE(Tally4),IF(F30=5,AVERAGE(Tally5))))))))","v":{"$error":"#N/A"}},{"$error":"#N/A"},{"$error":"#N/A"},{"$f":"IF(ISERROR(E30),\"\",E30)","v":""},{"$error":"#N/A"},{"$error":"#N/A"},{"$f":"IF(L30=\"\",NA(),IF('Front sheet'!$T$7<>0,AVERAGE(MR_CL),IF(F30=1,AVERAGE(MR_1),IF(F30=2,AVERAGE(MR_2),IF(F30=3,AVERAGE(MR_3),IF(F30=4,AVERAGE(MR_4),IF(F30=5,AVERAGE(MR_5))))))))","v":{"$error":"#N/A"}},0,{"$error":"#N/A"},null,{"$f":"IF(ISERROR($E30),0,IF($E30>$H30,MAX($Q$8:Q29)+1,0))","v":0},{"$f":"IF(ISERROR($E30),0,IF($E30<$I30,MAX($R$8:R29)+1,0))","v":0},null,0,0,null,0,0,null,0,0,null,0,0,0,0,0,0,0,null,{"$f":"IF(ISERROR($L30),0,IF($L30>$O30,MAX($AK$8:AK29)+1,0))","v":0},{"$error":"#N/A"},null,{"$error":"#N/A"},{"$error":"#N/A"},{"$f":"IF(C30<=$E$3,IF('Front sheet'!$O$3=\"\",NA(),'Front sheet'!$O$3),NA())","v":{"$error":"#N/A"}},{"$error":"#N/A"},{"$error":"#N/A"},{"$error":"#N/A"},{"$error":"#N/A"},{"$error":"#N/A"},{"$error":"#N/A"},{"$error":"#N/A"},{"$error":"#N/A"},{"$error":"#N/A"},{"$error":"#N/A"},{"$error":"#N/A"},{"$error":"#N/A"},{"$error":"#N/A"},{"$error":"#N/A"},{"$error":"#N/A"},{"$error":"#N/A"},{"$error":"#N/A"},{"$error":"#N/A"},"","",null,22,1,"",{"$error":"#N/A"},{"$error":"#N/A"},{"$error":"#N/A"},{"$error":"#N/A"},{"$error":"#N/A"},1,{"$error":"#N/A"},{"$error":"#N/A"},{"$error":"#N/A"},{"$error":"#N/A"},null,null,null,22,{"$error":"#N/A"},{"$error":"#N/A"},{"$error":"#N/A"},null,22,{"$error":"#N/A"},{"$error":"#N/A"},null,22,{"$error":"#N/A"},{"$error":"#N/A"},{"$error":"#N/A"},{"$error":"#N/A"},null,null,22,{"$error":"#N/A"},{"$error":"#N/A"},{"$error":"#N/A"},null,0,0,null,null,{"$error":"#N/A"},{"$error":"#N/A"},{"$error":"#N/A"},{"$error":"#N/A"}]
[null,0,23,{"$f":"IF('Front sheet'!$C32=\"\",\"\",'Front sheet'!$C32)","v":""},{"$f":"IF('Front sheet'!D32=\"\",#N/A,'Front sheet'!D32)","v":{"$error":"#N/A"}},"",{"$f":"IF(J31=\"\",NA(),IF('Front sheet'!$T$7<>0,AVERAGE(Tally_CL),IF(F31=1,AVERAGE(Tally),IF(F31=2,AVERAGE(Tally2),IF(F31=3,AVERAGE(Tally3),IF(F31=4,AVERAGE(Tally4),IF(F31=5,AVERAGE(Tally5))))))))","v":{"$error":"#N/A"}},{"$error":"#N/A"},{"$error":"#N/A"},"",{"$error":"#N/A"},{"$error":"#N/A"},{"$f":"IF(L31=\"\",NA(),IF('Front sheet'!$T$7<>0,AVERAGE(MR_CL),IF(F31=1,AVERAGE(MR_1),IF(F31=2,AVERAGE(MR_2),IF(F31=3,AVERAGE(MR_3),IF(F31=4,AVERAGE(MR_4),IF(F31=5,AVERAGE(MR_5))))))))","v":{"$error":"#N/A"}},0,{"$error":"#N/A"},null,{"$f":"IF(ISERROR($E31),0,IF($E31>$H31,MAX($Q$8:Q30)+1,0))","v":0},{"$f":"IF(ISERROR($E31),0,IF($E31<$I31,MAX($R$8:R30)+1,0))","v":0},null,0,0,null,0,0,null,0,0,null,0,0,0,0,0,0,0,null,{"$f":"IF(ISERROR($L31),0,IF($L31>$O31,MAX($AK$8:AK30)+1,0))","v":0},{"$error":"#N/A"},null,{"$error":"#N/A"},{"$error":"#N/A"},{"$f":"IF(C31<=$E$3,IF('Front sheet'!$O$3=\"\",NA(),'Front sheet'!$O$3),NA())","v":{"$error":"#N/A"}},{"$error":"#N/A"},{"$error":"#N/A"},{"$error":"#N/A"},{"$error":"#N/A"},{"$error":"#N/A"},{"$error":"#N/A"},{"$error":"#N/A"},{"$error":"#N/A"},{"$error":"#N/A"},{"$error":"#N/A"},{"$error":"#N/A"},{"$error":"#N/A"},{"$error":"#N/A"},{"$error":"#N/A"},{"$error":"#N/A"},{"$error":"#N/A"},{"$error":"#N/A"},{"$error":"#N/A"},"","",null,23,1,"",{"$error":"#N/A"},{"$error":"#N/A"},{"$error":"#N/A"},{"$error":"#N/A"},{"$error":"#N/A"},1,{"$error":"#N/A"},{"$error":"#N/A"},{"$error":"#N/A"},{"$error":"#N/A"},null,null,null,23,{"$error":"#N/A"},{"$error":"#N/A"},{"$error":"#N/A"},null,23,{"$error":"#N/A"},{"$error":"#N/A"},null,23,{"$error":"#N/A"},{"$error":"#N/A"},{"$error":"#N/A"},{"$error":"#N/A"},null,null,23,{"$error":"#N/A"},{"$error":"#N/A"},{"$error":"#N/A"},null,0,0,null,null,{"$error":"#N/A"},{"$error":"#N/A"},{"$error":"#N/A"},{"$error":"#N/A"}]
[null,0,24,{"$f":"IF('Front sheet'!$C33=\"\",\"\",'Front sheet'!$C33)","v":""},{"$f":"IF('Front sheet'!D33=\"\",#N/A,'Front sheet'!D33)","v":{"$error":"#N/A"}},"",{"$f":"IF(J32=\"\",NA(),IF('Front sheet'!$T$7<>0,AVERAGE(Tally_CL),IF(F32=1,AVERAGE(Tally),IF(F32=2,AVERAGE(Tally2),IF(F32=3,AVERAGE(Tally3),IF(F32=4,AVERAGE(Tally4),IF(F32=5,AVERAGE(Tally5))))))))","v":{"$error":"#N/A"}},{"$error":"#N/A"},{"$error":"#N/A"},"",{"$error":"#N/A"},{"$error":"#N/A"},{"$f":"IF(L32=\"\",NA(),IF('Front sheet'!$T$7<>0,AVERAGE(MR_CL),IF(F32=1,AVERAGE(MR_1),IF(F32=2,AVERAGE(MR_2),IF(F32=3,AVERAGE(MR_3),IF(F32=4,AVERAGE(MR_4),IF(F32=5,AVERAGE(MR_5))))))))","v":{"$error":"#N/A"}},0,{"$error":"#N/A"},null,{"$f":"IF(ISERROR($E32),0,IF($E32>$H32,MAX($Q$8:Q31)+1,0))","v":0},{"$f":"IF(ISERROR($E32),0,IF($E32<$I32,MAX($R$8:R31)+1,0))","v":0},null,0,0,null,0,0,null,0,0,null,0,0,0,0,0,0,0,null,{"$f":"IF(ISERROR($L32),0,IF($L32>$O32,MAX($AK$8:AK31)+1,0))","v":0},{"$error":"#N/A"},null,{"$error":"#N/A"},{"$error":"#N/A"},{"$f":"IF(C32<=$E$3,IF('Front sheet'!$O$3=\"\",NA(),'Front sheet'!$O$3),NA())","v":{"$error":"#N/A"}},{"$error":"#N/A"},{"$error":"#N/A"},{"$error":"#N/A"},{"$error":"#N/A"},{"$error":"#N/A"},{"$error":"#N/A"},{"$error":"#N/A"},{"$error":"#N/A"},{"$error":"#N/A"},{"$error":"#N/A"},{"$error":"#N/A"},{"$error":"#N/A"},{"$error":"#N/A"},{"$error":"#N/A"},{"$error":"#N/A"},{"$error":"#N/A"},{"$error":"#N/A"},{"$error":"#N/A"},"","",null,24,1,"",{"$error":"#N/A"},{"$error":"#N/A"},{"$error":"#N/A"},{"$error":"#N/A"},{"$error":"#N/A"},1,{"$error":"#N/A"},{"$error":"#N/A"},{"$error":"#N/A"},{"$error":"#N/A"},null,null,null,24,{"$error":"#N/A"},{"$error":"#N/A"},{"$error":"#N/A"},null,24,{"$error":"#N/A"},{"$error":"#N/A"},null,24,{"$error":"#N/A"},{"$error":"#N/A"},{"$error":"#N/A"},{"$error":"#N/A"},null,null,24,{"$error":"#N/A"},{"$error":"#N/A"},{"$error":"#N/A"},null,0,0,null,null,{"$error":"#N/A"},{"$error":"#N/A"},{"$error":"#N/A"},{"$error":"#N/A"}]
[null,0,25,{"$f":"IF('Front sheet'!$C34=\"\",\"\",'Front sheet'!$C34)","v":""},{"$f":"IF('Front sheet'!D34=\"\",#N/A,'Front sheet'!D34)","v":{"$error":"#N/A"}},"",{"$f":"IF(J33=\"\",NA(),IF('Front sheet'!$T$7<>0,AVERAGE(Tally_CL),IF(F33=1,AVERAGE(Tally),IF(F33=2,AVERAGE(Tally2),IF(F33=3,AVERAGE(Tally3),IF(F33=4,AVERAGE(Tally4),IF(F33=5,AVERAGE(Tally5))))))))","v":{"$error":"#N/A"}},{"$error":"#N/A"},{"$error":"#N/A"},"",{"$error":"#N/A"},{"$error":"#N/A"},{"$f":"IF(L33=\"\",NA(),IF('Front sheet'!$T$7<>0,AVERAGE(MR_CL),IF(F33=1,AVERAGE(MR_1),IF(F33=2,AVERAGE(MR_2),IF(F33=3,AVERAGE(MR_3),IF(F33=4,AVERAGE(MR_4),IF(F33=5,AVERAGE(MR_5))))))))","v":{"$error":"#N/A"}},0,{"$error":"#N/A"},null,{"$f":"IF(ISERROR($E33),0,IF($E33>$H33,MAX($Q$8:Q32)+1,0))","v":0},{"$f":"IF(ISERROR($E33),0,IF($E33<$I33,MAX($R$8:R32)+1,0))","v":0},null,0,0,null,0,0,null,0,0,null,0,0,0,0,0,0,0,null,{"$f":"IF(ISERROR($L33),0,IF($L33>$O33,MAX($AK$8:AK32)+1,0))","v":0},{"$error":"#N/A"},null,{"$error":"#N/A"},{"$error":"#N/A"},{"$f":"IF(C33<=$E$3,IF('Front sheet'!$O$3=\"\",NA(),'Front sheet'!$O$3),NA())","v":{"$error":"#N/A"}},{"$error":"#N/A"},{"$error":"#N/A"},{"$error":"#N/A"},{"$error":"#N/A"},{"$error":"#N/A"},{"$error":"#N/A"},{"$error":"#N/A"},{"$error":"#N/A"},{"$error":"#N/A"},{"$error":"#N/A"},{"$error":"#N/A"},{"$error":"#N/A"},{"$error":"#N/A"},{"$error":"#N/A"},{"$error":"#N/A"},{"$error":"#N/A"},{"$error":"#N/A"},{"$error":"#N/A"},"","",null,25,1,"",{"$error":"#N/A"},{"$error":"#N/A"},{"$error":"#N/A"},{"$error":"#N/A"},{"$error":"#N/A"},1,{"$error":"#N/A"},{"$error":"#N/A"},{"$error":"#N/A"},{"$error":"#N/A"},null,null,null,25,{"$error":"#N/A"},{"$error":"#N/A"},{"$error":"#N/A"},null,25,{"$error":"#N/A"},{"$error":"#N/A"},null,25,{"$error":"#N/A"},{"$error":"#N/A"},{"$error":"#N/A"},{"$error":"#N/A"},null,null,25,{"$error":"#N/A"},{"$error":"#N/A"},{"$error":"#N/A"},null,0,0,null,null,{"$error":"#N/A"},{"$error":"#N/A"},{"$error":"#N/A"},{"$error":"#N/A"}]
[null,0,26,{"$f":"IF('Front sheet'!$C35=\"\",\"\",'Front sheet'!$C35)","v":""},{"$f":"IF('Front sheet'!D35=\"\",#N/A,'Front sheet'!D35)","v":{"$error":"#N/A"}},"",{"$f":"IF(J34=\"\",NA(),IF('Front sheet'!$T$7<>0,AVERAGE(Tally_CL),IF(F34=1,AVERAGE(Tally),IF(F34=2,AVERAGE(Tally2),IF(F34=3,AVERAGE(Tally3),IF(F34=4,AVERAGE(Tally4),IF(F34=5,AVERAGE(Tally5))))))))","v":{"$error":"#N/A"}},{"$error":"#N/A"},{"$error":"#N/A"},"",{"$error":"#N/A"},{"$error":"#N/A"},{"$f":"IF(L34=\"\",NA(),IF('Front sheet'!$T$7<>0,AVERAGE(MR_CL),IF(F34=1,AVERAGE(MR_1),IF(F34=2,AVERAGE(MR_2),IF(F34=3,AVERAGE(MR_3),IF(F34=4,AVERAGE(MR_4),IF(F34=5,AVERAGE(MR_5))))))))","v":{"$error":"#N/A"}},0,{"$error":"#N/A"},null,{"$f":"IF(ISERROR($E34),0,IF($E34>$H34,MAX($Q$8:Q33)+1,0))","v":0},{"$f":"IF(ISERROR($E34),0,IF($E34<$I34,MAX($R$8:R33)+1,0))","v":0},null,0,0,null,0,0,null,0,0,null,0,0,0,0,0,0,0,null,{"$f":"IF(ISERROR($L34),0,IF($L34>$O34,MAX($AK$8:AK33)+1,0))","v":0},{"$error":"#N/A"},null,{"$error":"#N/A"},{"$error":"#N/A"},{"$f":"IF(C34<=$E$3,IF('Front sheet'!$O$3=\"\",NA(),'Front sheet'!$O$3),NA())","v":{"$error":"#N/A"}},{"$error":"#N/A"},{"$error":"#N/A"},{"$error":"#N/A"},{"$error":"#N/A"},{"$error":"#N/A"},{"$error":"#N/A"},{"$error":"#N/A"},{"$error":"#N/A"},{"$error":"#N/A"},{"$error":"#N/A"},{"$error":"#N/A"},{"$error":"#N/A"},{"$error":"#N/A"},{"$error":"#N/A"},{"$error":"#N/A"},{"$error":"#N/A"},{"$error":"#N/A"},{"$error":"#N/A"},"","",null,26,1,"",{"$error":"#N/A"},{"$error":"#N/A"},{"$error":"#N/A"},{"$error":"#N/A"},{"$error":"#N/A"},1,{"$error":"#N/A"},{"$error":"#N/A"},{"$error":"#N/A"},{"$error":"#N/A"},null,null,null,26,{"$error":"#N/A"},{"$error":"#N/A"},{"$error":"#N/A"},null,26,{"$error":"#N/A"},{"$error":"#N/A"},null,26,{"$error":"#N/A"},{"$error":"#N/A"},{"$error":"#N/A"},{"$error":"#N/A"},null,null,26,{"$error":"#N/A"},{"$error":"#N/A"},{"$error":"#N/A"},null,0,0,null,null,{"$error":"#N/A"},{"$error":"#N/A"},{"$error":"#N/A"},{"$error":"#N/A"}]
[null,0,27,{"$f":"IF('Front sheet'!$C36=\"\",\"\",'Front sheet'!$C36)","v":""},{"$f":"IF('Front sheet'!D36=\"\",#N/A,'Front sheet'!D36)","v":{"$error":"#N/A"}},"",{"$f":"IF(J35=\"\",NA(),IF('Front sheet'!$T$7<>0,AVERAGE(Tally_CL),IF(F35=1,AVERAGE(Tally),IF(F35=2,AVERAGE(Tally2),IF(F35=3,AVERAGE(Tally3),IF(F35=4,AVERAGE(Tally4),IF(F35=5,AVERAGE(Tally5))))))))","v":{"$error":"#N/A"}},{"$error":"#N/A"},{"$error":"#N/A"},"",{"$error":"#N/A"},{"$error":"#N/A"},{"$f":"IF(L35=\"\",NA(),IF('Front sheet'!$T$7<>0,AVERAGE(MR_CL),IF(F35=1,AVERAGE(MR_1),IF(F35=2,AVERAGE(MR_2),IF(F35=3,AVERAGE(MR_3),IF(F35=4,AVERAGE(MR_4),IF(F35=5,AVERAGE(MR_5))))))))","v":{"$error":"#N/A"}},0,{"$error":"#N/A"},null,{"$f":"IF(ISERROR($E35),0,IF($E35>$H35,MAX($Q$8:Q34)+1,0))","v":0},{"$f":"IF(ISERROR($E35),0,IF($E35<$I35,MAX($R$8:R34)+1,0))","v":0},null,0,0,null,0,0,null,0,0,null,0,0,0,0,0,0,0,null,{"$f":"IF(ISERROR($L35),0,IF($L35>$O35,MAX($AK$8:AK34)+1,0))","v":0},{"$error":"#N/A"},null,{"$error":"#N/A"},{"$error":"#N/A"},{"$f":"IF(C35<=$E$3,IF('Front sheet'!$O$3=\"\",NA(),'Front sheet'!$O$3),NA())","v":{"$error":"#N/A"}},{"$error":"#N/A"},{"$error":"#N/A"},{"$error":"#N/A"},{"$error":"#N/A"},{"$error":"#N/A"},{"$error":"#N/A"},{"$error":"#N/A"},{"$error":"#N/A"},{"$error":"#N/A"},{"$error":"#N/A"},{"$error":"#N/A"},{"$error":"#N/A"},{"$error":"#N/A"},{"$error":"#N/A"},{"$error":"#N/A"},{"$error":"#N/A"},{"$error":"#N/A"},{"$error":"#N/A"},"","",null,27,1,"",{"$error":"#N/A"},{"$error":"#N/A"},{"$error":"#N/A"},{"$error":"#N/A"},{"$error":"#N/A"},1,{"$error":"#N/A"},{"$error":"#N/A"},{"$error":"#N/A"},{"$error":"#N/A"},null,null,null,27,{"$error":"#N/A"},{"$error":"#N/A"},{"$error":"#N/A"},null,27,{"$error":"#N/A"},{"$error":"#N/A"},null,27,{"$error":"#N/A"},{"$error":"#N/A"},{"$error":"#N/A"},{"$error":"#N/A"},null,null,27,{"$error":"#N/A"},{"$error":"#N/A"},{"$error":"#N/A"},null,0,0,null,null,{"$error":"#N/A"},{"$error":"#N/A"},{"$error":"#N/A"},{"$error":"#N/A"}]
[null,0,28,{"$f":"IF('Front sheet'!$C37=\"\",\"\",'Front sheet'!$C37)","v":""},{"$f":"IF('Front sheet'!D37=\"\",#N/A,'Front sheet'!D37)","v":{"$error":"#N/A"}},"",{"$f":"IF(J36=\"\",NA(),IF('Front sheet'!$T$7<>0,AVERAGE(Tally_CL),IF(F36=1,AVERAGE(Tally),IF(F36=2,AVERAGE(Tally2),IF(F36=3,AVERAGE(Tally3),IF(F36=4,AVERAGE(Tally4),IF(F36=5,AVERAGE(Tally5))))))))","v":{"$error":"#N/A"}},{"$error":"#N/A"},{"$error":"#N/A"},"",{"$error":"#N/A"},{"$error":"#N/A"},{"$f":"IF(L36=\"\",NA(),IF('Front sheet'!$T$7<>0,AVERAGE(MR_CL),IF(F36=1,AVERAGE(MR_1),IF(F36=2,AVERAGE(MR_2),IF(F36=3,AVERAGE(MR_3),IF(F36=4,AVERAGE(MR_4),IF(F36=5,AVERAGE(MR_5))))))))","v":{"$error":"#N/A"}},0,{"$error":"#N/A"},null,{"$f":"IF(ISERROR($E36),0,IF($E36>$H36,MAX($Q$8:Q35)+1,0))","v":0},{"$f":"IF(ISERROR($E36),0,IF($E36<$I36,MAX($R$8:R35)+1,0))","v":0},null,0,0,null,0,0,null,0,0,null,0,0,0,0,0,0,0,null,{"$f":"IF(ISERROR($L36),0,IF($L36>$O36,MAX($AK$8:AK35)+1,0))","v":0},{"$error":"#N/A"},null,{"$error":"#N/A"},{"$error":"#N/A"},{"$f":"IF(C36<=$E$3,IF('Front sheet'!$O$3=\"\",NA(),'Front sheet'!$O$3),NA())","v":{"$error":"#N/A"}},{"$error":"#N/A"},{"$error":"#N/A"},{"$error":"#N/A"},{"$error":"#N/A"},{"$error":"#N/A"},{"$error":"#N/A"},{"$error":"#N/A"},{"$error":"#N/A"},{"$error":"#N/A"},{"$error":"#N/A"},{"$error":"#N/A"},{"$error":"#N/A"},{"$error":"#N/A"},{"$error":"#N/A"},{"$error":"#N/A"},{"$error":"#N/A"},{"$error":"#N/A"},{"$error":"#N/A"},"","",null,28,1,"",{"$error":"#N/A"},{"$error":"#N/A"},{"$error":"#N/A"},{"$error":"#N/A"},{"$error":"#N/A"},1,{"$error":"#N/A"},{"$error":"#N/A"},{"$error":"#N/A"},{"$error":"#N/A"},null,null,null,28,{"$error":"#N/A"},{"$error":"#N/A"},{"$error":"#N/A"},null,28,{"$error":"#N/A"},{"$error":"#N/A"},null,28,{"$error":"#N/A"},{"$error":"#N/A"},{"$error":"#N/A"},{"$error":"#N/A"},null,null,28,{"$error":"#N/A"},{"$error":"#N/A"},{"$error":"#N/A"},null,0,0,null,null,{"$error":"#N/A"},{"$error":"#N/A"},{"$error":"#N/A"},{"$error":"#N/A"}]
[null,0,29,{"$f":"'Front sheet'!E10","v":""},{"$f":"IF('Front sheet'!F10=\"\",#N/A,'Front sheet'!F10)","v":{"$error":"#N/A"}},"",{"$f":"IF(J37=\"\",NA(),IF('Front sheet'!$T$7<>0,AVERAGE(Tally_CL),IF(F37=1,AVERAGE(Tally),IF(F37=2,AVERAGE(Tally2),IF(F37=3,AVERAGE(Tally3),IF(F37=4,AVERAGE(Tally4),IF(F37=5,AVERAGE(Tally5))))))))","v":{"$error":"#N/A"}},{"$error":"#N/A"},{"$error":"#N/A"},"",{"$error":"#N/A"},{"$error":"#N/A"},{"$f":"IF(L37=\"\",NA(),IF('Front sheet'!$T$7<>0,AVERAGE(MR_CL),IF(F37=1,AVERAGE(MR_1),IF(F37=2,AVERAGE(MR_2),IF(F37=3,AVERAGE(MR_3),IF(F37=4,AVERAGE(MR_4),IF(F37=5,AVERAGE(MR_5))))))))","v":{"$error":"#N/A"}},0,{"$error":"#N/A"},null,{"$f":"IF(ISERROR($E37),0,IF($E37>$H37,MAX($Q$8:Q36)+1,0))","v":0},{"$f":"IF(ISERROR($E37),0,IF($E37<$I37,MAX($R$8:R36)+1,0))","v":0},null,0,0,null,0,0,null,0,0,null,0,0,0,0,0,0,0,null,{"$f":"IF(ISERROR($L37),0,IF($L37>$O37,MAX($AK$8:AK36)+1,0))","v":0},{"$error":"#N/A"},null,{"$error":"#N/A"},{"$error":"#N/A"},{"$f":"IF(C37<=$E$3,IF('Front sheet'!$O$3=\"\",NA(),'Front sheet'!$O$3),NA())","v":{"$error":"#N/A"}},{"$error":"#N/A"},{"$error":"#N/A"},{"$error":"#N/A"},{"$error":"#N/A"},{"$error":"#N/A"},{"$error":"#N/A"},{"$error":"#N/A"},{"$error":"#N/A"},{"$error":"#N/A"},{"$error":"#N/A"},{"$error":"#N/A"},{"$error":"#N/A"},{"$error":"#N/A"},{"$error":"#N/A"},{"$error":"#N/A"},{"$error":"#N/A"},{"$error":"#N/A"},{"$error":"#N/A"},"","",null,29,1,"",{"$error":"#N/A"},{"$error":"#N/A"},{"$error":"#N/A"},{"$error":"#N/A"},{"$error":"#N/A"},1,{"$error":"#N/A"},{"$error":"#N/A"},{"$error":"#N/A"},{"$error":"#N/A"},null,null,null,29,{"$error":"#N/A"},{"$error":"#N/A"},{"$error":"#N/A"},null,29,{"$error":"#N/A"},{"$error":"#N/A"},null,29,{"$error":"#N/A"},{"$error":"#N/A"},{"$error":"#N/A"},{"$error":"#N/A"},null,null,29,{"$error":"#N/A"},{"$error":"#N/A"},{"$error":"#N/A"},null,0,0,null,null,{"$error":"#N/A"},{"$error":"#N/A"},{"$error":"#N/A"},{"$error":"#N/A"}]
[null,0,30,{"$f":"IF('Front sheet'!$E11=\"\",\"\",'Front sheet'!$E11)","v":""},{"$f":"IF('Front sheet'!F11=\"\",#N/A,'Front sheet'!F11)","v":{"$error":"#N/A"}},"",{"$f":"IF(J38=\"\",NA(),IF('Front sheet'!$T$7<>0,AVERAGE(Tally_CL),IF(F38=1,AVERAGE(Tally),IF(F38=2,AVERAGE(Tally2),IF(F38=3,AVERAGE(Tally3),IF(F38=4,AVERAGE(Tally4),IF(F38=5,AVERAGE(Tally5))))))))","v":{"$error":"#N/A"}},{"$error":"#N/A"},{"$error":"#N/A"},"",{"$error":"#N/A"},{"$error":"#N/A"},{"$f":"IF(L38=\"\",NA(),IF('Front sheet'!$T$7<>0,AVERAGE(MR_CL),IF(F38=1,AVERAGE(MR_1),IF(F38=2,AVERAGE(MR_2),IF(F38=3,AVERAGE(MR_3),IF(F38=4,AVERAGE(MR_4),IF(F38=5,AVERAGE(MR_5))))))))","v":{"$error":"#N/A"}},0,{"$error":"#N/A"},null,{"$f":"IF(ISERROR($E38),0,IF($E38>$H38,MAX($Q$8:Q37)+1,0))","v":0},{"$f":"IF(ISERROR($E38),0,IF($E38<$I38,MAX($R$8:R37)+1,0))","v":0},null,0,0,null,0,0,null,0,0,null,0,0,0,0,0,0,0,null,{"$f":"IF(ISERROR($L38),0,IF($L38>$O38,MAX($AK$8:AK37)+1,0))","v":0},{"$error":"#N/A"},null,{"$error":"#N/A"},{"$error":"#N/A"},{"$f":"IF(C38<=$E$3,IF('Front sheet'!$O$3=\"\",NA(),'Front sheet'!$O$3),NA())","v":{"$error":"#N/A"}},{"$error":"#N/A"},{"$error":"#N/A"},{"$error":"#N/A"},{"$error":"#N/A"},{"$error":"#N/A"},{"$error":"#N/A"},{"$error":"#N/A"},{"$error":"#N/A"},{"$error":"#N/A"},{"$error":"#N/A"},{"$error":"#N/A"},{"$error":"#N/A"},{"$error":"#N/A"},{"$error":"#N/A"},{"$error":"#N/A"},{"$error":"#N/A"},{"$error":"#N/A"},{"$error":"#N/A"},"","",null,30,1,"",{"$error":"#N/A"},{"$error":"#N/A"},{"$error":"#N/A"},{"$error":"#N/A"},{"$error":"#N/A"},1,{"$error":"#N/A"},{"$error":"#N/A"},{"$error":"#N/A"},{"$error":"#N/A"},null,null,null,30,{"$error":"#N/A"},{"$error":"#N/A"},{"$error":"#N/A"},null,30,{"$error":"#N/A"},{"$error":"#N/A"},null,30,{"$error":"#N/A"},{"$error":"#N/A"},{"$error":"#N/A"},{"$error":"#N/A"},null,null,30,{"$error":"#N/A"},{"$error":"#N/A"},{"$error":"#N/A"},null,0,0,null,null,{"$error":"#N/A"},{"$error":"#N/A"},{"$error":"#N/A"},{"$error":"#N/A"}]
[null,0,31,{"$f":"IF('Front sheet'!$E12=\"\",\"\",'Front sheet'!$E12)","v":""},{"$f":"IF('Front sheet'!F12=\"\",#N/A,'Front sheet'!F12)","v":{"$error":"#N/A"}},"",{"$f":"IF(J39=\"\",NA(),IF('Front sheet'!$T$7<>0,AVERAGE(Tally_CL),IF(F39=1,AVERAGE(Tally),IF(F39=2,AVERAGE(Tally2),IF(F39=3,AVERAGE(Tally3),IF(F39=4,AVERAGE(Tally4),IF(F39=5,AVERAGE(Tally5))))))))","v":{"$error":"#N/A"}},{"$error":"#N/A"},{"$error":"#N/A"},"",{"$error":"#N/A"},{"$error":"#N/A"},{"$f":"IF(L39=\"\",NA(),IF('Front sheet'!$T$7<>0,AVERAGE(MR_CL),IF(F39=1,AVERAGE(MR_1),IF(F39=2,AVERAGE(MR_2),IF(F39=3,AVERAGE(MR_3),IF(F39=4,AVERAGE(MR_4),IF(F39=5,AVERAGE(MR_5))))))))","v":{"$error":"#N/A"}},0,{"$error":"#N/A"},null,{"$f":"IF(ISERROR($E39),0,IF($E39>$H39,MAX($Q$8:Q38)+1,0))","v":0},{"$f":"IF(ISERROR($E39),0,IF($E39<$I39,MAX($R$8:R38)+1,0))","v":0},null,0,0,null,0,0,null,0,0,null,0,0,0,0,0,0,0,null,{"$f":"IF(ISERROR($L39),0,IF($L39>$O39,MAX($AK$8:AK38)+1,0))","v":0},{"$error":"#N/A"},null,{"$error":"#N/A"},{"$error":"#N/A"},{"$f":"IF(C39<=$E$3,IF('Front sheet'!$O$3=\"\",NA(),'Front sheet'!$O$3),NA())","v":{"$error":"#N/A"}},{"$error":"#N/A"},{"$error":"#N/A"},{"$error":"#N/A"},{"$error":"#N/A"},{"$error":"#N/A"},{"$error":"#N/A"},{"$error":"#N/A"},{"$error":"#N/A"},{"$error":"#N/A"},{"$error":"#N/A"},{"$error":"#N/A"},{"$error":"#N/A"},{"$error":"#N/A"},{"$error":"#N/A"},{"$error":"#N/A"},{"$error":"#N/A"},{"$error":"#N/A"},{"$error":"#N/A"},"","",null,31,1,"",{"$error":"#N/A"},{"$error":"#N/A"},{"$error":"#N/A"},{"$error":"#N/A"},{"$error":"#N/A"},1,{"$error":"#N/A"},{"$error":"#N/A"},{"$error":"#N/A"},{"$error":"#N/A"},null,null,null,31,{"$error":"#N/A"},{"$error":"#N/A"},{"$error":"#N/A"},null,31,{"$error":"#N/A"},{"$error":"#N/A"},null,31,{"$error":"#N/A"},{"$error":"#N/A"},{"$error":"#N/A"},{"$error":"#N/A"},null,null,31,{"$error":"#N/A"},{"$error":"#N/A"},{"$error":"#N/A"},null,0,0,null,null,{"$error":"#N/A"},{"$error":"#N/A"},{"$error":"#N/A"},{"$error":"#N/A"}]
[null,0,32,{"$f":"IF('Front sheet'!$E13=\"\",\"\",'Front sheet'!$E13)","v":""},{"$f":"IF('Front sheet'!F13=\"\",#N/A,'Front sheet'!F13)","v":{"$error":"#N/A"}},"",{"$f":"IF(J40=\"\",NA(),IF('Front sheet'!$T$7<>0,AVERAGE(Tally_CL),IF(F40=1,AVERAGE(Tally),IF(F40=2,AVERAGE(Tally2),IF(F40=3,AVERAGE(Tally3),IF(F40=4,AVERAGE(Tally4),IF(F40=5,AVERAGE(Tally5))))))))","v":{"$error":"#N/A"}},{"$error":"#N/A"},{"$error":"#N/A"},"",{"$error":"#N/A"},{"$error":"#N/A"},{"$f":"IF(L40=\"\",NA(),IF('Front sheet'!$T$7<>0,AVERAGE(MR_CL),IF(F40=1,AVERAGE(MR_1),IF(F40=2,AVERAGE(MR_2),IF(F40=3,AVERAGE(MR_3),IF(F40=4,AVERAGE(MR_4),IF(F40=5,AVERAGE(MR_5))))))))","v":{"$error":"#N/A"}},0,{"$error":"#N/A"},null,{"$f":"IF(ISERROR($E40),0,IF($E40>$H40,MAX($Q$8:Q39)+1,0))","v":0},{"$f":"IF(ISERROR($E40),0,IF($E40<$I40,MAX($R$8:R39)+1,0))","v":0},null,0,0,null,0,0,null,0,0,null,0,0,0,0,0,0,0,null,{"$f":"IF(ISERROR($L40),0,IF($L40>$O40,MAX($AK$8:AK39)+1,0))","v":0},{"$error":"#N/A"},null,{"$error":"#N/A"},{"$error":"#N/A"},{"$f":"IF(C40<=$E$3,IF('Front sheet'!$O$3=\"\",NA(),'Front sheet'!$O$3),NA())","v":{"$error":"#N/A"}},{"$error":"#N/A"},{"$error":"#N/A"},{"$error":"#N/A"},{"$error":"#N/A"},{"$error":"#N/A"},{"$error":"#N/A"},{"$error":"#N/A"},{"$error":"#N/A"},{"$error":"#N/A"},{"$error":"#N/A"},{"$error":"#N/A"},{"$error":"#N/A"},{"$error":"#N/A"},{"$error":"#N/A"},{"$error":"#N/A"},{"$error":"#N/A"},{"$error":"#N/A"},{"$error":"#N/A"},"","",null,32,1,"",{"$error":"#N/A"},{"$error":"#N/A"},{"$error":"#N/A"},{"$error":"#N/A"},{"$error":"#N/A"},1,{"$error":"#N/A"},{"$error":"#N/A"},{"$error":"#N/A"},{"$error":"#N/A"},null,null,null,32,{"$error":"#N/A"},{"$error":"#N/A"},{"$error":"#N/A"},null,32,{"$error":"#N/A"},{"$error":"#N/A"},null,32,{"$error":"#N/A"},{"$error":"#N/A"},{"$error":"#N/A"},{"$error":"#N/A"},null,null,32,{"$error":"#N/A"},{"$error":"#N/A"},{"$error":"#N/A"},null,0,0,null,null,{"$error":"#N/A"},{"$error":"#N/A"},{"$error":"#N/A"},{"$error":"#N/A"}]
[null,0,33,{"$f":"IF('Front sheet'!$E14=\"\",\"\",'Front sheet'!$E14)","v":""},{"$f":"IF('Front sheet'!F14=\"\",#N/A,'Front sheet'!F14)","v":{"$error":"#N/A"}},"",{"$f":"IF(J41=\"\",NA(),IF('Front sheet'!$T$7<>0,AVERAGE(Tally_CL),IF(F41=1,AVERAGE(Tally),IF(F41=2,AVERAGE(Tally2),IF(F41=3,AVERAGE(Tally3),IF(F41=4,AVERAGE(Tally4),IF(F41=5,AVERAGE(Tally5))))))))","v":{"$error":"#N/A"}},{"$error":"#N/A"},{"$error":"#N/A"},"",{"$error":"#N/A"},{"$error":"#N/A"},{"$f":"IF(L41=\"\",NA(),IF('Front sheet'!$T$7<>0,AVERAGE(MR_CL),IF(F41=1,AVERAGE(MR_1),IF(F41=2,AVERAGE(MR_2),IF(F41=3,AVERAGE(MR_3),IF(F41=4,AVERAGE(MR_4),IF(F41=5,AVERAGE(MR_5))))))))","v":{"$error":"#N/A"}},{"$f":"IF(ISERROR((M41*2.66)),N42,(M41*2.66))","v":0},{"$error":"#N/A"},null,{"$f":"IF(ISERROR($E41),0,IF($E41>$H41,MAX($Q$8:Q40)+1,0))","v":0},{"$f":"IF(ISERROR($E41),0,IF($E41<$I41,MAX($R$8:R40)+1,0))","v":0},null,0,0,null,0,0,null,0,0,null,0,0,0,0,0,0,0,null,{"$f":"IF(ISERROR($L41),0,IF($L41>$O41,MAX($AK$8:AK40)+1,0))","v":0},{"$f":"IF(L41>O41,L41,#N/A)","v":{"$error":"#N/A"}},null,{"$error":"#N/A"},{"$error":"#N/A"},{"$f":"IF(C41<=$E$3,IF('Front sheet'!$O$3=\"\",NA(),'Front sheet'!$O$3),NA())","v":{"$error":"#N/A"}},{"$error":"#N/A"},{"$error":"#N/A"},{"$error":"#N/A"},{"$error":"#N/A"},{"$error":"#N/A"},{"$error":"#N/A"},{"$error":"#N/A"},{"$error":"#N/A"},{"$error":"#N/A"},{"$error":"#N/A"},{"$error":"#N/A"},{"$error":"#N/A"},{"$error":"#N/A"},{"$error":"#N/A"},{"$error":"#N/A"},{"$error":"#N/A"},{"$error":"#N/A"},{"$error":"#N/A"},"","",null,33,1,{"$f":"D41","v":""},{"$f":"IF($BO$6=0,#N/A,IF(BM41=BO$7,$E41-$BN$2,#N/A))","v":{"$error":"#N/A"}},{"$f":"IF($BP$6=0,#N/A,IF($BM41=BP$7,$E41-$BN$2,#N/A))","v":{"$error":"#N/A"}},{"$f":"IF($BQ$6=0,#N/A,IF($BM41=BQ$7,$E41-$BN$2,#N/A))","v":{"$error":"#N/A"}},{"$f":"IF($BR$6=0,#N/A,IF($BM41=BR$7,$E41-$BN$2,#N/A))","v":{"$error":"#N/A"}},{"$f":"IF($BS$6=0,#N/A,IF($BM41=BS$7,$E41-$BN$2,#N/A))","v":{"$error":"#N/A"}},1,{"$f":"IF($BU$6=0,#N/A,IF(BT41=BU$7,$E41-$BN$2,#N/A))","v":{"$error":"#N/A"}},{"$f":"IF($BV$6=0,#N/A,IF(BT41=BV$7,$E41-$BN$2,#N/A))","v":{"$error":"#N/A"}},{"$error":"#N/A"},{"$error":"#N/A"},null,null,null,33,{"$error":"#N/A"},{"$error":"#N/A"},{"$error":"#N/A"},null,33,{"$error":"#N/A"},{"$error":"#N/A"},null,33,{"$error":"#N/A"},{"$f":"IF(AND(CK41<>$E$3,CL41<>1),NA(),IF(OR($CB$6=1,$CB$6=2),NA(),IF(ISERROR(BG41),NA(),$BP$2)))","v":{"$error":"#N/A"}},{"$error":"#N/A"},{"$f":"IF(AND(CK41<>$E$3,CN41<>1),NA(),IF(OR($CB$6=1,$CB$6=2),NA(),IF(ISERROR(BH41),NA(),$BP$2)))","v":{"$error":"#N/A"}},null,null,33,{"$f":"IF($CB$5=\"Neither\",NA(),IF(CR41<>$E$3-$CS$6,NA(),IF($CR$6<>\"Pass\",NA(),$BP$2)))","v":{"$error":"#N/A"}},{"$f":"IF($CB$5=\"Neither\",NA(),IF(CR41<>$E$3-$CS$6,NA(),IF($CR$6<>\"Fail\",NA(),$BP$2)))","v":{"$error":"#N/A"}},{"$f":"IF($CB$5=\"Neither\",NA(),IF(CR41<>$E$3-$CS$6,NA(),IF($CR$6<>\"Flip\",NA(),$BP$2)))","v":{"$error":"#N/A"}},null,{"$f":"IF(ISERROR(E41),0,E41)","v":0},{"$f":"IF(ISERROR(E41),0,1)","v":0},null,null,{"$error":"#N/A"},{"$error":"#N/A"},{"$error":"#N/A"},{"$error":"#N/A"}]
[null,0,34,{"$f":"IF('Front sheet'!$E15=\"\",\"\",'Front sheet'!$E15)","v":""},{"$f":"IF('Front sheet'!F15=\"\",#N/A,'Front sheet'!F15)","v":{"$error":"#N/A"}},"",{"$f":"IF(J42=\"\",NA(),IF('Front sheet'!$T$7<>0,AVERAGE(Tally_CL),IF(F42=1,AVERAGE(Tally),IF(F42=2,AVERAGE(Tally2),IF(F42=3,AVERAGE(Tally3),IF(F42=4,AVERAGE(Tally4),IF(F42=5,AVERAGE(Tally5))))))))","v":{"$error":"#N/A"}},{"$error":"#N/A"},{"$error":"#N/A"},"",{"$error":"#N/A"},{"$error":"#N/A"},{"$f":"IF(L42=\"\",NA(),IF('Front sheet'!$T$7<>0,AVERAGE(MR_CL),IF(F42=1,AVERAGE(MR_1),IF(F42=2,AVERAGE(MR_2),IF(F42=3,AVERAGE(MR_3),IF(F42=4,AVERAGE(MR_4),IF(F42=5,AVERAGE(MR_5))))))))","v":{"$error":"#N/A"}},0,{"$error":"#N/A"},null,{"$f":"IF(ISERROR($E42),0,IF($E42>$H42,MAX($Q$8:Q41)+1,0))","v":0},{"$f":"IF(ISERROR($E42),0,IF($E42<$I42,MAX($R$8:R41)+1,0))","v":0},null,0,0,null,0,0,null,0,0,null,0,0,0,0,0,0,0,null,{"$f":"IF(ISERROR($L42),0,IF($L42>$O42,MAX($AK$8:AK41)+1,0))","v":0},{"$error":"#N/A"},null,{"$error":"#N/A"},{"$error":"#N/A"},{"$f":"IF(C42<=$E$3,IF('Front sheet'!$O$3=\"\",NA(),'Front sheet'!$O$3),NA())","v":{"$error":"#N/A"}},{"$error":"#N/A"},{"$error":"#N/A"},{"$error":"#N/A"},{"$error":"#N/A"},{"$error":"#N/A"},{"$error":"#N/A"},{"$error":"#N/A"},{"$error":"#N/A"},{"$error":"#N/A"},{"$error":"#N/A"},{"$error":"#N/A"},{"$error":"#N/A"},{"$error":"#N/A"},{"$error":"#N/A"},{"$error":"#N/A"},{"$error":"#N/A"},{"$error":"#N/A"},{"$error":"#N/A"},"","",null,34,1,"",{"$error":"#N/A"},{"$error":"#N/A"},{"$error":"#N/A"},{"$error":"#N/A"},{"$error":"#N/A"},1,{"$error":"#N/A"},{"$error":"#N/A"},{"$error":"#N/A"},{"$error":"#N/A"},null,null,null,34,{"$error":"#N/A"},{"$error":"#N/A"},{"$error":"#N/A"},null,34,{"$error":"#N/A"},{"$error":"#N/A"},null,34,{"$error":"#N/A"},{"$error":"#N/A"},{"$error":"#N/A"},{"$error":"#N/A"},null,null,34,{"$error":"#N/A"},{"$error":"#N/A"},{"$error":"#N/A"},null,0,0,null,null,{"$error":"#N/A"},{"$error":"#N/A"},{"$error":"#N/A"},{"$error":"#N/A"}]
[null,0,35,{"$f":"IF('Front sheet'!$E16=\"\",\"\",'Front sheet'!$E16)","v":""},{"$f":"IF('Front sheet'!F16=\"\",#N/A,'Front sheet'!F16)","v":{"$error":"#N/A"}},"",{"$f":"IF(J43=\"\",NA(),IF('Front sheet'!$T$7<>0,AVERAGE(Tally_CL),IF(F43=1,AVERAGE(Tally),IF(F43=2,AVERAGE(Tally2),IF(F43=3,AVERAGE(Tally3),IF(F43=4,AVERAGE(Tally4),IF(F43=5,AVERAGE(Tally5))))))))","v":{"$error":"#N/A"}},{"$error":"#N/A"},{"$error":"#N/A"},"",{"$error":"#N/A"},{"$error":"#N/A"},{"$f":"IF(L43=\"\",NA(),IF('Front sheet'!$T$7<>0,AVERAGE(MR_CL),IF(F43=1,AVERAGE(MR_1),IF(F43=2,AVERAGE(MR_2),IF(F43=3,AVERAGE(MR_3),IF(F43=4,AVERAGE(MR_4),IF(F43=5,AVERAGE(MR_5))))))))","v":{"$error":"#N/A"}},0,{"$error":"#N/A"},null,{"$f":"IF(ISERROR($E43),0,IF($E43>$H43,MAX($Q$8:Q42)+1,0))","v":0},{"$f":"IF(ISERROR($E43),0,IF($E43<$I43,MAX($R$8:R42)+1,0))","v":0},null,0,0,null,0,0,null,0,0,null,0,0,0,0,0,0,0,null,{"$f":"IF(ISERROR($L43),0,IF($L43>$O43,MAX($AK$8:AK42)+1,0))","v":0},{"$error":"#N/A"},null,{"$error":"#N/A"},{"$error":"#N/A"},{"$f":"IF(C43<=$E$3,IF('Front sheet'!$O$3=\"\",NA(),'Front sheet'!$O$3),NA())","v":{"$error":"#N/A"}},{"$error":"#N/A"},{"$error":"#N/A"},{"$error":"#N/A"},{"$error":"#N/A"},{"$error":"#N/A"},{"$error":"#N/A"},{"$error":"#N/A"},{"$error":"#N/A"},{"$error":"#N/A"},{"$error":"#N/A"},{"$error":"#N/A"},{"$error":"#N/A"},{"$error":"#N/A"},{"$error":"#N/A"},{"$error":"#N/A"},{"$error":"#N/A"},{"$error":"#N/A"},{"$error":"#N/A"},"","",null,35,1,"",{"$error":"#N/A"},{"$error":"#N/A"},{"$error":"#N/A"},{"$error":"#N/A"},{"$error":"#N/A"},1,{"$error":"#N/A"},{"$error":"#N/A"},{"$error":"#N/A"},{"$error":"#N/A"},null,null,null,35,{"$error":"#N/A"},{"$error":"#N/A"},{"$error":"#N/A"},null,35,{"$error":"#N/A"},{"$error":"#N/A"},null,35,{"$error":"#N/A"},{"$error":"#N/A"},{"$error":"#N/A"},{"$error":"#N/A"},null,null,35,{"$error":"#N/A"},{"$error":"#N/A"},{"$error":"#N/A"},null,0,0,null,null,{"$error":"#N/A"},{"$error":"#N/A"},{"$error":"#N/A"},{"$error":"#N/A"}]
[null,0,36,{"$f":"IF('Front sheet'!$E17=\"\",\"\",'Front sheet'!$E17)","v":""},{"$f":"IF('Front sheet'!F17=\"\",#N/A,'Front sheet'!F17)","v":{"$error":"#N/A"}},"",{"$f":"IF(J44=\"\",NA(),IF('Front sheet'!$T$7<>0,AVERAGE(Tally_CL),IF(F44=1,AVERAGE(Tally),IF(F44=2,AVERAGE(Tally2),IF(F44=3,AVERAGE(Tally3),IF(F44=4,AVERAGE(Tally4),IF(F44=5,AVERAGE(Tally5))))))))","v":{"$error":"#N/A"}},{"$error":"#N/A"},{"$error":"#N/A"},"",{"$error":"#N/A"},{"$error":"#N/A"},{"$f":"IF(L44=\"\",NA(),IF('Front sheet'!$T$7<>0,AVERAGE(MR_CL),IF(F44=1,AVERAGE(MR_1),IF(F44=2,AVERAGE(MR_2),IF(F44=3,AVERAGE(MR_3),IF(F44=4,AVERAGE(MR_4),IF(F44=5,AVERAGE(MR_5))))))))","v":{"$error":"#N/A"}},0,{"$error":"#N/A"},null,{"$f":"IF(ISERROR($E44),0,IF($E44>$H44,MAX($Q$8:Q43)+1,0))","v":0},{"$f":"IF(ISERROR($E44),0,IF($E44<$I44,MAX($R$8:R43)+1,0))","v":0},null,0,0,null,0,0,null,0,0,null,0,0,0,0,0,0,0,null,{"$f":"IF(ISERROR($L44),0,IF($L44>$O44,MAX($AK$8:AK43)+1,0))","v":0},{"$error":"#N/A"},null,{"$error":"#N/A"},{"$error":"#N/A"},{"$f":"IF(C44<=$E$3,IF('Front sheet'!$O$3=\"\",NA(),'Front sheet'!$O$3),NA())","v":{"$error":"#N/A"}},{"$error":"#N/A"},{"$error":"#N/A"},{"$error":"#N/A"},{"$error":"#N/A"},{"$error":"#N/A"},{"$error":"#N/A"},{"$error":"#N/A"},{"$error":"#N/A"},{"$error":"#N/A"},{"$error":"#N/A"},{"$error":"#N/A"},{"$error":"#N/A"},{"$error":"#N/A"},{"$error":"#N/A"},{"$error":"#N/A"},{"$error":"#N/A"},{"$error":"#N/A"},{"$error":"#N/A"},"","",null,36,1,"",{"$error":"#N/A"},{"$error":"#N/A"},{"$error":"#N/A"},{"$error":"#N/A"},{"$error":"#N/A"},1,{"$error":"#N/A"},{"$error":"#N/A"},{"$error":"#N/A"},{"$error":"#N/A"},null,null,null,36,{"$error":"#N/A"},{"$error":"#N/A"},{"$error":"#N/A"},null,36,{"$error":"#N/A"},{"$error":"#N/A"},null,36,{"$error":"#N/A"},{"$error":"#N/A"},{"$error":"#N/A"},{"$error":"#N/A"},null,null,36,{"$error":"#N/A"},{"$error":"#N/A"},{"$error":"#N/A"},null,0,0,null,null,{"$error":"#N/A"},{"$error":"#N/A"},{"$error":"#N/A"},{"$error":"#N/A"}]
[null,0,37,{"$f":"IF('Front sheet'!$E18=\"\",\"\",'Front sheet'!$E18)","v":""},{"$f":"IF('Front sheet'!F18=\"\",#N/A,'Front sheet'!F18)","v":{"$error":"#N/A"}},"",{"$f":"IF(J45=\"\",NA(),IF('Front sheet'!$T$7<>0,AVERAGE(Tally_CL),IF(F45=1,AVERAGE(Tally),IF(F45=2,AVERAGE(Tally2),IF(F45=3,AVERAGE(Tally3),IF(F45=4,AVERAGE(Tally4),IF(F45=5,AVERAGE(Tally5))))))))","v":{"$error":"#N/A"}},{"$error":"#N/A"},{"$error":"#N/A"},"",{"$error":"#N/A"},{"$error":"#N/A"},{"$f":"IF(L45=\"\",NA(),IF('Front sheet'!$T$7<>0,AVERAGE(MR_CL),IF(F45=1,AVERAGE(MR_1),IF(F45=2,AVERAGE(MR_2),IF(F45=3,AVERAGE(MR_3),IF(F45=4,AVERAGE(MR_4),IF(F45=5,AVERAGE(MR_5))))))))","v":{"$error":"#N/A"}},0,{"$error":"#N/A"},null,{"$f":"IF(ISERROR($E45),0,IF($E45>$H45,MAX($Q$8:Q44)+1,0))","v":0},{"$f":"IF(ISERROR($E45),0,IF($E45<$I45,MAX($R$8:R44)+1,0))","v":0},null,0,0,null,0,0,null,0,0,null,0,0,0,0,0,0,0,null,{"$f":"IF(ISERROR($L45),0,IF($L45>$O45,MAX($AK$8:AK44)+1,0))","v":0},{"$error":"#N/A"},null,{"$error":"#N/A"},{"$error":"#N/A"},{"$f":"IF(C45<=$E$3,IF('Front sheet'!$O$3=\"\",NA(),'Front sheet'!$O$3),NA())","v":{"$error":"#N/A"}},{"$error":"#N/A"},{"$error":"#N/A"},{"$error":"#N/A"},{"$error":"#N/A"},{"$error":"#N/A"},{"$error":"#N/A"},{"$error":"#N/A"},{"$error":"#N/A"},{"$error":"#N/A"},{"$error":"#N/A"},{"$error":"#N/A"},{"$error":"#N/A"},{"$error":"#N/A"},{"$error":"#N/A"},{"$error":"#N/A"},{"$error":"#N/A"},{"$error":"#N/A"},{"$error":"#N/A"},"","",null,37,1,"",{"$error":"#N/A"},{"$error":"#N/A"},{"$error":"#N/A"},{"$error":"#N/A"},{"$error":"#N/A"},1,{"$error":"#N/A"},{"$error":"#N/A"},{"$error":"#N/A"},{"$error":"#N/A"},null,null,null,37,{"$error":"#N/A"},{"$error":"#N/A"},{"$error":"#N/A"},null,37,{"$error":"#N/A"},{"$error":"#N/A"},null,37,{"$error":"#N/A"},{"$error":"#N/A"},{"$error":"#N/A"},{"$error":"#N/A"},null,null,37,{"$error":"#N/A"},{"$error":"#N/A"},{"$error":"#N/A"},null,0,0,null,null,{"$error":"#N/A"},{"$error":"#N/A"},{"$error":"#N/A"},{"$error":"#N/A"}]
[null,0,38,{"$f":"IF('Front sheet'!$E19=\"\",\"\",'Front sheet'!$E19)","v":""},{"$f":"IF('Front sheet'!F19=\"\",#N/A,'Front sheet'!F19)","v":{"$error":"#N/A"}},"",{"$f":"IF(J46=\"\",NA(),IF('Front sheet'!$T$7<>0,AVERAGE(Tally_CL),IF(F46=1,AVERAGE(Tally),IF(F46=2,AVERAGE(Tally2),IF(F46=3,AVERAGE(Tally3),IF(F46=4,AVERAGE(Tally4),IF(F46=5,AVERAGE(Tally5))))))))","v":{"$error":"#N/A"}},{"$error":"#N/A"},{"$error":"#N/A"},"",{"$error":"#N/A"},{"$error":"#N/A"},{"$f":"IF(L46=\"\",NA(),IF('Front sheet'!$T$7<>0,AVERAGE(MR_CL),IF(F46=1,AVERAGE(MR_1),IF(F46=2,AVERAGE(MR_2),IF(F46=3,AVERAGE(MR_3),IF(F46=4,AVERAGE(MR_4),IF(F46=5,AVERAGE(MR_5))))))))","v":{"$error":"#N/A"}},0,{"$error":"#N/A"},null,{"$f":"IF(ISERROR($E46),0,IF($E46>$H46,MAX($Q$8:Q45)+1,0))","v":0},{"$f":"IF(ISERROR($E46),0,IF($E46<$I46,MAX($R$8:R45)+1,0))","v":0},null,0,0,null,0,0,null,0,0,null,0,0,0,0,0,0,0,null,{"$f":"IF(ISERROR($L46),0,IF($L46>$O46,MAX($AK$8:AK45)+1,0))","v":0},{"$error":"#N/A"},null,{"$error":"#N/A"},{"$error":"#N/A"},{"$f":"IF(C46<=$E$3,IF('Front sheet'!$O$3=\"\",NA(),'Front sheet'!$O$3),NA())","v":{"$error":"#N/A"}},{"$error":"#N/A"},{"$error":"#N/A"},{"$error":"#N/A"},{"$error":"#N/A"},{"$error":"#N/A"},{"$error":"#N/A"},{"$error":"#N/A"},{"$error":"#N/A"},{"$error":"#N/A"},{"$error":"#N/A"},{"$error":"#N/A"},{"$error":"#N/A"},{"$error":"#N/A"},{"$error":"#N/A"},{"$error":"#N/A"},{"$error":"#N/A"},{"$error":"#N/A"},{"$error":"#N/A"},"","",null,38,1,"",{"$error":"#N/A"},{"$error":"#N/A"},{"$error":"#N/A"},{"$error":"#N/A"},{"$error":"#N/A"},1,{"$error":"#N/A"},{"$error":"#N/A"},{"$error":"#N/A"},{"$error":"#N/A"},null,null,null,38,{"$error":"#N/A"},{"$error":"#N/A"},{"$error":"#N/A"},null,38,{"$error":"#N/A"},{"$error":"#N/A"},null,38,{"$error":"#N/A"},{"$error":"#N/A"},{"$error":"#N/A"},{"$error":"#N/A"},null,null,38,{"$error":"#N/A"},{"$error":"#N/A"},{"$error":"#N/A"},null,0,0,null,null,{"$error":"#N/A"},{"$error":"#N/A"},{"$error":"#N/A"},{"$error":"#N/A"}]
[null,0,39,{"$f":"IF('Front sheet'!$E20=\"\",\"\",'Front sheet'!$E20)","v":""},{"$f":"IF('Front sheet'!F20=\"\",#N/A,'Front sheet'!F20)","v":{"$error":"#N/A"}},"",{"$f":"IF(J47=\"\",NA(),IF('Front sheet'!$T$7<>0,AVERAGE(Tally_CL),IF(F47=1,AVERAGE(Tally),IF(F47=2,AVERAGE(Tally2),IF(F47=3,AVERAGE(Tally3),IF(F47=4,AVERAGE(Tally4),IF(F47=5,AVERAGE(Tally5))))))))","v":{"$error":"#N/A"}},{"$error":"#N/A"},{"$error":"#N/A"},"",{"$error":"#N/A"},{"$error":"#N/A"},{"$f":"IF(L47=\"\",NA(),IF('Front sheet'!$T$7<>0,AVERAGE(MR_CL),IF(F47=1,AVERAGE(MR_1),IF(F47=2,AVERAGE(MR_2),IF(F47=3,AVERAGE(MR_3),IF(F47=4,AVERAGE(MR_4),IF(F47=5,AVERAGE(MR_5))))))))","v":{"$error":"#N/A"}},0,{"$error":"#N/A"},null,{"$f":"IF(ISERROR($E47),0,IF($E47>$H47,MAX($Q$8:Q46)+1,0))","v":0},{"$f":"IF(ISERROR($E47),0,IF($E47<$I47,MAX($R$8:R46)+1,0))","v":0},null,0,0,null,0,0,null,0,0,null,0,0,0,0,0,0,0,null,{"$f":"IF(ISERROR($L47),0,IF($L47>$O47,MAX($AK$8:AK46)+1,0))","v":0},{"$error":"#N/A"},null,{"$error":"#N/A"},{"$error":"#N/A"},{"$f":"IF(C47<=$E$3,IF('Front sheet'!$O$3=\"\",NA(),'Front sheet'!$O$3),NA())","v":{"$error":"#N/A"}},{"$error":"#N/A"},{"$error":"#N/A"},{"$error":"#N/A"},{"$error":"#N/A"},{"$error":"#N/A"},{"$error":"#N/A"},{"$error":"#N/A"},{"$error":"#N/A"},{"$error":"#N/A"},{"$error":"#N/A"},{"$error":"#N/A"},{"$error":"#N/A"},{"$error":"#N/A"},{"$error":"#N/A"},{"$error":"#N/A"},{"$error":"#N/A"},{"$error":"#N/A"},{"$error":"#N/A"},"","",null,39,1,"",{"$error":"#N/A"},{"$error":"#N/A"},{"$error":"#N/A"},{"$error":"#N/A"},{"$error":"#N/A"},1,{"$error":"#N/A"},{"$error":"#N/A"},{"$error":"#N/A"},{"$error":"#N/A"},null,null,null,39,{"$error":"#N/A"},{"$error":"#N/A"},{"$error":"#N/A"},null,39,{"$error":"#N/A"},{"$error":"#N/A"},null,39,{"$error":"#N/A"},{"$error":"#N/A"},{"$error":"#N/A"},{"$error":"#N/A"},null,null,39,{"$error":"#N/A"},{"$error":"#N/A"},{"$error":"#N/A"},null,0,0,null,null,{"$error":"#N/A"},{"$error":"#N/A"},{"$error":"#N/A"},{"$error":"#N/A"}]
[null,0,40,{"$f":"IF('Front sheet'!$E21=\"\",\"\",'Front sheet'!$E21)","v":""},{"$f":"IF('Front sheet'!F21=\"\",#N/A,'Front sheet'!F21)","v":{"$error":"#N/A"}},"",{"$f":"IF(J48=\"\",NA(),IF('Front sheet'!$T$7<>0,AVERAGE(Tally_CL),IF(F48=1,AVERAGE(Tally),IF(F48=2,AVERAGE(Tally2),IF(F48=3,AVERAGE(Tally3),IF(F48=4,AVERAGE(Tally4),IF(F48=5,AVERAGE(Tally5))))))))","v":{"$error":"#N/A"}},{"$error":"#N/A"},{"$error":"#N/A"},"",{"$error":"#N/A"},{"$error":"#N/A"},{"$f":"IF(L48=\"\",NA(),IF('Front sheet'!$T$7<>0,AVERAGE(MR_CL),IF(F48=1,AVERAGE(MR_1),IF(F48=2,AVERAGE(MR_2),IF(F48=3,AVERAGE(MR_3),IF(F48=4,AVERAGE(MR_4),IF(F48=5,AVERAGE(MR_5))))))))","v":{"$error":"#N/A"}},0,{"$error":"#N/A"},null,{"$f":"IF(ISERROR($E48),0,IF($E48>$H48,MAX($Q$8:Q47)+1,0))","v":0},{"$f":"IF(ISERROR($E48),0,IF($E48<$I48,MAX($R$8:R47)+1,0))","v":0},null,0,0,null,0,0,null,0,0,null,0,0,0,0,0,0,0,null,{"$f":"IF(ISERROR($L48),0,IF($L48>$O48,MAX($AK$8:AK47)+1,0))","v":0},{"$error":"#N/A"},null,{"$error":"#N/A"},{"$error":"#N/A"},{"$f":"IF(C48<=$E$3,IF('Front sheet'!$O$3=\"\",NA(),'Front sheet'!$O$3),NA())","v":{"$error":"#N/A"}},{"$error":"#N/A"},{"$error":"#N/A"},{"$error":"#N/A"},{"$error":"#N/A"},{"$error":"#N/A"},{"$error":"#N/A"},{"$error":"#N/A"},{"$error":"#N/A"},{"$error":"#N/A"},{"$error":"#N/A"},{"$error":"#N/A"},{"$error":"#N/A"},{"$error":"#N/A"},{"$error":"#N/A"},{"$error":"#N/A"},{"$error":"#N/A"},{"$error":"#N/A"},{"$error":"#N/A"},"","",null,40,1,"",{"$error":"#N/A"},{"$error":"#N/A"},{"$error":"#N/A"},{"$error":"#N/A"},{"$error":"#N/A"},1,{"$error":"#N/A"},{"$error":"#N/A"},{"$error":"#N/A"},{"$error":"#N/A"},null,null,null,40,{"$error":"#N/A"},{"$error":"#N/A"},{"$error":"#N/A"},null,40,{"$error":"#N/A"},{"$error":"#N/A"},null,40,{"$error":"#N/A"},{"$error":"#N/A"},{"$error":"#N/A"},{"$error":"#N/A"},null,null,40,{"$error":"#N/A"},{"$error":"#N/A"},{"$error":"#N/A"},null,0,0,null,null,{"$error":"#N/A"},{"$error":"#N/A"},{"$error":"#N/A"},{"$error":"#N/A"}]
[null,0,41,{"$f":"IF('Front sheet'!$E22=\"\",\"\",'Front sheet'!$E22)","v":""},{"$f":"IF('Front sheet'!F22=\"\",#N/A,'Front sheet'!F22)","v":{"$error":"#N/A"}},"",{"$f":"IF(J49=\"\",NA(),IF('Front sheet'!$T$7<>0,AVERAGE(Tally_CL),IF(F49=1,AVERAGE(Tally),IF(F49=2,AVERAGE(Tally2),IF(F49=3,AVERAGE(Tally3),IF(F49=4,AVERAGE(Tally4),IF(F49=5,AVERAGE(Tally5))))))))","v":{"$error":"#N/A"}},{"$error":"#N/A"},{"$error":"#N/A"},"",{"$error":"#N/A"},{"$error":"#N/A"},{"$f":"IF(L49=\"\",NA(),IF('Front sheet'!$T$7<>0,AVERAGE(MR_CL),IF(F49=1,AVERAGE(MR_1),IF(F49=2,AVERAGE(MR_2),IF(F49=3,AVERAGE(MR_3),IF(F49=4,AVERAGE(MR_4),IF(F49=5,AVERAGE(MR_5))))))))","v":{"$error":"#N/A"}},0,{"$error":"#N/A"},null,{"$f":"IF(ISERROR($E49),0,IF($E49>$H49,MAX($Q$8:Q48)+1,0))","v":0},{"$f":"IF(ISERROR($E49),0,IF($E49<$I49,MAX($R$8:R48)+1,0))","v":0},null,0,0,null,0,0,null,0,0,null,0,0,0,0,0,0,0,null,{"$f":"IF(ISERROR($L49),0,IF($L49>$O49,MAX($AK$8:AK48)+1,0))","v":0},{"$error":"#N/A"},null,{"$error":"#N/A"},{"$error":"#N/A"},{"$f":"IF(C49<=$E$3,IF('Front sheet'!$O$3=\"\",NA(),'Front sheet'!$O$3),NA())","v":{"$error":"#N/A"}},{"$error":"#N/A"},{"$error":"#N/A"},{"$error":"#N/A"},{"$error":"#N/A"},{"$error":"#N/A"},{"$error":"#N/A"},{"$error":"#N/A"},{"$error":"#N/A"},{"$error":"#N/A"},{"$error":"#N/A"},{"$error":"#N/A"},{"$error":"#N/A"},{"$error":"#N/A"},{"$error":"#N/A"},{"$error":"#N/A"},{"$error":"#N/A"},{"$error":"#N/A"},{"$error":"#N/A"},"","",null,41,1,"",{"$error":"#N/A"},{"$error":"#N/A"},{"$error":"#N/A"},{"$error":"#N/A"},{"$error":"#N/A"},1,{"$error":"#N/A"},{"$error":"#N/A"},{"$error":"#N/A"},{"$error":"#N/A"},null,null,null,41,{"$error":"#N/A"},{"$error":"#N/A"},{"$error":"#N/A"},null,41,{"$error":"#N/A"},{"$error":"#N/A"},null,41,{"$error":"#N/A"},{"$error":"#N/A"},{"$error":"#N/A"},{"$error":"#N/A"},null,null,41,{"$error":"#N/A"},{"$error":"#N/A"},{"$error":"#N/A"},null,0,0,null,null,{"$error":"#N/A"},{"$error":"#N/A"},{"$error":"#N/A"},{"$error":"#N/A"}]
[null,0,42,{"$f":"IF('Front sheet'!$E23=\"\",\"\",'Front sheet'!$E23)","v":""},{"$f":"IF('Front sheet'!F23=\"\",#N/A,'Front sheet'!F23)","v":{"$error":"#N/A"}},"",{"$f":"IF(J50=\"\",NA(),IF('Front sheet'!$T$7<>0,AVERAGE(Tally_CL),IF(F50=1,AVERAGE(Tally),IF(F50=2,AVERAGE(Tally2),IF(F50=3,AVERAGE(Tally3),IF(F50=4,AVERAGE(Tally4),IF(F50=5,AVERAGE(Tally5))))))))","v":{"$error":"#N/A"}},{"$error":"#N/A"},{"$error":"#N/A"},"",{"$error":"#N/A"},{"$error":"#N/A"},{"$f":"IF(L50=\"\",NA(),IF('Front sheet'!$T$7<>0,AVERAGE(MR_CL),IF(F50=1,AVERAGE(MR_1),IF(F50=2,AVERAGE(MR_2),IF(F50=3,AVERAGE(MR_3),IF(F50=4,AVERAGE(MR_4),IF(F50=5,AVERAGE(MR_5))))))))","v":{"$error":"#N/A"}},0,{"$error":"#N/A"},null,{"$f":"IF(ISERROR($E50),0,IF($E50>$H50,MAX($Q$8:Q49)+1,0))","v":0},{"$f":"IF(ISERROR($E50),0,IF($E50<$I50,MAX($R$8:R49)+1,0))","v":0},null,0,0,null,0,0,null,0,0,null,0,0,0,0,0,0,0,null,{"$f":"IF(ISERROR($L50),0,IF($L50>$O50,MAX($AK$8:AK49)+1,0))","v":0},{"$error":"#N/A"},null,{"$error":"#N/A"},{"$error":"#N/A"},{"$f":"IF(C50<=$E$3,IF('Front sheet'!$O$3=\"\",NA(),'Front sheet'!$O$3),NA())","v":{"$error":"#N/A"}},{"$error":"#N/A"},{"$error":"#N/A"},{"$error":"#N/A"},{"$error":"#N/A"},{"$error":"#N/A"},{"$error":"#N/A"},{"$error":"#N/A"},{"$error":"#N/A"},{"$error":"#N/A"},{"$error":"#N/A"},{"$error":"#N/A"},{"$error":"#N/A"},{"$error":"#N/A"},{"$error":"#N/A"},{"$error":"#N/A"},{"$error":"#N/A"},{"$error":"#N/A"},{"$error":"#N/A"},"","",null,42,1,"",{"$error":"#N/A"},{"$error":"#N/A"},{"$error":"#N/A"},{"$error":"#N/A"},{"$error":"#N/A"},1,{"$error":"#N/A"},{"$error":"#N/A"},{"$error":"#N/A"},{"$error":"#N/A"},null,null,null,42,{"$error":"#N/A"},{"$error":"#N/A"},{"$error":"#N/A"},null,42,{"$error":"#N/A"},{"$error":"#N/A"},null,42,{"$error":"#N/A"},{"$error":"#N/A"},{"$error":"#N/A"},{"$error":"#N/A"},null,null,42,{"$error":"#N/A"},{"$error":"#N/A"},{"$error":"#N/A"},null,0,0,null,null,{"$error":"#N/A"},{"$error":"#N/A"},{"$error":"#N/A"},{"$error":"#N/A"}]
[null,0,43,{"$f":"IF('Front sheet'!$E24=\"\",\"\",'Front sheet'!$E24)","v":""},{"$f":"IF('Front sheet'!F24=\"\",#N/A,'Front sheet'!F24)","v":{"$error":"#N/A"}},"",{"$f":"IF(J51=\"\",NA(),IF('Front sheet'!$T$7<>0,AVERAGE(Tally_CL),IF(F51=1,AVERAGE(Tally),IF(F51=2,AVERAGE(Tally2),IF(F51=3,AVERAGE(Tally3),IF(F51=4,AVERAGE(Tally4),IF(F51=5,AVERAGE(Tally5))))))))","v":{"$error":"#N/A"}},{"$error":"#N/A"},{"$error":"#N/A"},"",{"$error":"#N/A"},{"$error":"#N/A"},{"$f":"IF(L51=\"\",NA(),IF('Front sheet'!$T$7<>0,AVERAGE(MR_CL),IF(F51=1,AVERAGE(MR_1),IF(F51=2,AVERAGE(MR_2),IF(F51=3,AVERAGE(MR_3),IF(F51=4,AVERAGE(MR_4),IF(F51=5,AVERAGE(MR_5))))))))","v":{"$error":"#N/A"}},0,{"$error":"#N/A"},null,{"$f":"IF(ISERROR($E51),0,IF($E51>$H51,MAX($Q$8:Q50)+1,0))","v":0},{"$f":"IF(ISERROR($E51),0,IF($E51<$I51,MAX($R$8:R50)+1,0))","v":0},null,0,0,null,0,0,null,0,0,null,0,0,0,0,0,0,0,null,{"$f":"IF(ISERROR($L51),0,IF($L51>$O51,MAX($AK$8:AK50)+1,0))","v":0},{"$error":"#N/A"},null,{"$error":"#N/A"},{"$error":"#N/A"},{"$f":"IF(C51<=$E$3,IF('Front sheet'!$O$3=\"\",NA(),'Front sheet'!$O$3),NA())","v":{"$error":"#N/A"}},{"$error":"#N/A"},{"$error":"#N/A"},{"$error":"#N/A"},{"$error":"#N/A"},{"$error":"#N/A"},{"$error":"#N/A"},{"$error":"#N/A"},{"$error":"#N/A"},{"$error":"#N/A"},{"$error":"#N/A"},{"$error":"#N/A"},{"$error":"#N/A"},{"$error":"#N/A"},{"$error":"#N/A"},{"$error":"#N/A"},{"$error":"#N/A"},{"$error":"#N/A"},{"$error":"#N/A"},"","",null,43,1,"",{"$error":"#N/A"},{"$error":"#N/A"},{"$error":"#N/A"},{"$error":"#N/A"},{"$error":"#N/A"},1,{"$error":"#N/A"},{"$error":"#N/A"},{"$error":"#N/A"},{"$error":"#N/A"},null,null,null,43,{"$error":"#N/A"},{"$error":"#N/A"},{"$error":"#N/A"},null,43,{"$error":"#N/A"},{"$error":"#N/A"},null,43,{"$error":"#N/A"},{"$error":"#N/A"},{"$error":"#N/A"},{"$error":"#N/A"},null,null,43,{"$error":"#N/A"},{"$error":"#N/A"},{"$error":"#N/A"},null,0,0,null,null,{"$error":"#N/A"},{"$error":"#N/A"},{"$error":"#N/A"},{"$error":"#N/A"}]
[null,0,44,{"$f":"IF('Front sheet'!$E25=\"\",\"\",'Front sheet'!$E25)","v":""},{"$f":"IF('Front sheet'!F25=\"\",#N/A,'Front sheet'!F25)","v":{"$error":"#N/A"}},"",{"$f":"IF(J52=\"\",NA(),IF('Front sheet'!$T$7<>0,AVERAGE(Tally_CL),IF(F52=1,AVERAGE(Tally),IF(F52=2,AVERAGE(Tally2),IF(F52=3,AVERAGE(Tally3),IF(F52=4,AVERAGE(Tally4),IF(F52=5,AVERAGE(Tally5))))))))","v":{"$error":"#N/A"}},{"$error":"#N/A"},{"$error":"#N/A"},"",{"$error":"#N/A"},{"$error":"#N/A"},{"$f":"IF(L52=\"\",NA(),IF('Front sheet'!$T$7<>0,AVERAGE(MR_CL),IF(F52=1,AVERAGE(MR_1),IF(F52=2,AVERAGE(MR_2),IF(F52=3,AVERAGE(MR_3),IF(F52=4,AVERAGE(MR_4),IF(F52=5,AVERAGE(MR_5))))))))","v":{"$error":"#N/A"}},0,{"$error":"#N/A"},null,{"$f":"IF(ISERROR($E52),0,IF($E52>$H52,MAX($Q$8:Q51)+1,0))","v":0},{"$f":"IF(ISERROR($E52),0,IF($E52<$I52,MAX($R$8:R51)+1,0))","v":0},null,0,0,null,0,0,null,0,0,null,0,0,0,0,0,0,0,null,{"$f":"IF(ISERROR($L52),0,IF($L52>$O52,MAX($AK$8:AK51)+1,0))","v":0},{"$error":"#N/A"},null,{"$error":"#N/A"},{"$error":"#N/A"},{"$f":"IF(C52<=$E$3,IF('Front sheet'!$O$3=\"\",NA(),'Front sheet'!$O$3),NA())","v":{"$error":"#N/A"}},{"$error":"#N/A"},{"$error":"#N/A"},{"$error":"#N/A"},{"$error":"#N/A"},{"$error":"#N/A"},{"$error":"#N/A"},{"$error":"#N/A"},{"$error":"#N/A"},{"$error":"#N/A"},{"$error":"#N/A"},{"$error":"#N/A"},{"$error":"#N/A"},{"$error":"#N/A"},{"$error":"#N/A"},{"$error":"#N/A"},{"$error":"#N/A"},{"$error":"#N/A"},{"$error":"#N/A"},"","",null,44,1,"",{"$error":"#N/A"},{"$error":"#N/A"},{"$error":"#N/A"},{"$error":"#N/A"},{"$error":"#N/A"},1,{"$error":"#N/A"},{"$error":"#N/A"},{"$error":"#N/A"},{"$error":"#N/A"},null,null,null,44,{"$error":"#N/A"},{"$error":"#N/A"},{"$error":"#N/A"},null,44,{"$error":"#N/A"},{"$error":"#N/A"},null,44,{"$error":"#N/A"},{"$error":"#N/A"},{"$error":"#N/A"},{"$error":"#N/A"},null,null,44,{"$error":"#N/A"},{"$error":"#N/A"},{"$error":"#N/A"},null,0,0,null,null,{"$error":"#N/A"},{"$error":"#N/A"},{"$error":"#N/A"},{"$error":"#N/A"}]
[null,0,45,{"$f":"IF('Front sheet'!$E26=\"\",\"\",'Front sheet'!$E26)","v":""},{"$f":"IF('Front sheet'!F26=\"\",#N/A,'Front sheet'!F26)","v":{"$error":"#N/A"}},"",{"$f":"IF(J53=\"\",NA(),IF('Front sheet'!$T$7<>0,AVERAGE(Tally_CL),IF(F53=1,AVERAGE(Tally),IF(F53=2,AVERAGE(Tally2),IF(F53=3,AVERAGE(Tally3),IF(F53=4,AVERAGE(Tally4),IF(F53=5,AVERAGE(Tally5))))))))","v":{"$error":"#N/A"}},{"$error":"#N/A"},{"$error":"#N/A"},"",{"$error":"#N/A"},{"$error":"#N/A"},{"$f":"IF(L53=\"\",NA(),IF('Front sheet'!$T$7<>0,AVERAGE(MR_CL),IF(F53=1,AVERAGE(MR_1),IF(F53=2,AVERAGE(MR_2),IF(F53=3,AVERAGE(MR_3),IF(F53=4,AVERAGE(MR_4),IF(F53=5,AVERAGE(MR_5))))))))","v":{"$error":"#N/A"}},0,{"$error":"#N/A"},null,{"$f":"IF(ISERROR($E53),0,IF($E53>$H53,MAX($Q$8:Q52)+1,0))","v":0},{"$f":"IF(ISERROR($E53),0,IF($E53<$I53,MAX($R$8:R52)+1,0))","v":0},null,0,0,null,0,0,null,0,0,null,0,0,0,0,0,0,0,null,{"$f":"IF(ISERROR($L53),0,IF($L53>$O53,MAX($AK$8:AK52)+1,0))","v":0},{"$error":"#N/A"},null,{"$error":"#N/A"},{"$error":"#N/A"},{"$f":"IF(C53<=$E$3,IF('Front sheet'!$O$3=\"\",NA(),'Front sheet'!$O$3),NA())","v":{"$error":"#N/A"}},{"$error":"#N/A"},{"$error":"#N/A"},{"$error":"#N/A"},{"$error":"#N/A"},{"$error":"#N/A"},{"$error":"#N/A"},{"$error":"#N/A"},{"$error":"#N/A"},{"$error":"#N/A"},{"$error":"#N/A"},{"$error":"#N/A"},{"$error":"#N/A"},{"$error":"#N/A"},{"$error":"#N/A"},{"$error":"#N/A"},{"$error":"#N/A"},{"$error":"#N/A"},{"$error":"#N/A"},"","",null,45,1,"",{"$error":"#N/A"},{"$error":"#N/A"},{"$error":"#N/A"},{"$error":"#N/A"},{"$error":"#N/A"},1,{"$error":"#N/A"},{"$error":"#N/A"},{"$error":"#N/A"},{"$error":"#N/A"},null,null,null,45,{"$error":"#N/A"},{"$error":"#N/A"},{"$error":"#N/A"},null,45,{"$error":"#N/A"},{"$error":"#N/A"},null,45,{"$error":"#N/A"},{"$error":"#N/A"},{"$error":"#N/A"},{"$error":"#N/A"},null,null,45,{"$error":"#N/A"},{"$error":"#N/A"},{"$error":"#N/A"},null,0,0,null,null,{"$error":"#N/A"},{"$error":"#N/A"},{"$error":"#N/A"},{"$error":"#N/A"}]
[null,0,46,{"$f":"IF('Front sheet'!$E27=\"\",\"\",'Front sheet'!$E27)","v":""},{"$f":"IF('Front sheet'!F27=\"\",#N/A,'Front sheet'!F27)","v":{"$error":"#N/A"}},"",{"$f":"IF(J54=\"\",NA(),IF('Front sheet'!$T$7<>0,AVERAGE(Tally_CL),IF(F54=1,AVERAGE(Tally),IF(F54=2,AVERAGE(Tally2),IF(F54=3,AVERAGE(Tally3),IF(F54=4,AVERAGE(Tally4),IF(F54=5,AVERAGE(Tally5))))))))","v":{"$error":"#N/A"}},{"$error":"#N/A"},{"$error":"#N/A"},"",{"$error":"#N/A"},{"$error":"#N/A"},{"$f":"IF(L54=\"\",NA(),IF('Front sheet'!$T$7<>0,AVERAGE(MR_CL),IF(F54=1,AVERAGE(MR_1),IF(F54=2,AVERAGE(MR_2),IF(F54=3,AVERAGE(MR_3),IF(F54=4,AVERAGE(MR_4),IF(F54=5,AVERAGE(MR_5))))))))","v":{"$error":"#N/A"}},0,{"$error":"#N/A"},null,{"$f":"IF(ISERROR($E54),0,IF($E54>$H54,MAX($Q$8:Q53)+1,0))","v":0},{"$f":"IF(ISERROR($E54),0,IF($E54<$I54,MAX($R$8:R53)+1,0))","v":0},null,0,0,null,0,0,null,0,0,null,0,0,0,0,0,0,0,null,{"$f":"IF(ISERROR($L54),0,IF($L54>$O54,MAX($AK$8:AK53)+1,0))","v":0},{"$error":"#N/A"},null,{"$error":"#N/A"},{"$error":"#N/A"},{"$f":"IF(C54<=$E$3,IF('Front sheet'!$O$3=\"\",NA(),'Front sheet'!$O$3),NA())","v":{"$error":"#N/A"}},{"$error":"#N/A"},{"$error":"#N/A"},{"$error":"#N/A"},{"$error":"#N/A"},{"$error":"#N/A"},{"$error":"#N/A"},{"$error":"#N/A"},{"$error":"#N/A"},{"$error":"#N/A"},{"$error":"#N/A"},{"$error":"#N/A"},{"$error":"#N/A"},{"$error":"#N/A"},{"$error":"#N/A"},{"$error":"#N/A"},{"$error":"#N/A"},{"$error":"#N/A"},{"$error":"#N/A"},"","",null,46,1,"",{"$error":"#N/A"},{"$error":"#N/A"},{"$error":"#N/A"},{"$error":"#N/A"},{"$error":"#N/A"},1,{"$error":"#N/A"},{"$error":"#N/A"},{"$error":"#N/A"},{"$error":"#N/A"},null,null,null,46,{"$error":"#N/A"},{"$error":"#N/A"},{"$error":"#N/A"},null,46,{"$error":"#N/A"},{"$error":"#N/A"},null,46,{"$error":"#N/A"},{"$error":"#N/A"},{"$error":"#N/A"},{"$error":"#N/A"},null,null,46,{"$error":"#N/A"},{"$error":"#N/A"},{"$error":"#N/A"},null,0,0,null,null,{"$error":"#N/A"},{"$error":"#N/A"},{"$error":"#N/A"},{"$error":"#N/A"}]
[null,0,47,{"$f":"IF('Front sheet'!$E28=\"\",\"\",'Front sheet'!$E28)","v":""},{"$f":"IF('Front sheet'!F28=\"\",#N/A,'Front sheet'!F28)","v":{"$error":"#N/A"}},"",{"$f":"IF(J55=\"\",NA(),IF('Front sheet'!$T$7<>0,AVERAGE(Tally_CL),IF(F55=1,AVERAGE(Tally),IF(F55=2,AVERAGE(Tally2),IF(F55=3,AVERAGE(Tally3),IF(F55=4,AVERAGE(Tally4),IF(F55=5,AVERAGE(Tally5))))))))","v":{"$error":"#N/A"}},{"$error":"#N/A"},{"$error":"#N/A"},"",{"$error":"#N/A"},{"$error":"#N/A"},{"$f":"IF(L55=\"\",NA(),IF('Front sheet'!$T$7<>0,AVERAGE(MR_CL),IF(F55=1,AVERAGE(MR_1),IF(F55=2,AVERAGE(MR_2),IF(F55=3,AVERAGE(MR_3),IF(F55=4,AVERAGE(MR_4),IF(F55=5,AVERAGE(MR_5))))))))","v":{"$error":"#N/A"}},0,{"$error":"#N/A"},null,{"$f":"IF(ISERROR($E55),0,IF($E55>$H55,MAX($Q$8:Q54)+1,0))","v":0},{"$f":"IF(ISERROR($E55),0,IF($E55<$I55,MAX($R$8:R54)+1,0))","v":0},null,0,0,null,0,0,null,0,0,null,0,0,0,0,0,0,0,null,{"$f":"IF(ISERROR($L55),0,IF($L55>$O55,MAX($AK$8:AK54)+1,0))","v":0},{"$error":"#N/A"},null,{"$error":"#N/A"},{"$error":"#N/A"},{"$f":"IF(C55<=$E$3,IF('Front sheet'!$O$3=\"\",NA(),'Front sheet'!$O$3),NA())","v":{"$error":"#N/A"}},{"$error":"#N/A"},{"$error":"#N/A"},{"$error":"#N/A"},{"$error":"#N/A"},{"$error":"#N/A"},{"$error":"#N/A"},{"$error":"#N/A"},{"$error":"#N/A"},{"$error":"#N/A"},{"$error":"#N/A"},{"$error":"#N/A"},{"$error":"#N/A"},{"$error":"#N/A"},{"$error":"#N/A"},{"$error":"#N/A"},{"$error":"#N/A"},{"$error":"#N/A"},{"$error":"#N/A"},"","",null,47,1,"",{"$error":"#N/A"},{"$error":"#N/A"},{"$error":"#N/A"},{"$error":"#N/A"},{"$error":"#N/A"},1,{"$error":"#N/A"},{"$error":"#N/A"},{"$error":"#N/A"},{"$error":"#N/A"},null,null,null,47,{"$error":"#N/A"},{"$error":"#N/A"},{"$error":"#N/A"},null,47,{"$error":"#N/A"},{"$error":"#N/A"},null,47,{"$error":"#N/A"},{"$error":"#N/A"},{"$error":"#N/A"},{"$error":"#N/A"},null,null,47,{"$error":"#N/A"},{"$error":"#N/A"},{"$error":"#N/A"},null,0,0,null,null,{"$error":"#N/A"},{"$error":"#N/A"},{"$error":"#N/A"},{"$error":"#N/A"}]
[null,0,48,{"$f":"IF('Front sheet'!$E29=\"\",\"\",'Front sheet'!$E29)","v":""},{"$f":"IF('Front sheet'!F29=\"\",#N/A,'Front sheet'!F29)","v":{"$error":"#N/A"}},"",{"$f":"IF(J56=\"\",NA(),IF('Front sheet'!$T$7<>0,AVERAGE(Tally_CL),IF(F56=1,AVERAGE(Tally),IF(F56=2,AVERAGE(Tally2),IF(F56=3,AVERAGE(Tally3),IF(F56=4,AVERAGE(Tally4),IF(F56=5,AVERAGE(Tally5))))))))","v":{"$error":"#N/A"}},{"$error":"#N/A"},{"$error":"#N/A"},"",{"$error":"#N/A"},{"$error":"#N/A"},{"$f":"IF(L56=\"\",NA(),IF('Front sheet'!$T$7<>0,AVERAGE(MR_CL),IF(F56=1,AVERAGE(MR_1),IF(F56=2,AVERAGE(MR_2),IF(F56=3,AVERAGE(MR_3),IF(F56=4,AVERAGE(MR_4),IF(F56=5,AVERAGE(MR_5))))))))","v":{"$error":"#N/A"}},0,{"$error":"#N/A"},null,{"$f":"IF(ISERROR($E56),0,IF($E56>$H56,MAX($Q$8:Q55)+1,0))","v":0},{"$f":"IF(ISERROR($E56),0,IF($E56<$I56,MAX($R$8:R55)+1,0))","v":0},null,0,0,null,0,0,null,0,0,null,0,0,0,0,0,0,0,null,{"$f":"IF(ISERROR($L56),0,IF($L56>$O56,MAX($AK$8:AK55)+1,0))","v":0},{"$error":"#N/A"},null,{"$error":"#N/A"},{"$error":"#N/A"},{"$f":"IF(C56<=$E$3,IF('Front sheet'!$O$3=\"\",NA(),'Front sheet'!$O$3),NA())","v":{"$error":"#N/A"}},{"$error":"#N/A"},{"$error":"#N/A"},{"$error":"#N/A"},{"$error":"#N/A"},{"$error":"#N/A"},{"$error":"#N/A"},{"$error":"#N/A"},{"$error":"#N/A"},{"$error":"#N/A"},{"$error":"#N/A"},{"$error":"#N/A"},{"$error":"#N/A"},{"$error":"#N/A"},{"$error":"#N/A"},{"$error":"#N/A"},{"$error":"#N/A"},{"$error":"#N/A"},{"$error":"#N/A"},"","",null,48,1,"",{"$error":"#N/A"},{"$error":"#N/A"},{"$error":"#N/A"},{"$error":"#N/A"},{"$error":"#N/A"},1,{"$error":"#N/A"},{"$error":"#N/A"},{"$error":"#N/A"},{"$error":"#N/A"},null,null,null,48,{"$error":"#N/A"},{"$error":"#N/A"},{"$error":"#N/A"},null,48,{"$error":"#N/A"},{"$error":"#N/A"},null,48,{"$error":"#N/A"},{"$error":"#N/A"},{"$error":"#N/A"},{"$error":"#N/A"},null,null,48,{"$error":"#N/A"},{"$error":"#N/A"},{"$error":"#N/A"},null,0,0,null,null,{"$f":"IF($U$6=2,NA(),IF(AND(U56=0,AA56=0,AI56=0,Q56=0),#N/A,J56))","v":{"$error":"#N/A"}},{"$f":"IF($U$6=2,NA(),IF(AND(R56=0,X56=0,AD56=0,AG56=0),#N/A,J56))","v":{"$error":"#N/A"}},{"$error":"#N/A"},{"$error":"#N/A"}]
[null,0,49,{"$f":"IF('Front sheet'!$E30=\"\",\"\",'Front sheet'!$E30)","v":""},{"$f":"IF('Front sheet'!F30=\"\",#N/A,'Front sheet'!F30)","v":{"$error":"#N/A"}},"",{"$f":"IF(J57=\"\",NA(),IF('Front sheet'!$T$7<>0,AVERAGE(Tally_CL),IF(F57=1,AVERAGE(Tally),IF(F57=2,AVERAGE(Tally2),IF(F57=3,AVERAGE(Tally3),IF(F57=4,AVERAGE(Tally4),IF(F57=5,AVERAGE(Tally5))))))))","v":{"$error":"#N/A"}},{"$error":"#N/A"},{"$error":"#N/A"},"",{"$error":"#N/A"},{"$error":"#N/A"},{"$f":"IF(L57=\"\",NA(),IF('Front sheet'!$T$7<>0,AVERAGE(MR_CL),IF(F57=1,AVERAGE(MR_1),IF(F57=2,AVERAGE(MR_2),IF(F57=3,AVERAGE(MR_3),IF(F57=4,AVERAGE(MR_4),IF(F57=5,AVERAGE(MR_5))))))))","v":{"$error":"#N/A"}},0,{"$error":"#N/A"},null,{"$f":"IF(ISERROR($E57),0,IF($E57>$H57,MAX($Q$8:Q56)+1,0))","v":0},{"$f":"IF(ISERROR($E57),0,IF($E57<$I57,MAX($R$8:R56)+1,0))","v":0},null,0,0,null,0,0,null,0,0,null,0,0,0,0,0,0,0,null,{"$f":"IF(ISERROR($L57),0,IF($L57>$O57,MAX($AK$8:AK56)+1,0))","v":0},{"$error":"#N/A"},null,{"$error":"#N/A"},{"$error":"#N/A"},{"$f":"IF(C57<=$E$3,IF('Front sheet'!$O$3=\"\",NA(),'Front sheet'!$O$3),NA())","v":{"$error":"#N/A"}},{"$error":"#N/A"},{"$error":"#N/A"},{"$error":"#N/A"},{"$error":"#N/A"},{"$error":"#N/A"},{"$error":"#N/A"},{"$error":"#N/A"},{"$error":"#N/A"},{"$error":"#N/A"},{"$error":"#N/A"},{"$error":"#N/A"},{"$error":"#N/A"},{"$error":"#N/A"},{"$error":"#N/A"},{"$error":"#N/A"},{"$error":"#N/A"},{"$error":"#N/A"},{"$error":"#N/A"},"","",null,49,1,"",{"$error":"#N/A"},{"$error":"#N/A"},{"$error":"#N/A"},{"$error":"#N/A"},{"$error":"#N/A"},1,{"$error":"#N/A"},{"$error":"#N/A"},{"$error":"#N/A"},{"$error":"#N/A"},null,null,null,49,{"$error":"#N/A"},{"$error":"#N/A"},{"$error":"#N/A"},null,49,{"$error":"#N/A"},{"$error":"#N/A"},null,49,{"$error":"#N/A"},{"$error":"#N/A"},{"$error":"#N/A"},{"$error":"#N/A"},null,null,49,{"$error":"#N/A"},{"$error":"#N/A"},{"$error":"#N/A"},null,0,0,null,null,{"$error":"#N/A"},{"$error":"#N/A"},{"$error":"#N/A"},{"$error":"#N/A"}]
[null,0,50,{"$f":"IF('Front sheet'!$E31=\"\",\"\",'Front sheet'!$E31)","v":""},{"$f":"IF('Front sheet'!F31=\"\",#N/A,'Front sheet'!F31)","v":{"$error":"#N/A"}},"",{"$f":"IF(J58=\"\",NA(),IF('Front sheet'!$T$7<>0,AVERAGE(Tally_CL),IF(F58=1,AVERAGE(Tally),IF(F58=2,AVERAGE(Tally2),IF(F58=3,AVERAGE(Tally3),IF(F58=4,AVERAGE(Tally4),IF(F58=5,AVERAGE(Tally5))))))))","v":{"$error":"#N/A"}},{"$error":"#N/A"},{"$error":"#N/A"},"",{"$error":"#N/A"},{"$error":"#N/A"},{"$f":"IF(L58=\"\",NA(),IF('Front sheet'!$T$7<>0,AVERAGE(MR_CL),IF(F58=1,AVERAGE(MR_1),IF(F58=2,AVERAGE(MR_2),IF(F58=3,AVERAGE(MR_3),IF(F58=4,AVERAGE(MR_4),IF(F58=5,AVERAGE(MR_5))))))))","v":{"$error":"#N/A"}},0,{"$error":"#N/A"},null,{"$f":"IF(ISERROR($E58),0,IF($E58>$H58,MAX($Q$8:Q57)+1,0))","v":0},{"$f":"IF(ISERROR($E58),0,IF($E58<$I58,MAX($R$8:R57)+1,0))","v":0},null,0,0,null,0,0,null,0,0,null,0,0,0,0,0,0,0,null,{"$f":"IF(ISERROR($L58),0,IF($L58>$O58,MAX($AK$8:AK57)+1,0))","v":0},{"$error":"#N/A"},null,{"$error":"#N/A"},{"$error":"#N/A"},{"$f":"IF(C58<=$E$3,IF('Front sheet'!$O$3=\"\",NA(),'Front sheet'!$O$3),NA())","v":{"$error":"#N/A"}},{"$error":"#N/A"},{"$error":"#N/A"},{"$error":"#N/A"},{"$error":"#N/A"},{"$error":"#N/A"},{"$error":"#N/A"},{"$error":"#N/A"},{"$error":"#N/A"},{"$error":"#N/A"},{"$error":"#N/A"},{"$error":"#N/A"},{"$error":"#N/A"},{"$error":"#N/A"},{"$error":"#N/A"},{"$error":"#N/A"},{"$error":"#N/A"},{"$error":"#N/A"},{"$error":"#N/A"},"","",null,50,1,"",{"$error":"#N/A"},{"$error":"#N/A"},{"$error":"#N/A"},{"$error":"#N/A"},{"$error":"#N/A"},1,{"$error":"#N/A"},{"$error":"#N/A"},{"$error":"#N/A"},{"$error":"#N/A"},null,null,null,50,{"$error":"#N/A"},{"$error":"#N/A"},{"$error":"#N/A"},null,50,{"$error":"#N/A"},{"$error":"#N/A"},null,50,{"$error":"#N/A"},{"$error":"#N/A"},{"$error":"#N/A"},{"$error":"#N/A"},null,null,50,{"$error":"#N/A"},{"$error":"#N/A"},{"$error":"#N/A"},null,0,0,null,null,{"$error":"#N/A"},{"$error":"#N/A"},{"$error":"#N/A"},{"$error":"#N/A"}]
[null,0,51,{"$f":"IF('Front sheet'!$E32=\"\",\"\",'Front sheet'!$E32)","v":""},{"$f":"IF('Front sheet'!F32=\"\",#N/A,'Front sheet'!F32)","v":{"$error":"#N/A"}},"",{"$f":"IF(J59=\"\",NA(),IF('Front sheet'!$T$7<>0,AVERAGE(Tally_CL),IF(F59=1,AVERAGE(Tally),IF(F59=2,AVERAGE(Tally2),IF(F59=3,AVERAGE(Tally3),IF(F59=4,AVERAGE(Tally4),IF(F59=5,AVERAGE(Tally5))))))))","v":{"$error":"#N/A"}},{"$error":"#N/A"},{"$error":"#N/A"},"",{"$error":"#N/A"},{"$error":"#N/A"},{"$f":"IF(L59=\"\",NA(),IF('Front sheet'!$T$7<>0,AVERAGE(MR_CL),IF(F59=1,AVERAGE(MR_1),IF(F59=2,AVERAGE(MR_2),IF(F59=3,AVERAGE(MR_3),IF(F59=4,AVERAGE(MR_4),IF(F59=5,AVERAGE(MR_5))))))))","v":{"$error":"#N/A"}},0,{"$error":"#N/A"},null,{"$f":"IF(ISERROR($E59),0,IF($E59>$H59,MAX($Q$8:Q58)+1,0))","v":0},{"$f":"IF(ISERROR($E59),0,IF($E59<$I59,MAX($R$8:R58)+1,0))","v":0},null,0,0,null,0,0,null,0,0,null,0,0,0,0,0,0,0,null,{"$f":"IF(ISERROR($L59),0,IF($L59>$O59,MAX($AK$8:AK58)+1,0))","v":0},{"$error":"#N/A"},null,{"$error":"#N/A"},{"$error":"#N/A"},{"$f":"IF(C59<=$E$3,IF('Front sheet'!$O$3=\"\",NA(),'Front sheet'!$O$3),NA())","v":{"$error":"#N/A"}},{"$error":"#N/A"},{"$error":"#N/A"},{"$error":"#N/A"},{"$error":"#N/A"},{"$error":"#N/A"},{"$error":"#N/A"},{"$error":"#N/A"},{"$error":"#N/A"},{"$error":"#N/A"},{"$error":"#N/A"},{"$error":"#N/A"},{"$error":"#N/A"},{"$error":"#N/A"},{"$error":"#N/A"},{"$error":"#N/A"},{"$error":"#N/A"},{"$error":"#N/A"},{"$error":"#N/A"},"","",null,51,1,"",{"$error":"#N/A"},{"$error":"#N/A"},{"$error":"#N/A"},{"$error":"#N/A"},{"$error":"#N/A"},1,{"$error":"#N/A"},{"$error":"#N/A"},{"$error":"#N/A"},{"$error":"#N/A"},null,null,null,51,{"$error":"#N/A"},{"$error":"#N/A"},{"$error":"#N/A"},null,51,{"$error":"#N/A"},{"$error":"#N/A"},null,51,{"$error":"#N/A"},{"$error":"#N/A"},{"$error":"#N/A"},{"$error":"#N/A"},null,null,51,{"$error":"#N/A"},{"$error":"#N/A"},{"$error":"#N/A"},null,0,0,null,null,{"$error":"#N/A"},{"$error":"#N/A"},{"$error":"#N/A"},{"$error":"#N/A"}]
[null,0,52,{"$f":"IF('Front sheet'!$E33=\"\",\"\",'Front sheet'!$E33)","v":""},{"$f":"IF('Front sheet'!F33=\"\",#N/A,'Front sheet'!F33)","v":{"$error":"#N/A"}},"",{"$f":"IF(J60=\"\",NA(),IF('Front sheet'!$T$7<>0,AVERAGE(Tally_CL),IF(F60=1,AVERAGE(Tally),IF(F60=2,AVERAGE(Tally2),IF(F60=3,AVERAGE(Tally3),IF(F60=4,AVERAGE(Tally4),IF(F60=5,AVERAGE(Tally5))))))))","v":{"$error":"#N/A"}},{"$error":"#N/A"},{"$error":"#N/A"},"",{"$error":"#N/A"},{"$error":"#N/A"},{"$f":"IF(L60=\"\",NA(),IF('Front sheet'!$T$7<>0,AVERAGE(MR_CL),IF(F60=1,AVERAGE(MR_1),IF(F60=2,AVERAGE(MR_2),IF(F60=3,AVERAGE(MR_3),IF(F60=4,AVERAGE(MR_4),IF(F60=5,AVERAGE(MR_5))))))))","v":{"$error":"#N/A"}},0,{"$error":"#N/A"},null,{"$f":"IF(ISERROR($E60),0,IF($E60>$H60,MAX($Q$8:Q59)+1,0))","v":0},{"$f":"IF(ISERROR($E60),0,IF($E60<$I60,MAX($R$8:R59)+1,0))","v":0},null,0,0,null,0,0,null,0,0,null,0,0,0,0,0,0,0,null,{"$f":"IF(ISERROR($L60),0,IF($L60>$O60,MAX($AK$8:AK59)+1,0))","v":0},{"$error":"#N/A"},null,{"$error":"#N/A"},{"$error":"#N/A"},{"$f":"IF(C60<=$E$3,IF('Front sheet'!$O$3=\"\",NA(),'Front sheet'!$O$3),NA())","v":{"$error":"#N/A"}},{"$error":"#N/A"},{"$error":"#N/A"},{"$error":"#N/A"},{"$error":"#N/A"},{"$error":"#N/A"},{"$error":"#N/A"},{"$error":"#N/A"},{"$error":"#N/A"},{"$error":"#N/A"},{"$error":"#N/A"},{"$error":"#N/A"},{"$error":"#N/A"},{"$error":"#N/A"},{"$error":"#N/A"},{"$error":"#N/A"},{"$error":"#N/A"},{"$error":"#N/A"},{"$error":"#N/A"},"","",null,52,1,"",{"$error":"#N/A"},{"$error":"#N/A"},{"$error":"#N/A"},{"$error":"#N/A"},{"$error":"#N/A"},1,{"$error":"#N/A"},{"$error":"#N/A"},{"$error":"#N/A"},{"$error":"#N/A"},null,null,null,52,{"$error":"#N/A"},{"$error":"#N/A"},{"$error":"#N/A"},null,52,{"$error":"#N/A"},{"$error":"#N/A"},null,52,{"$error":"#N/A"},{"$error":"#N/A"},{"$error":"#N/A"},{"$error":"#N/A"},null,null,52,{"$error":"#N/A"},{"$error":"#N/A"},{"$error":"#N/A"},null,0,0,null,null,{"$error":"#N/A"},{"$error":"#N/A"},{"$error":"#N/A"},{"$error":"#N/A"}]
[null,0,53,{"$f":"IF('Front sheet'!$E34=\"\",\"\",'Front sheet'!$E34)","v":""},{"$f":"IF('Front sheet'!F34=\"\",#N/A,'Front sheet'!F34)","v":{"$error":"#N/A"}},"",{"$f":"IF(J61=\"\",NA(),IF('Front sheet'!$T$7<>0,AVERAGE(Tally_CL),IF(F61=1,AVERAGE(Tally),IF(F61=2,AVERAGE(Tally2),IF(F61=3,AVERAGE(Tally3),IF(F61=4,AVERAGE(Tally4),IF(F61=5,AVERAGE(Tally5))))))))","v":{"$error":"#N/A"}},{"$error":"#N/A"},{"$error":"#N/A"},"",{"$error":"#N/A"},{"$error":"#N/A"},{"$f":"IF(L61=\"\",NA(),IF('Front sheet'!$T$7<>0,AVERAGE(MR_CL),IF(F61=1,AVERAGE(MR_1),IF(F61=2,AVERAGE(MR_2),IF(F61=3,AVERAGE(MR_3),IF(F61=4,AVERAGE(MR_4),IF(F61=5,AVERAGE(MR_5))))))))","v":{"$error":"#N/A"}},0,{"$error":"#N/A"},null,{"$f":"IF(ISERROR($E61),0,IF($E61>$H61,MAX($Q$8:Q60)+1,0))","v":0},{"$f":"IF(ISERROR($E61),0,IF($E61<$I61,MAX($R$8:R60)+1,0))","v":0},null,0,0,null,0,0,null,0,0,null,0,0,0,0,0,0,0,null,{"$f":"IF(ISERROR($L61),0,IF($L61>$O61,MAX($AK$8:AK60)+1,0))","v":0},{"$error":"#N/A"},null,{"$error":"#N/A"},{"$error":"#N/A"},{"$f":"IF(C61<=$E$3,IF('Front sheet'!$O$3=\"\",NA(),'Front sheet'!$O$3),NA())","v":{"$error":"#N/A"}},{"$error":"#N/A"},{"$error":"#N/A"},{"$error":"#N/A"},{"$error":"#N/A"},{"$error":"#N/A"},{"$error":"#N/A"},{"$error":"#N/A"},{"$error":"#N/A"},{"$error":"#N/A"},{"$error":"#N/A"},{"$error":"#N/A"},{"$error":"#N/A"},{"$error":"#N/A"},{"$error":"#N/A"},{"$error":"#N/A"},{"$error":"#N/A"},{"$error":"#N/A"},{"$error":"#N/A"},"","",null,53,1,"",{"$error":"#N/A"},{"$error":"#N/A"},{"$error":"#N/A"},{"$error":"#N/A"},{"$error":"#N/A"},1,{"$error":"#N/A"},{"$error":"#N/A"},{"$error":"#N/A"},{"$error":"#N/A"},null,null,null,53,{"$error":"#N/A"},{"$error":"#N/A"},{"$error":"#N/A"},null,53,{"$error":"#N/A"},{"$error":"#N/A"},null,53,{"$error":"#N/A"},{"$error":"#N/A"},{"$error":"#N/A"},{"$error":"#N/A"},null,null,53,{"$error":"#N/A"},{"$error":"#N/A"},{"$error":"#N/A"},null,0,0,null,null,{"$error":"#N/A"},{"$error":"#N/A"},{"$error":"#N/A"},{"$error":"#N/A"}]
[null,0,54,{"$f":"IF('Front sheet'!$E35=\"\",\"\",'Front sheet'!$E35)","v":""},{"$f":"IF('Front sheet'!F35=\"\",#N/A,'Front sheet'!F35)","v":{"$error":"#N/A"}},"",{"$f":"IF(J62=\"\",NA(),IF('Front sheet'!$T$7<>0,AVERAGE(Tally_CL),IF(F62=1,AVERAGE(Tally),IF(F62=2,AVERAGE(Tally2),IF(F62=3,AVERAGE(Tally3),IF(F62=4,AVERAGE(Tally4),IF(F62=5,AVERAGE(Tally5))))))))","v":{"$error":"#N/A"}},{"$error":"#N/A"},{"$error":"#N/A"},"",{"$error":"#N/A"},{"$error":"#N/A"},{"$f":"IF(L62=\"\",NA(),IF('Front sheet'!$T$7<>0,AVERAGE(MR_CL),IF(F62=1,AVERAGE(MR_1),IF(F62=2,AVERAGE(MR_2),IF(F62=3,AVERAGE(MR_3),IF(F62=4,AVERAGE(MR_4),IF(F62=5,AVERAGE(MR_5))))))))","v":{"$error":"#N/A"}},0,{"$error":"#N/A"},null,{"$f":"IF(ISERROR($E62),0,IF($E62>$H62,MAX($Q$8:Q61)+1,0))","v":0},{"$f":"IF(ISERROR($E62),0,IF($E62<$I62,MAX($R$8:R61)+1,0))","v":0},null,0,0,null,0,0,null,0,0,null,0,0,0,0,0,0,0,null,{"$f":"IF(ISERROR($L62),0,IF($L62>$O62,MAX($AK$8:AK61)+1,0))","v":0},{"$error":"#N/A"},null,{"$error":"#N/A"},{"$error":"#N/A"},{"$f":"IF(C62<=$E$3,IF('Front sheet'!$O$3=\"\",NA(),'Front sheet'!$O$3),NA())","v":{"$error":"#N/A"}},{"$error":"#N/A"},{"$error":"#N/A"},{"$error":"#N/A"},{"$error":"#N/A"},{"$error":"#N/A"},{"$error":"#N/A"},{"$error":"#N/A"},{"$error":"#N/A"},{"$error":"#N/A"},{"$error":"#N/A"},{"$error":"#N/A"},{"$error":"#N/A"},{"$error":"#N/A"},{"$error":"#N/A"},{"$error":"#N/A"},{"$error":"#N/A"},{"$error":"#N/A"},{"$error":"#N/A"},"","",null,54,1,"",{"$error":"#N/A"},{"$error":"#N/A"},{"$error":"#N/A"},{"$error":"#N/A"},{"$error":"#N/A"},1,{"$error":"#N/A"},{"$error":"#N/A"},{"$error":"#N/A"},{"$error":"#N/A"},null,null,null,54,{"$error":"#N/A"},{"$error":"#N/A"},{"$error":"#N/A"},null,54,{"$error":"#N/A"},{"$error":"#N/A"},null,54,{"$error":"#N/A"},{"$error":"#N/A"},{"$error":"#N/A"},{"$error":"#N/A"},null,null,54,{"$error":"#N/A"},{"$error":"#N/A"},{"$error":"#N/A"},null,0,0,null,null,{"$error":"#N/A"},{"$error":"#N/A"},{"$error":"#N/A"},{"$error":"#N/A"}]
[null,0,55,{"$f":"IF('Front sheet'!$E36=\"\",\"\",'Front sheet'!$E36)","v":""},{"$f":"IF('Front sheet'!F36=\"\",#N/A,'Front sheet'!F36)","v":{"$error":"#N/A"}},"",{"$f":"IF(J63=\"\",NA(),IF('Front sheet'!$T$7<>0,AVERAGE(Tally_CL),IF(F63=1,AVERAGE(Tally),IF(F63=2,AVERAGE(Tally2),IF(F63=3,AVERAGE(Tally3),IF(F63=4,AVERAGE(Tally4),IF(F63=5,AVERAGE(Tally5))))))))","v":{"$error":"#N/A"}},{"$error":"#N/A"},{"$error":"#N/A"},"",{"$error":"#N/A"},{"$error":"#N/A"},{"$f":"IF(L63=\"\",NA(),IF('Front sheet'!$T$7<>0,AVERAGE(MR_CL),IF(F63=1,AVERAGE(MR_1),IF(F63=2,AVERAGE(MR_2),IF(F63=3,AVERAGE(MR_3),IF(F63=4,AVERAGE(MR_4),IF(F63=5,AVERAGE(MR_5))))))))","v":{"$error":"#N/A"}},0,{"$error":"#N/A"},null,{"$f":"IF(ISERROR($E63),0,IF($E63>$H63,MAX($Q$8:Q62)+1,0))","v":0},{"$f":"IF(ISERROR($E63),0,IF($E63<$I63,MAX($R$8:R62)+1,0))","v":0},null,0,0,null,0,0,null,0,0,null,0,0,0,0,0,0,0,null,{"$f":"IF(ISERROR($L63),0,IF($L63>$O63,MAX($AK$8:AK62)+1,0))","v":0},{"$error":"#N/A"},null,{"$error":"#N/A"},{"$error":"#N/A"},{"$f":"IF(C63<=$E$3,IF('Front sheet'!$O$3=\"\",NA(),'Front sheet'!$O$3),NA())","v":{"$error":"#N/A"}},{"$error":"#N/A"},{"$error":"#N/A"},{"$error":"#N/A"},{"$error":"#N/A"},{"$error":"#N/A"},{"$error":"#N/A"},{"$error":"#N/A"},{"$error":"#N/A"},{"$error":"#N/A"},{"$error":"#N/A"},{"$error":"#N/A"},{"$error":"#N/A"},{"$error":"#N/A"},{"$error":"#N/A"},{"$error":"#N/A"},{"$error":"#N/A"},{"$error":"#N/A"},{"$error":"#N/A"},"","",null,55,1,"",{"$error":"#N/A"},{"$error":"#N/A"},{"$error":"#N/A"},{"$error":"#N/A"},{"$error":"#N/A"},1,{"$error":"#N/A"},{"$error":"#N/A"},{"$error":"#N/A"},{"$error":"#N/A"},null,null,null,55,{"$error":"#N/A"},{"$error":"#N/A"},{"$error":"#N/A"},null,55,{"$error":"#N/A"},{"$error":"#N/A"},null,55,{"$error":"#N/A"},{"$error":"#N/A"},{"$error":"#N/A"},{"$error":"#N/A"},null,null,55,{"$error":"#N/A"},{"$error":"#N/A"},{"$error":"#N/A"},null,0,0,null,null,{"$error":"#N/A"},{"$error":"#N/A"},{"$error":"#N/A"},{"$error":"#N/A"}]
[null,0,56,{"$f":"IF('Front sheet'!$E37=\"\",\"\",'Front sheet'!$E37)","v":""},{"$f":"IF('Front sheet'!F37=\"\",#N/A,'Front sheet'!F37)","v":{"$error":"#N/A"}},"",{"$f":"IF(J64=\"\",NA(),IF('Front sheet'!$T$7<>0,AVERAGE(Tally_CL),IF(F64=1,AVERAGE(Tally),IF(F64=2,AVERAGE(Tally2),IF(F64=3,AVERAGE(Tally3),IF(F64=4,AVERAGE(Tally4),IF(F64=5,AVERAGE(Tally5))))))))","v":{"$error":"#N/A"}},{"$error":"#N/A"},{"$error":"#N/A"},"",{"$error":"#N/A"},{"$error":"#N/A"},{"$f":"IF(L64=\"\",NA(),IF('Front sheet'!$T$7<>0,AVERAGE(MR_CL),IF(F64=1,AVERAGE(MR_1),IF(F64=2,AVERAGE(MR_2),IF(F64=3,AVERAGE(MR_3),IF(F64=4,AVERAGE(MR_4),IF(F64=5,AVERAGE(MR_5))))))))","v":{"$error":"#N/A"}},0,{"$error":"#N/A"},null,{"$f":"IF(ISERROR($E64),0,IF($E64>$H64,MAX($Q$8:Q63)+1,0))","v":0},{"$f":"IF(ISERROR($E64),0,IF($E64<$I64,MAX($R$8:R63)+1,0))","v":0},null,0,0,null,0,0,null,0,0,null,0,0,0,0,0,0,0,null,{"$f":"IF(ISERROR($L64),0,IF($L64>$O64,MAX($AK$8:AK63)+1,0))","v":0},{"$error":"#N/A"},null,{"$error":"#N/A"},{"$error":"#N/A"},{"$f":"IF(C64<=$E$3,IF('Front sheet'!$O$3=\"\",NA(),'Front sheet'!$O$3),NA())","v":{"$error":"#N/A"}},{"$error":"#N/A"},{"$error":"#N/A"},{"$error":"#N/A"},{"$error":"#N/A"},{"$error":"#N/A"},{"$error":"#N/A"},{"$error":"#N/A"},{"$error":"#N/A"},{"$error":"#N/A"},{"$error":"#N/A"},{"$error":"#N/A"},{"$error":"#N/A"},{"$error":"#N/A"},{"$error":"#N/A"},{"$error":"#N/A"},{"$error":"#N/A"},{"$error":"#N/A"},{"$error":"#N/A"},"","",null,56,1,"",{"$error":"#N/A"},{"$error":"#N/A"},{"$error":"#N/A"},{"$error":"#N/A"},{"$error":"#N/A"},1,{"$error":"#N/A"},{"$error":"#N/A"},{"$error":"#N/A"},{"$error":"#N/A"},null,null,null,56,{"$error":"#N/A"},{"$error":"#N/A"},{"$error":"#N/A"},null,56,{"$error":"#N/A"},{"$error":"#N/A"},null,56,{"$error":"#N/A"},{"$error":"#N/A"},{"$error":"#N/A"},{"$error":"#N/A"},null,null,56,{"$error":"#N/A"},{"$error":"#N/A"},{"$error":"#N/A"},null,0,0,null,null,{"$error":"#N/A"},{"$error":"#N/A"},{"$error":"#N/A"},{"$error":"#N/A"}]
[null,0,57,{"$f":"'Front sheet'!G10","v":""},{"$f":"IF('Front sheet'!H10=\"\",#N/A,'Front sheet'!H10)","v":{"$error":"#N/A"}},"",{"$f":"IF(J65=\"\",NA(),IF('Front sheet'!$T$7<>0,AVERAGE(Tally_CL),IF(F65=1,AVERAGE(Tally),IF(F65=2,AVERAGE(Tally2),IF(F65=3,AVERAGE(Tally3),IF(F65=4,AVERAGE(Tally4),IF(F65=5,AVERAGE(Tally5))))))))","v":{"$error":"#N/A"}},{"$error":"#N/A"},{"$error":"#N/A"},"",{"$error":"#N/A"},{"$error":"#N/A"},{"$f":"IF(L65=\"\",NA(),IF('Front sheet'!$T$7<>0,AVERAGE(MR_CL),IF(F65=1,AVERAGE(MR_1),IF(F65=2,AVERAGE(MR_2),IF(F65=3,AVERAGE(MR_3),IF(F65=4,AVERAGE(MR_4),IF(F65=5,AVERAGE(MR_5))))))))","v":{"$error":"#N/A"}},0,{"$error":"#N/A"},null,{"$f":"IF(ISERROR($E65),0,IF($E65>$H65,MAX($Q$8:Q64)+1,0))","v":0},{"$f":"IF(ISERROR($E65),0,IF($E65<$I65,MAX($R$8:R64)+1,0))","v":0},null,0,0,null,0,0,null,0,0,null,0,0,0,0,0,0,0,null,{"$f":"IF(ISERROR($L65),0,IF($L65>$O65,MAX($AK$8:AK64)+1,0))","v":0},{"$error":"#N/A"},null,{"$error":"#N/A"},{"$error":"#N/A"},{"$f":"IF(C65<=$E$3,IF('Front sheet'!$O$3=\"\",NA(),'Front sheet'!$O$3),NA())","v":{"$error":"#N/A"}},{"$error":"#N/A"},{"$error":"#N/A"},{"$error":"#N/A"},{"$error":"#N/A"},{"$error":"#N/A"},{"$error":"#N/A"},{"$error":"#N/A"},{"$error":"#N/A"},{"$error":"#N/A"},{"$error":"#N/A"},{"$error":"#N/A"},{"$error":"#N/A"},{"$error":"#N/A"},{"$error":"#N/A"},{"$error":"#N/A"},{"$error":"#N/A"},{"$error":"#N/A"},{"$error":"#N/A"},"","",null,57,1,"",{"$error":"#N/A"},{"$error":"#N/A"},{"$error":"#N/A"},{"$error":"#N/A"},{"$error":"#N/A"},1,{"$error":"#N/A"},{"$error":"#N/A"},{"$error":"#N/A"},{"$error":"#N/A"},null,null,null,57,{"$error":"#N/A"},{"$error":"#N/A"},{"$error":"#N/A"},null,57,{"$error":"#N/A"},{"$error":"#N/A"},null,57,{"$error":"#N/A"},{"$error":"#N/A"},{"$error":"#N/A"},{"$error":"#N/A"},null,null,57,{"$error":"#N/A"},{"$error":"#N/A"},{"$error":"#N/A"},null,0,0,null,null,{"$error":"#N/A"},{"$error":"#N/A"},{"$error":"#N/A"},{"$error":"#N/A"}]
[null,0,58,{"$f":"IF('Front sheet'!$G11=\"\",\"\",'Front sheet'!$G11)","v":""},{"$f":"IF('Front sheet'!H11=\"\",#N/A,'Front sheet'!H11)","v":{"$error":"#N/A"}},"",{"$f":"IF(J66=\"\",NA(),IF('Front sheet'!$T$7<>0,AVERAGE(Tally_CL),IF(F66=1,AVERAGE(Tally),IF(F66=2,AVERAGE(Tally2),IF(F66=3,AVERAGE(Tally3),IF(F66=4,AVERAGE(Tally4),IF(F66=5,AVERAGE(Tally5))))))))","v":{"$error":"#N/A"}},{"$error":"#N/A"},{"$error":"#N/A"},"",{"$error":"#N/A"},{"$error":"#N/A"},{"$f":"IF(L66=\"\",NA(),IF('Front sheet'!$T$7<>0,AVERAGE(MR_CL),IF(F66=1,AVERAGE(MR_1),IF(F66=2,AVERAGE(MR_2),IF(F66=3,AVERAGE(MR_3),IF(F66=4,AVERAGE(MR_4),IF(F66=5,AVERAGE(MR_5))))))))","v":{"$error":"#N/A"}},0,{"$error":"#N/A"},null,{"$f":"IF(ISERROR($E66),0,IF($E66>$H66,MAX($Q$8:Q65)+1,0))","v":0},{"$f":"IF(ISERROR($E66),0,IF($E66<$I66,MAX($R$8:R65)+1,0))","v":0},null,0,0,null,0,0,null,0,0,null,0,0,0,0,0,0,0,null,{"$f":"IF(ISERROR($L66),0,IF($L66>$O66,MAX($AK$8:AK65)+1,0))","v":0},{"$error":"#N/A"},null,{"$error":"#N/A"},{"$error":"#N/A"},{"$f":"IF(C66<=$E$3,IF('Front sheet'!$O$3=\"\",NA(),'Front sheet'!$O$3),NA())","v":{"$error":"#N/A"}},{"$error":"#N/A"},{"$error":"#N/A"},{"$error":"#N/A"},{"$error":"#N/A"},{"$error":"#N/A"},{"$error":"#N/A"},{"$error":"#N/A"},{"$error":"#N/A"},{"$error":"#N/A"},{"$error":"#N/A"},{"$error":"#N/A"},{"$error":"#N/A"},{"$error":"#N/A"},{"$error":"#N/A"},{"$error":"#N/A"},{"$error":"#N/A"},{"$error":"#N/A"},{"$error":"#N/A"},"","",null,58,1,"",{"$error":"#N/A"},{"$error":"#N/A"},{"$error":"#N/A"},{"$error":"#N/A"},{"$error":"#N/A"},1,{"$error":"#N/A"},{"$error":"#N/A"},{"$error":"#N/A"},{"$error":"#N/A"},null,null,null,58,{"$error":"#N/A"},{"$error":"#N/A"},{"$error":"#N/A"},null,58,{"$error":"#N/A"},{"$error":"#N/A"},null,58,{"$error":"#N/A"},{"$error":"#N/A"},{"$error":"#N/A"},{"$error":"#N/A"},null,null,58,{"$error":"#N/A"},{"$error":"#N/A"},{"$error":"#N/A"},null,0,0,null,null,{"$error":"#N/A"},{"$error":"#N/A"},{"$error":"#N/A"},{"$error":"#N/A"}]
[null,0,59,{"$f":"IF('Front sheet'!$G12=\"\",\"\",'Front sheet'!$G12)","v":""},{"$f":"IF('Front sheet'!H12=\"\",#N/A,'Front sheet'!H12)","v":{"$error":"#N/A"}},"",{"$f":"IF(J67=\"\",NA(),IF('Front sheet'!$T$7<>0,AVERAGE(Tally_CL),IF(F67=1,AVERAGE(Tally),IF(F67=2,AVERAGE(Tally2),IF(F67=3,AVERAGE(Tally3),IF(F67=4,AVERAGE(Tally4),IF(F67=5,AVERAGE(Tally5))))))))","v":{"$error":"#N/A"}},{"$error":"#N/A"},{"$error":"#N/A"},"",{"$error":"#N/A"},{"$error":"#N/A"},{"$f":"IF(L67=\"\",NA(),IF('Front sheet'!$T$7<>0,AVERAGE(MR_CL),IF(F67=1,AVERAGE(MR_1),IF(F67=2,AVERAGE(MR_2),IF(F67=3,AVERAGE(MR_3),IF(F67=4,AVERAGE(MR_4),IF(F67=5,AVERAGE(MR_5))))))))","v":{"$error":"#N/A"}},0,{"$error":"#N/A"},null,{"$f":"IF(ISERROR($E67),0,IF($E67>$H67,MAX($Q$8:Q66)+1,0))","v":0},{"$f":"IF(ISERROR($E67),0,IF($E67<$I67,MAX($R$8:R66)+1,0))","v":0},null,0,0,null,0,0,null,0,0,null,0,0,0,0,0,0,0,null,{"$f":"IF(ISERROR($L67),0,IF($L67>$O67,MAX($AK$8:AK66)+1,0))","v":0},{"$error":"#N/A"},null,{"$error":"#N/A"},{"$error":"#N/A"},{"$f":"IF(C67<=$E$3,IF('Front sheet'!$O$3=\"\",NA(),'Front sheet'!$O$3),NA())","v":{"$error":"#N/A"}},{"$error":"#N/A"},{"$error":"#N/A"},{"$error":"#N/A"},{"$error":"#N/A"},{"$error":"#N/A"},{"$error":"#N/A"},{"$error":"#N/A"},{"$error":"#N/A"},{"$error":"#N/A"},{"$error":"#N/A"},{"$error":"#N/A"},{"$error":"#N/A"},{"$error":"#N/A"},{"$error":"#N/A"},{"$error":"#N/A"},{"$error":"#N/A"},{"$error":"#N/A"},{"$error":"#N/A"},"","",null,59,1,"",{"$error":"#N/A"},{"$error":"#N/A"},{"$error":"#N/A"},{"$error":"#N/A"},{"$error":"#N/A"},1,{"$error":"#N/A"},{"$error":"#N/A"},{"$error":"#N/A"},{"$error":"#N/A"},null,null,null,59,{"$error":"#N/A"},{"$error":"#N/A"},{"$error":"#N/A"},null,59,{"$error":"#N/A"},{"$error":"#N/A"},null,59,{"$error":"#N/A"},{"$error":"#N/A"},{"$error":"#N/A"},{"$error":"#N/A"},null,null,59,{"$error":"#N/A"},{"$error":"#N/A"},{"$error":"#N/A"},null,0,0,null,null,{"$error":"#N/A"},{"$error":"#N/A"},{"$error":"#N/A"},{"$error":"#N/A"}]
[null,0,60,{"$f":"IF('Front sheet'!$G13=\"\",\"\",'Front sheet'!$G13)","v":""},{"$f":"IF('Front sheet'!H13=\"\",#N/A,'Front sheet'!H13)","v":{"$error":"#N/A"}},{"$f":"IF(B68=0,\"\",IF(E$4=0,1,IF(AND($E$4<>0,C68<$E$4),1,IF($E$5=0,2,IF(AND($E$5<>0,C68<$E$5),2,IF($E$6=0,3,IF(AND($E$6<>0,C68<$E$6),3,IF($E$7=0,4,IF(AND($E$7<>0,C68<$E$7),4,5)))))))))","v":""},{"$f":"IF(J68=\"\",NA(),IF('Front sheet'!$T$7<>0,AVERAGE(Tally_CL),IF(F68=1,AVERAGE(Tally),IF(F68=2,AVERAGE(Tally2),IF(F68=3,AVERAGE(Tally3),IF(F68=4,AVERAGE(Tally4),IF(F68=5,AVERAGE(Tally5))))))))","v":{"$error":"#N/A"}},{"$error":"#N/A"},{"$error":"#N/A"},"",{"$error":"#N/A"},{"$error":"#N/A"},{"$f":"IF(L68=\"\",NA(),IF('Front sheet'!$T$7<>0,AVERAGE(MR_CL),IF(F68=1,AVERAGE(MR_1),IF(F68=2,AVERAGE(MR_2),IF(F68=3,AVERAGE(MR_3),IF(F68=4,AVERAGE(MR_4),IF(F68=5,AVERAGE(MR_5))))))))","v":{"$error":"#N/A"}},0,{"$error":"#N/A"},null,{"$f":"IF(ISERROR($E68),0,IF($E68>$H68,MAX($Q$8:Q67)+1,0))","v":0},{"$f":"IF(ISERROR($E68),0,IF($E68<$I68,MAX($R$8:R67)+1,0))","v":0},null,0,0,null,0,0,null,0,0,null,0,0,0,0,0,0,0,null,{"$f":"IF(ISERROR($L68),0,IF($L68>$O68,MAX($AK$8:AK67)+1,0))","v":0},{"$error":"#N/A"},null,{"$error":"#N/A"},{"$error":"#N/A"},{"$f":"IF(C68<=$E$3,IF('Front sheet'!$O$3=\"\",NA(),'Front sheet'!$O$3),NA())","v":{"$error":"#N/A"}},{"$error":"#N/A"},{"$error":"#N/A"},{"$error":"#N/A"},{"$error":"#N/A"},{"$error":"#N/A"},{"$error":"#N/A"},{"$error":"#N/A"},{"$error":"#N/A"},{"$error":"#N/A"},{"$error":"#N/A"},{"$error":"#N/A"},{"$error":"#N/A"},{"$error":"#N/A"},{"$error":"#N/A"},{"$error":"#N/A"},{"$error":"#N/A"},{"$error":"#N/A"},{"$error":"#N/A"},"","",null,60,1,"",{"$error":"#N/A"},{"$error":"#N/A"},{"$error":"#N/A"},{"$error":"#N/A"},{"$error":"#N/A"},1,{"$error":"#N/A"},{"$error":"#N/A"},{"$error":"#N/A"},{"$error":"#N/A"},null,null,null,60,{"$error":"#N/A"},{"$error":"#N/A"},{"$error":"#N/A"},null,60,{"$error":"#N/A"},{"$error":"#N/A"},null,60,{"$error":"#N/A"},{"$error":"#N/A"},{"$error":"#N/A"},{"$error":"#N/A"},null,null,60,{"$error":"#N/A"},{"$error":"#N/A"},{"$error":"#N/A"},null,0,0,null,null,{"$error":"#N/A"},{"$error":"#N/A"},{"$error":"#N/A"},{"$error":"#N/A"}]
[null,0,61,{"$f":"IF('Front sheet'!$G14=\"\",\"\",'Front sheet'!$G14)","v":""},{"$f":"IF('Front sheet'!H14=\"\",#N/A,'Front sheet'!H14)","v":{"$error":"#N/A"}},{"$f":"IF(B69=0,\"\",IF(E$4=0,1,IF(AND($E$4<>0,C69<$E$4),1,IF($E$5=0,2,IF(AND($E$5<>0,C69<$E$5),2,IF($E$6=0,3,IF(AND($E$6<>0,C69<$E$6),3,IF($E$7=0,4,IF(AND($E$7<>0,C69<$E$7),4,5)))))))))","v":""},{"$f":"IF(J69=\"\",NA(),IF('Front sheet'!$T$7<>0,AVERAGE(Tally_CL),IF(F69=1,AVERAGE(Tally),IF(F69=2,AVERAGE(Tally2),IF(F69=3,AVERAGE(Tally3),IF(F69=4,AVERAGE(Tally4),IF(F69=5,AVERAGE(Tally5))))))))","v":{"$error":"#N/A"}},{"$error":"#N/A"},{"$error":"#N/A"},"",{"$error":"#N/A"},{"$error":"#N/A"},{"$f":"IF(L69=\"\",NA(),IF('Front sheet'!$T$7<>0,AVERAGE(MR_CL),IF(F69=1,AVERAGE(MR_1),IF(F69=2,AVERAGE(MR_2),IF(F69=3,AVERAGE(MR_3),IF(F69=4,AVERAGE(MR_4),IF(F69=5,AVERAGE(MR_5))))))))","v":{"$error":"#N/A"}},0,{"$error":"#N/A"},null,{"$f":"IF(ISERROR($E69),0,IF($E69>$H69,MAX($Q$8:Q68)+1,0))","v":0},{"$f":"IF(ISERROR($E69),0,IF($E69<$I69,MAX($R$8:R68)+1,0))","v":0},null,0,0,null,0,0,null,0,0,null,0,0,0,0,0,0,0,null,{"$f":"IF(ISERROR($L69),0,IF($L69>$O69,MAX($AK$8:AK68)+1,0))","v":0},{"$error":"#N/A"},null,{"$error":"#N/A"},{"$error":"#N/A"},{"$f":"IF(C69<=$E$3,IF('Front sheet'!$O$3=\"\",NA(),'Front sheet'!$O$3),NA())","v":{"$error":"#N/A"}},{"$error":"#N/A"},{"$error":"#N/A"},{"$error":"#N/A"},{"$error":"#N/A"},{"$error":"#N/A"},{"$error":"#N/A"},{"$error":"#N/A"},{"$error":"#N/A"},{"$error":"#N/A"},{"$error":"#N/A"},{"$error":"#N/A"},{"$error":"#N/A"},{"$error":"#N/A"},{"$error":"#N/A"},{"$error":"#N/A"},{"$error":"#N/A"},{"$error":"#N/A"},{"$error":"#N/A"},"","",null,61,1,"",{"$error":"#N/A"},{"$error":"#N/A"},{"$error":"#N/A"},{"$error":"#N/A"},{"$error":"#N/A"},1,{"$error":"#N/A"},{"$error":"#N/A"},{"$error":"#N/A"},{"$error":"#N/A"},null,null,null,61,{"$error":"#N/A"},{"$error":"#N/A"},{"$error":"#N/A"},null,61,{"$error":"#N/A"},{"$error":"#N/A"},null,61,{"$error":"#N/A"},{"$error":"#N/A"},{"$error":"#N/A"},{"$error":"#N/A"},null,null,61,{"$error":"#N/A"},{"$error":"#N/A"},{"$error":"#N/A"},null,0,0,null,null,{"$error":"#N/A"},{"$error":"#N/A"},{"$error":"#N/A"},{"$error":"#N/A"}]
[null,0,62,{"$f":"IF('Front sheet'!$G15=\"\",\"\",'Front sheet'!$G15)","v":""},{"$f":"IF('Front sheet'!H15=\"\",#N/A,'Front sheet'!H15)","v":{"$error":"#N/A"}},"",{"$f":"IF(J70=\"\",NA(),IF('Front sheet'!$T$7<>0,AVERAGE(Tally_CL),IF(F70=1,AVERAGE(Tally),IF(F70=2,AVERAGE(Tally2),IF(F70=3,AVERAGE(Tally3),IF(F70=4,AVERAGE(Tally4),IF(F70=5,AVERAGE(Tally5))))))))","v":{"$error":"#N/A"}},{"$error":"#N/A"},{"$error":"#N/A"},"",{"$error":"#N/A"},{"$error":"#N/A"},{"$f":"IF(L70=\"\",NA(),IF('Front sheet'!$T$7<>0,AVERAGE(MR_CL),IF(F70=1,AVERAGE(MR_1),IF(F70=2,AVERAGE(MR_2),IF(F70=3,AVERAGE(MR_3),IF(F70=4,AVERAGE(MR_4),IF(F70=5,AVERAGE(MR_5))))))))","v":{"$error":"#N/A"}},0,{"$error":"#N/A"},null,{"$f":"IF(ISERROR($E70),0,IF($E70>$H70,MAX($Q$8:Q69)+1,0))","v":0},{"$f":"IF(ISERROR($E70),0,IF($E70<$I70,MAX($R$8:R69)+1,0))","v":0},null,0,0,null,0,0,null,0,0,null,0,0,0,0,0,0,0,null,{"$f":"IF(ISERROR($L70),0,IF($L70>$O70,MAX($AK$8:AK69)+1,0))","v":0},{"$error":"#N/A"},null,{"$error":"#N/A"},{"$error":"#N/A"},{"$f":"IF(C70<=$E$3,IF('Front sheet'!$O$3=\"\",NA(),'Front sheet'!$O$3),NA())","v":{"$error":"#N/A"}},{"$error":"#N/A"},{"$error":"#N/A"},{"$error":"#N/A"},{"$error":"#N/A"},{"$error":"#N/A"},{"$error":"#N/A"},{"$error":"#N/A"},{"$error":"#N/A"},{"$error":"#N/A"},{"$error":"#N/A"},{"$error":"#N/A"},{"$error":"#N/A"},{"$error":"#N/A"},{"$error":"#N/A"},{"$error":"#N/A"},{"$error":"#N/A"},{"$error":"#N/A"},{"$error":"#N/A"},"","",null,62,1,"",{"$error":"#N/A"},{"$error":"#N/A"},{"$error":"#N/A"},{"$error":"#N/A"},{"$error":"#N/A"},1,{"$error":"#N/A"},{"$error":"#N/A"},{"$error":"#N/A"},{"$error":"#N/A"},null,null,null,62,{"$error":"#N/A"},{"$error":"#N/A"},{"$error":"#N/A"},null,62,{"$error":"#N/A"},{"$error":"#N/A"},null,62,{"$error":"#N/A"},{"$error":"#N/A"},{"$error":"#N/A"},{"$error":"#N/A"},null,null,62,{"$error":"#N/A"},{"$error":"#N/A"},{"$error":"#N/A"},null,0,0,null,null,{"$error":"#N/A"},{"$error":"#N/A"},{"$error":"#N/A"},{"$error":"#N/A"}]
[null,0,63,{"$f":"IF('Front sheet'!$G16=\"\",\"\",'Front sheet'!$G16)","v":""},{"$f":"IF('Front sheet'!H16=\"\",#N/A,'Front sheet'!H16)","v":{"$error":"#N/A"}},"",{"$f":"IF(J71=\"\",NA(),IF('Front sheet'!$T$7<>0,AVERAGE(Tally_CL),IF(F71=1,AVERAGE(Tally),IF(F71=2,AVERAGE(Tally2),IF(F71=3,AVERAGE(Tally3),IF(F71=4,AVERAGE(Tally4),IF(F71=5,AVERAGE(Tally5))))))))","v":{"$error":"#N/A"}},{"$error":"#N/A"},{"$error":"#N/A"},"",{"$error":"#N/A"},{"$error":"#N/A"},{"$f":"IF(L71=\"\",NA(),IF('Front sheet'!$T$7<>0,AVERAGE(MR_CL),IF(F71=1,AVERAGE(MR_1),IF(F71=2,AVERAGE(MR_2),IF(F71=3,AVERAGE(MR_3),IF(F71=4,AVERAGE(MR_4),IF(F71=5,AVERAGE(MR_5))))))))","v":{"$error":"#N/A"}},0,{"$error":"#N/A"},null,{"$f":"IF(ISERROR($E71),0,IF($E71>$H71,MAX($Q$8:Q70)+1,0))","v":0},{"$f":"IF(ISERROR($E71),0,IF($E71<$I71,MAX($R$8:R70)+1,0))","v":0},null,0,0,null,0,0,null,0,0,null,0,0,0,0,0,0,0,null,{"$f":"IF(ISERROR($L71),0,IF($L71>$O71,MAX($AK$8:AK70)+1,0))","v":0},{"$error":"#N/A"},null,{"$error":"#N/A"},{"$error":"#N/A"},{"$f":"IF(C71<=$E$3,IF('Front sheet'!$O$3=\"\",NA(),'Front sheet'!$O$3),NA())","v":{"$error":"#N/A"}},{"$error":"#N/A"},{"$error":"#N/A"},{"$error":"#N/A"},{"$error":"#N/A"},{"$error":"#N/A"},{"$error":"#N/A"},{"$error":"#N/A"},{"$error":"#N/A"},{"$error":"#N/A"},{"$error":"#N/A"},{"$error":"#N/A"},{"$error":"#N/A"},{"$error":"#N/A"},{"$error":"#N/A"},{"$error":"#N/A"},{"$error":"#N/A"},{"$error":"#N/A"},{"$error":"#N/A"},"","",null,63,1,"",{"$error":"#N/A"},{"$error":"#N/A"},{"$error":"#N/A"},{"$error":"#N/A"},{"$error":"#N/A"},1,{"$error":"#N/A"},{"$error":"#N/A"},{"$error":"#N/A"},{"$error":"#N/A"},null,null,null,63,{"$error":"#N/A"},{"$error":"#N/A"},{"$error":"#N/A"},null,63,{"$error":"#N/A"},{"$error":"#N/A"},null,63,{"$error":"#N/A"},{"$error":"#N/A"},{"$error":"#N/A"},{"$error":"#N/A"},null,null,63,{"$error":"#N/A"},{"$error":"#N/A"},{"$error":"#N/A"},null,0,0,null,null,{"$error":"#N/A"},{"$error":"#N/A"},{"$error":"#N/A"},{"$error":"#N/A"}]
[null,0,64,{"$f":"IF('Front sheet'!$G17=\"\",\"\",'Front sheet'!$G17)","v":""},{"$f":"IF('Front sheet'!H17=\"\",#N/A,'Front sheet'!H17)","v":{"$error":"#N/A"}},"",{"$f":"IF(J72=\"\",NA(),IF('Front sheet'!$T$7<>0,AVERAGE(Tally_CL),IF(F72=1,AVERAGE(Tally),IF(F72=2,AVERAGE(Tally2),IF(F72=3,AVERAGE(Tally3),IF(F72=4,AVERAGE(Tally4),IF(F72=5,AVERAGE(Tally5))))))))","v":{"$error":"#N/A"}},{"$error":"#N/A"},{"$error":"#N/A"},"",{"$error":"#N/A"},{"$error":"#N/A"},{"$f":"IF(L72=\"\",NA(),IF('Front sheet'!$T$7<>0,AVERAGE(MR_CL),IF(F72=1,AVERAGE(MR_1),IF(F72=2,AVERAGE(MR_2),IF(F72=3,AVERAGE(MR_3),IF(F72=4,AVERAGE(MR_4),IF(F72=5,AVERAGE(MR_5))))))))","v":{"$error":"#N/A"}},0,{"$error":"#N/A"},null,{"$f":"IF(ISERROR($E72),0,IF($E72>$H72,MAX($Q$8:Q71)+1,0))","v":0},{"$f":"IF(ISERROR($E72),0,IF($E72<$I72,MAX($R$8:R71)+1,0))","v":0},null,0,0,null,0,0,null,0,0,null,0,0,0,0,0,0,0,null,{"$f":"IF(ISERROR($L72),0,IF($L72>$O72,MAX($AK$8:AK71)+1,0))","v":0},{"$error":"#N/A"},null,{"$error":"#N/A"},{"$error":"#N/A"},{"$f":"IF(C72<=$E$3,IF('Front sheet'!$O$3=\"\",NA(),'Front sheet'!$O$3),NA())","v":{"$error":"#N/A"}},{"$error":"#N/A"},{"$error":"#N/A"},{"$error":"#N/A"},{"$error":"#N/A"},{"$error":"#N/A"},{"$error":"#N/A"},{"$error":"#N/A"},{"$error":"#N/A"},{"$error":"#N/A"},{"$error":"#N/A"},{"$error":"#N/A"},{"$error":"#N/A"},{"$error":"#N/A"},{"$error":"#N/A"},{"$error":"#N/A"},{"$error":"#N/A"},{"$error":"#N/A"},{"$error":"#N/A"},"","",null,64,1,"",{"$error":"#N/A"},{"$error":"#N/A"},{"$error":"#N/A"},{"$error":"#N/A"},{"$error":"#N/A"},1,{"$error":"#N/A"},{"$error":"#N/A"},{"$error":"#N/A"},{"$error":"#N/A"},null,null,null,64,{"$error":"#N/A"},{"$error":"#N/A"},{"$error":"#N/A"},null,64,{"$error":"#N/A"},{"$error":"#N/A"},null,64,{"$error":"#N/A"},{"$error":"#N/A"},{"$error":"#N/A"},{"$error":"#N/A"},null,null,64,{"$error":"#N/A"},{"$error":"#N/A"},{"$error":"#N/A"},null,0,0,null,null,{"$error":"#N/A"},{"$error":"#N/A"},{"$error":"#N/A"},{"$error":"#N/A"}]
[null,0,65,{"$f":"IF('Front sheet'!$G18=\"\",\"\",'Front sheet'!$G18)","v":""},{"$f":"IF('Front sheet'!H18=\"\",#N/A,'Front sheet'!H18)","v":{"$error":"#N/A"}},"",{"$f":"IF(J73=\"\",NA(),IF('Front sheet'!$T$7<>0,AVERAGE(Tally_CL),IF(F73=1,AVERAGE(Tally),IF(F73=2,AVERAGE(Tally2),IF(F73=3,AVERAGE(Tally3),IF(F73=4,AVERAGE(Tally4),IF(F73=5,AVERAGE(Tally5))))))))","v":{"$error":"#N/A"}},{"$error":"#N/A"},{"$error":"#N/A"},"",{"$error":"#N/A"},{"$error":"#N/A"},{"$f":"IF(L73=\"\",NA(),IF('Front sheet'!$T$7<>0,AVERAGE(MR_CL),IF(F73=1,AVERAGE(MR_1),IF(F73=2,AVERAGE(MR_2),IF(F73=3,AVERAGE(MR_3),IF(F73=4,AVERAGE(MR_4),IF(F73=5,AVERAGE(MR_5))))))))","v":{"$error":"#N/A"}},{"$f":"IF(ISERROR((M73*2.66)),N74,(M73*2.66))","v":0},{"$error":"#N/A"},null,{"$f":"IF(ISERROR($E73),0,IF($E73>$H73,MAX($Q$8:Q72)+1,0))","v":0},{"$f":"IF(ISERROR($E73),0,IF($E73<$I73,MAX($R$8:R72)+1,0))","v":0},null,0,0,null,0,0,null,0,0,null,0,0,0,0,0,0,0,null,{"$f":"IF(ISERROR($L73),0,IF($L73>$O73,MAX($AK$8:AK72)+1,0))","v":0},{"$f":"IF(L73>O73,L73,#N/A)","v":{"$error":"#N/A"}},null,{"$error":"#N/A"},{"$error":"#N/A"},{"$f":"IF(C73<=$E$3,IF('Front sheet'!$O$3=\"\",NA(),'Front sheet'!$O$3),NA())","v":{"$error":"#N/A"}},{"$error":"#N/A"},{"$error":"#N/A"},{"$error":"#N/A"},{"$error":"#N/A"},{"$error":"#N/A"},{"$error":"#N/A"},{"$error":"#N/A"},{"$error":"#N/A"},{"$error":"#N/A"},{"$error":"#N/A"},{"$error":"#N/A"},{"$error":"#N/A"},{"$error":"#N/A"},{"$error":"#N/A"},{"$error":"#N/A"},{"$error":"#N/A"},{"$error":"#N/A"},{"$error":"#N/A"},"","",null,65,1,{"$f":"D73","v":""},{"$f":"IF($BO$6=0,#N/A,IF(BM73=BO$7,$E73-$BN$2,#N/A))","v":{"$error":"#N/A"}},{"$f":"IF($BP$6=0,#N/A,IF($BM73=BP$7,$E73-$BN$2,#N/A))","v":{"$error":"#N/A"}},{"$f":"IF($BQ$6=0,#N/A,IF($BM73=BQ$7,$E73-$BN$2,#N/A))","v":{"$error":"#N/A"}},{"$f":"IF($BR$6=0,#N/A,IF($BM73=BR$7,$E73-$BN$2,#N/A))","v":{"$error":"#N/A"}},{"$f":"IF($BS$6=0,#N/A,IF($BM73=BS$7,$E73-$BN$2,#N/A))","v":{"$error":"#N/A"}},1,{"$f":"IF($BU$6=0,#N/A,IF(BT73=BU$7,$E73-$BN$2,#N/A))","v":{"$error":"#N/A"}},{"$f":"IF($BV$6=0,#N/A,IF(BT73=BV$7,$E73-$BN$2,#N/A))","v":{"$error":"#N/A"}},{"$error":"#N/A"},{"$error":"#N/A"},null,null,null,65,{"$error":"#N/A"},{"$error":"#N/A"},{"$error":"#N/A"},null,65,{"$error":"#N/A"},{"$error":"#N/A"},null,65,{"$error":"#N/A"},{"$f":"IF(AND(CK73<>$E$3,CL73<>1),NA(),IF(OR($CB$6=1,$CB$6=2),NA(),IF(ISERROR(BG73),NA(),$BP$2)))","v":{"$error":"#N/A"}},{"$error":"#N/A"},{"$f":"IF(AND(CK73<>$E$3,CN73<>1),NA(),IF(OR($CB$6=1,$CB$6=2),NA(),IF(ISERROR(BH73),NA(),$BP$2)))","v":{"$error":"#N/A"}},null,null,65,{"$f":"IF($CB$5=\"Neither\",NA(),IF(CR73<>$E$3-$CS$6,NA(),IF($CR$6<>\"Pass\",NA(),$BP$2)))","v":{"$error":"#N/A"}},{"$f":"IF($CB$5=\"Neither\",NA(),IF(CR73<>$E$3-$CS$6,NA(),IF($CR$6<>\"Fail\",NA(),$BP$2)))","v":{"$error":"#N/A"}},{"$f":"IF($CB$5=\"Neither\",NA(),IF(CR73<>$E$3-$CS$6,NA(),IF($CR$6<>\"Flip\",NA(),$BP$2)))","v":{"$error":"#N/A"}},null,{"$f":"IF(ISERROR(E73),0,E73)","v":0},{"$f":"IF(ISERROR(E73),0,1)","v":0},null,null,{"$error":"#N/A"},{"$error":"#N/A"},{"$error":"#N/A"},{"$error":"#N/A"}]
[null,{"$f":"IF(ISERROR(E74),0,C74)","v":0},66,{"$f":"IF('Front sheet'!$G19=\"\",\"\",'Front sheet'!$G19)","v":""},{"$f":"IF('Front sheet'!H19=\"\",#N/A,'Front sheet'!H19)","v":{"$error":"#N/A"}},"",{"$f":"IF(J74=\"\",NA(),IF('Front sheet'!$T$7<>0,AVERAGE(Tally_CL),IF(F74=1,AVERAGE(Tally),IF(F74=2,AVERAGE(Tally2),IF(F74=3,AVERAGE(Tally3),IF(F74=4,AVERAGE(Tally4),IF(F74=5,AVERAGE(Tally5))))))))","v":{"$error":"#N/A"}},{"$f":"IF(J74=\"\",NA(),IF($E$3>=BV$2,G74+$N74,#N/A))","v":{"$error":"#N/A"}},{"$f":"IF(J74=\"\",NA(),IF($E$3>=BV$2,G74-$N74,#N/A))","v":{"$error":"#N/A"}},{"$f":"IF(ISERROR(E74),\"\",E74)","v":""},{"$f":"IF(L74=\"\",NA(),L74)","v":{"$error":"#N/A"}},{"$error":"#N/A"},{"$f":"IF(L74=\"\",NA(),IF('Front sheet'!$T$7<>0,AVERAGE(MR_CL),IF(F74=1,AVERAGE(MR_1),IF(F74=2,AVERAGE(MR_2),IF(F74=3,AVERAGE(MR_3),IF(F74=4,AVERAGE(MR_4),IF(F74=5,AVERAGE(MR_5))))))))","v":{"$error":"#N/A"}},0,{"$error":"#N/A"},null,{"$f":"IF(ISERROR($E74),0,IF($E74>$H74,MAX($Q$8:Q73)+1,0))","v":0},{"$f":"IF(ISERROR($E74),0,IF($E74<$I74,MAX($R$8:R73)+1,0))","v":0},null,{"$f":"IF(ISERROR(E74),0,IF(F74=F73,IF(E74>G74,1,0),0))","v":0},{"$f":"IF(AND(U73=1,T74=1),1,IF($U$5=7,IF(SUM(T74:T80)>=$U$5,1,0),IF(SUM(T74:T79)>=$U$5,1,0)))","v":0},null,{"$f":"IF(ISERROR(E74),0,IF(F74=F73,IF(E74<G74,1,0),0))","v":0},{"$f":"IF(AND(X73=1,W74=1),1,IF($U$5=7,IF(SUM(W74:W80)>=$U$5,1,0),IF(SUM(W74:W79)>=$U$5,1,0)))","v":0},null,{"$f":"IF(OR(ISERROR(E74),ISERROR(E73)),0,IF(F74=F73,IF(E74>E73,1,0)))","v":0},{"$f":"IF(AA$5=7,IF(AND(AA73>0,Z74>0),1,IF(SUM(Z75:Z80)>=6,1,IF(MOD(SUM(Z75:Z80),1)>0,IF(SUM(Z75:Z81)>=6,1,0),0))),IF(AND(AA73>0,Z74>0),1,IF(SUM(Z75:Z79)>=5,1,IF(MOD(SUM(Z75:Z79),1)>0,IF(SUM(Z75:Z80)>=5,1,0),0))))","v":0},null,{"$f":"IF(OR(ISERROR(E74),ISERROR(E73)),0,IF(F74=F73,IF(E74<E73,1,0)))","v":0},{"$f":"IF(AD$5=7,IF(AND(AD73>0,AC74>0),1,IF(SUM(AC75:AC80)>=6,1,IF(MOD(SUM(AC75:AC80),1)>0,IF(SUM(AC75:AC81)>=6,1,0),0))),IF(AND(AD73>0,AC74>0),1,IF(SUM(AC75:AC79)>=5,1,IF(MOD(SUM(AC75:AC79),1)>0,IF(SUM(AC75:AC80)>=5,1,0),0))))","v":0},{"$f":"IFERROR(IF(E74>G74,2,1),0)","v":0},{"$f":"IFERROR(IF(E74=\"\",0,IF(E74<G74-2*(M74/1.128),1,0)),0)","v":0},{"$f":"IF(AND(AF74=1,SUM(AE72:AE74)=3,SUM(AF72:AF74)>=2),1,IF(AND(AF74=1,SUM(AF73:AF75)>=2,SUM(AE73:AE75)=3),1,IF(AND(AF74=1,SUM(AF74:AF76)>=2,SUM(AE74:AE76)=3),1,0)))","v":0},{"$f":"IFERROR(IF(E74=\"\",0,IF(E74>G74+2*(M74/1.128),1,0)),0)","v":0},{"$f":"IF(AND(SUM(AE72:AE74)=6,SUM(AH72:AH74,)>=2,AH74=1),1,IF(AND(AH74=1,SUM(AH73:AH75)>=2,SUM(AE73:AE75)=6),1,IF(AND(AH74=1,SUM(AH74:AH76)>=2,SUM(AE74:AE76)=6),1,0)))","v":0},null,{"$f":"IF(ISERROR($L74),0,IF($L74>$O74,MAX($AK$8:AK73)+1,0))","v":0},{"$error":"#N/A"},null,{"$f":"IF(AND(J74>G74-M74/1.128,J74<G74+M74/1.128),1,0)","v":{"$error":"#N/A"}},{"$f":"IF(AND(AO73=1,AN74=1),1,IF(SUM(AN74:AN88)>=15,1,0))","v":{"$error":"#N/A"}},{"$f":"IF(C74<=$E$3,IF('Front sheet'!$O$3=\"\",NA(),'Front sheet'!$O$3),NA())","v":{"$error":"#N/A"}},{"$f":"IF($U$6=2,NA(),IF(AA74=0,#N/A,E74))","v":{"$error":"#N/A"}},{"$f":"IF($U$6=2,NA(),IF(AD74=0,#N/A,E74))","v":{"$error":"#N/A"}},{"$f":"IF($AS$7=\"High is good\",AR74,IF($AS$7=\"Low is good\",AQ74,NA()))","v":{"$error":"#N/A"}},{"$f":"IF($AS$7=\"High is good\",AQ74,IF($AS$7=\"Low is good\",AR74,NA()))","v":{"$error":"#N/A"}},{"$f":"IF($U$6=2,NA(),IF(U74=0,#N/A,E74))","v":{"$error":"#N/A"}},{"$f":"IF($U$6=2,NA(),IF(X74=0,#N/A,E74))","v":{"$error":"#N/A"}},{"$f":"IF($AS$7=\"High is good\",AV74,IF($AS$7=\"Low is good\",AU74,NA()))","v":{"$error":"#N/A"}},{"$f":"IF($AS$7=\"High is good\",AU74,IF($AS$7=\"Low is good\",AV74,NA()))","v":{"$error":"#N/A"}},{"$f":"IF($U$6=2,NA(),IF(Q74=0,#N/A,E74))","v":{"$error":"#N/A"}},{"$f":"IF($U$6=2,NA(),IF(R74=0,#N/A,E74))","v":{"$error":"#N/A"}},{"$f":"IF($AS$7=\"High is good\",AZ74,IF($AS$7=\"Low is good\",AY74,NA()))","v":{"$error":"#N/A"}},{"$f":"IF($AS$7=\"High is good\",AY74,IF($AS$7=\"Low is good\",AZ74,NA()))","v":{"$error":"#N/A"}},{"$f":"IF($U$6=2,NA(),IF(AI74=0,#N/A,E74))","v":{"$error":"#N/A"}},{"$f":"IF($U$6=2,NA(),IF(AG74=0,#N/A,E74))","v":{"$error":"#N/A"}},{"$f":"IF($AS$7=\"High is good\",BD74,IF($AS$7=\"Low is good\",BC74,NA()))","v":{"$error":"#N/A"}},{"$f":"IF($AS$7=\"High is good\",BC74,IF($AS$7=\"Low is good\",BD74,NA()))","v":{"$error":"#N/A"}},{"$f":"IF($AS$7=\"Neither\",BH74,NA())","v":{"$error":"#N/A"}},{"$f":"IF(AND(U74=0,R74=0,Q74=0,X74=0,X74=0,AA74=0,AD74=0,AG74=0,AI74=0),#N/A,E74)","v":{"$error":"#N/A"}},{"$f":"D74","v":""},{"$f":"IFERROR(WEEKDAY(BI74),\"\")","v":""},null,66,{"$f":"IF($BM$8=\"Yes\",\"\",IF(BN74=$BO$8,1,IF(BN74=$BP$8,2,IF(BN74=$BQ$8,3,IF(BN74=$BR$8,4,IF(BN74=$BS$8,5,\"\"))))))","v":1},"",{"$error":"#N/A"},{"$error":"#N/A"},{"$error":"#N/A"},{"$error":"#N/A"},{"$error":"#N/A"},{"$f":"IF(BN74=$BU$8,1,IF(BN74=$BV$8,2,IF(BN74=$BW$8,3,IF(BN74=$BX$8,4,\"\"))))","v":1},{"$error":"#N/A"},{"$error":"#N/A"},{"$f":"IF($BW$6=0,#N/A,IF($BT74=BW$7,$E74-$BN$2,#N/A))","v":{"$error":"#N/A"}},{"$f":"IF($BX$6=0,#N/A,IF($BT74=BX$7,$E74-$BN$2,#N/A))","v":{"$error":"#N/A"}},null,null,null,66,{"$f":"IF(E$3<13,NA(),IF($CB74<>$E$3,NA(),IF(AND(ISERROR($DC74),ISERROR($DD74)),$BP$2,NA())))","v":{"$error":"#N/A"}},{"$f":"IF(E$3<13,NA(),IF(CB74<>$E$3,NA(),IF($CB$6<>1,NA(),IF(ISERROR(DD74),NA(),$BP$2))))","v":{"$error":"#N/A"}},{"$f":"IF(E$3<13,NA(),IF(CB74<>$E$3,NA(),IF($CB$6<>1,NA(),IF(ISERROR(DC74),NA(),$BP$2))))","v":{"$error":"#N/A"}},null,66,{"$f":"IF(E$3<13,NA(),IF(CB74<>$E$3,NA(),IF($CB$6=1,NA(),IF(ISERROR(DD74),NA(),$BP$2))))","v":{"$error":"#N/A"}},{"$f":"IF(E$3<13,NA(),IF(CB74<>$E$3,NA(),IF($CB$6=1,NA(),IF(ISERROR(DC74),NA(),$BP$2))))","v":{"$error":"#N/A"}},null,66,{"$f":"IF(CK74<>$E$3,NA(),IF(OR(Q74>=1,U74>=1,AA74>=1,AI74>=1),1,NA()))","v":{"$error":"#N/A"}},{"$error":"#N/A"},{"$f":"IF(CK74<>$E$3,NA(),IF(OR(R74>=1,X74>=1,AD74>=1,AG74>=1),1,NA()))","v":{"$error":"#N/A"}},{"$error":"#N/A"},null,null,66,{"$error":"#N/A"},{"$error":"#N/A"},{"$error":"#N/A"},null,0,0,null,null,{"$error":"#N/A"},{"$error":"#N/A"},{"$f":"IF($CB$5=\"High is good\",$DB74,IF($CB$5=\"Low is good\",$DA74,NA()))","v":{"$error":"#N/A"}},{"$f":"IF($CB$5=\"High is good\",$DA74,IF($CB$5=\"Low is good\",$DB74,NA()))","v":{"$error":"#N/A"}}]
[null,0,67,{"$f":"IF('Front sheet'!$G20=\"\",\"\",'Front sheet'!$G20)","v":""},{"$f":"IF('Front sheet'!H20=\"\",#N/A,'Front sheet'!H20)","v":{"$error":"#N/A"}},"",{"$f":"IF(J75=\"\",NA(),IF('Front sheet'!$T$7<>0,AVERAGE(Tally_CL),IF(F75=1,AVERAGE(Tally),IF(F75=2,AVERAGE(Tally2),IF(F75=3,AVERAGE(Tally3),IF(F75=4,AVERAGE(Tally4),IF(F75=5,AVERAGE(Tally5))))))))","v":{"$error":"#N/A"}},{"$error":"#N/A"},{"$error":"#N/A"},"",{"$error":"#N/A"},{"$f":"IF(ISERROR(E75),IF(C75<$E$3,\"\",NA()),IF(ISERROR(E74),\"\",IF(E74=\"\",\"\",IF(E75=\"\",\"\",ABS(E74-E75)))))","v":{"$error":"#N/A"}},{"$f":"IF(L75=\"\",NA(),IF('Front sheet'!$T$7<>0,AVERAGE(MR_CL),IF(F75=1,AVERAGE(MR_1),IF(F75=2,AVERAGE(MR_2),IF(F75=3,AVERAGE(MR_3),IF(F75=4,AVERAGE(MR_4),IF(F75=5,AVERAGE(MR_5))))))))","v":{"$error":"#N/A"}},0,{"$f":"IF(L75=\"\",NA(),M75*3.27)","v":{"$error":"#N/A"}},null,{"$f":"IF(ISERROR($E75),0,IF($E75>$H75,MAX($Q$8:Q74)+1,0))","v":0},{"$f":"IF(ISERROR($E75),0,IF($E75<$I75,MAX($R$8:R74)+1,0))","v":0},null,0,0,null,0,0,null,0,0,null,0,0,0,0,0,0,0,null,{"$f":"IF(ISERROR($L75),0,IF($L75>$O75,MAX($AK$8:AK74)+1,0))","v":0},{"$error":"#N/A"},null,{"$error":"#N/A"},{"$error":"#N/A"},{"$f":"IF(C75<=$E$3,IF('Front sheet'!$O$3=\"\",NA(),'Front sheet'!$O$3),NA())","v":{"$error":"#N/A"}},{"$error":"#N/A"},{"$error":"#N/A"},{"$error":"#N/A"},{"$error":"#N/A"},{"$error":"#N/A"},{"$error":"#N/A"},{"$error":"#N/A"},{"$error":"#N/A"},{"$error":"#N/A"},{"$error":"#N/A"},{"$error":"#N/A"},{"$error":"#N/A"},{"$error":"#N/A"},{"$error":"#N/A"},{"$error":"#N/A"},{"$error":"#N/A"},{"$error":"#N/A"},{"$error":"#N/A"},"","",null,67,1,"",{"$error":"#N/A"},{"$error":"#N/A"},{"$error":"#N/A"},{"$error":"#N/A"},{"$error":"#N/A"},1,{"$error":"#N/A"},{"$error":"#N/A"},{"$error":"#N/A"},{"$error":"#N/A"},null,null,null,67,{"$error":"#N/A"},{"$error":"#N/A"},{"$error":"#N/A"},null,67,{"$error":"#N/A"},{"$error":"#N/A"},null,67,{"$error":"#N/A"},{"$error":"#N/A"},{"$error":"#N/A"},{"$error":"#N/A"},null,null,67,{"$error":"#N/A"},{"$error":"#N/A"},{"$error":"#N/A"},null,0,0,null,null,{"$error":"#N/A"},{"$error":"#N/A"},{"$error":"#N/A"},{"$error":"#N/A"}]
[null,0,68,{"$f":"IF('Front sheet'!$G21=\"\",\"\",'Front sheet'!$G21)","v":""},{"$f":"IF('Front sheet'!H21=\"\",#N/A,'Front sheet'!H21)","v":{"$error":"#N/A"}},"",{"$f":"IF(J76=\"\",NA(),IF('Front sheet'!$T$7<>0,AVERAGE(Tally_CL),IF(F76=1,AVERAGE(Tally),IF(F76=2,AVERAGE(Tally2),IF(F76=3,AVERAGE(Tally3),IF(F76=4,AVERAGE(Tally4),IF(F76=5,AVERAGE(Tally5))))))))","v":{"$error":"#N/A"}},{"$error":"#N/A"},{"$error":"#N/A"},"",{"$error":"#N/A"},{"$error":"#N/A"},{"$f":"IF(L76=\"\",NA(),IF('Front sheet'!$T$7<>0,AVERAGE(MR_CL),IF(F76=1,AVERAGE(MR_1),IF(F76=2,AVERAGE(MR_2),IF(F76=3,AVERAGE(MR_3),IF(F76=4,AVERAGE(MR_4),IF(F76=5,AVERAGE(MR_5))))))))","v":{"$error":"#N/A"}},0,{"$error":"#N/A"},null,{"$f":"IF(ISERROR($E76),0,IF($E76>$H76,MAX($Q$8:Q75)+1,0))","v":0},{"$f":"IF(ISERROR($E76),0,IF($E76<$I76,MAX($R$8:R75)+1,0))","v":0},null,0,0,null,0,0,null,0,0,null,0,0,0,0,0,0,0,null,{"$f":"IF(ISERROR($L76),0,IF($L76>$O76,MAX($AK$8:AK75)+1,0))","v":0},{"$error":"#N/A"},null,{"$error":"#N/A"},{"$error":"#N/A"},{"$f":"IF(C76<=$E$3,IF('Front sheet'!$O$3=\"\",NA(),'Front sheet'!$O$3),NA())","v":{"$error":"#N/A"}},{"$error":"#N/A"},{"$error":"#N/A"},{"$error":"#N/A"},{"$error":"#N/A"},{"$error":"#N/A"},{"$error":"#N/A"},{"$error":"#N/A"},{"$error":"#N/A"},{"$error":"#N/A"},{"$error":"#N/A"},{"$error":"#N/A"},{"$error":"#N/A"},{"$error":"#N/A"},{"$error":"#N/A"},{"$error":"#N/A"},{"$error":"#N/A"},{"$error":"#N/A"},{"$error":"#N/A"},"","",null,68,1,"",{"$error":"#N/A"},{"$error":"#N/A"},{"$error":"#N/A"},{"$error":"#N/A"},{"$error":"#N/A"},1,{"$error":"#N/A"},{"$error":"#N/A"},{"$error":"#N/A"},{"$error":"#N/A"},null,null,null,68,{"$error":"#N/A"},{"$error":"#N/A"},{"$error":"#N/A"},null,68,{"$error":"#N/A"},{"$error":"#N/A"},null,68,{"$error":"#N/A"},{"$error":"#N/A"},{"$error":"#N/A"},{"$error":"#N/A"},null,null,68,{"$error":"#N/A"},{"$error":"#N/A"},{"$error":"#N/A"},null,0,0,null,null,{"$error":"#N/A"},{"$error":"#N/A"},{"$error":"#N/A"},{"$error":"#N/A"}]
[null,0,69,{"$f":"IF('Front sheet'!$G22=\"\",\"\",'Front sheet'!$G22)","v":""},{"$f":"IF('Front sheet'!H22=\"\",#N/A,'Front sheet'!H22)","v":{"$error":"#N/A"}},"",{"$f":"IF(J77=\"\",NA(),IF('Front sheet'!$T$7<>0,AVERAGE(Tally_CL),IF(F77=1,AVERAGE(Tally),IF(F77=2,AVERAGE(Tally2),IF(F77=3,AVERAGE(Tally3),IF(F77=4,AVERAGE(Tally4),IF(F77=5,AVERAGE(Tally5))))))))","v":{"$error":"#N/A"}},{"$error":"#N/A"},{"$error":"#N/A"},"",{"$error":"#N/A"},{"$error":"#N/A"},{"$f":"IF(L77=\"\",NA(),IF('Front sheet'!$T$7<>0,AVERAGE(MR_CL),IF(F77=1,AVERAGE(MR_1),IF(F77=2,AVERAGE(MR_2),IF(F77=3,AVERAGE(MR_3),IF(F77=4,AVERAGE(MR_4),IF(F77=5,AVERAGE(MR_5))))))))","v":{"$error":"#N/A"}},0,{"$error":"#N/A"},null,{"$f":"IF(ISERROR($E77),0,IF($E77>$H77,MAX($Q$8:Q76)+1,0))","v":0},{"$f":"IF(ISERROR($E77),0,IF($E77<$I77,MAX($R$8:R76)+1,0))","v":0},null,0,0,null,0,0,null,0,0,null,0,0,0,0,0,0,0,null,{"$f":"IF(ISERROR($L77),0,IF($L77>$O77,MAX($AK$8:AK76)+1,0))","v":0},{"$error":"#N/A"},null,{"$error":"#N/A"},{"$error":"#N/A"},{"$f":"IF(C77<=$E$3,IF('Front sheet'!$O$3=\"\",NA(),'Front sheet'!$O$3),NA())","v":{"$error":"#N/A"}},{"$error":"#N/A"},{"$error":"#N/A"},{"$error":"#N/A"},{"$error":"#N/A"},{"$error":"#N/A"},{"$error":"#N/A"},{"$error":"#N/A"},{"$error":"#N/A"},{"$error":"#N/A"},{"$error":"#N/A"},{"$error":"#N/A"},{"$error":"#N/A"},{"$error":"#N/A"},{"$error":"#N/A"},{"$error":"#N/A"},{"$error":"#N/A"},{"$error":"#N/A"},{"$error":"#N/A"},"","",null,69,1,"",{"$error":"#N/A"},{"$error":"#N/A"},{"$error":"#N/A"},{"$error":"#N/A"},{"$error":"#N/A"},1,{"$error":"#N/A"},{"$error":"#N/A"},{"$error":"#N/A"},{"$error":"#N/A"},null,null,null,69,{"$error":"#N/A"},{"$error":"#N/A"},{"$error":"#N/A"},null,69,{"$error":"#N/A"},{"$error":"#N/A"},null,69,{"$error":"#N/A"},{"$error":"#N/A"},{"$error":"#N/A"},{"$error":"#N/A"},null,null,69,{"$error":"#N/A"},{"$error":"#N/A"},{"$error":"#N/A"},null,0,0,null,null,{"$error":"#N/A"},{"$error":"#N/A"},{"$error":"#N/A"},{"$error":"#N/A"}]
[null,0,70,{"$f":"IF('Front sheet'!$G23=\"\",\"\",'Front sheet'!$G23)","v":""},{"$f":"IF('Front sheet'!H23=\"\",#N/A,'Front sheet'!H23)","v":{"$error":"#N/A"}},"",{"$f":"IF(J78=\"\",NA(),IF('Front sheet'!$T$7<>0,AVERAGE(Tally_CL),IF(F78=1,AVERAGE(Tally),IF(F78=2,AVERAGE(Tally2),IF(F78=3,AVERAGE(Tally3),IF(F78=4,AVERAGE(Tally4),IF(F78=5,AVERAGE(Tally5))))))))","v":{"$error":"#N/A"}},{"$error":"#N/A"},{"$error":"#N/A"},"",{"$error":"#N/A"},{"$error":"#N/A"},{"$f":"IF(L78=\"\",NA(),IF('Front sheet'!$T$7<>0,AVERAGE(MR_CL),IF(F78=1,AVERAGE(MR_1),IF(F78=2,AVERAGE(MR_2),IF(F78=3,AVERAGE(MR_3),IF(F78=4,AVERAGE(MR_4),IF(F78=5,AVERAGE(MR_5))))))))","v":{"$error":"#N/A"}},0,{"$error":"#N/A"},null,{"$f":"IF(ISERROR($E78),0,IF($E78>$H78,MAX($Q$8:Q77)+1,0))","v":0},{"$f":"IF(ISERROR($E78),0,IF($E78<$I78,MAX($R$8:R77)+1,0))","v":0},null,0,0,null,0,0,null,0,0,null,0,0,0,0,0,0,0,null,{"$f":"IF(ISERROR($L78),0,IF($L78>$O78,MAX($AK$8:AK77)+1,0))","v":0},{"$error":"#N/A"},null,{"$error":"#N/A"},{"$error":"#N/A"},{"$f":"IF(C78<=$E$3,IF('Front sheet'!$O$3=\"\",NA(),'Front sheet'!$O$3),NA())","v":{"$error":"#N/A"}},{"$error":"#N/A"},{"$error":"#N/A"},{"$error":"#N/A"},{"$error":"#N/A"},{"$error":"#N/A"},{"$error":"#N/A"},{"$error":"#N/A"},{"$error":"#N/A"},{"$error":"#N/A"},{"$error":"#N/A"},{"$error":"#N/A"},{"$error":"#N/A"},{"$error":"#N/A"},{"$error":"#N/A"},{"$error":"#N/A"},{"$error":"#N/A"},{"$error":"#N/A"},{"$error":"#N/A"},"","",null,70,1,"",{"$error":"#N/A"},{"$error":"#N/A"},{"$error":"#N/A"},{"$error":"#N/A"},{"$error":"#N/A"},1,{"$error":"#N/A"},{"$error":"#N/A"},{"$error":"#N/A"},{"$error":"#N/A"},null,null,null,70,{"$error":"#N/A"},{"$error":"#N/A"},{"$error":"#N/A"},null,70,{"$error":"#N/A"},{"$error":"#N/A"},null,70,{"$error":"#N/A"},{"$error":"#N/A"},{"$error":"#N/A"},{"$error":"#N/A"},null,null,70,{"$error":"#N/A"},{"$error":"#N/A"},{"$error":"#N/A"},null,0,0,null,null,{"$error":"#N/A"},{"$error":"#N/A"},{"$error":"#N/A"},{"$error":"#N/A"}]
[null,0,71,{"$f":"IF('Front sheet'!$G24=\"\",\"\",'Front sheet'!$G24)","v":""},{"$f":"IF('Front sheet'!H24=\"\",#N/A,'Front sheet'!H24)","v":{"$error":"#N/A"}},"",{"$f":"IF(J79=\"\",NA(),IF('Front sheet'!$T$7<>0,AVERAGE(Tally_CL),IF(F79=1,AVERAGE(Tally),IF(F79=2,AVERAGE(Tally2),IF(F79=3,AVERAGE(Tally3),IF(F79=4,AVERAGE(Tally4),IF(F79=5,AVERAGE(Tally5))))))))","v":{"$error":"#N/A"}},{"$error":"#N/A"},{"$error":"#N/A"},"",{"$error":"#N/A"},{"$error":"#N/A"},{"$f":"IF(L79=\"\",NA(),IF('Front sheet'!$T$7<>0,AVERAGE(MR_CL),IF(F79=1,AVERAGE(MR_1),IF(F79=2,AVERAGE(MR_2),IF(F79=3,AVERAGE(MR_3),IF(F79=4,AVERAGE(MR_4),IF(F79=5,AVERAGE(MR_5))))))))","v":{"$error":"#N/A"}},0,{"$error":"#N/A"},null,{"$f":"IF(ISERROR($E79),0,IF($E79>$H79,MAX($Q$8:Q78)+1,0))","v":0},{"$f":"IF(ISERROR($E79),0,IF($E79<$I79,MAX($R$8:R78)+1,0))","v":0},null,0,0,null,0,0,null,0,0,null,0,0,0,0,0,0,0,null,{"$f":"IF(ISERROR($L79),0,IF($L79>$O79,MAX($AK$8:AK78)+1,0))","v":0},{"$error":"#N/A"},null,{"$error":"#N/A"},{"$error":"#N/A"},{"$f":"IF(C79<=$E$3,IF('Front sheet'!$O$3=\"\",NA(),'Front sheet'!$O$3),NA())","v":{"$error":"#N/A"}},{"$error":"#N/A"},{"$error":"#N/A"},{"$error":"#N/A"},{"$error":"#N/A"},{"$error":"#N/A"},{"$error":"#N/A"},{"$error":"#N/A"},{"$error":"#N/A"},{"$error":"#N/A"},{"$error":"#N/A"},{"$error":"#N/A"},{"$error":"#N/A"},{"$error":"#N/A"},{"$error":"#N/A"},{"$error":"#N/A"},{"$error":"#N/A"},{"$error":"#N/A"},{"$error":"#N/A"},"","",null,71,1,"",{"$error":"#N/A"},{"$error":"#N/A"},{"$error":"#N/A"},{"$error":"#N/A"},{"$error":"#N/A"},1,{"$error":"#N/A"},{"$error":"#N/A"},{"$error":"#N/A"},{"$error":"#N/A"},null,null,null,71,{"$error":"#N/A"},{"$error":"#N/A"},{"$error":"#N/A"},null,71,{"$error":"#N/A"},{"$error":"#N/A"},null,71,{"$error":"#N/A"},{"$error":"#N/A"},{"$error":"#N/A"},{"$error":"#N/A"},null,null,71,{"$error":"#N/A"},{"$error":"#N/A"},{"$error":"#N/A"},null,0,0,null,null,{"$error":"#N/A"},{"$error":"#N/A"},{"$error":"#N/A"},{"$error":"#N/A"}]
[null,0,72,{"$f":"IF('Front sheet'!$G25=\"\",\"\",'Front sheet'!$G25)","v":""},{"$f":"IF('Front sheet'!H25=\"\",#N/A,'Front sheet'!H25)","v":{"$error":"#N/A"}},"",{"$f":"IF(J80=\"\",NA(),IF('Front sheet'!$T$7<>0,AVERAGE(Tally_CL),IF(F80=1,AVERAGE(Tally),IF(F80=2,AVERAGE(Tally2),IF(F80=3,AVERAGE(Tally3),IF(F80=4,AVERAGE(Tally4),IF(F80=5,AVERAGE(Tally5))))))))","v":{"$error":"#N/A"}},{"$error":"#N/A"},{"$error":"#N/A"},"",{"$error":"#N/A"},{"$error":"#N/A"},{"$f":"IF(L80=\"\",NA(),IF('Front sheet'!$T$7<>0,AVERAGE(MR_CL),IF(F80=1,AVERAGE(MR_1),IF(F80=2,AVERAGE(MR_2),IF(F80=3,AVERAGE(MR_3),IF(F80=4,AVERAGE(MR_4),IF(F80=5,AVERAGE(MR_5))))))))","v":{"$error":"#N/A"}},0,{"$error":"#N/A"},null,{"$f":"IF(ISERROR($E80),0,IF($E80>$H80,MAX($Q$8:Q79)+1,0))","v":0},{"$f":"IF(ISERROR($E80),0,IF($E80<$I80,MAX($R$8:R79)+1,0))","v":0},null,0,0,null,0,0,null,0,0,null,0,0,0,0,0,0,0,null,{"$f":"IF(ISERROR($L80),0,IF($L80>$O80,MAX($AK$8:AK79)+1,0))","v":0},{"$error":"#N/A"},null,{"$error":"#N/A"},{"$error":"#N/A"},{"$f":"IF(C80<=$E$3,IF('Front sheet'!$O$3=\"\",NA(),'Front sheet'!$O$3),NA())","v":{"$error":"#N/A"}},{"$error":"#N/A"},{"$error":"#N/A"},{"$error":"#N/A"},{"$error":"#N/A"},{"$error":"#N/A"},{"$error":"#N/A"},{"$error":"#N/A"},{"$error":"#N/A"},{"$error":"#N/A"},{"$error":"#N/A"},{"$error":"#N/A"},{"$error":"#N/A"},{"$error":"#N/A"},{"$error":"#N/A"},{"$error":"#N/A"},{"$error":"#N/A"},{"$error":"#N/A"},{"$error":"#N/A"},"","",null,72,1,"",{"$error":"#N/A"},{"$error":"#N/A"},{"$error":"#N/A"},{"$error":"#N/A"},{"$error":"#N/A"},1,{"$error":"#N/A"},{"$error":"#N/A"},{"$error":"#N/A"},{"$error":"#N/A"},null,null,null,72,{"$error":"#N/A"},{"$error":"#N/A"},{"$error":"#N/A"},null,72,{"$error":"#N/A"},{"$error":"#N/A"},null,72,{"$error":"#N/A"},{"$error":"#N/A"},{"$error":"#N/A"},{"$error":"#N/A"},null,null,72,{"$error":"#N/A"},{"$error":"#N/A"},{"$error":"#N/A"},null,0,0,null,null,{"$error":"#N/A"},{"$error":"#N/A"},{"$error":"#N/A"},{"$error":"#N/A"}]
[null,0,73,{"$f":"IF('Front sheet'!$G26=\"\",\"\",'Front sheet'!$G26)","v":""},{"$f":"IF('Front sheet'!H26=\"\",#N/A,'Front sheet'!H26)","v":{"$error":"#N/A"}},"",{"$f":"IF(J81=\"\",NA(),IF('Front sheet'!$T$7<>0,AVERAGE(Tally_CL),IF(F81=1,AVERAGE(Tally),IF(F81=2,AVERAGE(Tally2),IF(F81=3,AVERAGE(Tally3),IF(F81=4,AVERAGE(Tally4),IF(F81=5,AVERAGE(Tally5))))))))","v":{"$error":"#N/A"}},{"$error":"#N/A"},{"$error":"#N/A"},"",{"$error":"#N/A"},{"$error":"#N/A"},{"$f":"IF(L81=\"\",NA(),IF('Front sheet'!$T$7<>0,AVERAGE(MR_CL),IF(F81=1,AVERAGE(MR_1),IF(F81=2,AVERAGE(MR_2),IF(F81=3,AVERAGE(MR_3),IF(F81=4,AVERAGE(MR_4),IF(F81=5,AVERAGE(MR_5))))))))","v":{"$error":"#N/A"}},0,{"$error":"#N/A"},null,{"$f":"IF(ISERROR($E81),0,IF($E81>$H81,MAX($Q$8:Q80)+1,0))","v":0},{"$f":"IF(ISERROR($E81),0,IF($E81<$I81,MAX($R$8:R80)+1,0))","v":0},null,0,0,null,0,0,null,0,0,null,0,0,0,0,0,0,0,null,{"$f":"IF(ISERROR($L81),0,IF($L81>$O81,MAX($AK$8:AK80)+1,0))","v":0},{"$error":"#N/A"},null,{"$error":"#N/A"},{"$error":"#N/A"},{"$f":"IF(C81<=$E$3,IF('Front sheet'!$O$3=\"\",NA(),'Front sheet'!$O$3),NA())","v":{"$error":"#N/A"}},{"$error":"#N/A"},{"$error":"#N/A"},{"$error":"#N/A"},{"$error":"#N/A"},{"$error":"#N/A"},{"$error":"#N/A"},{"$error":"#N/A"},{"$error":"#N/A"},{"$error":"#N/A"},{"$error":"#N/A"},{"$error":"#N/A"},{"$error":"#N/A"},{"$error":"#N/A"},{"$error":"#N/A"},{"$error":"#N/A"},{"$error":"#N/A"},{"$error":"#N/A"},{"$error":"#N/A"},"","",null,73,1,"",{"$error":"#N/A"},{"$error":"#N/A"},{"$error":"#N/A"},{"$error":"#N/A"},{"$error":"#N/A"},1,{"$error":"#N/A"},{"$error":"#N/A"},{"$error":"#N/A"},{"$error":"#N/A"},null,null,null,73,{"$error":"#N/A"},{"$error":"#N/A"},{"$error":"#N/A"},null,73,{"$error":"#N/A"},{"$error":"#N/A"},null,73,{"$error":"#N/A"},{"$error":"#N/A"},{"$error":"#N/A"},{"$error":"#N/A"},null,null,73,{"$error":"#N/A"},{"$error":"#N/A"},{"$error":"#N/A"},null,0,0,null,null,{"$error":"#N/A"},{"$error":"#N/A"},{"$error":"#N/A"},{"$error":"#N/A"}]
[null,0,74,{"$f":"IF('Front sheet'!$G27=\"\",\"\",'Front sheet'!$G27)","v":""},{"$f":"IF('Front sheet'!H27=\"\",#N/A,'Front sheet'!H27)","v":{"$error":"#N/A"}},"",{"$f":"IF(J82=\"\",NA(),IF('Front sheet'!$T$7<>0,AVERAGE(Tally_CL),IF(F82=1,AVERAGE(Tally),IF(F82=2,AVERAGE(Tally2),IF(F82=3,AVERAGE(Tally3),IF(F82=4,AVERAGE(Tally4),IF(F82=5,AVERAGE(Tally5))))))))","v":{"$error":"#N/A"}},{"$error":"#N/A"},{"$error":"#N/A"},"",{"$error":"#N/A"},{"$error":"#N/A"},{"$f":"IF(L82=\"\",NA(),IF('Front sheet'!$T$7<>0,AVERAGE(MR_CL),IF(F82=1,AVERAGE(MR_1),IF(F82=2,AVERAGE(MR_2),IF(F82=3,AVERAGE(MR_3),IF(F82=4,AVERAGE(MR_4),IF(F82=5,AVERAGE(MR_5))))))))","v":{"$error":"#N/A"}},0,{"$error":"#N/A"},null,{"$f":"IF(ISERROR($E82),0,IF($E82>$H82,MAX($Q$8:Q81)+1,0))","v":0},{"$f":"IF(ISERROR($E82),0,IF($E82<$I82,MAX($R$8:R81)+1,0))","v":0},null,0,0,null,0,0,null,0,0,null,0,0,0,0,0,0,0,null,{"$f":"IF(ISERROR($L82),0,IF($L82>$O82,MAX($AK$8:AK81)+1,0))","v":0},{"$error":"#N/A"},null,{"$error":"#N/A"},{"$error":"#N/A"},{"$f":"IF(C82<=$E$3,IF('Front sheet'!$O$3=\"\",NA(),'Front sheet'!$O$3),NA())","v":{"$error":"#N/A"}},{"$error":"#N/A"},{"$error":"#N/A"},{"$error":"#N/A"},{"$error":"#N/A"},{"$error":"#N/A"},{"$error":"#N/A"},{"$error":"#N/A"},{"$error":"#N/A"},{"$error":"#N/A"},{"$error":"#N/A"},{"$error":"#N/A"},{"$error":"#N/A"},{"$error":"#N/A"},{"$error":"#N/A"},{"$error":"#N/A"},{"$error":"#N/A"},{"$error":"#N/A"},{"$error":"#N/A"},"","",null,74,1,"",{"$error":"#N/A"},{"$error":"#N/A"},{"$error":"#N/A"},{"$error":"#N/A"},{"$error":"#N/A"},1,{"$error":"#N/A"},{"$error":"#N/A"},{"$error":"#N/A"},{"$error":"#N/A"},null,null,null,74,{"$error":"#N/A"},{"$error":"#N/A"},{"$error":"#N/A"},null,74,{"$error":"#N/A"},{"$error":"#N/A"},null,74,{"$error":"#N/A"},{"$error":"#N/A"},{"$error":"#N/A"},{"$error":"#N/A"},null,null,74,{"$error":"#N/A"},{"$error":"#N/A"},{"$error":"#N/A"},null,0,0,null,null,{"$error":"#N/A"},{"$error":"#N/A"},{"$error":"#N/A"},{"$error":"#N/A"}]
[null,0,75,{"$f":"IF('Front sheet'!$G28=\"\",\"\",'Front sheet'!$G28)","v":""},{"$f":"IF('Front sheet'!H28=\"\",#N/A,'Front sheet'!H28)","v":{"$error":"#N/A"}},"",{"$f":"IF(J83=\"\",NA(),IF('Front sheet'!$T$7<>0,AVERAGE(Tally_CL),IF(F83=1,AVERAGE(Tally),IF(F83=2,AVERAGE(Tally2),IF(F83=3,AVERAGE(Tally3),IF(F83=4,AVERAGE(Tally4),IF(F83=5,AVERAGE(Tally5))))))))","v":{"$error":"#N/A"}},{"$error":"#N/A"},{"$error":"#N/A"},"",{"$error":"#N/A"},{"$error":"#N/A"},{"$f":"IF(L83=\"\",NA(),IF('Front sheet'!$T$7<>0,AVERAGE(MR_CL),IF(F83=1,AVERAGE(MR_1),IF(F83=2,AVERAGE(MR_2),IF(F83=3,AVERAGE(MR_3),IF(F83=4,AVERAGE(MR_4),IF(F83=5,AVERAGE(MR_5))))))))","v":{"$error":"#N/A"}},0,{"$error":"#N/A"},null,{"$f":"IF(ISERROR($E83),0,IF($E83>$H83,MAX($Q$8:Q82)+1,0))","v":0},{"$f":"IF(ISERROR($E83),0,IF($E83<$I83,MAX($R$8:R82)+1,0))","v":0},null,0,0,null,0,0,null,0,0,null,0,0,0,0,0,0,0,null,{"$f":"IF(ISERROR($L83),0,IF($L83>$O83,MAX($AK$8:AK82)+1,0))","v":0},{"$error":"#N/A"},null,{"$error":"#N/A"},{"$error":"#N/A"},{"$f":"IF(C83<=$E$3,IF('Front sheet'!$O$3=\"\",NA(),'Front sheet'!$O$3),NA())","v":{"$error":"#N/A"}},{"$error":"#N/A"},{"$error":"#N/A"},{"$error":"#N/A"},{"$error":"#N/A"},{"$error":"#N/A"},{"$error":"#N/A"},{"$error":"#N/A"},{"$error":"#N/A"},{"$error":"#N/A"},{"$error":"#N/A"},{"$error":"#N/A"},{"$error":"#N/A"},{"$error":"#N/A"},{"$error":"#N/A"},{"$error":"#N/A"},{"$error":"#N/A"},{"$error":"#N/A"},{"$error":"#N/A"},"","",null,75,1,"",{"$error":"#N/A"},{"$error":"#N/A"},{"$error":"#N/A"},{"$error":"#N/A"},{"$error":"#N/A"},1,{"$error":"#N/A"},{"$error":"#N/A"},{"$error":"#N/A"},{"$error":"#N/A"},null,null,null,75,{"$error":"#N/A"},{"$error":"#N/A"},{"$error":"#N/A"},null,75,{"$error":"#N/A"},{"$error":"#N/A"},null,75,{"$error":"#N/A"},{"$error":"#N/A"},{"$error":"#N/A"},{"$error":"#N/A"},null,null,75,{"$error":"#N/A"},{"$error":"#N/A"},{"$error":"#N/A"},null,0,0,null,null,{"$error":"#N/A"},{"$error":"#N/A"},{"$error":"#N/A"},{"$error":"#N/A"}]
[null,0,76,{"$f":"IF('Front sheet'!$G29=\"\",\"\",'Front sheet'!$G29)","v":""},{"$f":"IF('Front sheet'!H29=\"\",#N/A,'Front sheet'!H29)","v":{"$error":"#N/A"}},"",{"$f":"IF(J84=\"\",NA(),IF('Front sheet'!$T$7<>0,AVERAGE(Tally_CL),IF(F84=1,AVERAGE(Tally),IF(F84=2,AVERAGE(Tally2),IF(F84=3,AVERAGE(Tally3),IF(F84=4,AVERAGE(Tally4),IF(F84=5,AVERAGE(Tally5))))))))","v":{"$error":"#N/A"}},{"$error":"#N/A"},{"$error":"#N/A"},"",{"$error":"#N/A"},{"$error":"#N/A"},{"$f":"IF(L84=\"\",NA(),IF('Front sheet'!$T$7<>0,AVERAGE(MR_CL),IF(F84=1,AVERAGE(MR_1),IF(F84=2,AVERAGE(MR_2),IF(F84=3,AVERAGE(MR_3),IF(F84=4,AVERAGE(MR_4),IF(F84=5,AVERAGE(MR_5))))))))","v":{"$error":"#N/A"}},0,{"$error":"#N/A"},null,{"$f":"IF(ISERROR($E84),0,IF($E84>$H84,MAX($Q$8:Q83)+1,0))","v":0},{"$f":"IF(ISERROR($E84),0,IF($E84<$I84,MAX($R$8:R83)+1,0))","v":0},null,0,0,null,0,0,null,0,0,null,0,0,0,0,0,0,0,null,{"$f":"IF(ISERROR($L84),0,IF($L84>$O84,MAX($AK$8:AK83)+1,0))","v":0},{"$error":"#N/A"},null,{"$error":"#N/A"},{"$error":"#N/A"},{"$f":"IF(C84<=$E$3,IF('Front sheet'!$O$3=\"\",NA(),'Front sheet'!$O$3),NA())","v":{"$error":"#N/A"}},{"$error":"#N/A"},{"$error":"#N/A"},{"$error":"#N/A"},{"$error":"#N/A"},{"$error":"#N/A"},{"$error":"#N/A"},{"$error":"#N/A"},{"$error":"#N/A"},{"$error":"#N/A"},{"$error":"#N/A"},{"$error":"#N/A"},{"$error":"#N/A"},{"$error":"#N/A"},{"$error":"#N/A"},{"$error":"#N/A"},{"$error":"#N/A"},{"$error":"#N/A"},{"$error":"#N/A"},"","",null,76,1,"",{"$error":"#N/A"},{"$error":"#N/A"},{"$error":"#N/A"},{"$error":"#N/A"},{"$error":"#N/A"},1,{"$error":"#N/A"},{"$error":"#N/A"},{"$error":"#N/A"},{"$error":"#N/A"},null,null,null,76,{"$error":"#N/A"},{"$error":"#N/A"},{"$error":"#N/A"},null,76,{"$error":"#N/A"},{"$error":"#N/A"},null,76,{"$error":"#N/A"},{"$error":"#N/A"},{"$error":"#N/A"},{"$error":"#N/A"},null,null,76,{"$error":"#N/A"},{"$error":"#N/A"},{"$error":"#N/A"},null,0,0,null,null,{"$error":"#N/A"},{"$error":"#N/A"},{"$error":"#N/A"},{"$error":"#N/A"}]
[null,0,77,{"$f":"IF('Front sheet'!$G30=\"\",\"\",'Front sheet'!$G30)","v":""},{"$f":"IF('Front sheet'!H30=\"\",#N/A,'Front sheet'!H30)","v":{"$error":"#N/A"}},"",{"$f":"IF(J85=\"\",NA(),IF('Front sheet'!$T$7<>0,AVERAGE(Tally_CL),IF(F85=1,AVERAGE(Tally),IF(F85=2,AVERAGE(Tally2),IF(F85=3,AVERAGE(Tally3),IF(F85=4,AVERAGE(Tally4),IF(F85=5,AVERAGE(Tally5))))))))","v":{"$error":"#N/A"}},{"$error":"#N/A"},{"$error":"#N/A"},"",{"$error":"#N/A"},{"$error":"#N/A"},{"$f":"IF(L85=\"\",NA(),IF('Front sheet'!$T$7<>0,AVERAGE(MR_CL),IF(F85=1,AVERAGE(MR_1),IF(F85=2,AVERAGE(MR_2),IF(F85=3,AVERAGE(MR_3),IF(F85=4,AVERAGE(MR_4),IF(F85=5,AVERAGE(MR_5))))))))","v":{"$error":"#N/A"}},0,{"$error":"#N/A"},null,{"$f":"IF(ISERROR($E85),0,IF($E85>$H85,MAX($Q$8:Q84)+1,0))","v":0},{"$f":"IF(ISERROR($E85),0,IF($E85<$I85,MAX($R$8:R84)+1,0))","v":0},null,0,0,null,0,0,null,0,0,null,0,0,0,0,0,0,0,null,{"$f":"IF(ISERROR($L85),0,IF($L85>$O85,MAX($AK$8:AK84)+1,0))","v":0},{"$error":"#N/A"},null,{"$error":"#N/A"},{"$error":"#N/A"},{"$f":"IF(C85<=$E$3,IF('Front sheet'!$O$3=\"\",NA(),'Front sheet'!$O$3),NA())","v":{"$error":"#N/A"}},{"$error":"#N/A"},{"$error":"#N/A"},{"$error":"#N/A"},{"$error":"#N/A"},{"$error":"#N/A"},{"$error":"#N/A"},{"$error":"#N/A"},{"$error":"#N/A"},{"$error":"#N/A"},{"$error":"#N/A"},{"$error":"#N/A"},{"$error":"#N/A"},{"$error":"#N/A"},{"$error":"#N/A"},{"$error":"#N/A"},{"$error":"#N/A"},{"$error":"#N/A"},{"$error":"#N/A"},"","",null,77,1,"",{"$error":"#N/A"},{"$error":"#N/A"},{"$error":"#N/A"},{"$error":"#N/A"},{"$error":"#N/A"},1,{"$error":"#N/A"},{"$error":"#N/A"},{"$error":"#N/A"},{"$error":"#N/A"},null,null,null,77,{"$error":"#N/A"},{"$error":"#N/A"},{"$error":"#N/A"},null,77,{"$error":"#N/A"},{"$error":"#N/A"},null,77,{"$error":"#N/A"},{"$error":"#N/A"},{"$error":"#N/A"},{"$error":"#N/A"},null,null,77,{"$error":"#N/A"},{"$error":"#N/A"},{"$error":"#N/A"},null,0,0,null,null,{"$f":"IF($U$6=2,NA(),IF(AND(U85=0,AA85=0,AI85=0,Q85=0),#N/A,J85))","v":{"$error":"#N/A"}},{"$f":"IF($U$6=2,NA(),IF(AND(R85=0,X85=0,AD85=0,AG85=0),#N/A,J85))","v":{"$error":"#N/A"}},{"$error":"#N/A"},{"$error":"#N/A"}]
[null,0,78,{"$f":"IF('Front sheet'!$G31=\"\",\"\",'Front sheet'!$G31)","v":""},{"$f":"IF('Front sheet'!H31=\"\",#N/A,'Front sheet'!H31)","v":{"$error":"#N/A"}},"",{"$f":"IF(J86=\"\",NA(),IF('Front sheet'!$T$7<>0,AVERAGE(Tally_CL),IF(F86=1,AVERAGE(Tally),IF(F86=2,AVERAGE(Tally2),IF(F86=3,AVERAGE(Tally3),IF(F86=4,AVERAGE(Tally4),IF(F86=5,AVERAGE(Tally5))))))))","v":{"$error":"#N/A"}},{"$error":"#N/A"},{"$error":"#N/A"},"",{"$error":"#N/A"},{"$error":"#N/A"},{"$f":"IF(L86=\"\",NA(),IF('Front sheet'!$T$7<>0,AVERAGE(MR_CL),IF(F86=1,AVERAGE(MR_1),IF(F86=2,AVERAGE(MR_2),IF(F86=3,AVERAGE(MR_3),IF(F86=4,AVERAGE(MR_4),IF(F86=5,AVERAGE(MR_5))))))))","v":{"$error":"#N/A"}},0,{"$error":"#N/A"},null,{"$f":"IF(ISERROR($E86),0,IF($E86>$H86,MAX($Q$8:Q85)+1,0))","v":0},{"$f":"IF(ISERROR($E86),0,IF($E86<$I86,MAX($R$8:R85)+1,0))","v":0},null,0,0,null,0,0,null,0,0,null,0,0,0,0,0,0,0,null,{"$f":"IF(ISERROR($L86),0,IF($L86>$O86,MAX($AK$8:AK85)+1,0))","v":0},{"$error":"#N/A"},null,{"$error":"#N/A"},{"$error":"#N/A"},{"$f":"IF(C86<=$E$3,IF('Front sheet'!$O$3=\"\",NA(),'Front sheet'!$O$3),NA())","v":{"$error":"#N/A"}},{"$error":"#N/A"},{"$error":"#N/A"},{"$error":"#N/A"},{"$error":"#N/A"},{"$error":"#N/A"},{"$error":"#N/A"},{"$error":"#N/A"},{"$error":"#N/A"},{"$error":"#N/A"},{"$error":"#N/A"},{"$error":"#N/A"},{"$error":"#N/A"},{"$error":"#N/A"},{"$error":"#N/A"},{"$error":"#N/A"},{"$error":"#N/A"},{"$error":"#N/A"},{"$error":"#N/A"},"","",null,78,1,"",{"$error":"#N/A"},{"$error":"#N/A"},{"$error":"#N/A"},{"$error":"#N/A"},{"$error":"#N/A"},1,{"$error":"#N/A"},{"$error":"#N/A"},{"$error":"#N/A"},{"$error":"#N/A"},null,null,null,78,{"$error":"#N/A"},{"$error":"#N/A"},{"$error":"#N/A"},null,78,{"$error":"#N/A"},{"$error":"#N/A"},null,78,{"$error":"#N/A"},{"$error":"#N/A"},{"$error":"#N/A"},{"$error":"#N/A"},null,null,78,{"$error":"#N/A"},{"$error":"#N/A"},{"$error":"#N/A"},null,0,0,null,null,{"$f":"IF($U$6=2,NA(),IF(AND(U86=0,AA86=0,AI86=0,Q86=0),#N/A,J86))","v":{"$error":"#N/A"}},{"$f":"IF($U$6=2,NA(),IF(AND(R86=0,X86=0,AD86=0,AG86=0),#N/A,J86))","v":{"$error":"#N/A"}},{"$error":"#N/A"},{"$error":"#N/A"}]
[null,0,79,{"$f":"IF('Front sheet'!$G32=\"\",\"\",'Front sheet'!$G32)","v":""},{"$f":"IF('Front sheet'!H32=\"\",#N/A,'Front sheet'!H32)","v":{"$error":"#N/A"}},"",{"$f":"IF(J87=\"\",NA(),IF('Front sheet'!$T$7<>0,AVERAGE(Tally_CL),IF(F87=1,AVERAGE(Tally),IF(F87=2,AVERAGE(Tally2),IF(F87=3,AVERAGE(Tally3),IF(F87=4,AVERAGE(Tally4),IF(F87=5,AVERAGE(Tally5))))))))","v":{"$error":"#N/A"}},{"$error":"#N/A"},{"$error":"#N/A"},"",{"$error":"#N/A"},{"$error":"#N/A"},{"$f":"IF(L87=\"\",NA(),IF('Front sheet'!$T$7<>0,AVERAGE(MR_CL),IF(F87=1,AVERAGE(MR_1),IF(F87=2,AVERAGE(MR_2),IF(F87=3,AVERAGE(MR_3),IF(F87=4,AVERAGE(MR_4),IF(F87=5,AVERAGE(MR_5))))))))","v":{"$error":"#N/A"}},0,{"$error":"#N/A"},null,{"$f":"IF(ISERROR($E87),0,IF($E87>$H87,MAX($Q$8:Q86)+1,0))","v":0},{"$f":"IF(ISERROR($E87),0,IF($E87<$I87,MAX($R$8:R86)+1,0))","v":0},null,0,0,null,0,0,null,0,0,null,0,0,0,0,0,0,0,null,{"$f":"IF(ISERROR($L87),0,IF($L87>$O87,MAX($AK$8:AK86)+1,0))","v":0},{"$error":"#N/A"},null,{"$error":"#N/A"},{"$error":"#N/A"},{"$f":"IF(C87<=$E$3,IF('Front sheet'!$O$3=\"\",NA(),'Front sheet'!$O$3),NA())","v":{"$error":"#N/A"}},{"$error":"#N/A"},{"$error":"#N/A"},{"$error":"#N/A"},{"$error":"#N/A"},{"$error":"#N/A"},{"$error":"#N/A"},{"$error":"#N/A"},{"$error":"#N/A"},{"$error":"#N/A"},{"$error":"#N/A"},{"$error":"#N/A"},{"$error":"#N/A"},{"$error":"#N/A"},{"$error":"#N/A"},{"$error":"#N/A"},{"$error":"#N/A"},{"$error":"#N/A"},{"$error":"#N/A"},"","",null,79,1,"",{"$error":"#N/A"},{"$error":"#N/A"},{"$error":"#N/A"},{"$error":"#N/A"},{"$error":"#N/A"},1,{"$error":"#N/A"},{"$error":"#N/A"},{"$error":"#N/A"},{"$error":"#N/A"},null,null,null,79,{"$error":"#N/A"},{"$error":"#N/A"},{"$error":"#N/A"},null,79,{"$error":"#N/A"},{"$error":"#N/A"},null,79,{"$error":"#N/A"},{"$error":"#N/A"},{"$error":"#N/A"},{"$error":"#N/A"},null,null,79,{"$error":"#N/A"},{"$error":"#N/A"},{"$error":"#N/A"},null,0,0,null,null,{"$error":"#N/A"},{"$error":"#N/A"},{"$error":"#N/A"},{"$error":"#N/A"}]
[null,0,80,{"$f":"IF('Front sheet'!$G33=\"\",\"\",'Front sheet'!$G33)","v":""},{"$f":"IF('Front sheet'!H33=\"\",#N/A,'Front sheet'!H33)","v":{"$error":"#N/A"}},"",{"$f":"IF(J88=\"\",NA(),IF('Front sheet'!$T$7<>0,AVERAGE(Tally_CL),IF(F88=1,AVERAGE(Tally),IF(F88=2,AVERAGE(Tally2),IF(F88=3,AVERAGE(Tally3),IF(F88=4,AVERAGE(Tally4),IF(F88=5,AVERAGE(Tally5))))))))","v":{"$error":"#N/A"}},{"$error":"#N/A"},{"$error":"#N/A"},"",{"$error":"#N/A"},{"$error":"#N/A"},{"$f":"IF(L88=\"\",NA(),IF('Front sheet'!$T$7<>0,AVERAGE(MR_CL),IF(F88=1,AVERAGE(MR_1),IF(F88=2,AVERAGE(MR_2),IF(F88=3,AVERAGE(MR_3),IF(F88=4,AVERAGE(MR_4),IF(F88=5,AVERAGE(MR_5))))))))","v":{"$error":"#N/A"}},0,{"$error":"#N/A"},null,{"$f":"IF(ISERROR($E88),0,IF($E88>$H88,MAX($Q$8:Q87)+1,0))","v":0},{"$f":"IF(ISERROR($E88),0,IF($E88<$I88,MAX($R$8:R87)+1,0))","v":0},null,0,0,null,0,0,null,0,0,null,0,0,0,0,0,0,0,null,{"$f":"IF(ISERROR($L88),0,IF($L88>$O88,MAX($AK$8:AK87)+1,0))","v":0},{"$error":"#N/A"},null,{"$error":"#N/A"},{"$error":"#N/A"},{"$f":"IF(C88<=$E$3,IF('Front sheet'!$O$3=\"\",NA(),'Front sheet'!$O$3),NA())","v":{"$error":"#N/A"}},{"$error":"#N/A"},{"$error":"#N/A"},{"$error":"#N/A"},{"$error":"#N/A"},{"$error":"#N/A"},{"$error":"#N/A"},{"$error":"#N/A"},{"$error":"#N/A"},{"$error":"#N/A"},{"$error":"#N/A"},{"$error":"#N/A"},{"$error":"#N/A"},{"$error":"#N/A"},{"$error":"#N/A"},{"$error":"#N/A"},{"$error":"#N/A"},{"$error":"#N/A"},{"$error":"#N/A"},"","",null,80,1,"",{"$error":"#N/A"},{"$error":"#N/A"},{"$error":"#N/A"},{"$error":"#N/A"},{"$error":"#N/A"},1,{"$error":"#N/A"},{"$error":"#N/A"},{"$error":"#N/A"},{"$error":"#N/A"},null,null,null,80,{"$error":"#N/A"},{"$error":"#N/A"},{"$error":"#N/A"},null,80,{"$error":"#N/A"},{"$error":"#N/A"},null,80,{"$error":"#N/A"},{"$error":"#N/A"},{"$error":"#N/A"},{"$error":"#N/A"},null,null,80,{"$error":"#N/A"},{"$error":"#N/A"},{"$error":"#N/A"},null,0,0,null,null,{"$error":"#N/A"},{"$error":"#N/A"},{"$error":"#N/A"},{"$error":"#N/A"}]
[null,0,81,{"$f":"IF('Front sheet'!$G34=\"\",\"\",'Front sheet'!$G34)","v":""},{"$f":"IF('Front sheet'!H34=\"\",#N/A,'Front sheet'!H34)","v":{"$error":"#N/A"}},"",{"$f":"IF(J89=\"\",NA(),IF('Front sheet'!$T$7<>0,AVERAGE(Tally_CL),IF(F89=1,AVERAGE(Tally),IF(F89=2,AVERAGE(Tally2),IF(F89=3,AVERAGE(Tally3),IF(F89=4,AVERAGE(Tally4),IF(F89=5,AVERAGE(Tally5))))))))","v":{"$error":"#N/A"}},{"$error":"#N/A"},{"$error":"#N/A"},"",{"$error":"#N/A"},{"$error":"#N/A"},{"$f":"IF(L89=\"\",NA(),IF('Front sheet'!$T$7<>0,AVERAGE(MR_CL),IF(F89=1,AVERAGE(MR_1),IF(F89=2,AVERAGE(MR_2),IF(F89=3,AVERAGE(MR_3),IF(F89=4,AVERAGE(MR_4),IF(F89=5,AVERAGE(MR_5))))))))","v":{"$error":"#N/A"}},0,{"$error":"#N/A"},null,{"$f":"IF(ISERROR($E89),0,IF($E89>$H89,MAX($Q$8:Q88)+1,0))","v":0},{"$f":"IF(ISERROR($E89),0,IF($E89<$I89,MAX($R$8:R88)+1,0))","v":0},null,0,0,null,0,0,null,0,0,null,0,0,0,0,0,0,0,null,{"$f":"IF(ISERROR($L89),0,IF($L89>$O89,MAX($AK$8:AK88)+1,0))","v":0},{"$error":"#N/A"},null,{"$error":"#N/A"},{"$error":"#N/A"},{"$f":"IF(C89<=$E$3,IF('Front sheet'!$O$3=\"\",NA(),'Front sheet'!$O$3),NA())","v":{"$error":"#N/A"}},{"$error":"#N/A"},{"$error":"#N/A"},{"$error":"#N/A"},{"$error":"#N/A"},{"$error":"#N/A"},{"$error":"#N/A"},{"$error":"#N/A"},{"$error":"#N/A"},{"$error":"#N/A"},{"$error":"#N/A"},{"$error":"#N/A"},{"$error":"#N/A"},{"$error":"#N/A"},{"$error":"#N/A"},{"$error":"#N/A"},{"$error":"#N/A"},{"$error":"#N/A"},{"$error":"#N/A"},"","",null,81,1,"",{"$error":"#N/A"},{"$error":"#N/A"},{"$error":"#N/A"},{"$error":"#N/A"},{"$error":"#N/A"},1,{"$error":"#N/A"},{"$error":"#N/A"},{"$error":"#N/A"},{"$error":"#N/A"},null,null,null,81,{"$error":"#N/A"},{"$error":"#N/A"},{"$error":"#N/A"},null,81,{"$error":"#N/A"},{"$error":"#N/A"},null,81,{"$error":"#N/A"},{"$error":"#N/A"},{"$error":"#N/A"},{"$error":"#N/A"},null,null,81,{"$error":"#N/A"},{"$error":"#N/A"},{"$error":"#N/A"},null,0,0,null,null,{"$error":"#N/A"},{"$error":"#N/A"},{"$error":"#N/A"},{"$error":"#N/A"}]
[null,0,82,{"$f":"IF('Front sheet'!$G35=\"\",\"\",'Front sheet'!$G35)","v":""},{"$f":"IF('Front sheet'!H35=\"\",#N/A,'Front sheet'!H35)","v":{"$error":"#N/A"}},"",{"$f":"IF(J90=\"\",NA(),IF('Front sheet'!$T$7<>0,AVERAGE(Tally_CL),IF(F90=1,AVERAGE(Tally),IF(F90=2,AVERAGE(Tally2),IF(F90=3,AVERAGE(Tally3),IF(F90=4,AVERAGE(Tally4),IF(F90=5,AVERAGE(Tally5))))))))","v":{"$error":"#N/A"}},{"$error":"#N/A"},{"$error":"#N/A"},"",{"$error":"#N/A"},{"$error":"#N/A"},{"$f":"IF(L90=\"\",NA(),IF('Front sheet'!$T$7<>0,AVERAGE(MR_CL),IF(F90=1,AVERAGE(MR_1),IF(F90=2,AVERAGE(MR_2),IF(F90=3,AVERAGE(MR_3),IF(F90=4,AVERAGE(MR_4),IF(F90=5,AVERAGE(MR_5))))))))","v":{"$error":"#N/A"}},0,{"$error":"#N/A"},null,{"$f":"IF(ISERROR($E90),0,IF($E90>$H90,MAX($Q$8:Q89)+1,0))","v":0},{"$f":"IF(ISERROR($E90),0,IF($E90<$I90,MAX($R$8:R89)+1,0))","v":0},null,0,0,null,0,0,null,0,0,null,0,0,0,0,0,0,0,null,{"$f":"IF(ISERROR($L90),0,IF($L90>$O90,MAX($AK$8:AK89)+1,0))","v":0},{"$error":"#N/A"},null,{"$error":"#N/A"},{"$error":"#N/A"},{"$f":"IF(C90<=$E$3,IF('Front sheet'!$O$3=\"\",NA(),'Front sheet'!$O$3),NA())","v":{"$error":"#N/A"}},{"$error":"#N/A"},{"$error":"#N/A"},{"$error":"#N/A"},{"$error":"#N/A"},{"$error":"#N/A"},{"$error":"#N/A"},{"$error":"#N/A"},{"$error":"#N/A"},{"$error":"#N/A"},{"$error":"#N/A"},{"$error":"#N/A"},{"$error":"#N/A"},{"$error":"#N/A"},{"$error":"#N/A"},{"$error":"#N/A"},{"$error":"#N/A"},{"$error":"#N/A"},{"$error":"#N/A"},"","",null,82,1,"",{"$error":"#N/A"},{"$error":"#N/A"},{"$error":"#N/A"},{"$error":"#N/A"},{"$error":"#N/A"},1,{"$error":"#N/A"},{"$error":"#N/A"},{"$error":"#N/A"},{"$error":"#N/A"},null,null,null,82,{"$error":"#N/A"},{"$error":"#N/A"},{"$error":"#N/A"},null,82,{"$error":"#N/A"},{"$error":"#N/A"},null,82,{"$error":"#N/A"},{"$error":"#N/A"},{"$error":"#N/A"},{"$error":"#N/A"},null,null,82,{"$error":"#N/A"},{"$error":"#N/A"},{"$error":"#N/A"},null,0,0,null,null,{"$error":"#N/A"},{"$error":"#N/A"},{"$error":"#N/A"},{"$error":"#N/A"}]
[null,0,83,{"$f":"IF('Front sheet'!$G36=\"\",\"\",'Front sheet'!$G36)","v":""},{"$f":"IF('Front sheet'!H36=\"\",#N/A,'Front sheet'!H36)","v":{"$error":"#N/A"}},"",{"$f":"IF(J91=\"\",NA(),IF('Front sheet'!$T$7<>0,AVERAGE(Tally_CL),IF(F91=1,AVERAGE(Tally),IF(F91=2,AVERAGE(Tally2),IF(F91=3,AVERAGE(Tally3),IF(F91=4,AVERAGE(Tally4),IF(F91=5,AVERAGE(Tally5))))))))","v":{"$error":"#N/A"}},{"$error":"#N/A"},{"$error":"#N/A"},"",{"$error":"#N/A"},{"$error":"#N/A"},{"$f":"IF(L91=\"\",NA(),IF('Front sheet'!$T$7<>0,AVERAGE(MR_CL),IF(F91=1,AVERAGE(MR_1),IF(F91=2,AVERAGE(MR_2),IF(F91=3,AVERAGE(MR_3),IF(F91=4,AVERAGE(MR_4),IF(F91=5,AVERAGE(MR_5))))))))","v":{"$error":"#N/A"}},0,{"$error":"#N/A"},null,{"$f":"IF(ISERROR($E91),0,IF($E91>$H91,MAX($Q$8:Q90)+1,0))","v":0},{"$f":"IF(ISERROR($E91),0,IF($E91<$I91,MAX($R$8:R90)+1,0))","v":0},null,0,0,null,0,0,null,0,0,null,0,0,0,0,0,0,0,null,{"$f":"IF(ISERROR($L91),0,IF($L91>$O91,MAX($AK$8:AK90)+1,0))","v":0},{"$error":"#N/A"},null,{"$error":"#N/A"},{"$error":"#N/A"},{"$f":"IF(C91<=$E$3,IF('Front sheet'!$O$3=\"\",NA(),'Front sheet'!$O$3),NA())","v":{"$error":"#N/A"}},{"$error":"#N/A"},{"$error":"#N/A"},{"$error":"#N/A"},{"$error":"#N/A"},{"$error":"#N/A"},{"$error":"#N/A"},{"$error":"#N/A"},{"$error":"#N/A"},{"$error":"#N/A"},{"$error":"#N/A"},{"$error":"#N/A"},{"$error":"#N/A"},{"$error":"#N/A"},{"$error":"#N/A"},{"$error":"#N/A"},{"$error":"#N/A"},{"$error":"#N/A"},{"$error":"#N/A"},"","",null,83,1,"",{"$error":"#N/A"},{"$error":"#N/A"},{"$error":"#N/A"},{"$error":"#N/A"},{"$error":"#N/A"},1,{"$error":"#N/A"},{"$error":"#N/A"},{"$error":"#N/A"},{"$error":"#N/A"},null,null,null,83,{"$error":"#N/A"},{"$error":"#N/A"},{"$error":"#N/A"},null,83,{"$error":"#N/A"},{"$error":"#N/A"},null,83,{"$error":"#N/A"},{"$error":"#N/A"},{"$error":"#N/A"},{"$error":"#N/A"},null,null,83,{"$error":"#N/A"},{"$error":"#N/A"},{"$error":"#N/A"},null,0,0,null,null,{"$error":"#N/A"},{"$error":"#N/A"},{"$error":"#N/A"},{"$error":"#N/A"}]
[null,0,84,{"$f":"IF('Front sheet'!$G37=\"\",\"\",'Front sheet'!$G37)","v":""},{"$f":"IF('Front sheet'!H37=\"\",#N/A,'Front sheet'!H37)","v":{"$error":"#N/A"}},"",{"$f":"IF(J92=\"\",NA(),IF('Front sheet'!$T$7<>0,AVERAGE(Tally_CL),IF(F92=1,AVERAGE(Tally),IF(F92=2,AVERAGE(Tally2),IF(F92=3,AVERAGE(Tally3),IF(F92=4,AVERAGE(Tally4),IF(F92=5,AVERAGE(Tally5))))))))","v":{"$error":"#N/A"}},{"$error":"#N/A"},{"$error":"#N/A"},"",{"$error":"#N/A"},{"$error":"#N/A"},{"$f":"IF(L92=\"\",NA(),IF('Front sheet'!$T$7<>0,AVERAGE(MR_CL),IF(F92=1,AVERAGE(MR_1),IF(F92=2,AVERAGE(MR_2),IF(F92=3,AVERAGE(MR_3),IF(F92=4,AVERAGE(MR_4),IF(F92=5,AVERAGE(MR_5))))))))","v":{"$error":"#N/A"}},0,{"$error":"#N/A"},null,{"$f":"IF(ISERROR($E92),0,IF($E92>$H92,MAX($Q$8:Q91)+1,0))","v":0},{"$f":"IF(ISERROR($E92),0,IF($E92<$I92,MAX($R$8:R91)+1,0))","v":0},null,0,0,null,0,0,null,0,0,null,0,0,0,0,0,0,0,null,{"$f":"IF(ISERROR($L92),0,IF($L92>$O92,MAX($AK$8:AK91)+1,0))","v":0},{"$error":"#N/A"},null,{"$error":"#N/A"},{"$error":"#N/A"},{"$f":"IF(C92<=$E$3,IF('Front sheet'!$O$3=\"\",NA(),'Front sheet'!$O$3),NA())","v":{"$error":"#N/A"}},{"$error":"#N/A"},{"$error":"#N/A"},{"$error":"#N/A"},{"$error":"#N/A"},{"$error":"#N/A"},{"$error":"#N/A"},{"$error":"#N/A"},{"$error":"#N/A"},{"$error":"#N/A"},{"$error":"#N/A"},{"$error":"#N/A"},{"$error":"#N/A"},{"$error":"#N/A"},{"$error":"#N/A"},{"$error":"#N/A"},{"$error":"#N/A"},{"$error":"#N/A"},{"$error":"#N/A"},"","",null,84,1,"",{"$error":"#N/A"},{"$error":"#N/A"},{"$error":"#N/A"},{"$error":"#N/A"},{"$error":"#N/A"},1,{"$error":"#N/A"},{"$error":"#N/A"},{"$error":"#N/A"},{"$error":"#N/A"},null,null,null,84,{"$error":"#N/A"},{"$error":"#N/A"},{"$error":"#N/A"},null,84,{"$error":"#N/A"},{"$error":"#N/A"},null,84,{"$error":"#N/A"},{"$error":"#N/A"},{"$error":"#N/A"},{"$error":"#N/A"},null,null,84,{"$error":"#N/A"},{"$error":"#N/A"},{"$error":"#N/A"},null,0,0,null,null,{"$error":"#N/A"},{"$error":"#N/A"},{"$error":"#N/A"},{"$error":"#N/A"}]
[null,0,85,{"$f":"'Front sheet'!I10","v":""},{"$f":"IF('Front sheet'!J10=\"\",#N/A,'Front sheet'!J10)","v":{"$error":"#N/A"}},"",{"$f":"IF(J93=\"\",NA(),IF('Front sheet'!$T$7<>0,AVERAGE(Tally_CL),IF(F93=1,AVERAGE(Tally),IF(F93=2,AVERAGE(Tally2),IF(F93=3,AVERAGE(Tally3),IF(F93=4,AVERAGE(Tally4),IF(F93=5,AVERAGE(Tally5))))))))","v":{"$error":"#N/A"}},{"$error":"#N/A"},{"$error":"#N/A"},"",{"$error":"#N/A"},{"$error":"#N/A"},{"$f":"IF(L93=\"\",NA(),IF('Front sheet'!$T$7<>0,AVERAGE(MR_CL),IF(F93=1,AVERAGE(MR_1),IF(F93=2,AVERAGE(MR_2),IF(F93=3,AVERAGE(MR_3),IF(F93=4,AVERAGE(MR_4),IF(F93=5,AVERAGE(MR_5))))))))","v":{"$error":"#N/A"}},0,{"$error":"#N/A"},null,{"$f":"IF(ISERROR($E93),0,IF($E93>$H93,MAX($Q$8:Q92)+1,0))","v":0},{"$f":"IF(ISERROR($E93),0,IF($E93<$I93,MAX($R$8:R92)+1,0))","v":0},null,0,0,null,0,0,null,0,0,null,0,0,0,0,0,0,0,null,{"$f":"IF(ISERROR($L93),0,IF($L93>$O93,MAX($AK$8:AK92)+1,0))","v":0},{"$error":"#N/A"},null,{"$error":"#N/A"},{"$error":"#N/A"},{"$f":"IF(C93<=$E$3,IF('Front sheet'!$O$3=\"\",NA(),'Front sheet'!$O$3),NA())","v":{"$error":"#N/A"}},{"$error":"#N/A"},{"$error":"#N/A"},{"$error":"#N/A"},{"$error":"#N/A"},{"$error":"#N/A"},{"$error":"#N/A"},{"$error":"#N/A"},{"$error":"#N/A"},{"$error":"#N/A"},{"$error":"#N/A"},{"$error":"#N/A"},{"$error":"#N/A"},{"$error":"#N/A"},{"$error":"#N/A"},{"$error":"#N/A"},{"$error":"#N/A"},{"$error":"#N/A"},{"$error":"#N/A"},"","",null,85,1,"",{"$error":"#N/A"},{"$error":"#N/A"},{"$error":"#N/A"},{"$error":"#N/A"},{"$error":"#N/A"},1,{"$error":"#N/A"},{"$error":"#N/A"},{"$error":"#N/A"},{"$error":"#N/A"},null,null,null,85,{"$error":"#N/A"},{"$error":"#N/A"},{"$error":"#N/A"},null,85,{"$error":"#N/A"},{"$error":"#N/A"},null,85,{"$error":"#N/A"},{"$error":"#N/A"},{"$error":"#N/A"},{"$error":"#N/A"},null,null,85,{"$error":"#N/A"},{"$error":"#N/A"},{"$error":"#N/A"},null,0,0,null,null,{"$error":"#N/A"},{"$error":"#N/A"},{"$error":"#N/A"},{"$error":"#N/A"}]
[null,0,86,{"$f":"IF('Front sheet'!I11=\"\",\"\",'Front sheet'!$I11)","v":""},{"$f":"IF('Front sheet'!J11=\"\",#N/A,'Front sheet'!J11)","v":{"$error":"#N/A"}},"",{"$f":"IF(J94=\"\",NA(),IF('Front sheet'!$T$7<>0,AVERAGE(Tally_CL),IF(F94=1,AVERAGE(Tally),IF(F94=2,AVERAGE(Tally2),IF(F94=3,AVERAGE(Tally3),IF(F94=4,AVERAGE(Tally4),IF(F94=5,AVERAGE(Tally5))))))))","v":{"$error":"#N/A"}},{"$error":"#N/A"},{"$error":"#N/A"},"",{"$error":"#N/A"},{"$error":"#N/A"},{"$f":"IF(L94=\"\",NA(),IF('Front sheet'!$T$7<>0,AVERAGE(MR_CL),IF(F94=1,AVERAGE(MR_1),IF(F94=2,AVERAGE(MR_2),IF(F94=3,AVERAGE(MR_3),IF(F94=4,AVERAGE(MR_4),IF(F94=5,AVERAGE(MR_5))))))))","v":{"$error":"#N/A"}},0,{"$error":"#N/A"},null,{"$f":"IF(ISERROR($E94),0,IF($E94>$H94,MAX($Q$8:Q93)+1,0))","v":0},{"$f":"IF(ISERROR($E94),0,IF($E94<$I94,MAX($R$8:R93)+1,0))","v":0},null,0,0,null,0,0,null,0,0,null,0,0,0,0,0,0,0,null,{"$f":"IF(ISERROR($L94),0,IF($L94>$O94,MAX($AK$8:AK93)+1,0))","v":0},{"$error":"#N/A"},null,{"$error":"#N/A"},{"$error":"#N/A"},{"$f":"IF(C94<=$E$3,IF('Front sheet'!$O$3=\"\",NA(),'Front sheet'!$O$3),NA())","v":{"$error":"#N/A"}},{"$error":"#N/A"},{"$error":"#N/A"},{"$error":"#N/A"},{"$error":"#N/A"},{"$error":"#N/A"},{"$error":"#N/A"},{"$error":"#N/A"},{"$error":"#N/A"},{"$error":"#N/A"},{"$error":"#N/A"},{"$error":"#N/A"},{"$error":"#N/A"},{"$error":"#N/A"},{"$error":"#N/A"},{"$error":"#N/A"},{"$error":"#N/A"},{"$error":"#N/A"},{"$error":"#N/A"},"","",null,86,1,"",{"$error":"#N/A"},{"$error":"#N/A"},{"$error":"#N/A"},{"$error":"#N/A"},{"$error":"#N/A"},1,{"$error":"#N/A"},{"$error":"#N/A"},{"$error":"#N/A"},{"$error":"#N/A"},null,null,null,86,{"$error":"#N/A"},{"$error":"#N/A"},{"$error":"#N/A"},null,86,{"$error":"#N/A"},{"$error":"#N/A"},null,86,{"$error":"#N/A"},{"$error":"#N/A"},{"$error":"#N/A"},{"$error":"#N/A"},null,null,86,{"$error":"#N/A"},{"$error":"#N/A"},{"$error":"#N/A"},null,0,0,null,null,{"$error":"#N/A"},{"$error":"#N/A"},{"$error":"#N/A"},{"$error":"#N/A"}]
[null,0,87,{"$f":"IF('Front sheet'!I12=\"\",\"\",'Front sheet'!$I12)","v":""},{"$f":"IF('Front sheet'!J12=\"\",#N/A,'Front sheet'!J12)","v":{"$error":"#N/A"}},"",{"$f":"IF(J95=\"\",NA(),IF('Front sheet'!$T$7<>0,AVERAGE(Tally_CL),IF(F95=1,AVERAGE(Tally),IF(F95=2,AVERAGE(Tally2),IF(F95=3,AVERAGE(Tally3),IF(F95=4,AVERAGE(Tally4),IF(F95=5,AVERAGE(Tally5))))))))","v":{"$error":"#N/A"}},{"$error":"#N/A"},{"$error":"#N/A"},"",{"$error":"#N/A"},{"$error":"#N/A"},{"$f":"IF(L95=\"\",NA(),IF('Front sheet'!$T$7<>0,AVERAGE(MR_CL),IF(F95=1,AVERAGE(MR_1),IF(F95=2,AVERAGE(MR_2),IF(F95=3,AVERAGE(MR_3),IF(F95=4,AVERAGE(MR_4),IF(F95=5,AVERAGE(MR_5))))))))","v":{"$error":"#N/A"}},0,{"$error":"#N/A"},null,{"$f":"IF(ISERROR($E95),0,IF($E95>$H95,MAX($Q$8:Q94)+1,0))","v":0},{"$f":"IF(ISERROR($E95),0,IF($E95<$I95,MAX($R$8:R94)+1,0))","v":0},null,0,0,null,0,0,null,0,0,null,0,0,0,0,0,0,0,null,{"$f":"IF(ISERROR($L95),0,IF($L95>$O95,MAX($AK$8:AK94)+1,0))","v":0},{"$error":"#N/A"},null,{"$error":"#N/A"},{"$error":"#N/A"},{"$f":"IF(C95<=$E$3,IF('Front sheet'!$O$3=\"\",NA(),'Front sheet'!$O$3),NA())","v":{"$error":"#N/A"}},{"$error":"#N/A"},{"$error":"#N/A"},{"$error":"#N/A"},{"$error":"#N/A"},{"$error":"#N/A"},{"$error":"#N/A"},{"$error":"#N/A"},{"$error":"#N/A"},{"$error":"#N/A"},{"$error":"#N/A"},{"$error":"#N/A"},{"$error":"#N/A"},{"$error":"#N/A"},{"$error":"#N/A"},{"$error":"#N/A"},{"$error":"#N/A"},{"$error":"#N/A"},{"$error":"#N/A"},"","",null,87,1,"",{"$error":"#N/A"},{"$error":"#N/A"},{"$error":"#N/A"},{"$error":"#N/A"},{"$error":"#N/A"},1,{"$error":"#N/A"},{"$error":"#N/A"},{"$error":"#N/A"},{"$error":"#N/A"},null,null,null,87,{"$error":"#N/A"},{"$error":"#N/A"},{"$error":"#N/A"},null,87,{"$error":"#N/A"},{"$error":"#N/A"},null,87,{"$error":"#N/A"},{"$error":"#N/A"},{"$error":"#N/A"},{"$error":"#N/A"},null,null,87,{"$error":"#N/A"},{"$error":"#N/A"},{"$error":"#N/A"},null,0,0,null,null,{"$error":"#N/A"},{"$error":"#N/A"},{"$error":"#N/A"},{"$error":"#N/A"}]
[null,0,88,{"$f":"IF('Front sheet'!I13=\"\",\"\",'Front sheet'!$I13)","v":""},{"$f":"IF('Front sheet'!J13=\"\",#N/A,'Front sheet'!J13)","v":{"$error":"#N/A"}},"",{"$f":"IF(J96=\"\",NA(),IF('Front sheet'!$T$7<>0,AVERAGE(Tally_CL),IF(F96=1,AVERAGE(Tally),IF(F96=2,AVERAGE(Tally2),IF(F96=3,AVERAGE(Tally3),IF(F96=4,AVERAGE(Tally4),IF(F96=5,AVERAGE(Tally5))))))))","v":{"$error":"#N/A"}},{"$error":"#N/A"},{"$error":"#N/A"},"",{"$error":"#N/A"},{"$error":"#N/A"},{"$f":"IF(L96=\"\",NA(),IF('Front sheet'!$T$7<>0,AVERAGE(MR_CL),IF(F96=1,AVERAGE(MR_1),IF(F96=2,AVERAGE(MR_2),IF(F96=3,AVERAGE(MR_3),IF(F96=4,AVERAGE(MR_4),IF(F96=5,AVERAGE(MR_5))))))))","v":{"$error":"#N/A"}},0,{"$error":"#N/A"},null,{"$f":"IF(ISERROR($E96),0,IF($E96>$H96,MAX($Q$8:Q95)+1,0))","v":0},{"$f":"IF(ISERROR($E96),0,IF($E96<$I96,MAX($R$8:R95)+1,0))","v":0},null,0,0,null,0,0,null,0,0,null,0,0,0,0,0,0,0,null,{"$f":"IF(ISERROR($L96),0,IF($L96>$O96,MAX($AK$8:AK95)+1,0))","v":0},{"$error":"#N/A"},null,{"$error":"#N/A"},{"$error":"#N/A"},{"$f":"IF(C96<=$E$3,IF('Front sheet'!$O$3=\"\",NA(),'Front sheet'!$O$3),NA())","v":{"$error":"#N/A"}},{"$error":"#N/A"},{"$error":"#N/A"},{"$error":"#N/A"},{"$error":"#N/A"},{"$error":"#N/A"},{"$error":"#N/A"},{"$error":"#N/A"},{"$error":"#N/A"},{"$error":"#N/A"},{"$error":"#N/A"},{"$error":"#N/A"},{"$error":"#N/A"},{"$error":"#N/A"},{"$error":"#N/A"},{"$error":"#N/A"},{"$error":"#N/A"},{"$error":"#N/A"},{"$error":"#N/A"},"","",null,88,1,"",{"$error":"#N/A"},{"$error":"#N/A"},{"$error":"#N/A"},{"$error":"#N/A"},{"$error":"#N/A"},1,{"$error":"#N/A"},{"$error":"#N/A"},{"$error":"#N/A"},{"$error":"#N/A"},null,null,null,88,{"$error":"#N/A"},{"$error":"#N/A"},{"$error":"#N/A"},null,88,{"$error":"#N/A"},{"$error":"#N/A"},null,88,{"$error":"#N/A"},{"$error":"#N/A"},{"$error":"#N/A"},{"$error":"#N/A"},null,null,88,{"$error":"#N/A"},{"$error":"#N/A"},{"$error":"#N/A"},null,0,0,null,null,{"$error":"#N/A"},{"$error":"#N/A"},{"$error":"#N/A"},{"$error":"#N/A"}]
[null,0,89,{"$f":"IF('Front sheet'!I14=\"\",\"\",'Front sheet'!$I14)","v":""},{"$f":"IF('Front sheet'!J14=\"\",#N/A,'Front sheet'!J14)","v":{"$error":"#N/A"}},"",{"$f":"IF(J97=\"\",NA(),IF('Front sheet'!$T$7<>0,AVERAGE(Tally_CL),IF(F97=1,AVERAGE(Tally),IF(F97=2,AVERAGE(Tally2),IF(F97=3,AVERAGE(Tally3),IF(F97=4,AVERAGE(Tally4),IF(F97=5,AVERAGE(Tally5))))))))","v":{"$error":"#N/A"}},{"$error":"#N/A"},{"$error":"#N/A"},"",{"$error":"#N/A"},{"$error":"#N/A"},{"$f":"IF(L97=\"\",NA(),IF('Front sheet'!$T$7<>0,AVERAGE(MR_CL),IF(F97=1,AVERAGE(MR_1),IF(F97=2,AVERAGE(MR_2),IF(F97=3,AVERAGE(MR_3),IF(F97=4,AVERAGE(MR_4),IF(F97=5,AVERAGE(MR_5))))))))","v":{"$error":"#N/A"}},0,{"$error":"#N/A"},null,{"$f":"IF(ISERROR($E97),0,IF($E97>$H97,MAX($Q$8:Q96)+1,0))","v":0},{"$f":"IF(ISERROR($E97),0,IF($E97<$I97,MAX($R$8:R96)+1,0))","v":0},null,0,0,null,0,0,null,0,0,null,0,0,0,0,0,0,0,null,{"$f":"IF(ISERROR($L97),0,IF($L97>$O97,MAX($AK$8:AK96)+1,0))","v":0},{"$error":"#N/A"},null,{"$error":"#N/A"},{"$error":"#N/A"},{"$f":"IF(C97<=$E$3,IF('Front sheet'!$O$3=\"\",NA(),'Front sheet'!$O$3),NA())","v":{"$error":"#N/A"}},{"$error":"#N/A"},{"$error":"#N/A"},{"$error":"#N/A"},{"$error":"#N/A"},{"$error":"#N/A"},{"$error":"#N/A"},{"$error":"#N/A"},{"$error":"#N/A"},{"$error":"#N/A"},{"$error":"#N/A"},{"$error":"#N/A"},{"$error":"#N/A"},{"$error":"#N/A"},{"$error":"#N/A"},{"$error":"#N/A"},{"$error":"#N/A"},{"$error":"#N/A"},{"$error":"#N/A"},"","",null,89,1,"",{"$error":"#N/A"},{"$error":"#N/A"},{"$error":"#N/A"},{"$error":"#N/A"},{"$error":"#N/A"},1,{"$error":"#N/A"},{"$error":"#N/A"},{"$error":"#N/A"},{"$error":"#N/A"},null,null,null,89,{"$error":"#N/A"},{"$error":"#N/A"},{"$error":"#N/A"},null,89,{"$error":"#N/A"},{"$error":"#N/A"},null,89,{"$error":"#N/A"},{"$error":"#N/A"},{"$error":"#N/A"},{"$error":"#N/A"},null,null,89,{"$error":"#N/A"},{"$error":"#N/A"},{"$error":"#N/A"},null,0,0,null,null,{"$error":"#N/A"},{"$error":"#N/A"},{"$error":"#N/A"},{"$error":"#N/A"}]
[null,0,90,{"$f":"IF('Front sheet'!I15=\"\",\"\",'Front sheet'!$I15)","v":""},{"$f":"IF('Front sheet'!J15=\"\",#N/A,'Front sheet'!J15)","v":{"$error":"#N/A"}},"",{"$f":"IF(J98=\"\",NA(),IF('Front sheet'!$T$7<>0,AVERAGE(Tally_CL),IF(F98=1,AVERAGE(Tally),IF(F98=2,AVERAGE(Tally2),IF(F98=3,AVERAGE(Tally3),IF(F98=4,AVERAGE(Tally4),IF(F98=5,AVERAGE(Tally5))))))))","v":{"$error":"#N/A"}},{"$error":"#N/A"},{"$error":"#N/A"},"",{"$error":"#N/A"},{"$error":"#N/A"},{"$f":"IF(L98=\"\",NA(),IF('Front sheet'!$T$7<>0,AVERAGE(MR_CL),IF(F98=1,AVERAGE(MR_1),IF(F98=2,AVERAGE(MR_2),IF(F98=3,AVERAGE(MR_3),IF(F98=4,AVERAGE(MR_4),IF(F98=5,AVERAGE(MR_5))))))))","v":{"$error":"#N/A"}},0,{"$error":"#N/A"},null,{"$f":"IF(ISERROR($E98),0,IF($E98>$H98,MAX($Q$8:Q97)+1,0))","v":0},{"$f":"IF(ISERROR($E98),0,IF($E98<$I98,MAX($R$8:R97)+1,0))","v":0},null,0,0,null,0,0,null,0,0,null,0,0,0,0,0,0,0,null,{"$f":"IF(ISERROR($L98),0,IF($L98>$O98,MAX($AK$8:AK97)+1,0))","v":0},{"$error":"#N/A"},null,{"$error":"#N/A"},{"$error":"#N/A"},{"$f":"IF(C98<=$E$3,IF('Front sheet'!$O$3=\"\",NA(),'Front sheet'!$O$3),NA())","v":{"$error":"#N/A"}},{"$error":"#N/A"},{"$error":"#N/A"},{"$error":"#N/A"},{"$error":"#N/A"},{"$error":"#N/A"},{"$error":"#N/A"},{"$error":"#N/A"},{"$error":"#N/A"},{"$error":"#N/A"},{"$error":"#N/A"},{"$error":"#N/A"},{"$error":"#N/A"},{"$error":"#N/A"},{"$error":"#N/A"},{"$error":"#N/A"},{"$error":"#N/A"},{"$error":"#N/A"},{"$error":"#N/A"},"","",null,90,1,"",{"$error":"#N/A"},{"$error":"#N/A"},{"$error":"#N/A"},{"$error":"#N/A"},{"$error":"#N/A"},1,{"$error":"#N/A"},{"$error":"#N/A"},{"$error":"#N/A"},{"$error":"#N/A"},null,null,null,90,{"$error":"#N/A"},{"$error":"#N/A"},{"$error":"#N/A"},null,90,{"$error":"#N/A"},{"$error":"#N/A"},null,90,{"$error":"#N/A"},{"$error":"#N/A"},{"$error":"#N/A"},{"$error":"#N/A"},null,null,90,{"$error":"#N/A"},{"$error":"#N/A"},{"$error":"#N/A"},null,0,0,null,null,{"$error":"#N/A"},{"$error":"#N/A"},{"$error":"#N/A"},{"$error":"#N/A"}]
[null,0,91,{"$f":"IF('Front sheet'!I16=\"\",\"\",'Front sheet'!$I16)","v":""},{"$f":"IF('Front sheet'!J16=\"\",#N/A,'Front sheet'!J16)","v":{"$error":"#N/A"}},"",{"$f":"IF(J99=\"\",NA(),IF('Front sheet'!$T$7<>0,AVERAGE(Tally_CL),IF(F99=1,AVERAGE(Tally),IF(F99=2,AVERAGE(Tally2),IF(F99=3,AVERAGE(Tally3),IF(F99=4,AVERAGE(Tally4),IF(F99=5,AVERAGE(Tally5))))))))","v":{"$error":"#N/A"}},{"$error":"#N/A"},{"$error":"#N/A"},"",{"$error":"#N/A"},{"$error":"#N/A"},{"$f":"IF(L99=\"\",NA(),IF('Front sheet'!$T$7<>0,AVERAGE(MR_CL),IF(F99=1,AVERAGE(MR_1),IF(F99=2,AVERAGE(MR_2),IF(F99=3,AVERAGE(MR_3),IF(F99=4,AVERAGE(MR_4),IF(F99=5,AVERAGE(MR_5))))))))","v":{"$error":"#N/A"}},0,{"$error":"#N/A"},null,{"$f":"IF(ISERROR($E99),0,IF($E99>$H99,MAX($Q$8:Q98)+1,0))","v":0},{"$f":"IF(ISERROR($E99),0,IF($E99<$I99,MAX($R$8:R98)+1,0))","v":0},null,0,0,null,0,0,null,0,0,null,0,0,0,0,0,0,0,null,{"$f":"IF(ISERROR($L99),0,IF($L99>$O99,MAX($AK$8:AK98)+1,0))","v":0},{"$error":"#N/A"},null,{"$error":"#N/A"},{"$error":"#N/A"},{"$f":"IF(C99<=$E$3,IF('Front sheet'!$O$3=\"\",NA(),'Front sheet'!$O$3),NA())","v":{"$error":"#N/A"}},{"$error":"#N/A"},{"$error":"#N/A"},{"$error":"#N/A"},{"$error":"#N/A"},{"$error":"#N/A"},{"$error":"#N/A"},{"$error":"#N/A"},{"$error":"#N/A"},{"$error":"#N/A"},{"$error":"#N/A"},{"$error":"#N/A"},{"$error":"#N/A"},{"$error":"#N/A"},{"$error":"#N/A"},{"$error":"#N/A"},{"$error":"#N/A"},{"$error":"#N/A"},{"$error":"#N/A"},"","",null,91,1,"",{"$error":"#N/A"},{"$error":"#N/A"},{"$error":"#N/A"},{"$error":"#N/A"},{"$error":"#N/A"},1,{"$error":"#N/A"},{"$error":"#N/A"},{"$error":"#N/A"},{"$error":"#N/A"},null,null,null,91,{"$error":"#N/A"},{"$error":"#N/A"},{"$error":"#N/A"},null,91,{"$error":"#N/A"},{"$error":"#N/A"},null,91,{"$error":"#N/A"},{"$error":"#N/A"},{"$error":"#N/A"},{"$error":"#N/A"},null,null,91,{"$error":"#N/A"},{"$error":"#N/A"},{"$error":"#N/A"},null,0,0,null,null,{"$error":"#N/A"},{"$error":"#N/A"},{"$error":"#N/A"},{"$error":"#N/A"}]
[null,0,92,{"$f":"IF('Front sheet'!I17=\"\",\"\",'Front sheet'!$I17)","v":""},{"$f":"IF('Front sheet'!J17=\"\",#N/A,'Front sheet'!J17)","v":{"$error":"#N/A"}},"",{"$f":"IF(J100=\"\",NA(),IF('Front sheet'!$T$7<>0,AVERAGE(Tally_CL),IF(F100=1,AVERAGE(Tally),IF(F100=2,AVERAGE(Tally2),IF(F100=3,AVERAGE(Tally3),IF(F100=4,AVERAGE(Tally4),IF(F100=5,AVERAGE(Tally5))))))))","v":{"$error":"#N/A"}},{"$error":"#N/A"},{"$error":"#N/A"},"",{"$error":"#N/A"},{"$error":"#N/A"},{"$f":"IF(L100=\"\",NA(),IF('Front sheet'!$T$7<>0,AVERAGE(MR_CL),IF(F100=1,AVERAGE(MR_1),IF(F100=2,AVERAGE(MR_2),IF(F100=3,AVERAGE(MR_3),IF(F100=4,AVERAGE(MR_4),IF(F100=5,AVERAGE(MR_5))))))))","v":{"$error":"#N/A"}},0,{"$error":"#N/A"},null,{"$f":"IF(ISERROR($E100),0,IF($E100>$H100,MAX($Q$8:Q99)+1,0))","v":0},{"$f":"IF(ISERROR($E100),0,IF($E100<$I100,MAX($R$8:R99)+1,0))","v":0},null,0,0,null,0,0,null,0,0,null,0,0,0,0,0,0,0,null,{"$f":"IF(ISERROR($L100),0,IF($L100>$O100,MAX($AK$8:AK99)+1,0))","v":0},{"$error":"#N/A"},null,{"$error":"#N/A"},{"$error":"#N/A"},{"$f":"IF(C100<=$E$3,IF('Front sheet'!$O$3=\"\",NA(),'Front sheet'!$O$3),NA())","v":{"$error":"#N/A"}},{"$error":"#N/A"},{"$error":"#N/A"},{"$error":"#N/A"},{"$error":"#N/A"},{"$error":"#N/A"},{"$error":"#N/A"},{"$error":"#N/A"},{"$error":"#N/A"},{"$error":"#N/A"},{"$error":"#N/A"},{"$error":"#N/A"},{"$error":"#N/A"},{"$error":"#N/A"},{"$error":"#N/A"},{"$error":"#N/A"},{"$error":"#N/A"},{"$error":"#N/A"},{"$error":"#N/A"},"","",null,92,1,"",{"$error":"#N/A"},{"$error":"#N/A"},{"$error":"#N/A"},{"$error":"#N/A"},{"$error":"#N/A"},1,{"$error":"#N/A"},{"$error":"#N/A"},{"$error":"#N/A"},{"$error":"#N/A"},null,null,null,92,{"$error":"#N/A"},{"$error":"#N/A"},{"$error":"#N/A"},null,92,{"$error":"#N/A"},{"$error":"#N/A"},null,92,{"$error":"#N/A"},{"$error":"#N/A"},{"$error":"#N/A"},{"$error":"#N/A"},null,null,92,{"$error":"#N/A"},{"$error":"#N/A"},{"$error":"#N/A"},null,0,0,null,null,{"$error":"#N/A"},{"$error":"#N/A"},{"$error":"#N/A"},{"$error":"#N/A"}]
[null,0,93,{"$f":"IF('Front sheet'!I18=\"\",\"\",'Front sheet'!$I18)","v":""},{"$f":"IF('Front sheet'!J18=\"\",#N/A,'Front sheet'!J18)","v":{"$error":"#N/A"}},"",{"$f":"IF(J101=\"\",NA(),IF('Front sheet'!$T$7<>0,AVERAGE(Tally_CL),IF(F101=1,AVERAGE(Tally),IF(F101=2,AVERAGE(Tally2),IF(F101=3,AVERAGE(Tally3),IF(F101=4,AVERAGE(Tally4),IF(F101=5,AVERAGE(Tally5))))))))","v":{"$error":"#N/A"}},{"$error":"#N/A"},{"$error":"#N/A"},"",{"$error":"#N/A"},{"$error":"#N/A"},{"$f":"IF(L101=\"\",NA(),IF('Front sheet'!$T$7<>0,AVERAGE(MR_CL),IF(F101=1,AVERAGE(MR_1),IF(F101=2,AVERAGE(MR_2),IF(F101=3,AVERAGE(MR_3),IF(F101=4,AVERAGE(MR_4),IF(F101=5,AVERAGE(MR_5))))))))","v":{"$error":"#N/A"}},0,{"$error":"#N/A"},null,{"$f":"IF(ISERROR($E101),0,IF($E101>$H101,MAX($Q$8:Q100)+1,0))","v":0},{"$f":"IF(ISERROR($E101),0,IF($E101<$I101,MAX($R$8:R100)+1,0))","v":0},null,0,0,null,0,0,null,0,0,null,0,0,0,0,0,0,0,null,{"$f":"IF(ISERROR($L101),0,IF($L101>$O101,MAX($AK$8:AK100)+1,0))","v":0},{"$error":"#N/A"},null,{"$error":"#N/A"},{"$error":"#N/A"},{"$f":"IF(C101<=$E$3,IF('Front sheet'!$O$3=\"\",NA(),'Front sheet'!$O$3),NA())","v":{"$error":"#N/A"}},{"$error":"#N/A"},{"$error":"#N/A"},{"$error":"#N/A"},{"$error":"#N/A"},{"$error":"#N/A"},{"$error":"#N/A"},{"$error":"#N/A"},{"$error":"#N/A"},{"$error":"#N/A"},{"$error":"#N/A"},{"$error":"#N/A"},{"$error":"#N/A"},{"$error":"#N/A"},{"$error":"#N/A"},{"$error":"#N/A"},{"$error":"#N/A"},{"$error":"#N/A"},{"$error":"#N/A"},"","",null,93,1,"",{"$error":"#N/A"},{"$error":"#N/A"},{"$error":"#N/A"},{"$error":"#N/A"},{"$error":"#N/A"},1,{"$error":"#N/A"},{"$error":"#N/A"},{"$error":"#N/A"},{"$error":"#N/A"},null,null,null,93,{"$error":"#N/A"},{"$error":"#N/A"},{"$error":"#N/A"},null,93,{"$error":"#N/A"},{"$error":"#N/A"},null,93,{"$error":"#N/A"},{"$error":"#N/A"},{"$error":"#N/A"},{"$error":"#N/A"},null,null,93,{"$error":"#N/A"},{"$error":"#N/A"},{"$error":"#N/A"},null,0,0,null,null,{"$error":"#N/A"},{"$error":"#N/A"},{"$error":"#N/A"},{"$error":"#N/A"}]
[null,0,94,{"$f":"IF('Front sheet'!I19=\"\",\"\",'Front sheet'!$I19)","v":""},{"$f":"IF('Front sheet'!J19=\"\",#N/A,'Front sheet'!J19)","v":{"$error":"#N/A"}},"",{"$f":"IF(J102=\"\",NA(),IF('Front sheet'!$T$7<>0,AVERAGE(Tally_CL),IF(F102=1,AVERAGE(Tally),IF(F102=2,AVERAGE(Tally2),IF(F102=3,AVERAGE(Tally3),IF(F102=4,AVERAGE(Tally4),IF(F102=5,AVERAGE(Tally5))))))))","v":{"$error":"#N/A"}},{"$error":"#N/A"},{"$error":"#N/A"},"",{"$error":"#N/A"},{"$error":"#N/A"},{"$f":"IF(L102=\"\",NA(),IF('Front sheet'!$T$7<>0,AVERAGE(MR_CL),IF(F102=1,AVERAGE(MR_1),IF(F102=2,AVERAGE(MR_2),IF(F102=3,AVERAGE(MR_3),IF(F102=4,AVERAGE(MR_4),IF(F102=5,AVERAGE(MR_5))))))))","v":{"$error":"#N/A"}},0,{"$error":"#N/A"},null,{"$f":"IF(ISERROR($E102),0,IF($E102>$H102,MAX($Q$8:Q101)+1,0))","v":0},{"$f":"IF(ISERROR($E102),0,IF($E102<$I102,MAX($R$8:R101)+1,0))","v":0},null,0,0,null,0,0,null,0,0,null,0,0,0,0,0,0,0,null,{"$f":"IF(ISERROR($L102),0,IF($L102>$O102,MAX($AK$8:AK101)+1,0))","v":0},{"$error":"#N/A"},null,{"$error":"#N/A"},{"$error":"#N/A"},{"$f":"IF(C102<=$E$3,IF('Front sheet'!$O$3=\"\",NA(),'Front sheet'!$O$3),NA())","v":{"$error":"#N/A"}},{"$error":"#N/A"},{"$error":"#N/A"},{"$error":"#N/A"},{"$error":"#N/A"},{"$error":"#N/A"},{"$error":"#N/A"},{"$error":"#N/A"},{"$error":"#N/A"},{"$error":"#N/A"},{"$error":"#N/A"},{"$error":"#N/A"},{"$error":"#N/A"},{"$error":"#N/A"},{"$error":"#N/A"},{"$error":"#N/A"},{"$error":"#N/A"},{"$error":"#N/A"},{"$error":"#N/A"},"","",null,94,1,"",{"$error":"#N/A"},{"$error":"#N/A"},{"$error":"#N/A"},{"$error":"#N/A"},{"$error":"#N/A"},1,{"$error":"#N/A"},{"$error":"#N/A"},{"$error":"#N/A"},{"$error":"#N/A"},null,null,null,94,{"$error":"#N/A"},{"$error":"#N/A"},{"$error":"#N/A"},null,94,{"$error":"#N/A"},{"$error":"#N/A"},null,94,{"$error":"#N/A"},{"$error":"#N/A"},{"$error":"#N/A"},{"$error":"#N/A"},null,null,94,{"$error":"#N/A"},{"$error":"#N/A"},{"$error":"#N/A"},null,0,0,null,null,{"$error":"#N/A"},{"$error":"#N/A"},{"$error":"#N/A"},{"$error":"#N/A"}]
[null,0,95,{"$f":"IF('Front sheet'!I20=\"\",\"\",'Front sheet'!$I20)","v":""},{"$f":"IF('Front sheet'!J20=\"\",#N/A,'Front sheet'!J20)","v":{"$error":"#N/A"}},"",{"$f":"IF(J103=\"\",NA(),IF('Front sheet'!$T$7<>0,AVERAGE(Tally_CL),IF(F103=1,AVERAGE(Tally),IF(F103=2,AVERAGE(Tally2),IF(F103=3,AVERAGE(Tally3),IF(F103=4,AVERAGE(Tally4),IF(F103=5,AVERAGE(Tally5))))))))","v":{"$error":"#N/A"}},{"$error":"#N/A"},{"$error":"#N/A"},"",{"$error":"#N/A"},{"$error":"#N/A"},{"$f":"IF(L103=\"\",NA(),IF('Front sheet'!$T$7<>0,AVERAGE(MR_CL),IF(F103=1,AVERAGE(MR_1),IF(F103=2,AVERAGE(MR_2),IF(F103=3,AVERAGE(MR_3),IF(F103=4,AVERAGE(MR_4),IF(F103=5,AVERAGE(MR_5))))))))","v":{"$error":"#N/A"}},0,{"$error":"#N/A"},null,{"$f":"IF(ISERROR($E103),0,IF($E103>$H103,MAX($Q$8:Q102)+1,0))","v":0},{"$f":"IF(ISERROR($E103),0,IF($E103<$I103,MAX($R$8:R102)+1,0))","v":0},null,0,0,null,0,0,null,0,0,null,0,0,0,0,0,0,0,null,{"$f":"IF(ISERROR($L103),0,IF($L103>$O103,MAX($AK$8:AK102)+1,0))","v":0},{"$error":"#N/A"},null,{"$error":"#N/A"},{"$error":"#N/A"},{"$f":"IF(C103<=$E$3,IF('Front sheet'!$O$3=\"\",NA(),'Front sheet'!$O$3),NA())","v":{"$error":"#N/A"}},{"$error":"#N/A"},{"$error":"#N/A"},{"$error":"#N/A"},{"$error":"#N/A"},{"$error":"#N/A"},{"$error":"#N/A"},{"$error":"#N/A"},{"$error":"#N/A"},{"$error":"#N/A"},{"$error":"#N/A"},{"$error":"#N/A"},{"$error":"#N/A"},{"$error":"#N/A"},{"$error":"#N/A"},{"$error":"#N/A"},{"$error":"#N/A"},{"$error":"#N/A"},{"$error":"#N/A"},"","",null,95,1,"",{"$error":"#N/A"},{"$error":"#N/A"},{"$error":"#N/A"},{"$error":"#N/A"},{"$error":"#N/A"},1,{"$error":"#N/A"},{"$error":"#N/A"},{"$error":"#N/A"},{"$error":"#N/A"},null,null,null,95,{"$error":"#N/A"},{"$error":"#N/A"},{"$error":"#N/A"},null,95,{"$error":"#N/A"},{"$error":"#N/A"},null,95,{"$error":"#N/A"},{"$error":"#N/A"},{"$error":"#N/A"},{"$error":"#N/A"},null,null,95,{"$error":"#N/A"},{"$error":"#N/A"},{"$error":"#N/A"},null,0,0,null,null,{"$error":"#N/A"},{"$error":"#N/A"},{"$error":"#N/A"},{"$error":"#N/A"}]
[null,0,96,{"$f":"IF('Front sheet'!I21=\"\",\"\",'Front sheet'!$I21)","v":""},{"$f":"IF('Front sheet'!J21=\"\",#N/A,'Front sheet'!J21)","v":{"$error":"#N/A"}},"",{"$f":"IF(J104=\"\",NA(),IF('Front sheet'!$T$7<>0,AVERAGE(Tally_CL),IF(F104=1,AVERAGE(Tally),IF(F104=2,AVERAGE(Tally2),IF(F104=3,AVERAGE(Tally3),IF(F104=4,AVERAGE(Tally4),IF(F104=5,AVERAGE(Tally5))))))))","v":{"$error":"#N/A"}},{"$error":"#N/A"},{"$error":"#N/A"},"",{"$error":"#N/A"},{"$error":"#N/A"},{"$f":"IF(L104=\"\",NA(),IF('Front sheet'!$T$7<>0,AVERAGE(MR_CL),IF(F104=1,AVERAGE(MR_1),IF(F104=2,AVERAGE(MR_2),IF(F104=3,AVERAGE(MR_3),IF(F104=4,AVERAGE(MR_4),IF(F104=5,AVERAGE(MR_5))))))))","v":{"$error":"#N/A"}},0,{"$error":"#N/A"},null,{"$f":"IF(ISERROR($E104),0,IF($E104>$H104,MAX($Q$8:Q103)+1,0))","v":0},{"$f":"IF(ISERROR($E104),0,IF($E104<$I104,MAX($R$8:R103)+1,0))","v":0},null,0,0,null,0,0,null,0,0,null,0,0,0,0,0,0,0,null,{"$f":"IF(ISERROR($L104),0,IF($L104>$O104,MAX($AK$8:AK103)+1,0))","v":0},{"$error":"#N/A"},null,{"$error":"#N/A"},{"$error":"#N/A"},{"$f":"IF(C104<=$E$3,IF('Front sheet'!$O$3=\"\",NA(),'Front sheet'!$O$3),NA())","v":{"$error":"#N/A"}},{"$error":"#N/A"},{"$error":"#N/A"},{"$error":"#N/A"},{"$error":"#N/A"},{"$error":"#N/A"},{"$error":"#N/A"},{"$error":"#N/A"},{"$error":"#N/A"},{"$error":"#N/A"},{"$error":"#N/A"},{"$error":"#N/A"},{"$error":"#N/A"},{"$error":"#N/A"},{"$error":"#N/A"},{"$error":"#N/A"},{"$error":"#N/A"},{"$error":"#N/A"},{"$error":"#N/A"},"","",null,96,1,"",{"$error":"#N/A"},{"$error":"#N/A"},{"$error":"#N/A"},{"$error":"#N/A"},{"$error":"#N/A"},1,{"$error":"#N/A"},{"$error":"#N/A"},{"$error":"#N/A"},{"$error":"#N/A"},null,null,null,96,{"$error":"#N/A"},{"$error":"#N/A"},{"$error":"#N/A"},null,96,{"$error":"#N/A"},{"$error":"#N/A"},null,96,{"$error":"#N/A"},{"$error":"#N/A"},{"$error":"#N/A"},{"$error":"#N/A"},null,null,96,{"$error":"#N/A"},{"$error":"#N/A"},{"$error":"#N/A"},null,0,0,null,null,{"$error":"#N/A"},{"$error":"#N/A"},{"$error":"#N/A"},{"$error":"#N/A"}]
[null,0,97,{"$f":"IF('Front sheet'!I22=\"\",\"\",'Front sheet'!$I22)","v":""},{"$f":"IF('Front sheet'!J22=\"\",#N/A,'Front sheet'!J22)","v":{"$error":"#N/A"}},"",{"$f":"IF(J105=\"\",NA(),IF('Front sheet'!$T$7<>0,AVERAGE(Tally_CL),IF(F105=1,AVERAGE(Tally),IF(F105=2,AVERAGE(Tally2),IF(F105=3,AVERAGE(Tally3),IF(F105=4,AVERAGE(Tally4),IF(F105=5,AVERAGE(Tally5))))))))","v":{"$error":"#N/A"}},{"$error":"#N/A"},{"$error":"#N/A"},"",{"$error":"#N/A"},{"$error":"#N/A"},{"$f":"IF(L105=\"\",NA(),IF('Front sheet'!$T$7<>0,AVERAGE(MR_CL),IF(F105=1,AVERAGE(MR_1),IF(F105=2,AVERAGE(MR_2),IF(F105=3,AVERAGE(MR_3),IF(F105=4,AVERAGE(MR_4),IF(F105=5,AVERAGE(MR_5))))))))","v":{"$error":"#N/A"}},{"$f":"IF(ISERROR((M105*2.66)),N106,(M105*2.66))","v":0},{"$error":"#N/A"},null,{"$f":"IF(ISERROR($E105),0,IF($E105>$H105,MAX($Q$8:Q104)+1,0))","v":0},{"$f":"IF(ISERROR($E105),0,IF($E105<$I105,MAX($R$8:R104)+1,0))","v":0},null,0,0,null,0,0,null,0,0,null,0,0,0,0,0,0,0,null,{"$f":"IF(ISERROR($L105),0,IF($L105>$O105,MAX($AK$8:AK104)+1,0))","v":0},{"$f":"IF(L105>O105,L105,#N/A)","v":{"$error":"#N/A"}},null,{"$error":"#N/A"},{"$error":"#N/A"},{"$f":"IF(C105<=$E$3,IF('Front sheet'!$O$3=\"\",NA(),'Front sheet'!$O$3),NA())","v":{"$error":"#N/A"}},{"$error":"#N/A"},{"$error":"#N/A"},{"$error":"#N/A"},{"$error":"#N/A"},{"$error":"#N/A"},{"$error":"#N/A"},{"$error":"#N/A"},{"$error":"#N/A"},{"$error":"#N/A"},{"$error":"#N/A"},{"$error":"#N/A"},{"$error":"#N/A"},{"$error":"#N/A"},{"$error":"#N/A"},{"$error":"#N/A"},{"$error":"#N/A"},{"$error":"#N/A"},{"$error":"#N/A"},"","",null,97,1,{"$f":"D105","v":""},{"$f":"IF($BO$6=0,#N/A,IF(BM105=BO$7,$E105-$BN$2,#N/A))","v":{"$error":"#N/A"}},{"$f":"IF($BP$6=0,#N/A,IF($BM105=BP$7,$E105-$BN$2,#N/A))","v":{"$error":"#N/A"}},{"$f":"IF($BQ$6=0,#N/A,IF($BM105=BQ$7,$E105-$BN$2,#N/A))","v":{"$error":"#N/A"}},{"$f":"IF($BR$6=0,#N/A,IF($BM105=BR$7,$E105-$BN$2,#N/A))","v":{"$error":"#N/A"}},{"$f":"IF($BS$6=0,#N/A,IF($BM105=BS$7,$E105-$BN$2,#N/A))","v":{"$error":"#N/A"}},1,{"$f":"IF($BU$6=0,#N/A,IF(BT105=BU$7,$E105-$BN$2,#N/A))","v":{"$error":"#N/A"}},{"$f":"IF($BV$6=0,#N/A,IF(BT105=BV$7,$E105-$BN$2,#N/A))","v":{"$error":"#N/A"}},{"$error":"#N/A"},{"$error":"#N/A"},null,null,null,97,{"$error":"#N/A"},{"$error":"#N/A"},{"$error":"#N/A"},null,97,{"$error":"#N/A"},{"$error":"#N/A"},null,97,{"$error":"#N/A"},{"$f":"IF(AND(CK105<>$E$3,CL105<>1),NA(),IF(OR($CB$6=1,$CB$6=2),NA(),IF(ISERROR(BG105),NA(),$BP$2)))","v":{"$error":"#N/A"}},{"$error":"#N/A"},{"$f":"IF(AND(CK105<>$E$3,CN105<>1),NA(),IF(OR($CB$6=1,$CB$6=2),NA(),IF(ISERROR(BH105),NA(),$BP$2)))","v":{"$error":"#N/A"}},null,null,97,{"$f":"IF($CB$5=\"Neither\",NA(),IF(CR105<>$E$3-$CS$6,NA(),IF($CR$6<>\"Pass\",NA(),$BP$2)))","v":{"$error":"#N/A"}},{"$f":"IF($CB$5=\"Neither\",NA(),IF(CR105<>$E$3-$CS$6,NA(),IF($CR$6<>\"Fail\",NA(),$BP$2)))","v":{"$error":"#N/A"}},{"$f":"IF($CB$5=\"Neither\",NA(),IF(CR105<>$E$3-$CS$6,NA(),IF($CR$6<>\"Flip\",NA(),$BP$2)))","v":{"$error":"#N/A"}},null,{"$f":"IF(ISERROR(E105),0,E105)","v":0},{"$f":"IF(ISERROR(E105),0,1)","v":0},null,null,{"$error":"#N/A"},{"$error":"#N/A"},{"$error":"#N/A"},{"$error":"#N/A"}]
[null,0,98,{"$f":"IF('Front sheet'!I23=\"\",\"\",'Front sheet'!$I23)","v":""},{"$f":"IF('Front sheet'!J23=\"\",#N/A,'Front sheet'!J23)","v":{"$error":"#N/A"}},"",{"$f":"IF(J106=\"\",NA(),IF('Front sheet'!$T$7<>0,AVERAGE(Tally_CL),IF(F106=1,AVERAGE(Tally),IF(F106=2,AVERAGE(Tally2),IF(F106=3,AVERAGE(Tally3),IF(F106=4,AVERAGE(Tally4),IF(F106=5,AVERAGE(Tally5))))))))","v":{"$error":"#N/A"}},{"$error":"#N/A"},{"$error":"#N/A"},"",{"$error":"#N/A"},{"$error":"#N/A"},{"$f":"IF(L106=\"\",NA(),IF('Front sheet'!$T$7<>0,AVERAGE(MR_CL),IF(F106=1,AVERAGE(MR_1),IF(F106=2,AVERAGE(MR_2),IF(F106=3,AVERAGE(MR_3),IF(F106=4,AVERAGE(MR_4),IF(F106=5,AVERAGE(MR_5))))))))","v":{"$error":"#N/A"}},0,{"$error":"#N/A"},null,{"$f":"IF(ISERROR($E106),0,IF($E106>$H106,MAX($Q$8:Q105)+1,0))","v":0},{"$f":"IF(ISERROR($E106),0,IF($E106<$I106,MAX($R$8:R105)+1,0))","v":0},null,0,0,null,0,0,null,0,0,null,0,0,0,0,0,0,0,null,{"$f":"IF(ISERROR($L106),0,IF($L106>$O106,MAX($AK$8:AK105)+1,0))","v":0},{"$error":"#N/A"},null,{"$error":"#N/A"},{"$error":"#N/A"},{"$f":"IF(C106<=$E$3,IF('Front sheet'!$O$3=\"\",NA(),'Front sheet'!$O$3),NA())","v":{"$error":"#N/A"}},{"$error":"#N/A"},{"$error":"#N/A"},{"$error":"#N/A"},{"$error":"#N/A"},{"$error":"#N/A"},{"$error":"#N/A"},{"$error":"#N/A"},{"$error":"#N/A"},{"$error":"#N/A"},{"$error":"#N/A"},{"$error":"#N/A"},{"$error":"#N/A"},{"$error":"#N/A"},{"$error":"#N/A"},{"$error":"#N/A"},{"$error":"#N/A"},{"$error":"#N/A"},{"$error":"#N/A"},"","",null,98,1,"",{"$error":"#N/A"},{"$error":"#N/A"},{"$error":"#N/A"},{"$error":"#N/A"},{"$error":"#N/A"},1,{"$error":"#N/A"},{"$error":"#N/A"},{"$error":"#N/A"},{"$error":"#N/A"},null,null,null,98,{"$error":"#N/A"},{"$error":"#N/A"},{"$error":"#N/A"},null,98,{"$error":"#N/A"},{"$error":"#N/A"},null,98,{"$error":"#N/A"},{"$error":"#N/A"},{"$error":"#N/A"},{"$error":"#N/A"},null,null,98,{"$error":"#N/A"},{"$error":"#N/A"},{"$error":"#N/A"},null,0,0,null,null,{"$error":"#N/A"},{"$error":"#N/A"},{"$error":"#N/A"},{"$error":"#N/A"}]
[null,0,99,{"$f":"IF('Front sheet'!I24=\"\",\"\",'Front sheet'!$I24)","v":""},{"$f":"IF('Front sheet'!J24=\"\",#N/A,'Front sheet'!J24)","v":{"$error":"#N/A"}},"",{"$f":"IF(J107=\"\",NA(),IF('Front sheet'!$T$7<>0,AVERAGE(Tally_CL),IF(F107=1,AVERAGE(Tally),IF(F107=2,AVERAGE(Tally2),IF(F107=3,AVERAGE(Tally3),IF(F107=4,AVERAGE(Tally4),IF(F107=5,AVERAGE(Tally5))))))))","v":{"$error":"#N/A"}},{"$error":"#N/A"},{"$error":"#N/A"},"",{"$error":"#N/A"},{"$error":"#N/A"},{"$f":"IF(L107=\"\",NA(),IF('Front sheet'!$T$7<>0,AVERAGE(MR_CL),IF(F107=1,AVERAGE(MR_1),IF(F107=2,AVERAGE(MR_2),IF(F107=3,AVERAGE(MR_3),IF(F107=4,AVERAGE(MR_4),IF(F107=5,AVERAGE(MR_5))))))))","v":{"$error":"#N/A"}},0,{"$error":"#N/A"},null,{"$f":"IF(ISERROR($E107),0,IF($E107>$H107,MAX($Q$8:Q106)+1,0))","v":0},{"$f":"IF(ISERROR($E107),0,IF($E107<$I107,MAX($R$8:R106)+1,0))","v":0},null,0,0,null,0,0,null,0,0,null,0,0,0,0,0,0,0,null,{"$f":"IF(ISERROR($L107),0,IF($L107>$O107,MAX($AK$8:AK106)+1,0))","v":0},{"$error":"#N/A"},null,{"$error":"#N/A"},{"$error":"#N/A"},{"$f":"IF(C107<=$E$3,IF('Front sheet'!$O$3=\"\",NA(),'Front sheet'!$O$3),NA())","v":{"$error":"#N/A"}},{"$error":"#N/A"},{"$error":"#N/A"},{"$error":"#N/A"},{"$error":"#N/A"},{"$error":"#N/A"},{"$error":"#N/A"},{"$error":"#N/A"},{"$error":"#N/A"},{"$error":"#N/A"},{"$error":"#N/A"},{"$error":"#N/A"},{"$error":"#N/A"},{"$error":"#N/A"},{"$error":"#N/A"},{"$error":"#N/A"},{"$error":"#N/A"},{"$error":"#N/A"},{"$error":"#N/A"},"","",null,99,1,"",{"$error":"#N/A"},{"$error":"#N/A"},{"$error":"#N/A"},{"$error":"#N/A"},{"$error":"#N/A"},1,{"$error":"#N/A"},{"$error":"#N/A"},{"$error":"#N/A"},{"$error":"#N/A"},null,null,null,99,{"$error":"#N/A"},{"$error":"#N/A"},{"$error":"#N/A"},null,99,{"$error":"#N/A"},{"$error":"#N/A"},null,99,{"$error":"#N/A"},{"$error":"#N/A"},{"$error":"#N/A"},{"$error":"#N/A"},null,null,99,{"$error":"#N/A"},{"$error":"#N/A"},{"$error":"#N/A"},null,0,0,null,null,{"$error":"#N/A"},{"$error":"#N/A"},{"$error":"#N/A"},{"$error":"#N/A"}]
[null,0,100,{"$f":"IF('Front sheet'!I25=\"\",\"\",'Front sheet'!$I25)","v":""},{"$f":"IF('Front sheet'!J25=\"\",#N/A,'Front sheet'!J25)","v":{"$error":"#N/A"}},"",{"$f":"IF(J108=\"\",NA(),IF('Front sheet'!$T$7<>0,AVERAGE(Tally_CL),IF(F108=1,AVERAGE(Tally),IF(F108=2,AVERAGE(Tally2),IF(F108=3,AVERAGE(Tally3),IF(F108=4,AVERAGE(Tally4),IF(F108=5,AVERAGE(Tally5))))))))","v":{"$error":"#N/A"}},{"$error":"#N/A"},{"$error":"#N/A"},"",{"$error":"#N/A"},{"$error":"#N/A"},{"$f":"IF(L108=\"\",NA(),IF('Front sheet'!$T$7<>0,AVERAGE(MR_CL),IF(F108=1,AVERAGE(MR_1),IF(F108=2,AVERAGE(MR_2),IF(F108=3,AVERAGE(MR_3),IF(F108=4,AVERAGE(MR_4),IF(F108=5,AVERAGE(MR_5))))))))","v":{"$error":"#N/A"}},0,{"$error":"#N/A"},null,{"$f":"IF(ISERROR($E108),0,IF($E108>$H108,MAX($Q$8:Q107)+1,0))","v":0},{"$f":"IF(ISERROR($E108),0,IF($E108<$I108,MAX($R$8:R107)+1,0))","v":0},null,0,0,null,0,0,null,0,0,null,0,0,0,0,0,0,0,null,{"$f":"IF(ISERROR($L108),0,IF($L108>$O108,MAX($AK$8:AK107)+1,0))","v":0},{"$error":"#N/A"},null,{"$error":"#N/A"},{"$error":"#N/A"},{"$f":"IF(C108<=$E$3,IF('Front sheet'!$O$3=\"\",NA(),'Front sheet'!$O$3),NA())","v":{"$error":"#N/A"}},{"$error":"#N/A"},{"$error":"#N/A"},{"$error":"#N/A"},{"$error":"#N/A"},{"$error":"#N/A"},{"$error":"#N/A"},{"$error":"#N/A"},{"$error":"#N/A"},{"$error":"#N/A"},{"$error":"#N/A"},{"$error":"#N/A"},{"$error":"#N/A"},{"$error":"#N/A"},{"$error":"#N/A"},{"$error":"#N/A"},{"$error":"#N/A"},{"$error":"#N/A"},{"$error":"#N/A"},"","",null,100,1,"",{"$error":"#N/A"},{"$error":"#N/A"},{"$error":"#N/A"},{"$error":"#N/A"},{"$error":"#N/A"},1,{"$error":"#N/A"},{"$error":"#N/A"},{"$error":"#N/A"},{"$error":"#N/A"},null,null,null,100,{"$error":"#N/A"},{"$error":"#N/A"},{"$error":"#N/A"},null,100,{"$error":"#N/A"},{"$error":"#N/A"},null,100,{"$error":"#N/A"},{"$error":"#N/A"},{"$error":"#N/A"},{"$error":"#N/A"},null,null,100,{"$error":"#N/A"},{"$error":"#N/A"},{"$error":"#N/A"},null,0,0,null,null,{"$error":"#N/A"},{"$error":"#N/A"},{"$error":"#N/A"},{"$error":"#N/A"}]
[null,0,101,{"$f":"IF('Front sheet'!I26=\"\",\"\",'Front sheet'!$I26)","v":""},{"$f":"IF('Front sheet'!J26=\"\",#N/A,'Front sheet'!J26)","v":{"$error":"#N/A"}},"",{"$f":"IF(J109=\"\",NA(),IF('Front sheet'!$T$7<>0,AVERAGE(Tally_CL),IF(F109=1,AVERAGE(Tally),IF(F109=2,AVERAGE(Tally2),IF(F109=3,AVERAGE(Tally3),IF(F109=4,AVERAGE(Tally4),IF(F109=5,AVERAGE(Tally5))))))))","v":{"$error":"#N/A"}},{"$error":"#N/A"},{"$error":"#N/A"},"",{"$error":"#N/A"},{"$error":"#N/A"},{"$f":"IF(L109=\"\",NA(),IF('Front sheet'!$T$7<>0,AVERAGE(MR_CL),IF(F109=1,AVERAGE(MR_1),IF(F109=2,AVERAGE(MR_2),IF(F109=3,AVERAGE(MR_3),IF(F109=4,AVERAGE(MR_4),IF(F109=5,AVERAGE(MR_5))))))))","v":{"$error":"#N/A"}},0,{"$error":"#N/A"},null,{"$f":"IF(ISERROR($E109),0,IF($E109>$H109,MAX($Q$8:Q108)+1,0))","v":0},{"$f":"IF(ISERROR($E109),0,IF($E109<$I109,MAX($R$8:R108)+1,0))","v":0},null,0,0,null,0,0,null,0,0,null,0,0,0,0,0,0,0,null,{"$f":"IF(ISERROR($L109),0,IF($L109>$O109,MAX($AK$8:AK108)+1,0))","v":0},{"$error":"#N/A"},null,{"$error":"#N/A"},{"$error":"#N/A"},{"$f":"IF(C109<=$E$3,IF('Front sheet'!$O$3=\"\",NA(),'Front sheet'!$O$3),NA())","v":{"$error":"#N/A"}},{"$error":"#N/A"},{"$error":"#N/A"},{"$error":"#N/A"},{"$error":"#N/A"},{"$error":"#N/A"},{"$error":"#N/A"},{"$error":"#N/A"},{"$error":"#N/A"},{"$error":"#N/A"},{"$error":"#N/A"},{"$error":"#N/A"},{"$error":"#N/A"},{"$error":"#N/A"},{"$error":"#N/A"},{"$error":"#N/A"},{"$error":"#N/A"},{"$error":"#N/A"},{"$error":"#N/A"},"","",null,101,1,"",{"$error":"#N/A"},{"$error":"#N/A"},{"$error":"#N/A"},{"$error":"#N/A"},{"$error":"#N/A"},1,{"$error":"#N/A"},{"$error":"#N/A"},{"$error":"#N/A"},{"$error":"#N/A"},null,null,null,101,{"$error":"#N/A"},{"$error":"#N/A"},{"$error":"#N/A"},null,101,{"$error":"#N/A"},{"$error":"#N/A"},null,101,{"$error":"#N/A"},{"$error":"#N/A"},{"$error":"#N/A"},{"$error":"#N/A"},null,null,101,{"$error":"#N/A"},{"$error":"#N/A"},{"$error":"#N/A"},null,0,0,null,null,{"$error":"#N/A"},{"$error":"#N/A"},{"$error":"#N/A"},{"$error":"#N/A"}]
[null,0,102,{"$f":"IF('Front sheet'!I27=\"\",\"\",'Front sheet'!$I27)","v":""},{"$f":"IF('Front sheet'!J27=\"\",#N/A,'Front sheet'!J27)","v":{"$error":"#N/A"}},"",{"$f":"IF(J110=\"\",NA(),IF('Front sheet'!$T$7<>0,AVERAGE(Tally_CL),IF(F110=1,AVERAGE(Tally),IF(F110=2,AVERAGE(Tally2),IF(F110=3,AVERAGE(Tally3),IF(F110=4,AVERAGE(Tally4),IF(F110=5,AVERAGE(Tally5))))))))","v":{"$error":"#N/A"}},{"$error":"#N/A"},{"$error":"#N/A"},"",{"$error":"#N/A"},{"$error":"#N/A"},{"$f":"IF(L110=\"\",NA(),IF('Front sheet'!$T$7<>0,AVERAGE(MR_CL),IF(F110=1,AVERAGE(MR_1),IF(F110=2,AVERAGE(MR_2),IF(F110=3,AVERAGE(MR_3),IF(F110=4,AVERAGE(MR_4),IF(F110=5,AVERAGE(MR_5))))))))","v":{"$error":"#N/A"}},0,{"$error":"#N/A"},null,{"$f":"IF(ISERROR($E110),0,IF($E110>$H110,MAX($Q$8:Q109)+1,0))","v":0},{"$f":"IF(ISERROR($E110),0,IF($E110<$I110,MAX($R$8:R109)+1,0))","v":0},null,0,0,null,0,0,null,0,0,null,0,0,0,0,0,0,0,null,{"$f":"IF(ISERROR($L110),0,IF($L110>$O110,MAX($AK$8:AK109)+1,0))","v":0},{"$error":"#N/A"},null,{"$error":"#N/A"},{"$error":"#N/A"},{"$f":"IF(C110<=$E$3,IF('Front sheet'!$O$3=\"\",NA(),'Front sheet'!$O$3),NA())","v":{"$error":"#N/A"}},{"$error":"#N/A"},{"$error":"#N/A"},{"$error":"#N/A"},{"$error":"#N/A"},{"$error":"#N/A"},{"$error":"#N/A"},{"$error":"#N/A"},{"$error":"#N/A"},{"$error":"#N/A"},{"$error":"#N/A"},{"$error":"#N/A"},{"$error":"#N/A"},{"$error":"#N/A"},{"$error":"#N/A"},{"$error":"#N/A"},{"$error":"#N/A"},{"$error":"#N/A"},{"$error":"#N/A"},"","",null,102,1,"",{"$error":"#N/A"},{"$error":"#N/A"},{"$error":"#N/A"},{"$error":"#N/A"},{"$error":"#N/A"},1,{"$error":"#N/A"},{"$error":"#N/A"},{"$error":"#N/A"},{"$error":"#N/A"},null,null,null,102,{"$error":"#N/A"},{"$error":"#N/A"},{"$error":"#N/A"},null,102,{"$error":"#N/A"},{"$error":"#N/A"},null,102,{"$error":"#N/A"},{"$error":"#N/A"},{"$error":"#N/A"},{"$error":"#N/A"},null,null,102,{"$error":"#N/A"},{"$error":"#N/A"},{"$error":"#N/A"},null,0,0,null,null,{"$error":"#N/A"},{"$error":"#N/A"},{"$error":"#N/A"},{"$error":"#N/A"}]
[null,0,103,{"$f":"IF('Front sheet'!I28=\"\",\"\",'Front sheet'!$I28)","v":""},{"$f":"IF('Front sheet'!J28=\"\",#N/A,'Front sheet'!J28)","v":{"$error":"#N/A"}},"",{"$f":"IF(J111=\"\",NA(),IF('Front sheet'!$T$7<>0,AVERAGE(Tally_CL),IF(F111=1,AVERAGE(Tally),IF(F111=2,AVERAGE(Tally2),IF(F111=3,AVERAGE(Tally3),IF(F111=4,AVERAGE(Tally4),IF(F111=5,AVERAGE(Tally5))))))))","v":{"$error":"#N/A"}},{"$error":"#N/A"},{"$error":"#N/A"},"",{"$error":"#N/A"},{"$error":"#N/A"},{"$f":"IF(L111=\"\",NA(),IF('Front sheet'!$T$7<>0,AVERAGE(MR_CL),IF(F111=1,AVERAGE(MR_1),IF(F111=2,AVERAGE(MR_2),IF(F111=3,AVERAGE(MR_3),IF(F111=4,AVERAGE(MR_4),IF(F111=5,AVERAGE(MR_5))))))))","v":{"$error":"#N/A"}},0,{"$error":"#N/A"},null,{"$f":"IF(ISERROR($E111),0,IF($E111>$H111,MAX($Q$8:Q110)+1,0))","v":0},{"$f":"IF(ISERROR($E111),0,IF($E111<$I111,MAX($R$8:R110)+1,0))","v":0},null,0,0,null,0,0,null,0,0,null,0,0,0,0,0,0,0,null,{"$f":"IF(ISERROR($L111),0,IF($L111>$O111,MAX($AK$8:AK110)+1,0))","v":0},{"$error":"#N/A"},null,{"$error":"#N/A"},{"$error":"#N/A"},{"$f":"IF(C111<=$E$3,IF('Front sheet'!$O$3=\"\",NA(),'Front sheet'!$O$3),NA())","v":{"$error":"#N/A"}},{"$error":"#N/A"},{"$error":"#N/A"},{"$error":"#N/A"},{"$error":"#N/A"},{"$error":"#N/A"},{"$error":"#N/A"},{"$error":"#N/A"},{"$error":"#N/A"},{"$error":"#N/A"},{"$error":"#N/A"},{"$error":"#N/A"},{"$error":"#N/A"},{"$error":"#N/A"},{"$error":"#N/A"},{"$error":"#N/A"},{"$error":"#N/A"},{"$error":"#N/A"},{"$error":"#N/A"},"","",null,103,1,"",{"$error":"#N/A"},{"$error":"#N/A"},{"$error":"#N/A"},{"$error":"#N/A"},{"$error":"#N/A"},1,{"$error":"#N/A"},{"$error":"#N/A"},{"$error":"#N/A"},{"$error":"#N/A"},null,null,null,103,{"$error":"#N/A"},{"$error":"#N/A"},{"$error":"#N/A"},null,103,{"$error":"#N/A"},{"$error":"#N/A"},null,103,{"$error":"#N/A"},{"$error":"#N/A"},{"$error":"#N/A"},{"$error":"#N/A"},null,null,103,{"$error":"#N/A"},{"$error":"#N/A"},{"$error":"#N/A"},null,0,0,null,null,{"$error":"#N/A"},{"$error":"#N/A"},{"$error":"#N/A"},{"$error":"#N/A"}]
[null,0,104,{"$f":"IF('Front sheet'!I29=\"\",\"\",'Front sheet'!$I29)","v":""},{"$f":"IF('Front sheet'!J29=\"\",#N/A,'Front sheet'!J29)","v":{"$error":"#N/A"}},"",{"$f":"IF(J112=\"\",NA(),IF('Front sheet'!$T$7<>0,AVERAGE(Tally_CL),IF(F112=1,AVERAGE(Tally),IF(F112=2,AVERAGE(Tally2),IF(F112=3,AVERAGE(Tally3),IF(F112=4,AVERAGE(Tally4),IF(F112=5,AVERAGE(Tally5))))))))","v":{"$error":"#N/A"}},{"$error":"#N/A"},{"$error":"#N/A"},"",{"$error":"#N/A"},{"$error":"#N/A"},{"$f":"IF(L112=\"\",NA(),IF('Front sheet'!$T$7<>0,AVERAGE(MR_CL),IF(F112=1,AVERAGE(MR_1),IF(F112=2,AVERAGE(MR_2),IF(F112=3,AVERAGE(MR_3),IF(F112=4,AVERAGE(MR_4),IF(F112=5,AVERAGE(MR_5))))))))","v":{"$error":"#N/A"}},0,{"$error":"#N/A"},null,{"$f":"IF(ISERROR($E112),0,IF($E112>$H112,MAX($Q$8:Q111)+1,0))","v":0},{"$f":"IF(ISERROR($E112),0,IF($E112<$I112,MAX($R$8:R111)+1,0))","v":0},null,0,0,null,0,0,null,0,0,null,0,0,0,0,0,0,0,null,{"$f":"IF(ISERROR($L112),0,IF($L112>$O112,MAX($AK$8:AK111)+1,0))","v":0},{"$error":"#N/A"},null,{"$error":"#N/A"},{"$error":"#N/A"},{"$f":"IF(C112<=$E$3,IF('Front sheet'!$O$3=\"\",NA(),'Front sheet'!$O$3),NA())","v":{"$error":"#N/A"}},{"$error":"#N/A"},{"$error":"#N/A"},{"$error":"#N/A"},{"$error":"#N/A"},{"$error":"#N/A"},{"$error":"#N/A"},{"$error":"#N/A"},{"$error":"#N/A"},{"$error":"#N/A"},{"$error":"#N/A"},{"$error":"#N/A"},{"$error":"#N/A"},{"$error":"#N/A"},{"$error":"#N/A"},{"$error":"#N/A"},{"$error":"#N/A"},{"$error":"#N/A"},{"$error":"#N/A"},"","",null,104,1,"",{"$error":"#N/A"},{"$error":"#N/A"},{"$error":"#N/A"},{"$error":"#N/A"},{"$error":"#N/A"},1,{"$error":"#N/A"},{"$error":"#N/A"},{"$error":"#N/A"},{"$error":"#N/A"},null,null,null,104,{"$error":"#N/A"},{"$error":"#N/A"},{"$error":"#N/A"},null,104,{"$error":"#N/A"},{"$error":"#N/A"},null,104,{"$error":"#N/A"},{"$error":"#N/A"},{"$error":"#N/A"},{"$error":"#N/A"},null,null,104,{"$error":"#N/A"},{"$error":"#N/A"},{"$error":"#N/A"},null,0,0,null,null,{"$error":"#N/A"},{"$error":"#N/A"},{"$error":"#N/A"},{"$error":"#N/A"}]
[null,0,105,{"$f":"IF('Front sheet'!I30=\"\",\"\",'Front sheet'!$I30)","v":""},{"$f":"IF('Front sheet'!J30=\"\",#N/A,'Front sheet'!J30)","v":{"$error":"#N/A"}},"",{"$f":"IF(J113=\"\",NA(),IF('Front sheet'!$T$7<>0,AVERAGE(Tally_CL),IF(F113=1,AVERAGE(Tally),IF(F113=2,AVERAGE(Tally2),IF(F113=3,AVERAGE(Tally3),IF(F113=4,AVERAGE(Tally4),IF(F113=5,AVERAGE(Tally5))))))))","v":{"$error":"#N/A"}},{"$error":"#N/A"},{"$error":"#N/A"},"",{"$error":"#N/A"},{"$error":"#N/A"},{"$f":"IF(L113=\"\",NA(),IF('Front sheet'!$T$7<>0,AVERAGE(MR_CL),IF(F113=1,AVERAGE(MR_1),IF(F113=2,AVERAGE(MR_2),IF(F113=3,AVERAGE(MR_3),IF(F113=4,AVERAGE(MR_4),IF(F113=5,AVERAGE(MR_5))))))))","v":{"$error":"#N/A"}},0,{"$error":"#N/A"},null,{"$f":"IF(ISERROR($E113),0,IF($E113>$H113,MAX($Q$8:Q112)+1,0))","v":0},{"$f":"IF(ISERROR($E113),0,IF($E113<$I113,MAX($R$8:R112)+1,0))","v":0},null,0,0,null,0,0,null,0,0,null,0,0,0,0,0,0,0,null,{"$f":"IF(ISERROR($L113),0,IF($L113>$O113,MAX($AK$8:AK112)+1,0))","v":0},{"$error":"#N/A"},null,{"$error":"#N/A"},{"$error":"#N/A"},{"$f":"IF(C113<=$E$3,IF('Front sheet'!$O$3=\"\",NA(),'Front sheet'!$O$3),NA())","v":{"$error":"#N/A"}},{"$error":"#N/A"},{"$error":"#N/A"},{"$error":"#N/A"},{"$error":"#N/A"},{"$error":"#N/A"},{"$error":"#N/A"},{"$error":"#N/A"},{"$error":"#N/A"},{"$error":"#N/A"},{"$error":"#N/A"},{"$error":"#N/A"},{"$error":"#N/A"},{"$error":"#N/A"},{"$error":"#N/A"},{"$error":"#N/A"},{"$error":"#N/A"},{"$error":"#N/A"},{"$error":"#N/A"},"","",null,105,1,"",{"$error":"#N/A"},{"$error":"#N/A"},{"$error":"#N/A"},{"$error":"#N/A"},{"$error":"#N/A"},1,{"$error":"#N/A"},{"$error":"#N/A"},{"$error":"#N/A"},{"$error":"#N/A"},null,null,null,105,{"$error":"#N/A"},{"$error":"#N/A"},{"$error":"#N/A"},null,105,{"$error":"#N/A"},{"$error":"#N/A"},null,105,{"$error":"#N/A"},{"$error":"#N/A"},{"$error":"#N/A"},{"$error":"#N/A"},null,null,105,{"$error":"#N/A"},{"$error":"#N/A"},{"$error":"#N/A"},null,0,0,null,null,{"$error":"#N/A"},{"$error":"#N/A"},{"$error":"#N/A"},{"$error":"#N/A"}]
[null,0,106,{"$f":"IF('Front sheet'!I31=\"\",\"\",'Front sheet'!$I31)","v":""},{"$f":"IF('Front sheet'!J31=\"\",#N/A,'Front sheet'!J31)","v":{"$error":"#N/A"}},"",{"$f":"IF(J114=\"\",NA(),IF('Front sheet'!$T$7<>0,AVERAGE(Tally_CL),IF(F114=1,AVERAGE(Tally),IF(F114=2,AVERAGE(Tally2),IF(F114=3,AVERAGE(Tally3),IF(F114=4,AVERAGE(Tally4),IF(F114=5,AVERAGE(Tally5))))))))","v":{"$error":"#N/A"}},{"$error":"#N/A"},{"$error":"#N/A"},"",{"$error":"#N/A"},{"$error":"#N/A"},{"$f":"IF(L114=\"\",NA(),IF('Front sheet'!$T$7<>0,AVERAGE(MR_CL),IF(F114=1,AVERAGE(MR_1),IF(F114=2,AVERAGE(MR_2),IF(F114=3,AVERAGE(MR_3),IF(F114=4,AVERAGE(MR_4),IF(F114=5,AVERAGE(MR_5))))))))","v":{"$error":"#N/A"}},0,{"$error":"#N/A"},null,{"$f":"IF(ISERROR($E114),0,IF($E114>$H114,MAX($Q$8:Q113)+1,0))","v":0},{"$f":"IF(ISERROR($E114),0,IF($E114<$I114,MAX($R$8:R113)+1,0))","v":0},null,0,0,null,0,0,null,0,0,null,0,0,0,0,0,0,0,null,{"$f":"IF(ISERROR($L114),0,IF($L114>$O114,MAX($AK$8:AK113)+1,0))","v":0},{"$error":"#N/A"},null,{"$error":"#N/A"},{"$error":"#N/A"},{"$f":"IF(C114<=$E$3,IF('Front sheet'!$O$3=\"\",NA(),'Front sheet'!$O$3),NA())","v":{"$error":"#N/A"}},{"$error":"#N/A"},{"$error":"#N/A"},{"$error":"#N/A"},{"$error":"#N/A"},{"$error":"#N/A"},{"$error":"#N/A"},{"$error":"#N/A"},{"$error":"#N/A"},{"$error":"#N/A"},{"$error":"#N/A"},{"$error":"#N/A"},{"$error":"#N/A"},{"$error":"#N/A"},{"$error":"#N/A"},{"$error":"#N/A"},{"$error":"#N/A"},{"$error":"#N/A"},{"$error":"#N/A"},"","",null,106,1,"",{"$error":"#N/A"},{"$error":"#N/A"},{"$error":"#N/A"},{"$error":"#N/A"},{"$error":"#N/A"},1,{"$error":"#N/A"},{"$error":"#N/A"},{"$error":"#N/A"},{"$error":"#N/A"},null,null,null,106,{"$error":"#N/A"},{"$error":"#N/A"},{"$error":"#N/A"},null,106,{"$error":"#N/A"},{"$error":"#N/A"},null,106,{"$error":"#N/A"},{"$error":"#N/A"},{"$error":"#N/A"},{"$error":"#N/A"},null,null,106,{"$error":"#N/A"},{"$error":"#N/A"},{"$error":"#N/A"},null,0,0,null,null,{"$error":"#N/A"},{"$error":"#N/A"},{"$error":"#N/A"},{"$error":"#N/A"}]
[null,0,107,{"$f":"IF('Front sheet'!I32=\"\",\"\",'Front sheet'!$I32)","v":""},{"$f":"IF('Front sheet'!J32=\"\",#N/A,'Front sheet'!J32)","v":{"$error":"#N/A"}},"",{"$f":"IF(J115=\"\",NA(),IF('Front sheet'!$T$7<>0,AVERAGE(Tally_CL),IF(F115=1,AVERAGE(Tally),IF(F115=2,AVERAGE(Tally2),IF(F115=3,AVERAGE(Tally3),IF(F115=4,AVERAGE(Tally4),IF(F115=5,AVERAGE(Tally5))))))))","v":{"$error":"#N/A"}},{"$error":"#N/A"},{"$error":"#N/A"},"",{"$error":"#N/A"},{"$error":"#N/A"},{"$f":"IF(L115=\"\",NA(),IF('Front sheet'!$T$7<>0,AVERAGE(MR_CL),IF(F115=1,AVERAGE(MR_1),IF(F115=2,AVERAGE(MR_2),IF(F115=3,AVERAGE(MR_3),IF(F115=4,AVERAGE(MR_4),IF(F115=5,AVERAGE(MR_5))))))))","v":{"$error":"#N/A"}},0,{"$error":"#N/A"},null,{"$f":"IF(ISERROR($E115),0,IF($E115>$H115,MAX($Q$8:Q114)+1,0))","v":0},{"$f":"IF(ISERROR($E115),0,IF($E115<$I115,MAX($R$8:R114)+1,0))","v":0},null,0,0,null,0,0,null,0,0,null,0,0,0,0,0,0,0,null,{"$f":"IF(ISERROR($L115),0,IF($L115>$O115,MAX($AK$8:AK114)+1,0))","v":0},{"$error":"#N/A"},null,{"$error":"#N/A"},{"$error":"#N/A"},{"$f":"IF(C115<=$E$3,IF('Front sheet'!$O$3=\"\",NA(),'Front sheet'!$O$3),NA())","v":{"$error":"#N/A"}},{"$error":"#N/A"},{"$error":"#N/A"},{"$error":"#N/A"},{"$error":"#N/A"},{"$error":"#N/A"},{"$error":"#N/A"},{"$error":"#N/A"},{"$error":"#N/A"},{"$error":"#N/A"},{"$error":"#N/A"},{"$error":"#N/A"},{"$error":"#N/A"},{"$error":"#N/A"},{"$error":"#N/A"},{"$error":"#N/A"},{"$error":"#N/A"},{"$error":"#N/A"},{"$error":"#N/A"},"","",null,107,1,"",{"$error":"#N/A"},{"$error":"#N/A"},{"$error":"#N/A"},{"$error":"#N/A"},{"$error":"#N/A"},1,{"$error":"#N/A"},{"$error":"#N/A"},{"$error":"#N/A"},{"$error":"#N/A"},null,null,null,107,{"$error":"#N/A"},{"$error":"#N/A"},{"$error":"#N/A"},null,107,{"$error":"#N/A"},{"$error":"#N/A"},null,107,{"$error":"#N/A"},{"$error":"#N/A"},{"$error":"#N/A"},{"$error":"#N/A"},null,null,107,{"$error":"#N/A"},{"$error":"#N/A"},{"$error":"#N/A"},null,0,0,null,null,{"$error":"#N/A"},{"$error":"#N/A"},{"$error":"#N/A"},{"$error":"#N/A"}]
[null,0,108,{"$f":"IF('Front sheet'!I33=\"\",\"\",'Front sheet'!$I33)","v":""},{"$f":"IF('Front sheet'!J33=\"\",#N/A,'Front sheet'!J33)","v":{"$error":"#N/A"}},"",{"$f":"IF(J116=\"\",NA(),IF('Front sheet'!$T$7<>0,AVERAGE(Tally_CL),IF(F116=1,AVERAGE(Tally),IF(F116=2,AVERAGE(Tally2),IF(F116=3,AVERAGE(Tally3),IF(F116=4,AVERAGE(Tally4),IF(F116=5,AVERAGE(Tally5))))))))","v":{"$error":"#N/A"}},{"$error":"#N/A"},{"$error":"#N/A"},"",{"$error":"#N/A"},{"$error":"#N/A"},{"$f":"IF(L116=\"\",NA(),IF('Front sheet'!$T$7<>0,AVERAGE(MR_CL),IF(F116=1,AVERAGE(MR_1),IF(F116=2,AVERAGE(MR_2),IF(F116=3,AVERAGE(MR_3),IF(F116=4,AVERAGE(MR_4),IF(F116=5,AVERAGE(MR_5))))))))","v":{"$error":"#N/A"}},0,{"$error":"#N/A"},null,{"$f":"IF(ISERROR($E116),0,IF($E116>$H116,MAX($Q$8:Q115)+1,0))","v":0},{"$f":"IF(ISERROR($E116),0,IF($E116<$I116,MAX($R$8:R115)+1,0))","v":0},null,0,0,null,0,0,null,0,0,null,0,0,0,0,0,0,0,null,{"$f":"IF(ISERROR($L116),0,IF($L116>$O116,MAX($AK$8:AK115)+1,0))","v":0},{"$error":"#N/A"},null,{"$error":"#N/A"},{"$error":"#N/A"},{"$f":"IF(C116<=$E$3,IF('Front sheet'!$O$3=\"\",NA(),'Front sheet'!$O$3),NA())","v":{"$error":"#N/A"}},{"$error":"#N/A"},{"$error":"#N/A"},{"$error":"#N/A"},{"$error":"#N/A"},{"$error":"#N/A"},{"$error":"#N/A"},{"$error":"#N/A"},{"$error":"#N/A"},{"$error":"#N/A"},{"$error":"#N/A"},{"$error":"#N/A"},{"$error":"#N/A"},{"$error":"#N/A"},{"$error":"#N/A"},{"$error":"#N/A"},{"$error":"#N/A"},{"$error":"#N/A"},{"$error":"#N/A"},"","",null,108,1,"",{"$error":"#N/A"},{"$error":"#N/A"},{"$error":"#N/A"},{"$error":"#N/A"},{"$error":"#N/A"},1,{"$error":"#N/A"},{"$error":"#N/A"},{"$error":"#N/A"},{"$error":"#N/A"},null,null,null,108,{"$error":"#N/A"},{"$error":"#N/A"},{"$error":"#N/A"},null,108,{"$error":"#N/A"},{"$error":"#N/A"},null,108,{"$error":"#N/A"},{"$error":"#N/A"},{"$error":"#N/A"},{"$error":"#N/A"},null,null,108,{"$error":"#N/A"},{"$error":"#N/A"},{"$error":"#N/A"},null,0,0,null,null,{"$error":"#N/A"},{"$error":"#N/A"},{"$error":"#N/A"},{"$error":"#N/A"}]
[null,0,109,{"$f":"IF('Front sheet'!I34=\"\",\"\",'Front sheet'!$I34)","v":""},{"$f":"IF('Front sheet'!J34=\"\",#N/A,'Front sheet'!J34)","v":{"$error":"#N/A"}},"",{"$f":"IF(J117=\"\",NA(),IF('Front sheet'!$T$7<>0,AVERAGE(Tally_CL),IF(F117=1,AVERAGE(Tally),IF(F117=2,AVERAGE(Tally2),IF(F117=3,AVERAGE(Tally3),IF(F117=4,AVERAGE(Tally4),IF(F117=5,AVERAGE(Tally5))))))))","v":{"$error":"#N/A"}},{"$error":"#N/A"},{"$error":"#N/A"},"",{"$error":"#N/A"},{"$error":"#N/A"},{"$f":"IF(L117=\"\",NA(),IF('Front sheet'!$T$7<>0,AVERAGE(MR_CL),IF(F117=1,AVERAGE(MR_1),IF(F117=2,AVERAGE(MR_2),IF(F117=3,AVERAGE(MR_3),IF(F117=4,AVERAGE(MR_4),IF(F117=5,AVERAGE(MR_5))))))))","v":{"$error":"#N/A"}},0,{"$error":"#N/A"},null,{"$f":"IF(ISERROR($E117),0,IF($E117>$H117,MAX($Q$8:Q116)+1,0))","v":0},{"$f":"IF(ISERROR($E117),0,IF($E117<$I117,MAX($R$8:R116)+1,0))","v":0},null,0,0,null,0,0,null,0,0,null,0,0,0,0,0,0,0,null,{"$f":"IF(ISERROR($L117),0,IF($L117>$O117,MAX($AK$8:AK116)+1,0))","v":0},{"$error":"#N/A"},null,{"$error":"#N/A"},{"$error":"#N/A"},{"$f":"IF(C117<=$E$3,IF('Front sheet'!$O$3=\"\",NA(),'Front sheet'!$O$3),NA())","v":{"$error":"#N/A"}},{"$error":"#N/A"},{"$error":"#N/A"},{"$error":"#N/A"},{"$error":"#N/A"},{"$error":"#N/A"},{"$error":"#N/A"},{"$error":"#N/A"},{"$error":"#N/A"},{"$error":"#N/A"},{"$error":"#N/A"},{"$error":"#N/A"},{"$error":"#N/A"},{"$error":"#N/A"},{"$error":"#N/A"},{"$error":"#N/A"},{"$error":"#N/A"},{"$error":"#N/A"},{"$error":"#N/A"},"","",null,109,1,"",{"$error":"#N/A"},{"$error":"#N/A"},{"$error":"#N/A"},{"$error":"#N/A"},{"$error":"#N/A"},1,{"$error":"#N/A"},{"$error":"#N/A"},{"$error":"#N/A"},{"$error":"#N/A"},null,null,null,109,{"$error":"#N/A"},{"$error":"#N/A"},{"$error":"#N/A"},null,109,{"$error":"#N/A"},{"$error":"#N/A"},null,109,{"$error":"#N/A"},{"$error":"#N/A"},{"$error":"#N/A"},{"$error":"#N/A"},null,null,109,{"$error":"#N/A"},{"$error":"#N/A"},{"$error":"#N/A"},null,0,0,null,null,{"$error":"#N/A"},{"$error":"#N/A"},{"$error":"#N/A"},{"$error":"#N/A"}]
[null,0,110,{"$f":"IF('Front sheet'!I35=\"\",\"\",'Front sheet'!$I35)","v":""},{"$f":"IF('Front sheet'!J35=\"\",#N/A,'Front sheet'!J35)","v":{"$error":"#N/A"}},"",{"$f":"IF(J118=\"\",NA(),IF('Front sheet'!$T$7<>0,AVERAGE(Tally_CL),IF(F118=1,AVERAGE(Tally),IF(F118=2,AVERAGE(Tally2),IF(F118=3,AVERAGE(Tally3),IF(F118=4,AVERAGE(Tally4),IF(F118=5,AVERAGE(Tally5))))))))","v":{"$error":"#N/A"}},{"$error":"#N/A"},{"$error":"#N/A"},"",{"$error":"#N/A"},{"$error":"#N/A"},{"$f":"IF(L118=\"\",NA(),IF('Front sheet'!$T$7<>0,AVERAGE(MR_CL),IF(F118=1,AVERAGE(MR_1),IF(F118=2,AVERAGE(MR_2),IF(F118=3,AVERAGE(MR_3),IF(F118=4,AVERAGE(MR_4),IF(F118=5,AVERAGE(MR_5))))))))","v":{"$error":"#N/A"}},0,{"$error":"#N/A"},null,{"$f":"IF(ISERROR($E118),0,IF($E118>$H118,MAX($Q$8:Q117)+1,0))","v":0},{"$f":"IF(ISERROR($E118),0,IF($E118<$I118,MAX($R$8:R117)+1,0))","v":0},null,0,0,null,0,0,null,0,0,null,0,0,0,0,0,0,0,null,{"$f":"IF(ISERROR($L118),0,IF($L118>$O118,MAX($AK$8:AK117)+1,0))","v":0},{"$error":"#N/A"},null,{"$error":"#N/A"},{"$error":"#N/A"},{"$f":"IF(C118<=$E$3,IF('Front sheet'!$O$3=\"\",NA(),'Front sheet'!$O$3),NA())","v":{"$error":"#N/A"}},{"$error":"#N/A"},{"$error":"#N/A"},{"$error":"#N/A"},{"$error":"#N/A"},{"$error":"#N/A"},{"$error":"#N/A"},{"$error":"#N/A"},{"$error":"#N/A"},{"$error":"#N/A"},{"$error":"#N/A"},{"$error":"#N/A"},{"$error":"#N/A"},{"$error":"#N/A"},{"$error":"#N/A"},{"$error":"#N/A"},{"$error":"#N/A"},{"$error":"#N/A"},{"$error":"#N/A"},"","",null,110,1,"",{"$error":"#N/A"},{"$error":"#N/A"},{"$error":"#N/A"},{"$error":"#N/A"},{"$error":"#N/A"},1,{"$error":"#N/A"},{"$error":"#N/A"},{"$error":"#N/A"},{"$error":"#N/A"},null,null,null,110,{"$error":"#N/A"},{"$error":"#N/A"},{"$error":"#N/A"},null,110,{"$error":"#N/A"},{"$error":"#N/A"},null,110,{"$error":"#N/A"},{"$error":"#N/A"},{"$error":"#N/A"},{"$error":"#N/A"},null,null,110,{"$error":"#N/A"},{"$error":"#N/A"},{"$error":"#N/A"},null,0,0,null,null,{"$error":"#N/A"},{"$error":"#N/A"},{"$error":"#N/A"},{"$error":"#N/A"}]
[null,0,111,{"$f":"IF('Front sheet'!I36=\"\",\"\",'Front sheet'!$I36)","v":""},{"$f":"IF('Front sheet'!J36=\"\",#N/A,'Front sheet'!J36)","v":{"$error":"#N/A"}},"",{"$f":"IF(J119=\"\",NA(),IF('Front sheet'!$T$7<>0,AVERAGE(Tally_CL),IF(F119=1,AVERAGE(Tally),IF(F119=2,AVERAGE(Tally2),IF(F119=3,AVERAGE(Tally3),IF(F119=4,AVERAGE(Tally4),IF(F119=5,AVERAGE(Tally5))))))))","v":{"$error":"#N/A"}},{"$error":"#N/A"},{"$error":"#N/A"},"",{"$error":"#N/A"},{"$error":"#N/A"},{"$f":"IF(L119=\"\",NA(),IF('Front sheet'!$T$7<>0,AVERAGE(MR_CL),IF(F119=1,AVERAGE(MR_1),IF(F119=2,AVERAGE(MR_2),IF(F119=3,AVERAGE(MR_3),IF(F119=4,AVERAGE(MR_4),IF(F119=5,AVERAGE(MR_5))))))))","v":{"$error":"#N/A"}},0,{"$error":"#N/A"},null,{"$f":"IF(ISERROR($E119),0,IF($E119>$H119,MAX($Q$8:Q118)+1,0))","v":0},{"$f":"IF(ISERROR($E119),0,IF($E119<$I119,MAX($R$8:R118)+1,0))","v":0},null,0,0,null,0,0,null,0,0,null,0,0,0,0,0,0,0,null,{"$f":"IF(ISERROR($L119),0,IF($L119>$O119,MAX($AK$8:AK118)+1,0))","v":0},{"$error":"#N/A"},null,{"$error":"#N/A"},{"$error":"#N/A"},{"$f":"IF(C119<=$E$3,IF('Front sheet'!$O$3=\"\",NA(),'Front sheet'!$O$3),NA())","v":{"$error":"#N/A"}},{"$error":"#N/A"},{"$error":"#N/A"},{"$error":"#N/A"},{"$error":"#N/A"},{"$error":"#N/A"},{"$error":"#N/A"},{"$error":"#N/A"},{"$error":"#N/A"},{"$error":"#N/A"},{"$error":"#N/A"},{"$error":"#N/A"},{"$error":"#N/A"},{"$error":"#N/A"},{"$error":"#N/A"},{"$error":"#N/A"},{"$error":"#N/A"},{"$error":"#N/A"},{"$error":"#N/A"},"","",null,111,1,"",{"$error":"#N/A"},{"$error":"#N/A"},{"$error":"#N/A"},{"$error":"#N/A"},{"$error":"#N/A"},1,{"$error":"#N/A"},{"$error":"#N/A"},{"$error":"#N/A"},{"$error":"#N/A"},null,null,null,111,{"$error":"#N/A"},{"$error":"#N/A"},{"$error":"#N/A"},null,111,{"$error":"#N/A"},{"$error":"#N/A"},null,111,{"$error":"#N/A"},{"$error":"#N/A"},{"$error":"#N/A"},{"$error":"#N/A"},null,null,111,{"$error":"#N/A"},{"$error":"#N/A"},{"$error":"#N/A"},null,0,0,null,null,{"$error":"#N/A"},{"$error":"#N/A"},{"$error":"#N/A"},{"$error":"#N/A"}]
[null,0,112,{"$f":"IF('Front sheet'!I37=\"\",\"\",'Front sheet'!$I37)","v":""},{"$f":"IF('Front sheet'!J37=\"\",#N/A,'Front sheet'!J37)","v":{"$error":"#N/A"}},"",{"$f":"IF(J120=\"\",NA(),IF('Front sheet'!$T$7<>0,AVERAGE(Tally_CL),IF(F120=1,AVERAGE(Tally),IF(F120=2,AVERAGE(Tally2),IF(F120=3,AVERAGE(Tally3),IF(F120=4,AVERAGE(Tally4),IF(F120=5,AVERAGE(Tally5))))))))","v":{"$error":"#N/A"}},{"$error":"#N/A"},{"$error":"#N/A"},"",{"$error":"#N/A"},{"$error":"#N/A"},{"$f":"IF(L120=\"\",NA(),IF('Front sheet'!$T$7<>0,AVERAGE(MR_CL),IF(F120=1,AVERAGE(MR_1),IF(F120=2,AVERAGE(MR_2),IF(F120=3,AVERAGE(MR_3),IF(F120=4,AVERAGE(MR_4),IF(F120=5,AVERAGE(MR_5))))))))","v":{"$error":"#N/A"}},0,{"$error":"#N/A"},null,{"$f":"IF(ISERROR($E120),0,IF($E120>$H120,MAX($Q$8:Q119)+1,0))","v":0},{"$f":"IF(ISERROR($E120),0,IF($E120<$I120,MAX($R$8:R119)+1,0))","v":0},null,0,0,null,0,0,null,0,0,null,0,0,0,0,0,0,0,null,{"$f":"IF(ISERROR($L120),0,IF($L120>$O120,MAX($AK$8:AK119)+1,0))","v":0},{"$error":"#N/A"},null,{"$error":"#N/A"},{"$error":"#N/A"},{"$f":"IF(C120<=$E$3,IF('Front sheet'!$O$3=\"\",NA(),'Front sheet'!$O$3),NA())","v":{"$error":"#N/A"}},{"$error":"#N/A"},{"$error":"#N/A"},{"$error":"#N/A"},{"$error":"#N/A"},{"$error":"#N/A"},{"$error":"#N/A"},{"$error":"#N/A"},{"$error":"#N/A"},{"$error":"#N/A"},{"$error":"#N/A"},{"$error":"#N/A"},{"$error":"#N/A"},{"$error":"#N/A"},{"$error":"#N/A"},{"$error":"#N/A"},{"$error":"#N/A"},{"$error":"#N/A"},{"$error":"#N/A"},"","",null,112,1,"",{"$error":"#N/A"},{"$error":"#N/A"},{"$error":"#N/A"},{"$error":"#N/A"},{"$error":"#N/A"},1,{"$error":"#N/A"},{"$error":"#N/A"},{"$error":"#N/A"},{"$error":"#N/A"},null,null,null,112,{"$error":"#N/A"},{"$error":"#N/A"},{"$error":"#N/A"},null,112,{"$error":"#N/A"},{"$error":"#N/A"},null,112,{"$error":"#N/A"},{"$error":"#N/A"},{"$error":"#N/A"},{"$error":"#N/A"},null,null,112,{"$error":"#N/A"},{"$error":"#N/A"},{"$error":"#N/A"},null,0,0,null,null,{"$error":"#N/A"},{"$error":"#N/A"},{"$error":"#N/A"},{"$error":"#N/A"}]