{"text_format":"1","workbook":"xlsx","n_sheets":6,"sheets":["Notes","Summary","ICB","Trusts","Categories","BS"],"not_rendered":{"charts":0,"images":0,"macros":1,"external_links":1,"defined_names":14,"comments":0,"pivot_tables":0},"unopened":[],"bounds":{"document_bytes":16777216,"sheet_cells":100000,"rows_first":2000,"rows_last":500,"rows_between":2000,"halvings":0,"cell_chars":16384,"cell_head_chars":4096},"cells_cut":0,"cells_raw":0,"read":"whole","date_system":"1900"}

{"sheet":"Notes","index":0,"n_rows":2,"n_cols":8,"rows_kept":2,"cut":false,"hidden":false,"merged":[[1,1,1,4]]}
[]
[null,"Community Health Friends and Family Test (FFT) data - May 2025",null,null,null,null,null,"  Show data for:"]

{"sheet":"Summary","index":1,"n_rows":11,"n_cols":10,"rows_kept":11,"cut":false,"hidden":false,"merged":[[2,1,3,1],[2,4,2,5],[2,6,2,7],[2,8,2,9]]}
[]
[]
[null,"FFT","Number of organisations submitting","Total responses to date","Responses",null,"Percentage Positive",null,"Percentage Negative"]
[null,null,"2025-05-01","2025-05-01","2025-05-01","2025-04-26","2025-05-01","2025-04-26","2025-05-01","2025-04-26"]
[null,"Community Health Overall",138,11355577,107096,"-",0.94158511989243299,"NA",2.7517367595428402E-2,"NA"]
[null,"Community Inpatient Services",70,387055,3172,"-",0.95050441361916771,"NA",1.5132408575031526E-2,"NA"]
[null,"Community Nursing Services",94,1487544,18536,"-",0.9523629693569271,"NA",1.7965041001294778E-2,"NA"]
[null,"Rehabilitation and Therapy Services",90,2157089,22645,"-",0.95093839699712956,"NA",2.2742327224552883E-2,"NA"]
[null,"Specialist Services",84,2566989,22018,"-",0.95694431828503956,"NA",1.7621945680806612E-2,"NA"]
[null,"Children and Family Services",84,1549870,13615,"-",0.94506059493206018,"NA",1.9757620271759091E-2,"NA"]
[null,"Community Healthcare Other",91,3207030,27110,"-",0.91113980081150869,"NA",5.1420140169679086E-2,"NA"]

{"sheet":"ICB","index":2,"n_rows":46,"n_cols":32,"rows_kept":46,"cut":false,"hidden":false,"merged":[[2,22,3,22],[2,23,3,23],[2,24,3,24],[2,25,3,25],[2,26,2,31],[2,12,3,12],[2,13,3,13],[2,14,3,14],[2,15,3,15],[2,16,2,21],[2,6,2,11],[2,0,3,0],[2,1,3,1],[2,2,3,2],[2,3,3,3],[2,4,3,4],[2,5,3,5]]}
[]
[]
["ICB Code","ICB Name","Total Responses","Total Eligible","Percentage Positive","Percentage Negative","Breakdown of Responses",null,null,null,null,null,"Total Responses","Total Eligible","Percentage Positive","Percentage Negative","Breakdown of Responses",null,null,null,null,null,"Total Responses","Total Eligible","Percentage Positive","Percentage Negative","Breakdown of Responses"]
[null,null,null,null,null,null,"Very Good","Good","Neither Good nor Poor","Poor","Very Poor","Don't Know",null,null,null,null,"Very Good","Good","Neither Good nor Poor","Poor","Very Poor","Don't Know",null,null,null,null,"Very Good","Good","Neither Good nor Poor","Poor","Very Poor","Don't Know"]
[null,"England (including Independent Sector Providers)",107096,2924150,0.94158511989243299,2.7517367595428402E-2,87011,13829,2552,1323,1624,757,{"$f":"SUM(M8:M46)","v":107096},{"$f":"SUM(N8:N46)","v":2924150},{"$f":"SUM(Q5+R5)/SUM(Q5:V5)","v":0.94158511989243299},{"$f":"SUM(T5+U5)/SUM(Q5:V5)","v":2.7517367595428402E-2},87011,13829,2552,1323,1624,757,{"$f":"IFERROR(C5-M5,0)","v":0},{"$f":"IFERROR(D5-N5,0)","v":0},{"$f":"IFERROR(E5-O5,0)","v":0},{"$f":"IFERROR(F5-P5,0)","v":0},{"$f":"IFERROR(G5-Q5,0)","v":0},{"$f":"IFERROR(H5-R5,0)","v":0},{"$f":"IFERROR(I5-S5,0)","v":0},{"$f":"IFERROR(J5-T5,0)","v":0},{"$f":"IFERROR(K5-U5,0)","v":0},{"$f":"IFERROR(L5-V5,0)","v":0}]
[null,"England (excluding Independent Sector Providers)",80855,2379111,0.94718941314699157,2.3511223795683631E-2,66493,10092,1788,868,1033,581,{"$f":"SUM(M8:M45)","v":80855},{"$f":"SUM(N8:N45)","v":2379111},0.94718941314699157,2.3511223795683631E-2,66493,10092,1788,868,1033,581,0,0,0,0,0,0,0,0,0,0]
[null,"Selection (excluding suppressed data)",{"$f":"SUBTOTAL(9,C8:C48)","v":107096},{"$f":"SUBTOTAL(9,D8:D48)","v":2924150},{"$f":"IFERROR((G7+H7)/SUM(G7:L7), \"-\")","v":0.94158511989243299},{"$f":"IFERROR((J7+K7)/SUM(G7:L7), \"-\")","v":2.7517367595428402E-2},{"$f":"SUBTOTAL(9,G8:G48)","v":87011},{"$f":"SUBTOTAL(9,H8:H48)","v":13829},2552,1323,1624,757,{"$f":"SUMIF(C8:C46,\"<>*\",M8:M46)","v":107096},{"$f":"SUMIF(D8:D46,\"<>*\",N8:N46)","v":2924150},0.94158511989243299,2.7517367595428402E-2,87011,13829,2552,1323,1624,757,0,0,0,0,0,0,0,0,0,0]
["QE1","LANCASHIRE AND SOUTH CUMBRIA ICB",2991,154339,0.94918087596121703,1.9057171514543631E-2,2563,276,59,24,33,36,{"$f":"VLOOKUP($A8,[1]Sheet1!$A$47:$I$85,2,0)","v":2991},{"$f":"VLOOKUP($A8,[1]Sheet1!$A$47:$I$85,3,0)","v":154339},{"$f":"SUM(Q8+R8)/SUM(Q8:V8)","v":0.94918087596121703},{"$f":"SUM(T8+U8)/SUM(Q8:V8)","v":1.9057171514543631E-2},{"$f":"VLOOKUP($A8,[1]Sheet1!$A$47:$I$85,4,0)","v":2563},{"$f":"VLOOKUP($A8,[1]Sheet1!$A$47:$I$85,5,0)","v":276},{"$f":"VLOOKUP($A8,[1]Sheet1!$A$47:$I$85,6,0)","v":59},{"$f":"VLOOKUP($A8,[1]Sheet1!$A$47:$I$85,7,0)","v":24},{"$f":"VLOOKUP($A8,[1]Sheet1!$A$47:$I$85,8,0)","v":33},{"$f":"VLOOKUP($A8,[1]Sheet1!$A$47:$I$85,9,0)","v":36},{"$f":"IFERROR(C8-M8,0)","v":0},{"$f":"IFERROR(D8-N8,0)","v":0},0,0,0,0,0,0,0,0]
["QF7","SOUTH YORKSHIRE ICB",914,77464,0.92560175054704596,3.2822757111597371E-2,722,124,31,14,16,7,{"$f":"VLOOKUP($A9,[1]Sheet1!$A$47:$I$85,2,0)","v":914},{"$f":"VLOOKUP($A9,[1]Sheet1!$A$47:$I$85,3,0)","v":77464},{"$f":"SUM(Q9+R9)/SUM(Q9:V9)","v":0.92560175054704596},{"$f":"SUM(T9+U9)/SUM(Q9:V9)","v":3.2822757111597371E-2},{"$f":"VLOOKUP($A9,[1]Sheet1!$A$47:$I$85,4,0)","v":722},{"$f":"VLOOKUP($A9,[1]Sheet1!$A$47:$I$85,5,0)","v":124},{"$f":"VLOOKUP($A9,[1]Sheet1!$A$47:$I$85,6,0)","v":31},{"$f":"VLOOKUP($A9,[1]Sheet1!$A$47:$I$85,7,0)","v":14},{"$f":"VLOOKUP($A9,[1]Sheet1!$A$47:$I$85,8,0)","v":16},{"$f":"VLOOKUP($A9,[1]Sheet1!$A$47:$I$85,9,0)","v":7},{"$f":"IFERROR(C9-M9,0)","v":0},{"$f":"IFERROR(D9-N9,0)","v":0},{"$f":"IFERROR(E9-O9,0)","v":0},{"$f":"IFERROR(F9-P9,0)","v":0},{"$f":"IFERROR(G9-Q9,0)","v":0},{"$f":"IFERROR(H9-R9,0)","v":0},{"$f":"IFERROR(I9-S9,0)","v":0},{"$f":"IFERROR(J9-T9,0)","v":0},{"$f":"IFERROR(K9-U9,0)","v":0},{"$f":"IFERROR(L9-V9,0)","v":0}]
["QGH","HEREFORDSHIRE AND WORCESTERSHIRE ICB",360,5552,0.95,3.3333333333333333E-2,314,28,4,7,5,2,{"$f":"VLOOKUP($A10,[1]Sheet1!$A$47:$I$85,2,0)","v":360},{"$f":"VLOOKUP($A10,[1]Sheet1!$A$47:$I$85,3,0)","v":5552},0.95,3.3333333333333333E-2,{"$f":"VLOOKUP($A10,[1]Sheet1!$A$47:$I$85,4,0)","v":314},{"$f":"VLOOKUP($A10,[1]Sheet1!$A$47:$I$85,5,0)","v":28},{"$f":"VLOOKUP($A10,[1]Sheet1!$A$47:$I$85,6,0)","v":4},{"$f":"VLOOKUP($A10,[1]Sheet1!$A$47:$I$85,7,0)","v":7},{"$f":"VLOOKUP($A10,[1]Sheet1!$A$47:$I$85,8,0)","v":5},{"$f":"VLOOKUP($A10,[1]Sheet1!$A$47:$I$85,9,0)","v":2},0,0,0,0,0,0,0,0,0,0]
["QH8","MID AND SOUTH ESSEX ICB",266,20350,0.95488721804511278,1.1278195488721804E-2,235,19,4,1,2,5,{"$f":"VLOOKUP($A11,[1]Sheet1!$A$47:$I$85,2,0)","v":266},{"$f":"VLOOKUP($A11,[1]Sheet1!$A$47:$I$85,3,0)","v":20350},0.95488721804511278,1.1278195488721804E-2,{"$f":"VLOOKUP($A11,[1]Sheet1!$A$47:$I$85,4,0)","v":235},{"$f":"VLOOKUP($A11,[1]Sheet1!$A$47:$I$85,5,0)","v":19},{"$f":"VLOOKUP($A11,[1]Sheet1!$A$47:$I$85,6,0)","v":4},{"$f":"VLOOKUP($A11,[1]Sheet1!$A$47:$I$85,7,0)","v":1},{"$f":"VLOOKUP($A11,[1]Sheet1!$A$47:$I$85,8,0)","v":2},{"$f":"VLOOKUP($A11,[1]Sheet1!$A$47:$I$85,9,0)","v":5},0,0,0,0,0,0,0,0,0,0]
["QHL","BIRMINGHAM AND SOLIHULL ICB",611,59777,0.96563011456628478,1.1456628477905073E-2,507,83,14,1,6,0,{"$f":"VLOOKUP($A12,[1]Sheet1!$A$47:$I$85,2,0)","v":611},{"$f":"VLOOKUP($A12,[1]Sheet1!$A$47:$I$85,3,0)","v":59777},0.96563011456628478,1.1456628477905073E-2,{"$f":"VLOOKUP($A12,[1]Sheet1!$A$47:$I$85,4,0)","v":507},{"$f":"VLOOKUP($A12,[1]Sheet1!$A$47:$I$85,5,0)","v":83},{"$f":"VLOOKUP($A12,[1]Sheet1!$A$47:$I$85,6,0)","v":14},{"$f":"VLOOKUP($A12,[1]Sheet1!$A$47:$I$85,7,0)","v":1},{"$f":"VLOOKUP($A12,[1]Sheet1!$A$47:$I$85,8,0)","v":6},{"$f":"VLOOKUP($A12,[1]Sheet1!$A$47:$I$85,9,0)","v":0},0,0,0,0,0,0,0,0,0,0]
["QHM","NORTH EAST AND NORTH CUMBRIA ICB",3526,116189,0.96965399886557002,1.3896766874645491E-2,3026,393,48,24,25,10,{"$f":"VLOOKUP($A13,[1]Sheet1!$A$47:$I$85,2,0)","v":3526},{"$f":"VLOOKUP($A13,[1]Sheet1!$A$47:$I$85,3,0)","v":116189},0.96965399886557002,1.3896766874645491E-2,{"$f":"VLOOKUP($A13,[1]Sheet1!$A$47:$I$85,4,0)","v":3026},{"$f":"VLOOKUP($A13,[1]Sheet1!$A$47:$I$85,5,0)","v":393},{"$f":"VLOOKUP($A13,[1]Sheet1!$A$47:$I$85,6,0)","v":48},{"$f":"VLOOKUP($A13,[1]Sheet1!$A$47:$I$85,7,0)","v":24},{"$f":"VLOOKUP($A13,[1]Sheet1!$A$47:$I$85,8,0)","v":25},{"$f":"VLOOKUP($A13,[1]Sheet1!$A$47:$I$85,9,0)","v":10},0,0,0,0,0,0,0,0,0,0]
["QJ2","DERBY AND DERBYSHIRE ICB",3076,39157,0.93270481144343298,3.7061118335500652E-2,2529,340,78,63,51,15,{"$f":"VLOOKUP($A14,[1]Sheet1!$A$47:$I$85,2,0)","v":3076},{"$f":"VLOOKUP($A14,[1]Sheet1!$A$47:$I$85,3,0)","v":39157},0.93270481144343298,3.7061118335500652E-2,{"$f":"VLOOKUP($A14,[1]Sheet1!$A$47:$I$85,4,0)","v":2529},{"$f":"VLOOKUP($A14,[1]Sheet1!$A$47:$I$85,5,0)","v":340},{"$f":"VLOOKUP($A14,[1]Sheet1!$A$47:$I$85,6,0)","v":78},{"$f":"VLOOKUP($A14,[1]Sheet1!$A$47:$I$85,7,0)","v":63},{"$f":"VLOOKUP($A14,[1]Sheet1!$A$47:$I$85,8,0)","v":51},{"$f":"VLOOKUP($A14,[1]Sheet1!$A$47:$I$85,9,0)","v":15},0,0,0,0,0,0,0,0,0,0]
["QJG","SUFFOLK AND NORTH EAST ESSEX ICB",546,11122,0.9432234432234432,3.1135531135531136E-2,461,54,11,9,8,3,{"$f":"VLOOKUP($A15,[1]Sheet1!$A$47:$I$85,2,0)","v":546},{"$f":"VLOOKUP($A15,[1]Sheet1!$A$47:$I$85,3,0)","v":11122},0.9432234432234432,3.1135531135531136E-2,{"$f":"VLOOKUP($A15,[1]Sheet1!$A$47:$I$85,4,0)","v":461},{"$f":"VLOOKUP($A15,[1]Sheet1!$A$47:$I$85,5,0)","v":54},{"$f":"VLOOKUP($A15,[1]Sheet1!$A$47:$I$85,6,0)","v":11},{"$f":"VLOOKUP($A15,[1]Sheet1!$A$47:$I$85,7,0)","v":9},{"$f":"VLOOKUP($A15,[1]Sheet1!$A$47:$I$85,8,0)","v":8},{"$f":"VLOOKUP($A15,[1]Sheet1!$A$47:$I$85,9,0)","v":3},0,0,0,0,0,0,0,0,0,0]
["QJK","DEVON ICB",681,45711,0.986784140969163,4.4052863436123352E-3,600,72,6,2,1,0,{"$f":"VLOOKUP($A16,[1]Sheet1!$A$47:$I$85,2,0)","v":681},{"$f":"VLOOKUP($A16,[1]Sheet1!$A$47:$I$85,3,0)","v":45711},0.986784140969163,4.4052863436123352E-3,{"$f":"VLOOKUP($A16,[1]Sheet1!$A$47:$I$85,4,0)","v":600},{"$f":"VLOOKUP($A16,[1]Sheet1!$A$47:$I$85,5,0)","v":72},{"$f":"VLOOKUP($A16,[1]Sheet1!$A$47:$I$85,6,0)","v":6},{"$f":"VLOOKUP($A16,[1]Sheet1!$A$47:$I$85,7,0)","v":2},{"$f":"VLOOKUP($A16,[1]Sheet1!$A$47:$I$85,8,0)","v":1},{"$f":"VLOOKUP($A16,[1]Sheet1!$A$47:$I$85,9,0)","v":0},0,0,0,0,0,0,0,0,0,0]
["QJM","LINCOLNSHIRE ICB",4799,26753,0.89289435299020625,5.9387372369243595E-2,3637,648,177,130,155,52,{"$f":"VLOOKUP($A17,[1]Sheet1!$A$47:$I$85,2,0)","v":4799},{"$f":"VLOOKUP($A17,[1]Sheet1!$A$47:$I$85,3,0)","v":26753},0.89289435299020625,5.9387372369243595E-2,{"$f":"VLOOKUP($A17,[1]Sheet1!$A$47:$I$85,4,0)","v":3637},{"$f":"VLOOKUP($A17,[1]Sheet1!$A$47:$I$85,5,0)","v":648},{"$f":"VLOOKUP($A17,[1]Sheet1!$A$47:$I$85,6,0)","v":177},{"$f":"VLOOKUP($A17,[1]Sheet1!$A$47:$I$85,7,0)","v":130},{"$f":"VLOOKUP($A17,[1]Sheet1!$A$47:$I$85,8,0)","v":155},{"$f":"VLOOKUP($A17,[1]Sheet1!$A$47:$I$85,9,0)","v":52},0,0,0,0,0,0,0,0,0,0]
["QK1","LEICESTER, LEICESTERSHIRE AND RUTLAND ICB",1158,44331,0.92314335060449049,2.5906735751295335E-2,893,176,48,13,17,11,{"$f":"VLOOKUP($A18,[1]Sheet1!$A$47:$I$85,2,0)","v":1158},{"$f":"VLOOKUP($A18,[1]Sheet1!$A$47:$I$85,3,0)","v":44331},0.92314335060449049,2.5906735751295335E-2,{"$f":"VLOOKUP($A18,[1]Sheet1!$A$47:$I$85,4,0)","v":893},{"$f":"VLOOKUP($A18,[1]Sheet1!$A$47:$I$85,5,0)","v":176},{"$f":"VLOOKUP($A18,[1]Sheet1!$A$47:$I$85,6,0)","v":48},{"$f":"VLOOKUP($A18,[1]Sheet1!$A$47:$I$85,7,0)","v":13},{"$f":"VLOOKUP($A18,[1]Sheet1!$A$47:$I$85,8,0)","v":17},{"$f":"VLOOKUP($A18,[1]Sheet1!$A$47:$I$85,9,0)","v":11},0,0,0,0,0,0,0,0,0,0]
["QKK","SOUTH EAST LONDON ICB",3394,61854,0.92663523865645259,2.6222746022392458E-2,2624,521,138,47,42,22,{"$f":"VLOOKUP($A19,[1]Sheet1!$A$47:$I$85,2,0)","v":3394},{"$f":"VLOOKUP($A19,[1]Sheet1!$A$47:$I$85,3,0)","v":61854},0.92663523865645259,2.6222746022392458E-2,{"$f":"VLOOKUP($A19,[1]Sheet1!$A$47:$I$85,4,0)","v":2624},{"$f":"VLOOKUP($A19,[1]Sheet1!$A$47:$I$85,5,0)","v":521},{"$f":"VLOOKUP($A19,[1]Sheet1!$A$47:$I$85,6,0)","v":138},{"$f":"VLOOKUP($A19,[1]Sheet1!$A$47:$I$85,7,0)","v":47},{"$f":"VLOOKUP($A19,[1]Sheet1!$A$47:$I$85,8,0)","v":42},{"$f":"VLOOKUP($A19,[1]Sheet1!$A$47:$I$85,9,0)","v":22},0,0,0,0,0,0,0,0,0,0]
["QKS","KENT AND MEDWAY ICB",5040,65000,0.97142857142857142,9.1269841269841275E-3,4393,503,81,21,25,17,{"$f":"VLOOKUP($A20,[1]Sheet1!$A$47:$I$85,2,0)","v":5040},{"$f":"VLOOKUP($A20,[1]Sheet1!$A$47:$I$85,3,0)","v":65000},0.97142857142857142,9.1269841269841275E-3,{"$f":"VLOOKUP($A20,[1]Sheet1!$A$47:$I$85,4,0)","v":4393},{"$f":"VLOOKUP($A20,[1]Sheet1!$A$47:$I$85,5,0)","v":503},{"$f":"VLOOKUP($A20,[1]Sheet1!$A$47:$I$85,6,0)","v":81},{"$f":"VLOOKUP($A20,[1]Sheet1!$A$47:$I$85,7,0)","v":21},{"$f":"VLOOKUP($A20,[1]Sheet1!$A$47:$I$85,8,0)","v":25},{"$f":"VLOOKUP($A20,[1]Sheet1!$A$47:$I$85,9,0)","v":17},0,0,0,0,0,0,0,0,0,0]
["QM7","HERTFORDSHIRE AND WEST ESSEX ICB",972,42590,0.9238683127572016,3.3950617283950615E-2,793,105,34,17,16,7,{"$f":"VLOOKUP($A21,[1]Sheet1!$A$47:$I$85,2,0)","v":972},{"$f":"VLOOKUP($A21,[1]Sheet1!$A$47:$I$85,3,0)","v":42590},0.9238683127572016,3.3950617283950615E-2,{"$f":"VLOOKUP($A21,[1]Sheet1!$A$47:$I$85,4,0)","v":793},{"$f":"VLOOKUP($A21,[1]Sheet1!$A$47:$I$85,5,0)","v":105},{"$f":"VLOOKUP($A21,[1]Sheet1!$A$47:$I$85,6,0)","v":34},{"$f":"VLOOKUP($A21,[1]Sheet1!$A$47:$I$85,7,0)","v":17},{"$f":"VLOOKUP($A21,[1]Sheet1!$A$47:$I$85,8,0)","v":16},{"$f":"VLOOKUP($A21,[1]Sheet1!$A$47:$I$85,9,0)","v":7},0,0,0,0,0,0,0,0,0,0]
["QMF","NORTH EAST LONDON ICB",2908,77426,0.93363136176066019,2.8885832187070151E-2,1905,810,88,37,47,21,{"$f":"VLOOKUP($A22,[1]Sheet1!$A$47:$I$85,2,0)","v":2908},{"$f":"VLOOKUP($A22,[1]Sheet1!$A$47:$I$85,3,0)","v":77426},0.93363136176066019,2.8885832187070151E-2,{"$f":"VLOOKUP($A22,[1]Sheet1!$A$47:$I$85,4,0)","v":1905},{"$f":"VLOOKUP($A22,[1]Sheet1!$A$47:$I$85,5,0)","v":810},{"$f":"VLOOKUP($A22,[1]Sheet1!$A$47:$I$85,6,0)","v":88},{"$f":"VLOOKUP($A22,[1]Sheet1!$A$47:$I$85,7,0)","v":37},{"$f":"VLOOKUP($A22,[1]Sheet1!$A$47:$I$85,8,0)","v":47},{"$f":"VLOOKUP($A22,[1]Sheet1!$A$47:$I$85,9,0)","v":21},0,0,0,0,0,0,0,0,0,0]
["QMJ","NORTH CENTRAL LONDON ICB",2018,65352,0.95837462834489595,1.1397423191278493E-2,1477,457,55,13,10,6,{"$f":"VLOOKUP($A23,[1]Sheet1!$A$47:$I$85,2,0)","v":2018},{"$f":"VLOOKUP($A23,[1]Sheet1!$A$47:$I$85,3,0)","v":65352},0.95837462834489595,1.1397423191278493E-2,{"$f":"VLOOKUP($A23,[1]Sheet1!$A$47:$I$85,4,0)","v":1477},{"$f":"VLOOKUP($A23,[1]Sheet1!$A$47:$I$85,5,0)","v":457},{"$f":"VLOOKUP($A23,[1]Sheet1!$A$47:$I$85,6,0)","v":55},{"$f":"VLOOKUP($A23,[1]Sheet1!$A$47:$I$85,7,0)","v":13},{"$f":"VLOOKUP($A23,[1]Sheet1!$A$47:$I$85,8,0)","v":10},{"$f":"VLOOKUP($A23,[1]Sheet1!$A$47:$I$85,9,0)","v":6},0,0,0,0,0,0,0,0,0,0]
["QMM","NORFOLK AND WAVENEY ICB",413,30405,0.96610169491525422,4.8426150121065378E-3,342,57,12,1,1,0,{"$f":"VLOOKUP($A24,[1]Sheet1!$A$47:$I$85,2,0)","v":413},{"$f":"VLOOKUP($A24,[1]Sheet1!$A$47:$I$85,3,0)","v":30405},0.96610169491525422,4.8426150121065378E-3,{"$f":"VLOOKUP($A24,[1]Sheet1!$A$47:$I$85,4,0)","v":342},{"$f":"VLOOKUP($A24,[1]Sheet1!$A$47:$I$85,5,0)","v":57},{"$f":"VLOOKUP($A24,[1]Sheet1!$A$47:$I$85,6,0)","v":12},{"$f":"VLOOKUP($A24,[1]Sheet1!$A$47:$I$85,7,0)","v":1},{"$f":"VLOOKUP($A24,[1]Sheet1!$A$47:$I$85,8,0)","v":1},{"$f":"VLOOKUP($A24,[1]Sheet1!$A$47:$I$85,9,0)","v":0},0,0,0,0,0,0,0,0,0,0]
["QNC","STAFFORDSHIRE AND STOKE-ON-TRENT ICB",1361,48945,0.92652461425422483,3.0124908155767818E-2,1083,178,41,18,23,18,{"$f":"VLOOKUP($A25,[1]Sheet1!$A$47:$I$85,2,0)","v":1361},{"$f":"VLOOKUP($A25,[1]Sheet1!$A$47:$I$85,3,0)","v":48945},0.92652461425422483,3.0124908155767818E-2,{"$f":"VLOOKUP($A25,[1]Sheet1!$A$47:$I$85,4,0)","v":1083},{"$f":"VLOOKUP($A25,[1]Sheet1!$A$47:$I$85,5,0)","v":178},{"$f":"VLOOKUP($A25,[1]Sheet1!$A$47:$I$85,6,0)","v":41},{"$f":"VLOOKUP($A25,[1]Sheet1!$A$47:$I$85,7,0)","v":18},{"$f":"VLOOKUP($A25,[1]Sheet1!$A$47:$I$85,8,0)","v":23},{"$f":"VLOOKUP($A25,[1]Sheet1!$A$47:$I$85,9,0)","v":18},0,0,0,0,0,0,0,0,0,0]
["QNQ","FRIMLEY ICB",3894,40469,0.96122239342578331,1.3097072419106317E-2,3278,465,58,21,30,42,{"$f":"VLOOKUP($A26,[1]Sheet1!$A$47:$I$85,2,0)","v":3894},{"$f":"VLOOKUP($A26,[1]Sheet1!$A$47:$I$85,3,0)","v":40469},0.96122239342578331,1.3097072419106317E-2,{"$f":"VLOOKUP($A26,[1]Sheet1!$A$47:$I$85,4,0)","v":3278},{"$f":"VLOOKUP($A26,[1]Sheet1!$A$47:$I$85,5,0)","v":465},{"$f":"VLOOKUP($A26,[1]Sheet1!$A$47:$I$85,6,0)","v":58},{"$f":"VLOOKUP($A26,[1]Sheet1!$A$47:$I$85,7,0)","v":21},{"$f":"VLOOKUP($A26,[1]Sheet1!$A$47:$I$85,8,0)","v":30},{"$f":"VLOOKUP($A26,[1]Sheet1!$A$47:$I$85,9,0)","v":42},0,0,0,0,0,0,0,0,0,0]
["QNX","SUSSEX ICB",4791,105731,0.95554164057608015,2.1289918597370068E-2,4091,487,94,45,57,17,{"$f":"VLOOKUP($A27,[1]Sheet1!$A$47:$I$85,2,0)","v":4791},{"$f":"VLOOKUP($A27,[1]Sheet1!$A$47:$I$85,3,0)","v":105731},0.95554164057608015,2.1289918597370068E-2,{"$f":"VLOOKUP($A27,[1]Sheet1!$A$47:$I$85,4,0)","v":4091},{"$f":"VLOOKUP($A27,[1]Sheet1!$A$47:$I$85,5,0)","v":487},{"$f":"VLOOKUP($A27,[1]Sheet1!$A$47:$I$85,6,0)","v":94},{"$f":"VLOOKUP($A27,[1]Sheet1!$A$47:$I$85,7,0)","v":45},{"$f":"VLOOKUP($A27,[1]Sheet1!$A$47:$I$85,8,0)","v":57},{"$f":"VLOOKUP($A27,[1]Sheet1!$A$47:$I$85,9,0)","v":17},0,0,0,0,0,0,0,0,0,0]
["QOC","SHROPSHIRE, TELFORD AND WREKIN ICB",223,473413,0.97757847533632292,4.4843049327354259E-3,203,15,4,1,0,0,{"$f":"VLOOKUP($A28,[1]Sheet1!$A$47:$I$85,2,0)","v":223},{"$f":"VLOOKUP($A28,[1]Sheet1!$A$47:$I$85,3,0)","v":473413},0.97757847533632292,4.4843049327354259E-3,{"$f":"VLOOKUP($A28,[1]Sheet1!$A$47:$I$85,4,0)","v":203},{"$f":"VLOOKUP($A28,[1]Sheet1!$A$47:$I$85,5,0)","v":15},{"$f":"VLOOKUP($A28,[1]Sheet1!$A$47:$I$85,6,0)","v":4},{"$f":"VLOOKUP($A28,[1]Sheet1!$A$47:$I$85,7,0)","v":1},{"$f":"VLOOKUP($A28,[1]Sheet1!$A$47:$I$85,8,0)","v":0},{"$f":"VLOOKUP($A28,[1]Sheet1!$A$47:$I$85,9,0)","v":0},0,0,0,0,0,0,0,0,0,0]
["QOP","GREATER MANCHESTER ICB",3189,71395,0.97899027908435243,8.4666039510818431E-3,2838,284,29,13,14,11,{"$f":"VLOOKUP($A29,[1]Sheet1!$A$47:$I$85,2,0)","v":3189},{"$f":"VLOOKUP($A29,[1]Sheet1!$A$47:$I$85,3,0)","v":71395},0.97899027908435243,8.4666039510818431E-3,{"$f":"VLOOKUP($A29,[1]Sheet1!$A$47:$I$85,4,0)","v":2838},{"$f":"VLOOKUP($A29,[1]Sheet1!$A$47:$I$85,5,0)","v":284},{"$f":"VLOOKUP($A29,[1]Sheet1!$A$47:$I$85,6,0)","v":29},{"$f":"VLOOKUP($A29,[1]Sheet1!$A$47:$I$85,7,0)","v":13},{"$f":"VLOOKUP($A29,[1]Sheet1!$A$47:$I$85,8,0)","v":14},{"$f":"VLOOKUP($A29,[1]Sheet1!$A$47:$I$85,9,0)","v":11},0,0,0,0,0,0,0,0,0,0]
["QOQ","HUMBER AND NORTH YORKSHIRE ICB",374,28985,0.97593582887700536,1.6042780748663103E-2,349,16,3,2,4,0,{"$f":"VLOOKUP($A30,[1]Sheet1!$A$47:$I$85,2,0)","v":374},{"$f":"VLOOKUP($A30,[1]Sheet1!$A$47:$I$85,3,0)","v":28985},0.97593582887700536,1.6042780748663103E-2,{"$f":"VLOOKUP($A30,[1]Sheet1!$A$47:$I$85,4,0)","v":349},{"$f":"VLOOKUP($A30,[1]Sheet1!$A$47:$I$85,5,0)","v":16},{"$f":"VLOOKUP($A30,[1]Sheet1!$A$47:$I$85,6,0)","v":3},{"$f":"VLOOKUP($A30,[1]Sheet1!$A$47:$I$85,7,0)","v":2},{"$f":"VLOOKUP($A30,[1]Sheet1!$A$47:$I$85,8,0)","v":4},{"$f":"VLOOKUP($A30,[1]Sheet1!$A$47:$I$85,9,0)","v":0},0,0,0,0,0,0,0,0,0,0]
["QPM","NORTHAMPTONSHIRE ICB",772,33602,0.97020725388601037,6.4766839378238338E-3,674,75,10,3,2,8,{"$f":"VLOOKUP($A31,[1]Sheet1!$A$47:$I$85,2,0)","v":772},{"$f":"VLOOKUP($A31,[1]Sheet1!$A$47:$I$85,3,0)","v":33602},0.97020725388601037,6.4766839378238338E-3,{"$f":"VLOOKUP($A31,[1]Sheet1!$A$47:$I$85,4,0)","v":674},{"$f":"VLOOKUP($A31,[1]Sheet1!$A$47:$I$85,5,0)","v":75},{"$f":"VLOOKUP($A31,[1]Sheet1!$A$47:$I$85,6,0)","v":10},{"$f":"VLOOKUP($A31,[1]Sheet1!$A$47:$I$85,7,0)","v":3},{"$f":"VLOOKUP($A31,[1]Sheet1!$A$47:$I$85,8,0)","v":2},{"$f":"VLOOKUP($A31,[1]Sheet1!$A$47:$I$85,9,0)","v":8},0,0,0,0,0,0,0,0,0,0]
["QR1","GLOUCESTERSHIRE ICB",2326,24082,0.93938091143594149,2.9664660361134996E-2,1810,375,48,30,39,24,{"$f":"VLOOKUP($A32,[1]Sheet1!$A$47:$I$85,2,0)","v":2326},{"$f":"VLOOKUP($A32,[1]Sheet1!$A$47:$I$85,3,0)","v":24082},0.93938091143594149,2.9664660361134996E-2,{"$f":"VLOOKUP($A32,[1]Sheet1!$A$47:$I$85,4,0)","v":1810},{"$f":"VLOOKUP($A32,[1]Sheet1!$A$47:$I$85,5,0)","v":375},{"$f":"VLOOKUP($A32,[1]Sheet1!$A$47:$I$85,6,0)","v":48},{"$f":"VLOOKUP($A32,[1]Sheet1!$A$47:$I$85,7,0)","v":30},{"$f":"VLOOKUP($A32,[1]Sheet1!$A$47:$I$85,8,0)","v":39},{"$f":"VLOOKUP($A32,[1]Sheet1!$A$47:$I$85,9,0)","v":24},0,0,0,0,0,0,0,0,0,0]
["QRL","HAMPSHIRE AND ISLE OF WIGHT ICB",2521,68639,0.97064656882189604,6.346687822292741E-3,2107,340,44,3,13,14,{"$f":"VLOOKUP($A33,[1]Sheet1!$A$47:$I$85,2,0)","v":2521},{"$f":"VLOOKUP($A33,[1]Sheet1!$A$47:$I$85,3,0)","v":68639},0.97064656882189604,6.346687822292741E-3,{"$f":"VLOOKUP($A33,[1]Sheet1!$A$47:$I$85,4,0)","v":2107},{"$f":"VLOOKUP($A33,[1]Sheet1!$A$47:$I$85,5,0)","v":340},{"$f":"VLOOKUP($A33,[1]Sheet1!$A$47:$I$85,6,0)","v":44},{"$f":"VLOOKUP($A33,[1]Sheet1!$A$47:$I$85,7,0)","v":3},{"$f":"VLOOKUP($A33,[1]Sheet1!$A$47:$I$85,8,0)","v":13},{"$f":"VLOOKUP($A33,[1]Sheet1!$A$47:$I$85,9,0)","v":14},0,0,0,0,0,0,0,0,0,0]
["QRV","NORTH WEST LONDON ICB",4371,118480,0.92999313658201788,3.5003431708991076E-2,3572,493,85,63,90,68,{"$f":"VLOOKUP($A34,[1]Sheet1!$A$47:$I$85,2,0)","v":4371},{"$f":"VLOOKUP($A34,[1]Sheet1!$A$47:$I$85,3,0)","v":118480},0.92999313658201788,3.5003431708991076E-2,{"$f":"VLOOKUP($A34,[1]Sheet1!$A$47:$I$85,4,0)","v":3572},{"$f":"VLOOKUP($A34,[1]Sheet1!$A$47:$I$85,5,0)","v":493},{"$f":"VLOOKUP($A34,[1]Sheet1!$A$47:$I$85,6,0)","v":85},{"$f":"VLOOKUP($A34,[1]Sheet1!$A$47:$I$85,7,0)","v":63},{"$f":"VLOOKUP($A34,[1]Sheet1!$A$47:$I$85,8,0)","v":90},{"$f":"VLOOKUP($A34,[1]Sheet1!$A$47:$I$85,9,0)","v":68},0,0,0,0,0,0,0,0,0,0]
["QSL","SOMERSET ICB",0,19422,"NA","NA",0,0,0,0,0,0,{"$f":"VLOOKUP($A35,[1]Sheet1!$A$47:$I$85,2,0)","v":0},{"$f":"VLOOKUP($A35,[1]Sheet1!$A$47:$I$85,3,0)","v":19422},{"$error":"#DIV/0!"},{"$error":"#DIV/0!"},{"$f":"VLOOKUP($A35,[1]Sheet1!$A$47:$I$85,4,0)","v":0},{"$f":"VLOOKUP($A35,[1]Sheet1!$A$47:$I$85,5,0)","v":0},{"$f":"VLOOKUP($A35,[1]Sheet1!$A$47:$I$85,6,0)","v":0},{"$f":"VLOOKUP($A35,[1]Sheet1!$A$47:$I$85,7,0)","v":0},{"$f":"VLOOKUP($A35,[1]Sheet1!$A$47:$I$85,8,0)","v":0},{"$f":"VLOOKUP($A35,[1]Sheet1!$A$47:$I$85,9,0)","v":0},0,0,0,0,0,0,0,0,0,0]
["QT1","NOTTINGHAM AND NOTTINGHAMSHIRE ICB",260,37029,0.95,2.6923076923076925E-2,210,37,5,3,4,1,{"$f":"VLOOKUP($A36,[1]Sheet1!$A$47:$I$85,2,0)","v":260},{"$f":"VLOOKUP($A36,[1]Sheet1!$A$47:$I$85,3,0)","v":37029},0.95,2.6923076923076925E-2,{"$f":"VLOOKUP($A36,[1]Sheet1!$A$47:$I$85,4,0)","v":210},{"$f":"VLOOKUP($A36,[1]Sheet1!$A$47:$I$85,5,0)","v":37},{"$f":"VLOOKUP($A36,[1]Sheet1!$A$47:$I$85,6,0)","v":5},{"$f":"VLOOKUP($A36,[1]Sheet1!$A$47:$I$85,7,0)","v":3},{"$f":"VLOOKUP($A36,[1]Sheet1!$A$47:$I$85,8,0)","v":4},{"$f":"VLOOKUP($A36,[1]Sheet1!$A$47:$I$85,9,0)","v":1},0,0,0,0,0,0,0,0,0,0]
["QU9","BUCKINGHAMSHIRE, OXFORDSHIRE AND BERKSHIRE WEST ICB",1276,33570,0.95219435736677116,2.2727272727272728E-2,1063,152,19,7,22,13,{"$f":"VLOOKUP($A37,[1]Sheet1!$A$47:$I$85,2,0)","v":1276},{"$f":"VLOOKUP($A37,[1]Sheet1!$A$47:$I$85,3,0)","v":33570},0.95219435736677116,2.2727272727272728E-2,{"$f":"VLOOKUP($A37,[1]Sheet1!$A$47:$I$85,4,0)","v":1063},{"$f":"VLOOKUP($A37,[1]Sheet1!$A$47:$I$85,5,0)","v":152},{"$f":"VLOOKUP($A37,[1]Sheet1!$A$47:$I$85,6,0)","v":19},{"$f":"VLOOKUP($A37,[1]Sheet1!$A$47:$I$85,7,0)","v":7},{"$f":"VLOOKUP($A37,[1]Sheet1!$A$47:$I$85,8,0)","v":22},{"$f":"VLOOKUP($A37,[1]Sheet1!$A$47:$I$85,9,0)","v":13},0,0,0,0,0,0,0,0,0,0]
["QUA","BLACK COUNTRY ICB",1241,17949,0.93956486704270747,1.1281224818694601E-2,1024,142,29,7,7,32,{"$f":"VLOOKUP($A38,[1]Sheet1!$A$47:$I$85,2,0)","v":1241},{"$f":"VLOOKUP($A38,[1]Sheet1!$A$47:$I$85,3,0)","v":17949},0.93956486704270747,1.1281224818694601E-2,{"$f":"VLOOKUP($A38,[1]Sheet1!$A$47:$I$85,4,0)","v":1024},{"$f":"VLOOKUP($A38,[1]Sheet1!$A$47:$I$85,5,0)","v":142},{"$f":"VLOOKUP($A38,[1]Sheet1!$A$47:$I$85,6,0)","v":29},{"$f":"VLOOKUP($A38,[1]Sheet1!$A$47:$I$85,7,0)","v":7},{"$f":"VLOOKUP($A38,[1]Sheet1!$A$47:$I$85,8,0)","v":7},{"$f":"VLOOKUP($A38,[1]Sheet1!$A$47:$I$85,9,0)","v":32},0,0,0,0,0,0,0,0,0,0]
["QUE","CAMBRIDGESHIRE AND PETERBOROUGH ICB",3227,77061,0.94669972110319178,1.9212891230244809E-2,2617,438,81,25,37,29,{"$f":"VLOOKUP($A39,[1]Sheet1!$A$47:$I$85,2,0)","v":3227},{"$f":"VLOOKUP($A39,[1]Sheet1!$A$47:$I$85,3,0)","v":77061},0.94669972110319178,1.9212891230244809E-2,{"$f":"VLOOKUP($A39,[1]Sheet1!$A$47:$I$85,4,0)","v":2617},{"$f":"VLOOKUP($A39,[1]Sheet1!$A$47:$I$85,5,0)","v":438},{"$f":"VLOOKUP($A39,[1]Sheet1!$A$47:$I$85,6,0)","v":81},{"$f":"VLOOKUP($A39,[1]Sheet1!$A$47:$I$85,7,0)","v":25},{"$f":"VLOOKUP($A39,[1]Sheet1!$A$47:$I$85,8,0)","v":37},{"$f":"VLOOKUP($A39,[1]Sheet1!$A$47:$I$85,9,0)","v":29},0,0,0,0,0,0,0,0,0,0]
["QVV","DORSET ICB",1506,20486,0.90172642762284194,5.5112881806108897E-2,1144,214,61,33,50,4,{"$f":"VLOOKUP($A40,[1]Sheet1!$A$47:$I$85,2,0)","v":1506},{"$f":"VLOOKUP($A40,[1]Sheet1!$A$47:$I$85,3,0)","v":20486},0.90172642762284194,5.5112881806108897E-2,{"$f":"VLOOKUP($A40,[1]Sheet1!$A$47:$I$85,4,0)","v":1144},{"$f":"VLOOKUP($A40,[1]Sheet1!$A$47:$I$85,5,0)","v":214},{"$f":"VLOOKUP($A40,[1]Sheet1!$A$47:$I$85,6,0)","v":61},{"$f":"VLOOKUP($A40,[1]Sheet1!$A$47:$I$85,7,0)","v":33},{"$f":"VLOOKUP($A40,[1]Sheet1!$A$47:$I$85,8,0)","v":50},{"$f":"VLOOKUP($A40,[1]Sheet1!$A$47:$I$85,9,0)","v":4},0,0,0,0,0,0,0,0,0,0]
["QWE","SOUTH WEST LONDON ICB",3168,37032,0.94791666666666663,2.4305555555555556E-2,2490,513,71,49,28,17,{"$f":"VLOOKUP($A41,[1]Sheet1!$A$47:$I$85,2,0)","v":3168},{"$f":"VLOOKUP($A41,[1]Sheet1!$A$47:$I$85,3,0)","v":37032},0.94791666666666663,2.4305555555555556E-2,{"$f":"VLOOKUP($A41,[1]Sheet1!$A$47:$I$85,4,0)","v":2490},{"$f":"VLOOKUP($A41,[1]Sheet1!$A$47:$I$85,5,0)","v":513},{"$f":"VLOOKUP($A41,[1]Sheet1!$A$47:$I$85,6,0)","v":71},{"$f":"VLOOKUP($A41,[1]Sheet1!$A$47:$I$85,7,0)","v":49},{"$f":"VLOOKUP($A41,[1]Sheet1!$A$47:$I$85,8,0)","v":28},{"$f":"VLOOKUP($A41,[1]Sheet1!$A$47:$I$85,9,0)","v":17},0,0,0,0,0,0,0,0,0,0]
["QWO","WEST YORKSHIRE ICB",3857,49651,0.96966554316826548,1.2963443090484833E-2,3466,274,61,24,26,6,{"$f":"VLOOKUP($A42,[1]Sheet1!$A$47:$I$85,2,0)","v":3857},{"$f":"VLOOKUP($A42,[1]Sheet1!$A$47:$I$85,3,0)","v":49651},0.96966554316826548,1.2963443090484833E-2,{"$f":"VLOOKUP($A42,[1]Sheet1!$A$47:$I$85,4,0)","v":3466},{"$f":"VLOOKUP($A42,[1]Sheet1!$A$47:$I$85,5,0)","v":274},{"$f":"VLOOKUP($A42,[1]Sheet1!$A$47:$I$85,6,0)","v":61},{"$f":"VLOOKUP($A42,[1]Sheet1!$A$47:$I$85,7,0)","v":24},{"$f":"VLOOKUP($A42,[1]Sheet1!$A$47:$I$85,8,0)","v":26},{"$f":"VLOOKUP($A42,[1]Sheet1!$A$47:$I$85,9,0)","v":6},0,0,0,0,0,0,0,0,0,0]
["QWU","COVENTRY AND WARWICKSHIRE ICB",144,7891,0.94444444444444442,2.0833333333333332E-2,125,11,0,0,3,5,{"$f":"VLOOKUP($A43,[1]Sheet1!$A$47:$I$85,2,0)","v":144},{"$f":"VLOOKUP($A43,[1]Sheet1!$A$47:$I$85,3,0)","v":7891},0.94444444444444442,2.0833333333333332E-2,{"$f":"VLOOKUP($A43,[1]Sheet1!$A$47:$I$85,4,0)","v":125},{"$f":"VLOOKUP($A43,[1]Sheet1!$A$47:$I$85,5,0)","v":11},{"$f":"VLOOKUP($A43,[1]Sheet1!$A$47:$I$85,6,0)","v":0},{"$f":"VLOOKUP($A43,[1]Sheet1!$A$47:$I$85,7,0)","v":0},{"$f":"VLOOKUP($A43,[1]Sheet1!$A$47:$I$85,8,0)","v":3},{"$f":"VLOOKUP($A43,[1]Sheet1!$A$47:$I$85,9,0)","v":5},0,0,0,0,0,0,0,0,0,0]
["QXU","SURREY HEARTLANDS ICB",49,3584,0.97959183673469385,0,39,9,1,0,0,0,{"$f":"VLOOKUP($A44,[1]Sheet1!$A$47:$I$85,2,0)","v":49},{"$f":"VLOOKUP($A44,[1]Sheet1!$A$47:$I$85,3,0)","v":3584},0.97959183673469385,0,{"$f":"VLOOKUP($A44,[1]Sheet1!$A$47:$I$85,4,0)","v":39},{"$f":"VLOOKUP($A44,[1]Sheet1!$A$47:$I$85,5,0)","v":9},{"$f":"VLOOKUP($A44,[1]Sheet1!$A$47:$I$85,6,0)","v":1},{"$f":"VLOOKUP($A44,[1]Sheet1!$A$47:$I$85,7,0)","v":0},{"$f":"VLOOKUP($A44,[1]Sheet1!$A$47:$I$85,8,0)","v":0},{"$f":"VLOOKUP($A44,[1]Sheet1!$A$47:$I$85,9,0)","v":0},0,0,0,0,0,0,0,0,0,0]
["QYG","CHESHIRE AND MERSEYSIDE ICB",8632,118323,0.94960611677479145,2.5602409638554216E-2,7289,908,156,97,124,58,{"$f":"VLOOKUP($A45,[1]Sheet1!$A$47:$I$85,2,0)","v":8632},{"$f":"VLOOKUP($A45,[1]Sheet1!$A$47:$I$85,3,0)","v":118323},0.94960611677479145,2.5602409638554216E-2,{"$f":"VLOOKUP($A45,[1]Sheet1!$A$47:$I$85,4,0)","v":7289},{"$f":"VLOOKUP($A45,[1]Sheet1!$A$47:$I$85,5,0)","v":908},{"$f":"VLOOKUP($A45,[1]Sheet1!$A$47:$I$85,6,0)","v":156},{"$f":"VLOOKUP($A45,[1]Sheet1!$A$47:$I$85,7,0)","v":97},{"$f":"VLOOKUP($A45,[1]Sheet1!$A$47:$I$85,8,0)","v":124},{"$f":"VLOOKUP($A45,[1]Sheet1!$A$47:$I$85,9,0)","v":58},0,0,0,0,0,0,0,0,0,0]
["IS1","INDEPENDENT SECTOR PROVIDERS",26241,545039,0.92431690865439575,3.986128577417019E-2,20518,3737,764,455,591,176,{"$f":"VLOOKUP($A46,[1]Sheet1!$A$47:$I$85,2,0)","v":26241},{"$f":"VLOOKUP($A46,[1]Sheet1!$A$47:$I$85,3,0)","v":545039},0.92431690865439575,3.986128577417019E-2,{"$f":"VLOOKUP($A46,[1]Sheet1!$A$47:$I$85,4,0)","v":20518},{"$f":"VLOOKUP($A46,[1]Sheet1!$A$47:$I$85,5,0)","v":3737},{"$f":"VLOOKUP($A46,[1]Sheet1!$A$47:$I$85,6,0)","v":764},{"$f":"VLOOKUP($A46,[1]Sheet1!$A$47:$I$85,7,0)","v":455},{"$f":"VLOOKUP($A46,[1]Sheet1!$A$47:$I$85,8,0)","v":591},{"$f":"VLOOKUP($A46,[1]Sheet1!$A$47:$I$85,9,0)","v":176},0,0,0,0,0,0,0,0,0,0]

{"sheet":"Trusts","index":3,"n_rows":145,"n_cols":51,"rows_kept":145,"cut":false,"hidden":false,"merged":[[2,39,2,44],[2,45,2,50],[2,29,2,34],[2,35,3,35],[2,36,3,36],[2,37,3,37],[2,38,3,38],[2,19,3,19],[2,20,3,20],[2,21,3,21],[2,22,3,22],[2,23,2,28],[2,6,3,6],[2,7,2,12],[2,13,2,18],[2,0,3,0],[2,1,3,1],[2,2,3,2],[2,3,3,3],[2,4,3,4],[2,5,3,5]]}
[]
[]
["ICB Code","Trust Code","Trust Name","Total Responses","Total Eligible","Percentage Positive","Percentage Negative","Breakdown of Responses",null,null,null,null,null,"Mode of Collection",null,null,null,null,null,"Total Responses","Total Eligible","Percentage Positive","Percentage Negative","Breakdown of Responses",null,null,null,null,null,"Mode of Collection",null,null,null,null,null,"Total Responses","Total Eligible","Percentage Positive","Percentage Negative","Breakdown of Responses",null,null,null,null,null,"Mode of Collection"]
[null,null,null,null,null,null,null,"Very Good","Good","Neither Good nor Poor","Poor","Very Poor","Don't Know","Mode SMS","Mode Electronic Discharge","Mode Paper Home","Mode Telephone","Mode Online","Mode Other",null,null,null,null,"Very Good","Good","Neither Good nor Poor","Poor","Very Poor","Don't Know","Mode SMS","Mode Electronic Discharge","Mode Paper Home","Mode Telephone","Mode Online","Mode Other",null,null,null,null,"Very Good","Good","Neither Good nor Poor","Poor","Very Poor","Don't Know","Mode SMS","Mode Electronic Discharge","Mode Paper Home","Mode Telephone","Mode Online","Mode Other"]
[null,null,"England (including Independent Sector Providers)",107096,2924150,0.94158511989243299,2.7517367595428402E-2,87011,13829,2552,1323,1624,757,33735,6823,21651,1931,41146,1810,{"$f":"SUM(T8:T145)","v":107096},{"$f":"SUM(U8:U145)","v":2924150},{"$f":"SUM(X5+Y5)/SUM(X5:AC5)","v":0.94158511989243299},{"$f":"SUM(AA5+AB5)/SUM(X5:AC5)","v":2.7517367595428402E-2},87011,13829,2552,1323,1624,757,{"$f":"SUM(AD8:AD145)","v":33735},6823,21651,1931,41146,1810,{"$f":"IFERROR(D5-T5,0)","v":0},{"$f":"IFERROR(E5-U5,0)","v":0},{"$f":"IFERROR(F5-V5,0)","v":0},{"$f":"IFERROR(G5-W5,0)","v":0},{"$f":"IFERROR(H5-X5,0)","v":0},{"$f":"IFERROR(I5-Y5,0)","v":0},{"$f":"IFERROR(J5-Z5,0)","v":0},{"$f":"IFERROR(K5-AA5,0)","v":0},{"$f":"IFERROR(L5-AB5,0)","v":0},{"$f":"IFERROR(M5-AC5,0)","v":0},{"$f":"IFERROR(N5-AD5,0)","v":0},{"$f":"IFERROR(O5-AE5,0)","v":0},{"$f":"IFERROR(P5-AF5,0)","v":0},{"$f":"IFERROR(Q5-AG5,0)","v":0},{"$f":"IFERROR(R5-AH5,0)","v":0},{"$f":"IFERROR(S5-AI5,0)","v":0}]
[null,null,"England (excluding Independent Sector Providers)",80855,2379111,0.94718941314699157,2.3511223795683631E-2,66493,10092,1788,868,1033,581,27100,6463,18288,1181,26475,1348,{"$f":"SUM(T8:T103)","v":80855},{"$f":"SUM(U8:U103)","v":2379111},0.94718941314699157,2.3511223795683631E-2,66493,10092,1788,868,1033,581,{"$f":"SUM(AD8:AD103)","v":27100},6463,18288,1181,26475,1348,0,0,0,0,0,0,0,0,0,0,0,0,0,0,0,0]
[null,null,"Selection (excluding suppressed data)",{"$f":"SUBTOTAL(9,D8:D294)","v":107096},{"$f":"SUBTOTAL(9,E8:E294)","v":2924150},{"$f":"IFERROR((H7+I7)/SUM(H7:M7), \"-\")","v":0.94151460025130806},{"$f":"IFERROR((K7+L7)/SUM(H7:M7), \"-\")","v":2.7521989460062641E-2},{"$f":"SUBTOTAL(9,H8:H294)","v":86615},13790,2547,1316,1619,755,33735,6823,21476,1928,40870,1810,{"$f":"SUMIF(D8:D145,\"<>*\",T8:T145)","v":107096},{"$f":"SUMIF(E8:E145,\"<>*\",U8:U145)","v":2924150},0.94151460025130806,2.7521989460062641E-2,86615,13790,2547,1316,1619,755,{"$f":"SUMIF(N8:N145,\"<>*\",AD8:AD145)","v":33735},{"$f":"SUMIF(O8:O145,\"<>*\",AE8:AE145)","v":6823},{"$f":"SUMIF(P8:P145,\"<>*\",AF8:AF145)","v":21476},{"$f":"SUMIF(Q8:Q145,\"<>*\",AG8:AG145)","v":1928},{"$f":"SUMIF(R8:R145,\"<>*\",AH8:AH145)","v":40870},{"$f":"SUMIF(S8:S145,\"<>*\",AI8:AI145)","v":1810},0,0,0,0,0,0,0,0,0,0,0,0,0,0,0,0]
["QE1","RXL","BLACKPOOL TEACHING HOSPITALS NHS FOUNDATION TRUST",1645,22826,0.95683890577507602,1.3981762917933131E-2,1450,124,33,6,17,15,605,10,633,0,397,0,{"$f":"VLOOKUP($B8,'[1]Organisation Level'!$C$4:$N$141,11,0)","v":1645},{"$f":"VLOOKUP($B8,'[1]Organisation Level'!$C$4:$N$141,12,0)","v":22826},{"$f":"SUM(X8+Y8)/SUM(X8:AC8)","v":0.95683890577507602},{"$f":"SUM(AA8+AB8)/SUM(X8:AC8)","v":1.3981762917933131E-2},{"$f":"VLOOKUP($B8,'[1]Organisation Level'!$C$4:$N$141,5,0)","v":1450},{"$f":"VLOOKUP($B8,'[1]Organisation Level'!$C$4:$N$141,6,0)","v":124},{"$f":"VLOOKUP($B8,'[1]Organisation Level'!$C$4:$N$141,7,0)","v":33},{"$f":"VLOOKUP($B8,'[1]Organisation Level'!$C$4:$N$141,8,0)","v":6},{"$f":"VLOOKUP($B8,'[1]Organisation Level'!$C$4:$N$141,9,0)","v":17},{"$f":"VLOOKUP($B8,'[1]Organisation Level'!$C$4:$N$141,10,0)","v":15},{"$f":"VLOOKUP($B8,'[1]Collection Mode'!$C$4:$M$141,6,0)","v":605},{"$f":"VLOOKUP($B8,'[1]Collection Mode'!$C$4:$M$141,7,0)","v":10},{"$f":"VLOOKUP($B8,'[1]Collection Mode'!$C$4:$M$141,8,0)","v":633},{"$f":"VLOOKUP($B8,'[1]Collection Mode'!$C$4:$M$141,9,0)","v":0},{"$f":"VLOOKUP($B8,'[1]Collection Mode'!$C$4:$M$141,10,0)","v":397},{"$f":"VLOOKUP($B8,'[1]Collection Mode'!$C$4:$M$141,11,0)","v":0},{"$f":"IFERROR(D8-T8,0)","v":0},{"$f":"IFERROR(E8-U8,0)","v":0},0,0,0,0,0,0,0,0,0,0,0,0,0,0]
["QE1","RXR","EAST LANCASHIRE HOSPITALS NHS TRUST",841,82340,0.91914387633769323,2.8537455410225922E-2,655,118,24,15,9,20,465,0,153,86,137,0,{"$f":"VLOOKUP($B9,'[1]Organisation Level'!$C$4:$N$141,11,0)","v":841},{"$f":"VLOOKUP($B9,'[1]Organisation Level'!$C$4:$N$141,12,0)","v":82340},{"$f":"SUM(X9+Y9)/SUM(X9:AC9)","v":0.91914387633769323},{"$f":"SUM(AA9+AB9)/SUM(X9:AC9)","v":2.8537455410225922E-2},{"$f":"VLOOKUP($B9,'[1]Organisation Level'!$C$4:$N$141,5,0)","v":655},{"$f":"VLOOKUP($B9,'[1]Organisation Level'!$C$4:$N$141,6,0)","v":118},{"$f":"VLOOKUP($B9,'[1]Organisation Level'!$C$4:$N$141,7,0)","v":24},{"$f":"VLOOKUP($B9,'[1]Organisation Level'!$C$4:$N$141,8,0)","v":15},{"$f":"VLOOKUP($B9,'[1]Organisation Level'!$C$4:$N$141,9,0)","v":9},{"$f":"VLOOKUP($B9,'[1]Organisation Level'!$C$4:$N$141,10,0)","v":20},{"$f":"VLOOKUP($B9,'[1]Collection Mode'!$C$4:$M$141,6,0)","v":465},{"$f":"VLOOKUP($B9,'[1]Collection Mode'!$C$4:$M$141,7,0)","v":0},{"$f":"VLOOKUP($B9,'[1]Collection Mode'!$C$4:$M$141,8,0)","v":153},{"$f":"VLOOKUP($B9,'[1]Collection Mode'!$C$4:$M$141,9,0)","v":86},{"$f":"VLOOKUP($B9,'[1]Collection Mode'!$C$4:$M$141,10,0)","v":137},{"$f":"VLOOKUP($B9,'[1]Collection Mode'!$C$4:$M$141,11,0)","v":0},{"$f":"IFERROR(D9-T9,0)","v":0},{"$f":"IFERROR(E9-U9,0)","v":0},{"$f":"IFERROR(F9-V9,0)","v":0},{"$f":"IFERROR(G9-W9,0)","v":0},{"$f":"IFERROR(H9-X9,0)","v":0},{"$f":"IFERROR(I9-Y9,0)","v":0},{"$f":"IFERROR(J9-Z9,0)","v":0},{"$f":"IFERROR(K9-AA9,0)","v":0},{"$f":"IFERROR(L9-AB9,0)","v":0},{"$f":"IFERROR(M9-AC9,0)","v":0},{"$f":"IFERROR(N9-AD9,0)","v":0},{"$f":"IFERROR(O9-AE9,0)","v":0},{"$f":"IFERROR(P9-AF9,0)","v":0},{"$f":"IFERROR(Q9-AG9,0)","v":0},{"$f":"IFERROR(R9-AH9,0)","v":0},{"$f":"IFERROR(S9-AI9,0)","v":0}]
["QE1","RW5","LANCASHIRE & SOUTH CUMBRIA NHS FOUNDATION TRUST",473,49141,0.97251585623678649,2.1141649048625793E-2,439,21,2,3,7,1,0,3,0,0,470,0,{"$f":"VLOOKUP($B10,'[1]Organisation Level'!$C$4:$N$141,11,0)","v":473},{"$f":"VLOOKUP($B10,'[1]Organisation Level'!$C$4:$N$141,12,0)","v":49141},0.97251585623678649,2.1141649048625793E-2,{"$f":"VLOOKUP($B10,'[1]Organisation Level'!$C$4:$N$141,5,0)","v":439},{"$f":"VLOOKUP($B10,'[1]Organisation Level'!$C$4:$N$141,6,0)","v":21},{"$f":"VLOOKUP($B10,'[1]Organisation Level'!$C$4:$N$141,7,0)","v":2},{"$f":"VLOOKUP($B10,'[1]Organisation Level'!$C$4:$N$141,8,0)","v":3},{"$f":"VLOOKUP($B10,'[1]Organisation Level'!$C$4:$N$141,9,0)","v":7},{"$f":"VLOOKUP($B10,'[1]Organisation Level'!$C$4:$N$141,10,0)","v":1},{"$f":"VLOOKUP($B10,'[1]Collection Mode'!$C$4:$M$141,6,0)","v":0},{"$f":"VLOOKUP($B10,'[1]Collection Mode'!$C$4:$M$141,7,0)","v":3},{"$f":"VLOOKUP($B10,'[1]Collection Mode'!$C$4:$M$141,8,0)","v":0},{"$f":"VLOOKUP($B10,'[1]Collection Mode'!$C$4:$M$141,9,0)","v":0},{"$f":"VLOOKUP($B10,'[1]Collection Mode'!$C$4:$M$141,10,0)","v":470},{"$f":"VLOOKUP($B10,'[1]Collection Mode'!$C$4:$M$141,11,0)","v":0},0,0,0,0,0,0,0,0,0,0,0,0,0,0,0,0]
["QE1","RTX","UNIVERSITY HOSPITALS OF MORECAMBE BAY NHS FOUNDATION TRUST",32,32,1,0,19,13,0,0,0,0,0,0,0,0,32,0,{"$f":"VLOOKUP($B11,'[1]Organisation Level'!$C$4:$N$141,11,0)","v":32},{"$f":"VLOOKUP($B11,'[1]Organisation Level'!$C$4:$N$141,12,0)","v":32},1,0,{"$f":"VLOOKUP($B11,'[1]Organisation Level'!$C$4:$N$141,5,0)","v":19},{"$f":"VLOOKUP($B11,'[1]Organisation Level'!$C$4:$N$141,6,0)","v":13},{"$f":"VLOOKUP($B11,'[1]Organisation Level'!$C$4:$N$141,7,0)","v":0},{"$f":"VLOOKUP($B11,'[1]Organisation Level'!$C$4:$N$141,8,0)","v":0},{"$f":"VLOOKUP($B11,'[1]Organisation Level'!$C$4:$N$141,9,0)","v":0},{"$f":"VLOOKUP($B11,'[1]Organisation Level'!$C$4:$N$141,10,0)","v":0},{"$f":"VLOOKUP($B11,'[1]Collection Mode'!$C$4:$M$141,6,0)","v":0},{"$f":"VLOOKUP($B11,'[1]Collection Mode'!$C$4:$M$141,7,0)","v":0},{"$f":"VLOOKUP($B11,'[1]Collection Mode'!$C$4:$M$141,8,0)","v":0},{"$f":"VLOOKUP($B11,'[1]Collection Mode'!$C$4:$M$141,9,0)","v":0},{"$f":"VLOOKUP($B11,'[1]Collection Mode'!$C$4:$M$141,10,0)","v":32},{"$f":"VLOOKUP($B11,'[1]Collection Mode'!$C$4:$M$141,11,0)","v":0},0,0,0,0,0,0,0,0,0,0,0,0,0,0,0,0]
["QF7","RXE","ROTHERHAM DONCASTER AND SOUTH HUMBER NHS FOUNDATION TRUST",105,19429,1,0,101,4,0,0,0,0,0,0,0,0,105,0,{"$f":"VLOOKUP($B12,'[1]Organisation Level'!$C$4:$N$141,11,0)","v":105},{"$f":"VLOOKUP($B12,'[1]Organisation Level'!$C$4:$N$141,12,0)","v":19429},1,0,{"$f":"VLOOKUP($B12,'[1]Organisation Level'!$C$4:$N$141,5,0)","v":101},{"$f":"VLOOKUP($B12,'[1]Organisation Level'!$C$4:$N$141,6,0)","v":4},{"$f":"VLOOKUP($B12,'[1]Organisation Level'!$C$4:$N$141,7,0)","v":0},{"$f":"VLOOKUP($B12,'[1]Organisation Level'!$C$4:$N$141,8,0)","v":0},{"$f":"VLOOKUP($B12,'[1]Organisation Level'!$C$4:$N$141,9,0)","v":0},{"$f":"VLOOKUP($B12,'[1]Organisation Level'!$C$4:$N$141,10,0)","v":0},{"$f":"VLOOKUP($B12,'[1]Collection Mode'!$C$4:$M$141,6,0)","v":0},{"$f":"VLOOKUP($B12,'[1]Collection Mode'!$C$4:$M$141,7,0)","v":0},{"$f":"VLOOKUP($B12,'[1]Collection Mode'!$C$4:$M$141,8,0)","v":0},{"$f":"VLOOKUP($B12,'[1]Collection Mode'!$C$4:$M$141,9,0)","v":0},{"$f":"VLOOKUP($B12,'[1]Collection Mode'!$C$4:$M$141,10,0)","v":105},{"$f":"VLOOKUP($B12,'[1]Collection Mode'!$C$4:$M$141,11,0)","v":0},0,0,0,0,0,0,0,0,0,0,0,0,0,0,0,0]
["QF7","RCU","SHEFFIELD CHILDREN'S NHS FOUNDATION TRUST",65,5489,0.93846153846153846,3.0769230769230771E-2,58,3,2,0,2,0,0,0,3,0,62,0,{"$f":"VLOOKUP($B13,'[1]Organisation Level'!$C$4:$N$141,11,0)","v":65},{"$f":"VLOOKUP($B13,'[1]Organisation Level'!$C$4:$N$141,12,0)","v":5489},0.93846153846153846,3.0769230769230771E-2,{"$f":"VLOOKUP($B13,'[1]Organisation Level'!$C$4:$N$141,5,0)","v":58},{"$f":"VLOOKUP($B13,'[1]Organisation Level'!$C$4:$N$141,6,0)","v":3},{"$f":"VLOOKUP($B13,'[1]Organisation Level'!$C$4:$N$141,7,0)","v":2},{"$f":"VLOOKUP($B13,'[1]Organisation Level'!$C$4:$N$141,8,0)","v":0},{"$f":"VLOOKUP($B13,'[1]Organisation Level'!$C$4:$N$141,9,0)","v":2},{"$f":"VLOOKUP($B13,'[1]Organisation Level'!$C$4:$N$141,10,0)","v":0},{"$f":"VLOOKUP($B13,'[1]Collection Mode'!$C$4:$M$141,6,0)","v":0},{"$f":"VLOOKUP($B13,'[1]Collection Mode'!$C$4:$M$141,7,0)","v":0},{"$f":"VLOOKUP($B13,'[1]Collection Mode'!$C$4:$M$141,8,0)","v":3},{"$f":"VLOOKUP($B13,'[1]Collection Mode'!$C$4:$M$141,9,0)","v":0},{"$f":"VLOOKUP($B13,'[1]Collection Mode'!$C$4:$M$141,10,0)","v":62},{"$f":"VLOOKUP($B13,'[1]Collection Mode'!$C$4:$M$141,11,0)","v":0},0,0,0,0,0,0,0,0,0,0,0,0,0,0,0,0]
["QF7","RHQ","SHEFFIELD TEACHING HOSPITALS NHS FOUNDATION TRUST",512,22756,0.904296875,4.1015625E-2,371,92,24,11,10,4,357,0,35,74,46,0,{"$f":"VLOOKUP($B14,'[1]Organisation Level'!$C$4:$N$141,11,0)","v":512},{"$f":"VLOOKUP($B14,'[1]Organisation Level'!$C$4:$N$141,12,0)","v":22756},0.904296875,4.1015625E-2,{"$f":"VLOOKUP($B14,'[1]Organisation Level'!$C$4:$N$141,5,0)","v":371},{"$f":"VLOOKUP($B14,'[1]Organisation Level'!$C$4:$N$141,6,0)","v":92},{"$f":"VLOOKUP($B14,'[1]Organisation Level'!$C$4:$N$141,7,0)","v":24},{"$f":"VLOOKUP($B14,'[1]Organisation Level'!$C$4:$N$141,8,0)","v":11},{"$f":"VLOOKUP($B14,'[1]Organisation Level'!$C$4:$N$141,9,0)","v":10},{"$f":"VLOOKUP($B14,'[1]Organisation Level'!$C$4:$N$141,10,0)","v":4},{"$f":"VLOOKUP($B14,'[1]Collection Mode'!$C$4:$M$141,6,0)","v":357},{"$f":"VLOOKUP($B14,'[1]Collection Mode'!$C$4:$M$141,7,0)","v":0},{"$f":"VLOOKUP($B14,'[1]Collection Mode'!$C$4:$M$141,8,0)","v":35},{"$f":"VLOOKUP($B14,'[1]Collection Mode'!$C$4:$M$141,9,0)","v":74},{"$f":"VLOOKUP($B14,'[1]Collection Mode'!$C$4:$M$141,10,0)","v":46},{"$f":"VLOOKUP($B14,'[1]Collection Mode'!$C$4:$M$141,11,0)","v":0},0,0,0,0,0,0,0,0,0,0,0,0,0,0,0,0]
["QF7","RFR","THE ROTHERHAM NHS FOUNDATION TRUST",232,29790,0.93534482758620685,3.017241379310345E-2,192,25,5,3,4,3,0,0,95,0,137,0,{"$f":"VLOOKUP($B15,'[1]Organisation Level'!$C$4:$N$141,11,0)","v":232},{"$f":"VLOOKUP($B15,'[1]Organisation Level'!$C$4:$N$141,12,0)","v":29790},0.93534482758620685,3.017241379310345E-2,{"$f":"VLOOKUP($B15,'[1]Organisation Level'!$C$4:$N$141,5,0)","v":192},{"$f":"VLOOKUP($B15,'[1]Organisation Level'!$C$4:$N$141,6,0)","v":25},{"$f":"VLOOKUP($B15,'[1]Organisation Level'!$C$4:$N$141,7,0)","v":5},{"$f":"VLOOKUP($B15,'[1]Organisation Level'!$C$4:$N$141,8,0)","v":3},{"$f":"VLOOKUP($B15,'[1]Organisation Level'!$C$4:$N$141,9,0)","v":4},{"$f":"VLOOKUP($B15,'[1]Organisation Level'!$C$4:$N$141,10,0)","v":3},{"$f":"VLOOKUP($B15,'[1]Collection Mode'!$C$4:$M$141,6,0)","v":0},{"$f":"VLOOKUP($B15,'[1]Collection Mode'!$C$4:$M$141,7,0)","v":0},{"$f":"VLOOKUP($B15,'[1]Collection Mode'!$C$4:$M$141,8,0)","v":95},{"$f":"VLOOKUP($B15,'[1]Collection Mode'!$C$4:$M$141,9,0)","v":0},{"$f":"VLOOKUP($B15,'[1]Collection Mode'!$C$4:$M$141,10,0)","v":137},{"$f":"VLOOKUP($B15,'[1]Collection Mode'!$C$4:$M$141,11,0)","v":0},0,0,0,0,0,0,0,0,0,0,0,0,0,0,0,0]
["QGH","R1A","HEREFORDSHIRE AND WORCESTERSHIRE HEALTH AND CARE NHS TRUST",356,356,0.9606741573033708,2.247191011235955E-2,"*","*","*","*","*","*","*","*","*","*","*","*",{"$f":"VLOOKUP($B16,'[1]Organisation Level'!$C$4:$N$141,11,0)","v":356},{"$f":"VLOOKUP($B16,'[1]Organisation Level'!$C$4:$N$141,12,0)","v":356},0.9606741573033708,2.247191011235955E-2,{"$f":"VLOOKUP($B16,'[1]Organisation Level'!$C$4:$N$141,5,0)","v":314},{"$f":"VLOOKUP($B16,'[1]Organisation Level'!$C$4:$N$141,6,0)","v":28},{"$f":"VLOOKUP($B16,'[1]Organisation Level'!$C$4:$N$141,7,0)","v":4},{"$f":"VLOOKUP($B16,'[1]Organisation Level'!$C$4:$N$141,8,0)","v":3},{"$f":"VLOOKUP($B16,'[1]Organisation Level'!$C$4:$N$141,9,0)","v":5},{"$f":"VLOOKUP($B16,'[1]Organisation Level'!$C$4:$N$141,10,0)","v":2},{"$f":"VLOOKUP($B16,'[1]Collection Mode'!$C$4:$M$141,6,0)","v":0},{"$f":"VLOOKUP($B16,'[1]Collection Mode'!$C$4:$M$141,7,0)","v":0},{"$f":"VLOOKUP($B16,'[1]Collection Mode'!$C$4:$M$141,8,0)","v":85},{"$f":"VLOOKUP($B16,'[1]Collection Mode'!$C$4:$M$141,9,0)","v":0},{"$f":"VLOOKUP($B16,'[1]Collection Mode'!$C$4:$M$141,10,0)","v":271},{"$f":"VLOOKUP($B16,'[1]Collection Mode'!$C$4:$M$141,11,0)","v":0},0,0,0,0,0,0,0,0,0,0,0,0,0,0,0,0]
["QGH","RLQ","WYE VALLEY NHS TRUST",4,5196,"*","*","*","*","*","*","*","*","*","*","*","*","*","*",{"$f":"VLOOKUP($B17,'[1]Organisation Level'!$C$4:$N$141,11,0)","v":4},{"$f":"VLOOKUP($B17,'[1]Organisation Level'!$C$4:$N$141,12,0)","v":5196},0,1,{"$f":"VLOOKUP($B17,'[1]Organisation Level'!$C$4:$N$141,5,0)","v":0},{"$f":"VLOOKUP($B17,'[1]Organisation Level'!$C$4:$N$141,6,0)","v":0},{"$f":"VLOOKUP($B17,'[1]Organisation Level'!$C$4:$N$141,7,0)","v":0},{"$f":"VLOOKUP($B17,'[1]Organisation Level'!$C$4:$N$141,8,0)","v":4},{"$f":"VLOOKUP($B17,'[1]Organisation Level'!$C$4:$N$141,9,0)","v":0},{"$f":"VLOOKUP($B17,'[1]Organisation Level'!$C$4:$N$141,10,0)","v":0},{"$f":"VLOOKUP($B17,'[1]Collection Mode'!$C$4:$M$141,6,0)","v":0},{"$f":"VLOOKUP($B17,'[1]Collection Mode'!$C$4:$M$141,7,0)","v":0},{"$f":"VLOOKUP($B17,'[1]Collection Mode'!$C$4:$M$141,8,0)","v":0},{"$f":"VLOOKUP($B17,'[1]Collection Mode'!$C$4:$M$141,9,0)","v":0},{"$f":"VLOOKUP($B17,'[1]Collection Mode'!$C$4:$M$141,10,0)","v":4},{"$f":"VLOOKUP($B17,'[1]Collection Mode'!$C$4:$M$141,11,0)","v":0},0,0,0,0,0,0,0,0,0,0,0,0,0,0,0,0]
["QH8","R1L","ESSEX PARTNERSHIP UNIVERSITY NHS FOUNDATION TRUST",266,20350,0.95488721804511278,1.1278195488721804E-2,235,19,4,1,2,5,0,7,0,128,131,0,{"$f":"VLOOKUP($B18,'[1]Organisation Level'!$C$4:$N$141,11,0)","v":266},{"$f":"VLOOKUP($B18,'[1]Organisation Level'!$C$4:$N$141,12,0)","v":20350},0.95488721804511278,1.1278195488721804E-2,{"$f":"VLOOKUP($B18,'[1]Organisation Level'!$C$4:$N$141,5,0)","v":235},{"$f":"VLOOKUP($B18,'[1]Organisation Level'!$C$4:$N$141,6,0)","v":19},{"$f":"VLOOKUP($B18,'[1]Organisation Level'!$C$4:$N$141,7,0)","v":4},{"$f":"VLOOKUP($B18,'[1]Organisation Level'!$C$4:$N$141,8,0)","v":1},{"$f":"VLOOKUP($B18,'[1]Organisation Level'!$C$4:$N$141,9,0)","v":2},{"$f":"VLOOKUP($B18,'[1]Organisation Level'!$C$4:$N$141,10,0)","v":5},{"$f":"VLOOKUP($B18,'[1]Collection Mode'!$C$4:$M$141,6,0)","v":0},{"$f":"VLOOKUP($B18,'[1]Collection Mode'!$C$4:$M$141,7,0)","v":7},{"$f":"VLOOKUP($B18,'[1]Collection Mode'!$C$4:$M$141,8,0)","v":0},{"$f":"VLOOKUP($B18,'[1]Collection Mode'!$C$4:$M$141,9,0)","v":128},{"$f":"VLOOKUP($B18,'[1]Collection Mode'!$C$4:$M$141,10,0)","v":131},{"$f":"VLOOKUP($B18,'[1]Collection Mode'!$C$4:$M$141,11,0)","v":0},0,0,0,0,0,0,0,0,0,0,0,0,0,0,0,0]
["QHL","RYW","BIRMINGHAM COMMUNITY HEALTHCARE NHS FOUNDATION TRUST",445,54710,0.97528089887640446,4.4943820224719105E-3,373,61,9,0,2,0,0,0,103,0,342,0,{"$f":"VLOOKUP($B19,'[1]Organisation Level'!$C$4:$N$141,11,0)","v":445},{"$f":"VLOOKUP($B19,'[1]Organisation Level'!$C$4:$N$141,12,0)","v":54710},0.97528089887640446,4.4943820224719105E-3,{"$f":"VLOOKUP($B19,'[1]Organisation Level'!$C$4:$N$141,5,0)","v":373},{"$f":"VLOOKUP($B19,'[1]Organisation Level'!$C$4:$N$141,6,0)","v":61},{"$f":"VLOOKUP($B19,'[1]Organisation Level'!$C$4:$N$141,7,0)","v":9},{"$f":"VLOOKUP($B19,'[1]Organisation Level'!$C$4:$N$141,8,0)","v":0},{"$f":"VLOOKUP($B19,'[1]Organisation Level'!$C$4:$N$141,9,0)","v":2},{"$f":"VLOOKUP($B19,'[1]Organisation Level'!$C$4:$N$141,10,0)","v":0},{"$f":"VLOOKUP($B19,'[1]Collection Mode'!$C$4:$M$141,6,0)","v":0},{"$f":"VLOOKUP($B19,'[1]Collection Mode'!$C$4:$M$141,7,0)","v":0},{"$f":"VLOOKUP($B19,'[1]Collection Mode'!$C$4:$M$141,8,0)","v":103},{"$f":"VLOOKUP($B19,'[1]Collection Mode'!$C$4:$M$141,9,0)","v":0},{"$f":"VLOOKUP($B19,'[1]Collection Mode'!$C$4:$M$141,10,0)","v":342},{"$f":"VLOOKUP($B19,'[1]Collection Mode'!$C$4:$M$141,11,0)","v":0},0,0,0,0,0,0,0,0,0,0,0,0,0,0,0,0]
["QHL","RRK","UNIVERSITY HOSPITALS BIRMINGHAM NHS FOUNDATION TRUST",166,5067,0.93975903614457834,3.0120481927710843E-2,134,22,5,1,4,0,0,0,143,0,23,0,{"$f":"VLOOKUP($B20,'[1]Organisation Level'!$C$4:$N$141,11,0)","v":166},{"$f":"VLOOKUP($B20,'[1]Organisation Level'!$C$4:$N$141,12,0)","v":5067},0.93975903614457834,3.0120481927710843E-2,{"$f":"VLOOKUP($B20,'[1]Organisation Level'!$C$4:$N$141,5,0)","v":134},{"$f":"VLOOKUP($B20,'[1]Organisation Level'!$C$4:$N$141,6,0)","v":22},{"$f":"VLOOKUP($B20,'[1]Organisation Level'!$C$4:$N$141,7,0)","v":5},{"$f":"VLOOKUP($B20,'[1]Organisation Level'!$C$4:$N$141,8,0)","v":1},{"$f":"VLOOKUP($B20,'[1]Organisation Level'!$C$4:$N$141,9,0)","v":4},{"$f":"VLOOKUP($B20,'[1]Organisation Level'!$C$4:$N$141,10,0)","v":0},{"$f":"VLOOKUP($B20,'[1]Collection Mode'!$C$4:$M$141,6,0)","v":0},{"$f":"VLOOKUP($B20,'[1]Collection Mode'!$C$4:$M$141,7,0)","v":0},{"$f":"VLOOKUP($B20,'[1]Collection Mode'!$C$4:$M$141,8,0)","v":143},{"$f":"VLOOKUP($B20,'[1]Collection Mode'!$C$4:$M$141,9,0)","v":0},{"$f":"VLOOKUP($B20,'[1]Collection Mode'!$C$4:$M$141,10,0)","v":23},{"$f":"VLOOKUP($B20,'[1]Collection Mode'!$C$4:$M$141,11,0)","v":0},0,0,0,0,0,0,0,0,0,0,0,0,0,0,0,0]
["QHM","RXP","COUNTY DURHAM AND DARLINGTON NHS FOUNDATION TRUST",20,577,1,0,16,4,0,0,0,0,0,0,20,0,0,0,{"$f":"VLOOKUP($B21,'[1]Organisation Level'!$C$4:$N$141,11,0)","v":20},{"$f":"VLOOKUP($B21,'[1]Organisation Level'!$C$4:$N$141,12,0)","v":577},1,0,{"$f":"VLOOKUP($B21,'[1]Organisation Level'!$C$4:$N$141,5,0)","v":16},{"$f":"VLOOKUP($B21,'[1]Organisation Level'!$C$4:$N$141,6,0)","v":4},{"$f":"VLOOKUP($B21,'[1]Organisation Level'!$C$4:$N$141,7,0)","v":0},{"$f":"VLOOKUP($B21,'[1]Organisation Level'!$C$4:$N$141,8,0)","v":0},{"$f":"VLOOKUP($B21,'[1]Organisation Level'!$C$4:$N$141,9,0)","v":0},{"$f":"VLOOKUP($B21,'[1]Organisation Level'!$C$4:$N$141,10,0)","v":0},{"$f":"VLOOKUP($B21,'[1]Collection Mode'!$C$4:$M$141,6,0)","v":0},{"$f":"VLOOKUP($B21,'[1]Collection Mode'!$C$4:$M$141,7,0)","v":0},{"$f":"VLOOKUP($B21,'[1]Collection Mode'!$C$4:$M$141,8,0)","v":20},{"$f":"VLOOKUP($B21,'[1]Collection Mode'!$C$4:$M$141,9,0)","v":0},{"$f":"VLOOKUP($B21,'[1]Collection Mode'!$C$4:$M$141,10,0)","v":0},{"$f":"VLOOKUP($B21,'[1]Collection Mode'!$C$4:$M$141,11,0)","v":0},0,0,0,0,0,0,0,0,0,0,0,0,0,0,0,0]
["QHM","RR7","GATESHEAD HEALTH NHS FOUNDATION TRUST",5,50976,1,0,4,1,0,0,0,0,3,0,2,0,0,0,{"$f":"VLOOKUP($B22,'[1]Organisation Level'!$C$4:$N$141,11,0)","v":5},{"$f":"VLOOKUP($B22,'[1]Organisation Level'!$C$4:$N$141,12,0)","v":50976},1,0,{"$f":"VLOOKUP($B22,'[1]Organisation Level'!$C$4:$N$141,5,0)","v":4},{"$f":"VLOOKUP($B22,'[1]Organisation Level'!$C$4:$N$141,6,0)","v":1},{"$f":"VLOOKUP($B22,'[1]Organisation Level'!$C$4:$N$141,7,0)","v":0},{"$f":"VLOOKUP($B22,'[1]Organisation Level'!$C$4:$N$141,8,0)","v":0},{"$f":"VLOOKUP($B22,'[1]Organisation Level'!$C$4:$N$141,9,0)","v":0},{"$f":"VLOOKUP($B22,'[1]Organisation Level'!$C$4:$N$141,10,0)","v":0},{"$f":"VLOOKUP($B22,'[1]Collection Mode'!$C$4:$M$141,6,0)","v":3},{"$f":"VLOOKUP($B22,'[1]Collection Mode'!$C$4:$M$141,7,0)","v":0},{"$f":"VLOOKUP($B22,'[1]Collection Mode'!$C$4:$M$141,8,0)","v":2},{"$f":"VLOOKUP($B22,'[1]Collection Mode'!$C$4:$M$141,9,0)","v":0},{"$f":"VLOOKUP($B22,'[1]Collection Mode'!$C$4:$M$141,10,0)","v":0},{"$f":"VLOOKUP($B22,'[1]Collection Mode'!$C$4:$M$141,11,0)","v":0},0,0,0,0,0,0,0,0,0,0,0,0,0,0,0,0]
["QHM","RNN","NORTH CUMBRIA INTEGRATED CARE NHS FOUNDATION TRUST",1124,15359,0.96085409252669041,1.9572953736654804E-2,952,128,19,10,12,3,774,0,270,0,80,0,{"$f":"VLOOKUP($B23,'[1]Organisation Level'!$C$4:$N$141,11,0)","v":1124},{"$f":"VLOOKUP($B23,'[1]Organisation Level'!$C$4:$N$141,12,0)","v":15359},0.96085409252669041,1.9572953736654804E-2,{"$f":"VLOOKUP($B23,'[1]Organisation Level'!$C$4:$N$141,5,0)","v":952},{"$f":"VLOOKUP($B23,'[1]Organisation Level'!$C$4:$N$141,6,0)","v":128},{"$f":"VLOOKUP($B23,'[1]Organisation Level'!$C$4:$N$141,7,0)","v":19},{"$f":"VLOOKUP($B23,'[1]Organisation Level'!$C$4:$N$141,8,0)","v":10},{"$f":"VLOOKUP($B23,'[1]Organisation Level'!$C$4:$N$141,9,0)","v":12},{"$f":"VLOOKUP($B23,'[1]Organisation Level'!$C$4:$N$141,10,0)","v":3},{"$f":"VLOOKUP($B23,'[1]Collection Mode'!$C$4:$M$141,6,0)","v":774},{"$f":"VLOOKUP($B23,'[1]Collection Mode'!$C$4:$M$141,7,0)","v":0},{"$f":"VLOOKUP($B23,'[1]Collection Mode'!$C$4:$M$141,8,0)","v":270},{"$f":"VLOOKUP($B23,'[1]Collection Mode'!$C$4:$M$141,9,0)","v":0},{"$f":"VLOOKUP($B23,'[1]Collection Mode'!$C$4:$M$141,10,0)","v":80},{"$f":"VLOOKUP($B23,'[1]Collection Mode'!$C$4:$M$141,11,0)","v":0},0,0,0,0,0,0,0,0,0,0,0,0,0,0,0,0]
["QHM","RVW","NORTH TEES AND HARTLEPOOL NHS FOUNDATION TRUST",214,9930,0.97663551401869164,0,173,36,5,0,0,0,82,0,132,0,0,0,{"$f":"VLOOKUP($B24,'[1]Organisation Level'!$C$4:$N$141,11,0)","v":214},{"$f":"VLOOKUP($B24,'[1]Organisation Level'!$C$4:$N$141,12,0)","v":9930},0.97663551401869164,0,{"$f":"VLOOKUP($B24,'[1]Organisation Level'!$C$4:$N$141,5,0)","v":173},{"$f":"VLOOKUP($B24,'[1]Organisation Level'!$C$4:$N$141,6,0)","v":36},{"$f":"VLOOKUP($B24,'[1]Organisation Level'!$C$4:$N$141,7,0)","v":5},{"$f":"VLOOKUP($B24,'[1]Organisation Level'!$C$4:$N$141,8,0)","v":0},{"$f":"VLOOKUP($B24,'[1]Organisation Level'!$C$4:$N$141,9,0)","v":0},{"$f":"VLOOKUP($B24,'[1]Organisation Level'!$C$4:$N$141,10,0)","v":0},{"$f":"VLOOKUP($B24,'[1]Collection Mode'!$C$4:$M$141,6,0)","v":82},{"$f":"VLOOKUP($B24,'[1]Collection Mode'!$C$4:$M$141,7,0)","v":0},{"$f":"VLOOKUP($B24,'[1]Collection Mode'!$C$4:$M$141,8,0)","v":132},{"$f":"VLOOKUP($B24,'[1]Collection Mode'!$C$4:$M$141,9,0)","v":0},{"$f":"VLOOKUP($B24,'[1]Collection Mode'!$C$4:$M$141,10,0)","v":0},{"$f":"VLOOKUP($B24,'[1]Collection Mode'!$C$4:$M$141,11,0)","v":0},0,0,0,0,0,0,0,0,0,0,0,0,0,0,0,0]
["QHM","RTF","NORTHUMBRIA HEALTHCARE NHS FOUNDATION TRUST",979,23204,0.94790602655771194,2.6557711950970377E-2,814,114,19,13,13,6,979,0,0,0,0,0,{"$f":"VLOOKUP($B25,'[1]Organisation Level'!$C$4:$N$141,11,0)","v":979},{"$f":"VLOOKUP($B25,'[1]Organisation Level'!$C$4:$N$141,12,0)","v":23204},0.94790602655771194,2.6557711950970377E-2,{"$f":"VLOOKUP($B25,'[1]Organisation Level'!$C$4:$N$141,5,0)","v":814},{"$f":"VLOOKUP($B25,'[1]Organisation Level'!$C$4:$N$141,6,0)","v":114},{"$f":"VLOOKUP($B25,'[1]Organisation Level'!$C$4:$N$141,7,0)","v":19},{"$f":"VLOOKUP($B25,'[1]Organisation Level'!$C$4:$N$141,8,0)","v":13},{"$f":"VLOOKUP($B25,'[1]Organisation Level'!$C$4:$N$141,9,0)","v":13},{"$f":"VLOOKUP($B25,'[1]Organisation Level'!$C$4:$N$141,10,0)","v":6},{"$f":"VLOOKUP($B25,'[1]Collection Mode'!$C$4:$M$141,6,0)","v":979},{"$f":"VLOOKUP($B25,'[1]Collection Mode'!$C$4:$M$141,7,0)","v":0},{"$f":"VLOOKUP($B25,'[1]Collection Mode'!$C$4:$M$141,8,0)","v":0},{"$f":"VLOOKUP($B25,'[1]Collection Mode'!$C$4:$M$141,9,0)","v":0},{"$f":"VLOOKUP($B25,'[1]Collection Mode'!$C$4:$M$141,10,0)","v":0},{"$f":"VLOOKUP($B25,'[1]Collection Mode'!$C$4:$M$141,11,0)","v":0},0,0,0,0,0,0,0,0,0,0,0,0,0,0,0,0]
["QHM","RTR","SOUTH TEES HOSPITALS NHS FOUNDATION TRUST",633,5718,0.99684044233807267,0,562,69,2,0,0,0,327,277,15,0,14,0,{"$f":"VLOOKUP($B26,'[1]Organisation Level'!$C$4:$N$141,11,0)","v":633},{"$f":"VLOOKUP($B26,'[1]Organisation Level'!$C$4:$N$141,12,0)","v":5718},0.99684044233807267,0,{"$f":"VLOOKUP($B26,'[1]Organisation Level'!$C$4:$N$141,5,0)","v":562},{"$f":"VLOOKUP($B26,'[1]Organisation Level'!$C$4:$N$141,6,0)","v":69},{"$f":"VLOOKUP($B26,'[1]Organisation Level'!$C$4:$N$141,7,0)","v":2},{"$f":"VLOOKUP($B26,'[1]Organisation Level'!$C$4:$N$141,8,0)","v":0},{"$f":"VLOOKUP($B26,'[1]Organisation Level'!$C$4:$N$141,9,0)","v":0},{"$f":"VLOOKUP($B26,'[1]Organisation Level'!$C$4:$N$141,10,0)","v":0},{"$f":"VLOOKUP($B26,'[1]Collection Mode'!$C$4:$M$141,6,0)","v":327},{"$f":"VLOOKUP($B26,'[1]Collection Mode'!$C$4:$M$141,7,0)","v":277},{"$f":"VLOOKUP($B26,'[1]Collection Mode'!$C$4:$M$141,8,0)","v":15},{"$f":"VLOOKUP($B26,'[1]Collection Mode'!$C$4:$M$141,9,0)","v":0},{"$f":"VLOOKUP($B26,'[1]Collection Mode'!$C$4:$M$141,10,0)","v":14},{"$f":"VLOOKUP($B26,'[1]Collection Mode'!$C$4:$M$141,11,0)","v":0},0,0,0,0,0,0,0,0,0,0,0,0,0,0,0,0]
["QHM","R0B","SOUTH TYNESIDE AND SUNDERLAND NHS FOUNDATION TRUST",538,7356,0.99256505576208176,1.8587360594795538E-3,496,38,3,1,0,0,32,15,386,0,105,0,{"$f":"VLOOKUP($B27,'[1]Organisation Level'!$C$4:$N$141,11,0)","v":538},{"$f":"VLOOKUP($B27,'[1]Organisation Level'!$C$4:$N$141,12,0)","v":7356},0.99256505576208176,1.8587360594795538E-3,{"$f":"VLOOKUP($B27,'[1]Organisation Level'!$C$4:$N$141,5,0)","v":496},{"$f":"VLOOKUP($B27,'[1]Organisation Level'!$C$4:$N$141,6,0)","v":38},{"$f":"VLOOKUP($B27,'[1]Organisation Level'!$C$4:$N$141,7,0)","v":3},{"$f":"VLOOKUP($B27,'[1]Organisation Level'!$C$4:$N$141,8,0)","v":1},{"$f":"VLOOKUP($B27,'[1]Organisation Level'!$C$4:$N$141,9,0)","v":0},{"$f":"VLOOKUP($B27,'[1]Organisation Level'!$C$4:$N$141,10,0)","v":0},{"$f":"VLOOKUP($B27,'[1]Collection Mode'!$C$4:$M$141,6,0)","v":32},{"$f":"VLOOKUP($B27,'[1]Collection Mode'!$C$4:$M$141,7,0)","v":15},{"$f":"VLOOKUP($B27,'[1]Collection Mode'!$C$4:$M$141,8,0)","v":386},{"$f":"VLOOKUP($B27,'[1]Collection Mode'!$C$4:$M$141,9,0)","v":0},{"$f":"VLOOKUP($B27,'[1]Collection Mode'!$C$4:$M$141,10,0)","v":105},{"$f":"VLOOKUP($B27,'[1]Collection Mode'!$C$4:$M$141,11,0)","v":0},0,0,0,0,0,0,0,0,0,0,0,0,0,0,0,0]
["QHM","RTD","THE NEWCASTLE UPON TYNE HOSPITALS NHS FOUNDATION TRUST",13,3069,0.92307692307692313,0,9,3,0,0,0,1,0,0,0,0,13,0,{"$f":"VLOOKUP($B28,'[1]Organisation Level'!$C$4:$N$141,11,0)","v":13},{"$f":"VLOOKUP($B28,'[1]Organisation Level'!$C$4:$N$141,12,0)","v":3069},0.92307692307692313,0,{"$f":"VLOOKUP($B28,'[1]Organisation Level'!$C$4:$N$141,5,0)","v":9},{"$f":"VLOOKUP($B28,'[1]Organisation Level'!$C$4:$N$141,6,0)","v":3},{"$f":"VLOOKUP($B28,'[1]Organisation Level'!$C$4:$N$141,7,0)","v":0},{"$f":"VLOOKUP($B28,'[1]Organisation Level'!$C$4:$N$141,8,0)","v":0},{"$f":"VLOOKUP($B28,'[1]Organisation Level'!$C$4:$N$141,9,0)","v":0},{"$f":"VLOOKUP($B28,'[1]Organisation Level'!$C$4:$N$141,10,0)","v":1},{"$f":"VLOOKUP($B28,'[1]Collection Mode'!$C$4:$M$141,6,0)","v":0},{"$f":"VLOOKUP($B28,'[1]Collection Mode'!$C$4:$M$141,7,0)","v":0},{"$f":"VLOOKUP($B28,'[1]Collection Mode'!$C$4:$M$141,8,0)","v":0},{"$f":"VLOOKUP($B28,'[1]Collection Mode'!$C$4:$M$141,9,0)","v":0},{"$f":"VLOOKUP($B28,'[1]Collection Mode'!$C$4:$M$141,10,0)","v":13},{"$f":"VLOOKUP($B28,'[1]Collection Mode'!$C$4:$M$141,11,0)","v":0},0,0,0,0,0,0,0,0,0,0,0,0,0,0,0,0]
["QJ2","RY8","DERBYSHIRE COMMUNITY HEALTH SERVICES NHS FOUNDATION TRUST",3064,33705,0.93276762402088775,3.6879895561357699E-2,2521,337,78,63,50,15,2769,0,5,0,52,238,{"$f":"VLOOKUP($B29,'[1]Organisation Level'!$C$4:$N$141,11,0)","v":3064},{"$f":"VLOOKUP($B29,'[1]Organisation Level'!$C$4:$N$141,12,0)","v":33705},0.93276762402088775,3.6879895561357699E-2,{"$f":"VLOOKUP($B29,'[1]Organisation Level'!$C$4:$N$141,5,0)","v":2521},{"$f":"VLOOKUP($B29,'[1]Organisation Level'!$C$4:$N$141,6,0)","v":337},{"$f":"VLOOKUP($B29,'[1]Organisation Level'!$C$4:$N$141,7,0)","v":78},{"$f":"VLOOKUP($B29,'[1]Organisation Level'!$C$4:$N$141,8,0)","v":63},{"$f":"VLOOKUP($B29,'[1]Organisation Level'!$C$4:$N$141,9,0)","v":50},{"$f":"VLOOKUP($B29,'[1]Organisation Level'!$C$4:$N$141,10,0)","v":15},{"$f":"VLOOKUP($B29,'[1]Collection Mode'!$C$4:$M$141,6,0)","v":2769},{"$f":"VLOOKUP($B29,'[1]Collection Mode'!$C$4:$M$141,7,0)","v":0},{"$f":"VLOOKUP($B29,'[1]Collection Mode'!$C$4:$M$141,8,0)","v":5},{"$f":"VLOOKUP($B29,'[1]Collection Mode'!$C$4:$M$141,9,0)","v":0},{"$f":"VLOOKUP($B29,'[1]Collection Mode'!$C$4:$M$141,10,0)","v":52},{"$f":"VLOOKUP($B29,'[1]Collection Mode'!$C$4:$M$141,11,0)","v":238},0,0,0,0,0,0,0,0,0,0,0,0,0,0,0,0]
["QJ2","RXM","DERBYSHIRE HEALTHCARE NHS FOUNDATION TRUST",12,5452,0.91666666666666663,8.3333333333333329E-2,8,3,0,0,1,0,0,0,0,0,12,0,{"$f":"VLOOKUP($B30,'[1]Organisation Level'!$C$4:$N$141,11,0)","v":12},{"$f":"VLOOKUP($B30,'[1]Organisation Level'!$C$4:$N$141,12,0)","v":5452},0.91666666666666663,8.3333333333333329E-2,{"$f":"VLOOKUP($B30,'[1]Organisation Level'!$C$4:$N$141,5,0)","v":8},{"$f":"VLOOKUP($B30,'[1]Organisation Level'!$C$4:$N$141,6,0)","v":3},{"$f":"VLOOKUP($B30,'[1]Organisation Level'!$C$4:$N$141,7,0)","v":0},{"$f":"VLOOKUP($B30,'[1]Organisation Level'!$C$4:$N$141,8,0)","v":0},{"$f":"VLOOKUP($B30,'[1]Organisation Level'!$C$4:$N$141,9,0)","v":1},{"$f":"VLOOKUP($B30,'[1]Organisation Level'!$C$4:$N$141,10,0)","v":0},{"$f":"VLOOKUP($B30,'[1]Collection Mode'!$C$4:$M$141,6,0)","v":0},{"$f":"VLOOKUP($B30,'[1]Collection Mode'!$C$4:$M$141,7,0)","v":0},{"$f":"VLOOKUP($B30,'[1]Collection Mode'!$C$4:$M$141,8,0)","v":0},{"$f":"VLOOKUP($B30,'[1]Collection Mode'!$C$4:$M$141,9,0)","v":0},{"$f":"VLOOKUP($B30,'[1]Collection Mode'!$C$4:$M$141,10,0)","v":12},{"$f":"VLOOKUP($B30,'[1]Collection Mode'!$C$4:$M$141,11,0)","v":0},0,0,0,0,0,0,0,0,0,0,0,0,0,0,0,0]
["QJG","RDE","EAST SUFFOLK AND NORTH ESSEX NHS FOUNDATION TRUST",400,8994,0.95,0.02,351,29,10,5,3,2,0,0,143,0,257,0,{"$f":"VLOOKUP($B31,'[1]Organisation Level'!$C$4:$N$141,11,0)","v":400},{"$f":"VLOOKUP($B31,'[1]Organisation Level'!$C$4:$N$141,12,0)","v":8994},0.95,0.02,{"$f":"VLOOKUP($B31,'[1]Organisation Level'!$C$4:$N$141,5,0)","v":351},{"$f":"VLOOKUP($B31,'[1]Organisation Level'!$C$4:$N$141,6,0)","v":29},{"$f":"VLOOKUP($B31,'[1]Organisation Level'!$C$4:$N$141,7,0)","v":10},{"$f":"VLOOKUP($B31,'[1]Organisation Level'!$C$4:$N$141,8,0)","v":5},{"$f":"VLOOKUP($B31,'[1]Organisation Level'!$C$4:$N$141,9,0)","v":3},{"$f":"VLOOKUP($B31,'[1]Organisation Level'!$C$4:$N$141,10,0)","v":2},{"$f":"VLOOKUP($B31,'[1]Collection Mode'!$C$4:$M$141,6,0)","v":0},{"$f":"VLOOKUP($B31,'[1]Collection Mode'!$C$4:$M$141,7,0)","v":0},{"$f":"VLOOKUP($B31,'[1]Collection Mode'!$C$4:$M$141,8,0)","v":143},{"$f":"VLOOKUP($B31,'[1]Collection Mode'!$C$4:$M$141,9,0)","v":0},{"$f":"VLOOKUP($B31,'[1]Collection Mode'!$C$4:$M$141,10,0)","v":257},{"$f":"VLOOKUP($B31,'[1]Collection Mode'!$C$4:$M$141,11,0)","v":0},0,0,0,0,0,0,0,0,0,0,0,0,0,0,0,0]
["QJG","RGR","WEST SUFFOLK NHS FOUNDATION TRUST",146,2128,0.92465753424657537,6.1643835616438353E-2,110,25,1,4,5,1,0,32,72,0,42,0,{"$f":"VLOOKUP($B32,'[1]Organisation Level'!$C$4:$N$141,11,0)","v":146},{"$f":"VLOOKUP($B32,'[1]Organisation Level'!$C$4:$N$141,12,0)","v":2128},0.92465753424657537,6.1643835616438353E-2,{"$f":"VLOOKUP($B32,'[1]Organisation Level'!$C$4:$N$141,5,0)","v":110},{"$f":"VLOOKUP($B32,'[1]Organisation Level'!$C$4:$N$141,6,0)","v":25},{"$f":"VLOOKUP($B32,'[1]Organisation Level'!$C$4:$N$141,7,0)","v":1},{"$f":"VLOOKUP($B32,'[1]Organisation Level'!$C$4:$N$141,8,0)","v":4},{"$f":"VLOOKUP($B32,'[1]Organisation Level'!$C$4:$N$141,9,0)","v":5},{"$f":"VLOOKUP($B32,'[1]Organisation Level'!$C$4:$N$141,10,0)","v":1},{"$f":"VLOOKUP($B32,'[1]Collection Mode'!$C$4:$M$141,6,0)","v":0},{"$f":"VLOOKUP($B32,'[1]Collection Mode'!$C$4:$M$141,7,0)","v":32},{"$f":"VLOOKUP($B32,'[1]Collection Mode'!$C$4:$M$141,8,0)","v":72},{"$f":"VLOOKUP($B32,'[1]Collection Mode'!$C$4:$M$141,9,0)","v":0},{"$f":"VLOOKUP($B32,'[1]Collection Mode'!$C$4:$M$141,10,0)","v":42},{"$f":"VLOOKUP($B32,'[1]Collection Mode'!$C$4:$M$141,11,0)","v":0},0,0,0,0,0,0,0,0,0,0,0,0,0,0,0,0]
["QJK","RH8","ROYAL DEVON UNIVERSITY HEALTHCARE NHS FOUNDATION TRUST",592,22752,0.98479729729729726,5.0675675675675678E-3,522,61,6,2,1,0,0,0,332,0,260,0,{"$f":"VLOOKUP($B33,'[1]Organisation Level'!$C$4:$N$141,11,0)","v":592},{"$f":"VLOOKUP($B33,'[1]Organisation Level'!$C$4:$N$141,12,0)","v":22752},0.98479729729729726,5.0675675675675678E-3,{"$f":"VLOOKUP($B33,'[1]Organisation Level'!$C$4:$N$141,5,0)","v":522},{"$f":"VLOOKUP($B33,'[1]Organisation Level'!$C$4:$N$141,6,0)","v":61},{"$f":"VLOOKUP($B33,'[1]Organisation Level'!$C$4:$N$141,7,0)","v":6},{"$f":"VLOOKUP($B33,'[1]Organisation Level'!$C$4:$N$141,8,0)","v":2},{"$f":"VLOOKUP($B33,'[1]Organisation Level'!$C$4:$N$141,9,0)","v":1},{"$f":"VLOOKUP($B33,'[1]Organisation Level'!$C$4:$N$141,10,0)","v":0},{"$f":"VLOOKUP($B33,'[1]Collection Mode'!$C$4:$M$141,6,0)","v":0},{"$f":"VLOOKUP($B33,'[1]Collection Mode'!$C$4:$M$141,7,0)","v":0},{"$f":"VLOOKUP($B33,'[1]Collection Mode'!$C$4:$M$141,8,0)","v":332},{"$f":"VLOOKUP($B33,'[1]Collection Mode'!$C$4:$M$141,9,0)","v":0},{"$f":"VLOOKUP($B33,'[1]Collection Mode'!$C$4:$M$141,10,0)","v":260},{"$f":"VLOOKUP($B33,'[1]Collection Mode'!$C$4:$M$141,11,0)","v":0},0,0,0,0,0,0,0,0,0,0,0,0,0,0,0,0]
["QJK","RA9","TORBAY AND SOUTH DEVON NHS FOUNDATION TRUST",88,22770,1,0,"*","*","*","*","*","*","*","*","*","*","*","*",{"$f":"VLOOKUP($B34,'[1]Organisation Level'!$C$4:$N$141,11,0)","v":88},{"$f":"VLOOKUP($B34,'[1]Organisation Level'!$C$4:$N$141,12,0)","v":22770},1,0,{"$f":"VLOOKUP($B34,'[1]Organisation Level'!$C$4:$N$141,5,0)","v":77},{"$f":"VLOOKUP($B34,'[1]Organisation Level'!$C$4:$N$141,6,0)","v":11},{"$f":"VLOOKUP($B34,'[1]Organisation Level'!$C$4:$N$141,7,0)","v":0},{"$f":"VLOOKUP($B34,'[1]Organisation Level'!$C$4:$N$141,8,0)","v":0},{"$f":"VLOOKUP($B34,'[1]Organisation Level'!$C$4:$N$141,9,0)","v":0},{"$f":"VLOOKUP($B34,'[1]Organisation Level'!$C$4:$N$141,10,0)","v":0},{"$f":"VLOOKUP($B34,'[1]Collection Mode'!$C$4:$M$141,6,0)","v":0},{"$f":"VLOOKUP($B34,'[1]Collection Mode'!$C$4:$M$141,7,0)","v":0},{"$f":"VLOOKUP($B34,'[1]Collection Mode'!$C$4:$M$141,8,0)","v":88},{"$f":"VLOOKUP($B34,'[1]Collection Mode'!$C$4:$M$141,9,0)","v":0},{"$f":"VLOOKUP($B34,'[1]Collection Mode'!$C$4:$M$141,10,0)","v":0},{"$f":"VLOOKUP($B34,'[1]Collection Mode'!$C$4:$M$141,11,0)","v":0},0,0,0,0,0,0,0,0,0,0,0,0,0,0,0,0]
["QJK","RK9","UNIVERSITY HOSPITALS PLYMOUTH NHS TRUST",1,189,"*","*","*","*","*","*","*","*","*","*","*","*","*","*",{"$f":"VLOOKUP($B35,'[1]Organisation Level'!$C$4:$N$141,11,0)","v":1},{"$f":"VLOOKUP($B35,'[1]Organisation Level'!$C$4:$N$141,12,0)","v":189},1,0,{"$f":"VLOOKUP($B35,'[1]Organisation Level'!$C$4:$N$141,5,0)","v":1},{"$f":"VLOOKUP($B35,'[1]Organisation Level'!$C$4:$N$141,6,0)","v":0},{"$f":"VLOOKUP($B35,'[1]Organisation Level'!$C$4:$N$141,7,0)","v":0},{"$f":"VLOOKUP($B35,'[1]Organisation Level'!$C$4:$N$141,8,0)","v":0},{"$f":"VLOOKUP($B35,'[1]Organisation Level'!$C$4:$N$141,9,0)","v":0},{"$f":"VLOOKUP($B35,'[1]Organisation Level'!$C$4:$N$141,10,0)","v":0},{"$f":"VLOOKUP($B35,'[1]Collection Mode'!$C$4:$M$141,6,0)","v":0},{"$f":"VLOOKUP($B35,'[1]Collection Mode'!$C$4:$M$141,7,0)","v":0},{"$f":"VLOOKUP($B35,'[1]Collection Mode'!$C$4:$M$141,8,0)","v":0},{"$f":"VLOOKUP($B35,'[1]Collection Mode'!$C$4:$M$141,9,0)","v":0},{"$f":"VLOOKUP($B35,'[1]Collection Mode'!$C$4:$M$141,10,0)","v":1},{"$f":"VLOOKUP($B35,'[1]Collection Mode'!$C$4:$M$141,11,0)","v":0},0,0,0,0,0,0,0,0,0,0,0,0,0,0,0,0]
["QJM","RY5","LINCOLNSHIRE COMMUNITY HEALTH SERVICES NHS TRUST",4799,26753,0.89289435299020625,5.9387372369243595E-2,3637,648,177,130,155,52,3870,527,366,0,36,0,{"$f":"VLOOKUP($B36,'[1]Organisation Level'!$C$4:$N$141,11,0)","v":4799},{"$f":"VLOOKUP($B36,'[1]Organisation Level'!$C$4:$N$141,12,0)","v":26753},0.89289435299020625,5.9387372369243595E-2,{"$f":"VLOOKUP($B36,'[1]Organisation Level'!$C$4:$N$141,5,0)","v":3637},{"$f":"VLOOKUP($B36,'[1]Organisation Level'!$C$4:$N$141,6,0)","v":648},{"$f":"VLOOKUP($B36,'[1]Organisation Level'!$C$4:$N$141,7,0)","v":177},{"$f":"VLOOKUP($B36,'[1]Organisation Level'!$C$4:$N$141,8,0)","v":130},{"$f":"VLOOKUP($B36,'[1]Organisation Level'!$C$4:$N$141,9,0)","v":155},{"$f":"VLOOKUP($B36,'[1]Organisation Level'!$C$4:$N$141,10,0)","v":52},{"$f":"VLOOKUP($B36,'[1]Collection Mode'!$C$4:$M$141,6,0)","v":3870},{"$f":"VLOOKUP($B36,'[1]Collection Mode'!$C$4:$M$141,7,0)","v":527},{"$f":"VLOOKUP($B36,'[1]Collection Mode'!$C$4:$M$141,8,0)","v":366},{"$f":"VLOOKUP($B36,'[1]Collection Mode'!$C$4:$M$141,9,0)","v":0},{"$f":"VLOOKUP($B36,'[1]Collection Mode'!$C$4:$M$141,10,0)","v":36},{"$f":"VLOOKUP($B36,'[1]Collection Mode'!$C$4:$M$141,11,0)","v":0},0,0,0,0,0,0,0,0,0,0,0,0,0,0,0,0]
["QK1","RT5","LEICESTERSHIRE PARTNERSHIP NHS TRUST",1158,44331,0.92314335060449049,2.5906735751295335E-2,893,176,48,13,17,11,450,13,0,47,648,0,{"$f":"VLOOKUP($B37,'[1]Organisation Level'!$C$4:$N$141,11,0)","v":1158},{"$f":"VLOOKUP($B37,'[1]Organisation Level'!$C$4:$N$141,12,0)","v":44331},0.92314335060449049,2.5906735751295335E-2,{"$f":"VLOOKUP($B37,'[1]Organisation Level'!$C$4:$N$141,5,0)","v":893},{"$f":"VLOOKUP($B37,'[1]Organisation Level'!$C$4:$N$141,6,0)","v":176},{"$f":"VLOOKUP($B37,'[1]Organisation Level'!$C$4:$N$141,7,0)","v":48},{"$f":"VLOOKUP($B37,'[1]Organisation Level'!$C$4:$N$141,8,0)","v":13},{"$f":"VLOOKUP($B37,'[1]Organisation Level'!$C$4:$N$141,9,0)","v":17},{"$f":"VLOOKUP($B37,'[1]Organisation Level'!$C$4:$N$141,10,0)","v":11},{"$f":"VLOOKUP($B37,'[1]Collection Mode'!$C$4:$M$141,6,0)","v":450},{"$f":"VLOOKUP($B37,'[1]Collection Mode'!$C$4:$M$141,7,0)","v":13},{"$f":"VLOOKUP($B37,'[1]Collection Mode'!$C$4:$M$141,8,0)","v":0},{"$f":"VLOOKUP($B37,'[1]Collection Mode'!$C$4:$M$141,9,0)","v":47},{"$f":"VLOOKUP($B37,'[1]Collection Mode'!$C$4:$M$141,10,0)","v":648},{"$f":"VLOOKUP($B37,'[1]Collection Mode'!$C$4:$M$141,11,0)","v":0},0,0,0,0,0,0,0,0,0,0,0,0,0,0,0,0]
["QKK","RJ1","GUY'S AND ST THOMAS' NHS FOUNDATION TRUST",383,5724,0.96866840731070492,1.3054830287206266E-2,281,90,4,3,2,3,0,0,308,0,75,0,{"$f":"VLOOKUP($B38,'[1]Organisation Level'!$C$4:$N$141,11,0)","v":383},{"$f":"VLOOKUP($B38,'[1]Organisation Level'!$C$4:$N$141,12,0)","v":5724},0.96866840731070492,1.3054830287206266E-2,{"$f":"VLOOKUP($B38,'[1]Organisation Level'!$C$4:$N$141,5,0)","v":281},{"$f":"VLOOKUP($B38,'[1]Organisation Level'!$C$4:$N$141,6,0)","v":90},{"$f":"VLOOKUP($B38,'[1]Organisation Level'!$C$4:$N$141,7,0)","v":4},{"$f":"VLOOKUP($B38,'[1]Organisation Level'!$C$4:$N$141,8,0)","v":3},{"$f":"VLOOKUP($B38,'[1]Organisation Level'!$C$4:$N$141,9,0)","v":2},{"$f":"VLOOKUP($B38,'[1]Organisation Level'!$C$4:$N$141,10,0)","v":3},{"$f":"VLOOKUP($B38,'[1]Collection Mode'!$C$4:$M$141,6,0)","v":0},{"$f":"VLOOKUP($B38,'[1]Collection Mode'!$C$4:$M$141,7,0)","v":0},{"$f":"VLOOKUP($B38,'[1]Collection Mode'!$C$4:$M$141,8,0)","v":308},{"$f":"VLOOKUP($B38,'[1]Collection Mode'!$C$4:$M$141,9,0)","v":0},{"$f":"VLOOKUP($B38,'[1]Collection Mode'!$C$4:$M$141,10,0)","v":75},{"$f":"VLOOKUP($B38,'[1]Collection Mode'!$C$4:$M$141,11,0)","v":0},0,0,0,0,0,0,0,0,0,0,0,0,0,0,0,0]
["QKK","RJ2","LEWISHAM AND GREENWICH NHS TRUST",909,27322,0.98019801980198018,1.1001100110011002E-2,803,88,8,5,5,0,14,10,9,0,876,0,{"$f":"VLOOKUP($B39,'[1]Organisation Level'!$C$4:$N$141,11,0)","v":909},{"$f":"VLOOKUP($B39,'[1]Organisation Level'!$C$4:$N$141,12,0)","v":27322},0.98019801980198018,1.1001100110011002E-2,{"$f":"VLOOKUP($B39,'[1]Organisation Level'!$C$4:$N$141,5,0)","v":803},{"$f":"VLOOKUP($B39,'[1]Organisation Level'!$C$4:$N$141,6,0)","v":88},{"$f":"VLOOKUP($B39,'[1]Organisation Level'!$C$4:$N$141,7,0)","v":8},{"$f":"VLOOKUP($B39,'[1]Organisation Level'!$C$4:$N$141,8,0)","v":5},{"$f":"VLOOKUP($B39,'[1]Organisation Level'!$C$4:$N$141,9,0)","v":5},{"$f":"VLOOKUP($B39,'[1]Organisation Level'!$C$4:$N$141,10,0)","v":0},{"$f":"VLOOKUP($B39,'[1]Collection Mode'!$C$4:$M$141,6,0)","v":14},{"$f":"VLOOKUP($B39,'[1]Collection Mode'!$C$4:$M$141,7,0)","v":10},{"$f":"VLOOKUP($B39,'[1]Collection Mode'!$C$4:$M$141,8,0)","v":9},{"$f":"VLOOKUP($B39,'[1]Collection Mode'!$C$4:$M$141,9,0)","v":0},{"$f":"VLOOKUP($B39,'[1]Collection Mode'!$C$4:$M$141,10,0)","v":876},{"$f":"VLOOKUP($B39,'[1]Collection Mode'!$C$4:$M$141,11,0)","v":0},0,0,0,0,0,0,0,0,0,0,0,0,0,0,0,0]
["QKK","RPG","OXLEAS NHS FOUNDATION TRUST",2102,28808,0.89581351094196005,3.5204567078972404E-2,1540,343,126,39,35,19,1177,120,674,0,82,49,{"$f":"VLOOKUP($B40,'[1]Organisation Level'!$C$4:$N$141,11,0)","v":2102},{"$f":"VLOOKUP($B40,'[1]Organisation Level'!$C$4:$N$141,12,0)","v":28808},0.89581351094196005,3.5204567078972404E-2,{"$f":"VLOOKUP($B40,'[1]Organisation Level'!$C$4:$N$141,5,0)","v":1540},{"$f":"VLOOKUP($B40,'[1]Organisation Level'!$C$4:$N$141,6,0)","v":343},{"$f":"VLOOKUP($B40,'[1]Organisation Level'!$C$4:$N$141,7,0)","v":126},{"$f":"VLOOKUP($B40,'[1]Organisation Level'!$C$4:$N$141,8,0)","v":39},{"$f":"VLOOKUP($B40,'[1]Organisation Level'!$C$4:$N$141,9,0)","v":35},{"$f":"VLOOKUP($B40,'[1]Organisation Level'!$C$4:$N$141,10,0)","v":19},{"$f":"VLOOKUP($B40,'[1]Collection Mode'!$C$4:$M$141,6,0)","v":1177},{"$f":"VLOOKUP($B40,'[1]Collection Mode'!$C$4:$M$141,7,0)","v":120},{"$f":"VLOOKUP($B40,'[1]Collection Mode'!$C$4:$M$141,8,0)","v":674},{"$f":"VLOOKUP($B40,'[1]Collection Mode'!$C$4:$M$141,9,0)","v":0},{"$f":"VLOOKUP($B40,'[1]Collection Mode'!$C$4:$M$141,10,0)","v":82},{"$f":"VLOOKUP($B40,'[1]Collection Mode'!$C$4:$M$141,11,0)","v":49},0,0,0,0,0,0,0,0,0,0,0,0,0,0,0,0]
["QKS","RYY","KENT COMMUNITY HEALTH NHS FOUNDATION TRUST",5040,65000,0.97142857142857142,9.1269841269841275E-3,4393,503,81,21,25,17,1600,173,1874,181,841,371,{"$f":"VLOOKUP($B41,'[1]Organisation Level'!$C$4:$N$141,11,0)","v":5040},{"$f":"VLOOKUP($B41,'[1]Organisation Level'!$C$4:$N$141,12,0)","v":65000},0.97142857142857142,9.1269841269841275E-3,{"$f":"VLOOKUP($B41,'[1]Organisation Level'!$C$4:$N$141,5,0)","v":4393},{"$f":"VLOOKUP($B41,'[1]Organisation Level'!$C$4:$N$141,6,0)","v":503},{"$f":"VLOOKUP($B41,'[1]Organisation Level'!$C$4:$N$141,7,0)","v":81},{"$f":"VLOOKUP($B41,'[1]Organisation Level'!$C$4:$N$141,8,0)","v":21},{"$f":"VLOOKUP($B41,'[1]Organisation Level'!$C$4:$N$141,9,0)","v":25},{"$f":"VLOOKUP($B41,'[1]Organisation Level'!$C$4:$N$141,10,0)","v":17},{"$f":"VLOOKUP($B41,'[1]Collection Mode'!$C$4:$M$141,6,0)","v":1600},{"$f":"VLOOKUP($B41,'[1]Collection Mode'!$C$4:$M$141,7,0)","v":173},{"$f":"VLOOKUP($B41,'[1]Collection Mode'!$C$4:$M$141,8,0)","v":1874},{"$f":"VLOOKUP($B41,'[1]Collection Mode'!$C$4:$M$141,9,0)","v":181},{"$f":"VLOOKUP($B41,'[1]Collection Mode'!$C$4:$M$141,10,0)","v":841},{"$f":"VLOOKUP($B41,'[1]Collection Mode'!$C$4:$M$141,11,0)","v":371},0,0,0,0,0,0,0,0,0,0,0,0,0,0,0,0]
["QM7","RY4","HERTFORDSHIRE COMMUNITY NHS TRUST",972,42590,0.9238683127572016,3.3950617283950615E-2,793,105,34,17,16,7,224,0,53,0,661,34,{"$f":"VLOOKUP($B42,'[1]Organisation Level'!$C$4:$N$141,11,0)","v":972},{"$f":"VLOOKUP($B42,'[1]Organisation Level'!$C$4:$N$141,12,0)","v":42590},0.9238683127572016,3.3950617283950615E-2,{"$f":"VLOOKUP($B42,'[1]Organisation Level'!$C$4:$N$141,5,0)","v":793},{"$f":"VLOOKUP($B42,'[1]Organisation Level'!$C$4:$N$141,6,0)","v":105},{"$f":"VLOOKUP($B42,'[1]Organisation Level'!$C$4:$N$141,7,0)","v":34},{"$f":"VLOOKUP($B42,'[1]Organisation Level'!$C$4:$N$141,8,0)","v":17},{"$f":"VLOOKUP($B42,'[1]Organisation Level'!$C$4:$N$141,9,0)","v":16},{"$f":"VLOOKUP($B42,'[1]Organisation Level'!$C$4:$N$141,10,0)","v":7},{"$f":"VLOOKUP($B42,'[1]Collection Mode'!$C$4:$M$141,6,0)","v":224},{"$f":"VLOOKUP($B42,'[1]Collection Mode'!$C$4:$M$141,7,0)","v":0},{"$f":"VLOOKUP($B42,'[1]Collection Mode'!$C$4:$M$141,8,0)","v":53},{"$f":"VLOOKUP($B42,'[1]Collection Mode'!$C$4:$M$141,9,0)","v":0},{"$f":"VLOOKUP($B42,'[1]Collection Mode'!$C$4:$M$141,10,0)","v":661},{"$f":"VLOOKUP($B42,'[1]Collection Mode'!$C$4:$M$141,11,0)","v":34},0,0,0,0,0,0,0,0,0,0,0,0,0,0,0,0]
["QMF","R1H","BARTS HEALTH NHS TRUST",0,8443,"NA","NA",0,0,0,0,0,0,0,0,0,0,0,0,{"$f":"VLOOKUP($B43,'[1]Organisation Level'!$C$4:$N$141,11,0)","v":0},{"$f":"VLOOKUP($B43,'[1]Organisation Level'!$C$4:$N$141,12,0)","v":8443},{"$error":"#DIV/0!"},{"$error":"#DIV/0!"},{"$f":"VLOOKUP($B43,'[1]Organisation Level'!$C$4:$N$141,5,0)","v":0},{"$f":"VLOOKUP($B43,'[1]Organisation Level'!$C$4:$N$141,6,0)","v":0},{"$f":"VLOOKUP($B43,'[1]Organisation Level'!$C$4:$N$141,7,0)","v":0},{"$f":"VLOOKUP($B43,'[1]Organisation Level'!$C$4:$N$141,8,0)","v":0},{"$f":"VLOOKUP($B43,'[1]Organisation Level'!$C$4:$N$141,9,0)","v":0},{"$f":"VLOOKUP($B43,'[1]Organisation Level'!$C$4:$N$141,10,0)","v":0},{"$f":"VLOOKUP($B43,'[1]Collection Mode'!$C$4:$M$141,6,0)","v":0},{"$f":"VLOOKUP($B43,'[1]Collection Mode'!$C$4:$M$141,7,0)","v":0},{"$f":"VLOOKUP($B43,'[1]Collection Mode'!$C$4:$M$141,8,0)","v":0},{"$f":"VLOOKUP($B43,'[1]Collection Mode'!$C$4:$M$141,9,0)","v":0},{"$f":"VLOOKUP($B43,'[1]Collection Mode'!$C$4:$M$141,10,0)","v":0},{"$f":"VLOOKUP($B43,'[1]Collection Mode'!$C$4:$M$141,11,0)","v":0},0,0,0,0,0,0,0,0,0,0,0,0,0,0,0,0]
["QMF","RWK","EAST LONDON NHS FOUNDATION TRUST",874,35159,0.95881006864988561,1.7162471395881007E-2,390,448,15,8,7,6,1,4,4,139,475,251,{"$f":"VLOOKUP($B44,'[1]Organisation Level'!$C$4:$N$141,11,0)","v":874},{"$f":"VLOOKUP($B44,'[1]Organisation Level'!$C$4:$N$141,12,0)","v":35159},0.95881006864988561,1.7162471395881007E-2,{"$f":"VLOOKUP($B44,'[1]Organisation Level'!$C$4:$N$141,5,0)","v":390},{"$f":"VLOOKUP($B44,'[1]Organisation Level'!$C$4:$N$141,6,0)","v":448},{"$f":"VLOOKUP($B44,'[1]Organisation Level'!$C$4:$N$141,7,0)","v":15},{"$f":"VLOOKUP($B44,'[1]Organisation Level'!$C$4:$N$141,8,0)","v":8},{"$f":"VLOOKUP($B44,'[1]Organisation Level'!$C$4:$N$141,9,0)","v":7},{"$f":"VLOOKUP($B44,'[1]Organisation Level'!$C$4:$N$141,10,0)","v":6},{"$f":"VLOOKUP($B44,'[1]Collection Mode'!$C$4:$M$141,6,0)","v":1},{"$f":"VLOOKUP($B44,'[1]Collection Mode'!$C$4:$M$141,7,0)","v":4},{"$f":"VLOOKUP($B44,'[1]Collection Mode'!$C$4:$M$141,8,0)","v":4},{"$f":"VLOOKUP($B44,'[1]Collection Mode'!$C$4:$M$141,9,0)","v":139},{"$f":"VLOOKUP($B44,'[1]Collection Mode'!$C$4:$M$141,10,0)","v":475},{"$f":"VLOOKUP($B44,'[1]Collection Mode'!$C$4:$M$141,11,0)","v":251},0,0,0,0,0,0,0,0,0,0,0,0,0,0,0,0]
["QMF","RQX","HOMERTON HEALTHCARE NHS FOUNDATION TRUST",948,15949,0.96835443037974689,1.4767932489451477E-2,781,137,16,3,11,0,859,0,22,0,67,0,{"$f":"VLOOKUP($B45,'[1]Organisation Level'!$C$4:$N$141,11,0)","v":948},{"$f":"VLOOKUP($B45,'[1]Organisation Level'!$C$4:$N$141,12,0)","v":15949},0.96835443037974689,1.4767932489451477E-2,{"$f":"VLOOKUP($B45,'[1]Organisation Level'!$C$4:$N$141,5,0)","v":781},{"$f":"VLOOKUP($B45,'[1]Organisation Level'!$C$4:$N$141,6,0)","v":137},{"$f":"VLOOKUP($B45,'[1]Organisation Level'!$C$4:$N$141,7,0)","v":16},{"$f":"VLOOKUP($B45,'[1]Organisation Level'!$C$4:$N$141,8,0)","v":3},{"$f":"VLOOKUP($B45,'[1]Organisation Level'!$C$4:$N$141,9,0)","v":11},{"$f":"VLOOKUP($B45,'[1]Organisation Level'!$C$4:$N$141,10,0)","v":0},{"$f":"VLOOKUP($B45,'[1]Collection Mode'!$C$4:$M$141,6,0)","v":859},{"$f":"VLOOKUP($B45,'[1]Collection Mode'!$C$4:$M$141,7,0)","v":0},{"$f":"VLOOKUP($B45,'[1]Collection Mode'!$C$4:$M$141,8,0)","v":22},{"$f":"VLOOKUP($B45,'[1]Collection Mode'!$C$4:$M$141,9,0)","v":0},{"$f":"VLOOKUP($B45,'[1]Collection Mode'!$C$4:$M$141,10,0)","v":67},{"$f":"VLOOKUP($B45,'[1]Collection Mode'!$C$4:$M$141,11,0)","v":0},0,0,0,0,0,0,0,0,0,0,0,0,0,0,0,0]
["QMF","RAT","NORTH EAST LONDON NHS FOUNDATION TRUST",1086,17875,0.8830570902394107,5.0644567219152857E-2,734,225,57,26,29,15,0,0,0,0,1086,0,{"$f":"VLOOKUP($B46,'[1]Organisation Level'!$C$4:$N$141,11,0)","v":1086},{"$f":"VLOOKUP($B46,'[1]Organisation Level'!$C$4:$N$141,12,0)","v":17875},0.8830570902394107,5.0644567219152857E-2,{"$f":"VLOOKUP($B46,'[1]Organisation Level'!$C$4:$N$141,5,0)","v":734},{"$f":"VLOOKUP($B46,'[1]Organisation Level'!$C$4:$N$141,6,0)","v":225},{"$f":"VLOOKUP($B46,'[1]Organisation Level'!$C$4:$N$141,7,0)","v":57},{"$f":"VLOOKUP($B46,'[1]Organisation Level'!$C$4:$N$141,8,0)","v":26},{"$f":"VLOOKUP($B46,'[1]Organisation Level'!$C$4:$N$141,9,0)","v":29},{"$f":"VLOOKUP($B46,'[1]Organisation Level'!$C$4:$N$141,10,0)","v":15},{"$f":"VLOOKUP($B46,'[1]Collection Mode'!$C$4:$M$141,6,0)","v":0},{"$f":"VLOOKUP($B46,'[1]Collection Mode'!$C$4:$M$141,7,0)","v":0},{"$f":"VLOOKUP($B46,'[1]Collection Mode'!$C$4:$M$141,8,0)","v":0},{"$f":"VLOOKUP($B46,'[1]Collection Mode'!$C$4:$M$141,9,0)","v":0},{"$f":"VLOOKUP($B46,'[1]Collection Mode'!$C$4:$M$141,10,0)","v":1086},{"$f":"VLOOKUP($B46,'[1]Collection Mode'!$C$4:$M$141,11,0)","v":0},0,0,0,0,0,0,0,0,0,0,0,0,0,0,0,0]
["QMJ","RV3","CENTRAL AND NORTH WEST LONDON NHS FOUNDATION TRUST",397,37988,0.97481108312342568,7.556675062972292E-3,321,66,7,3,0,0,28,26,63,0,280,0,{"$f":"VLOOKUP($B47,'[1]Organisation Level'!$C$4:$N$141,11,0)","v":397},{"$f":"VLOOKUP($B47,'[1]Organisation Level'!$C$4:$N$141,12,0)","v":37988},0.97481108312342568,7.556675062972292E-3,{"$f":"VLOOKUP($B47,'[1]Organisation Level'!$C$4:$N$141,5,0)","v":321},{"$f":"VLOOKUP($B47,'[1]Organisation Level'!$C$4:$N$141,6,0)","v":66},{"$f":"VLOOKUP($B47,'[1]Organisation Level'!$C$4:$N$141,7,0)","v":7},{"$f":"VLOOKUP($B47,'[1]Organisation Level'!$C$4:$N$141,8,0)","v":3},{"$f":"VLOOKUP($B47,'[1]Organisation Level'!$C$4:$N$141,9,0)","v":0},{"$f":"VLOOKUP($B47,'[1]Organisation Level'!$C$4:$N$141,10,0)","v":0},{"$f":"VLOOKUP($B47,'[1]Collection Mode'!$C$4:$M$141,6,0)","v":28},{"$f":"VLOOKUP($B47,'[1]Collection Mode'!$C$4:$M$141,7,0)","v":26},{"$f":"VLOOKUP($B47,'[1]Collection Mode'!$C$4:$M$141,8,0)","v":63},{"$f":"VLOOKUP($B47,'[1]Collection Mode'!$C$4:$M$141,9,0)","v":0},{"$f":"VLOOKUP($B47,'[1]Collection Mode'!$C$4:$M$141,10,0)","v":280},{"$f":"VLOOKUP($B47,'[1]Collection Mode'!$C$4:$M$141,11,0)","v":0},0,0,0,0,0,0,0,0,0,0,0,0,0,0,0,0]
["QMJ","RAL","ROYAL FREE LONDON NHS FOUNDATION TRUST",769,769,0.94798439531859557,3.9011703511053317E-3,438,291,36,3,0,1,0,742,0,0,27,0,{"$f":"VLOOKUP($B48,'[1]Organisation Level'!$C$4:$N$141,11,0)","v":769},{"$f":"VLOOKUP($B48,'[1]Organisation Level'!$C$4:$N$141,12,0)","v":769},0.94798439531859557,3.9011703511053317E-3,{"$f":"VLOOKUP($B48,'[1]Organisation Level'!$C$4:$N$141,5,0)","v":438},{"$f":"VLOOKUP($B48,'[1]Organisation Level'!$C$4:$N$141,6,0)","v":291},{"$f":"VLOOKUP($B48,'[1]Organisation Level'!$C$4:$N$141,7,0)","v":36},{"$f":"VLOOKUP($B48,'[1]Organisation Level'!$C$4:$N$141,8,0)","v":3},{"$f":"VLOOKUP($B48,'[1]Organisation Level'!$C$4:$N$141,9,0)","v":0},{"$f":"VLOOKUP($B48,'[1]Organisation Level'!$C$4:$N$141,10,0)","v":1},{"$f":"VLOOKUP($B48,'[1]Collection Mode'!$C$4:$M$141,6,0)","v":0},{"$f":"VLOOKUP($B48,'[1]Collection Mode'!$C$4:$M$141,7,0)","v":742},{"$f":"VLOOKUP($B48,'[1]Collection Mode'!$C$4:$M$141,8,0)","v":0},{"$f":"VLOOKUP($B48,'[1]Collection Mode'!$C$4:$M$141,9,0)","v":0},{"$f":"VLOOKUP($B48,'[1]Collection Mode'!$C$4:$M$141,10,0)","v":27},{"$f":"VLOOKUP($B48,'[1]Collection Mode'!$C$4:$M$141,11,0)","v":0},0,0,0,0,0,0,0,0,0,0,0,0,0,0,0,0]
["QMJ","RKE","WHITTINGTON HEALTH NHS TRUST",852,26595,0.960093896713615,1.9953051643192488E-2,718,100,12,7,10,5,215,232,136,0,269,0,{"$f":"VLOOKUP($B49,'[1]Organisation Level'!$C$4:$N$141,11,0)","v":852},{"$f":"VLOOKUP($B49,'[1]Organisation Level'!$C$4:$N$141,12,0)","v":26595},0.960093896713615,1.9953051643192488E-2,{"$f":"VLOOKUP($B49,'[1]Organisation Level'!$C$4:$N$141,5,0)","v":718},{"$f":"VLOOKUP($B49,'[1]Organisation Level'!$C$4:$N$141,6,0)","v":100},{"$f":"VLOOKUP($B49,'[1]Organisation Level'!$C$4:$N$141,7,0)","v":12},{"$f":"VLOOKUP($B49,'[1]Organisation Level'!$C$4:$N$141,8,0)","v":7},{"$f":"VLOOKUP($B49,'[1]Organisation Level'!$C$4:$N$141,9,0)","v":10},{"$f":"VLOOKUP($B49,'[1]Organisation Level'!$C$4:$N$141,10,0)","v":5},{"$f":"VLOOKUP($B49,'[1]Collection Mode'!$C$4:$M$141,6,0)","v":215},{"$f":"VLOOKUP($B49,'[1]Collection Mode'!$C$4:$M$141,7,0)","v":232},{"$f":"VLOOKUP($B49,'[1]Collection Mode'!$C$4:$M$141,8,0)","v":136},{"$f":"VLOOKUP($B49,'[1]Collection Mode'!$C$4:$M$141,9,0)","v":0},{"$f":"VLOOKUP($B49,'[1]Collection Mode'!$C$4:$M$141,10,0)","v":269},{"$f":"VLOOKUP($B49,'[1]Collection Mode'!$C$4:$M$141,11,0)","v":0},0,0,0,0,0,0,0,0,0,0,0,0,0,0,0,0]
["QMM","RY3","NORFOLK COMMUNITY HEALTH AND CARE NHS TRUST",413,30405,0.96610169491525422,4.8426150121065378E-3,342,57,12,1,1,0,0,0,0,0,413,0,{"$f":"VLOOKUP($B50,'[1]Organisation Level'!$C$4:$N$141,11,0)","v":413},{"$f":"VLOOKUP($B50,'[1]Organisation Level'!$C$4:$N$141,12,0)","v":30405},0.96610169491525422,4.8426150121065378E-3,{"$f":"VLOOKUP($B50,'[1]Organisation Level'!$C$4:$N$141,5,0)","v":342},{"$f":"VLOOKUP($B50,'[1]Organisation Level'!$C$4:$N$141,6,0)","v":57},{"$f":"VLOOKUP($B50,'[1]Organisation Level'!$C$4:$N$141,7,0)","v":12},{"$f":"VLOOKUP($B50,'[1]Organisation Level'!$C$4:$N$141,8,0)","v":1},{"$f":"VLOOKUP($B50,'[1]Organisation Level'!$C$4:$N$141,9,0)","v":1},{"$f":"VLOOKUP($B50,'[1]Organisation Level'!$C$4:$N$141,10,0)","v":0},{"$f":"VLOOKUP($B50,'[1]Collection Mode'!$C$4:$M$141,6,0)","v":0},{"$f":"VLOOKUP($B50,'[1]Collection Mode'!$C$4:$M$141,7,0)","v":0},{"$f":"VLOOKUP($B50,'[1]Collection Mode'!$C$4:$M$141,8,0)","v":0},{"$f":"VLOOKUP($B50,'[1]Collection Mode'!$C$4:$M$141,9,0)","v":0},{"$f":"VLOOKUP($B50,'[1]Collection Mode'!$C$4:$M$141,10,0)","v":413},{"$f":"VLOOKUP($B50,'[1]Collection Mode'!$C$4:$M$141,11,0)","v":0},0,0,0,0,0,0,0,0,0,0,0,0,0,0,0,0]
["QNC","RRE","MIDLANDS PARTNERSHIP UNIVERSITY NHS FOUNDATION TRUST",1361,48945,0.92652461425422483,3.0124908155767818E-2,1083,178,41,18,23,18,1067,0,0,0,235,59,{"$f":"VLOOKUP($B51,'[1]Organisation Level'!$C$4:$N$141,11,0)","v":1361},{"$f":"VLOOKUP($B51,'[1]Organisation Level'!$C$4:$N$141,12,0)","v":48945},0.92652461425422483,3.0124908155767818E-2,{"$f":"VLOOKUP($B51,'[1]Organisation Level'!$C$4:$N$141,5,0)","v":1083},{"$f":"VLOOKUP($B51,'[1]Organisation Level'!$C$4:$N$141,6,0)","v":178},{"$f":"VLOOKUP($B51,'[1]Organisation Level'!$C$4:$N$141,7,0)","v":41},{"$f":"VLOOKUP($B51,'[1]Organisation Level'!$C$4:$N$141,8,0)","v":18},{"$f":"VLOOKUP($B51,'[1]Organisation Level'!$C$4:$N$141,9,0)","v":23},{"$f":"VLOOKUP($B51,'[1]Organisation Level'!$C$4:$N$141,10,0)","v":18},{"$f":"VLOOKUP($B51,'[1]Collection Mode'!$C$4:$M$141,6,0)","v":1067},{"$f":"VLOOKUP($B51,'[1]Collection Mode'!$C$4:$M$141,7,0)","v":0},{"$f":"VLOOKUP($B51,'[1]Collection Mode'!$C$4:$M$141,8,0)","v":0},{"$f":"VLOOKUP($B51,'[1]Collection Mode'!$C$4:$M$141,9,0)","v":0},{"$f":"VLOOKUP($B51,'[1]Collection Mode'!$C$4:$M$141,10,0)","v":235},{"$f":"VLOOKUP($B51,'[1]Collection Mode'!$C$4:$M$141,11,0)","v":59},0,0,0,0,0,0,0,0,0,0,0,0,0,0,0,0]
["QNQ","RWX","BERKSHIRE HEALTHCARE NHS FOUNDATION TRUST",3591,40469,0.95850737956001109,1.4202172096908938E-2,3000,442,56,21,30,42,0,201,1497,0,1893,0,{"$f":"VLOOKUP($B52,'[1]Organisation Level'!$C$4:$N$141,11,0)","v":3591},{"$f":"VLOOKUP($B52,'[1]Organisation Level'!$C$4:$N$141,12,0)","v":40469},0.95850737956001109,1.4202172096908938E-2,{"$f":"VLOOKUP($B52,'[1]Organisation Level'!$C$4:$N$141,5,0)","v":3000},{"$f":"VLOOKUP($B52,'[1]Organisation Level'!$C$4:$N$141,6,0)","v":442},{"$f":"VLOOKUP($B52,'[1]Organisation Level'!$C$4:$N$141,7,0)","v":56},{"$f":"VLOOKUP($B52,'[1]Organisation Level'!$C$4:$N$141,8,0)","v":21},{"$f":"VLOOKUP($B52,'[1]Organisation Level'!$C$4:$N$141,9,0)","v":30},{"$f":"VLOOKUP($B52,'[1]Organisation Level'!$C$4:$N$141,10,0)","v":42},{"$f":"VLOOKUP($B52,'[1]Collection Mode'!$C$4:$M$141,6,0)","v":0},{"$f":"VLOOKUP($B52,'[1]Collection Mode'!$C$4:$M$141,7,0)","v":201},{"$f":"VLOOKUP($B52,'[1]Collection Mode'!$C$4:$M$141,8,0)","v":1497},{"$f":"VLOOKUP($B52,'[1]Collection Mode'!$C$4:$M$141,9,0)","v":0},{"$f":"VLOOKUP($B52,'[1]Collection Mode'!$C$4:$M$141,10,0)","v":1893},{"$f":"VLOOKUP($B52,'[1]Collection Mode'!$C$4:$M$141,11,0)","v":0},0,0,0,0,0,0,0,0,0,0,0,0,0,0,0,0]
["QNQ","RDU","FRIMLEY HEALTH NHS FOUNDATION TRUST",303,0,0.99339933993399343,0,278,23,2,0,0,0,0,163,61,0,79,0,{"$f":"VLOOKUP($B53,'[1]Organisation Level'!$C$4:$N$141,11,0)","v":303},{"$f":"VLOOKUP($B53,'[1]Organisation Level'!$C$4:$N$141,12,0)","v":0},0.99339933993399343,0,{"$f":"VLOOKUP($B53,'[1]Organisation Level'!$C$4:$N$141,5,0)","v":278},{"$f":"VLOOKUP($B53,'[1]Organisation Level'!$C$4:$N$141,6,0)","v":23},{"$f":"VLOOKUP($B53,'[1]Organisation Level'!$C$4:$N$141,7,0)","v":2},{"$f":"VLOOKUP($B53,'[1]Organisation Level'!$C$4:$N$141,8,0)","v":0},{"$f":"VLOOKUP($B53,'[1]Organisation Level'!$C$4:$N$141,9,0)","v":0},{"$f":"VLOOKUP($B53,'[1]Organisation Level'!$C$4:$N$141,10,0)","v":0},{"$f":"VLOOKUP($B53,'[1]Collection Mode'!$C$4:$M$141,6,0)","v":0},{"$f":"VLOOKUP($B53,'[1]Collection Mode'!$C$4:$M$141,7,0)","v":163},{"$f":"VLOOKUP($B53,'[1]Collection Mode'!$C$4:$M$141,8,0)","v":61},{"$f":"VLOOKUP($B53,'[1]Collection Mode'!$C$4:$M$141,9,0)","v":0},{"$f":"VLOOKUP($B53,'[1]Collection Mode'!$C$4:$M$141,10,0)","v":79},{"$f":"VLOOKUP($B53,'[1]Collection Mode'!$C$4:$M$141,11,0)","v":0},0,0,0,0,0,0,0,0,0,0,0,0,0,0,0,0]
["QNX","RXC","EAST SUSSEX HEALTHCARE NHS TRUST",1913,41529,0.94981704129639311,2.2477783585990591E-2,1668,149,42,19,24,11,1902,0,0,3,8,0,{"$f":"VLOOKUP($B54,'[1]Organisation Level'!$C$4:$N$141,11,0)","v":1913},{"$f":"VLOOKUP($B54,'[1]Organisation Level'!$C$4:$N$141,12,0)","v":41529},0.94981704129639311,2.2477783585990591E-2,{"$f":"VLOOKUP($B54,'[1]Organisation Level'!$C$4:$N$141,5,0)","v":1668},{"$f":"VLOOKUP($B54,'[1]Organisation Level'!$C$4:$N$141,6,0)","v":149},{"$f":"VLOOKUP($B54,'[1]Organisation Level'!$C$4:$N$141,7,0)","v":42},{"$f":"VLOOKUP($B54,'[1]Organisation Level'!$C$4:$N$141,8,0)","v":19},{"$f":"VLOOKUP($B54,'[1]Organisation Level'!$C$4:$N$141,9,0)","v":24},{"$f":"VLOOKUP($B54,'[1]Organisation Level'!$C$4:$N$141,10,0)","v":11},{"$f":"VLOOKUP($B54,'[1]Collection Mode'!$C$4:$M$141,6,0)","v":1902},{"$f":"VLOOKUP($B54,'[1]Collection Mode'!$C$4:$M$141,7,0)","v":0},{"$f":"VLOOKUP($B54,'[1]Collection Mode'!$C$4:$M$141,8,0)","v":0},{"$f":"VLOOKUP($B54,'[1]Collection Mode'!$C$4:$M$141,9,0)","v":3},{"$f":"VLOOKUP($B54,'[1]Collection Mode'!$C$4:$M$141,10,0)","v":8},{"$f":"VLOOKUP($B54,'[1]Collection Mode'!$C$4:$M$141,11,0)","v":0},0,0,0,0,0,0,0,0,0,0,0,0,0,0,0,0]
["QNX","RDR","SUSSEX COMMUNITY NHS FOUNDATION TRUST",2878,64202,0.95934676858929813,2.0500347463516332E-2,2423,338,52,26,33,6,0,0,859,0,2019,0,{"$f":"VLOOKUP($B55,'[1]Organisation Level'!$C$4:$N$141,11,0)","v":2878},{"$f":"VLOOKUP($B55,'[1]Organisation Level'!$C$4:$N$141,12,0)","v":64202},0.95934676858929813,2.0500347463516332E-2,{"$f":"VLOOKUP($B55,'[1]Organisation Level'!$C$4:$N$141,5,0)","v":2423},{"$f":"VLOOKUP($B55,'[1]Organisation Level'!$C$4:$N$141,6,0)","v":338},{"$f":"VLOOKUP($B55,'[1]Organisation Level'!$C$4:$N$141,7,0)","v":52},{"$f":"VLOOKUP($B55,'[1]Organisation Level'!$C$4:$N$141,8,0)","v":26},{"$f":"VLOOKUP($B55,'[1]Organisation Level'!$C$4:$N$141,9,0)","v":33},{"$f":"VLOOKUP($B55,'[1]Organisation Level'!$C$4:$N$141,10,0)","v":6},{"$f":"VLOOKUP($B55,'[1]Collection Mode'!$C$4:$M$141,6,0)","v":0},{"$f":"VLOOKUP($B55,'[1]Collection Mode'!$C$4:$M$141,7,0)","v":0},{"$f":"VLOOKUP($B55,'[1]Collection Mode'!$C$4:$M$141,8,0)","v":859},{"$f":"VLOOKUP($B55,'[1]Collection Mode'!$C$4:$M$141,9,0)","v":0},{"$f":"VLOOKUP($B55,'[1]Collection Mode'!$C$4:$M$141,10,0)","v":2019},{"$f":"VLOOKUP($B55,'[1]Collection Mode'!$C$4:$M$141,11,0)","v":0},0,0,0,0,0,0,0,0,0,0,0,0,0,0,0,0]
["QOC","R1D","SHROPSHIRE COMMUNITY HEALTH NHS TRUST",223,473413,0.97757847533632292,4.4843049327354259E-3,203,15,4,1,0,0,0,184,35,0,4,0,{"$f":"VLOOKUP($B56,'[1]Organisation Level'!$C$4:$N$141,11,0)","v":223},{"$f":"VLOOKUP($B56,'[1]Organisation Level'!$C$4:$N$141,12,0)","v":473413},0.97757847533632292,4.4843049327354259E-3,{"$f":"VLOOKUP($B56,'[1]Organisation Level'!$C$4:$N$141,5,0)","v":203},{"$f":"VLOOKUP($B56,'[1]Organisation Level'!$C$4:$N$141,6,0)","v":15},{"$f":"VLOOKUP($B56,'[1]Organisation Level'!$C$4:$N$141,7,0)","v":4},{"$f":"VLOOKUP($B56,'[1]Organisation Level'!$C$4:$N$141,8,0)","v":1},{"$f":"VLOOKUP($B56,'[1]Organisation Level'!$C$4:$N$141,9,0)","v":0},{"$f":"VLOOKUP($B56,'[1]Organisation Level'!$C$4:$N$141,10,0)","v":0},{"$f":"VLOOKUP($B56,'[1]Collection Mode'!$C$4:$M$141,6,0)","v":0},{"$f":"VLOOKUP($B56,'[1]Collection Mode'!$C$4:$M$141,7,0)","v":184},{"$f":"VLOOKUP($B56,'[1]Collection Mode'!$C$4:$M$141,8,0)","v":35},{"$f":"VLOOKUP($B56,'[1]Collection Mode'!$C$4:$M$141,9,0)","v":0},{"$f":"VLOOKUP($B56,'[1]Collection Mode'!$C$4:$M$141,10,0)","v":4},{"$f":"VLOOKUP($B56,'[1]Collection Mode'!$C$4:$M$141,11,0)","v":0},0,0,0,0,0,0,0,0,0,0,0,0,0,0,0,0]
["QOP","RMC","BOLTON NHS FOUNDATION TRUST",844,10213,0.98104265402843605,4.7393364928909956E-3,754,74,4,2,2,8,207,0,621,0,16,0,{"$f":"VLOOKUP($B57,'[1]Organisation Level'!$C$4:$N$141,11,0)","v":844},{"$f":"VLOOKUP($B57,'[1]Organisation Level'!$C$4:$N$141,12,0)","v":10213},0.98104265402843605,4.7393364928909956E-3,{"$f":"VLOOKUP($B57,'[1]Organisation Level'!$C$4:$N$141,5,0)","v":754},{"$f":"VLOOKUP($B57,'[1]Organisation Level'!$C$4:$N$141,6,0)","v":74},{"$f":"VLOOKUP($B57,'[1]Organisation Level'!$C$4:$N$141,7,0)","v":4},{"$f":"VLOOKUP($B57,'[1]Organisation Level'!$C$4:$N$141,8,0)","v":2},{"$f":"VLOOKUP($B57,'[1]Organisation Level'!$C$4:$N$141,9,0)","v":2},{"$f":"VLOOKUP($B57,'[1]Organisation Level'!$C$4:$N$141,10,0)","v":8},{"$f":"VLOOKUP($B57,'[1]Collection Mode'!$C$4:$M$141,6,0)","v":207},{"$f":"VLOOKUP($B57,'[1]Collection Mode'!$C$4:$M$141,7,0)","v":0},{"$f":"VLOOKUP($B57,'[1]Collection Mode'!$C$4:$M$141,8,0)","v":621},{"$f":"VLOOKUP($B57,'[1]Collection Mode'!$C$4:$M$141,9,0)","v":0},{"$f":"VLOOKUP($B57,'[1]Collection Mode'!$C$4:$M$141,10,0)","v":16},{"$f":"VLOOKUP($B57,'[1]Collection Mode'!$C$4:$M$141,11,0)","v":0},0,0,0,0,0,0,0,0,0,0,0,0,0,0,0,0]
["QOP","R0A","MANCHESTER UNIVERSITY NHS FOUNDATION TRUST",1599,40340,0.98123827392120078,6.2539086929330832E-3,1455,114,17,6,4,3,0,521,457,0,621,0,{"$f":"VLOOKUP($B58,'[1]Organisation Level'!$C$4:$N$141,11,0)","v":1599},{"$f":"VLOOKUP($B58,'[1]Organisation Level'!$C$4:$N$141,12,0)","v":40340},0.98123827392120078,6.2539086929330832E-3,{"$f":"VLOOKUP($B58,'[1]Organisation Level'!$C$4:$N$141,5,0)","v":1455},{"$f":"VLOOKUP($B58,'[1]Organisation Level'!$C$4:$N$141,6,0)","v":114},{"$f":"VLOOKUP($B58,'[1]Organisation Level'!$C$4:$N$141,7,0)","v":17},{"$f":"VLOOKUP($B58,'[1]Organisation Level'!$C$4:$N$141,8,0)","v":6},{"$f":"VLOOKUP($B58,'[1]Organisation Level'!$C$4:$N$141,9,0)","v":4},{"$f":"VLOOKUP($B58,'[1]Organisation Level'!$C$4:$N$141,10,0)","v":3},{"$f":"VLOOKUP($B58,'[1]Collection Mode'!$C$4:$M$141,6,0)","v":0},{"$f":"VLOOKUP($B58,'[1]Collection Mode'!$C$4:$M$141,7,0)","v":521},{"$f":"VLOOKUP($B58,'[1]Collection Mode'!$C$4:$M$141,8,0)","v":457},{"$f":"VLOOKUP($B58,'[1]Collection Mode'!$C$4:$M$141,9,0)","v":0},{"$f":"VLOOKUP($B58,'[1]Collection Mode'!$C$4:$M$141,10,0)","v":621},{"$f":"VLOOKUP($B58,'[1]Collection Mode'!$C$4:$M$141,11,0)","v":0},0,0,0,0,0,0,0,0,0,0,0,0,0,0,0,0]
["QOP","RWJ","STOCKPORT NHS FOUNDATION TRUST",112,16991,0.9375,4.4642857142857144E-2,90,15,2,4,1,0,97,0,0,15,0,0,{"$f":"VLOOKUP($B59,'[1]Organisation Level'!$C$4:$N$141,11,0)","v":112},{"$f":"VLOOKUP($B59,'[1]Organisation Level'!$C$4:$N$141,12,0)","v":16991},0.9375,4.4642857142857144E-2,{"$f":"VLOOKUP($B59,'[1]Organisation Level'!$C$4:$N$141,5,0)","v":90},{"$f":"VLOOKUP($B59,'[1]Organisation Level'!$C$4:$N$141,6,0)","v":15},{"$f":"VLOOKUP($B59,'[1]Organisation Level'!$C$4:$N$141,7,0)","v":2},{"$f":"VLOOKUP($B59,'[1]Organisation Level'!$C$4:$N$141,8,0)","v":4},{"$f":"VLOOKUP($B59,'[1]Organisation Level'!$C$4:$N$141,9,0)","v":1},{"$f":"VLOOKUP($B59,'[1]Organisation Level'!$C$4:$N$141,10,0)","v":0},{"$f":"VLOOKUP($B59,'[1]Collection Mode'!$C$4:$M$141,6,0)","v":97},{"$f":"VLOOKUP($B59,'[1]Collection Mode'!$C$4:$M$141,7,0)","v":0},{"$f":"VLOOKUP($B59,'[1]Collection Mode'!$C$4:$M$141,8,0)","v":0},{"$f":"VLOOKUP($B59,'[1]Collection Mode'!$C$4:$M$141,9,0)","v":15},{"$f":"VLOOKUP($B59,'[1]Collection Mode'!$C$4:$M$141,10,0)","v":0},{"$f":"VLOOKUP($B59,'[1]Collection Mode'!$C$4:$M$141,11,0)","v":0},0,0,0,0,0,0,0,0,0,0,0,0,0,0,0,0]
["QOP","RMP","TAMESIDE AND GLOSSOP INTEGRATED CARE NHS FOUNDATION TRUST",614,0,0.97882736156351791,1.3029315960912053E-2,524,77,5,1,7,0,0,110,164,0,340,0,{"$f":"VLOOKUP($B60,'[1]Organisation Level'!$C$4:$N$141,11,0)","v":614},{"$f":"VLOOKUP($B60,'[1]Organisation Level'!$C$4:$N$141,12,0)","v":0},0.97882736156351791,1.3029315960912053E-2,{"$f":"VLOOKUP($B60,'[1]Organisation Level'!$C$4:$N$141,5,0)","v":524},{"$f":"VLOOKUP($B60,'[1]Organisation Level'!$C$4:$N$141,6,0)","v":77},{"$f":"VLOOKUP($B60,'[1]Organisation Level'!$C$4:$N$141,7,0)","v":5},{"$f":"VLOOKUP($B60,'[1]Organisation Level'!$C$4:$N$141,8,0)","v":1},{"$f":"VLOOKUP($B60,'[1]Organisation Level'!$C$4:$N$141,9,0)","v":7},{"$f":"VLOOKUP($B60,'[1]Organisation Level'!$C$4:$N$141,10,0)","v":0},{"$f":"VLOOKUP($B60,'[1]Collection Mode'!$C$4:$M$141,6,0)","v":0},{"$f":"VLOOKUP($B60,'[1]Collection Mode'!$C$4:$M$141,7,0)","v":110},{"$f":"VLOOKUP($B60,'[1]Collection Mode'!$C$4:$M$141,8,0)","v":164},{"$f":"VLOOKUP($B60,'[1]Collection Mode'!$C$4:$M$141,9,0)","v":0},{"$f":"VLOOKUP($B60,'[1]Collection Mode'!$C$4:$M$141,10,0)","v":340},{"$f":"VLOOKUP($B60,'[1]Collection Mode'!$C$4:$M$141,11,0)","v":0},0,0,0,0,0,0,0,0,0,0,0,0,0,0,0,0]
["QOP","RRF","WRIGHTINGTON, WIGAN AND LEIGH NHS FOUNDATION TRUST",20,3851,0.95,0,15,4,1,0,0,0,0,0,5,0,15,0,{"$f":"VLOOKUP($B61,'[1]Organisation Level'!$C$4:$N$141,11,0)","v":20},{"$f":"VLOOKUP($B61,'[1]Organisation Level'!$C$4:$N$141,12,0)","v":3851},0.95,0,{"$f":"VLOOKUP($B61,'[1]Organisation Level'!$C$4:$N$141,5,0)","v":15},{"$f":"VLOOKUP($B61,'[1]Organisation Level'!$C$4:$N$141,6,0)","v":4},{"$f":"VLOOKUP($B61,'[1]Organisation Level'!$C$4:$N$141,7,0)","v":1},{"$f":"VLOOKUP($B61,'[1]Organisation Level'!$C$4:$N$141,8,0)","v":0},{"$f":"VLOOKUP($B61,'[1]Organisation Level'!$C$4:$N$141,9,0)","v":0},{"$f":"VLOOKUP($B61,'[1]Organisation Level'!$C$4:$N$141,10,0)","v":0},{"$f":"VLOOKUP($B61,'[1]Collection Mode'!$C$4:$M$141,6,0)","v":0},{"$f":"VLOOKUP($B61,'[1]Collection Mode'!$C$4:$M$141,7,0)","v":0},{"$f":"VLOOKUP($B61,'[1]Collection Mode'!$C$4:$M$141,8,0)","v":5},{"$f":"VLOOKUP($B61,'[1]Collection Mode'!$C$4:$M$141,9,0)","v":0},{"$f":"VLOOKUP($B61,'[1]Collection Mode'!$C$4:$M$141,10,0)","v":15},{"$f":"VLOOKUP($B61,'[1]Collection Mode'!$C$4:$M$141,11,0)","v":0},0,0,0,0,0,0,0,0,0,0,0,0,0,0,0,0]
["QOQ","RCD","HARROGATE AND DISTRICT NHS FOUNDATION TRUST",11,5811,1,0,10,1,0,0,0,0,0,0,11,0,0,0,{"$f":"VLOOKUP($B62,'[1]Organisation Level'!$C$4:$N$141,11,0)","v":11},{"$f":"VLOOKUP($B62,'[1]Organisation Level'!$C$4:$N$141,12,0)","v":5811},1,0,{"$f":"VLOOKUP($B62,'[1]Organisation Level'!$C$4:$N$141,5,0)","v":10},{"$f":"VLOOKUP($B62,'[1]Organisation Level'!$C$4:$N$141,6,0)","v":1},{"$f":"VLOOKUP($B62,'[1]Organisation Level'!$C$4:$N$141,7,0)","v":0},{"$f":"VLOOKUP($B62,'[1]Organisation Level'!$C$4:$N$141,8,0)","v":0},{"$f":"VLOOKUP($B62,'[1]Organisation Level'!$C$4:$N$141,9,0)","v":0},{"$f":"VLOOKUP($B62,'[1]Organisation Level'!$C$4:$N$141,10,0)","v":0},{"$f":"VLOOKUP($B62,'[1]Collection Mode'!$C$4:$M$141,6,0)","v":0},{"$f":"VLOOKUP($B62,'[1]Collection Mode'!$C$4:$M$141,7,0)","v":0},{"$f":"VLOOKUP($B62,'[1]Collection Mode'!$C$4:$M$141,8,0)","v":11},{"$f":"VLOOKUP($B62,'[1]Collection Mode'!$C$4:$M$141,9,0)","v":0},{"$f":"VLOOKUP($B62,'[1]Collection Mode'!$C$4:$M$141,10,0)","v":0},{"$f":"VLOOKUP($B62,'[1]Collection Mode'!$C$4:$M$141,11,0)","v":0},0,0,0,0,0,0,0,0,0,0,0,0,0,0,0,0]
["QOQ","RV9","HUMBER TEACHING NHS FOUNDATION TRUST",108,10878,0.95370370370370372,2.7777777777777776E-2,96,7,2,2,1,0,0,0,108,0,0,0,{"$f":"VLOOKUP($B63,'[1]Organisation Level'!$C$4:$N$141,11,0)","v":108},{"$f":"VLOOKUP($B63,'[1]Organisation Level'!$C$4:$N$141,12,0)","v":10878},0.95370370370370372,2.7777777777777776E-2,{"$f":"VLOOKUP($B63,'[1]Organisation Level'!$C$4:$N$141,5,0)","v":96},{"$f":"VLOOKUP($B63,'[1]Organisation Level'!$C$4:$N$141,6,0)","v":7},{"$f":"VLOOKUP($B63,'[1]Organisation Level'!$C$4:$N$141,7,0)","v":2},{"$f":"VLOOKUP($B63,'[1]Organisation Level'!$C$4:$N$141,8,0)","v":2},{"$f":"VLOOKUP($B63,'[1]Organisation Level'!$C$4:$N$141,9,0)","v":1},{"$f":"VLOOKUP($B63,'[1]Organisation Level'!$C$4:$N$141,10,0)","v":0},{"$f":"VLOOKUP($B63,'[1]Collection Mode'!$C$4:$M$141,6,0)","v":0},{"$f":"VLOOKUP($B63,'[1]Collection Mode'!$C$4:$M$141,7,0)","v":0},{"$f":"VLOOKUP($B63,'[1]Collection Mode'!$C$4:$M$141,8,0)","v":108},{"$f":"VLOOKUP($B63,'[1]Collection Mode'!$C$4:$M$141,9,0)","v":0},{"$f":"VLOOKUP($B63,'[1]Collection Mode'!$C$4:$M$141,10,0)","v":0},{"$f":"VLOOKUP($B63,'[1]Collection Mode'!$C$4:$M$141,11,0)","v":0},0,0,0,0,0,0,0,0,0,0,0,0,0,0,0,0]
["QOQ","RJL","NORTHERN LINCOLNSHIRE AND GOOLE NHS FOUNDATION TRUST",255,12296,0.98431372549019602,1.1764705882352941E-2,243,8,1,0,3,0,0,0,163,0,0,92,{"$f":"VLOOKUP($B64,'[1]Organisation Level'!$C$4:$N$141,11,0)","v":255},{"$f":"VLOOKUP($B64,'[1]Organisation Level'!$C$4:$N$141,12,0)","v":12296},0.98431372549019602,1.1764705882352941E-2,{"$f":"VLOOKUP($B64,'[1]Organisation Level'!$C$4:$N$141,5,0)","v":243},{"$f":"VLOOKUP($B64,'[1]Organisation Level'!$C$4:$N$141,6,0)","v":8},{"$f":"VLOOKUP($B64,'[1]Organisation Level'!$C$4:$N$141,7,0)","v":1},{"$f":"VLOOKUP($B64,'[1]Organisation Level'!$C$4:$N$141,8,0)","v":0},{"$f":"VLOOKUP($B64,'[1]Organisation Level'!$C$4:$N$141,9,0)","v":3},{"$f":"VLOOKUP($B64,'[1]Organisation Level'!$C$4:$N$141,10,0)","v":0},{"$f":"VLOOKUP($B64,'[1]Collection Mode'!$C$4:$M$141,6,0)","v":0},{"$f":"VLOOKUP($B64,'[1]Collection Mode'!$C$4:$M$141,7,0)","v":0},{"$f":"VLOOKUP($B64,'[1]Collection Mode'!$C$4:$M$141,8,0)","v":163},{"$f":"VLOOKUP($B64,'[1]Collection Mode'!$C$4:$M$141,9,0)","v":0},{"$f":"VLOOKUP($B64,'[1]Collection Mode'!$C$4:$M$141,10,0)","v":0},{"$f":"VLOOKUP($B64,'[1]Collection Mode'!$C$4:$M$141,11,0)","v":92},0,0,0,0,0,0,0,0,0,0,0,0,0,0,0,0]
["QPM","RP1","NORTHAMPTONSHIRE HEALTHCARE NHS FOUNDATION TRUST",772,33602,0.97020725388601037,6.4766839378238338E-3,674,75,10,3,2,8,0,593,170,0,9,0,{"$f":"VLOOKUP($B65,'[1]Organisation Level'!$C$4:$N$141,11,0)","v":772},{"$f":"VLOOKUP($B65,'[1]Organisation Level'!$C$4:$N$141,12,0)","v":33602},0.97020725388601037,6.4766839378238338E-3,{"$f":"VLOOKUP($B65,'[1]Organisation Level'!$C$4:$N$141,5,0)","v":674},{"$f":"VLOOKUP($B65,'[1]Organisation Level'!$C$4:$N$141,6,0)","v":75},{"$f":"VLOOKUP($B65,'[1]Organisation Level'!$C$4:$N$141,7,0)","v":10},{"$f":"VLOOKUP($B65,'[1]Organisation Level'!$C$4:$N$141,8,0)","v":3},{"$f":"VLOOKUP($B65,'[1]Organisation Level'!$C$4:$N$141,9,0)","v":2},{"$f":"VLOOKUP($B65,'[1]Organisation Level'!$C$4:$N$141,10,0)","v":8},{"$f":"VLOOKUP($B65,'[1]Collection Mode'!$C$4:$M$141,6,0)","v":0},{"$f":"VLOOKUP($B65,'[1]Collection Mode'!$C$4:$M$141,7,0)","v":593},{"$f":"VLOOKUP($B65,'[1]Collection Mode'!$C$4:$M$141,8,0)","v":170},{"$f":"VLOOKUP($B65,'[1]Collection Mode'!$C$4:$M$141,9,0)","v":0},{"$f":"VLOOKUP($B65,'[1]Collection Mode'!$C$4:$M$141,10,0)","v":9},{"$f":"VLOOKUP($B65,'[1]Collection Mode'!$C$4:$M$141,11,0)","v":0},0,0,0,0,0,0,0,0,0,0,0,0,0,0,0,0]
["QR1","RTQ","GLOUCESTERSHIRE HEALTH AND CARE NHS FOUNDATION TRUST",2326,24082,0.93938091143594149,2.9664660361134996E-2,1810,375,48,30,39,24,0,0,0,0,2326,0,{"$f":"VLOOKUP($B66,'[1]Organisation Level'!$C$4:$N$141,11,0)","v":2326},{"$f":"VLOOKUP($B66,'[1]Organisation Level'!$C$4:$N$141,12,0)","v":24082},0.93938091143594149,2.9664660361134996E-2,{"$f":"VLOOKUP($B66,'[1]Organisation Level'!$C$4:$N$141,5,0)","v":1810},{"$f":"VLOOKUP($B66,'[1]Organisation Level'!$C$4:$N$141,6,0)","v":375},{"$f":"VLOOKUP($B66,'[1]Organisation Level'!$C$4:$N$141,7,0)","v":48},{"$f":"VLOOKUP($B66,'[1]Organisation Level'!$C$4:$N$141,8,0)","v":30},{"$f":"VLOOKUP($B66,'[1]Organisation Level'!$C$4:$N$141,9,0)","v":39},{"$f":"VLOOKUP($B66,'[1]Organisation Level'!$C$4:$N$141,10,0)","v":24},{"$f":"VLOOKUP($B66,'[1]Collection Mode'!$C$4:$M$141,6,0)","v":0},{"$f":"VLOOKUP($B66,'[1]Collection Mode'!$C$4:$M$141,7,0)","v":0},{"$f":"VLOOKUP($B66,'[1]Collection Mode'!$C$4:$M$141,8,0)","v":0},{"$f":"VLOOKUP($B66,'[1]Collection Mode'!$C$4:$M$141,9,0)","v":0},{"$f":"VLOOKUP($B66,'[1]Collection Mode'!$C$4:$M$141,10,0)","v":2326},{"$f":"VLOOKUP($B66,'[1]Collection Mode'!$C$4:$M$141,11,0)","v":0},0,0,0,0,0,0,0,0,0,0,0,0,0,0,0,0]
["QRL","RW1","HAMPSHIRE AND ISLE OF WIGHT HEALTHCARE NHS FOUNDATION TRUST",2521,68639,0.97064656882189604,6.346687822292741E-3,2107,340,44,3,13,14,0,0,0,0,2521,0,{"$f":"VLOOKUP($B67,'[1]Organisation Level'!$C$4:$N$141,11,0)","v":2521},{"$f":"VLOOKUP($B67,'[1]Organisation Level'!$C$4:$N$141,12,0)","v":68639},0.97064656882189604,6.346687822292741E-3,{"$f":"VLOOKUP($B67,'[1]Organisation Level'!$C$4:$N$141,5,0)","v":2107},{"$f":"VLOOKUP($B67,'[1]Organisation Level'!$C$4:$N$141,6,0)","v":340},{"$f":"VLOOKUP($B67,'[1]Organisation Level'!$C$4:$N$141,7,0)","v":44},{"$f":"VLOOKUP($B67,'[1]Organisation Level'!$C$4:$N$141,8,0)","v":3},{"$f":"VLOOKUP($B67,'[1]Organisation Level'!$C$4:$N$141,9,0)","v":13},{"$f":"VLOOKUP($B67,'[1]Organisation Level'!$C$4:$N$141,10,0)","v":14},{"$f":"VLOOKUP($B67,'[1]Collection Mode'!$C$4:$M$141,6,0)","v":0},{"$f":"VLOOKUP($B67,'[1]Collection Mode'!$C$4:$M$141,7,0)","v":0},{"$f":"VLOOKUP($B67,'[1]Collection Mode'!$C$4:$M$141,8,0)","v":0},{"$f":"VLOOKUP($B67,'[1]Collection Mode'!$C$4:$M$141,9,0)","v":0},{"$f":"VLOOKUP($B67,'[1]Collection Mode'!$C$4:$M$141,10,0)","v":2521},{"$f":"VLOOKUP($B67,'[1]Collection Mode'!$C$4:$M$141,11,0)","v":0},0,0,0,0,0,0,0,0,0,0,0,0,0,0,0,0]
["QRV","RYX","CENTRAL LONDON COMMUNITY HEALTHCARE NHS TRUST",3046,89651,0.91168745896257386,4.366382140512147E-2,2382,395,72,53,80,64,1882,0,687,0,301,176,{"$f":"VLOOKUP($B68,'[1]Organisation Level'!$C$4:$N$141,11,0)","v":3046},{"$f":"VLOOKUP($B68,'[1]Organisation Level'!$C$4:$N$141,12,0)","v":89651},0.91168745896257386,4.366382140512147E-2,{"$f":"VLOOKUP($B68,'[1]Organisation Level'!$C$4:$N$141,5,0)","v":2382},{"$f":"VLOOKUP($B68,'[1]Organisation Level'!$C$4:$N$141,6,0)","v":395},{"$f":"VLOOKUP($B68,'[1]Organisation Level'!$C$4:$N$141,7,0)","v":72},{"$f":"VLOOKUP($B68,'[1]Organisation Level'!$C$4:$N$141,8,0)","v":53},{"$f":"VLOOKUP($B68,'[1]Organisation Level'!$C$4:$N$141,9,0)","v":80},{"$f":"VLOOKUP($B68,'[1]Organisation Level'!$C$4:$N$141,10,0)","v":64},{"$f":"VLOOKUP($B68,'[1]Collection Mode'!$C$4:$M$141,6,0)","v":1882},{"$f":"VLOOKUP($B68,'[1]Collection Mode'!$C$4:$M$141,7,0)","v":0},{"$f":"VLOOKUP($B68,'[1]Collection Mode'!$C$4:$M$141,8,0)","v":687},{"$f":"VLOOKUP($B68,'[1]Collection Mode'!$C$4:$M$141,9,0)","v":0},{"$f":"VLOOKUP($B68,'[1]Collection Mode'!$C$4:$M$141,10,0)","v":301},{"$f":"VLOOKUP($B68,'[1]Collection Mode'!$C$4:$M$141,11,0)","v":176},0,0,0,0,0,0,0,0,0,0,0,0,0,0,0,0]
["QRV","RQM","CHELSEA AND WESTMINSTER HOSPITAL NHS FOUNDATION TRUST",163,1119,0.94478527607361962,3.6809815950920248E-2,147,7,3,2,4,0,141,0,0,0,22,0,{"$f":"VLOOKUP($B69,'[1]Organisation Level'!$C$4:$N$141,11,0)","v":163},{"$f":"VLOOKUP($B69,'[1]Organisation Level'!$C$4:$N$141,12,0)","v":1119},0.94478527607361962,3.6809815950920248E-2,{"$f":"VLOOKUP($B69,'[1]Organisation Level'!$C$4:$N$141,5,0)","v":147},{"$f":"VLOOKUP($B69,'[1]Organisation Level'!$C$4:$N$141,6,0)","v":7},{"$f":"VLOOKUP($B69,'[1]Organisation Level'!$C$4:$N$141,7,0)","v":3},{"$f":"VLOOKUP($B69,'[1]Organisation Level'!$C$4:$N$141,8,0)","v":2},{"$f":"VLOOKUP($B69,'[1]Organisation Level'!$C$4:$N$141,9,0)","v":4},{"$f":"VLOOKUP($B69,'[1]Organisation Level'!$C$4:$N$141,10,0)","v":0},{"$f":"VLOOKUP($B69,'[1]Collection Mode'!$C$4:$M$141,6,0)","v":141},{"$f":"VLOOKUP($B69,'[1]Collection Mode'!$C$4:$M$141,7,0)","v":0},{"$f":"VLOOKUP($B69,'[1]Collection Mode'!$C$4:$M$141,8,0)","v":0},{"$f":"VLOOKUP($B69,'[1]Collection Mode'!$C$4:$M$141,9,0)","v":0},{"$f":"VLOOKUP($B69,'[1]Collection Mode'!$C$4:$M$141,10,0)","v":22},{"$f":"VLOOKUP($B69,'[1]Collection Mode'!$C$4:$M$141,11,0)","v":0},0,0,0,0,0,0,0,0,0,0,0,0,0,0,0,0]
["QRV","R1K","LONDON NORTH WEST UNIVERSITY HEALTHCARE NHS TRUST",547,699,0.96160877513711152,2.1937842778793418E-2,479,47,8,7,5,1,0,0,484,0,63,0,{"$f":"VLOOKUP($B70,'[1]Organisation Level'!$C$4:$N$141,11,0)","v":547},{"$f":"VLOOKUP($B70,'[1]Organisation Level'!$C$4:$N$141,12,0)","v":699},0.96160877513711152,2.1937842778793418E-2,{"$f":"VLOOKUP($B70,'[1]Organisation Level'!$C$4:$N$141,5,0)","v":479},{"$f":"VLOOKUP($B70,'[1]Organisation Level'!$C$4:$N$141,6,0)","v":47},{"$f":"VLOOKUP($B70,'[1]Organisation Level'!$C$4:$N$141,7,0)","v":8},{"$f":"VLOOKUP($B70,'[1]Organisation Level'!$C$4:$N$141,8,0)","v":7},{"$f":"VLOOKUP($B70,'[1]Organisation Level'!$C$4:$N$141,9,0)","v":5},{"$f":"VLOOKUP($B70,'[1]Organisation Level'!$C$4:$N$141,10,0)","v":1},{"$f":"VLOOKUP($B70,'[1]Collection Mode'!$C$4:$M$141,6,0)","v":0},{"$f":"VLOOKUP($B70,'[1]Collection Mode'!$C$4:$M$141,7,0)","v":0},{"$f":"VLOOKUP($B70,'[1]Collection Mode'!$C$4:$M$141,8,0)","v":484},{"$f":"VLOOKUP($B70,'[1]Collection Mode'!$C$4:$M$141,9,0)","v":0},{"$f":"VLOOKUP($B70,'[1]Collection Mode'!$C$4:$M$141,10,0)","v":63},{"$f":"VLOOKUP($B70,'[1]Collection Mode'!$C$4:$M$141,11,0)","v":0},0,0,0,0,0,0,0,0,0,0,0,0,0,0,0,0]
["QRV","RKL","WEST LONDON NHS TRUST",615,27011,0.98861788617886182,3.2520325203252032E-3,564,44,2,1,1,3,0,0,502,0,113,0,{"$f":"VLOOKUP($B71,'[1]Organisation Level'!$C$4:$N$141,11,0)","v":615},{"$f":"VLOOKUP($B71,'[1]Organisation Level'!$C$4:$N$141,12,0)","v":27011},0.98861788617886182,3.2520325203252032E-3,{"$f":"VLOOKUP($B71,'[1]Organisation Level'!$C$4:$N$141,5,0)","v":564},{"$f":"VLOOKUP($B71,'[1]Organisation Level'!$C$4:$N$141,6,0)","v":44},{"$f":"VLOOKUP($B71,'[1]Organisation Level'!$C$4:$N$141,7,0)","v":2},{"$f":"VLOOKUP($B71,'[1]Organisation Level'!$C$4:$N$141,8,0)","v":1},{"$f":"VLOOKUP($B71,'[1]Organisation Level'!$C$4:$N$141,9,0)","v":1},{"$f":"VLOOKUP($B71,'[1]Organisation Level'!$C$4:$N$141,10,0)","v":3},{"$f":"VLOOKUP($B71,'[1]Collection Mode'!$C$4:$M$141,6,0)","v":0},{"$f":"VLOOKUP($B71,'[1]Collection Mode'!$C$4:$M$141,7,0)","v":0},{"$f":"VLOOKUP($B71,'[1]Collection Mode'!$C$4:$M$141,8,0)","v":502},{"$f":"VLOOKUP($B71,'[1]Collection Mode'!$C$4:$M$141,9,0)","v":0},{"$f":"VLOOKUP($B71,'[1]Collection Mode'!$C$4:$M$141,10,0)","v":113},{"$f":"VLOOKUP($B71,'[1]Collection Mode'!$C$4:$M$141,11,0)","v":0},0,0,0,0,0,0,0,0,0,0,0,0,0,0,0,0]
["QSL","RH5","SOMERSET NHS FOUNDATION TRUST",0,19422,"NA","NA",0,0,0,0,0,0,0,0,0,0,0,0,{"$f":"VLOOKUP($B72,'[1]Organisation Level'!$C$4:$N$141,11,0)","v":0},{"$f":"VLOOKUP($B72,'[1]Organisation Level'!$C$4:$N$141,12,0)","v":19422},{"$error":"#DIV/0!"},{"$error":"#DIV/0!"},{"$f":"VLOOKUP($B72,'[1]Organisation Level'!$C$4:$N$141,5,0)","v":0},{"$f":"VLOOKUP($B72,'[1]Organisation Level'!$C$4:$N$141,6,0)","v":0},{"$f":"VLOOKUP($B72,'[1]Organisation Level'!$C$4:$N$141,7,0)","v":0},{"$f":"VLOOKUP($B72,'[1]Organisation Level'!$C$4:$N$141,8,0)","v":0},{"$f":"VLOOKUP($B72,'[1]Organisation Level'!$C$4:$N$141,9,0)","v":0},{"$f":"VLOOKUP($B72,'[1]Organisation Level'!$C$4:$N$141,10,0)","v":0},{"$f":"VLOOKUP($B72,'[1]Collection Mode'!$C$4:$M$141,6,0)","v":0},{"$f":"VLOOKUP($B72,'[1]Collection Mode'!$C$4:$M$141,7,0)","v":0},{"$f":"VLOOKUP($B72,'[1]Collection Mode'!$C$4:$M$141,8,0)","v":0},{"$f":"VLOOKUP($B72,'[1]Collection Mode'!$C$4:$M$141,9,0)","v":0},{"$f":"VLOOKUP($B72,'[1]Collection Mode'!$C$4:$M$141,10,0)","v":0},{"$f":"VLOOKUP($B72,'[1]Collection Mode'!$C$4:$M$141,11,0)","v":0},0,0,0,0,0,0,0,0,0,0,0,0,0,0,0,0]
["QT1","RX1","NOTTINGHAM UNIVERSITY HOSPITALS NHS TRUST",70,695,0.97142857142857142,1.4285714285714285E-2,53,15,0,1,0,1,0,0,70,0,0,0,{"$f":"VLOOKUP($B73,'[1]Organisation Level'!$C$4:$N$141,11,0)","v":70},{"$f":"VLOOKUP($B73,'[1]Organisation Level'!$C$4:$N$141,12,0)","v":695},{"$f":"SUM(X73+Y73)/SUM(X73:AC73)","v":0.97142857142857142},{"$f":"SUM(AA73+AB73)/SUM(X73:AC73)","v":1.4285714285714285E-2},{"$f":"VLOOKUP($B73,'[1]Organisation Level'!$C$4:$N$141,5,0)","v":53},{"$f":"VLOOKUP($B73,'[1]Organisation Level'!$C$4:$N$141,6,0)","v":15},{"$f":"VLOOKUP($B73,'[1]Organisation Level'!$C$4:$N$141,7,0)","v":0},{"$f":"VLOOKUP($B73,'[1]Organisation Level'!$C$4:$N$141,8,0)","v":1},{"$f":"VLOOKUP($B73,'[1]Organisation Level'!$C$4:$N$141,9,0)","v":0},{"$f":"VLOOKUP($B73,'[1]Organisation Level'!$C$4:$N$141,10,0)","v":1},{"$f":"VLOOKUP($B73,'[1]Collection Mode'!$C$4:$M$141,6,0)","v":0},{"$f":"VLOOKUP($B73,'[1]Collection Mode'!$C$4:$M$141,7,0)","v":0},{"$f":"VLOOKUP($B73,'[1]Collection Mode'!$C$4:$M$141,8,0)","v":70},{"$f":"VLOOKUP($B73,'[1]Collection Mode'!$C$4:$M$141,9,0)","v":0},{"$f":"VLOOKUP($B73,'[1]Collection Mode'!$C$4:$M$141,10,0)","v":0},{"$f":"VLOOKUP($B73,'[1]Collection Mode'!$C$4:$M$141,11,0)","v":0},{"$f":"IFERROR(D73-T73,0)","v":0},{"$f":"IFERROR(E73-U73,0)","v":0},{"$f":"IFERROR(F73-V73,0)","v":0},{"$f":"IFERROR(G73-W73,0)","v":0},{"$f":"IFERROR(H73-X73,0)","v":0},{"$f":"IFERROR(I73-Y73,0)","v":0},{"$f":"IFERROR(J73-Z73,0)","v":0},{"$f":"IFERROR(K73-AA73,0)","v":0},{"$f":"IFERROR(L73-AB73,0)","v":0},{"$f":"IFERROR(M73-AC73,0)","v":0},{"$f":"IFERROR(N73-AD73,0)","v":0},{"$f":"IFERROR(O73-AE73,0)","v":0},{"$f":"IFERROR(P73-AF73,0)","v":0},{"$f":"IFERROR(Q73-AG73,0)","v":0},{"$f":"IFERROR(R73-AH73,0)","v":0},{"$f":"IFERROR(S73-AI73,0)","v":0}]
["QT1","RHA","NOTTINGHAMSHIRE HEALTHCARE NHS FOUNDATION TRUST",190,36334,0.94210526315789478,3.1578947368421054E-2,157,22,5,2,4,0,160,0,21,0,0,9,{"$f":"VLOOKUP($B74,'[1]Organisation Level'!$C$4:$N$141,11,0)","v":190},{"$f":"VLOOKUP($B74,'[1]Organisation Level'!$C$4:$N$141,12,0)","v":36334},0.94210526315789478,3.1578947368421054E-2,{"$f":"VLOOKUP($B74,'[1]Organisation Level'!$C$4:$N$141,5,0)","v":157},{"$f":"VLOOKUP($B74,'[1]Organisation Level'!$C$4:$N$141,6,0)","v":22},{"$f":"VLOOKUP($B74,'[1]Organisation Level'!$C$4:$N$141,7,0)","v":5},{"$f":"VLOOKUP($B74,'[1]Organisation Level'!$C$4:$N$141,8,0)","v":2},{"$f":"VLOOKUP($B74,'[1]Organisation Level'!$C$4:$N$141,9,0)","v":4},{"$f":"VLOOKUP($B74,'[1]Organisation Level'!$C$4:$N$141,10,0)","v":0},{"$f":"VLOOKUP($B74,'[1]Collection Mode'!$C$4:$M$141,6,0)","v":160},{"$f":"VLOOKUP($B74,'[1]Collection Mode'!$C$4:$M$141,7,0)","v":0},{"$f":"VLOOKUP($B74,'[1]Collection Mode'!$C$4:$M$141,8,0)","v":21},{"$f":"VLOOKUP($B74,'[1]Collection Mode'!$C$4:$M$141,9,0)","v":0},{"$f":"VLOOKUP($B74,'[1]Collection Mode'!$C$4:$M$141,10,0)","v":0},{"$f":"VLOOKUP($B74,'[1]Collection Mode'!$C$4:$M$141,11,0)","v":9},0,0,0,0,0,0,0,0,0,0,0,0,0,0,0,0]
["QU9","RXQ","BUCKINGHAMSHIRE HEALTHCARE NHS TRUST",416,3473,0.94471153846153844,3.3653846153846152E-2,326,67,8,5,9,1,308,0,0,108,0,0,{"$f":"VLOOKUP($B75,'[1]Organisation Level'!$C$4:$N$141,11,0)","v":416},{"$f":"VLOOKUP($B75,'[1]Organisation Level'!$C$4:$N$141,12,0)","v":3473},0.94471153846153844,3.3653846153846152E-2,{"$f":"VLOOKUP($B75,'[1]Organisation Level'!$C$4:$N$141,5,0)","v":326},{"$f":"VLOOKUP($B75,'[1]Organisation Level'!$C$4:$N$141,6,0)","v":67},{"$f":"VLOOKUP($B75,'[1]Organisation Level'!$C$4:$N$141,7,0)","v":8},{"$f":"VLOOKUP($B75,'[1]Organisation Level'!$C$4:$N$141,8,0)","v":5},{"$f":"VLOOKUP($B75,'[1]Organisation Level'!$C$4:$N$141,9,0)","v":9},{"$f":"VLOOKUP($B75,'[1]Organisation Level'!$C$4:$N$141,10,0)","v":1},{"$f":"VLOOKUP($B75,'[1]Collection Mode'!$C$4:$M$141,6,0)","v":308},{"$f":"VLOOKUP($B75,'[1]Collection Mode'!$C$4:$M$141,7,0)","v":0},{"$f":"VLOOKUP($B75,'[1]Collection Mode'!$C$4:$M$141,8,0)","v":0},{"$f":"VLOOKUP($B75,'[1]Collection Mode'!$C$4:$M$141,9,0)","v":108},{"$f":"VLOOKUP($B75,'[1]Collection Mode'!$C$4:$M$141,10,0)","v":0},{"$f":"VLOOKUP($B75,'[1]Collection Mode'!$C$4:$M$141,11,0)","v":0},0,0,0,0,0,0,0,0,0,0,0,0,0,0,0,0]
["QU9","RNU","OXFORD HEALTH NHS FOUNDATION TRUST",860,30097,0.95581395348837206,1.7441860465116279E-2,737,85,11,2,13,12,0,252,197,0,411,0,{"$f":"VLOOKUP($B76,'[1]Organisation Level'!$C$4:$N$141,11,0)","v":860},{"$f":"VLOOKUP($B76,'[1]Organisation Level'!$C$4:$N$141,12,0)","v":30097},0.95581395348837206,1.7441860465116279E-2,{"$f":"VLOOKUP($B76,'[1]Organisation Level'!$C$4:$N$141,5,0)","v":737},{"$f":"VLOOKUP($B76,'[1]Organisation Level'!$C$4:$N$141,6,0)","v":85},{"$f":"VLOOKUP($B76,'[1]Organisation Level'!$C$4:$N$141,7,0)","v":11},{"$f":"VLOOKUP($B76,'[1]Organisation Level'!$C$4:$N$141,8,0)","v":2},{"$f":"VLOOKUP($B76,'[1]Organisation Level'!$C$4:$N$141,9,0)","v":13},{"$f":"VLOOKUP($B76,'[1]Organisation Level'!$C$4:$N$141,10,0)","v":12},{"$f":"VLOOKUP($B76,'[1]Collection Mode'!$C$4:$M$141,6,0)","v":0},{"$f":"VLOOKUP($B76,'[1]Collection Mode'!$C$4:$M$141,7,0)","v":252},{"$f":"VLOOKUP($B76,'[1]Collection Mode'!$C$4:$M$141,8,0)","v":197},{"$f":"VLOOKUP($B76,'[1]Collection Mode'!$C$4:$M$141,9,0)","v":0},{"$f":"VLOOKUP($B76,'[1]Collection Mode'!$C$4:$M$141,10,0)","v":411},{"$f":"VLOOKUP($B76,'[1]Collection Mode'!$C$4:$M$141,11,0)","v":0},0,0,0,0,0,0,0,0,0,0,0,0,0,0,0,0]
["QUA","TAJ","BLACK COUNTRY HEALTHCARE NHS FOUNDATION TRUST",42,3670,0.95238095238095233,4.7619047619047616E-2,38,2,0,1,1,0,0,0,0,0,0,42,{"$f":"VLOOKUP($B77,'[1]Organisation Level'!$C$4:$N$141,11,0)","v":42},{"$f":"VLOOKUP($B77,'[1]Organisation Level'!$C$4:$N$141,12,0)","v":3670},0.95238095238095233,4.7619047619047616E-2,{"$f":"VLOOKUP($B77,'[1]Organisation Level'!$C$4:$N$141,5,0)","v":38},{"$f":"VLOOKUP($B77,'[1]Organisation Level'!$C$4:$N$141,6,0)","v":2},{"$f":"VLOOKUP($B77,'[1]Organisation Level'!$C$4:$N$141,7,0)","v":0},{"$f":"VLOOKUP($B77,'[1]Organisation Level'!$C$4:$N$141,8,0)","v":1},{"$f":"VLOOKUP($B77,'[1]Organisation Level'!$C$4:$N$141,9,0)","v":1},{"$f":"VLOOKUP($B77,'[1]Organisation Level'!$C$4:$N$141,10,0)","v":0},{"$f":"VLOOKUP($B77,'[1]Collection Mode'!$C$4:$M$141,6,0)","v":0},{"$f":"VLOOKUP($B77,'[1]Collection Mode'!$C$4:$M$141,7,0)","v":0},{"$f":"VLOOKUP($B77,'[1]Collection Mode'!$C$4:$M$141,8,0)","v":0},{"$f":"VLOOKUP($B77,'[1]Collection Mode'!$C$4:$M$141,9,0)","v":0},{"$f":"VLOOKUP($B77,'[1]Collection Mode'!$C$4:$M$141,10,0)","v":0},{"$f":"VLOOKUP($B77,'[1]Collection Mode'!$C$4:$M$141,11,0)","v":42},0,0,0,0,0,0,0,0,0,0,0,0,0,0,0,0]
["QUA","RNA","THE DUDLEY GROUP NHS FOUNDATION TRUST",369,0,0.88617886178861793,1.6260162601626018E-2,296,31,12,2,4,24,220,0,141,0,8,0,{"$f":"VLOOKUP($B78,'[1]Organisation Level'!$C$4:$N$141,11,0)","v":369},{"$f":"VLOOKUP($B78,'[1]Organisation Level'!$C$4:$N$141,12,0)","v":0},0.88617886178861793,1.6260162601626018E-2,{"$f":"VLOOKUP($B78,'[1]Organisation Level'!$C$4:$N$141,5,0)","v":296},{"$f":"VLOOKUP($B78,'[1]Organisation Level'!$C$4:$N$141,6,0)","v":31},{"$f":"VLOOKUP($B78,'[1]Organisation Level'!$C$4:$N$141,7,0)","v":12},{"$f":"VLOOKUP($B78,'[1]Organisation Level'!$C$4:$N$141,8,0)","v":2},{"$f":"VLOOKUP($B78,'[1]Organisation Level'!$C$4:$N$141,9,0)","v":4},{"$f":"VLOOKUP($B78,'[1]Organisation Level'!$C$4:$N$141,10,0)","v":24},{"$f":"VLOOKUP($B78,'[1]Collection Mode'!$C$4:$M$141,6,0)","v":220},{"$f":"VLOOKUP($B78,'[1]Collection Mode'!$C$4:$M$141,7,0)","v":0},{"$f":"VLOOKUP($B78,'[1]Collection Mode'!$C$4:$M$141,8,0)","v":141},{"$f":"VLOOKUP($B78,'[1]Collection Mode'!$C$4:$M$141,9,0)","v":0},{"$f":"VLOOKUP($B78,'[1]Collection Mode'!$C$4:$M$141,10,0)","v":8},{"$f":"VLOOKUP($B78,'[1]Collection Mode'!$C$4:$M$141,11,0)","v":0},0,0,0,0,0,0,0,0,0,0,0,0,0,0,0,0]
["QUA","RL4","THE ROYAL WOLVERHAMPTON NHS TRUST",288,4752,0.91666666666666663,2.0833333333333332E-2,212,52,10,4,2,8,43,0,0,245,0,0,{"$f":"VLOOKUP($B79,'[1]Organisation Level'!$C$4:$N$141,11,0)","v":288},{"$f":"VLOOKUP($B79,'[1]Organisation Level'!$C$4:$N$141,12,0)","v":4752},0.91666666666666663,2.0833333333333332E-2,{"$f":"VLOOKUP($B79,'[1]Organisation Level'!$C$4:$N$141,5,0)","v":212},{"$f":"VLOOKUP($B79,'[1]Organisation Level'!$C$4:$N$141,6,0)","v":52},{"$f":"VLOOKUP($B79,'[1]Organisation Level'!$C$4:$N$141,7,0)","v":10},{"$f":"VLOOKUP($B79,'[1]Organisation Level'!$C$4:$N$141,8,0)","v":4},{"$f":"VLOOKUP($B79,'[1]Organisation Level'!$C$4:$N$141,9,0)","v":2},{"$f":"VLOOKUP($B79,'[1]Organisation Level'!$C$4:$N$141,10,0)","v":8},{"$f":"VLOOKUP($B79,'[1]Collection Mode'!$C$4:$M$141,6,0)","v":43},{"$f":"VLOOKUP($B79,'[1]Collection Mode'!$C$4:$M$141,7,0)","v":0},{"$f":"VLOOKUP($B79,'[1]Collection Mode'!$C$4:$M$141,8,0)","v":0},{"$f":"VLOOKUP($B79,'[1]Collection Mode'!$C$4:$M$141,9,0)","v":245},{"$f":"VLOOKUP($B79,'[1]Collection Mode'!$C$4:$M$141,10,0)","v":0},{"$f":"VLOOKUP($B79,'[1]Collection Mode'!$C$4:$M$141,11,0)","v":0},0,0,0,0,0,0,0,0,0,0,0,0,0,0,0,0]
["QUA","RBK","WALSALL HEALTHCARE NHS TRUST",542,9527,0.98708487084870844,0,478,57,7,0,0,0,0,542,0,0,0,0,{"$f":"VLOOKUP($B80,'[1]Organisation Level'!$C$4:$N$141,11,0)","v":542},{"$f":"VLOOKUP($B80,'[1]Organisation Level'!$C$4:$N$141,12,0)","v":9527},0.98708487084870844,0,{"$f":"VLOOKUP($B80,'[1]Organisation Level'!$C$4:$N$141,5,0)","v":478},{"$f":"VLOOKUP($B80,'[1]Organisation Level'!$C$4:$N$141,6,0)","v":57},{"$f":"VLOOKUP($B80,'[1]Organisation Level'!$C$4:$N$141,7,0)","v":7},{"$f":"VLOOKUP($B80,'[1]Organisation Level'!$C$4:$N$141,8,0)","v":0},{"$f":"VLOOKUP($B80,'[1]Organisation Level'!$C$4:$N$141,9,0)","v":0},{"$f":"VLOOKUP($B80,'[1]Organisation Level'!$C$4:$N$141,10,0)","v":0},{"$f":"VLOOKUP($B80,'[1]Collection Mode'!$C$4:$M$141,6,0)","v":0},{"$f":"VLOOKUP($B80,'[1]Collection Mode'!$C$4:$M$141,7,0)","v":542},{"$f":"VLOOKUP($B80,'[1]Collection Mode'!$C$4:$M$141,8,0)","v":0},{"$f":"VLOOKUP($B80,'[1]Collection Mode'!$C$4:$M$141,9,0)","v":0},{"$f":"VLOOKUP($B80,'[1]Collection Mode'!$C$4:$M$141,10,0)","v":0},{"$f":"VLOOKUP($B80,'[1]Collection Mode'!$C$4:$M$141,11,0)","v":0},0,0,0,0,0,0,0,0,0,0,0,0,0,0,0,0]
["QUE","RT1","CAMBRIDGESHIRE AND PETERBOROUGH NHS FOUNDATION TRUST",725,24084,0.93931034482758624,2.8965517241379312E-2,553,128,14,5,16,9,0,0,0,0,715,10,{"$f":"VLOOKUP($B81,'[1]Organisation Level'!$C$4:$N$141,11,0)","v":725},{"$f":"VLOOKUP($B81,'[1]Organisation Level'!$C$4:$N$141,12,0)","v":24084},0.93931034482758624,2.8965517241379312E-2,{"$f":"VLOOKUP($B81,'[1]Organisation Level'!$C$4:$N$141,5,0)","v":553},{"$f":"VLOOKUP($B81,'[1]Organisation Level'!$C$4:$N$141,6,0)","v":128},{"$f":"VLOOKUP($B81,'[1]Organisation Level'!$C$4:$N$141,7,0)","v":14},{"$f":"VLOOKUP($B81,'[1]Organisation Level'!$C$4:$N$141,8,0)","v":5},{"$f":"VLOOKUP($B81,'[1]Organisation Level'!$C$4:$N$141,9,0)","v":16},{"$f":"VLOOKUP($B81,'[1]Organisation Level'!$C$4:$N$141,10,0)","v":9},{"$f":"VLOOKUP($B81,'[1]Collection Mode'!$C$4:$M$141,6,0)","v":0},{"$f":"VLOOKUP($B81,'[1]Collection Mode'!$C$4:$M$141,7,0)","v":0},{"$f":"VLOOKUP($B81,'[1]Collection Mode'!$C$4:$M$141,8,0)","v":0},{"$f":"VLOOKUP($B81,'[1]Collection Mode'!$C$4:$M$141,9,0)","v":0},{"$f":"VLOOKUP($B81,'[1]Collection Mode'!$C$4:$M$141,10,0)","v":715},{"$f":"VLOOKUP($B81,'[1]Collection Mode'!$C$4:$M$141,11,0)","v":10},0,0,0,0,0,0,0,0,0,0,0,0,0,0,0,0]
["QUE","RYV","CAMBRIDGESHIRE COMMUNITY SERVICES NHS TRUST",2502,52977,0.94884092725819347,1.6386890487609912E-2,2064,310,67,20,21,20,1,1485,419,112,485,0,{"$f":"VLOOKUP($B82,'[1]Organisation Level'!$C$4:$N$141,11,0)","v":2502},{"$f":"VLOOKUP($B82,'[1]Organisation Level'!$C$4:$N$141,12,0)","v":52977},0.94884092725819347,1.6386890487609912E-2,{"$f":"VLOOKUP($B82,'[1]Organisation Level'!$C$4:$N$141,5,0)","v":2064},{"$f":"VLOOKUP($B82,'[1]Organisation Level'!$C$4:$N$141,6,0)","v":310},{"$f":"VLOOKUP($B82,'[1]Organisation Level'!$C$4:$N$141,7,0)","v":67},{"$f":"VLOOKUP($B82,'[1]Organisation Level'!$C$4:$N$141,8,0)","v":20},{"$f":"VLOOKUP($B82,'[1]Organisation Level'!$C$4:$N$141,9,0)","v":21},{"$f":"VLOOKUP($B82,'[1]Organisation Level'!$C$4:$N$141,10,0)","v":20},{"$f":"VLOOKUP($B82,'[1]Collection Mode'!$C$4:$M$141,6,0)","v":1},{"$f":"VLOOKUP($B82,'[1]Collection Mode'!$C$4:$M$141,7,0)","v":1485},{"$f":"VLOOKUP($B82,'[1]Collection Mode'!$C$4:$M$141,8,0)","v":419},{"$f":"VLOOKUP($B82,'[1]Collection Mode'!$C$4:$M$141,9,0)","v":112},{"$f":"VLOOKUP($B82,'[1]Collection Mode'!$C$4:$M$141,10,0)","v":485},{"$f":"VLOOKUP($B82,'[1]Collection Mode'!$C$4:$M$141,11,0)","v":0},0,0,0,0,0,0,0,0,0,0,0,0,0,0,0,0]
["QVV","RDY","DORSET HEALTHCARE UNIVERSITY NHS FOUNDATION TRUST",1506,20486,0.90172642762284194,5.5112881806108897E-2,1144,214,61,33,50,4,18,209,255,0,1024,0,{"$f":"VLOOKUP($B83,'[1]Organisation Level'!$C$4:$N$141,11,0)","v":1506},{"$f":"VLOOKUP($B83,'[1]Organisation Level'!$C$4:$N$141,12,0)","v":20486},0.90172642762284194,5.5112881806108897E-2,{"$f":"VLOOKUP($B83,'[1]Organisation Level'!$C$4:$N$141,5,0)","v":1144},{"$f":"VLOOKUP($B83,'[1]Organisation Level'!$C$4:$N$141,6,0)","v":214},{"$f":"VLOOKUP($B83,'[1]Organisation Level'!$C$4:$N$141,7,0)","v":61},{"$f":"VLOOKUP($B83,'[1]Organisation Level'!$C$4:$N$141,8,0)","v":33},{"$f":"VLOOKUP($B83,'[1]Organisation Level'!$C$4:$N$141,9,0)","v":50},{"$f":"VLOOKUP($B83,'[1]Organisation Level'!$C$4:$N$141,10,0)","v":4},{"$f":"VLOOKUP($B83,'[1]Collection Mode'!$C$4:$M$141,6,0)","v":18},{"$f":"VLOOKUP($B83,'[1]Collection Mode'!$C$4:$M$141,7,0)","v":209},{"$f":"VLOOKUP($B83,'[1]Collection Mode'!$C$4:$M$141,8,0)","v":255},{"$f":"VLOOKUP($B83,'[1]Collection Mode'!$C$4:$M$141,9,0)","v":0},{"$f":"VLOOKUP($B83,'[1]Collection Mode'!$C$4:$M$141,10,0)","v":1024},{"$f":"VLOOKUP($B83,'[1]Collection Mode'!$C$4:$M$141,11,0)","v":0},0,0,0,0,0,0,0,0,0,0,0,0,0,0,0,0]
["QWE","RJ6","CROYDON HEALTH SERVICES NHS TRUST",632,2541,0.944620253164557,1.8987341772151899E-2,402,195,19,9,3,4,170,0,0,0,462,0,{"$f":"VLOOKUP($B84,'[1]Organisation Level'!$C$4:$N$141,11,0)","v":632},{"$f":"VLOOKUP($B84,'[1]Organisation Level'!$C$4:$N$141,12,0)","v":2541},0.944620253164557,1.8987341772151899E-2,{"$f":"VLOOKUP($B84,'[1]Organisation Level'!$C$4:$N$141,5,0)","v":402},{"$f":"VLOOKUP($B84,'[1]Organisation Level'!$C$4:$N$141,6,0)","v":195},{"$f":"VLOOKUP($B84,'[1]Organisation Level'!$C$4:$N$141,7,0)","v":19},{"$f":"VLOOKUP($B84,'[1]Organisation Level'!$C$4:$N$141,8,0)","v":9},{"$f":"VLOOKUP($B84,'[1]Organisation Level'!$C$4:$N$141,9,0)","v":3},{"$f":"VLOOKUP($B84,'[1]Organisation Level'!$C$4:$N$141,10,0)","v":4},{"$f":"VLOOKUP($B84,'[1]Collection Mode'!$C$4:$M$141,6,0)","v":170},{"$f":"VLOOKUP($B84,'[1]Collection Mode'!$C$4:$M$141,7,0)","v":0},{"$f":"VLOOKUP($B84,'[1]Collection Mode'!$C$4:$M$141,8,0)","v":0},{"$f":"VLOOKUP($B84,'[1]Collection Mode'!$C$4:$M$141,9,0)","v":0},{"$f":"VLOOKUP($B84,'[1]Collection Mode'!$C$4:$M$141,10,0)","v":462},{"$f":"VLOOKUP($B84,'[1]Collection Mode'!$C$4:$M$141,11,0)","v":0},0,0,0,0,0,0,0,0,0,0,0,0,0,0,0,0]
["QWE","RVR","EPSOM AND ST HELIER UNIVERSITY HOSPITALS NHS TRUST",906,17905,0.96357615894039739,1.2141280353200883E-2,782,91,19,4,7,3,0,0,0,0,906,0,{"$f":"VLOOKUP($B85,'[1]Organisation Level'!$C$4:$N$141,11,0)","v":906},{"$f":"VLOOKUP($B85,'[1]Organisation Level'!$C$4:$N$141,12,0)","v":17905},0.96357615894039739,1.2141280353200883E-2,{"$f":"VLOOKUP($B85,'[1]Organisation Level'!$C$4:$N$141,5,0)","v":782},{"$f":"VLOOKUP($B85,'[1]Organisation Level'!$C$4:$N$141,6,0)","v":91},{"$f":"VLOOKUP($B85,'[1]Organisation Level'!$C$4:$N$141,7,0)","v":19},{"$f":"VLOOKUP($B85,'[1]Organisation Level'!$C$4:$N$141,8,0)","v":4},{"$f":"VLOOKUP($B85,'[1]Organisation Level'!$C$4:$N$141,9,0)","v":7},{"$f":"VLOOKUP($B85,'[1]Organisation Level'!$C$4:$N$141,10,0)","v":3},{"$f":"VLOOKUP($B85,'[1]Collection Mode'!$C$4:$M$141,6,0)","v":0},{"$f":"VLOOKUP($B85,'[1]Collection Mode'!$C$4:$M$141,7,0)","v":0},{"$f":"VLOOKUP($B85,'[1]Collection Mode'!$C$4:$M$141,8,0)","v":0},{"$f":"VLOOKUP($B85,'[1]Collection Mode'!$C$4:$M$141,9,0)","v":0},{"$f":"VLOOKUP($B85,'[1]Collection Mode'!$C$4:$M$141,10,0)","v":906},{"$f":"VLOOKUP($B85,'[1]Collection Mode'!$C$4:$M$141,11,0)","v":0},0,0,0,0,0,0,0,0,0,0,0,0,0,0,0,0]
["QWE","RAX","KINGSTON AND RICHMOND NHS FOUNDATION TRUST",1624,14866,0.94027093596059108,3.3251231527093597E-2,1302,225,33,36,18,10,1127,0,482,0,15,0,{"$f":"VLOOKUP($B86,'[1]Organisation Level'!$C$4:$N$141,11,0)","v":1624},{"$f":"VLOOKUP($B86,'[1]Organisation Level'!$C$4:$N$141,12,0)","v":14866},0.94027093596059108,3.3251231527093597E-2,{"$f":"VLOOKUP($B86,'[1]Organisation Level'!$C$4:$N$141,5,0)","v":1302},{"$f":"VLOOKUP($B86,'[1]Organisation Level'!$C$4:$N$141,6,0)","v":225},{"$f":"VLOOKUP($B86,'[1]Organisation Level'!$C$4:$N$141,7,0)","v":33},{"$f":"VLOOKUP($B86,'[1]Organisation Level'!$C$4:$N$141,8,0)","v":36},{"$f":"VLOOKUP($B86,'[1]Organisation Level'!$C$4:$N$141,9,0)","v":18},{"$f":"VLOOKUP($B86,'[1]Organisation Level'!$C$4:$N$141,10,0)","v":10},{"$f":"VLOOKUP($B86,'[1]Collection Mode'!$C$4:$M$141,6,0)","v":1127},{"$f":"VLOOKUP($B86,'[1]Collection Mode'!$C$4:$M$141,7,0)","v":0},{"$f":"VLOOKUP($B86,'[1]Collection Mode'!$C$4:$M$141,8,0)","v":482},{"$f":"VLOOKUP($B86,'[1]Collection Mode'!$C$4:$M$141,9,0)","v":0},{"$f":"VLOOKUP($B86,'[1]Collection Mode'!$C$4:$M$141,10,0)","v":15},{"$f":"VLOOKUP($B86,'[1]Collection Mode'!$C$4:$M$141,11,0)","v":0},0,0,0,0,0,0,0,0,0,0,0,0,0,0,0,0]
["QWE","RJ7","ST GEORGE'S UNIVERSITY HOSPITALS NHS FOUNDATION TRUST",6,1720,1,0,4,2,0,0,0,0,0,0,4,0,2,0,{"$f":"VLOOKUP($B87,'[1]Organisation Level'!$C$4:$N$141,11,0)","v":6},{"$f":"VLOOKUP($B87,'[1]Organisation Level'!$C$4:$N$141,12,0)","v":1720},1,0,{"$f":"VLOOKUP($B87,'[1]Organisation Level'!$C$4:$N$141,5,0)","v":4},{"$f":"VLOOKUP($B87,'[1]Organisation Level'!$C$4:$N$141,6,0)","v":2},{"$f":"VLOOKUP($B87,'[1]Organisation Level'!$C$4:$N$141,7,0)","v":0},{"$f":"VLOOKUP($B87,'[1]Organisation Level'!$C$4:$N$141,8,0)","v":0},{"$f":"VLOOKUP($B87,'[1]Organisation Level'!$C$4:$N$141,9,0)","v":0},{"$f":"VLOOKUP($B87,'[1]Organisation Level'!$C$4:$N$141,10,0)","v":0},{"$f":"VLOOKUP($B87,'[1]Collection Mode'!$C$4:$M$141,6,0)","v":0},{"$f":"VLOOKUP($B87,'[1]Collection Mode'!$C$4:$M$141,7,0)","v":0},{"$f":"VLOOKUP($B87,'[1]Collection Mode'!$C$4:$M$141,8,0)","v":4},{"$f":"VLOOKUP($B87,'[1]Collection Mode'!$C$4:$M$141,9,0)","v":0},{"$f":"VLOOKUP($B87,'[1]Collection Mode'!$C$4:$M$141,10,0)","v":2},{"$f":"VLOOKUP($B87,'[1]Collection Mode'!$C$4:$M$141,11,0)","v":0},0,0,0,0,0,0,0,0,0,0,0,0,0,0,0,0]
["QWO","RCF","AIREDALE NHS FOUNDATION TRUST",159,1556,0.89937106918238996,5.0314465408805034E-2,121,22,7,1,7,1,146,0,0,0,13,0,{"$f":"VLOOKUP($B88,'[1]Organisation Level'!$C$4:$N$141,11,0)","v":159},{"$f":"VLOOKUP($B88,'[1]Organisation Level'!$C$4:$N$141,12,0)","v":1556},0.89937106918238996,5.0314465408805034E-2,{"$f":"VLOOKUP($B88,'[1]Organisation Level'!$C$4:$N$141,5,0)","v":121},{"$f":"VLOOKUP($B88,'[1]Organisation Level'!$C$4:$N$141,6,0)","v":22},{"$f":"VLOOKUP($B88,'[1]Organisation Level'!$C$4:$N$141,7,0)","v":7},{"$f":"VLOOKUP($B88,'[1]Organisation Level'!$C$4:$N$141,8,0)","v":1},{"$f":"VLOOKUP($B88,'[1]Organisation Level'!$C$4:$N$141,9,0)","v":7},{"$f":"VLOOKUP($B88,'[1]Organisation Level'!$C$4:$N$141,10,0)","v":1},{"$f":"VLOOKUP($B88,'[1]Collection Mode'!$C$4:$M$141,6,0)","v":146},{"$f":"VLOOKUP($B88,'[1]Collection Mode'!$C$4:$M$141,7,0)","v":0},{"$f":"VLOOKUP($B88,'[1]Collection Mode'!$C$4:$M$141,8,0)","v":0},{"$f":"VLOOKUP($B88,'[1]Collection Mode'!$C$4:$M$141,9,0)","v":0},{"$f":"VLOOKUP($B88,'[1]Collection Mode'!$C$4:$M$141,10,0)","v":13},{"$f":"VLOOKUP($B88,'[1]Collection Mode'!$C$4:$M$141,11,0)","v":0},0,0,0,0,0,0,0,0,0,0,0,0,0,0,0,0]
["QWO","TAD","BRADFORD DISTRICT CARE NHS FOUNDATION TRUST",1755,21519,0.96809116809116813,1.4245014245014245E-2,1620,79,30,16,9,1,1,0,1381,0,373,0,{"$f":"VLOOKUP($B89,'[1]Organisation Level'!$C$4:$N$141,11,0)","v":1755},{"$f":"VLOOKUP($B89,'[1]Organisation Level'!$C$4:$N$141,12,0)","v":21519},0.96809116809116813,1.4245014245014245E-2,{"$f":"VLOOKUP($B89,'[1]Organisation Level'!$C$4:$N$141,5,0)","v":1620},{"$f":"VLOOKUP($B89,'[1]Organisation Level'!$C$4:$N$141,6,0)","v":79},{"$f":"VLOOKUP($B89,'[1]Organisation Level'!$C$4:$N$141,7,0)","v":30},{"$f":"VLOOKUP($B89,'[1]Organisation Level'!$C$4:$N$141,8,0)","v":16},{"$f":"VLOOKUP($B89,'[1]Organisation Level'!$C$4:$N$141,9,0)","v":9},{"$f":"VLOOKUP($B89,'[1]Organisation Level'!$C$4:$N$141,10,0)","v":1},{"$f":"VLOOKUP($B89,'[1]Collection Mode'!$C$4:$M$141,6,0)","v":1},{"$f":"VLOOKUP($B89,'[1]Collection Mode'!$C$4:$M$141,7,0)","v":0},{"$f":"VLOOKUP($B89,'[1]Collection Mode'!$C$4:$M$141,8,0)","v":1381},{"$f":"VLOOKUP($B89,'[1]Collection Mode'!$C$4:$M$141,9,0)","v":0},{"$f":"VLOOKUP($B89,'[1]Collection Mode'!$C$4:$M$141,10,0)","v":373},{"$f":"VLOOKUP($B89,'[1]Collection Mode'!$C$4:$M$141,11,0)","v":0},0,0,0,0,0,0,0,0,0,0,0,0,0,0,0,0]
["QWO","RWY","CALDERDALE AND HUDDERSFIELD NHS FOUNDATION TRUST",246,14237,0.97967479674796742,8.130081300813009E-3,219,22,2,1,1,1,0,0,0,0,246,0,{"$f":"VLOOKUP($B90,'[1]Organisation Level'!$C$4:$N$141,11,0)","v":246},{"$f":"VLOOKUP($B90,'[1]Organisation Level'!$C$4:$N$141,12,0)","v":14237},0.97967479674796742,8.130081300813009E-3,{"$f":"VLOOKUP($B90,'[1]Organisation Level'!$C$4:$N$141,5,0)","v":219},{"$f":"VLOOKUP($B90,'[1]Organisation Level'!$C$4:$N$141,6,0)","v":22},{"$f":"VLOOKUP($B90,'[1]Organisation Level'!$C$4:$N$141,7,0)","v":2},{"$f":"VLOOKUP($B90,'[1]Organisation Level'!$C$4:$N$141,8,0)","v":1},{"$f":"VLOOKUP($B90,'[1]Organisation Level'!$C$4:$N$141,9,0)","v":1},{"$f":"VLOOKUP($B90,'[1]Organisation Level'!$C$4:$N$141,10,0)","v":1},{"$f":"VLOOKUP($B90,'[1]Collection Mode'!$C$4:$M$141,6,0)","v":0},{"$f":"VLOOKUP($B90,'[1]Collection Mode'!$C$4:$M$141,7,0)","v":0},{"$f":"VLOOKUP($B90,'[1]Collection Mode'!$C$4:$M$141,8,0)","v":0},{"$f":"VLOOKUP($B90,'[1]Collection Mode'!$C$4:$M$141,9,0)","v":0},{"$f":"VLOOKUP($B90,'[1]Collection Mode'!$C$4:$M$141,10,0)","v":246},{"$f":"VLOOKUP($B90,'[1]Collection Mode'!$C$4:$M$141,11,0)","v":0},0,0,0,0,0,0,0,0,0,0,0,0,0,0,0,0]
["QWO","RXF","MID YORKSHIRE TEACHING NHS TRUST",1296,0,0.98148148148148151,6.1728395061728392E-3,1163,109,15,2,6,1,68,0,1073,0,155,0,{"$f":"VLOOKUP($B91,'[1]Organisation Level'!$C$4:$N$141,11,0)","v":1296},{"$f":"VLOOKUP($B91,'[1]Organisation Level'!$C$4:$N$141,12,0)","v":0},0.98148148148148151,6.1728395061728392E-3,{"$f":"VLOOKUP($B91,'[1]Organisation Level'!$C$4:$N$141,5,0)","v":1163},{"$f":"VLOOKUP($B91,'[1]Organisation Level'!$C$4:$N$141,6,0)","v":109},{"$f":"VLOOKUP($B91,'[1]Organisation Level'!$C$4:$N$141,7,0)","v":15},{"$f":"VLOOKUP($B91,'[1]Organisation Level'!$C$4:$N$141,8,0)","v":2},{"$f":"VLOOKUP($B91,'[1]Organisation Level'!$C$4:$N$141,9,0)","v":6},{"$f":"VLOOKUP($B91,'[1]Organisation Level'!$C$4:$N$141,10,0)","v":1},{"$f":"VLOOKUP($B91,'[1]Collection Mode'!$C$4:$M$141,6,0)","v":68},{"$f":"VLOOKUP($B91,'[1]Collection Mode'!$C$4:$M$141,7,0)","v":0},{"$f":"VLOOKUP($B91,'[1]Collection Mode'!$C$4:$M$141,8,0)","v":1073},{"$f":"VLOOKUP($B91,'[1]Collection Mode'!$C$4:$M$141,9,0)","v":0},{"$f":"VLOOKUP($B91,'[1]Collection Mode'!$C$4:$M$141,10,0)","v":155},{"$f":"VLOOKUP($B91,'[1]Collection Mode'!$C$4:$M$141,11,0)","v":0},0,0,0,0,0,0,0,0,0,0,0,0,0,0,0,0]
["QWO","RXG","SOUTH WEST YORKSHIRE PARTNERSHIP NHS FOUNDATION TRUST",401,12339,0.96009975062344144,1.7456359102244388E-2,343,42,7,4,3,2,0,11,20,0,370,0,{"$f":"VLOOKUP($B92,'[1]Organisation Level'!$C$4:$N$141,11,0)","v":401},{"$f":"VLOOKUP($B92,'[1]Organisation Level'!$C$4:$N$141,12,0)","v":12339},0.96009975062344144,1.7456359102244388E-2,{"$f":"VLOOKUP($B92,'[1]Organisation Level'!$C$4:$N$141,5,0)","v":343},{"$f":"VLOOKUP($B92,'[1]Organisation Level'!$C$4:$N$141,6,0)","v":42},{"$f":"VLOOKUP($B92,'[1]Organisation Level'!$C$4:$N$141,7,0)","v":7},{"$f":"VLOOKUP($B92,'[1]Organisation Level'!$C$4:$N$141,8,0)","v":4},{"$f":"VLOOKUP($B92,'[1]Organisation Level'!$C$4:$N$141,9,0)","v":3},{"$f":"VLOOKUP($B92,'[1]Organisation Level'!$C$4:$N$141,10,0)","v":2},{"$f":"VLOOKUP($B92,'[1]Collection Mode'!$C$4:$M$141,6,0)","v":0},{"$f":"VLOOKUP($B92,'[1]Collection Mode'!$C$4:$M$141,7,0)","v":11},{"$f":"VLOOKUP($B92,'[1]Collection Mode'!$C$4:$M$141,8,0)","v":20},{"$f":"VLOOKUP($B92,'[1]Collection Mode'!$C$4:$M$141,9,0)","v":0},{"$f":"VLOOKUP($B92,'[1]Collection Mode'!$C$4:$M$141,10,0)","v":370},{"$f":"VLOOKUP($B92,'[1]Collection Mode'!$C$4:$M$141,11,0)","v":0},0,0,0,0,0,0,0,0,0,0,0,0,0,0,0,0]
["QWU","RJC","SOUTH WARWICKSHIRE UNIVERSITY NHS FOUNDATION TRUST",144,7891,0.94444444444444442,2.0833333333333332E-2,125,11,0,0,3,5,0,0,144,0,0,0,{"$f":"VLOOKUP($B93,'[1]Organisation Level'!$C$4:$N$141,11,0)","v":144},{"$f":"VLOOKUP($B93,'[1]Organisation Level'!$C$4:$N$141,12,0)","v":7891},0.94444444444444442,2.0833333333333332E-2,{"$f":"VLOOKUP($B93,'[1]Organisation Level'!$C$4:$N$141,5,0)","v":125},{"$f":"VLOOKUP($B93,'[1]Organisation Level'!$C$4:$N$141,6,0)","v":11},{"$f":"VLOOKUP($B93,'[1]Organisation Level'!$C$4:$N$141,7,0)","v":0},{"$f":"VLOOKUP($B93,'[1]Organisation Level'!$C$4:$N$141,8,0)","v":0},{"$f":"VLOOKUP($B93,'[1]Organisation Level'!$C$4:$N$141,9,0)","v":3},{"$f":"VLOOKUP($B93,'[1]Organisation Level'!$C$4:$N$141,10,0)","v":5},{"$f":"VLOOKUP($B93,'[1]Collection Mode'!$C$4:$M$141,6,0)","v":0},{"$f":"VLOOKUP($B93,'[1]Collection Mode'!$C$4:$M$141,7,0)","v":0},{"$f":"VLOOKUP($B93,'[1]Collection Mode'!$C$4:$M$141,8,0)","v":144},{"$f":"VLOOKUP($B93,'[1]Collection Mode'!$C$4:$M$141,9,0)","v":0},{"$f":"VLOOKUP($B93,'[1]Collection Mode'!$C$4:$M$141,10,0)","v":0},{"$f":"VLOOKUP($B93,'[1]Collection Mode'!$C$4:$M$141,11,0)","v":0},0,0,0,0,0,0,0,0,0,0,0,0,0,0,0,0]
["QXU","RA2","ROYAL SURREY COUNTY HOSPITAL NHS FOUNDATION TRUST",49,3584,0.97959183673469385,0,39,9,1,0,0,0,0,0,41,0,8,0,{"$f":"VLOOKUP($B94,'[1]Organisation Level'!$C$4:$N$141,11,0)","v":49},{"$f":"VLOOKUP($B94,'[1]Organisation Level'!$C$4:$N$141,12,0)","v":3584},0.97959183673469385,0,{"$f":"VLOOKUP($B94,'[1]Organisation Level'!$C$4:$N$141,5,0)","v":39},{"$f":"VLOOKUP($B94,'[1]Organisation Level'!$C$4:$N$141,6,0)","v":9},{"$f":"VLOOKUP($B94,'[1]Organisation Level'!$C$4:$N$141,7,0)","v":1},{"$f":"VLOOKUP($B94,'[1]Organisation Level'!$C$4:$N$141,8,0)","v":0},{"$f":"VLOOKUP($B94,'[1]Organisation Level'!$C$4:$N$141,9,0)","v":0},{"$f":"VLOOKUP($B94,'[1]Organisation Level'!$C$4:$N$141,10,0)","v":0},{"$f":"VLOOKUP($B94,'[1]Collection Mode'!$C$4:$M$141,6,0)","v":0},{"$f":"VLOOKUP($B94,'[1]Collection Mode'!$C$4:$M$141,7,0)","v":0},{"$f":"VLOOKUP($B94,'[1]Collection Mode'!$C$4:$M$141,8,0)","v":41},{"$f":"VLOOKUP($B94,'[1]Collection Mode'!$C$4:$M$141,9,0)","v":0},{"$f":"VLOOKUP($B94,'[1]Collection Mode'!$C$4:$M$141,10,0)","v":8},{"$f":"VLOOKUP($B94,'[1]Collection Mode'!$C$4:$M$141,11,0)","v":0},0,0,0,0,0,0,0,0,0,0,0,0,0,0,0,0]
["QYG","RBS","ALDER HEY CHILDREN'S NHS FOUNDATION TRUST",173,1106,0.93063583815028905,4.6242774566473986E-2,146,15,4,2,6,0,101,1,0,0,71,0,{"$f":"VLOOKUP($B95,'[1]Organisation Level'!$C$4:$N$141,11,0)","v":173},{"$f":"VLOOKUP($B95,'[1]Organisation Level'!$C$4:$N$141,12,0)","v":1106},0.93063583815028905,4.6242774566473986E-2,{"$f":"VLOOKUP($B95,'[1]Organisation Level'!$C$4:$N$141,5,0)","v":146},{"$f":"VLOOKUP($B95,'[1]Organisation Level'!$C$4:$N$141,6,0)","v":15},{"$f":"VLOOKUP($B95,'[1]Organisation Level'!$C$4:$N$141,7,0)","v":4},{"$f":"VLOOKUP($B95,'[1]Organisation Level'!$C$4:$N$141,8,0)","v":2},{"$f":"VLOOKUP($B95,'[1]Organisation Level'!$C$4:$N$141,9,0)","v":6},{"$f":"VLOOKUP($B95,'[1]Organisation Level'!$C$4:$N$141,10,0)","v":0},{"$f":"VLOOKUP($B95,'[1]Collection Mode'!$C$4:$M$141,6,0)","v":101},{"$f":"VLOOKUP($B95,'[1]Collection Mode'!$C$4:$M$141,7,0)","v":1},{"$f":"VLOOKUP($B95,'[1]Collection Mode'!$C$4:$M$141,8,0)","v":0},{"$f":"VLOOKUP($B95,'[1]Collection Mode'!$C$4:$M$141,9,0)","v":0},{"$f":"VLOOKUP($B95,'[1]Collection Mode'!$C$4:$M$141,10,0)","v":71},{"$f":"VLOOKUP($B95,'[1]Collection Mode'!$C$4:$M$141,11,0)","v":0},0,0,0,0,0,0,0,0,0,0,0,0,0,0,0,0]
["QYG","RY2","BRIDGEWATER COMMUNITY HEALTHCARE NHS FOUNDATION TRUST",4380,20431,0.9506849315068493,2.7397260273972601E-2,3714,450,72,57,63,24,2685,0,1350,0,345,0,{"$f":"VLOOKUP($B96,'[1]Organisation Level'!$C$4:$N$141,11,0)","v":4380},{"$f":"VLOOKUP($B96,'[1]Organisation Level'!$C$4:$N$141,12,0)","v":20431},0.9506849315068493,2.7397260273972601E-2,{"$f":"VLOOKUP($B96,'[1]Organisation Level'!$C$4:$N$141,5,0)","v":3714},{"$f":"VLOOKUP($B96,'[1]Organisation Level'!$C$4:$N$141,6,0)","v":450},{"$f":"VLOOKUP($B96,'[1]Organisation Level'!$C$4:$N$141,7,0)","v":72},{"$f":"VLOOKUP($B96,'[1]Organisation Level'!$C$4:$N$141,8,0)","v":57},{"$f":"VLOOKUP($B96,'[1]Organisation Level'!$C$4:$N$141,9,0)","v":63},{"$f":"VLOOKUP($B96,'[1]Organisation Level'!$C$4:$N$141,10,0)","v":24},{"$f":"VLOOKUP($B96,'[1]Collection Mode'!$C$4:$M$141,6,0)","v":2685},{"$f":"VLOOKUP($B96,'[1]Collection Mode'!$C$4:$M$141,7,0)","v":0},{"$f":"VLOOKUP($B96,'[1]Collection Mode'!$C$4:$M$141,8,0)","v":1350},{"$f":"VLOOKUP($B96,'[1]Collection Mode'!$C$4:$M$141,9,0)","v":0},{"$f":"VLOOKUP($B96,'[1]Collection Mode'!$C$4:$M$141,10,0)","v":345},{"$f":"VLOOKUP($B96,'[1]Collection Mode'!$C$4:$M$141,11,0)","v":0},0,0,0,0,0,0,0,0,0,0,0,0,0,0,0,0]
["QYG","RXA","CHESHIRE AND WIRRAL PARTNERSHIP NHS FOUNDATION TRUST",1087,13923,0.92548298068077273,2.9438822447102116E-2,900,106,32,8,24,17,1072,0,15,0,0,0,{"$f":"VLOOKUP($B97,'[1]Organisation Level'!$C$4:$N$141,11,0)","v":1087},{"$f":"VLOOKUP($B97,'[1]Organisation Level'!$C$4:$N$141,12,0)","v":13923},0.92548298068077273,2.9438822447102116E-2,{"$f":"VLOOKUP($B97,'[1]Organisation Level'!$C$4:$N$141,5,0)","v":900},{"$f":"VLOOKUP($B97,'[1]Organisation Level'!$C$4:$N$141,6,0)","v":106},{"$f":"VLOOKUP($B97,'[1]Organisation Level'!$C$4:$N$141,7,0)","v":32},{"$f":"VLOOKUP($B97,'[1]Organisation Level'!$C$4:$N$141,8,0)","v":8},{"$f":"VLOOKUP($B97,'[1]Organisation Level'!$C$4:$N$141,9,0)","v":24},{"$f":"VLOOKUP($B97,'[1]Organisation Level'!$C$4:$N$141,10,0)","v":17},{"$f":"VLOOKUP($B97,'[1]Collection Mode'!$C$4:$M$141,6,0)","v":1072},{"$f":"VLOOKUP($B97,'[1]Collection Mode'!$C$4:$M$141,7,0)","v":0},{"$f":"VLOOKUP($B97,'[1]Collection Mode'!$C$4:$M$141,8,0)","v":15},{"$f":"VLOOKUP($B97,'[1]Collection Mode'!$C$4:$M$141,9,0)","v":0},{"$f":"VLOOKUP($B97,'[1]Collection Mode'!$C$4:$M$141,10,0)","v":0},{"$f":"VLOOKUP($B97,'[1]Collection Mode'!$C$4:$M$141,11,0)","v":0},0,0,0,0,0,0,0,0,0,0,0,0,0,0,0,0]
["QYG","RJN","EAST CHESHIRE NHS TRUST",184,2817,0.94565217391304346,2.717391304347826E-2,150,24,4,3,2,1,141,0,0,43,0,0,{"$f":"VLOOKUP($B98,'[1]Organisation Level'!$C$4:$N$141,11,0)","v":184},{"$f":"VLOOKUP($B98,'[1]Organisation Level'!$C$4:$N$141,12,0)","v":2817},0.94565217391304346,2.717391304347826E-2,{"$f":"VLOOKUP($B98,'[1]Organisation Level'!$C$4:$N$141,5,0)","v":150},{"$f":"VLOOKUP($B98,'[1]Organisation Level'!$C$4:$N$141,6,0)","v":24},{"$f":"VLOOKUP($B98,'[1]Organisation Level'!$C$4:$N$141,7,0)","v":4},{"$f":"VLOOKUP($B98,'[1]Organisation Level'!$C$4:$N$141,8,0)","v":3},{"$f":"VLOOKUP($B98,'[1]Organisation Level'!$C$4:$N$141,9,0)","v":2},{"$f":"VLOOKUP($B98,'[1]Organisation Level'!$C$4:$N$141,10,0)","v":1},{"$f":"VLOOKUP($B98,'[1]Collection Mode'!$C$4:$M$141,6,0)","v":141},{"$f":"VLOOKUP($B98,'[1]Collection Mode'!$C$4:$M$141,7,0)","v":0},{"$f":"VLOOKUP($B98,'[1]Collection Mode'!$C$4:$M$141,8,0)","v":0},{"$f":"VLOOKUP($B98,'[1]Collection Mode'!$C$4:$M$141,9,0)","v":43},{"$f":"VLOOKUP($B98,'[1]Collection Mode'!$C$4:$M$141,10,0)","v":0},{"$f":"VLOOKUP($B98,'[1]Collection Mode'!$C$4:$M$141,11,0)","v":0},0,0,0,0,0,0,0,0,0,0,0,0,0,0,0,0]
["QYG","RBQ","LIVERPOOL HEART AND CHEST HOSPITAL NHS FOUNDATION TRUST",0,0,"NA","NA",0,0,0,0,0,0,0,0,0,0,0,0,{"$f":"VLOOKUP($B99,'[1]Organisation Level'!$C$4:$N$141,11,0)","v":0},{"$f":"VLOOKUP($B99,'[1]Organisation Level'!$C$4:$N$141,12,0)","v":0},{"$error":"#DIV/0!"},{"$error":"#DIV/0!"},{"$f":"VLOOKUP($B99,'[1]Organisation Level'!$C$4:$N$141,5,0)","v":0},{"$f":"VLOOKUP($B99,'[1]Organisation Level'!$C$4:$N$141,6,0)","v":0},{"$f":"VLOOKUP($B99,'[1]Organisation Level'!$C$4:$N$141,7,0)","v":0},{"$f":"VLOOKUP($B99,'[1]Organisation Level'!$C$4:$N$141,8,0)","v":0},{"$f":"VLOOKUP($B99,'[1]Organisation Level'!$C$4:$N$141,9,0)","v":0},{"$f":"VLOOKUP($B99,'[1]Organisation Level'!$C$4:$N$141,10,0)","v":0},{"$f":"VLOOKUP($B99,'[1]Collection Mode'!$C$4:$M$141,6,0)","v":0},{"$f":"VLOOKUP($B99,'[1]Collection Mode'!$C$4:$M$141,7,0)","v":0},{"$f":"VLOOKUP($B99,'[1]Collection Mode'!$C$4:$M$141,8,0)","v":0},{"$f":"VLOOKUP($B99,'[1]Collection Mode'!$C$4:$M$141,9,0)","v":0},{"$f":"VLOOKUP($B99,'[1]Collection Mode'!$C$4:$M$141,10,0)","v":0},{"$f":"VLOOKUP($B99,'[1]Collection Mode'!$C$4:$M$141,11,0)","v":0},0,0,0,0,0,0,0,0,0,0,0,0,0,0,0,0]
["QYG","RBN","MERSEY AND WEST LANCASHIRE TEACHING HOSPITALS NHS TRUST",138,1602,0.98550724637681164,1.4492753623188406E-2,129,7,0,1,1,0,0,0,80,0,58,0,{"$f":"VLOOKUP($B100,'[1]Organisation Level'!$C$4:$N$141,11,0)","v":138},{"$f":"VLOOKUP($B100,'[1]Organisation Level'!$C$4:$N$141,12,0)","v":1602},0.98550724637681164,1.4492753623188406E-2,{"$f":"VLOOKUP($B100,'[1]Organisation Level'!$C$4:$N$141,5,0)","v":129},{"$f":"VLOOKUP($B100,'[1]Organisation Level'!$C$4:$N$141,6,0)","v":7},{"$f":"VLOOKUP($B100,'[1]Organisation Level'!$C$4:$N$141,7,0)","v":0},{"$f":"VLOOKUP($B100,'[1]Organisation Level'!$C$4:$N$141,8,0)","v":1},{"$f":"VLOOKUP($B100,'[1]Organisation Level'!$C$4:$N$141,9,0)","v":1},{"$f":"VLOOKUP($B100,'[1]Organisation Level'!$C$4:$N$141,10,0)","v":0},{"$f":"VLOOKUP($B100,'[1]Collection Mode'!$C$4:$M$141,6,0)","v":0},{"$f":"VLOOKUP($B100,'[1]Collection Mode'!$C$4:$M$141,7,0)","v":0},{"$f":"VLOOKUP($B100,'[1]Collection Mode'!$C$4:$M$141,8,0)","v":80},{"$f":"VLOOKUP($B100,'[1]Collection Mode'!$C$4:$M$141,9,0)","v":0},{"$f":"VLOOKUP($B100,'[1]Collection Mode'!$C$4:$M$141,10,0)","v":58},{"$f":"VLOOKUP($B100,'[1]Collection Mode'!$C$4:$M$141,11,0)","v":0},0,0,0,0,0,0,0,0,0,0,0,0,0,0,0,0]
["QYG","RW4","MERSEY CARE NHS FOUNDATION TRUST",1794,66140,0.97993311036789299,6.131549609810479E-3,1556,202,15,5,6,10,0,0,547,0,1247,0,{"$f":"VLOOKUP($B101,'[1]Organisation Level'!$C$4:$N$141,11,0)","v":1794},{"$f":"VLOOKUP($B101,'[1]Organisation Level'!$C$4:$N$141,12,0)","v":66140},0.97993311036789299,6.131549609810479E-3,{"$f":"VLOOKUP($B101,'[1]Organisation Level'!$C$4:$N$141,5,0)","v":1556},{"$f":"VLOOKUP($B101,'[1]Organisation Level'!$C$4:$N$141,6,0)","v":202},{"$f":"VLOOKUP($B101,'[1]Organisation Level'!$C$4:$N$141,7,0)","v":15},{"$f":"VLOOKUP($B101,'[1]Organisation Level'!$C$4:$N$141,8,0)","v":5},{"$f":"VLOOKUP($B101,'[1]Organisation Level'!$C$4:$N$141,9,0)","v":6},{"$f":"VLOOKUP($B101,'[1]Organisation Level'!$C$4:$N$141,10,0)","v":10},{"$f":"VLOOKUP($B101,'[1]Collection Mode'!$C$4:$M$141,6,0)","v":0},{"$f":"VLOOKUP($B101,'[1]Collection Mode'!$C$4:$M$141,7,0)","v":0},{"$f":"VLOOKUP($B101,'[1]Collection Mode'!$C$4:$M$141,8,0)","v":547},{"$f":"VLOOKUP($B101,'[1]Collection Mode'!$C$4:$M$141,9,0)","v":0},{"$f":"VLOOKUP($B101,'[1]Collection Mode'!$C$4:$M$141,10,0)","v":1247},{"$f":"VLOOKUP($B101,'[1]Collection Mode'!$C$4:$M$141,11,0)","v":0},0,0,0,0,0,0,0,0,0,0,0,0,0,0,0,0]
["QYG","RBT","MID CHESHIRE HOSPITALS NHS FOUNDATION TRUST",412,3804,0.95388349514563109,2.1844660194174758E-2,364,29,8,4,5,2,412,0,0,0,0,0,{"$f":"VLOOKUP($B102,'[1]Organisation Level'!$C$4:$N$141,11,0)","v":412},{"$f":"VLOOKUP($B102,'[1]Organisation Level'!$C$4:$N$141,12,0)","v":3804},0.95388349514563109,2.1844660194174758E-2,{"$f":"VLOOKUP($B102,'[1]Organisation Level'!$C$4:$N$141,5,0)","v":364},{"$f":"VLOOKUP($B102,'[1]Organisation Level'!$C$4:$N$141,6,0)","v":29},{"$f":"VLOOKUP($B102,'[1]Organisation Level'!$C$4:$N$141,7,0)","v":8},{"$f":"VLOOKUP($B102,'[1]Organisation Level'!$C$4:$N$141,8,0)","v":4},{"$f":"VLOOKUP($B102,'[1]Organisation Level'!$C$4:$N$141,9,0)","v":5},{"$f":"VLOOKUP($B102,'[1]Organisation Level'!$C$4:$N$141,10,0)","v":2},{"$f":"VLOOKUP($B102,'[1]Collection Mode'!$C$4:$M$141,6,0)","v":412},{"$f":"VLOOKUP($B102,'[1]Collection Mode'!$C$4:$M$141,7,0)","v":0},{"$f":"VLOOKUP($B102,'[1]Collection Mode'!$C$4:$M$141,8,0)","v":0},{"$f":"VLOOKUP($B102,'[1]Collection Mode'!$C$4:$M$141,9,0)","v":0},{"$f":"VLOOKUP($B102,'[1]Collection Mode'!$C$4:$M$141,10,0)","v":0},{"$f":"VLOOKUP($B102,'[1]Collection Mode'!$C$4:$M$141,11,0)","v":0},0,0,0,0,0,0,0,0,0,0,0,0,0,0,0,0]
["QYG","RY7","WIRRAL COMMUNITY HEALTH AND CARE NHS FOUNDATION TRUST",464,8500,0.87284482758620685,7.3275862068965511E-2,330,75,21,17,17,4,300,0,0,0,147,17,{"$f":"VLOOKUP($B103,'[1]Organisation Level'!$C$4:$N$141,11,0)","v":464},{"$f":"VLOOKUP($B103,'[1]Organisation Level'!$C$4:$N$141,12,0)","v":8500},0.87284482758620685,7.3275862068965511E-2,{"$f":"VLOOKUP($B103,'[1]Organisation Level'!$C$4:$N$141,5,0)","v":330},{"$f":"VLOOKUP($B103,'[1]Organisation Level'!$C$4:$N$141,6,0)","v":75},{"$f":"VLOOKUP($B103,'[1]Organisation Level'!$C$4:$N$141,7,0)","v":21},{"$f":"VLOOKUP($B103,'[1]Organisation Level'!$C$4:$N$141,8,0)","v":17},{"$f":"VLOOKUP($B103,'[1]Organisation Level'!$C$4:$N$141,9,0)","v":17},{"$f":"VLOOKUP($B103,'[1]Organisation Level'!$C$4:$N$141,10,0)","v":4},{"$f":"VLOOKUP($B103,'[1]Collection Mode'!$C$4:$M$141,6,0)","v":300},{"$f":"VLOOKUP($B103,'[1]Collection Mode'!$C$4:$M$141,7,0)","v":0},{"$f":"VLOOKUP($B103,'[1]Collection Mode'!$C$4:$M$141,8,0)","v":0},{"$f":"VLOOKUP($B103,'[1]Collection Mode'!$C$4:$M$141,9,0)","v":0},{"$f":"VLOOKUP($B103,'[1]Collection Mode'!$C$4:$M$141,10,0)","v":147},{"$f":"VLOOKUP($B103,'[1]Collection Mode'!$C$4:$M$141,11,0)","v":17},0,0,0,0,0,0,0,0,0,0,0,0,0,0,0,0]
["IS1","NEC","ALLIED HEALTH PROFESSIONALS SUFFOLK CIC",842,9376,0.92874109263657956,3.4441805225653203E-2,666,116,30,16,13,1,0,0,0,0,842,0,{"$f":"VLOOKUP($B104,'[1]Organisation Level'!$C$4:$N$141,11,0)","v":842},{"$f":"VLOOKUP($B104,'[1]Organisation Level'!$C$4:$N$141,12,0)","v":9376},0.92874109263657956,3.4441805225653203E-2,{"$f":"VLOOKUP($B104,'[1]Organisation Level'!$C$4:$N$141,5,0)","v":666},{"$f":"VLOOKUP($B104,'[1]Organisation Level'!$C$4:$N$141,6,0)","v":116},{"$f":"VLOOKUP($B104,'[1]Organisation Level'!$C$4:$N$141,7,0)","v":30},{"$f":"VLOOKUP($B104,'[1]Organisation Level'!$C$4:$N$141,8,0)","v":16},{"$f":"VLOOKUP($B104,'[1]Organisation Level'!$C$4:$N$141,9,0)","v":13},{"$f":"VLOOKUP($B104,'[1]Organisation Level'!$C$4:$N$141,10,0)","v":1},{"$f":"VLOOKUP($B104,'[1]Collection Mode'!$C$4:$M$141,6,0)","v":0},{"$f":"VLOOKUP($B104,'[1]Collection Mode'!$C$4:$M$141,7,0)","v":0},{"$f":"VLOOKUP($B104,'[1]Collection Mode'!$C$4:$M$141,8,0)","v":0},{"$f":"VLOOKUP($B104,'[1]Collection Mode'!$C$4:$M$141,9,0)","v":0},{"$f":"VLOOKUP($B104,'[1]Collection Mode'!$C$4:$M$141,10,0)","v":842},{"$f":"VLOOKUP($B104,'[1]Collection Mode'!$C$4:$M$141,11,0)","v":0},0,0,0,0,0,0,0,0,0,0,0,0,0,0,0,0]
["IS1","8J094","BADGER LTD",554,13002,0.83754512635379064,9.0252707581227443E-2,375,89,0,21,29,40,0,0,61,0,493,0,{"$f":"VLOOKUP($B105,'[1]Organisation Level'!$C$4:$N$141,11,0)","v":554},{"$f":"VLOOKUP($B105,'[1]Organisation Level'!$C$4:$N$141,12,0)","v":13002},0.83754512635379064,9.0252707581227443E-2,{"$f":"VLOOKUP($B105,'[1]Organisation Level'!$C$4:$N$141,5,0)","v":375},{"$f":"VLOOKUP($B105,'[1]Organisation Level'!$C$4:$N$141,6,0)","v":89},{"$f":"VLOOKUP($B105,'[1]Organisation Level'!$C$4:$N$141,7,0)","v":0},{"$f":"VLOOKUP($B105,'[1]Organisation Level'!$C$4:$N$141,8,0)","v":21},{"$f":"VLOOKUP($B105,'[1]Organisation Level'!$C$4:$N$141,9,0)","v":29},{"$f":"VLOOKUP($B105,'[1]Organisation Level'!$C$4:$N$141,10,0)","v":40},{"$f":"VLOOKUP($B105,'[1]Collection Mode'!$C$4:$M$141,6,0)","v":0},{"$f":"VLOOKUP($B105,'[1]Collection Mode'!$C$4:$M$141,7,0)","v":0},{"$f":"VLOOKUP($B105,'[1]Collection Mode'!$C$4:$M$141,8,0)","v":61},{"$f":"VLOOKUP($B105,'[1]Collection Mode'!$C$4:$M$141,9,0)","v":0},{"$f":"VLOOKUP($B105,'[1]Collection Mode'!$C$4:$M$141,10,0)","v":493},{"$f":"VLOOKUP($B105,'[1]Collection Mode'!$C$4:$M$141,11,0)","v":0},0,0,0,0,0,0,0,0,0,0,0,0,0,0,0,0]
["IS1","DVG","BARDOC",661,7516,0.85022692889561269,0.11800302571860817,432,130,21,40,38,0,0,0,0,661,0,0,{"$f":"VLOOKUP($B106,'[1]Organisation Level'!$C$4:$N$141,11,0)","v":661},{"$f":"VLOOKUP($B106,'[1]Organisation Level'!$C$4:$N$141,12,0)","v":7516},0.85022692889561269,0.11800302571860817,{"$f":"VLOOKUP($B106,'[1]Organisation Level'!$C$4:$N$141,5,0)","v":432},{"$f":"VLOOKUP($B106,'[1]Organisation Level'!$C$4:$N$141,6,0)","v":130},{"$f":"VLOOKUP($B106,'[1]Organisation Level'!$C$4:$N$141,7,0)","v":21},{"$f":"VLOOKUP($B106,'[1]Organisation Level'!$C$4:$N$141,8,0)","v":40},{"$f":"VLOOKUP($B106,'[1]Organisation Level'!$C$4:$N$141,9,0)","v":38},{"$f":"VLOOKUP($B106,'[1]Organisation Level'!$C$4:$N$141,10,0)","v":0},{"$f":"VLOOKUP($B106,'[1]Collection Mode'!$C$4:$M$141,6,0)","v":0},{"$f":"VLOOKUP($B106,'[1]Collection Mode'!$C$4:$M$141,7,0)","v":0},{"$f":"VLOOKUP($B106,'[1]Collection Mode'!$C$4:$M$141,8,0)","v":0},{"$f":"VLOOKUP($B106,'[1]Collection Mode'!$C$4:$M$141,9,0)","v":661},{"$f":"VLOOKUP($B106,'[1]Collection Mode'!$C$4:$M$141,10,0)","v":0},{"$f":"VLOOKUP($B106,'[1]Collection Mode'!$C$4:$M$141,11,0)","v":0},0,0,0,0,0,0,0,0,0,0,0,0,0,0,0,0]
["IS1","NQV","BROMLEY HEALTHCARE",383,19245,0.95822454308093996,7.832898172323759E-3,334,33,12,1,2,1,154,0,136,0,32,61,{"$f":"VLOOKUP($B107,'[1]Organisation Level'!$C$4:$N$141,11,0)","v":383},{"$f":"VLOOKUP($B107,'[1]Organisation Level'!$C$4:$N$141,12,0)","v":19245},0.95822454308093996,7.832898172323759E-3,{"$f":"VLOOKUP($B107,'[1]Organisation Level'!$C$4:$N$141,5,0)","v":334},{"$f":"VLOOKUP($B107,'[1]Organisation Level'!$C$4:$N$141,6,0)","v":33},{"$f":"VLOOKUP($B107,'[1]Organisation Level'!$C$4:$N$141,7,0)","v":12},{"$f":"VLOOKUP($B107,'[1]Organisation Level'!$C$4:$N$141,8,0)","v":1},{"$f":"VLOOKUP($B107,'[1]Organisation Level'!$C$4:$N$141,9,0)","v":2},{"$f":"VLOOKUP($B107,'[1]Organisation Level'!$C$4:$N$141,10,0)","v":1},{"$f":"VLOOKUP($B107,'[1]Collection Mode'!$C$4:$M$141,6,0)","v":154},{"$f":"VLOOKUP($B107,'[1]Collection Mode'!$C$4:$M$141,7,0)","v":0},{"$f":"VLOOKUP($B107,'[1]Collection Mode'!$C$4:$M$141,8,0)","v":136},{"$f":"VLOOKUP($B107,'[1]Collection Mode'!$C$4:$M$141,9,0)","v":0},{"$f":"VLOOKUP($B107,'[1]Collection Mode'!$C$4:$M$141,10,0)","v":32},{"$f":"VLOOKUP($B107,'[1]Collection Mode'!$C$4:$M$141,11,0)","v":61},0,0,0,0,0,0,0,0,0,0,0,0,0,0,0,0]
["IS1","NL3","CARE PLUS GROUP",171,6375,1,0,157,14,0,0,0,0,0,0,0,0,171,0,{"$f":"VLOOKUP($B108,'[1]Organisation Level'!$C$4:$N$141,11,0)","v":171},{"$f":"VLOOKUP($B108,'[1]Organisation Level'!$C$4:$N$141,12,0)","v":6375},1,0,{"$f":"VLOOKUP($B108,'[1]Organisation Level'!$C$4:$N$141,5,0)","v":157},{"$f":"VLOOKUP($B108,'[1]Organisation Level'!$C$4:$N$141,6,0)","v":14},{"$f":"VLOOKUP($B108,'[1]Organisation Level'!$C$4:$N$141,7,0)","v":0},{"$f":"VLOOKUP($B108,'[1]Organisation Level'!$C$4:$N$141,8,0)","v":0},{"$f":"VLOOKUP($B108,'[1]Organisation Level'!$C$4:$N$141,9,0)","v":0},{"$f":"VLOOKUP($B108,'[1]Organisation Level'!$C$4:$N$141,10,0)","v":0},{"$f":"VLOOKUP($B108,'[1]Collection Mode'!$C$4:$M$141,6,0)","v":0},{"$f":"VLOOKUP($B108,'[1]Collection Mode'!$C$4:$M$141,7,0)","v":0},{"$f":"VLOOKUP($B108,'[1]Collection Mode'!$C$4:$M$141,8,0)","v":0},{"$f":"VLOOKUP($B108,'[1]Collection Mode'!$C$4:$M$141,9,0)","v":0},{"$f":"VLOOKUP($B108,'[1]Collection Mode'!$C$4:$M$141,10,0)","v":171},{"$f":"VLOOKUP($B108,'[1]Collection Mode'!$C$4:$M$141,11,0)","v":0},0,0,0,0,0,0,0,0,0,0,0,0,0,0,0,0]
["IS1","NNF","CITY HEALTH CARE PARTNERSHIP CIC",2663,19929,0.96432594817874573,1.7273751408186256E-2,2320,248,35,18,28,14,0,0,449,0,2214,0,{"$f":"VLOOKUP($B109,'[1]Organisation Level'!$C$4:$N$141,11,0)","v":2663},{"$f":"VLOOKUP($B109,'[1]Organisation Level'!$C$4:$N$141,12,0)","v":19929},0.96432594817874573,1.7273751408186256E-2,{"$f":"VLOOKUP($B109,'[1]Organisation Level'!$C$4:$N$141,5,0)","v":2320},{"$f":"VLOOKUP($B109,'[1]Organisation Level'!$C$4:$N$141,6,0)","v":248},{"$f":"VLOOKUP($B109,'[1]Organisation Level'!$C$4:$N$141,7,0)","v":35},{"$f":"VLOOKUP($B109,'[1]Organisation Level'!$C$4:$N$141,8,0)","v":18},{"$f":"VLOOKUP($B109,'[1]Organisation Level'!$C$4:$N$141,9,0)","v":28},{"$f":"VLOOKUP($B109,'[1]Organisation Level'!$C$4:$N$141,10,0)","v":14},{"$f":"VLOOKUP($B109,'[1]Collection Mode'!$C$4:$M$141,6,0)","v":0},{"$f":"VLOOKUP($B109,'[1]Collection Mode'!$C$4:$M$141,7,0)","v":0},{"$f":"VLOOKUP($B109,'[1]Collection Mode'!$C$4:$M$141,8,0)","v":449},{"$f":"VLOOKUP($B109,'[1]Collection Mode'!$C$4:$M$141,9,0)","v":0},{"$f":"VLOOKUP($B109,'[1]Collection Mode'!$C$4:$M$141,10,0)","v":2214},{"$f":"VLOOKUP($B109,'[1]Collection Mode'!$C$4:$M$141,11,0)","v":0},0,0,0,0,0,0,0,0,0,0,0,0,0,0,0,0]
["IS1","NMG","CONNECT HEALTH LIMITED",2649,35778,0.84862212155530392,7.6632691581728959E-2,1829,419,155,72,131,43,2361,11,0,82,195,0,{"$f":"VLOOKUP($B110,'[1]Organisation Level'!$C$4:$N$141,11,0)","v":2649},{"$f":"VLOOKUP($B110,'[1]Organisation Level'!$C$4:$N$141,12,0)","v":35778},0.84862212155530392,7.6632691581728959E-2,{"$f":"VLOOKUP($B110,'[1]Organisation Level'!$C$4:$N$141,5,0)","v":1829},{"$f":"VLOOKUP($B110,'[1]Organisation Level'!$C$4:$N$141,6,0)","v":419},{"$f":"VLOOKUP($B110,'[1]Organisation Level'!$C$4:$N$141,7,0)","v":155},{"$f":"VLOOKUP($B110,'[1]Organisation Level'!$C$4:$N$141,8,0)","v":72},{"$f":"VLOOKUP($B110,'[1]Organisation Level'!$C$4:$N$141,9,0)","v":131},{"$f":"VLOOKUP($B110,'[1]Organisation Level'!$C$4:$N$141,10,0)","v":43},{"$f":"VLOOKUP($B110,'[1]Collection Mode'!$C$4:$M$141,6,0)","v":2361},{"$f":"VLOOKUP($B110,'[1]Collection Mode'!$C$4:$M$141,7,0)","v":11},{"$f":"VLOOKUP($B110,'[1]Collection Mode'!$C$4:$M$141,8,0)","v":0},{"$f":"VLOOKUP($B110,'[1]Collection Mode'!$C$4:$M$141,9,0)","v":82},{"$f":"VLOOKUP($B110,'[1]Collection Mode'!$C$4:$M$141,10,0)","v":195},{"$f":"VLOOKUP($B110,'[1]Collection Mode'!$C$4:$M$141,11,0)","v":0},0,0,0,0,0,0,0,0,0,0,0,0,0,0,0,0]
["IS1","NY6","CONNECT HEALTH PAIN SERVICES",108,2703,0.87037037037037035,7.407407407407407E-2,76,18,4,5,3,2,107,0,0,0,1,0,{"$f":"VLOOKUP($B111,'[1]Organisation Level'!$C$4:$N$141,11,0)","v":108},{"$f":"VLOOKUP($B111,'[1]Organisation Level'!$C$4:$N$141,12,0)","v":2703},0.87037037037037035,7.407407407407407E-2,{"$f":"VLOOKUP($B111,'[1]Organisation Level'!$C$4:$N$141,5,0)","v":76},{"$f":"VLOOKUP($B111,'[1]Organisation Level'!$C$4:$N$141,6,0)","v":18},{"$f":"VLOOKUP($B111,'[1]Organisation Level'!$C$4:$N$141,7,0)","v":4},{"$f":"VLOOKUP($B111,'[1]Organisation Level'!$C$4:$N$141,8,0)","v":5},{"$f":"VLOOKUP($B111,'[1]Organisation Level'!$C$4:$N$141,9,0)","v":3},{"$f":"VLOOKUP($B111,'[1]Organisation Level'!$C$4:$N$141,10,0)","v":2},{"$f":"VLOOKUP($B111,'[1]Collection Mode'!$C$4:$M$141,6,0)","v":107},{"$f":"VLOOKUP($B111,'[1]Collection Mode'!$C$4:$M$141,7,0)","v":0},{"$f":"VLOOKUP($B111,'[1]Collection Mode'!$C$4:$M$141,8,0)","v":0},{"$f":"VLOOKUP($B111,'[1]Collection Mode'!$C$4:$M$141,9,0)","v":0},{"$f":"VLOOKUP($B111,'[1]Collection Mode'!$C$4:$M$141,10,0)","v":1},{"$f":"VLOOKUP($B111,'[1]Collection Mode'!$C$4:$M$141,11,0)","v":0},0,0,0,0,0,0,0,0,0,0,0,0,0,0,0,0]
["IS1","DFY01","COTSWOLDS SURGICAL PARTNERS",85,175,1,0,85,0,0,0,0,0,0,85,0,0,0,0,{"$f":"VLOOKUP($B112,'[1]Organisation Level'!$C$4:$N$141,11,0)","v":85},{"$f":"VLOOKUP($B112,'[1]Organisation Level'!$C$4:$N$141,12,0)","v":175},1,0,{"$f":"VLOOKUP($B112,'[1]Organisation Level'!$C$4:$N$141,5,0)","v":85},{"$f":"VLOOKUP($B112,'[1]Organisation Level'!$C$4:$N$141,6,0)","v":0},{"$f":"VLOOKUP($B112,'[1]Organisation Level'!$C$4:$N$141,7,0)","v":0},{"$f":"VLOOKUP($B112,'[1]Organisation Level'!$C$4:$N$141,8,0)","v":0},{"$f":"VLOOKUP($B112,'[1]Organisation Level'!$C$4:$N$141,9,0)","v":0},{"$f":"VLOOKUP($B112,'[1]Organisation Level'!$C$4:$N$141,10,0)","v":0},{"$f":"VLOOKUP($B112,'[1]Collection Mode'!$C$4:$M$141,6,0)","v":0},{"$f":"VLOOKUP($B112,'[1]Collection Mode'!$C$4:$M$141,7,0)","v":85},{"$f":"VLOOKUP($B112,'[1]Collection Mode'!$C$4:$M$141,8,0)","v":0},{"$f":"VLOOKUP($B112,'[1]Collection Mode'!$C$4:$M$141,9,0)","v":0},{"$f":"VLOOKUP($B112,'[1]Collection Mode'!$C$4:$M$141,10,0)","v":0},{"$f":"VLOOKUP($B112,'[1]Collection Mode'!$C$4:$M$141,11,0)","v":0},0,0,0,0,0,0,0,0,0,0,0,0,0,0,0,0]
["IS1","NTV","CSH SURREY",269,20155,0.85130111524163565,0.10780669144981413,200,29,11,9,20,0,0,59,11,0,199,0,{"$f":"VLOOKUP($B113,'[1]Organisation Level'!$C$4:$N$141,11,0)","v":269},{"$f":"VLOOKUP($B113,'[1]Organisation Level'!$C$4:$N$141,12,0)","v":20155},0.85130111524163565,0.10780669144981413,{"$f":"VLOOKUP($B113,'[1]Organisation Level'!$C$4:$N$141,5,0)","v":200},{"$f":"VLOOKUP($B113,'[1]Organisation Level'!$C$4:$N$141,6,0)","v":29},{"$f":"VLOOKUP($B113,'[1]Organisation Level'!$C$4:$N$141,7,0)","v":11},{"$f":"VLOOKUP($B113,'[1]Organisation Level'!$C$4:$N$141,8,0)","v":9},{"$f":"VLOOKUP($B113,'[1]Organisation Level'!$C$4:$N$141,9,0)","v":20},{"$f":"VLOOKUP($B113,'[1]Organisation Level'!$C$4:$N$141,10,0)","v":0},{"$f":"VLOOKUP($B113,'[1]Collection Mode'!$C$4:$M$141,6,0)","v":0},{"$f":"VLOOKUP($B113,'[1]Collection Mode'!$C$4:$M$141,7,0)","v":59},{"$f":"VLOOKUP($B113,'[1]Collection Mode'!$C$4:$M$141,8,0)","v":11},{"$f":"VLOOKUP($B113,'[1]Collection Mode'!$C$4:$M$141,9,0)","v":0},{"$f":"VLOOKUP($B113,'[1]Collection Mode'!$C$4:$M$141,10,0)","v":199},{"$f":"VLOOKUP($B113,'[1]Collection Mode'!$C$4:$M$141,11,0)","v":0},0,0,0,0,0,0,0,0,0,0,0,0,0,0,0,0]
["IS1","8HE44","DR KERSHAWS HOSPICE",10,212,1,0,10,0,0,0,0,0,0,0,10,0,0,0,{"$f":"VLOOKUP($B114,'[1]Organisation Level'!$C$4:$N$141,11,0)","v":10},{"$f":"VLOOKUP($B114,'[1]Organisation Level'!$C$4:$N$141,12,0)","v":212},1,0,{"$f":"VLOOKUP($B114,'[1]Organisation Level'!$C$4:$N$141,5,0)","v":10},{"$f":"VLOOKUP($B114,'[1]Organisation Level'!$C$4:$N$141,6,0)","v":0},{"$f":"VLOOKUP($B114,'[1]Organisation Level'!$C$4:$N$141,7,0)","v":0},{"$f":"VLOOKUP($B114,'[1]Organisation Level'!$C$4:$N$141,8,0)","v":0},{"$f":"VLOOKUP($B114,'[1]Organisation Level'!$C$4:$N$141,9,0)","v":0},{"$f":"VLOOKUP($B114,'[1]Organisation Level'!$C$4:$N$141,10,0)","v":0},{"$f":"VLOOKUP($B114,'[1]Collection Mode'!$C$4:$M$141,6,0)","v":0},{"$f":"VLOOKUP($B114,'[1]Collection Mode'!$C$4:$M$141,7,0)","v":0},{"$f":"VLOOKUP($B114,'[1]Collection Mode'!$C$4:$M$141,8,0)","v":10},{"$f":"VLOOKUP($B114,'[1]Collection Mode'!$C$4:$M$141,9,0)","v":0},{"$f":"VLOOKUP($B114,'[1]Collection Mode'!$C$4:$M$141,10,0)","v":0},{"$f":"VLOOKUP($B114,'[1]Collection Mode'!$C$4:$M$141,11,0)","v":0},0,0,0,0,0,0,0,0,0,0,0,0,0,0,0,0]
["IS1","NAX","EAST COAST COMMUNITY HEALTHCARE C.I.C",187,7228,0.92513368983957223,1.6042780748663103E-2,142,31,10,1,2,1,0,0,100,1,86,0,{"$f":"VLOOKUP($B115,'[1]Organisation Level'!$C$4:$N$141,11,0)","v":187},{"$f":"VLOOKUP($B115,'[1]Organisation Level'!$C$4:$N$141,12,0)","v":7228},0.92513368983957223,1.6042780748663103E-2,{"$f":"VLOOKUP($B115,'[1]Organisation Level'!$C$4:$N$141,5,0)","v":142},{"$f":"VLOOKUP($B115,'[1]Organisation Level'!$C$4:$N$141,6,0)","v":31},{"$f":"VLOOKUP($B115,'[1]Organisation Level'!$C$4:$N$141,7,0)","v":10},{"$f":"VLOOKUP($B115,'[1]Organisation Level'!$C$4:$N$141,8,0)","v":1},{"$f":"VLOOKUP($B115,'[1]Organisation Level'!$C$4:$N$141,9,0)","v":2},{"$f":"VLOOKUP($B115,'[1]Organisation Level'!$C$4:$N$141,10,0)","v":1},{"$f":"VLOOKUP($B115,'[1]Collection Mode'!$C$4:$M$141,6,0)","v":0},{"$f":"VLOOKUP($B115,'[1]Collection Mode'!$C$4:$M$141,7,0)","v":0},{"$f":"VLOOKUP($B115,'[1]Collection Mode'!$C$4:$M$141,8,0)","v":100},{"$f":"VLOOKUP($B115,'[1]Collection Mode'!$C$4:$M$141,9,0)","v":1},{"$f":"VLOOKUP($B115,'[1]Collection Mode'!$C$4:$M$141,10,0)","v":86},{"$f":"VLOOKUP($B115,'[1]Collection Mode'!$C$4:$M$141,11,0)","v":0},0,0,0,0,0,0,0,0,0,0,0,0,0,0,0,0]
["IS1","DY6","EASTLEIGH SOUTHERN PARISHES NETWORK LTD",23,159,1,0,23,0,0,0,0,0,0,0,23,0,0,0,{"$f":"VLOOKUP($B116,'[1]Organisation Level'!$C$4:$N$141,11,0)","v":23},{"$f":"VLOOKUP($B116,'[1]Organisation Level'!$C$4:$N$141,12,0)","v":159},1,0,{"$f":"VLOOKUP($B116,'[1]Organisation Level'!$C$4:$N$141,5,0)","v":23},{"$f":"VLOOKUP($B116,'[1]Organisation Level'!$C$4:$N$141,6,0)","v":0},{"$f":"VLOOKUP($B116,'[1]Organisation Level'!$C$4:$N$141,7,0)","v":0},{"$f":"VLOOKUP($B116,'[1]Organisation Level'!$C$4:$N$141,8,0)","v":0},{"$f":"VLOOKUP($B116,'[1]Organisation Level'!$C$4:$N$141,9,0)","v":0},{"$f":"VLOOKUP($B116,'[1]Organisation Level'!$C$4:$N$141,10,0)","v":0},{"$f":"VLOOKUP($B116,'[1]Collection Mode'!$C$4:$M$141,6,0)","v":0},{"$f":"VLOOKUP($B116,'[1]Collection Mode'!$C$4:$M$141,7,0)","v":0},{"$f":"VLOOKUP($B116,'[1]Collection Mode'!$C$4:$M$141,8,0)","v":23},{"$f":"VLOOKUP($B116,'[1]Collection Mode'!$C$4:$M$141,9,0)","v":0},{"$f":"VLOOKUP($B116,'[1]Collection Mode'!$C$4:$M$141,10,0)","v":0},{"$f":"VLOOKUP($B116,'[1]Collection Mode'!$C$4:$M$141,11,0)","v":0},0,0,0,0,0,0,0,0,0,0,0,0,0,0,0,0]
["IS1","NDJ","FIRST COMMUNITY HEALTH AND CARE CIC",184,6086,0.97826086956521741,1.6304347826086956E-2,169,11,1,1,2,0,0,0,43,0,141,0,{"$f":"VLOOKUP($B117,'[1]Organisation Level'!$C$4:$N$141,11,0)","v":184},{"$f":"VLOOKUP($B117,'[1]Organisation Level'!$C$4:$N$141,12,0)","v":6086},0.97826086956521741,1.6304347826086956E-2,{"$f":"VLOOKUP($B117,'[1]Organisation Level'!$C$4:$N$141,5,0)","v":169},{"$f":"VLOOKUP($B117,'[1]Organisation Level'!$C$4:$N$141,6,0)","v":11},{"$f":"VLOOKUP($B117,'[1]Organisation Level'!$C$4:$N$141,7,0)","v":1},{"$f":"VLOOKUP($B117,'[1]Organisation Level'!$C$4:$N$141,8,0)","v":1},{"$f":"VLOOKUP($B117,'[1]Organisation Level'!$C$4:$N$141,9,0)","v":2},{"$f":"VLOOKUP($B117,'[1]Organisation Level'!$C$4:$N$141,10,0)","v":0},{"$f":"VLOOKUP($B117,'[1]Collection Mode'!$C$4:$M$141,6,0)","v":0},{"$f":"VLOOKUP($B117,'[1]Collection Mode'!$C$4:$M$141,7,0)","v":0},{"$f":"VLOOKUP($B117,'[1]Collection Mode'!$C$4:$M$141,8,0)","v":43},{"$f":"VLOOKUP($B117,'[1]Collection Mode'!$C$4:$M$141,9,0)","v":0},{"$f":"VLOOKUP($B117,'[1]Collection Mode'!$C$4:$M$141,10,0)","v":141},{"$f":"VLOOKUP($B117,'[1]Collection Mode'!$C$4:$M$141,11,0)","v":0},0,0,0,0,0,0,0,0,0,0,0,0,0,0,0,0]
["IS1","NDK","FRESHNEY PELHAM CARE LIMITED",31,35,1,0,29,2,0,0,0,0,0,0,31,0,0,0,{"$f":"VLOOKUP($B118,'[1]Organisation Level'!$C$4:$N$141,11,0)","v":31},{"$f":"VLOOKUP($B118,'[1]Organisation Level'!$C$4:$N$141,12,0)","v":35},1,0,{"$f":"VLOOKUP($B118,'[1]Organisation Level'!$C$4:$N$141,5,0)","v":29},{"$f":"VLOOKUP($B118,'[1]Organisation Level'!$C$4:$N$141,6,0)","v":2},{"$f":"VLOOKUP($B118,'[1]Organisation Level'!$C$4:$N$141,7,0)","v":0},{"$f":"VLOOKUP($B118,'[1]Organisation Level'!$C$4:$N$141,8,0)","v":0},{"$f":"VLOOKUP($B118,'[1]Organisation Level'!$C$4:$N$141,9,0)","v":0},{"$f":"VLOOKUP($B118,'[1]Organisation Level'!$C$4:$N$141,10,0)","v":0},{"$f":"VLOOKUP($B118,'[1]Collection Mode'!$C$4:$M$141,6,0)","v":0},{"$f":"VLOOKUP($B118,'[1]Collection Mode'!$C$4:$M$141,7,0)","v":0},{"$f":"VLOOKUP($B118,'[1]Collection Mode'!$C$4:$M$141,8,0)","v":31},{"$f":"VLOOKUP($B118,'[1]Collection Mode'!$C$4:$M$141,9,0)","v":0},{"$f":"VLOOKUP($B118,'[1]Collection Mode'!$C$4:$M$141,10,0)","v":0},{"$f":"VLOOKUP($B118,'[1]Collection Mode'!$C$4:$M$141,11,0)","v":0},0,0,0,0,0,0,0,0,0,0,0,0,0,0,0,0]
["IS1","NWV01","GP CARE UK",450,1086,0.98666666666666669,6.6666666666666671E-3,372,72,3,2,1,0,0,0,450,0,0,0,{"$f":"VLOOKUP($B119,'[1]Organisation Level'!$C$4:$N$141,11,0)","v":450},{"$f":"VLOOKUP($B119,'[1]Organisation Level'!$C$4:$N$141,12,0)","v":1086},0.98666666666666669,6.6666666666666671E-3,{"$f":"VLOOKUP($B119,'[1]Organisation Level'!$C$4:$N$141,5,0)","v":372},{"$f":"VLOOKUP($B119,'[1]Organisation Level'!$C$4:$N$141,6,0)","v":72},{"$f":"VLOOKUP($B119,'[1]Organisation Level'!$C$4:$N$141,7,0)","v":3},{"$f":"VLOOKUP($B119,'[1]Organisation Level'!$C$4:$N$141,8,0)","v":2},{"$f":"VLOOKUP($B119,'[1]Organisation Level'!$C$4:$N$141,9,0)","v":1},{"$f":"VLOOKUP($B119,'[1]Organisation Level'!$C$4:$N$141,10,0)","v":0},{"$f":"VLOOKUP($B119,'[1]Collection Mode'!$C$4:$M$141,6,0)","v":0},{"$f":"VLOOKUP($B119,'[1]Collection Mode'!$C$4:$M$141,7,0)","v":0},{"$f":"VLOOKUP($B119,'[1]Collection Mode'!$C$4:$M$141,8,0)","v":450},{"$f":"VLOOKUP($B119,'[1]Collection Mode'!$C$4:$M$141,9,0)","v":0},{"$f":"VLOOKUP($B119,'[1]Collection Mode'!$C$4:$M$141,10,0)","v":0},{"$f":"VLOOKUP($B119,'[1]Collection Mode'!$C$4:$M$141,11,0)","v":0},0,0,0,0,0,0,0,0,0,0,0,0,0,0,0,0]
["IS1","NQT","HCRG CARE LTD",2301,82407,0.93698392003476749,2.8248587570621469E-2,1775,381,70,37,28,10,106,0,748,0,1447,0,{"$f":"VLOOKUP($B120,'[1]Organisation Level'!$C$4:$N$141,11,0)","v":2301},{"$f":"VLOOKUP($B120,'[1]Organisation Level'!$C$4:$N$141,12,0)","v":82407},0.93698392003476749,2.8248587570621469E-2,{"$f":"VLOOKUP($B120,'[1]Organisation Level'!$C$4:$N$141,5,0)","v":1775},{"$f":"VLOOKUP($B120,'[1]Organisation Level'!$C$4:$N$141,6,0)","v":381},{"$f":"VLOOKUP($B120,'[1]Organisation Level'!$C$4:$N$141,7,0)","v":70},{"$f":"VLOOKUP($B120,'[1]Organisation Level'!$C$4:$N$141,8,0)","v":37},{"$f":"VLOOKUP($B120,'[1]Organisation Level'!$C$4:$N$141,9,0)","v":28},{"$f":"VLOOKUP($B120,'[1]Organisation Level'!$C$4:$N$141,10,0)","v":10},{"$f":"VLOOKUP($B120,'[1]Collection Mode'!$C$4:$M$141,6,0)","v":106},{"$f":"VLOOKUP($B120,'[1]Collection Mode'!$C$4:$M$141,7,0)","v":0},{"$f":"VLOOKUP($B120,'[1]Collection Mode'!$C$4:$M$141,8,0)","v":748},{"$f":"VLOOKUP($B120,'[1]Collection Mode'!$C$4:$M$141,9,0)","v":0},{"$f":"VLOOKUP($B120,'[1]Collection Mode'!$C$4:$M$141,10,0)","v":1447},{"$f":"VLOOKUP($B120,'[1]Collection Mode'!$C$4:$M$141,11,0)","v":0},0,0,0,0,0,0,0,0,0,0,0,0,0,0,0,0]
["IS1","NDA","HCRG CARE SERVICES LTD",100,8651,0.99,0.01,93,6,0,1,0,0,4,0,29,0,67,0,{"$f":"VLOOKUP($B121,'[1]Organisation Level'!$C$4:$N$141,11,0)","v":100},{"$f":"VLOOKUP($B121,'[1]Organisation Level'!$C$4:$N$141,12,0)","v":8651},0.99,0.01,{"$f":"VLOOKUP($B121,'[1]Organisation Level'!$C$4:$N$141,5,0)","v":93},{"$f":"VLOOKUP($B121,'[1]Organisation Level'!$C$4:$N$141,6,0)","v":6},{"$f":"VLOOKUP($B121,'[1]Organisation Level'!$C$4:$N$141,7,0)","v":0},{"$f":"VLOOKUP($B121,'[1]Organisation Level'!$C$4:$N$141,8,0)","v":1},{"$f":"VLOOKUP($B121,'[1]Organisation Level'!$C$4:$N$141,9,0)","v":0},{"$f":"VLOOKUP($B121,'[1]Organisation Level'!$C$4:$N$141,10,0)","v":0},{"$f":"VLOOKUP($B121,'[1]Collection Mode'!$C$4:$M$141,6,0)","v":4},{"$f":"VLOOKUP($B121,'[1]Collection Mode'!$C$4:$M$141,7,0)","v":0},{"$f":"VLOOKUP($B121,'[1]Collection Mode'!$C$4:$M$141,8,0)","v":29},{"$f":"VLOOKUP($B121,'[1]Collection Mode'!$C$4:$M$141,9,0)","v":0},{"$f":"VLOOKUP($B121,'[1]Collection Mode'!$C$4:$M$141,10,0)","v":67},{"$f":"VLOOKUP($B121,'[1]Collection Mode'!$C$4:$M$141,11,0)","v":0},0,0,0,0,0,0,0,0,0,0,0,0,0,0,0,0]
["IS1","NHA","INSIDEVUE LIMITED",91,988,0.89010989010989006,2.197802197802198E-2,54,27,4,2,0,4,91,0,0,0,0,0,{"$f":"VLOOKUP($B122,'[1]Organisation Level'!$C$4:$N$141,11,0)","v":91},{"$f":"VLOOKUP($B122,'[1]Organisation Level'!$C$4:$N$141,12,0)","v":988},0.89010989010989006,2.197802197802198E-2,{"$f":"VLOOKUP($B122,'[1]Organisation Level'!$C$4:$N$141,5,0)","v":54},{"$f":"VLOOKUP($B122,'[1]Organisation Level'!$C$4:$N$141,6,0)","v":27},{"$f":"VLOOKUP($B122,'[1]Organisation Level'!$C$4:$N$141,7,0)","v":4},{"$f":"VLOOKUP($B122,'[1]Organisation Level'!$C$4:$N$141,8,0)","v":2},{"$f":"VLOOKUP($B122,'[1]Organisation Level'!$C$4:$N$141,9,0)","v":0},{"$f":"VLOOKUP($B122,'[1]Organisation Level'!$C$4:$N$141,10,0)","v":4},{"$f":"VLOOKUP($B122,'[1]Collection Mode'!$C$4:$M$141,6,0)","v":91},{"$f":"VLOOKUP($B122,'[1]Collection Mode'!$C$4:$M$141,7,0)","v":0},{"$f":"VLOOKUP($B122,'[1]Collection Mode'!$C$4:$M$141,8,0)","v":0},{"$f":"VLOOKUP($B122,'[1]Collection Mode'!$C$4:$M$141,9,0)","v":0},{"$f":"VLOOKUP($B122,'[1]Collection Mode'!$C$4:$M$141,10,0)","v":0},{"$f":"VLOOKUP($B122,'[1]Collection Mode'!$C$4:$M$141,11,0)","v":0},0,0,0,0,0,0,0,0,0,0,0,0,0,0,0,0]
["IS1","NLE01","LANCASTER HOUSE CONSULTING DIAGNOSTICS SURGICAL LTD HQ",355,355,0.9971830985915493,0,205,149,1,0,0,0,0,0,355,0,0,0,{"$f":"VLOOKUP($B123,'[1]Organisation Level'!$C$4:$N$141,11,0)","v":355},{"$f":"VLOOKUP($B123,'[1]Organisation Level'!$C$4:$N$141,12,0)","v":355},0.9971830985915493,0,{"$f":"VLOOKUP($B123,'[1]Organisation Level'!$C$4:$N$141,5,0)","v":205},{"$f":"VLOOKUP($B123,'[1]Organisation Level'!$C$4:$N$141,6,0)","v":149},{"$f":"VLOOKUP($B123,'[1]Organisation Level'!$C$4:$N$141,7,0)","v":1},{"$f":"VLOOKUP($B123,'[1]Organisation Level'!$C$4:$N$141,8,0)","v":0},{"$f":"VLOOKUP($B123,'[1]Organisation Level'!$C$4:$N$141,9,0)","v":0},{"$f":"VLOOKUP($B123,'[1]Organisation Level'!$C$4:$N$141,10,0)","v":0},{"$f":"VLOOKUP($B123,'[1]Collection Mode'!$C$4:$M$141,6,0)","v":0},{"$f":"VLOOKUP($B123,'[1]Collection Mode'!$C$4:$M$141,7,0)","v":0},{"$f":"VLOOKUP($B123,'[1]Collection Mode'!$C$4:$M$141,8,0)","v":355},{"$f":"VLOOKUP($B123,'[1]Collection Mode'!$C$4:$M$141,9,0)","v":0},{"$f":"VLOOKUP($B123,'[1]Collection Mode'!$C$4:$M$141,10,0)","v":0},{"$f":"VLOOKUP($B123,'[1]Collection Mode'!$C$4:$M$141,11,0)","v":0},0,0,0,0,0,0,0,0,0,0,0,0,0,0,0,0]
["IS1","NR5","LIVEWELL SOUTHWEST",694,7138,0.97406340057636887,8.6455331412103754E-3,609,67,7,1,5,5,190,41,0,0,62,401,{"$f":"VLOOKUP($B124,'[1]Organisation Level'!$C$4:$N$141,11,0)","v":694},{"$f":"VLOOKUP($B124,'[1]Organisation Level'!$C$4:$N$141,12,0)","v":7138},0.97406340057636887,8.6455331412103754E-3,{"$f":"VLOOKUP($B124,'[1]Organisation Level'!$C$4:$N$141,5,0)","v":609},{"$f":"VLOOKUP($B124,'[1]Organisation Level'!$C$4:$N$141,6,0)","v":67},{"$f":"VLOOKUP($B124,'[1]Organisation Level'!$C$4:$N$141,7,0)","v":7},{"$f":"VLOOKUP($B124,'[1]Organisation Level'!$C$4:$N$141,8,0)","v":1},{"$f":"VLOOKUP($B124,'[1]Organisation Level'!$C$4:$N$141,9,0)","v":5},{"$f":"VLOOKUP($B124,'[1]Organisation Level'!$C$4:$N$141,10,0)","v":5},{"$f":"VLOOKUP($B124,'[1]Collection Mode'!$C$4:$M$141,6,0)","v":190},{"$f":"VLOOKUP($B124,'[1]Collection Mode'!$C$4:$M$141,7,0)","v":41},{"$f":"VLOOKUP($B124,'[1]Collection Mode'!$C$4:$M$141,8,0)","v":0},{"$f":"VLOOKUP($B124,'[1]Collection Mode'!$C$4:$M$141,9,0)","v":0},{"$f":"VLOOKUP($B124,'[1]Collection Mode'!$C$4:$M$141,10,0)","v":62},{"$f":"VLOOKUP($B124,'[1]Collection Mode'!$C$4:$M$141,11,0)","v":401},0,0,0,0,0,0,0,0,0,0,0,0,0,0,0,0]
["IS1","DAY","LLR PATIENT CARE LOCALLY",781,6079,0.95262483994878366,2.8169014084507043E-2,653,91,14,12,10,1,26,120,203,0,432,0,{"$f":"VLOOKUP($B125,'[1]Organisation Level'!$C$4:$N$141,11,0)","v":781},{"$f":"VLOOKUP($B125,'[1]Organisation Level'!$C$4:$N$141,12,0)","v":6079},0.95262483994878366,2.8169014084507043E-2,{"$f":"VLOOKUP($B125,'[1]Organisation Level'!$C$4:$N$141,5,0)","v":653},{"$f":"VLOOKUP($B125,'[1]Organisation Level'!$C$4:$N$141,6,0)","v":91},{"$f":"VLOOKUP($B125,'[1]Organisation Level'!$C$4:$N$141,7,0)","v":14},{"$f":"VLOOKUP($B125,'[1]Organisation Level'!$C$4:$N$141,8,0)","v":12},{"$f":"VLOOKUP($B125,'[1]Organisation Level'!$C$4:$N$141,9,0)","v":10},{"$f":"VLOOKUP($B125,'[1]Organisation Level'!$C$4:$N$141,10,0)","v":1},{"$f":"VLOOKUP($B125,'[1]Collection Mode'!$C$4:$M$141,6,0)","v":26},{"$f":"VLOOKUP($B125,'[1]Collection Mode'!$C$4:$M$141,7,0)","v":120},{"$f":"VLOOKUP($B125,'[1]Collection Mode'!$C$4:$M$141,8,0)","v":203},{"$f":"VLOOKUP($B125,'[1]Collection Mode'!$C$4:$M$141,9,0)","v":0},{"$f":"VLOOKUP($B125,'[1]Collection Mode'!$C$4:$M$141,10,0)","v":432},{"$f":"VLOOKUP($B125,'[1]Collection Mode'!$C$4:$M$141,11,0)","v":0},0,0,0,0,0,0,0,0,0,0,0,0,0,0,0,0]
["IS1","NL8","LOCALA COMMUNITY PARTNERSHIPS CIC",1179,24731,0.97285835453774383,1.3570822731128074E-2,1011,136,13,10,6,3,0,0,0,0,1179,0,{"$f":"VLOOKUP($B126,'[1]Organisation Level'!$C$4:$N$141,11,0)","v":1179},{"$f":"VLOOKUP($B126,'[1]Organisation Level'!$C$4:$N$141,12,0)","v":24731},0.97285835453774383,1.3570822731128074E-2,{"$f":"VLOOKUP($B126,'[1]Organisation Level'!$C$4:$N$141,5,0)","v":1011},{"$f":"VLOOKUP($B126,'[1]Organisation Level'!$C$4:$N$141,6,0)","v":136},{"$f":"VLOOKUP($B126,'[1]Organisation Level'!$C$4:$N$141,7,0)","v":13},{"$f":"VLOOKUP($B126,'[1]Organisation Level'!$C$4:$N$141,8,0)","v":10},{"$f":"VLOOKUP($B126,'[1]Organisation Level'!$C$4:$N$141,9,0)","v":6},{"$f":"VLOOKUP($B126,'[1]Organisation Level'!$C$4:$N$141,10,0)","v":3},{"$f":"VLOOKUP($B126,'[1]Collection Mode'!$C$4:$M$141,6,0)","v":0},{"$f":"VLOOKUP($B126,'[1]Collection Mode'!$C$4:$M$141,7,0)","v":0},{"$f":"VLOOKUP($B126,'[1]Collection Mode'!$C$4:$M$141,8,0)","v":0},{"$f":"VLOOKUP($B126,'[1]Collection Mode'!$C$4:$M$141,9,0)","v":0},{"$f":"VLOOKUP($B126,'[1]Collection Mode'!$C$4:$M$141,10,0)","v":1179},{"$f":"VLOOKUP($B126,'[1]Collection Mode'!$C$4:$M$141,11,0)","v":0},0,0,0,0,0,0,0,0,0,0,0,0,0,0,0,0]
["IS1","NCE","MASTERCALL HEALTHCARE",364,19589,0.86538461538461542,8.7912087912087919E-2,265,50,15,7,25,2,364,0,0,0,0,0,{"$f":"VLOOKUP($B127,'[1]Organisation Level'!$C$4:$N$141,11,0)","v":364},{"$f":"VLOOKUP($B127,'[1]Organisation Level'!$C$4:$N$141,12,0)","v":19589},0.86538461538461542,8.7912087912087919E-2,{"$f":"VLOOKUP($B127,'[1]Organisation Level'!$C$4:$N$141,5,0)","v":265},{"$f":"VLOOKUP($B127,'[1]Organisation Level'!$C$4:$N$141,6,0)","v":50},{"$f":"VLOOKUP($B127,'[1]Organisation Level'!$C$4:$N$141,7,0)","v":15},{"$f":"VLOOKUP($B127,'[1]Organisation Level'!$C$4:$N$141,8,0)","v":7},{"$f":"VLOOKUP($B127,'[1]Organisation Level'!$C$4:$N$141,9,0)","v":25},{"$f":"VLOOKUP($B127,'[1]Organisation Level'!$C$4:$N$141,10,0)","v":2},{"$f":"VLOOKUP($B127,'[1]Collection Mode'!$C$4:$M$141,6,0)","v":364},{"$f":"VLOOKUP($B127,'[1]Collection Mode'!$C$4:$M$141,7,0)","v":0},{"$f":"VLOOKUP($B127,'[1]Collection Mode'!$C$4:$M$141,8,0)","v":0},{"$f":"VLOOKUP($B127,'[1]Collection Mode'!$C$4:$M$141,9,0)","v":0},{"$f":"VLOOKUP($B127,'[1]Collection Mode'!$C$4:$M$141,10,0)","v":0},{"$f":"VLOOKUP($B127,'[1]Collection Mode'!$C$4:$M$141,11,0)","v":0},0,0,0,0,0,0,0,0,0,0,0,0,0,0,0,0]
["IS1","NQ7","MEDWAY COMMUNITY HEALTHCARE",1332,10862,0.95645645645645649,2.4024024024024024E-2,1148,126,24,14,18,2,0,0,66,0,1266,0,{"$f":"VLOOKUP($B128,'[1]Organisation Level'!$C$4:$N$141,11,0)","v":1332},{"$f":"VLOOKUP($B128,'[1]Organisation Level'!$C$4:$N$141,12,0)","v":10862},0.95645645645645649,2.4024024024024024E-2,{"$f":"VLOOKUP($B128,'[1]Organisation Level'!$C$4:$N$141,5,0)","v":1148},{"$f":"VLOOKUP($B128,'[1]Organisation Level'!$C$4:$N$141,6,0)","v":126},{"$f":"VLOOKUP($B128,'[1]Organisation Level'!$C$4:$N$141,7,0)","v":24},{"$f":"VLOOKUP($B128,'[1]Organisation Level'!$C$4:$N$141,8,0)","v":14},{"$f":"VLOOKUP($B128,'[1]Organisation Level'!$C$4:$N$141,9,0)","v":18},{"$f":"VLOOKUP($B128,'[1]Organisation Level'!$C$4:$N$141,10,0)","v":2},{"$f":"VLOOKUP($B128,'[1]Collection Mode'!$C$4:$M$141,6,0)","v":0},{"$f":"VLOOKUP($B128,'[1]Collection Mode'!$C$4:$M$141,7,0)","v":0},{"$f":"VLOOKUP($B128,'[1]Collection Mode'!$C$4:$M$141,8,0)","v":66},{"$f":"VLOOKUP($B128,'[1]Collection Mode'!$C$4:$M$141,9,0)","v":0},{"$f":"VLOOKUP($B128,'[1]Collection Mode'!$C$4:$M$141,10,0)","v":1266},{"$f":"VLOOKUP($B128,'[1]Collection Mode'!$C$4:$M$141,11,0)","v":0},0,0,0,0,0,0,0,0,0,0,0,0,0,0,0,0]
["IS1","ARA","MID HAMPSHIRE HEALTHCARE LIMITED",2178,2178,0.94444444444444442,2.7548209366391185E-2,1842,215,61,24,36,0,0,0,0,0,2178,0,{"$f":"VLOOKUP($B129,'[1]Organisation Level'!$C$4:$N$141,11,0)","v":2178},{"$f":"VLOOKUP($B129,'[1]Organisation Level'!$C$4:$N$141,12,0)","v":2178},0.94444444444444442,2.7548209366391185E-2,{"$f":"VLOOKUP($B129,'[1]Organisation Level'!$C$4:$N$141,5,0)","v":1842},{"$f":"VLOOKUP($B129,'[1]Organisation Level'!$C$4:$N$141,6,0)","v":215},{"$f":"VLOOKUP($B129,'[1]Organisation Level'!$C$4:$N$141,7,0)","v":61},{"$f":"VLOOKUP($B129,'[1]Organisation Level'!$C$4:$N$141,8,0)","v":24},{"$f":"VLOOKUP($B129,'[1]Organisation Level'!$C$4:$N$141,9,0)","v":36},{"$f":"VLOOKUP($B129,'[1]Organisation Level'!$C$4:$N$141,10,0)","v":0},{"$f":"VLOOKUP($B129,'[1]Collection Mode'!$C$4:$M$141,6,0)","v":0},{"$f":"VLOOKUP($B129,'[1]Collection Mode'!$C$4:$M$141,7,0)","v":0},{"$f":"VLOOKUP($B129,'[1]Collection Mode'!$C$4:$M$141,8,0)","v":0},{"$f":"VLOOKUP($B129,'[1]Collection Mode'!$C$4:$M$141,9,0)","v":0},{"$f":"VLOOKUP($B129,'[1]Collection Mode'!$C$4:$M$141,10,0)","v":2178},{"$f":"VLOOKUP($B129,'[1]Collection Mode'!$C$4:$M$141,11,0)","v":0},0,0,0,0,0,0,0,0,0,0,0,0,0,0,0,0]
["IS1","NPH","MILTON KEYNES URGENT CARE SERVICES CIC HQ",521,9136,0.81957773512476007,8.6372360844529747E-2,271,156,43,21,24,6,0,0,0,0,521,0,{"$f":"VLOOKUP($B130,'[1]Organisation Level'!$C$4:$N$141,11,0)","v":521},{"$f":"VLOOKUP($B130,'[1]Organisation Level'!$C$4:$N$141,12,0)","v":9136},0.81957773512476007,8.6372360844529747E-2,{"$f":"VLOOKUP($B130,'[1]Organisation Level'!$C$4:$N$141,5,0)","v":271},{"$f":"VLOOKUP($B130,'[1]Organisation Level'!$C$4:$N$141,6,0)","v":156},{"$f":"VLOOKUP($B130,'[1]Organisation Level'!$C$4:$N$141,7,0)","v":43},{"$f":"VLOOKUP($B130,'[1]Organisation Level'!$C$4:$N$141,8,0)","v":21},{"$f":"VLOOKUP($B130,'[1]Organisation Level'!$C$4:$N$141,9,0)","v":24},{"$f":"VLOOKUP($B130,'[1]Organisation Level'!$C$4:$N$141,10,0)","v":6},{"$f":"VLOOKUP($B130,'[1]Collection Mode'!$C$4:$M$141,6,0)","v":0},{"$f":"VLOOKUP($B130,'[1]Collection Mode'!$C$4:$M$141,7,0)","v":0},{"$f":"VLOOKUP($B130,'[1]Collection Mode'!$C$4:$M$141,8,0)","v":0},{"$f":"VLOOKUP($B130,'[1]Collection Mode'!$C$4:$M$141,9,0)","v":0},{"$f":"VLOOKUP($B130,'[1]Collection Mode'!$C$4:$M$141,10,0)","v":521},{"$f":"VLOOKUP($B130,'[1]Collection Mode'!$C$4:$M$141,11,0)","v":0},0,0,0,0,0,0,0,0,0,0,0,0,0,0,0,0]
["IS1","NHX","NORTH HAMPSHIRE URGENT CARE",103,8417,0.970873786407767,9.7087378640776691E-3,77,23,2,1,0,0,0,0,103,0,0,0,{"$f":"VLOOKUP($B131,'[1]Organisation Level'!$C$4:$N$141,11,0)","v":103},{"$f":"VLOOKUP($B131,'[1]Organisation Level'!$C$4:$N$141,12,0)","v":8417},0.970873786407767,9.7087378640776691E-3,{"$f":"VLOOKUP($B131,'[1]Organisation Level'!$C$4:$N$141,5,0)","v":77},{"$f":"VLOOKUP($B131,'[1]Organisation Level'!$C$4:$N$141,6,0)","v":23},{"$f":"VLOOKUP($B131,'[1]Organisation Level'!$C$4:$N$141,7,0)","v":2},{"$f":"VLOOKUP($B131,'[1]Organisation Level'!$C$4:$N$141,8,0)","v":1},{"$f":"VLOOKUP($B131,'[1]Organisation Level'!$C$4:$N$141,9,0)","v":0},{"$f":"VLOOKUP($B131,'[1]Organisation Level'!$C$4:$N$141,10,0)","v":0},{"$f":"VLOOKUP($B131,'[1]Collection Mode'!$C$4:$M$141,6,0)","v":0},{"$f":"VLOOKUP($B131,'[1]Collection Mode'!$C$4:$M$141,7,0)","v":0},{"$f":"VLOOKUP($B131,'[1]Collection Mode'!$C$4:$M$141,8,0)","v":103},{"$f":"VLOOKUP($B131,'[1]Collection Mode'!$C$4:$M$141,9,0)","v":0},{"$f":"VLOOKUP($B131,'[1]Collection Mode'!$C$4:$M$141,10,0)","v":0},{"$f":"VLOOKUP($B131,'[1]Collection Mode'!$C$4:$M$141,11,0)","v":0},0,0,0,0,0,0,0,0,0,0,0,0,0,0,0,0]
["IS1","NR3","NOTTINGHAM CITYCARE PARTNERSHIP",1597,53189,0.84909204758922985,8.641202254226675E-2,1068,288,96,56,82,7,1371,0,222,0,4,0,{"$f":"VLOOKUP($B132,'[1]Organisation Level'!$C$4:$N$141,11,0)","v":1597},{"$f":"VLOOKUP($B132,'[1]Organisation Level'!$C$4:$N$141,12,0)","v":53189},0.84909204758922985,8.641202254226675E-2,{"$f":"VLOOKUP($B132,'[1]Organisation Level'!$C$4:$N$141,5,0)","v":1068},{"$f":"VLOOKUP($B132,'[1]Organisation Level'!$C$4:$N$141,6,0)","v":288},{"$f":"VLOOKUP($B132,'[1]Organisation Level'!$C$4:$N$141,7,0)","v":96},{"$f":"VLOOKUP($B132,'[1]Organisation Level'!$C$4:$N$141,8,0)","v":56},{"$f":"VLOOKUP($B132,'[1]Organisation Level'!$C$4:$N$141,9,0)","v":82},{"$f":"VLOOKUP($B132,'[1]Organisation Level'!$C$4:$N$141,10,0)","v":7},{"$f":"VLOOKUP($B132,'[1]Collection Mode'!$C$4:$M$141,6,0)","v":1371},{"$f":"VLOOKUP($B132,'[1]Collection Mode'!$C$4:$M$141,7,0)","v":0},{"$f":"VLOOKUP($B132,'[1]Collection Mode'!$C$4:$M$141,8,0)","v":222},{"$f":"VLOOKUP($B132,'[1]Collection Mode'!$C$4:$M$141,9,0)","v":0},{"$f":"VLOOKUP($B132,'[1]Collection Mode'!$C$4:$M$141,10,0)","v":4},{"$f":"VLOOKUP($B132,'[1]Collection Mode'!$C$4:$M$141,11,0)","v":0},0,0,0,0,0,0,0,0,0,0,0,0,0,0,0,0]
["IS1","NQH","NOVUS HEALTH LTD",769,6118,0.95448634590377113,1.950585175552666E-2,644,90,18,7,8,2,0,0,95,0,674,0,{"$f":"VLOOKUP($B133,'[1]Organisation Level'!$C$4:$N$141,11,0)","v":769},{"$f":"VLOOKUP($B133,'[1]Organisation Level'!$C$4:$N$141,12,0)","v":6118},0.95448634590377113,1.950585175552666E-2,{"$f":"VLOOKUP($B133,'[1]Organisation Level'!$C$4:$N$141,5,0)","v":644},{"$f":"VLOOKUP($B133,'[1]Organisation Level'!$C$4:$N$141,6,0)","v":90},{"$f":"VLOOKUP($B133,'[1]Organisation Level'!$C$4:$N$141,7,0)","v":18},{"$f":"VLOOKUP($B133,'[1]Organisation Level'!$C$4:$N$141,8,0)","v":7},{"$f":"VLOOKUP($B133,'[1]Organisation Level'!$C$4:$N$141,9,0)","v":8},{"$f":"VLOOKUP($B133,'[1]Organisation Level'!$C$4:$N$141,10,0)","v":2},{"$f":"VLOOKUP($B133,'[1]Collection Mode'!$C$4:$M$141,6,0)","v":0},{"$f":"VLOOKUP($B133,'[1]Collection Mode'!$C$4:$M$141,7,0)","v":0},{"$f":"VLOOKUP($B133,'[1]Collection Mode'!$C$4:$M$141,8,0)","v":95},{"$f":"VLOOKUP($B133,'[1]Collection Mode'!$C$4:$M$141,9,0)","v":0},{"$f":"VLOOKUP($B133,'[1]Collection Mode'!$C$4:$M$141,10,0)","v":674},{"$f":"VLOOKUP($B133,'[1]Collection Mode'!$C$4:$M$141,11,0)","v":0},0,0,0,0,0,0,0,0,0,0,0,0,0,0,0,0]
["IS1","DCF","OZONE HEALTH",153,2740,0.76470588235294112,6.535947712418301E-2,98,19,15,7,3,11,0,0,0,0,153,0,{"$f":"VLOOKUP($B134,'[1]Organisation Level'!$C$4:$N$141,11,0)","v":153},{"$f":"VLOOKUP($B134,'[1]Organisation Level'!$C$4:$N$141,12,0)","v":2740},0.76470588235294112,6.535947712418301E-2,{"$f":"VLOOKUP($B134,'[1]Organisation Level'!$C$4:$N$141,5,0)","v":98},{"$f":"VLOOKUP($B134,'[1]Organisation Level'!$C$4:$N$141,6,0)","v":19},{"$f":"VLOOKUP($B134,'[1]Organisation Level'!$C$4:$N$141,7,0)","v":15},{"$f":"VLOOKUP($B134,'[1]Organisation Level'!$C$4:$N$141,8,0)","v":7},{"$f":"VLOOKUP($B134,'[1]Organisation Level'!$C$4:$N$141,9,0)","v":3},{"$f":"VLOOKUP($B134,'[1]Organisation Level'!$C$4:$N$141,10,0)","v":11},{"$f":"VLOOKUP($B134,'[1]Collection Mode'!$C$4:$M$141,6,0)","v":0},{"$f":"VLOOKUP($B134,'[1]Collection Mode'!$C$4:$M$141,7,0)","v":0},{"$f":"VLOOKUP($B134,'[1]Collection Mode'!$C$4:$M$141,8,0)","v":0},{"$f":"VLOOKUP($B134,'[1]Collection Mode'!$C$4:$M$141,9,0)","v":0},{"$f":"VLOOKUP($B134,'[1]Collection Mode'!$C$4:$M$141,10,0)","v":153},{"$f":"VLOOKUP($B134,'[1]Collection Mode'!$C$4:$M$141,11,0)","v":0},0,0,0,0,0,0,0,0,0,0,0,0,0,0,0,0]
["IS1","NLF","PENNINE MUSCULOSKELETAL PARTNERSHIP (ICATS)",499,6453,0.95991983967935868,2.2044088176352707E-2,434,45,5,3,8,4,499,0,0,0,0,0,{"$f":"VLOOKUP($B135,'[1]Organisation Level'!$C$4:$N$141,11,0)","v":499},{"$f":"VLOOKUP($B135,'[1]Organisation Level'!$C$4:$N$141,12,0)","v":6453},0.95991983967935868,2.2044088176352707E-2,{"$f":"VLOOKUP($B135,'[1]Organisation Level'!$C$4:$N$141,5,0)","v":434},{"$f":"VLOOKUP($B135,'[1]Organisation Level'!$C$4:$N$141,6,0)","v":45},{"$f":"VLOOKUP($B135,'[1]Organisation Level'!$C$4:$N$141,7,0)","v":5},{"$f":"VLOOKUP($B135,'[1]Organisation Level'!$C$4:$N$141,8,0)","v":3},{"$f":"VLOOKUP($B135,'[1]Organisation Level'!$C$4:$N$141,9,0)","v":8},{"$f":"VLOOKUP($B135,'[1]Organisation Level'!$C$4:$N$141,10,0)","v":4},{"$f":"VLOOKUP($B135,'[1]Collection Mode'!$C$4:$M$141,6,0)","v":499},{"$f":"VLOOKUP($B135,'[1]Collection Mode'!$C$4:$M$141,7,0)","v":0},{"$f":"VLOOKUP($B135,'[1]Collection Mode'!$C$4:$M$141,8,0)","v":0},{"$f":"VLOOKUP($B135,'[1]Collection Mode'!$C$4:$M$141,9,0)","v":0},{"$f":"VLOOKUP($B135,'[1]Collection Mode'!$C$4:$M$141,10,0)","v":0},{"$f":"VLOOKUP($B135,'[1]Collection Mode'!$C$4:$M$141,11,0)","v":0},0,0,0,0,0,0,0,0,0,0,0,0,0,0,0,0]
["IS1","NTP","PRACTICE PLUS GROUP HOLDINGS",795,44167,0.88553459119496858,8.1761006289308172E-2,566,138,22,26,39,4,0,0,38,0,757,0,{"$f":"VLOOKUP($B136,'[1]Organisation Level'!$C$4:$N$141,11,0)","v":795},{"$f":"VLOOKUP($B136,'[1]Organisation Level'!$C$4:$N$141,12,0)","v":44167},0.88553459119496858,8.1761006289308172E-2,{"$f":"VLOOKUP($B136,'[1]Organisation Level'!$C$4:$N$141,5,0)","v":566},{"$f":"VLOOKUP($B136,'[1]Organisation Level'!$C$4:$N$141,6,0)","v":138},{"$f":"VLOOKUP($B136,'[1]Organisation Level'!$C$4:$N$141,7,0)","v":22},{"$f":"VLOOKUP($B136,'[1]Organisation Level'!$C$4:$N$141,8,0)","v":26},{"$f":"VLOOKUP($B136,'[1]Organisation Level'!$C$4:$N$141,9,0)","v":39},{"$f":"VLOOKUP($B136,'[1]Organisation Level'!$C$4:$N$141,10,0)","v":4},{"$f":"VLOOKUP($B136,'[1]Collection Mode'!$C$4:$M$141,6,0)","v":0},{"$f":"VLOOKUP($B136,'[1]Collection Mode'!$C$4:$M$141,7,0)","v":0},{"$f":"VLOOKUP($B136,'[1]Collection Mode'!$C$4:$M$141,8,0)","v":38},{"$f":"VLOOKUP($B136,'[1]Collection Mode'!$C$4:$M$141,9,0)","v":0},{"$f":"VLOOKUP($B136,'[1]Collection Mode'!$C$4:$M$141,10,0)","v":757},{"$f":"VLOOKUP($B136,'[1]Collection Mode'!$C$4:$M$141,11,0)","v":0},0,0,0,0,0,0,0,0,0,0,0,0,0,0,0,0]
["IS1","D0V7H","PROCARE COMMUNITY SERVICES LTD",3,3,"*","*","*","*","*","*","*","*","*","*","*","*","*","*",{"$f":"VLOOKUP($B137,'[1]Organisation Level'!$C$4:$N$141,11,0)","v":3},{"$f":"VLOOKUP($B137,'[1]Organisation Level'!$C$4:$N$141,12,0)","v":3},{"$f":"SUM(X137+Y137)/SUM(X137:AC137)","v":1},{"$f":"SUM(AA137+AB137)/SUM(X137:AC137)","v":0},{"$f":"VLOOKUP($B137,'[1]Organisation Level'!$C$4:$N$141,5,0)","v":3},{"$f":"VLOOKUP($B137,'[1]Organisation Level'!$C$4:$N$141,6,0)","v":0},{"$f":"VLOOKUP($B137,'[1]Organisation Level'!$C$4:$N$141,7,0)","v":0},{"$f":"VLOOKUP($B137,'[1]Organisation Level'!$C$4:$N$141,8,0)","v":0},{"$f":"VLOOKUP($B137,'[1]Organisation Level'!$C$4:$N$141,9,0)","v":0},{"$f":"VLOOKUP($B137,'[1]Organisation Level'!$C$4:$N$141,10,0)","v":0},{"$f":"VLOOKUP($B137,'[1]Collection Mode'!$C$4:$M$141,6,0)","v":0},{"$f":"VLOOKUP($B137,'[1]Collection Mode'!$C$4:$M$141,7,0)","v":0},{"$f":"VLOOKUP($B137,'[1]Collection Mode'!$C$4:$M$141,8,0)","v":0},{"$f":"VLOOKUP($B137,'[1]Collection Mode'!$C$4:$M$141,9,0)","v":3},{"$f":"VLOOKUP($B137,'[1]Collection Mode'!$C$4:$M$141,10,0)","v":0},{"$f":"VLOOKUP($B137,'[1]Collection Mode'!$C$4:$M$141,11,0)","v":0},{"$f":"IFERROR(D137-T137,0)","v":0},{"$f":"IFERROR(E137-U137,0)","v":0},{"$f":"IFERROR(F137-V137,0)","v":0},{"$f":"IFERROR(G137-W137,0)","v":0},{"$f":"IFERROR(H137-X137,0)","v":0},{"$f":"IFERROR(I137-Y137,0)","v":0},{"$f":"IFERROR(J137-Z137,0)","v":0},{"$f":"IFERROR(K137-AA137,0)","v":0},{"$f":"IFERROR(L137-AB137,0)","v":0},{"$f":"IFERROR(M137-AC137,0)","v":0},{"$f":"IFERROR(N137-AD137,0)","v":0},{"$f":"IFERROR(O137-AE137,0)","v":0},{"$f":"IFERROR(P137-AF137,0)","v":0},{"$f":"IFERROR(Q137-AG137,0)","v":0},{"$f":"IFERROR(R137-AH137,0)","v":0},{"$f":"IFERROR(S137-AI137,0)","v":0}]
["IS1","NQA","PROVIDE",968,14900,0.97933884297520657,8.2644628099173556E-3,887,61,11,6,2,1,0,0,0,0,968,0,{"$f":"VLOOKUP($B138,'[1]Organisation Level'!$C$4:$N$141,11,0)","v":968},{"$f":"VLOOKUP($B138,'[1]Organisation Level'!$C$4:$N$141,12,0)","v":14900},0.97933884297520657,8.2644628099173556E-3,{"$f":"VLOOKUP($B138,'[1]Organisation Level'!$C$4:$N$141,5,0)","v":887},{"$f":"VLOOKUP($B138,'[1]Organisation Level'!$C$4:$N$141,6,0)","v":61},{"$f":"VLOOKUP($B138,'[1]Organisation Level'!$C$4:$N$141,7,0)","v":11},{"$f":"VLOOKUP($B138,'[1]Organisation Level'!$C$4:$N$141,8,0)","v":6},{"$f":"VLOOKUP($B138,'[1]Organisation Level'!$C$4:$N$141,9,0)","v":2},{"$f":"VLOOKUP($B138,'[1]Organisation Level'!$C$4:$N$141,10,0)","v":1},{"$f":"VLOOKUP($B138,'[1]Collection Mode'!$C$4:$M$141,6,0)","v":0},{"$f":"VLOOKUP($B138,'[1]Collection Mode'!$C$4:$M$141,7,0)","v":0},{"$f":"VLOOKUP($B138,'[1]Collection Mode'!$C$4:$M$141,8,0)","v":0},{"$f":"VLOOKUP($B138,'[1]Collection Mode'!$C$4:$M$141,9,0)","v":0},{"$f":"VLOOKUP($B138,'[1]Collection Mode'!$C$4:$M$141,10,0)","v":968},{"$f":"VLOOKUP($B138,'[1]Collection Mode'!$C$4:$M$141,11,0)","v":0},0,0,0,0,0,0,0,0,0,0,0,0,0,0,0,0]
["IS1","NLX","SIRONA CARE & HEALTH",198,45447,0.93939393939393945,3.0303030303030304E-2,166,20,6,1,5,0,0,44,143,3,8,0,{"$f":"VLOOKUP($B139,'[1]Organisation Level'!$C$4:$N$141,11,0)","v":198},{"$f":"VLOOKUP($B139,'[1]Organisation Level'!$C$4:$N$141,12,0)","v":45447},0.93939393939393945,3.0303030303030304E-2,{"$f":"VLOOKUP($B139,'[1]Organisation Level'!$C$4:$N$141,5,0)","v":166},{"$f":"VLOOKUP($B139,'[1]Organisation Level'!$C$4:$N$141,6,0)","v":20},{"$f":"VLOOKUP($B139,'[1]Organisation Level'!$C$4:$N$141,7,0)","v":6},{"$f":"VLOOKUP($B139,'[1]Organisation Level'!$C$4:$N$141,8,0)","v":1},{"$f":"VLOOKUP($B139,'[1]Organisation Level'!$C$4:$N$141,9,0)","v":5},{"$f":"VLOOKUP($B139,'[1]Organisation Level'!$C$4:$N$141,10,0)","v":0},{"$f":"VLOOKUP($B139,'[1]Collection Mode'!$C$4:$M$141,6,0)","v":0},{"$f":"VLOOKUP($B139,'[1]Collection Mode'!$C$4:$M$141,7,0)","v":44},{"$f":"VLOOKUP($B139,'[1]Collection Mode'!$C$4:$M$141,8,0)","v":143},{"$f":"VLOOKUP($B139,'[1]Collection Mode'!$C$4:$M$141,9,0)","v":3},{"$f":"VLOOKUP($B139,'[1]Collection Mode'!$C$4:$M$141,10,0)","v":8},{"$f":"VLOOKUP($B139,'[1]Collection Mode'!$C$4:$M$141,11,0)","v":0},0,0,0,0,0,0,0,0,0,0,0,0,0,0,0,0]
["IS1","NDL","SUFFOLK GP FEDERATION",986,27148,0.9391480730223124,4.2596348884381338E-2,809,117,18,23,19,0,986,0,0,0,0,0,{"$f":"VLOOKUP($B140,'[1]Organisation Level'!$C$4:$N$141,11,0)","v":986},{"$f":"VLOOKUP($B140,'[1]Organisation Level'!$C$4:$N$141,12,0)","v":27148},0.9391480730223124,4.2596348884381338E-2,{"$f":"VLOOKUP($B140,'[1]Organisation Level'!$C$4:$N$141,5,0)","v":809},{"$f":"VLOOKUP($B140,'[1]Organisation Level'!$C$4:$N$141,6,0)","v":117},{"$f":"VLOOKUP($B140,'[1]Organisation Level'!$C$4:$N$141,7,0)","v":18},{"$f":"VLOOKUP($B140,'[1]Organisation Level'!$C$4:$N$141,8,0)","v":23},{"$f":"VLOOKUP($B140,'[1]Organisation Level'!$C$4:$N$141,9,0)","v":19},{"$f":"VLOOKUP($B140,'[1]Organisation Level'!$C$4:$N$141,10,0)","v":0},{"$f":"VLOOKUP($B140,'[1]Collection Mode'!$C$4:$M$141,6,0)","v":986},{"$f":"VLOOKUP($B140,'[1]Collection Mode'!$C$4:$M$141,7,0)","v":0},{"$f":"VLOOKUP($B140,'[1]Collection Mode'!$C$4:$M$141,8,0)","v":0},{"$f":"VLOOKUP($B140,'[1]Collection Mode'!$C$4:$M$141,9,0)","v":0},{"$f":"VLOOKUP($B140,'[1]Collection Mode'!$C$4:$M$141,10,0)","v":0},{"$f":"VLOOKUP($B140,'[1]Collection Mode'!$C$4:$M$141,11,0)","v":0},0,0,0,0,0,0,0,0,0,0,0,0,0,0,0,0]
["IS1","NYG","SUSSEX COMMUNITY DERMATOLOGY SERVICE",341,10994,0.99706744868035191,0,194,146,1,0,0,0,0,0,0,0,341,0,{"$f":"VLOOKUP($B141,'[1]Organisation Level'!$C$4:$N$141,11,0)","v":341},{"$f":"VLOOKUP($B141,'[1]Organisation Level'!$C$4:$N$141,12,0)","v":10994},0.99706744868035191,0,{"$f":"VLOOKUP($B141,'[1]Organisation Level'!$C$4:$N$141,5,0)","v":194},{"$f":"VLOOKUP($B141,'[1]Organisation Level'!$C$4:$N$141,6,0)","v":146},{"$f":"VLOOKUP($B141,'[1]Organisation Level'!$C$4:$N$141,7,0)","v":1},{"$f":"VLOOKUP($B141,'[1]Organisation Level'!$C$4:$N$141,8,0)","v":0},{"$f":"VLOOKUP($B141,'[1]Organisation Level'!$C$4:$N$141,9,0)","v":0},{"$f":"VLOOKUP($B141,'[1]Organisation Level'!$C$4:$N$141,10,0)","v":0},{"$f":"VLOOKUP($B141,'[1]Collection Mode'!$C$4:$M$141,6,0)","v":0},{"$f":"VLOOKUP($B141,'[1]Collection Mode'!$C$4:$M$141,7,0)","v":0},{"$f":"VLOOKUP($B141,'[1]Collection Mode'!$C$4:$M$141,8,0)","v":0},{"$f":"VLOOKUP($B141,'[1]Collection Mode'!$C$4:$M$141,9,0)","v":0},{"$f":"VLOOKUP($B141,'[1]Collection Mode'!$C$4:$M$141,10,0)","v":341},{"$f":"VLOOKUP($B141,'[1]Collection Mode'!$C$4:$M$141,11,0)","v":0},0,0,0,0,0,0,0,0,0,0,0,0,0,0,0,0]
["IS1","NGX","TAURUS HEALTHCARE LTD",376,3312,0.95478723404255317,2.3936170212765957E-2,292,67,8,6,3,0,376,0,0,0,0,0,{"$f":"VLOOKUP($B142,'[1]Organisation Level'!$C$4:$N$141,11,0)","v":376},{"$f":"VLOOKUP($B142,'[1]Organisation Level'!$C$4:$N$141,12,0)","v":3312},0.95478723404255317,2.3936170212765957E-2,{"$f":"VLOOKUP($B142,'[1]Organisation Level'!$C$4:$N$141,5,0)","v":292},{"$f":"VLOOKUP($B142,'[1]Organisation Level'!$C$4:$N$141,6,0)","v":67},{"$f":"VLOOKUP($B142,'[1]Organisation Level'!$C$4:$N$141,7,0)","v":8},{"$f":"VLOOKUP($B142,'[1]Organisation Level'!$C$4:$N$141,8,0)","v":6},{"$f":"VLOOKUP($B142,'[1]Organisation Level'!$C$4:$N$141,9,0)","v":3},{"$f":"VLOOKUP($B142,'[1]Organisation Level'!$C$4:$N$141,10,0)","v":0},{"$f":"VLOOKUP($B142,'[1]Collection Mode'!$C$4:$M$141,6,0)","v":376},{"$f":"VLOOKUP($B142,'[1]Collection Mode'!$C$4:$M$141,7,0)","v":0},{"$f":"VLOOKUP($B142,'[1]Collection Mode'!$C$4:$M$141,8,0)","v":0},{"$f":"VLOOKUP($B142,'[1]Collection Mode'!$C$4:$M$141,9,0)","v":0},{"$f":"VLOOKUP($B142,'[1]Collection Mode'!$C$4:$M$141,10,0)","v":0},{"$f":"VLOOKUP($B142,'[1]Collection Mode'!$C$4:$M$141,11,0)","v":0},0,0,0,0,0,0,0,0,0,0,0,0,0,0,0,0]
["IS1","NN1","THE ROYAL HOSPITAL FOR NEURO-DISABILITY",10,11,1,0,2,8,0,0,0,0,0,0,10,0,0,0,{"$f":"VLOOKUP($B143,'[1]Organisation Level'!$C$4:$N$141,11,0)","v":10},{"$f":"VLOOKUP($B143,'[1]Organisation Level'!$C$4:$N$141,12,0)","v":11},1,0,{"$f":"VLOOKUP($B143,'[1]Organisation Level'!$C$4:$N$141,5,0)","v":2},{"$f":"VLOOKUP($B143,'[1]Organisation Level'!$C$4:$N$141,6,0)","v":8},{"$f":"VLOOKUP($B143,'[1]Organisation Level'!$C$4:$N$141,7,0)","v":0},{"$f":"VLOOKUP($B143,'[1]Organisation Level'!$C$4:$N$141,8,0)","v":0},{"$f":"VLOOKUP($B143,'[1]Organisation Level'!$C$4:$N$141,9,0)","v":0},{"$f":"VLOOKUP($B143,'[1]Organisation Level'!$C$4:$N$141,10,0)","v":0},{"$f":"VLOOKUP($B143,'[1]Collection Mode'!$C$4:$M$141,6,0)","v":0},{"$f":"VLOOKUP($B143,'[1]Collection Mode'!$C$4:$M$141,7,0)","v":0},{"$f":"VLOOKUP($B143,'[1]Collection Mode'!$C$4:$M$141,8,0)","v":10},{"$f":"VLOOKUP($B143,'[1]Collection Mode'!$C$4:$M$141,9,0)","v":0},{"$f":"VLOOKUP($B143,'[1]Collection Mode'!$C$4:$M$141,10,0)","v":0},{"$f":"VLOOKUP($B143,'[1]Collection Mode'!$C$4:$M$141,11,0)","v":0},0,0,0,0,0,0,0,0,0,0,0,0,0,0,0,0]
["IS1","VLN99","TURNING POINT - BIRCHWOOD NURSING HOME",2,16,"*","*","*","*","*","*","*","*","*","*","*","*","*","*",{"$f":"VLOOKUP($B144,'[1]Organisation Level'!$C$4:$N$141,11,0)","v":2},{"$f":"VLOOKUP($B144,'[1]Organisation Level'!$C$4:$N$141,12,0)","v":16},0.5,0,{"$f":"VLOOKUP($B144,'[1]Organisation Level'!$C$4:$N$141,5,0)","v":1},{"$f":"VLOOKUP($B144,'[1]Organisation Level'!$C$4:$N$141,6,0)","v":0},{"$f":"VLOOKUP($B144,'[1]Organisation Level'!$C$4:$N$141,7,0)","v":1},{"$f":"VLOOKUP($B144,'[1]Organisation Level'!$C$4:$N$141,8,0)","v":0},{"$f":"VLOOKUP($B144,'[1]Organisation Level'!$C$4:$N$141,9,0)","v":0},{"$f":"VLOOKUP($B144,'[1]Organisation Level'!$C$4:$N$141,10,0)","v":0},{"$f":"VLOOKUP($B144,'[1]Collection Mode'!$C$4:$M$141,6,0)","v":0},{"$f":"VLOOKUP($B144,'[1]Collection Mode'!$C$4:$M$141,7,0)","v":0},{"$f":"VLOOKUP($B144,'[1]Collection Mode'!$C$4:$M$141,8,0)","v":2},{"$f":"VLOOKUP($B144,'[1]Collection Mode'!$C$4:$M$141,9,0)","v":0},{"$f":"VLOOKUP($B144,'[1]Collection Mode'!$C$4:$M$141,10,0)","v":0},{"$f":"VLOOKUP($B144,'[1]Collection Mode'!$C$4:$M$141,11,0)","v":0},0,0,0,0,0,0,0,0,0,0,0,0,0,0,0,0]
["IS1","NNV","YOUR HEALTHCARE",275,950,0.84,1.8181818181818181E-2,132,99,27,4,1,12,0,0,35,0,240,0,{"$f":"VLOOKUP($B145,'[1]Organisation Level'!$C$4:$N$141,11,0)","v":275},{"$f":"VLOOKUP($B145,'[1]Organisation Level'!$C$4:$N$141,12,0)","v":950},0.84,1.8181818181818181E-2,{"$f":"VLOOKUP($B145,'[1]Organisation Level'!$C$4:$N$141,5,0)","v":132},{"$f":"VLOOKUP($B145,'[1]Organisation Level'!$C$4:$N$141,6,0)","v":99},{"$f":"VLOOKUP($B145,'[1]Organisation Level'!$C$4:$N$141,7,0)","v":27},{"$f":"VLOOKUP($B145,'[1]Organisation Level'!$C$4:$N$141,8,0)","v":4},{"$f":"VLOOKUP($B145,'[1]Organisation Level'!$C$4:$N$141,9,0)","v":1},{"$f":"VLOOKUP($B145,'[1]Organisation Level'!$C$4:$N$141,10,0)","v":12},{"$f":"VLOOKUP($B145,'[1]Collection Mode'!$C$4:$M$141,6,0)","v":0},{"$f":"VLOOKUP($B145,'[1]Collection Mode'!$C$4:$M$141,7,0)","v":0},{"$f":"VLOOKUP($B145,'[1]Collection Mode'!$C$4:$M$141,8,0)","v":35},{"$f":"VLOOKUP($B145,'[1]Collection Mode'!$C$4:$M$141,9,0)","v":0},{"$f":"VLOOKUP($B145,'[1]Collection Mode'!$C$4:$M$141,10,0)","v":240},{"$f":"VLOOKUP($B145,'[1]Collection Mode'!$C$4:$M$141,11,0)","v":0},0,0,0,0,0,0,0,0,0,0,0,0,0,0,0,0]

{"sheet":"Categories","index":4,"n_rows":520,"n_cols":32,"rows_kept":520,"cut":false,"hidden":false,"merged":[[2,24,3,24],[2,25,3,25],[2,26,2,31],[2,4,3,4],[2,14,3,14],[2,15,3,15],[2,16,3,16],[2,17,2,22],[2,23,3,23],[2,7,3,7],[2,8,2,13],[2,0,3,0],[2,1,3,1],[2,2,3,2],[2,3,3,3],[2,5,3,5],[2,6,3,6]]}
[]
[]
["ICB Code","Trust Code","Trust Name","Service Category Provided","Vlookup","Total Responses","Percentage Positive","Percentage Negative","Breakdown of Responses",null,null,null,null,null,"Total Responses","Percentage Positive","Percentage Negative","Breakdown of Responses",null,null,null,null,null,"Total Responses","Percentage Positive","Percentage Negative","Breakdown of Responses"]
[null,null,null,null,null,null,null,null,"Very Good","Good","Neither Good nor Poor","Poor","Very Poor","Don't Know",null,null,null,"Very Good","Good","Neither Good nor Poor","Poor","Very Poor","Don't Know",null,null,null,"Very Good","Good","Neither Good nor Poor","Poor","Very Poor","Don't Know"]
[null,null,null,"England (including Independent Sector Providers)",null,107096,0.94158511989243299,2.7517367595428402E-2,87011,13829,2552,1323,1624,757,{"$f":"SUM(O8:O520)","v":107096},{"$f":"SUM(R5+S5)/SUM(R5:W5)","v":0.94158511989243299},{"$f":"SUM(U5+V5)/SUM(R5:W5)","v":2.7517367595428402E-2},{"$f":"SUM(R8:R520)","v":87011},13829,2552,1323,1624,757,{"$f":"IFERROR(F5-O5,0)","v":0},{"$f":"IFERROR(G5-P5,0)","v":0},{"$f":"IFERROR(H5-Q5,0)","v":0},{"$f":"IFERROR(I5-R5,0)","v":0},{"$f":"IFERROR(J5-S5,0)","v":0},{"$f":"IFERROR(K5-T5,0)","v":0},{"$f":"IFERROR(L5-U5,0)","v":0},{"$f":"IFERROR(M5-V5,0)","v":0},{"$f":"IFERROR(N5-W5,0)","v":0}]
[null,null,null,"England (excluding Independent Sector Providers)",null,80855,0.94718941314699157,2.3511223795683631E-2,66493,10092,1788,868,1033,581,{"$f":"SUM(O8:O410)","v":80855},0.94718941314699157,2.3511223795683631E-2,{"$f":"SUM(R8:R410)","v":66493},10092,1788,868,1033,581,0,0,0,0,0,0,0,0,0]
[null,null,null,"Selection (excluding suppressed data)",null,{"$f":"SUBTOTAL(9,F8:F994)","v":107096},{"$f":"IFERROR((I7+J7)/SUM(I7:N7), \"-\")","v":0.94151793694549768},{"$f":"IFERROR((L7+M7)/SUM(I7:N7), \"-\")","v":2.7519310558947775E-2},{"$f":"SUBTOTAL(9,I8:I994)","v":86324},13749,2538,1314,1611,753,{"$f":"SUMIF(F8:F520,\"<>*\",O8:O520)","v":107096},0.94151793694549768,2.7519310558947775E-2,{"$f":"SUMIF(I8:I520,\"<>*\",R8:R520)","v":86324},13749,2538,1314,1611,753,0,0,0,0,0,0,0,0,0]
["QE1","RXL","BLACKPOOL TEACHING HOSPITALS NHS FOUNDATION TRUST","Children & Family Services",{"$f":"B8&D8","v":"RXLChildren & Family Services"},287,0.89895470383275267,3.1358885017421602E-2,246,12,16,0,9,4,{"$f":"VLOOKUP($E8,'[1]Organisation Categories'!$G$4:$O$831,8,0)","v":287},{"$f":"SUM(R8+S8)/SUM(R8:W8)","v":0.89895470383275267},{"$f":"SUM(U8+V8)/SUM(R8:W8)","v":3.1358885017421602E-2},{"$f":"VLOOKUP($E8,'[1]Organisation Categories'!$G$4:$O$831,2,0)","v":246},{"$f":"VLOOKUP($E8,'[1]Organisation Categories'!$G$4:$O$831,3,0)","v":12},{"$f":"VLOOKUP($E8,'[1]Organisation Categories'!$G$4:$O$831,4,0)","v":16},{"$f":"VLOOKUP($E8,'[1]Organisation Categories'!$G$4:$O$831,5,0)","v":0},{"$f":"VLOOKUP($E8,'[1]Organisation Categories'!$G$4:$O$831,6,0)","v":9},{"$f":"VLOOKUP($E8,'[1]Organisation Categories'!$G$4:$O$831,7,0)","v":4},{"$f":"IFERROR(F8-O8,0)","v":0},{"$f":"IFERROR(G8-P8,0)","v":0},0,0,0,0,0,0,0]
["QE1","RXL","BLACKPOOL TEACHING HOSPITALS NHS FOUNDATION TRUST","Community Inpatient Services",{"$f":"B9&D9","v":"RXLCommunity Inpatient Services"},43,0.97674418604651159,2.3255813953488372E-2,31,11,0,1,0,0,{"$f":"VLOOKUP($E9,'[1]Organisation Categories'!$G$4:$O$831,8,0)","v":43},{"$f":"SUM(R9+S9)/SUM(R9:W9)","v":0.97674418604651159},{"$f":"SUM(U9+V9)/SUM(R9:W9)","v":2.3255813953488372E-2},{"$f":"VLOOKUP($E9,'[1]Organisation Categories'!$G$4:$O$831,2,0)","v":31},{"$f":"VLOOKUP($E9,'[1]Organisation Categories'!$G$4:$O$831,3,0)","v":11},{"$f":"VLOOKUP($E9,'[1]Organisation Categories'!$G$4:$O$831,4,0)","v":0},{"$f":"VLOOKUP($E9,'[1]Organisation Categories'!$G$4:$O$831,5,0)","v":1},{"$f":"VLOOKUP($E9,'[1]Organisation Categories'!$G$4:$O$831,6,0)","v":0},{"$f":"VLOOKUP($E9,'[1]Organisation Categories'!$G$4:$O$831,7,0)","v":0},{"$f":"IFERROR(F9-O9,0)","v":0},{"$f":"IFERROR(G9-P9,0)","v":0},{"$f":"IFERROR(H9-Q9,0)","v":0},{"$f":"IFERROR(I9-R9,0)","v":0},{"$f":"IFERROR(J9-S9,0)","v":0},{"$f":"IFERROR(K9-T9,0)","v":0},{"$f":"IFERROR(L9-U9,0)","v":0},{"$f":"IFERROR(M9-V9,0)","v":0},{"$f":"IFERROR(N9-W9,0)","v":0}]
["QE1","RXL","BLACKPOOL TEACHING HOSPITALS NHS FOUNDATION TRUST","Community Nursing Services","RXLCommunity Nursing Services",497,0.9617706237424547,8.0482897384305842E-3,436,42,7,1,3,8,{"$f":"VLOOKUP($E10,'[1]Organisation Categories'!$G$4:$O$831,8,0)","v":497},0.9617706237424547,8.0482897384305842E-3,{"$f":"VLOOKUP($E10,'[1]Organisation Categories'!$G$4:$O$831,2,0)","v":436},{"$f":"VLOOKUP($E10,'[1]Organisation Categories'!$G$4:$O$831,3,0)","v":42},{"$f":"VLOOKUP($E10,'[1]Organisation Categories'!$G$4:$O$831,4,0)","v":7},{"$f":"VLOOKUP($E10,'[1]Organisation Categories'!$G$4:$O$831,5,0)","v":1},{"$f":"VLOOKUP($E10,'[1]Organisation Categories'!$G$4:$O$831,6,0)","v":3},{"$f":"VLOOKUP($E10,'[1]Organisation Categories'!$G$4:$O$831,7,0)","v":8},0,0,0,0,0,0,0,0,0]
["QE1","RXL","BLACKPOOL TEACHING HOSPITALS NHS FOUNDATION TRUST","Rehabilitation & Therapy Services","RXLRehabilitation & Therapy Services",383,0.97389033942558745,1.0443864229765013E-2,347,26,5,2,2,1,{"$f":"VLOOKUP($E11,'[1]Organisation Categories'!$G$4:$O$831,8,0)","v":383},0.97389033942558745,1.0443864229765013E-2,{"$f":"VLOOKUP($E11,'[1]Organisation Categories'!$G$4:$O$831,2,0)","v":347},{"$f":"VLOOKUP($E11,'[1]Organisation Categories'!$G$4:$O$831,3,0)","v":26},{"$f":"VLOOKUP($E11,'[1]Organisation Categories'!$G$4:$O$831,4,0)","v":5},{"$f":"VLOOKUP($E11,'[1]Organisation Categories'!$G$4:$O$831,5,0)","v":2},{"$f":"VLOOKUP($E11,'[1]Organisation Categories'!$G$4:$O$831,6,0)","v":2},{"$f":"VLOOKUP($E11,'[1]Organisation Categories'!$G$4:$O$831,7,0)","v":1},0,0,0,0,0,0,0,0,0]
["QE1","RXL","BLACKPOOL TEACHING HOSPITALS NHS FOUNDATION TRUST","Specialist Services","RXLSpecialist Services",435,0.97241379310344822,1.1494252873563218E-2,390,33,5,2,3,2,{"$f":"VLOOKUP($E12,'[1]Organisation Categories'!$G$4:$O$831,8,0)","v":435},0.97241379310344822,1.1494252873563218E-2,{"$f":"VLOOKUP($E12,'[1]Organisation Categories'!$G$4:$O$831,2,0)","v":390},{"$f":"VLOOKUP($E12,'[1]Organisation Categories'!$G$4:$O$831,3,0)","v":33},{"$f":"VLOOKUP($E12,'[1]Organisation Categories'!$G$4:$O$831,4,0)","v":5},{"$f":"VLOOKUP($E12,'[1]Organisation Categories'!$G$4:$O$831,5,0)","v":2},{"$f":"VLOOKUP($E12,'[1]Organisation Categories'!$G$4:$O$831,6,0)","v":3},{"$f":"VLOOKUP($E12,'[1]Organisation Categories'!$G$4:$O$831,7,0)","v":2},0,0,0,0,0,0,0,0,0]
["QE1","RXR","EAST LANCASHIRE HOSPITALS NHS TRUST","Children & Family Services","RXRChildren & Family Services",32,1,0,"*","*","*","*","*","*",{"$f":"VLOOKUP($E13,'[1]Organisation Categories'!$G$4:$O$831,8,0)","v":32},1,0,{"$f":"VLOOKUP($E13,'[1]Organisation Categories'!$G$4:$O$831,2,0)","v":30},{"$f":"VLOOKUP($E13,'[1]Organisation Categories'!$G$4:$O$831,3,0)","v":2},{"$f":"VLOOKUP($E13,'[1]Organisation Categories'!$G$4:$O$831,4,0)","v":0},{"$f":"VLOOKUP($E13,'[1]Organisation Categories'!$G$4:$O$831,5,0)","v":0},{"$f":"VLOOKUP($E13,'[1]Organisation Categories'!$G$4:$O$831,6,0)","v":0},{"$f":"VLOOKUP($E13,'[1]Organisation Categories'!$G$4:$O$831,7,0)","v":0},0,0,0,0,0,0,0,0,0]
["QE1","RXR","EAST LANCASHIRE HOSPITALS NHS TRUST","Community Healthcare Other","RXRCommunity Healthcare Other",59,0.89830508474576276,0,47,6,1,0,0,5,{"$f":"VLOOKUP($E14,'[1]Organisation Categories'!$G$4:$O$831,8,0)","v":59},0.89830508474576276,0,{"$f":"VLOOKUP($E14,'[1]Organisation Categories'!$G$4:$O$831,2,0)","v":47},{"$f":"VLOOKUP($E14,'[1]Organisation Categories'!$G$4:$O$831,3,0)","v":6},{"$f":"VLOOKUP($E14,'[1]Organisation Categories'!$G$4:$O$831,4,0)","v":1},{"$f":"VLOOKUP($E14,'[1]Organisation Categories'!$G$4:$O$831,5,0)","v":0},{"$f":"VLOOKUP($E14,'[1]Organisation Categories'!$G$4:$O$831,6,0)","v":0},{"$f":"VLOOKUP($E14,'[1]Organisation Categories'!$G$4:$O$831,7,0)","v":5},0,0,0,0,0,0,0,0,0]
["QE1","RXR","EAST LANCASHIRE HOSPITALS NHS TRUST","Community Inpatient Services","RXRCommunity Inpatient Services",73,0.98630136986301364,1.3698630136986301E-2,62,10,0,0,1,0,{"$f":"VLOOKUP($E15,'[1]Organisation Categories'!$G$4:$O$831,8,0)","v":73},0.98630136986301364,1.3698630136986301E-2,{"$f":"VLOOKUP($E15,'[1]Organisation Categories'!$G$4:$O$831,2,0)","v":62},{"$f":"VLOOKUP($E15,'[1]Organisation Categories'!$G$4:$O$831,3,0)","v":10},{"$f":"VLOOKUP($E15,'[1]Organisation Categories'!$G$4:$O$831,4,0)","v":0},{"$f":"VLOOKUP($E15,'[1]Organisation Categories'!$G$4:$O$831,5,0)","v":0},{"$f":"VLOOKUP($E15,'[1]Organisation Categories'!$G$4:$O$831,6,0)","v":1},{"$f":"VLOOKUP($E15,'[1]Organisation Categories'!$G$4:$O$831,7,0)","v":0},0,0,0,0,0,0,0,0,0]
["QE1","RXR","EAST LANCASHIRE HOSPITALS NHS TRUST","Community Nursing Services","RXRCommunity Nursing Services",565,0.90796460176991145,3.5398230088495575E-2,416,97,21,13,7,11,{"$f":"VLOOKUP($E16,'[1]Organisation Categories'!$G$4:$O$831,8,0)","v":565},0.90796460176991145,3.5398230088495575E-2,{"$f":"VLOOKUP($E16,'[1]Organisation Categories'!$G$4:$O$831,2,0)","v":416},{"$f":"VLOOKUP($E16,'[1]Organisation Categories'!$G$4:$O$831,3,0)","v":97},{"$f":"VLOOKUP($E16,'[1]Organisation Categories'!$G$4:$O$831,4,0)","v":21},{"$f":"VLOOKUP($E16,'[1]Organisation Categories'!$G$4:$O$831,5,0)","v":13},{"$f":"VLOOKUP($E16,'[1]Organisation Categories'!$G$4:$O$831,6,0)","v":7},{"$f":"VLOOKUP($E16,'[1]Organisation Categories'!$G$4:$O$831,7,0)","v":11},0,0,0,0,0,0,0,0,0]
["QE1","RXR","EAST LANCASHIRE HOSPITALS NHS TRUST","Rehabilitation & Therapy Services","RXRRehabilitation & Therapy Services",110,0.91818181818181821,2.7272727272727271E-2,98,3,2,2,1,4,{"$f":"VLOOKUP($E17,'[1]Organisation Categories'!$G$4:$O$831,8,0)","v":110},0.91818181818181821,2.7272727272727271E-2,{"$f":"VLOOKUP($E17,'[1]Organisation Categories'!$G$4:$O$831,2,0)","v":98},{"$f":"VLOOKUP($E17,'[1]Organisation Categories'!$G$4:$O$831,3,0)","v":3},{"$f":"VLOOKUP($E17,'[1]Organisation Categories'!$G$4:$O$831,4,0)","v":2},{"$f":"VLOOKUP($E17,'[1]Organisation Categories'!$G$4:$O$831,5,0)","v":2},{"$f":"VLOOKUP($E17,'[1]Organisation Categories'!$G$4:$O$831,6,0)","v":1},{"$f":"VLOOKUP($E17,'[1]Organisation Categories'!$G$4:$O$831,7,0)","v":4},0,0,0,0,0,0,0,0,0]
["QE1","RXR","EAST LANCASHIRE HOSPITALS NHS TRUST","Specialist Services","RXRSpecialist Services",2,"*","*","*","*","*","*","*","*",{"$f":"VLOOKUP($E18,'[1]Organisation Categories'!$G$4:$O$831,8,0)","v":2},1,0,{"$f":"VLOOKUP($E18,'[1]Organisation Categories'!$G$4:$O$831,2,0)","v":2},{"$f":"VLOOKUP($E18,'[1]Organisation Categories'!$G$4:$O$831,3,0)","v":0},{"$f":"VLOOKUP($E18,'[1]Organisation Categories'!$G$4:$O$831,4,0)","v":0},{"$f":"VLOOKUP($E18,'[1]Organisation Categories'!$G$4:$O$831,5,0)","v":0},{"$f":"VLOOKUP($E18,'[1]Organisation Categories'!$G$4:$O$831,6,0)","v":0},{"$f":"VLOOKUP($E18,'[1]Organisation Categories'!$G$4:$O$831,7,0)","v":0},0,0,0,0,0,0,0,0,0]
["QE1","RW5","LANCASHIRE & SOUTH CUMBRIA NHS FOUNDATION TRUST","Children & Family Services","RW5Children & Family Services",26,0.96153846153846156,0,22,3,0,0,0,1,{"$f":"VLOOKUP($E19,'[1]Organisation Categories'!$G$4:$O$831,8,0)","v":26},0.96153846153846156,0,{"$f":"VLOOKUP($E19,'[1]Organisation Categories'!$G$4:$O$831,2,0)","v":22},{"$f":"VLOOKUP($E19,'[1]Organisation Categories'!$G$4:$O$831,3,0)","v":3},{"$f":"VLOOKUP($E19,'[1]Organisation Categories'!$G$4:$O$831,4,0)","v":0},{"$f":"VLOOKUP($E19,'[1]Organisation Categories'!$G$4:$O$831,5,0)","v":0},{"$f":"VLOOKUP($E19,'[1]Organisation Categories'!$G$4:$O$831,6,0)","v":0},{"$f":"VLOOKUP($E19,'[1]Organisation Categories'!$G$4:$O$831,7,0)","v":1},0,0,0,0,0,0,0,0,0]
["QE1","RW5","LANCASHIRE & SOUTH CUMBRIA NHS FOUNDATION TRUST","Community Inpatient Services","RW5Community Inpatient Services",5,1,0,4,1,0,0,0,0,{"$f":"VLOOKUP($E20,'[1]Organisation Categories'!$G$4:$O$831,8,0)","v":5},1,0,{"$f":"VLOOKUP($E20,'[1]Organisation Categories'!$G$4:$O$831,2,0)","v":4},{"$f":"VLOOKUP($E20,'[1]Organisation Categories'!$G$4:$O$831,3,0)","v":1},{"$f":"VLOOKUP($E20,'[1]Organisation Categories'!$G$4:$O$831,4,0)","v":0},{"$f":"VLOOKUP($E20,'[1]Organisation Categories'!$G$4:$O$831,5,0)","v":0},{"$f":"VLOOKUP($E20,'[1]Organisation Categories'!$G$4:$O$831,6,0)","v":0},{"$f":"VLOOKUP($E20,'[1]Organisation Categories'!$G$4:$O$831,7,0)","v":0},0,0,0,0,0,0,0,0,0]
["QE1","RW5","LANCASHIRE & SOUTH CUMBRIA NHS FOUNDATION TRUST","Community Nursing Services","RW5Community Nursing Services",174,0.99425287356321834,0,167,6,1,0,0,0,{"$f":"VLOOKUP($E21,'[1]Organisation Categories'!$G$4:$O$831,8,0)","v":174},0.99425287356321834,0,{"$f":"VLOOKUP($E21,'[1]Organisation Categories'!$G$4:$O$831,2,0)","v":167},{"$f":"VLOOKUP($E21,'[1]Organisation Categories'!$G$4:$O$831,3,0)","v":6},{"$f":"VLOOKUP($E21,'[1]Organisation Categories'!$G$4:$O$831,4,0)","v":1},{"$f":"VLOOKUP($E21,'[1]Organisation Categories'!$G$4:$O$831,5,0)","v":0},{"$f":"VLOOKUP($E21,'[1]Organisation Categories'!$G$4:$O$831,6,0)","v":0},{"$f":"VLOOKUP($E21,'[1]Organisation Categories'!$G$4:$O$831,7,0)","v":0},0,0,0,0,0,0,0,0,0]
["QE1","RW5","LANCASHIRE & SOUTH CUMBRIA NHS FOUNDATION TRUST","Rehabilitation & Therapy Services","RW5Rehabilitation & Therapy Services",57,0.98245614035087714,1.7543859649122806E-2,54,2,0,0,1,0,{"$f":"VLOOKUP($E22,'[1]Organisation Categories'!$G$4:$O$831,8,0)","v":57},0.98245614035087714,1.7543859649122806E-2,{"$f":"VLOOKUP($E22,'[1]Organisation Categories'!$G$4:$O$831,2,0)","v":54},{"$f":"VLOOKUP($E22,'[1]Organisation Categories'!$G$4:$O$831,3,0)","v":2},{"$f":"VLOOKUP($E22,'[1]Organisation Categories'!$G$4:$O$831,4,0)","v":0},{"$f":"VLOOKUP($E22,'[1]Organisation Categories'!$G$4:$O$831,5,0)","v":0},{"$f":"VLOOKUP($E22,'[1]Organisation Categories'!$G$4:$O$831,6,0)","v":1},{"$f":"VLOOKUP($E22,'[1]Organisation Categories'!$G$4:$O$831,7,0)","v":0},0,0,0,0,0,0,0,0,0]
["QE1","RW5","LANCASHIRE & SOUTH CUMBRIA NHS FOUNDATION TRUST","Specialist Services","RW5Specialist Services",211,0.95260663507109,4.2654028436018961E-2,192,9,1,3,6,0,{"$f":"VLOOKUP($E23,'[1]Organisation Categories'!$G$4:$O$831,8,0)","v":211},0.95260663507109,4.2654028436018961E-2,{"$f":"VLOOKUP($E23,'[1]Organisation Categories'!$G$4:$O$831,2,0)","v":192},{"$f":"VLOOKUP($E23,'[1]Organisation Categories'!$G$4:$O$831,3,0)","v":9},{"$f":"VLOOKUP($E23,'[1]Organisation Categories'!$G$4:$O$831,4,0)","v":1},{"$f":"VLOOKUP($E23,'[1]Organisation Categories'!$G$4:$O$831,5,0)","v":3},{"$f":"VLOOKUP($E23,'[1]Organisation Categories'!$G$4:$O$831,6,0)","v":6},{"$f":"VLOOKUP($E23,'[1]Organisation Categories'!$G$4:$O$831,7,0)","v":0},0,0,0,0,0,0,0,0,0]
["QE1","RTX","UNIVERSITY HOSPITALS OF MORECAMBE BAY NHS FOUNDATION TRUST","Children & Family Services","RTXChildren & Family Services",4,"*","*","*","*","*","*","*","*",{"$f":"VLOOKUP($E24,'[1]Organisation Categories'!$G$4:$O$831,8,0)","v":4},1,0,{"$f":"VLOOKUP($E24,'[1]Organisation Categories'!$G$4:$O$831,2,0)","v":4},{"$f":"VLOOKUP($E24,'[1]Organisation Categories'!$G$4:$O$831,3,0)","v":0},{"$f":"VLOOKUP($E24,'[1]Organisation Categories'!$G$4:$O$831,4,0)","v":0},{"$f":"VLOOKUP($E24,'[1]Organisation Categories'!$G$4:$O$831,5,0)","v":0},{"$f":"VLOOKUP($E24,'[1]Organisation Categories'!$G$4:$O$831,6,0)","v":0},{"$f":"VLOOKUP($E24,'[1]Organisation Categories'!$G$4:$O$831,7,0)","v":0},0,0,0,0,0,0,0,0,0]
["QE1","RTX","UNIVERSITY HOSPITALS OF MORECAMBE BAY NHS FOUNDATION TRUST","Community Inpatient Services","RTXCommunity Inpatient Services",2,"*","*","*","*","*","*","*","*",{"$f":"VLOOKUP($E25,'[1]Organisation Categories'!$G$4:$O$831,8,0)","v":2},1,0,{"$f":"VLOOKUP($E25,'[1]Organisation Categories'!$G$4:$O$831,2,0)","v":2},{"$f":"VLOOKUP($E25,'[1]Organisation Categories'!$G$4:$O$831,3,0)","v":0},{"$f":"VLOOKUP($E25,'[1]Organisation Categories'!$G$4:$O$831,4,0)","v":0},{"$f":"VLOOKUP($E25,'[1]Organisation Categories'!$G$4:$O$831,5,0)","v":0},{"$f":"VLOOKUP($E25,'[1]Organisation Categories'!$G$4:$O$831,6,0)","v":0},{"$f":"VLOOKUP($E25,'[1]Organisation Categories'!$G$4:$O$831,7,0)","v":0},0,0,0,0,0,0,0,0,0]
["QE1","RTX","UNIVERSITY HOSPITALS OF MORECAMBE BAY NHS FOUNDATION TRUST","Community Nursing Services","RTXCommunity Nursing Services",12,1,0,11,1,0,0,0,0,{"$f":"VLOOKUP($E26,'[1]Organisation Categories'!$G$4:$O$831,8,0)","v":12},1,0,{"$f":"VLOOKUP($E26,'[1]Organisation Categories'!$G$4:$O$831,2,0)","v":11},{"$f":"VLOOKUP($E26,'[1]Organisation Categories'!$G$4:$O$831,3,0)","v":1},{"$f":"VLOOKUP($E26,'[1]Organisation Categories'!$G$4:$O$831,4,0)","v":0},{"$f":"VLOOKUP($E26,'[1]Organisation Categories'!$G$4:$O$831,5,0)","v":0},{"$f":"VLOOKUP($E26,'[1]Organisation Categories'!$G$4:$O$831,6,0)","v":0},{"$f":"VLOOKUP($E26,'[1]Organisation Categories'!$G$4:$O$831,7,0)","v":0},0,0,0,0,0,0,0,0,0]
["QE1","RTX","UNIVERSITY HOSPITALS OF MORECAMBE BAY NHS FOUNDATION TRUST","Rehabilitation & Therapy Services","RTXRehabilitation & Therapy Services",14,1,0,2,12,0,0,0,0,{"$f":"VLOOKUP($E27,'[1]Organisation Categories'!$G$4:$O$831,8,0)","v":14},1,0,{"$f":"VLOOKUP($E27,'[1]Organisation Categories'!$G$4:$O$831,2,0)","v":2},{"$f":"VLOOKUP($E27,'[1]Organisation Categories'!$G$4:$O$831,3,0)","v":12},{"$f":"VLOOKUP($E27,'[1]Organisation Categories'!$G$4:$O$831,4,0)","v":0},{"$f":"VLOOKUP($E27,'[1]Organisation Categories'!$G$4:$O$831,5,0)","v":0},{"$f":"VLOOKUP($E27,'[1]Organisation Categories'!$G$4:$O$831,6,0)","v":0},{"$f":"VLOOKUP($E27,'[1]Organisation Categories'!$G$4:$O$831,7,0)","v":0},0,0,0,0,0,0,0,0,0]
["QF7","RXE","ROTHERHAM DONCASTER AND SOUTH HUMBER NHS FOUNDATION TRUST","Children & Family Services","RXEChildren & Family Services",76,1,0,74,2,0,0,0,0,{"$f":"VLOOKUP($E28,'[1]Organisation Categories'!$G$4:$O$831,8,0)","v":76},1,0,{"$f":"VLOOKUP($E28,'[1]Organisation Categories'!$G$4:$O$831,2,0)","v":74},{"$f":"VLOOKUP($E28,'[1]Organisation Categories'!$G$4:$O$831,3,0)","v":2},{"$f":"VLOOKUP($E28,'[1]Organisation Categories'!$G$4:$O$831,4,0)","v":0},{"$f":"VLOOKUP($E28,'[1]Organisation Categories'!$G$4:$O$831,5,0)","v":0},{"$f":"VLOOKUP($E28,'[1]Organisation Categories'!$G$4:$O$831,6,0)","v":0},{"$f":"VLOOKUP($E28,'[1]Organisation Categories'!$G$4:$O$831,7,0)","v":0},0,0,0,0,0,0,0,0,0]
["QF7","RXE","ROTHERHAM DONCASTER AND SOUTH HUMBER NHS FOUNDATION TRUST","Community Inpatient Services","RXECommunity Inpatient Services",1,"*","*","*","*","*","*","*","*",{"$f":"VLOOKUP($E29,'[1]Organisation Categories'!$G$4:$O$831,8,0)","v":1},1,0,{"$f":"VLOOKUP($E29,'[1]Organisation Categories'!$G$4:$O$831,2,0)","v":1},{"$f":"VLOOKUP($E29,'[1]Organisation Categories'!$G$4:$O$831,3,0)","v":0},{"$f":"VLOOKUP($E29,'[1]Organisation Categories'!$G$4:$O$831,4,0)","v":0},{"$f":"VLOOKUP($E29,'[1]Organisation Categories'!$G$4:$O$831,5,0)","v":0},{"$f":"VLOOKUP($E29,'[1]Organisation Categories'!$G$4:$O$831,6,0)","v":0},{"$f":"VLOOKUP($E29,'[1]Organisation Categories'!$G$4:$O$831,7,0)","v":0},0,0,0,0,0,0,0,0,0]
["QF7","RXE","ROTHERHAM DONCASTER AND SOUTH HUMBER NHS FOUNDATION TRUST","Community Nursing Services","RXECommunity Nursing Services",25,1,0,23,2,0,0,0,0,{"$f":"VLOOKUP($E30,'[1]Organisation Categories'!$G$4:$O$831,8,0)","v":25},1,0,{"$f":"VLOOKUP($E30,'[1]Organisation Categories'!$G$4:$O$831,2,0)","v":23},{"$f":"VLOOKUP($E30,'[1]Organisation Categories'!$G$4:$O$831,3,0)","v":2},{"$f":"VLOOKUP($E30,'[1]Organisation Categories'!$G$4:$O$831,4,0)","v":0},{"$f":"VLOOKUP($E30,'[1]Organisation Categories'!$G$4:$O$831,5,0)","v":0},{"$f":"VLOOKUP($E30,'[1]Organisation Categories'!$G$4:$O$831,6,0)","v":0},{"$f":"VLOOKUP($E30,'[1]Organisation Categories'!$G$4:$O$831,7,0)","v":0},0,0,0,0,0,0,0,0,0]
["QF7","RXE","ROTHERHAM DONCASTER AND SOUTH HUMBER NHS FOUNDATION TRUST","Rehabilitation & Therapy Services","RXERehabilitation & Therapy Services",3,"*","*","*","*","*","*","*","*",{"$f":"VLOOKUP($E31,'[1]Organisation Categories'!$G$4:$O$831,8,0)","v":3},1,0,{"$f":"VLOOKUP($E31,'[1]Organisation Categories'!$G$4:$O$831,2,0)","v":3},{"$f":"VLOOKUP($E31,'[1]Organisation Categories'!$G$4:$O$831,3,0)","v":0},{"$f":"VLOOKUP($E31,'[1]Organisation Categories'!$G$4:$O$831,4,0)","v":0},{"$f":"VLOOKUP($E31,'[1]Organisation Categories'!$G$4:$O$831,5,0)","v":0},{"$f":"VLOOKUP($E31,'[1]Organisation Categories'!$G$4:$O$831,6,0)","v":0},{"$f":"VLOOKUP($E31,'[1]Organisation Categories'!$G$4:$O$831,7,0)","v":0},0,0,0,0,0,0,0,0,0]
["QF7","RCU","SHEFFIELD CHILDREN'S NHS FOUNDATION TRUST","Community Nursing Services","RCUCommunity Nursing Services",65,0.93846153846153846,3.0769230769230771E-2,58,3,2,0,2,0,{"$f":"VLOOKUP($E32,'[1]Organisation Categories'!$G$4:$O$831,8,0)","v":65},0.93846153846153846,3.0769230769230771E-2,{"$f":"VLOOKUP($E32,'[1]Organisation Categories'!$G$4:$O$831,2,0)","v":58},{"$f":"VLOOKUP($E32,'[1]Organisation Categories'!$G$4:$O$831,3,0)","v":3},{"$f":"VLOOKUP($E32,'[1]Organisation Categories'!$G$4:$O$831,4,0)","v":2},{"$f":"VLOOKUP($E32,'[1]Organisation Categories'!$G$4:$O$831,5,0)","v":0},{"$f":"VLOOKUP($E32,'[1]Organisation Categories'!$G$4:$O$831,6,0)","v":2},{"$f":"VLOOKUP($E32,'[1]Organisation Categories'!$G$4:$O$831,7,0)","v":0},0,0,0,0,0,0,0,0,0]
["QF7","RHQ","SHEFFIELD TEACHING HOSPITALS NHS FOUNDATION TRUST","Community Healthcare Other","RHQCommunity Healthcare Other",50,0.7,0.16,27,8,7,4,4,0,{"$f":"VLOOKUP($E33,'[1]Organisation Categories'!$G$4:$O$831,8,0)","v":50},0.7,0.16,{"$f":"VLOOKUP($E33,'[1]Organisation Categories'!$G$4:$O$831,2,0)","v":27},{"$f":"VLOOKUP($E33,'[1]Organisation Categories'!$G$4:$O$831,3,0)","v":8},{"$f":"VLOOKUP($E33,'[1]Organisation Categories'!$G$4:$O$831,4,0)","v":7},{"$f":"VLOOKUP($E33,'[1]Organisation Categories'!$G$4:$O$831,5,0)","v":4},{"$f":"VLOOKUP($E33,'[1]Organisation Categories'!$G$4:$O$831,6,0)","v":4},{"$f":"VLOOKUP($E33,'[1]Organisation Categories'!$G$4:$O$831,7,0)","v":0},0,0,0,0,0,0,0,0,0]
["QF7","RHQ","SHEFFIELD TEACHING HOSPITALS NHS FOUNDATION TRUST","Community Inpatient Services","RHQCommunity Inpatient Services",40,0.875,0,21,14,4,0,0,1,{"$f":"VLOOKUP($E34,'[1]Organisation Categories'!$G$4:$O$831,8,0)","v":40},0.875,0,{"$f":"VLOOKUP($E34,'[1]Organisation Categories'!$G$4:$O$831,2,0)","v":21},{"$f":"VLOOKUP($E34,'[1]Organisation Categories'!$G$4:$O$831,3,0)","v":14},{"$f":"VLOOKUP($E34,'[1]Organisation Categories'!$G$4:$O$831,4,0)","v":4},{"$f":"VLOOKUP($E34,'[1]Organisation Categories'!$G$4:$O$831,5,0)","v":0},{"$f":"VLOOKUP($E34,'[1]Organisation Categories'!$G$4:$O$831,6,0)","v":0},{"$f":"VLOOKUP($E34,'[1]Organisation Categories'!$G$4:$O$831,7,0)","v":1},0,0,0,0,0,0,0,0,0]
["QF7","RHQ","SHEFFIELD TEACHING HOSPITALS NHS FOUNDATION TRUST","Community Nursing Services","RHQCommunity Nursing Services",39,0.92307692307692313,2.564102564102564E-2,27,9,1,1,0,1,{"$f":"VLOOKUP($E35,'[1]Organisation Categories'!$G$4:$O$831,8,0)","v":39},0.92307692307692313,2.564102564102564E-2,{"$f":"VLOOKUP($E35,'[1]Organisation Categories'!$G$4:$O$831,2,0)","v":27},{"$f":"VLOOKUP($E35,'[1]Organisation Categories'!$G$4:$O$831,3,0)","v":9},{"$f":"VLOOKUP($E35,'[1]Organisation Categories'!$G$4:$O$831,4,0)","v":1},{"$f":"VLOOKUP($E35,'[1]Organisation Categories'!$G$4:$O$831,5,0)","v":1},{"$f":"VLOOKUP($E35,'[1]Organisation Categories'!$G$4:$O$831,6,0)","v":0},{"$f":"VLOOKUP($E35,'[1]Organisation Categories'!$G$4:$O$831,7,0)","v":1},0,0,0,0,0,0,0,0,0]
["QF7","RHQ","SHEFFIELD TEACHING HOSPITALS NHS FOUNDATION TRUST","Rehabilitation & Therapy Services","RHQRehabilitation & Therapy Services",301,0.92026578073089704,3.6544850498338874E-2,230,47,11,6,5,2,{"$f":"VLOOKUP($E36,'[1]Organisation Categories'!$G$4:$O$831,8,0)","v":301},0.92026578073089704,3.6544850498338874E-2,{"$f":"VLOOKUP($E36,'[1]Organisation Categories'!$G$4:$O$831,2,0)","v":230},{"$f":"VLOOKUP($E36,'[1]Organisation Categories'!$G$4:$O$831,3,0)","v":47},{"$f":"VLOOKUP($E36,'[1]Organisation Categories'!$G$4:$O$831,4,0)","v":11},{"$f":"VLOOKUP($E36,'[1]Organisation Categories'!$G$4:$O$831,5,0)","v":6},{"$f":"VLOOKUP($E36,'[1]Organisation Categories'!$G$4:$O$831,6,0)","v":5},{"$f":"VLOOKUP($E36,'[1]Organisation Categories'!$G$4:$O$831,7,0)","v":2},0,0,0,0,0,0,0,0,0]
["QF7","RHQ","SHEFFIELD TEACHING HOSPITALS NHS FOUNDATION TRUST","Specialist Services","RHQSpecialist Services",82,0.97560975609756095,1.2195121951219513E-2,66,14,1,0,1,0,{"$f":"VLOOKUP($E37,'[1]Organisation Categories'!$G$4:$O$831,8,0)","v":82},0.97560975609756095,1.2195121951219513E-2,{"$f":"VLOOKUP($E37,'[1]Organisation Categories'!$G$4:$O$831,2,0)","v":66},{"$f":"VLOOKUP($E37,'[1]Organisation Categories'!$G$4:$O$831,3,0)","v":14},{"$f":"VLOOKUP($E37,'[1]Organisation Categories'!$G$4:$O$831,4,0)","v":1},{"$f":"VLOOKUP($E37,'[1]Organisation Categories'!$G$4:$O$831,5,0)","v":0},{"$f":"VLOOKUP($E37,'[1]Organisation Categories'!$G$4:$O$831,6,0)","v":1},{"$f":"VLOOKUP($E37,'[1]Organisation Categories'!$G$4:$O$831,7,0)","v":0},0,0,0,0,0,0,0,0,0]
["QF7","RFR","THE ROTHERHAM NHS FOUNDATION TRUST","Children & Family Services","RFRChildren & Family Services",56,0.875,7.1428571428571425E-2,35,14,0,2,2,3,{"$f":"VLOOKUP($E38,'[1]Organisation Categories'!$G$4:$O$831,8,0)","v":56},0.875,7.1428571428571425E-2,{"$f":"VLOOKUP($E38,'[1]Organisation Categories'!$G$4:$O$831,2,0)","v":35},{"$f":"VLOOKUP($E38,'[1]Organisation Categories'!$G$4:$O$831,3,0)","v":14},{"$f":"VLOOKUP($E38,'[1]Organisation Categories'!$G$4:$O$831,4,0)","v":0},{"$f":"VLOOKUP($E38,'[1]Organisation Categories'!$G$4:$O$831,5,0)","v":2},{"$f":"VLOOKUP($E38,'[1]Organisation Categories'!$G$4:$O$831,6,0)","v":2},{"$f":"VLOOKUP($E38,'[1]Organisation Categories'!$G$4:$O$831,7,0)","v":3},0,0,0,0,0,0,0,0,0]
["QF7","RFR","THE ROTHERHAM NHS FOUNDATION TRUST","Community Nursing Services","RFRCommunity Nursing Services",36,0.97222222222222221,0,28,7,1,0,0,0,{"$f":"VLOOKUP($E39,'[1]Organisation Categories'!$G$4:$O$831,8,0)","v":36},0.97222222222222221,0,{"$f":"VLOOKUP($E39,'[1]Organisation Categories'!$G$4:$O$831,2,0)","v":28},{"$f":"VLOOKUP($E39,'[1]Organisation Categories'!$G$4:$O$831,3,0)","v":7},{"$f":"VLOOKUP($E39,'[1]Organisation Categories'!$G$4:$O$831,4,0)","v":1},{"$f":"VLOOKUP($E39,'[1]Organisation Categories'!$G$4:$O$831,5,0)","v":0},{"$f":"VLOOKUP($E39,'[1]Organisation Categories'!$G$4:$O$831,6,0)","v":0},{"$f":"VLOOKUP($E39,'[1]Organisation Categories'!$G$4:$O$831,7,0)","v":0},0,0,0,0,0,0,0,0,0]
["QF7","RFR","THE ROTHERHAM NHS FOUNDATION TRUST","Rehabilitation & Therapy Services","RFRRehabilitation & Therapy Services",57,0.91228070175438591,5.2631578947368418E-2,50,2,2,1,2,0,{"$f":"VLOOKUP($E40,'[1]Organisation Categories'!$G$4:$O$831,8,0)","v":57},0.91228070175438591,5.2631578947368418E-2,{"$f":"VLOOKUP($E40,'[1]Organisation Categories'!$G$4:$O$831,2,0)","v":50},{"$f":"VLOOKUP($E40,'[1]Organisation Categories'!$G$4:$O$831,3,0)","v":2},{"$f":"VLOOKUP($E40,'[1]Organisation Categories'!$G$4:$O$831,4,0)","v":2},{"$f":"VLOOKUP($E40,'[1]Organisation Categories'!$G$4:$O$831,5,0)","v":1},{"$f":"VLOOKUP($E40,'[1]Organisation Categories'!$G$4:$O$831,6,0)","v":2},{"$f":"VLOOKUP($E40,'[1]Organisation Categories'!$G$4:$O$831,7,0)","v":0},0,0,0,0,0,0,0,0,0]
["QF7","RFR","THE ROTHERHAM NHS FOUNDATION TRUST","Specialist Services","RFRSpecialist Services",83,0.97590361445783136,0,79,2,2,0,0,0,{"$f":"VLOOKUP($E41,'[1]Organisation Categories'!$G$4:$O$831,8,0)","v":83},0.97590361445783136,0,{"$f":"VLOOKUP($E41,'[1]Organisation Categories'!$G$4:$O$831,2,0)","v":79},{"$f":"VLOOKUP($E41,'[1]Organisation Categories'!$G$4:$O$831,3,0)","v":2},{"$f":"VLOOKUP($E41,'[1]Organisation Categories'!$G$4:$O$831,4,0)","v":2},{"$f":"VLOOKUP($E41,'[1]Organisation Categories'!$G$4:$O$831,5,0)","v":0},{"$f":"VLOOKUP($E41,'[1]Organisation Categories'!$G$4:$O$831,6,0)","v":0},{"$f":"VLOOKUP($E41,'[1]Organisation Categories'!$G$4:$O$831,7,0)","v":0},0,0,0,0,0,0,0,0,0]
["QGH","R1A","HEREFORDSHIRE AND WORCESTERSHIRE HEALTH AND CARE NHS TRUST","Children & Family Services","R1AChildren & Family Services",33,0.96969696969696972,3.0303030303030304E-2,29,3,0,0,1,0,{"$f":"VLOOKUP($E42,'[1]Organisation Categories'!$G$4:$O$831,8,0)","v":33},0.96969696969696972,3.0303030303030304E-2,{"$f":"VLOOKUP($E42,'[1]Organisation Categories'!$G$4:$O$831,2,0)","v":29},{"$f":"VLOOKUP($E42,'[1]Organisation Categories'!$G$4:$O$831,3,0)","v":3},{"$f":"VLOOKUP($E42,'[1]Organisation Categories'!$G$4:$O$831,4,0)","v":0},{"$f":"VLOOKUP($E42,'[1]Organisation Categories'!$G$4:$O$831,5,0)","v":0},{"$f":"VLOOKUP($E42,'[1]Organisation Categories'!$G$4:$O$831,6,0)","v":1},{"$f":"VLOOKUP($E42,'[1]Organisation Categories'!$G$4:$O$831,7,0)","v":0},0,0,0,0,0,0,0,0,0]
["QGH","R1A","HEREFORDSHIRE AND WORCESTERSHIRE HEALTH AND CARE NHS TRUST","Community Healthcare Other","R1ACommunity Healthcare Other",22,1,0,22,0,0,0,0,0,{"$f":"VLOOKUP($E43,'[1]Organisation Categories'!$G$4:$O$831,8,0)","v":22},1,0,{"$f":"VLOOKUP($E43,'[1]Organisation Categories'!$G$4:$O$831,2,0)","v":22},{"$f":"VLOOKUP($E43,'[1]Organisation Categories'!$G$4:$O$831,3,0)","v":0},{"$f":"VLOOKUP($E43,'[1]Organisation Categories'!$G$4:$O$831,4,0)","v":0},{"$f":"VLOOKUP($E43,'[1]Organisation Categories'!$G$4:$O$831,5,0)","v":0},{"$f":"VLOOKUP($E43,'[1]Organisation Categories'!$G$4:$O$831,6,0)","v":0},{"$f":"VLOOKUP($E43,'[1]Organisation Categories'!$G$4:$O$831,7,0)","v":0},0,0,0,0,0,0,0,0,0]
["QGH","R1A","HEREFORDSHIRE AND WORCESTERSHIRE HEALTH AND CARE NHS TRUST","Community Inpatient Services","R1ACommunity Inpatient Services",2,"*","*","*","*","*","*","*","*",{"$f":"VLOOKUP($E44,'[1]Organisation Categories'!$G$4:$O$831,8,0)","v":2},1,0,{"$f":"VLOOKUP($E44,'[1]Organisation Categories'!$G$4:$O$831,2,0)","v":2},{"$f":"VLOOKUP($E44,'[1]Organisation Categories'!$G$4:$O$831,3,0)","v":0},{"$f":"VLOOKUP($E44,'[1]Organisation Categories'!$G$4:$O$831,4,0)","v":0},{"$f":"VLOOKUP($E44,'[1]Organisation Categories'!$G$4:$O$831,5,0)","v":0},{"$f":"VLOOKUP($E44,'[1]Organisation Categories'!$G$4:$O$831,6,0)","v":0},{"$f":"VLOOKUP($E44,'[1]Organisation Categories'!$G$4:$O$831,7,0)","v":0},0,0,0,0,0,0,0,0,0]
["QGH","R1A","HEREFORDSHIRE AND WORCESTERSHIRE HEALTH AND CARE NHS TRUST","Community Nursing Services","R1ACommunity Nursing Services",17,0.88235294117647056,0,14,1,1,0,0,1,{"$f":"VLOOKUP($E45,'[1]Organisation Categories'!$G$4:$O$831,8,0)","v":17},0.88235294117647056,0,{"$f":"VLOOKUP($E45,'[1]Organisation Categories'!$G$4:$O$831,2,0)","v":14},{"$f":"VLOOKUP($E45,'[1]Organisation Categories'!$G$4:$O$831,3,0)","v":1},{"$f":"VLOOKUP($E45,'[1]Organisation Categories'!$G$4:$O$831,4,0)","v":1},{"$f":"VLOOKUP($E45,'[1]Organisation Categories'!$G$4:$O$831,5,0)","v":0},{"$f":"VLOOKUP($E45,'[1]Organisation Categories'!$G$4:$O$831,6,0)","v":0},{"$f":"VLOOKUP($E45,'[1]Organisation Categories'!$G$4:$O$831,7,0)","v":1},0,0,0,0,0,0,0,0,0]
["QGH","R1A","HEREFORDSHIRE AND WORCESTERSHIRE HEALTH AND CARE NHS TRUST","Rehabilitation & Therapy Services","R1ARehabilitation & Therapy Services",2,"*","*","*","*","*","*","*","*",{"$f":"VLOOKUP($E46,'[1]Organisation Categories'!$G$4:$O$831,8,0)","v":2},1,0,{"$f":"VLOOKUP($E46,'[1]Organisation Categories'!$G$4:$O$831,2,0)","v":2},{"$f":"VLOOKUP($E46,'[1]Organisation Categories'!$G$4:$O$831,3,0)","v":0},{"$f":"VLOOKUP($E46,'[1]Organisation Categories'!$G$4:$O$831,4,0)","v":0},{"$f":"VLOOKUP($E46,'[1]Organisation Categories'!$G$4:$O$831,5,0)","v":0},{"$f":"VLOOKUP($E46,'[1]Organisation Categories'!$G$4:$O$831,6,0)","v":0},{"$f":"VLOOKUP($E46,'[1]Organisation Categories'!$G$4:$O$831,7,0)","v":0},0,0,0,0,0,0,0,0,0]
["QGH","R1A","HEREFORDSHIRE AND WORCESTERSHIRE HEALTH AND CARE NHS TRUST","Specialist Services","R1ASpecialist Services",280,0.96071428571428574,2.5000000000000001E-2,245,24,3,3,4,1,{"$f":"VLOOKUP($E47,'[1]Organisation Categories'!$G$4:$O$831,8,0)","v":280},0.96071428571428574,2.5000000000000001E-2,{"$f":"VLOOKUP($E47,'[1]Organisation Categories'!$G$4:$O$831,2,0)","v":245},{"$f":"VLOOKUP($E47,'[1]Organisation Categories'!$G$4:$O$831,3,0)","v":24},{"$f":"VLOOKUP($E47,'[1]Organisation Categories'!$G$4:$O$831,4,0)","v":3},{"$f":"VLOOKUP($E47,'[1]Organisation Categories'!$G$4:$O$831,5,0)","v":3},{"$f":"VLOOKUP($E47,'[1]Organisation Categories'!$G$4:$O$831,6,0)","v":4},{"$f":"VLOOKUP($E47,'[1]Organisation Categories'!$G$4:$O$831,7,0)","v":1},0,0,0,0,0,0,0,0,0]
["QGH","RLQ","WYE VALLEY NHS TRUST","Community Inpatient Services","RLQCommunity Inpatient Services",4,"*","*","*","*","*","*","*","*",{"$f":"VLOOKUP($E48,'[1]Organisation Categories'!$G$4:$O$831,8,0)","v":4},0,1,{"$f":"VLOOKUP($E48,'[1]Organisation Categories'!$G$4:$O$831,2,0)","v":0},{"$f":"VLOOKUP($E48,'[1]Organisation Categories'!$G$4:$O$831,3,0)","v":0},{"$f":"VLOOKUP($E48,'[1]Organisation Categories'!$G$4:$O$831,4,0)","v":0},{"$f":"VLOOKUP($E48,'[1]Organisation Categories'!$G$4:$O$831,5,0)","v":4},{"$f":"VLOOKUP($E48,'[1]Organisation Categories'!$G$4:$O$831,6,0)","v":0},{"$f":"VLOOKUP($E48,'[1]Organisation Categories'!$G$4:$O$831,7,0)","v":0},0,0,0,0,0,0,0,0,0]
["QH8","R1L","ESSEX PARTNERSHIP UNIVERSITY NHS FOUNDATION TRUST","Community Healthcare Other","R1LCommunity Healthcare Other",112,0.9464285714285714,1.7857142857142856E-2,96,10,0,1,1,4,{"$f":"VLOOKUP($E49,'[1]Organisation Categories'!$G$4:$O$831,8,0)","v":112},0.9464285714285714,1.7857142857142856E-2,{"$f":"VLOOKUP($E49,'[1]Organisation Categories'!$G$4:$O$831,2,0)","v":96},{"$f":"VLOOKUP($E49,'[1]Organisation Categories'!$G$4:$O$831,3,0)","v":10},{"$f":"VLOOKUP($E49,'[1]Organisation Categories'!$G$4:$O$831,4,0)","v":0},{"$f":"VLOOKUP($E49,'[1]Organisation Categories'!$G$4:$O$831,5,0)","v":1},{"$f":"VLOOKUP($E49,'[1]Organisation Categories'!$G$4:$O$831,6,0)","v":1},{"$f":"VLOOKUP($E49,'[1]Organisation Categories'!$G$4:$O$831,7,0)","v":4},0,0,0,0,0,0,0,0,0]
["QH8","R1L","ESSEX PARTNERSHIP UNIVERSITY NHS FOUNDATION TRUST","Community Inpatient Services","R1LCommunity Inpatient Services",16,0.875,0,12,2,2,0,0,0,{"$f":"VLOOKUP($E50,'[1]Organisation Categories'!$G$4:$O$831,8,0)","v":16},0.875,0,{"$f":"VLOOKUP($E50,'[1]Organisation Categories'!$G$4:$O$831,2,0)","v":12},{"$f":"VLOOKUP($E50,'[1]Organisation Categories'!$G$4:$O$831,3,0)","v":2},{"$f":"VLOOKUP($E50,'[1]Organisation Categories'!$G$4:$O$831,4,0)","v":2},{"$f":"VLOOKUP($E50,'[1]Organisation Categories'!$G$4:$O$831,5,0)","v":0},{"$f":"VLOOKUP($E50,'[1]Organisation Categories'!$G$4:$O$831,6,0)","v":0},{"$f":"VLOOKUP($E50,'[1]Organisation Categories'!$G$4:$O$831,7,0)","v":0},0,0,0,0,0,0,0,0,0]
["QH8","R1L","ESSEX PARTNERSHIP UNIVERSITY NHS FOUNDATION TRUST","Community Nursing Services","R1LCommunity Nursing Services",39,0.92307692307692313,2.564102564102564E-2,35,1,1,0,1,1,{"$f":"VLOOKUP($E51,'[1]Organisation Categories'!$G$4:$O$831,8,0)","v":39},0.92307692307692313,2.564102564102564E-2,{"$f":"VLOOKUP($E51,'[1]Organisation Categories'!$G$4:$O$831,2,0)","v":35},{"$f":"VLOOKUP($E51,'[1]Organisation Categories'!$G$4:$O$831,3,0)","v":1},{"$f":"VLOOKUP($E51,'[1]Organisation Categories'!$G$4:$O$831,4,0)","v":1},{"$f":"VLOOKUP($E51,'[1]Organisation Categories'!$G$4:$O$831,5,0)","v":0},{"$f":"VLOOKUP($E51,'[1]Organisation Categories'!$G$4:$O$831,6,0)","v":1},{"$f":"VLOOKUP($E51,'[1]Organisation Categories'!$G$4:$O$831,7,0)","v":1},0,0,0,0,0,0,0,0,0]
["QH8","R1L","ESSEX PARTNERSHIP UNIVERSITY NHS FOUNDATION TRUST","Rehabilitation & Therapy Services","R1LRehabilitation & Therapy Services",36,0.97222222222222221,0,32,3,1,0,0,0,{"$f":"VLOOKUP($E52,'[1]Organisation Categories'!$G$4:$O$831,8,0)","v":36},0.97222222222222221,0,{"$f":"VLOOKUP($E52,'[1]Organisation Categories'!$G$4:$O$831,2,0)","v":32},{"$f":"VLOOKUP($E52,'[1]Organisation Categories'!$G$4:$O$831,3,0)","v":3},{"$f":"VLOOKUP($E52,'[1]Organisation Categories'!$G$4:$O$831,4,0)","v":1},{"$f":"VLOOKUP($E52,'[1]Organisation Categories'!$G$4:$O$831,5,0)","v":0},{"$f":"VLOOKUP($E52,'[1]Organisation Categories'!$G$4:$O$831,6,0)","v":0},{"$f":"VLOOKUP($E52,'[1]Organisation Categories'!$G$4:$O$831,7,0)","v":0},0,0,0,0,0,0,0,0,0]
["QH8","R1L","ESSEX PARTNERSHIP UNIVERSITY NHS FOUNDATION TRUST","Specialist Services","R1LSpecialist Services",63,1,0,60,3,0,0,0,0,{"$f":"VLOOKUP($E53,'[1]Organisation Categories'!$G$4:$O$831,8,0)","v":63},1,0,{"$f":"VLOOKUP($E53,'[1]Organisation Categories'!$G$4:$O$831,2,0)","v":60},{"$f":"VLOOKUP($E53,'[1]Organisation Categories'!$G$4:$O$831,3,0)","v":3},{"$f":"VLOOKUP($E53,'[1]Organisation Categories'!$G$4:$O$831,4,0)","v":0},{"$f":"VLOOKUP($E53,'[1]Organisation Categories'!$G$4:$O$831,5,0)","v":0},{"$f":"VLOOKUP($E53,'[1]Organisation Categories'!$G$4:$O$831,6,0)","v":0},{"$f":"VLOOKUP($E53,'[1]Organisation Categories'!$G$4:$O$831,7,0)","v":0},0,0,0,0,0,0,0,0,0]
["QHL","RYW","BIRMINGHAM COMMUNITY HEALTHCARE NHS FOUNDATION TRUST","Children & Family Services","RYWChildren & Family Services",47,0.95744680851063835,0,43,2,2,0,0,0,{"$f":"VLOOKUP($E54,'[1]Organisation Categories'!$G$4:$O$831,8,0)","v":47},0.95744680851063835,0,{"$f":"VLOOKUP($E54,'[1]Organisation Categories'!$G$4:$O$831,2,0)","v":43},{"$f":"VLOOKUP($E54,'[1]Organisation Categories'!$G$4:$O$831,3,0)","v":2},{"$f":"VLOOKUP($E54,'[1]Organisation Categories'!$G$4:$O$831,4,0)","v":2},{"$f":"VLOOKUP($E54,'[1]Organisation Categories'!$G$4:$O$831,5,0)","v":0},{"$f":"VLOOKUP($E54,'[1]Organisation Categories'!$G$4:$O$831,6,0)","v":0},{"$f":"VLOOKUP($E54,'[1]Organisation Categories'!$G$4:$O$831,7,0)","v":0},0,0,0,0,0,0,0,0,0]
["QHL","RYW","BIRMINGHAM COMMUNITY HEALTHCARE NHS FOUNDATION TRUST","Community Healthcare Other","RYWCommunity Healthcare Other",26,1,0,24,2,0,0,0,0,{"$f":"VLOOKUP($E55,'[1]Organisation Categories'!$G$4:$O$831,8,0)","v":26},1,0,{"$f":"VLOOKUP($E55,'[1]Organisation Categories'!$G$4:$O$831,2,0)","v":24},{"$f":"VLOOKUP($E55,'[1]Organisation Categories'!$G$4:$O$831,3,0)","v":2},{"$f":"VLOOKUP($E55,'[1]Organisation Categories'!$G$4:$O$831,4,0)","v":0},{"$f":"VLOOKUP($E55,'[1]Organisation Categories'!$G$4:$O$831,5,0)","v":0},{"$f":"VLOOKUP($E55,'[1]Organisation Categories'!$G$4:$O$831,6,0)","v":0},{"$f":"VLOOKUP($E55,'[1]Organisation Categories'!$G$4:$O$831,7,0)","v":0},0,0,0,0,0,0,0,0,0]
["QHL","RYW","BIRMINGHAM COMMUNITY HEALTHCARE NHS FOUNDATION TRUST","Community Inpatient Services","RYWCommunity Inpatient Services",16,0.875,0,9,5,2,0,0,0,{"$f":"VLOOKUP($E56,'[1]Organisation Categories'!$G$4:$O$831,8,0)","v":16},0.875,0,{"$f":"VLOOKUP($E56,'[1]Organisation Categories'!$G$4:$O$831,2,0)","v":9},{"$f":"VLOOKUP($E56,'[1]Organisation Categories'!$G$4:$O$831,3,0)","v":5},{"$f":"VLOOKUP($E56,'[1]Organisation Categories'!$G$4:$O$831,4,0)","v":2},{"$f":"VLOOKUP($E56,'[1]Organisation Categories'!$G$4:$O$831,5,0)","v":0},{"$f":"VLOOKUP($E56,'[1]Organisation Categories'!$G$4:$O$831,6,0)","v":0},{"$f":"VLOOKUP($E56,'[1]Organisation Categories'!$G$4:$O$831,7,0)","v":0},0,0,0,0,0,0,0,0,0]
["QHL","RYW","BIRMINGHAM COMMUNITY HEALTHCARE NHS FOUNDATION TRUST","Community Nursing Services","RYWCommunity Nursing Services",224,0.9732142857142857,4.464285714285714E-3,175,43,5,0,1,0,{"$f":"VLOOKUP($E57,'[1]Organisation Categories'!$G$4:$O$831,8,0)","v":224},0.9732142857142857,4.464285714285714E-3,{"$f":"VLOOKUP($E57,'[1]Organisation Categories'!$G$4:$O$831,2,0)","v":175},{"$f":"VLOOKUP($E57,'[1]Organisation Categories'!$G$4:$O$831,3,0)","v":43},{"$f":"VLOOKUP($E57,'[1]Organisation Categories'!$G$4:$O$831,4,0)","v":5},{"$f":"VLOOKUP($E57,'[1]Organisation Categories'!$G$4:$O$831,5,0)","v":0},{"$f":"VLOOKUP($E57,'[1]Organisation Categories'!$G$4:$O$831,6,0)","v":1},{"$f":"VLOOKUP($E57,'[1]Organisation Categories'!$G$4:$O$831,7,0)","v":0},0,0,0,0,0,0,0,0,0]
["QHL","RYW","BIRMINGHAM COMMUNITY HEALTHCARE NHS FOUNDATION TRUST","Rehabilitation & Therapy Services","RYWRehabilitation & Therapy Services",9,1,0,8,1,0,0,0,0,{"$f":"VLOOKUP($E58,'[1]Organisation Categories'!$G$4:$O$831,8,0)","v":9},1,0,{"$f":"VLOOKUP($E58,'[1]Organisation Categories'!$G$4:$O$831,2,0)","v":8},{"$f":"VLOOKUP($E58,'[1]Organisation Categories'!$G$4:$O$831,3,0)","v":1},{"$f":"VLOOKUP($E58,'[1]Organisation Categories'!$G$4:$O$831,4,0)","v":0},{"$f":"VLOOKUP($E58,'[1]Organisation Categories'!$G$4:$O$831,5,0)","v":0},{"$f":"VLOOKUP($E58,'[1]Organisation Categories'!$G$4:$O$831,6,0)","v":0},{"$f":"VLOOKUP($E58,'[1]Organisation Categories'!$G$4:$O$831,7,0)","v":0},0,0,0,0,0,0,0,0,0]
["QHL","RYW","BIRMINGHAM COMMUNITY HEALTHCARE NHS FOUNDATION TRUST","Specialist Services","RYWSpecialist Services",123,0.99186991869918695,8.130081300813009E-3,114,8,0,0,1,0,{"$f":"VLOOKUP($E59,'[1]Organisation Categories'!$G$4:$O$831,8,0)","v":123},0.99186991869918695,8.130081300813009E-3,{"$f":"VLOOKUP($E59,'[1]Organisation Categories'!$G$4:$O$831,2,0)","v":114},{"$f":"VLOOKUP($E59,'[1]Organisation Categories'!$G$4:$O$831,3,0)","v":8},{"$f":"VLOOKUP($E59,'[1]Organisation Categories'!$G$4:$O$831,4,0)","v":0},{"$f":"VLOOKUP($E59,'[1]Organisation Categories'!$G$4:$O$831,5,0)","v":0},{"$f":"VLOOKUP($E59,'[1]Organisation Categories'!$G$4:$O$831,6,0)","v":1},{"$f":"VLOOKUP($E59,'[1]Organisation Categories'!$G$4:$O$831,7,0)","v":0},0,0,0,0,0,0,0,0,0]
["QHL","RRK","UNIVERSITY HOSPITALS BIRMINGHAM NHS FOUNDATION TRUST","Children & Family Services","RRKChildren & Family Services",2,"*","*","*","*","*","*","*","*",{"$f":"VLOOKUP($E60,'[1]Organisation Categories'!$G$4:$O$831,8,0)","v":2},1,0,{"$f":"VLOOKUP($E60,'[1]Organisation Categories'!$G$4:$O$831,2,0)","v":2},{"$f":"VLOOKUP($E60,'[1]Organisation Categories'!$G$4:$O$831,3,0)","v":0},{"$f":"VLOOKUP($E60,'[1]Organisation Categories'!$G$4:$O$831,4,0)","v":0},{"$f":"VLOOKUP($E60,'[1]Organisation Categories'!$G$4:$O$831,5,0)","v":0},{"$f":"VLOOKUP($E60,'[1]Organisation Categories'!$G$4:$O$831,6,0)","v":0},{"$f":"VLOOKUP($E60,'[1]Organisation Categories'!$G$4:$O$831,7,0)","v":0},0,0,0,0,0,0,0,0,0]
["QHL","RRK","UNIVERSITY HOSPITALS BIRMINGHAM NHS FOUNDATION TRUST","Community Healthcare Other","RRKCommunity Healthcare Other",101,0.97029702970297027,1.9801980198019802E-2,82,16,1,1,1,0,{"$f":"VLOOKUP($E61,'[1]Organisation Categories'!$G$4:$O$831,8,0)","v":101},0.97029702970297027,1.9801980198019802E-2,{"$f":"VLOOKUP($E61,'[1]Organisation Categories'!$G$4:$O$831,2,0)","v":82},{"$f":"VLOOKUP($E61,'[1]Organisation Categories'!$G$4:$O$831,3,0)","v":16},{"$f":"VLOOKUP($E61,'[1]Organisation Categories'!$G$4:$O$831,4,0)","v":1},{"$f":"VLOOKUP($E61,'[1]Organisation Categories'!$G$4:$O$831,5,0)","v":1},{"$f":"VLOOKUP($E61,'[1]Organisation Categories'!$G$4:$O$831,6,0)","v":1},{"$f":"VLOOKUP($E61,'[1]Organisation Categories'!$G$4:$O$831,7,0)","v":0},0,0,0,0,0,0,0,0,0]
["QHL","RRK","UNIVERSITY HOSPITALS BIRMINGHAM NHS FOUNDATION TRUST","Community Nursing Services","RRKCommunity Nursing Services",34,0.97058823529411764,0,30,3,1,0,0,0,{"$f":"VLOOKUP($E62,'[1]Organisation Categories'!$G$4:$O$831,8,0)","v":34},0.97058823529411764,0,{"$f":"VLOOKUP($E62,'[1]Organisation Categories'!$G$4:$O$831,2,0)","v":30},{"$f":"VLOOKUP($E62,'[1]Organisation Categories'!$G$4:$O$831,3,0)","v":3},{"$f":"VLOOKUP($E62,'[1]Organisation Categories'!$G$4:$O$831,4,0)","v":1},{"$f":"VLOOKUP($E62,'[1]Organisation Categories'!$G$4:$O$831,5,0)","v":0},{"$f":"VLOOKUP($E62,'[1]Organisation Categories'!$G$4:$O$831,6,0)","v":0},{"$f":"VLOOKUP($E62,'[1]Organisation Categories'!$G$4:$O$831,7,0)","v":0},0,0,0,0,0,0,0,0,0]
["QHL","RRK","UNIVERSITY HOSPITALS BIRMINGHAM NHS FOUNDATION TRUST","Rehabilitation & Therapy Services","RRKRehabilitation & Therapy Services",18,0.94444444444444442,0,15,2,1,0,0,0,{"$f":"VLOOKUP($E63,'[1]Organisation Categories'!$G$4:$O$831,8,0)","v":18},0.94444444444444442,0,{"$f":"VLOOKUP($E63,'[1]Organisation Categories'!$G$4:$O$831,2,0)","v":15},{"$f":"VLOOKUP($E63,'[1]Organisation Categories'!$G$4:$O$831,3,0)","v":2},{"$f":"VLOOKUP($E63,'[1]Organisation Categories'!$G$4:$O$831,4,0)","v":1},{"$f":"VLOOKUP($E63,'[1]Organisation Categories'!$G$4:$O$831,5,0)","v":0},{"$f":"VLOOKUP($E63,'[1]Organisation Categories'!$G$4:$O$831,6,0)","v":0},{"$f":"VLOOKUP($E63,'[1]Organisation Categories'!$G$4:$O$831,7,0)","v":0},0,0,0,0,0,0,0,0,0]
["QHL","RRK","UNIVERSITY HOSPITALS BIRMINGHAM NHS FOUNDATION TRUST","Specialist Services","RRKSpecialist Services",11,0.54545454545454541,0.27272727272727271,"*","*","*","*","*","*",{"$f":"VLOOKUP($E64,'[1]Organisation Categories'!$G$4:$O$831,8,0)","v":11},0.54545454545454541,0.27272727272727271,{"$f":"VLOOKUP($E64,'[1]Organisation Categories'!$G$4:$O$831,2,0)","v":5},{"$f":"VLOOKUP($E64,'[1]Organisation Categories'!$G$4:$O$831,3,0)","v":1},{"$f":"VLOOKUP($E64,'[1]Organisation Categories'!$G$4:$O$831,4,0)","v":2},{"$f":"VLOOKUP($E64,'[1]Organisation Categories'!$G$4:$O$831,5,0)","v":0},{"$f":"VLOOKUP($E64,'[1]Organisation Categories'!$G$4:$O$831,6,0)","v":3},{"$f":"VLOOKUP($E64,'[1]Organisation Categories'!$G$4:$O$831,7,0)","v":0},0,0,0,0,0,0,0,0,0]
["QHM","RXP","COUNTY DURHAM AND DARLINGTON NHS FOUNDATION TRUST","Community Inpatient Services","RXPCommunity Inpatient Services",20,1,0,16,4,0,0,0,0,{"$f":"VLOOKUP($E65,'[1]Organisation Categories'!$G$4:$O$831,8,0)","v":20},1,0,{"$f":"VLOOKUP($E65,'[1]Organisation Categories'!$G$4:$O$831,2,0)","v":16},{"$f":"VLOOKUP($E65,'[1]Organisation Categories'!$G$4:$O$831,3,0)","v":4},{"$f":"VLOOKUP($E65,'[1]Organisation Categories'!$G$4:$O$831,4,0)","v":0},{"$f":"VLOOKUP($E65,'[1]Organisation Categories'!$G$4:$O$831,5,0)","v":0},{"$f":"VLOOKUP($E65,'[1]Organisation Categories'!$G$4:$O$831,6,0)","v":0},{"$f":"VLOOKUP($E65,'[1]Organisation Categories'!$G$4:$O$831,7,0)","v":0},0,0,0,0,0,0,0,0,0]
["QHM","RR7","GATESHEAD HEALTH NHS FOUNDATION TRUST","Specialist Services","RR7Specialist Services",5,1,0,4,1,0,0,0,0,{"$f":"VLOOKUP($E66,'[1]Organisation Categories'!$G$4:$O$831,8,0)","v":5},1,0,{"$f":"VLOOKUP($E66,'[1]Organisation Categories'!$G$4:$O$831,2,0)","v":4},{"$f":"VLOOKUP($E66,'[1]Organisation Categories'!$G$4:$O$831,3,0)","v":1},{"$f":"VLOOKUP($E66,'[1]Organisation Categories'!$G$4:$O$831,4,0)","v":0},{"$f":"VLOOKUP($E66,'[1]Organisation Categories'!$G$4:$O$831,5,0)","v":0},{"$f":"VLOOKUP($E66,'[1]Organisation Categories'!$G$4:$O$831,6,0)","v":0},{"$f":"VLOOKUP($E66,'[1]Organisation Categories'!$G$4:$O$831,7,0)","v":0},0,0,0,0,0,0,0,0,0]
["QHM","RNN","NORTH CUMBRIA INTEGRATED CARE NHS FOUNDATION TRUST","Children & Family Services","RNNChildren & Family Services",5,1,0,5,0,0,0,0,0,{"$f":"VLOOKUP($E67,'[1]Organisation Categories'!$G$4:$O$831,8,0)","v":5},1,0,{"$f":"VLOOKUP($E67,'[1]Organisation Categories'!$G$4:$O$831,2,0)","v":5},{"$f":"VLOOKUP($E67,'[1]Organisation Categories'!$G$4:$O$831,3,0)","v":0},{"$f":"VLOOKUP($E67,'[1]Organisation Categories'!$G$4:$O$831,4,0)","v":0},{"$f":"VLOOKUP($E67,'[1]Organisation Categories'!$G$4:$O$831,5,0)","v":0},{"$f":"VLOOKUP($E67,'[1]Organisation Categories'!$G$4:$O$831,6,0)","v":0},{"$f":"VLOOKUP($E67,'[1]Organisation Categories'!$G$4:$O$831,7,0)","v":0},0,0,0,0,0,0,0,0,0]
["QHM","RNN","NORTH CUMBRIA INTEGRATED CARE NHS FOUNDATION TRUST","Community Healthcare Other","RNNCommunity Healthcare Other",240,0.95833333333333337,2.0833333333333332E-2,201,29,3,0,5,2,{"$f":"VLOOKUP($E68,'[1]Organisation Categories'!$G$4:$O$831,8,0)","v":240},0.95833333333333337,2.0833333333333332E-2,{"$f":"VLOOKUP($E68,'[1]Organisation Categories'!$G$4:$O$831,2,0)","v":201},{"$f":"VLOOKUP($E68,'[1]Organisation Categories'!$G$4:$O$831,3,0)","v":29},{"$f":"VLOOKUP($E68,'[1]Organisation Categories'!$G$4:$O$831,4,0)","v":3},{"$f":"VLOOKUP($E68,'[1]Organisation Categories'!$G$4:$O$831,5,0)","v":0},{"$f":"VLOOKUP($E68,'[1]Organisation Categories'!$G$4:$O$831,6,0)","v":5},{"$f":"VLOOKUP($E68,'[1]Organisation Categories'!$G$4:$O$831,7,0)","v":2},0,0,0,0,0,0,0,0,0]
["QHM","RNN","NORTH CUMBRIA INTEGRATED CARE NHS FOUNDATION TRUST","Community Inpatient Services","RNNCommunity Inpatient Services",62,0.95161290322580649,0,46,13,3,0,0,0,{"$f":"VLOOKUP($E69,'[1]Organisation Categories'!$G$4:$O$831,8,0)","v":62},0.95161290322580649,0,{"$f":"VLOOKUP($E69,'[1]Organisation Categories'!$G$4:$O$831,2,0)","v":46},{"$f":"VLOOKUP($E69,'[1]Organisation Categories'!$G$4:$O$831,3,0)","v":13},{"$f":"VLOOKUP($E69,'[1]Organisation Categories'!$G$4:$O$831,4,0)","v":3},{"$f":"VLOOKUP($E69,'[1]Organisation Categories'!$G$4:$O$831,5,0)","v":0},{"$f":"VLOOKUP($E69,'[1]Organisation Categories'!$G$4:$O$831,6,0)","v":0},{"$f":"VLOOKUP($E69,'[1]Organisation Categories'!$G$4:$O$831,7,0)","v":0},0,0,0,0,0,0,0,0,0]
["QHM","RNN","NORTH CUMBRIA INTEGRATED CARE NHS FOUNDATION TRUST","Community Nursing Services","RNNCommunity Nursing Services",131,0.99236641221374045,0,116,14,0,0,0,1,{"$f":"VLOOKUP($E70,'[1]Organisation Categories'!$G$4:$O$831,8,0)","v":131},0.99236641221374045,0,{"$f":"VLOOKUP($E70,'[1]Organisation Categories'!$G$4:$O$831,2,0)","v":116},{"$f":"VLOOKUP($E70,'[1]Organisation Categories'!$G$4:$O$831,3,0)","v":14},{"$f":"VLOOKUP($E70,'[1]Organisation Categories'!$G$4:$O$831,4,0)","v":0},{"$f":"VLOOKUP($E70,'[1]Organisation Categories'!$G$4:$O$831,5,0)","v":0},{"$f":"VLOOKUP($E70,'[1]Organisation Categories'!$G$4:$O$831,6,0)","v":0},{"$f":"VLOOKUP($E70,'[1]Organisation Categories'!$G$4:$O$831,7,0)","v":1},0,0,0,0,0,0,0,0,0]
["QHM","RNN","NORTH CUMBRIA INTEGRATED CARE NHS FOUNDATION TRUST","Rehabilitation & Therapy Services","RNNRehabilitation & Therapy Services",292,0.9726027397260274,1.0273972602739725E-2,247,37,5,3,0,0,{"$f":"VLOOKUP($E71,'[1]Organisation Categories'!$G$4:$O$831,8,0)","v":292},0.9726027397260274,1.0273972602739725E-2,{"$f":"VLOOKUP($E71,'[1]Organisation Categories'!$G$4:$O$831,2,0)","v":247},{"$f":"VLOOKUP($E71,'[1]Organisation Categories'!$G$4:$O$831,3,0)","v":37},{"$f":"VLOOKUP($E71,'[1]Organisation Categories'!$G$4:$O$831,4,0)","v":5},{"$f":"VLOOKUP($E71,'[1]Organisation Categories'!$G$4:$O$831,5,0)","v":3},{"$f":"VLOOKUP($E71,'[1]Organisation Categories'!$G$4:$O$831,6,0)","v":0},{"$f":"VLOOKUP($E71,'[1]Organisation Categories'!$G$4:$O$831,7,0)","v":0},0,0,0,0,0,0,0,0,0]
["QHM","RNN","NORTH CUMBRIA INTEGRATED CARE NHS FOUNDATION TRUST","Specialist Services","RNNSpecialist Services",394,0.9441624365482234,3.553299492385787E-2,337,35,8,7,7,0,{"$f":"VLOOKUP($E72,'[1]Organisation Categories'!$G$4:$O$831,8,0)","v":394},0.9441624365482234,3.553299492385787E-2,{"$f":"VLOOKUP($E72,'[1]Organisation Categories'!$G$4:$O$831,2,0)","v":337},{"$f":"VLOOKUP($E72,'[1]Organisation Categories'!$G$4:$O$831,3,0)","v":35},{"$f":"VLOOKUP($E72,'[1]Organisation Categories'!$G$4:$O$831,4,0)","v":8},{"$f":"VLOOKUP($E72,'[1]Organisation Categories'!$G$4:$O$831,5,0)","v":7},{"$f":"VLOOKUP($E72,'[1]Organisation Categories'!$G$4:$O$831,6,0)","v":7},{"$f":"VLOOKUP($E72,'[1]Organisation Categories'!$G$4:$O$831,7,0)","v":0},0,0,0,0,0,0,0,0,0]
["QHM","RVW","NORTH TEES AND HARTLEPOOL NHS FOUNDATION TRUST","Community Healthcare Other",{"$f":"B73&D73","v":"RVWCommunity Healthcare Other"},10,0.9,0,7,2,1,0,0,0,{"$f":"VLOOKUP($E73,'[1]Organisation Categories'!$G$4:$O$831,8,0)","v":10},{"$f":"SUM(R73+S73)/SUM(R73:W73)","v":0.9},{"$f":"SUM(U73+V73)/SUM(R73:W73)","v":0},{"$f":"VLOOKUP($E73,'[1]Organisation Categories'!$G$4:$O$831,2,0)","v":7},{"$f":"VLOOKUP($E73,'[1]Organisation Categories'!$G$4:$O$831,3,0)","v":2},{"$f":"VLOOKUP($E73,'[1]Organisation Categories'!$G$4:$O$831,4,0)","v":1},{"$f":"VLOOKUP($E73,'[1]Organisation Categories'!$G$4:$O$831,5,0)","v":0},{"$f":"VLOOKUP($E73,'[1]Organisation Categories'!$G$4:$O$831,6,0)","v":0},{"$f":"VLOOKUP($E73,'[1]Organisation Categories'!$G$4:$O$831,7,0)","v":0},{"$f":"IFERROR(F73-O73,0)","v":0},{"$f":"IFERROR(G73-P73,0)","v":0},{"$f":"IFERROR(H73-Q73,0)","v":0},{"$f":"IFERROR(I73-R73,0)","v":0},{"$f":"IFERROR(J73-S73,0)","v":0},{"$f":"IFERROR(K73-T73,0)","v":0},{"$f":"IFERROR(L73-U73,0)","v":0},{"$f":"IFERROR(M73-V73,0)","v":0},{"$f":"IFERROR(N73-W73,0)","v":0}]
["QHM","RVW","NORTH TEES AND HARTLEPOOL NHS FOUNDATION TRUST","Community Nursing Services","RVWCommunity Nursing Services",106,0.99056603773584906,0,84,21,1,0,0,0,{"$f":"VLOOKUP($E74,'[1]Organisation Categories'!$G$4:$O$831,8,0)","v":106},0.99056603773584906,0,{"$f":"VLOOKUP($E74,'[1]Organisation Categories'!$G$4:$O$831,2,0)","v":84},{"$f":"VLOOKUP($E74,'[1]Organisation Categories'!$G$4:$O$831,3,0)","v":21},{"$f":"VLOOKUP($E74,'[1]Organisation Categories'!$G$4:$O$831,4,0)","v":1},{"$f":"VLOOKUP($E74,'[1]Organisation Categories'!$G$4:$O$831,5,0)","v":0},{"$f":"VLOOKUP($E74,'[1]Organisation Categories'!$G$4:$O$831,6,0)","v":0},{"$f":"VLOOKUP($E74,'[1]Organisation Categories'!$G$4:$O$831,7,0)","v":0},0,0,0,0,0,0,0,0,0]
["QHM","RVW","NORTH TEES AND HARTLEPOOL NHS FOUNDATION TRUST","Rehabilitation & Therapy Services","RVWRehabilitation & Therapy Services",45,0.97777777777777775,0,36,8,1,0,0,0,{"$f":"VLOOKUP($E75,'[1]Organisation Categories'!$G$4:$O$831,8,0)","v":45},0.97777777777777775,0,{"$f":"VLOOKUP($E75,'[1]Organisation Categories'!$G$4:$O$831,2,0)","v":36},{"$f":"VLOOKUP($E75,'[1]Organisation Categories'!$G$4:$O$831,3,0)","v":8},{"$f":"VLOOKUP($E75,'[1]Organisation Categories'!$G$4:$O$831,4,0)","v":1},{"$f":"VLOOKUP($E75,'[1]Organisation Categories'!$G$4:$O$831,5,0)","v":0},{"$f":"VLOOKUP($E75,'[1]Organisation Categories'!$G$4:$O$831,6,0)","v":0},{"$f":"VLOOKUP($E75,'[1]Organisation Categories'!$G$4:$O$831,7,0)","v":0},0,0,0,0,0,0,0,0,0]
["QHM","RVW","NORTH TEES AND HARTLEPOOL NHS FOUNDATION TRUST","Specialist Services","RVWSpecialist Services",53,0.96226415094339623,0,46,5,2,0,0,0,{"$f":"VLOOKUP($E76,'[1]Organisation Categories'!$G$4:$O$831,8,0)","v":53},0.96226415094339623,0,{"$f":"VLOOKUP($E76,'[1]Organisation Categories'!$G$4:$O$831,2,0)","v":46},{"$f":"VLOOKUP($E76,'[1]Organisation Categories'!$G$4:$O$831,3,0)","v":5},{"$f":"VLOOKUP($E76,'[1]Organisation Categories'!$G$4:$O$831,4,0)","v":2},{"$f":"VLOOKUP($E76,'[1]Organisation Categories'!$G$4:$O$831,5,0)","v":0},{"$f":"VLOOKUP($E76,'[1]Organisation Categories'!$G$4:$O$831,6,0)","v":0},{"$f":"VLOOKUP($E76,'[1]Organisation Categories'!$G$4:$O$831,7,0)","v":0},0,0,0,0,0,0,0,0,0]
["QHM","RTF","NORTHUMBRIA HEALTHCARE NHS FOUNDATION TRUST","Community Nursing Services","RTFCommunity Nursing Services",404,0.95049504950495045,2.7227722772277228E-2,336,48,6,4,7,3,{"$f":"VLOOKUP($E77,'[1]Organisation Categories'!$G$4:$O$831,8,0)","v":404},0.95049504950495045,2.7227722772277228E-2,{"$f":"VLOOKUP($E77,'[1]Organisation Categories'!$G$4:$O$831,2,0)","v":336},{"$f":"VLOOKUP($E77,'[1]Organisation Categories'!$G$4:$O$831,3,0)","v":48},{"$f":"VLOOKUP($E77,'[1]Organisation Categories'!$G$4:$O$831,4,0)","v":6},{"$f":"VLOOKUP($E77,'[1]Organisation Categories'!$G$4:$O$831,5,0)","v":4},{"$f":"VLOOKUP($E77,'[1]Organisation Categories'!$G$4:$O$831,6,0)","v":7},{"$f":"VLOOKUP($E77,'[1]Organisation Categories'!$G$4:$O$831,7,0)","v":3},0,0,0,0,0,0,0,0,0]
["QHM","RTF","NORTHUMBRIA HEALTHCARE NHS FOUNDATION TRUST","Rehabilitation & Therapy Services","RTFRehabilitation & Therapy Services",376,0.94148936170212771,2.3936170212765957E-2,309,45,10,4,5,3,{"$f":"VLOOKUP($E78,'[1]Organisation Categories'!$G$4:$O$831,8,0)","v":376},0.94148936170212771,2.3936170212765957E-2,{"$f":"VLOOKUP($E78,'[1]Organisation Categories'!$G$4:$O$831,2,0)","v":309},{"$f":"VLOOKUP($E78,'[1]Organisation Categories'!$G$4:$O$831,3,0)","v":45},{"$f":"VLOOKUP($E78,'[1]Organisation Categories'!$G$4:$O$831,4,0)","v":10},{"$f":"VLOOKUP($E78,'[1]Organisation Categories'!$G$4:$O$831,5,0)","v":4},{"$f":"VLOOKUP($E78,'[1]Organisation Categories'!$G$4:$O$831,6,0)","v":5},{"$f":"VLOOKUP($E78,'[1]Organisation Categories'!$G$4:$O$831,7,0)","v":3},0,0,0,0,0,0,0,0,0]
["QHM","RTF","NORTHUMBRIA HEALTHCARE NHS FOUNDATION TRUST","Specialist Services","RTFSpecialist Services",199,0.95477386934673369,3.015075376884422E-2,169,21,3,5,1,0,{"$f":"VLOOKUP($E79,'[1]Organisation Categories'!$G$4:$O$831,8,0)","v":199},0.95477386934673369,3.015075376884422E-2,{"$f":"VLOOKUP($E79,'[1]Organisation Categories'!$G$4:$O$831,2,0)","v":169},{"$f":"VLOOKUP($E79,'[1]Organisation Categories'!$G$4:$O$831,3,0)","v":21},{"$f":"VLOOKUP($E79,'[1]Organisation Categories'!$G$4:$O$831,4,0)","v":3},{"$f":"VLOOKUP($E79,'[1]Organisation Categories'!$G$4:$O$831,5,0)","v":5},{"$f":"VLOOKUP($E79,'[1]Organisation Categories'!$G$4:$O$831,6,0)","v":1},{"$f":"VLOOKUP($E79,'[1]Organisation Categories'!$G$4:$O$831,7,0)","v":0},0,0,0,0,0,0,0,0,0]
["QHM","RTR","SOUTH TEES HOSPITALS NHS FOUNDATION TRUST","Children & Family Services","RTRChildren & Family Services",2,"*","*","*","*","*","*","*","*",{"$f":"VLOOKUP($E80,'[1]Organisation Categories'!$G$4:$O$831,8,0)","v":2},1,0,{"$f":"VLOOKUP($E80,'[1]Organisation Categories'!$G$4:$O$831,2,0)","v":2},{"$f":"VLOOKUP($E80,'[1]Organisation Categories'!$G$4:$O$831,3,0)","v":0},{"$f":"VLOOKUP($E80,'[1]Organisation Categories'!$G$4:$O$831,4,0)","v":0},{"$f":"VLOOKUP($E80,'[1]Organisation Categories'!$G$4:$O$831,5,0)","v":0},{"$f":"VLOOKUP($E80,'[1]Organisation Categories'!$G$4:$O$831,6,0)","v":0},{"$f":"VLOOKUP($E80,'[1]Organisation Categories'!$G$4:$O$831,7,0)","v":0},0,0,0,0,0,0,0,0,0]
["QHM","RTR","SOUTH TEES HOSPITALS NHS FOUNDATION TRUST","Community Inpatient Services","RTRCommunity Inpatient Services",68,0.98529411764705888,0,51,16,1,0,0,0,{"$f":"VLOOKUP($E81,'[1]Organisation Categories'!$G$4:$O$831,8,0)","v":68},0.98529411764705888,0,{"$f":"VLOOKUP($E81,'[1]Organisation Categories'!$G$4:$O$831,2,0)","v":51},{"$f":"VLOOKUP($E81,'[1]Organisation Categories'!$G$4:$O$831,3,0)","v":16},{"$f":"VLOOKUP($E81,'[1]Organisation Categories'!$G$4:$O$831,4,0)","v":1},{"$f":"VLOOKUP($E81,'[1]Organisation Categories'!$G$4:$O$831,5,0)","v":0},{"$f":"VLOOKUP($E81,'[1]Organisation Categories'!$G$4:$O$831,6,0)","v":0},{"$f":"VLOOKUP($E81,'[1]Organisation Categories'!$G$4:$O$831,7,0)","v":0},0,0,0,0,0,0,0,0,0]
["QHM","RTR","SOUTH TEES HOSPITALS NHS FOUNDATION TRUST","Community Nursing Services","RTRCommunity Nursing Services",244,1,0,227,17,0,0,0,0,{"$f":"VLOOKUP($E82,'[1]Organisation Categories'!$G$4:$O$831,8,0)","v":244},1,0,{"$f":"VLOOKUP($E82,'[1]Organisation Categories'!$G$4:$O$831,2,0)","v":227},{"$f":"VLOOKUP($E82,'[1]Organisation Categories'!$G$4:$O$831,3,0)","v":17},{"$f":"VLOOKUP($E82,'[1]Organisation Categories'!$G$4:$O$831,4,0)","v":0},{"$f":"VLOOKUP($E82,'[1]Organisation Categories'!$G$4:$O$831,5,0)","v":0},{"$f":"VLOOKUP($E82,'[1]Organisation Categories'!$G$4:$O$831,6,0)","v":0},{"$f":"VLOOKUP($E82,'[1]Organisation Categories'!$G$4:$O$831,7,0)","v":0},0,0,0,0,0,0,0,0,0]
["QHM","RTR","SOUTH TEES HOSPITALS NHS FOUNDATION TRUST","Rehabilitation & Therapy Services","RTRRehabilitation & Therapy Services",298,0.99664429530201337,0,263,34,1,0,0,0,{"$f":"VLOOKUP($E83,'[1]Organisation Categories'!$G$4:$O$831,8,0)","v":298},0.99664429530201337,0,{"$f":"VLOOKUP($E83,'[1]Organisation Categories'!$G$4:$O$831,2,0)","v":263},{"$f":"VLOOKUP($E83,'[1]Organisation Categories'!$G$4:$O$831,3,0)","v":34},{"$f":"VLOOKUP($E83,'[1]Organisation Categories'!$G$4:$O$831,4,0)","v":1},{"$f":"VLOOKUP($E83,'[1]Organisation Categories'!$G$4:$O$831,5,0)","v":0},{"$f":"VLOOKUP($E83,'[1]Organisation Categories'!$G$4:$O$831,6,0)","v":0},{"$f":"VLOOKUP($E83,'[1]Organisation Categories'!$G$4:$O$831,7,0)","v":0},0,0,0,0,0,0,0,0,0]
["QHM","RTR","SOUTH TEES HOSPITALS NHS FOUNDATION TRUST","Specialist Services","RTRSpecialist Services",21,1,0,"*","*","*","*","*","*",{"$f":"VLOOKUP($E84,'[1]Organisation Categories'!$G$4:$O$831,8,0)","v":21},1,0,{"$f":"VLOOKUP($E84,'[1]Organisation Categories'!$G$4:$O$831,2,0)","v":19},{"$f":"VLOOKUP($E84,'[1]Organisation Categories'!$G$4:$O$831,3,0)","v":2},{"$f":"VLOOKUP($E84,'[1]Organisation Categories'!$G$4:$O$831,4,0)","v":0},{"$f":"VLOOKUP($E84,'[1]Organisation Categories'!$G$4:$O$831,5,0)","v":0},{"$f":"VLOOKUP($E84,'[1]Organisation Categories'!$G$4:$O$831,6,0)","v":0},{"$f":"VLOOKUP($E84,'[1]Organisation Categories'!$G$4:$O$831,7,0)","v":0},0,0,0,0,0,0,0,0,0]
["QHM","R0B","SOUTH TYNESIDE AND SUNDERLAND NHS FOUNDATION TRUST","Children & Family Services","R0BChildren & Family Services",41,1,0,40,1,0,0,0,0,{"$f":"VLOOKUP($E85,'[1]Organisation Categories'!$G$4:$O$831,8,0)","v":41},1,0,{"$f":"VLOOKUP($E85,'[1]Organisation Categories'!$G$4:$O$831,2,0)","v":40},{"$f":"VLOOKUP($E85,'[1]Organisation Categories'!$G$4:$O$831,3,0)","v":1},{"$f":"VLOOKUP($E85,'[1]Organisation Categories'!$G$4:$O$831,4,0)","v":0},{"$f":"VLOOKUP($E85,'[1]Organisation Categories'!$G$4:$O$831,5,0)","v":0},{"$f":"VLOOKUP($E85,'[1]Organisation Categories'!$G$4:$O$831,6,0)","v":0},{"$f":"VLOOKUP($E85,'[1]Organisation Categories'!$G$4:$O$831,7,0)","v":0},0,0,0,0,0,0,0,0,0]
["QHM","R0B","SOUTH TYNESIDE AND SUNDERLAND NHS FOUNDATION TRUST","Community Healthcare Other","R0BCommunity Healthcare Other",71,1,0,67,4,0,0,0,0,{"$f":"VLOOKUP($E86,'[1]Organisation Categories'!$G$4:$O$831,8,0)","v":71},1,0,{"$f":"VLOOKUP($E86,'[1]Organisation Categories'!$G$4:$O$831,2,0)","v":67},{"$f":"VLOOKUP($E86,'[1]Organisation Categories'!$G$4:$O$831,3,0)","v":4},{"$f":"VLOOKUP($E86,'[1]Organisation Categories'!$G$4:$O$831,4,0)","v":0},{"$f":"VLOOKUP($E86,'[1]Organisation Categories'!$G$4:$O$831,5,0)","v":0},{"$f":"VLOOKUP($E86,'[1]Organisation Categories'!$G$4:$O$831,6,0)","v":0},{"$f":"VLOOKUP($E86,'[1]Organisation Categories'!$G$4:$O$831,7,0)","v":0},0,0,0,0,0,0,0,0,0]
["QHM","R0B","SOUTH TYNESIDE AND SUNDERLAND NHS FOUNDATION TRUST","Community Inpatient Services","R0BCommunity Inpatient Services",21,1,0,19,2,0,0,0,0,{"$f":"VLOOKUP($E87,'[1]Organisation Categories'!$G$4:$O$831,8,0)","v":21},1,0,{"$f":"VLOOKUP($E87,'[1]Organisation Categories'!$G$4:$O$831,2,0)","v":19},{"$f":"VLOOKUP($E87,'[1]Organisation Categories'!$G$4:$O$831,3,0)","v":2},{"$f":"VLOOKUP($E87,'[1]Organisation Categories'!$G$4:$O$831,4,0)","v":0},{"$f":"VLOOKUP($E87,'[1]Organisation Categories'!$G$4:$O$831,5,0)","v":0},{"$f":"VLOOKUP($E87,'[1]Organisation Categories'!$G$4:$O$831,6,0)","v":0},{"$f":"VLOOKUP($E87,'[1]Organisation Categories'!$G$4:$O$831,7,0)","v":0},0,0,0,0,0,0,0,0,0]
["QHM","R0B","SOUTH TYNESIDE AND SUNDERLAND NHS FOUNDATION TRUST","Community Nursing Services","R0BCommunity Nursing Services",30,1,0,28,2,0,0,0,0,{"$f":"VLOOKUP($E88,'[1]Organisation Categories'!$G$4:$O$831,8,0)","v":30},1,0,{"$f":"VLOOKUP($E88,'[1]Organisation Categories'!$G$4:$O$831,2,0)","v":28},{"$f":"VLOOKUP($E88,'[1]Organisation Categories'!$G$4:$O$831,3,0)","v":2},{"$f":"VLOOKUP($E88,'[1]Organisation Categories'!$G$4:$O$831,4,0)","v":0},{"$f":"VLOOKUP($E88,'[1]Organisation Categories'!$G$4:$O$831,5,0)","v":0},{"$f":"VLOOKUP($E88,'[1]Organisation Categories'!$G$4:$O$831,6,0)","v":0},{"$f":"VLOOKUP($E88,'[1]Organisation Categories'!$G$4:$O$831,7,0)","v":0},0,0,0,0,0,0,0,0,0]
["QHM","R0B","SOUTH TYNESIDE AND SUNDERLAND NHS FOUNDATION TRUST","Rehabilitation & Therapy Services","R0BRehabilitation & Therapy Services",17,0.94117647058823528,5.8823529411764705E-2,13,3,0,1,0,0,{"$f":"VLOOKUP($E89,'[1]Organisation Categories'!$G$4:$O$831,8,0)","v":17},0.94117647058823528,5.8823529411764705E-2,{"$f":"VLOOKUP($E89,'[1]Organisation Categories'!$G$4:$O$831,2,0)","v":13},{"$f":"VLOOKUP($E89,'[1]Organisation Categories'!$G$4:$O$831,3,0)","v":3},{"$f":"VLOOKUP($E89,'[1]Organisation Categories'!$G$4:$O$831,4,0)","v":0},{"$f":"VLOOKUP($E89,'[1]Organisation Categories'!$G$4:$O$831,5,0)","v":1},{"$f":"VLOOKUP($E89,'[1]Organisation Categories'!$G$4:$O$831,6,0)","v":0},{"$f":"VLOOKUP($E89,'[1]Organisation Categories'!$G$4:$O$831,7,0)","v":0},0,0,0,0,0,0,0,0,0]
["QHM","R0B","SOUTH TYNESIDE AND SUNDERLAND NHS FOUNDATION TRUST","Specialist Services","R0BSpecialist Services",358,0.99162011173184361,0,329,26,3,0,0,0,{"$f":"VLOOKUP($E90,'[1]Organisation Categories'!$G$4:$O$831,8,0)","v":358},0.99162011173184361,0,{"$f":"VLOOKUP($E90,'[1]Organisation Categories'!$G$4:$O$831,2,0)","v":329},{"$f":"VLOOKUP($E90,'[1]Organisation Categories'!$G$4:$O$831,3,0)","v":26},{"$f":"VLOOKUP($E90,'[1]Organisation Categories'!$G$4:$O$831,4,0)","v":3},{"$f":"VLOOKUP($E90,'[1]Organisation Categories'!$G$4:$O$831,5,0)","v":0},{"$f":"VLOOKUP($E90,'[1]Organisation Categories'!$G$4:$O$831,6,0)","v":0},{"$f":"VLOOKUP($E90,'[1]Organisation Categories'!$G$4:$O$831,7,0)","v":0},0,0,0,0,0,0,0,0,0]
["QHM","RTD","THE NEWCASTLE UPON TYNE HOSPITALS NHS FOUNDATION TRUST","Children & Family Services","RTDChildren & Family Services",13,0.92307692307692313,0,9,3,0,0,0,1,{"$f":"VLOOKUP($E91,'[1]Organisation Categories'!$G$4:$O$831,8,0)","v":13},0.92307692307692313,0,{"$f":"VLOOKUP($E91,'[1]Organisation Categories'!$G$4:$O$831,2,0)","v":9},{"$f":"VLOOKUP($E91,'[1]Organisation Categories'!$G$4:$O$831,3,0)","v":3},{"$f":"VLOOKUP($E91,'[1]Organisation Categories'!$G$4:$O$831,4,0)","v":0},{"$f":"VLOOKUP($E91,'[1]Organisation Categories'!$G$4:$O$831,5,0)","v":0},{"$f":"VLOOKUP($E91,'[1]Organisation Categories'!$G$4:$O$831,6,0)","v":0},{"$f":"VLOOKUP($E91,'[1]Organisation Categories'!$G$4:$O$831,7,0)","v":1},0,0,0,0,0,0,0,0,0]
["QJ2","RY8","DERBYSHIRE COMMUNITY HEALTH SERVICES NHS FOUNDATION TRUST","Children & Family Services","RY8Children & Family Services",96,0.875,5.2083333333333336E-2,75,9,4,1,4,3,{"$f":"VLOOKUP($E92,'[1]Organisation Categories'!$G$4:$O$831,8,0)","v":96},0.875,5.2083333333333336E-2,{"$f":"VLOOKUP($E92,'[1]Organisation Categories'!$G$4:$O$831,2,0)","v":75},{"$f":"VLOOKUP($E92,'[1]Organisation Categories'!$G$4:$O$831,3,0)","v":9},{"$f":"VLOOKUP($E92,'[1]Organisation Categories'!$G$4:$O$831,4,0)","v":4},{"$f":"VLOOKUP($E92,'[1]Organisation Categories'!$G$4:$O$831,5,0)","v":1},{"$f":"VLOOKUP($E92,'[1]Organisation Categories'!$G$4:$O$831,6,0)","v":4},{"$f":"VLOOKUP($E92,'[1]Organisation Categories'!$G$4:$O$831,7,0)","v":3},0,0,0,0,0,0,0,0,0]
["QJ2","RY8","DERBYSHIRE COMMUNITY HEALTH SERVICES NHS FOUNDATION TRUST","Community Healthcare Other","RY8Community Healthcare Other",1140,0.92719298245614035,0.05,909,148,24,30,27,2,{"$f":"VLOOKUP($E93,'[1]Organisation Categories'!$G$4:$O$831,8,0)","v":1140},0.92719298245614035,0.05,{"$f":"VLOOKUP($E93,'[1]Organisation Categories'!$G$4:$O$831,2,0)","v":909},{"$f":"VLOOKUP($E93,'[1]Organisation Categories'!$G$4:$O$831,3,0)","v":148},{"$f":"VLOOKUP($E93,'[1]Organisation Categories'!$G$4:$O$831,4,0)","v":24},{"$f":"VLOOKUP($E93,'[1]Organisation Categories'!$G$4:$O$831,5,0)","v":30},{"$f":"VLOOKUP($E93,'[1]Organisation Categories'!$G$4:$O$831,6,0)","v":27},{"$f":"VLOOKUP($E93,'[1]Organisation Categories'!$G$4:$O$831,7,0)","v":2},0,0,0,0,0,0,0,0,0]
["QJ2","RY8","DERBYSHIRE COMMUNITY HEALTH SERVICES NHS FOUNDATION TRUST","Community Inpatient Services","RY8Community Inpatient Services",163,0.92638036809815949,4.2944785276073622E-2,125,26,4,5,2,1,{"$f":"VLOOKUP($E94,'[1]Organisation Categories'!$G$4:$O$831,8,0)","v":163},0.92638036809815949,4.2944785276073622E-2,{"$f":"VLOOKUP($E94,'[1]Organisation Categories'!$G$4:$O$831,2,0)","v":125},{"$f":"VLOOKUP($E94,'[1]Organisation Categories'!$G$4:$O$831,3,0)","v":26},{"$f":"VLOOKUP($E94,'[1]Organisation Categories'!$G$4:$O$831,4,0)","v":4},{"$f":"VLOOKUP($E94,'[1]Organisation Categories'!$G$4:$O$831,5,0)","v":5},{"$f":"VLOOKUP($E94,'[1]Organisation Categories'!$G$4:$O$831,6,0)","v":2},{"$f":"VLOOKUP($E94,'[1]Organisation Categories'!$G$4:$O$831,7,0)","v":1},0,0,0,0,0,0,0,0,0]
["QJ2","RY8","DERBYSHIRE COMMUNITY HEALTH SERVICES NHS FOUNDATION TRUST","Community Nursing Services","RY8Community Nursing Services",455,0.95824175824175828,1.7582417582417582E-2,397,39,8,5,3,3,{"$f":"VLOOKUP($E95,'[1]Organisation Categories'!$G$4:$O$831,8,0)","v":455},0.95824175824175828,1.7582417582417582E-2,{"$f":"VLOOKUP($E95,'[1]Organisation Categories'!$G$4:$O$831,2,0)","v":397},{"$f":"VLOOKUP($E95,'[1]Organisation Categories'!$G$4:$O$831,3,0)","v":39},{"$f":"VLOOKUP($E95,'[1]Organisation Categories'!$G$4:$O$831,4,0)","v":8},{"$f":"VLOOKUP($E95,'[1]Organisation Categories'!$G$4:$O$831,5,0)","v":5},{"$f":"VLOOKUP($E95,'[1]Organisation Categories'!$G$4:$O$831,6,0)","v":3},{"$f":"VLOOKUP($E95,'[1]Organisation Categories'!$G$4:$O$831,7,0)","v":3},0,0,0,0,0,0,0,0,0]
["QJ2","RY8","DERBYSHIRE COMMUNITY HEALTH SERVICES NHS FOUNDATION TRUST","Rehabilitation & Therapy Services","RY8Rehabilitation & Therapy Services",1116,0.93279569892473113,3.046594982078853E-2,937,104,36,21,13,5,{"$f":"VLOOKUP($E96,'[1]Organisation Categories'!$G$4:$O$831,8,0)","v":1116},0.93279569892473113,3.046594982078853E-2,{"$f":"VLOOKUP($E96,'[1]Organisation Categories'!$G$4:$O$831,2,0)","v":937},{"$f":"VLOOKUP($E96,'[1]Organisation Categories'!$G$4:$O$831,3,0)","v":104},{"$f":"VLOOKUP($E96,'[1]Organisation Categories'!$G$4:$O$831,4,0)","v":36},{"$f":"VLOOKUP($E96,'[1]Organisation Categories'!$G$4:$O$831,5,0)","v":21},{"$f":"VLOOKUP($E96,'[1]Organisation Categories'!$G$4:$O$831,6,0)","v":13},{"$f":"VLOOKUP($E96,'[1]Organisation Categories'!$G$4:$O$831,7,0)","v":5},0,0,0,0,0,0,0,0,0]
["QJ2","RY8","DERBYSHIRE COMMUNITY HEALTH SERVICES NHS FOUNDATION TRUST","Specialist Services","RY8Specialist Services",94,0.94680851063829785,2.1276595744680851E-2,78,11,2,1,1,1,{"$f":"VLOOKUP($E97,'[1]Organisation Categories'!$G$4:$O$831,8,0)","v":94},0.94680851063829785,2.1276595744680851E-2,{"$f":"VLOOKUP($E97,'[1]Organisation Categories'!$G$4:$O$831,2,0)","v":78},{"$f":"VLOOKUP($E97,'[1]Organisation Categories'!$G$4:$O$831,3,0)","v":11},{"$f":"VLOOKUP($E97,'[1]Organisation Categories'!$G$4:$O$831,4,0)","v":2},{"$f":"VLOOKUP($E97,'[1]Organisation Categories'!$G$4:$O$831,5,0)","v":1},{"$f":"VLOOKUP($E97,'[1]Organisation Categories'!$G$4:$O$831,6,0)","v":1},{"$f":"VLOOKUP($E97,'[1]Organisation Categories'!$G$4:$O$831,7,0)","v":1},0,0,0,0,0,0,0,0,0]
["QJ2","RXM","DERBYSHIRE HEALTHCARE NHS FOUNDATION TRUST","Children & Family Services","RXMChildren & Family Services",12,0.91666666666666663,8.3333333333333329E-2,8,3,0,0,1,0,{"$f":"VLOOKUP($E98,'[1]Organisation Categories'!$G$4:$O$831,8,0)","v":12},0.91666666666666663,8.3333333333333329E-2,{"$f":"VLOOKUP($E98,'[1]Organisation Categories'!$G$4:$O$831,2,0)","v":8},{"$f":"VLOOKUP($E98,'[1]Organisation Categories'!$G$4:$O$831,3,0)","v":3},{"$f":"VLOOKUP($E98,'[1]Organisation Categories'!$G$4:$O$831,4,0)","v":0},{"$f":"VLOOKUP($E98,'[1]Organisation Categories'!$G$4:$O$831,5,0)","v":0},{"$f":"VLOOKUP($E98,'[1]Organisation Categories'!$G$4:$O$831,6,0)","v":1},{"$f":"VLOOKUP($E98,'[1]Organisation Categories'!$G$4:$O$831,7,0)","v":0},0,0,0,0,0,0,0,0,0]
["QJG","RDE","EAST SUFFOLK AND NORTH ESSEX NHS FOUNDATION TRUST","Children & Family Services","RDEChildren & Family Services",3,"*","*","*","*","*","*","*","*",{"$f":"VLOOKUP($E99,'[1]Organisation Categories'!$G$4:$O$831,8,0)","v":3},0.66666666666666663,0,{"$f":"VLOOKUP($E99,'[1]Organisation Categories'!$G$4:$O$831,2,0)","v":2},{"$f":"VLOOKUP($E99,'[1]Organisation Categories'!$G$4:$O$831,3,0)","v":0},{"$f":"VLOOKUP($E99,'[1]Organisation Categories'!$G$4:$O$831,4,0)","v":0},{"$f":"VLOOKUP($E99,'[1]Organisation Categories'!$G$4:$O$831,5,0)","v":0},{"$f":"VLOOKUP($E99,'[1]Organisation Categories'!$G$4:$O$831,6,0)","v":0},{"$f":"VLOOKUP($E99,'[1]Organisation Categories'!$G$4:$O$831,7,0)","v":1},0,0,0,0,0,0,0,0,0]
["QJG","RDE","EAST SUFFOLK AND NORTH ESSEX NHS FOUNDATION TRUST","Community Healthcare Other","RDECommunity Healthcare Other",37,0.97297297297297303,0,"*","*","*","*","*","*",{"$f":"VLOOKUP($E100,'[1]Organisation Categories'!$G$4:$O$831,8,0)","v":37},0.97297297297297303,0,{"$f":"VLOOKUP($E100,'[1]Organisation Categories'!$G$4:$O$831,2,0)","v":34},{"$f":"VLOOKUP($E100,'[1]Organisation Categories'!$G$4:$O$831,3,0)","v":2},{"$f":"VLOOKUP($E100,'[1]Organisation Categories'!$G$4:$O$831,4,0)","v":1},{"$f":"VLOOKUP($E100,'[1]Organisation Categories'!$G$4:$O$831,5,0)","v":0},{"$f":"VLOOKUP($E100,'[1]Organisation Categories'!$G$4:$O$831,6,0)","v":0},{"$f":"VLOOKUP($E100,'[1]Organisation Categories'!$G$4:$O$831,7,0)","v":0},0,0,0,0,0,0,0,0,0]
["QJG","RDE","EAST SUFFOLK AND NORTH ESSEX NHS FOUNDATION TRUST","Community Nursing Services","RDECommunity Nursing Services",86,0.94186046511627908,1.1627906976744186E-2,74,7,4,0,1,0,{"$f":"VLOOKUP($E101,'[1]Organisation Categories'!$G$4:$O$831,8,0)","v":86},0.94186046511627908,1.1627906976744186E-2,{"$f":"VLOOKUP($E101,'[1]Organisation Categories'!$G$4:$O$831,2,0)","v":74},{"$f":"VLOOKUP($E101,'[1]Organisation Categories'!$G$4:$O$831,3,0)","v":7},{"$f":"VLOOKUP($E101,'[1]Organisation Categories'!$G$4:$O$831,4,0)","v":4},{"$f":"VLOOKUP($E101,'[1]Organisation Categories'!$G$4:$O$831,5,0)","v":0},{"$f":"VLOOKUP($E101,'[1]Organisation Categories'!$G$4:$O$831,6,0)","v":1},{"$f":"VLOOKUP($E101,'[1]Organisation Categories'!$G$4:$O$831,7,0)","v":0},0,0,0,0,0,0,0,0,0]
["QJG","RDE","EAST SUFFOLK AND NORTH ESSEX NHS FOUNDATION TRUST","Rehabilitation & Therapy Services","RDERehabilitation & Therapy Services",274,0.95255474452554745,2.5547445255474453E-2,241,20,5,5,2,1,{"$f":"VLOOKUP($E102,'[1]Organisation Categories'!$G$4:$O$831,8,0)","v":274},0.95255474452554745,2.5547445255474453E-2,{"$f":"VLOOKUP($E102,'[1]Organisation Categories'!$G$4:$O$831,2,0)","v":241},{"$f":"VLOOKUP($E102,'[1]Organisation Categories'!$G$4:$O$831,3,0)","v":20},{"$f":"VLOOKUP($E102,'[1]Organisation Categories'!$G$4:$O$831,4,0)","v":5},{"$f":"VLOOKUP($E102,'[1]Organisation Categories'!$G$4:$O$831,5,0)","v":5},{"$f":"VLOOKUP($E102,'[1]Organisation Categories'!$G$4:$O$831,6,0)","v":2},{"$f":"VLOOKUP($E102,'[1]Organisation Categories'!$G$4:$O$831,7,0)","v":1},0,0,0,0,0,0,0,0,0]
["QJG","RGR","WEST SUFFOLK NHS FOUNDATION TRUST","Children & Family Services","RGRChildren & Family Services",36,0.91666666666666663,5.5555555555555552E-2,28,5,1,0,2,0,{"$f":"VLOOKUP($E103,'[1]Organisation Categories'!$G$4:$O$831,8,0)","v":36},0.91666666666666663,5.5555555555555552E-2,{"$f":"VLOOKUP($E103,'[1]Organisation Categories'!$G$4:$O$831,2,0)","v":28},{"$f":"VLOOKUP($E103,'[1]Organisation Categories'!$G$4:$O$831,3,0)","v":5},{"$f":"VLOOKUP($E103,'[1]Organisation Categories'!$G$4:$O$831,4,0)","v":1},{"$f":"VLOOKUP($E103,'[1]Organisation Categories'!$G$4:$O$831,5,0)","v":0},{"$f":"VLOOKUP($E103,'[1]Organisation Categories'!$G$4:$O$831,6,0)","v":2},{"$f":"VLOOKUP($E103,'[1]Organisation Categories'!$G$4:$O$831,7,0)","v":0},0,0,0,0,0,0,0,0,0]
["QJG","RGR","WEST SUFFOLK NHS FOUNDATION TRUST","Community Healthcare Other","RGRCommunity Healthcare Other",5,0,1,0,0,0,2,3,0,{"$f":"VLOOKUP($E104,'[1]Organisation Categories'!$G$4:$O$831,8,0)","v":5},0,1,{"$f":"VLOOKUP($E104,'[1]Organisation Categories'!$G$4:$O$831,2,0)","v":0},{"$f":"VLOOKUP($E104,'[1]Organisation Categories'!$G$4:$O$831,3,0)","v":0},{"$f":"VLOOKUP($E104,'[1]Organisation Categories'!$G$4:$O$831,4,0)","v":0},{"$f":"VLOOKUP($E104,'[1]Organisation Categories'!$G$4:$O$831,5,0)","v":2},{"$f":"VLOOKUP($E104,'[1]Organisation Categories'!$G$4:$O$831,6,0)","v":3},{"$f":"VLOOKUP($E104,'[1]Organisation Categories'!$G$4:$O$831,7,0)","v":0},0,0,0,0,0,0,0,0,0]
["QJG","RGR","WEST SUFFOLK NHS FOUNDATION TRUST","Community Inpatient Services","RGRCommunity Inpatient Services",75,1,0,59,16,0,0,0,0,{"$f":"VLOOKUP($E105,'[1]Organisation Categories'!$G$4:$O$831,8,0)","v":75},1,0,{"$f":"VLOOKUP($E105,'[1]Organisation Categories'!$G$4:$O$831,2,0)","v":59},{"$f":"VLOOKUP($E105,'[1]Organisation Categories'!$G$4:$O$831,3,0)","v":16},{"$f":"VLOOKUP($E105,'[1]Organisation Categories'!$G$4:$O$831,4,0)","v":0},{"$f":"VLOOKUP($E105,'[1]Organisation Categories'!$G$4:$O$831,5,0)","v":0},{"$f":"VLOOKUP($E105,'[1]Organisation Categories'!$G$4:$O$831,6,0)","v":0},{"$f":"VLOOKUP($E105,'[1]Organisation Categories'!$G$4:$O$831,7,0)","v":0},0,0,0,0,0,0,0,0,0]
["QJG","RGR","WEST SUFFOLK NHS FOUNDATION TRUST","Community Nursing Services","RGRCommunity Nursing Services",22,0.90909090909090906,9.0909090909090912E-2,16,4,0,2,0,0,{"$f":"VLOOKUP($E106,'[1]Organisation Categories'!$G$4:$O$831,8,0)","v":22},0.90909090909090906,9.0909090909090912E-2,{"$f":"VLOOKUP($E106,'[1]Organisation Categories'!$G$4:$O$831,2,0)","v":16},{"$f":"VLOOKUP($E106,'[1]Organisation Categories'!$G$4:$O$831,3,0)","v":4},{"$f":"VLOOKUP($E106,'[1]Organisation Categories'!$G$4:$O$831,4,0)","v":0},{"$f":"VLOOKUP($E106,'[1]Organisation Categories'!$G$4:$O$831,5,0)","v":2},{"$f":"VLOOKUP($E106,'[1]Organisation Categories'!$G$4:$O$831,6,0)","v":0},{"$f":"VLOOKUP($E106,'[1]Organisation Categories'!$G$4:$O$831,7,0)","v":0},0,0,0,0,0,0,0,0,0]
["QJG","RGR","WEST SUFFOLK NHS FOUNDATION TRUST","Rehabilitation & Therapy Services","RGRRehabilitation & Therapy Services",8,0.875,0,7,0,0,0,0,1,{"$f":"VLOOKUP($E107,'[1]Organisation Categories'!$G$4:$O$831,8,0)","v":8},0.875,0,{"$f":"VLOOKUP($E107,'[1]Organisation Categories'!$G$4:$O$831,2,0)","v":7},{"$f":"VLOOKUP($E107,'[1]Organisation Categories'!$G$4:$O$831,3,0)","v":0},{"$f":"VLOOKUP($E107,'[1]Organisation Categories'!$G$4:$O$831,4,0)","v":0},{"$f":"VLOOKUP($E107,'[1]Organisation Categories'!$G$4:$O$831,5,0)","v":0},{"$f":"VLOOKUP($E107,'[1]Organisation Categories'!$G$4:$O$831,6,0)","v":0},{"$f":"VLOOKUP($E107,'[1]Organisation Categories'!$G$4:$O$831,7,0)","v":1},0,0,0,0,0,0,0,0,0]
["QJK","RH8","ROYAL DEVON UNIVERSITY HEALTHCARE NHS FOUNDATION TRUST","Community Healthcare Other","RH8Community Healthcare Other",140,0.99285714285714288,0,126,13,1,0,0,0,{"$f":"VLOOKUP($E108,'[1]Organisation Categories'!$G$4:$O$831,8,0)","v":140},0.99285714285714288,0,{"$f":"VLOOKUP($E108,'[1]Organisation Categories'!$G$4:$O$831,2,0)","v":126},{"$f":"VLOOKUP($E108,'[1]Organisation Categories'!$G$4:$O$831,3,0)","v":13},{"$f":"VLOOKUP($E108,'[1]Organisation Categories'!$G$4:$O$831,4,0)","v":1},{"$f":"VLOOKUP($E108,'[1]Organisation Categories'!$G$4:$O$831,5,0)","v":0},{"$f":"VLOOKUP($E108,'[1]Organisation Categories'!$G$4:$O$831,6,0)","v":0},{"$f":"VLOOKUP($E108,'[1]Organisation Categories'!$G$4:$O$831,7,0)","v":0},0,0,0,0,0,0,0,0,0]
["QJK","RH8","ROYAL DEVON UNIVERSITY HEALTHCARE NHS FOUNDATION TRUST","Community Inpatient Services","RH8Community Inpatient Services",51,0.88235294117647056,3.9215686274509803E-2,29,16,4,2,0,0,{"$f":"VLOOKUP($E109,'[1]Organisation Categories'!$G$4:$O$831,8,0)","v":51},0.88235294117647056,3.9215686274509803E-2,{"$f":"VLOOKUP($E109,'[1]Organisation Categories'!$G$4:$O$831,2,0)","v":29},{"$f":"VLOOKUP($E109,'[1]Organisation Categories'!$G$4:$O$831,3,0)","v":16},{"$f":"VLOOKUP($E109,'[1]Organisation Categories'!$G$4:$O$831,4,0)","v":4},{"$f":"VLOOKUP($E109,'[1]Organisation Categories'!$G$4:$O$831,5,0)","v":2},{"$f":"VLOOKUP($E109,'[1]Organisation Categories'!$G$4:$O$831,6,0)","v":0},{"$f":"VLOOKUP($E109,'[1]Organisation Categories'!$G$4:$O$831,7,0)","v":0},0,0,0,0,0,0,0,0,0]
["QJK","RH8","ROYAL DEVON UNIVERSITY HEALTHCARE NHS FOUNDATION TRUST","Community Nursing Services","RH8Community Nursing Services",119,1,0,106,13,0,0,0,0,{"$f":"VLOOKUP($E110,'[1]Organisation Categories'!$G$4:$O$831,8,0)","v":119},1,0,{"$f":"VLOOKUP($E110,'[1]Organisation Categories'!$G$4:$O$831,2,0)","v":106},{"$f":"VLOOKUP($E110,'[1]Organisation Categories'!$G$4:$O$831,3,0)","v":13},{"$f":"VLOOKUP($E110,'[1]Organisation Categories'!$G$4:$O$831,4,0)","v":0},{"$f":"VLOOKUP($E110,'[1]Organisation Categories'!$G$4:$O$831,5,0)","v":0},{"$f":"VLOOKUP($E110,'[1]Organisation Categories'!$G$4:$O$831,6,0)","v":0},{"$f":"VLOOKUP($E110,'[1]Organisation Categories'!$G$4:$O$831,7,0)","v":0},0,0,0,0,0,0,0,0,0]
["QJK","RH8","ROYAL DEVON UNIVERSITY HEALTHCARE NHS FOUNDATION TRUST","Rehabilitation & Therapy Services","RH8Rehabilitation & Therapy Services",88,1,0,78,10,0,0,0,0,{"$f":"VLOOKUP($E111,'[1]Organisation Categories'!$G$4:$O$831,8,0)","v":88},1,0,{"$f":"VLOOKUP($E111,'[1]Organisation Categories'!$G$4:$O$831,2,0)","v":78},{"$f":"VLOOKUP($E111,'[1]Organisation Categories'!$G$4:$O$831,3,0)","v":10},{"$f":"VLOOKUP($E111,'[1]Organisation Categories'!$G$4:$O$831,4,0)","v":0},{"$f":"VLOOKUP($E111,'[1]Organisation Categories'!$G$4:$O$831,5,0)","v":0},{"$f":"VLOOKUP($E111,'[1]Organisation Categories'!$G$4:$O$831,6,0)","v":0},{"$f":"VLOOKUP($E111,'[1]Organisation Categories'!$G$4:$O$831,7,0)","v":0},0,0,0,0,0,0,0,0,0]
["QJK","RH8","ROYAL DEVON UNIVERSITY HEALTHCARE NHS FOUNDATION TRUST","Specialist Services","RH8Specialist Services",194,0.98969072164948457,5.1546391752577319E-3,183,9,1,0,1,0,{"$f":"VLOOKUP($E112,'[1]Organisation Categories'!$G$4:$O$831,8,0)","v":194},0.98969072164948457,5.1546391752577319E-3,{"$f":"VLOOKUP($E112,'[1]Organisation Categories'!$G$4:$O$831,2,0)","v":183},{"$f":"VLOOKUP($E112,'[1]Organisation Categories'!$G$4:$O$831,3,0)","v":9},{"$f":"VLOOKUP($E112,'[1]Organisation Categories'!$G$4:$O$831,4,0)","v":1},{"$f":"VLOOKUP($E112,'[1]Organisation Categories'!$G$4:$O$831,5,0)","v":0},{"$f":"VLOOKUP($E112,'[1]Organisation Categories'!$G$4:$O$831,6,0)","v":1},{"$f":"VLOOKUP($E112,'[1]Organisation Categories'!$G$4:$O$831,7,0)","v":0},0,0,0,0,0,0,0,0,0]
["QJK","RA9","TORBAY AND SOUTH DEVON NHS FOUNDATION TRUST","Community Inpatient Services","RA9Community Inpatient Services",27,1,0,19,8,0,0,0,0,{"$f":"VLOOKUP($E113,'[1]Organisation Categories'!$G$4:$O$831,8,0)","v":27},1,0,{"$f":"VLOOKUP($E113,'[1]Organisation Categories'!$G$4:$O$831,2,0)","v":19},{"$f":"VLOOKUP($E113,'[1]Organisation Categories'!$G$4:$O$831,3,0)","v":8},{"$f":"VLOOKUP($E113,'[1]Organisation Categories'!$G$4:$O$831,4,0)","v":0},{"$f":"VLOOKUP($E113,'[1]Organisation Categories'!$G$4:$O$831,5,0)","v":0},{"$f":"VLOOKUP($E113,'[1]Organisation Categories'!$G$4:$O$831,6,0)","v":0},{"$f":"VLOOKUP($E113,'[1]Organisation Categories'!$G$4:$O$831,7,0)","v":0},0,0,0,0,0,0,0,0,0]
["QJK","RA9","TORBAY AND SOUTH DEVON NHS FOUNDATION TRUST","Community Nursing Services","RA9Community Nursing Services",5,1,0,"*","*","*","*","*","*",{"$f":"VLOOKUP($E114,'[1]Organisation Categories'!$G$4:$O$831,8,0)","v":5},1,0,{"$f":"VLOOKUP($E114,'[1]Organisation Categories'!$G$4:$O$831,2,0)","v":4},{"$f":"VLOOKUP($E114,'[1]Organisation Categories'!$G$4:$O$831,3,0)","v":1},{"$f":"VLOOKUP($E114,'[1]Organisation Categories'!$G$4:$O$831,4,0)","v":0},{"$f":"VLOOKUP($E114,'[1]Organisation Categories'!$G$4:$O$831,5,0)","v":0},{"$f":"VLOOKUP($E114,'[1]Organisation Categories'!$G$4:$O$831,6,0)","v":0},{"$f":"VLOOKUP($E114,'[1]Organisation Categories'!$G$4:$O$831,7,0)","v":0},0,0,0,0,0,0,0,0,0]
["QJK","RA9","TORBAY AND SOUTH DEVON NHS FOUNDATION TRUST","Rehabilitation & Therapy Services","RA9Rehabilitation & Therapy Services",1,"*","*","*","*","*","*","*","*",{"$f":"VLOOKUP($E115,'[1]Organisation Categories'!$G$4:$O$831,8,0)","v":1},1,0,{"$f":"VLOOKUP($E115,'[1]Organisation Categories'!$G$4:$O$831,2,0)","v":1},{"$f":"VLOOKUP($E115,'[1]Organisation Categories'!$G$4:$O$831,3,0)","v":0},{"$f":"VLOOKUP($E115,'[1]Organisation Categories'!$G$4:$O$831,4,0)","v":0},{"$f":"VLOOKUP($E115,'[1]Organisation Categories'!$G$4:$O$831,5,0)","v":0},{"$f":"VLOOKUP($E115,'[1]Organisation Categories'!$G$4:$O$831,6,0)","v":0},{"$f":"VLOOKUP($E115,'[1]Organisation Categories'!$G$4:$O$831,7,0)","v":0},0,0,0,0,0,0,0,0,0]
["QJK","RA9","TORBAY AND SOUTH DEVON NHS FOUNDATION TRUST","Specialist Services","RA9Specialist Services",55,1,0,53,2,0,0,0,0,{"$f":"VLOOKUP($E116,'[1]Organisation Categories'!$G$4:$O$831,8,0)","v":55},1,0,{"$f":"VLOOKUP($E116,'[1]Organisation Categories'!$G$4:$O$831,2,0)","v":53},{"$f":"VLOOKUP($E116,'[1]Organisation Categories'!$G$4:$O$831,3,0)","v":2},{"$f":"VLOOKUP($E116,'[1]Organisation Categories'!$G$4:$O$831,4,0)","v":0},{"$f":"VLOOKUP($E116,'[1]Organisation Categories'!$G$4:$O$831,5,0)","v":0},{"$f":"VLOOKUP($E116,'[1]Organisation Categories'!$G$4:$O$831,6,0)","v":0},{"$f":"VLOOKUP($E116,'[1]Organisation Categories'!$G$4:$O$831,7,0)","v":0},0,0,0,0,0,0,0,0,0]
["QJK","RK9","UNIVERSITY HOSPITALS PLYMOUTH NHS TRUST","Children & Family Services","RK9Children & Family Services",1,"*","*","*","*","*","*","*","*",{"$f":"VLOOKUP($E117,'[1]Organisation Categories'!$G$4:$O$831,8,0)","v":1},1,0,{"$f":"VLOOKUP($E117,'[1]Organisation Categories'!$G$4:$O$831,2,0)","v":1},{"$f":"VLOOKUP($E117,'[1]Organisation Categories'!$G$4:$O$831,3,0)","v":0},{"$f":"VLOOKUP($E117,'[1]Organisation Categories'!$G$4:$O$831,4,0)","v":0},{"$f":"VLOOKUP($E117,'[1]Organisation Categories'!$G$4:$O$831,5,0)","v":0},{"$f":"VLOOKUP($E117,'[1]Organisation Categories'!$G$4:$O$831,6,0)","v":0},{"$f":"VLOOKUP($E117,'[1]Organisation Categories'!$G$4:$O$831,7,0)","v":0},0,0,0,0,0,0,0,0,0]
["QJM","RY5","LINCOLNSHIRE COMMUNITY HEALTH SERVICES NHS TRUST","Children & Family Services","RY5Children & Family Services",76,0.89473684210526316,1.3157894736842105E-2,63,5,5,0,1,2,{"$f":"VLOOKUP($E118,'[1]Organisation Categories'!$G$4:$O$831,8,0)","v":76},0.89473684210526316,1.3157894736842105E-2,{"$f":"VLOOKUP($E118,'[1]Organisation Categories'!$G$4:$O$831,2,0)","v":63},{"$f":"VLOOKUP($E118,'[1]Organisation Categories'!$G$4:$O$831,3,0)","v":5},{"$f":"VLOOKUP($E118,'[1]Organisation Categories'!$G$4:$O$831,4,0)","v":5},{"$f":"VLOOKUP($E118,'[1]Organisation Categories'!$G$4:$O$831,5,0)","v":0},{"$f":"VLOOKUP($E118,'[1]Organisation Categories'!$G$4:$O$831,6,0)","v":1},{"$f":"VLOOKUP($E118,'[1]Organisation Categories'!$G$4:$O$831,7,0)","v":2},0,0,0,0,0,0,0,0,0]
["QJM","RY5","LINCOLNSHIRE COMMUNITY HEALTH SERVICES NHS TRUST","Community Healthcare Other","RY5Community Healthcare Other",2621,0.85005723006486078,9.3094238840137358E-2,1826,402,123,106,138,26,{"$f":"VLOOKUP($E119,'[1]Organisation Categories'!$G$4:$O$831,8,0)","v":2621},0.85005723006486078,9.3094238840137358E-2,{"$f":"VLOOKUP($E119,'[1]Organisation Categories'!$G$4:$O$831,2,0)","v":1826},{"$f":"VLOOKUP($E119,'[1]Organisation Categories'!$G$4:$O$831,3,0)","v":402},{"$f":"VLOOKUP($E119,'[1]Organisation Categories'!$G$4:$O$831,4,0)","v":123},{"$f":"VLOOKUP($E119,'[1]Organisation Categories'!$G$4:$O$831,5,0)","v":106},{"$f":"VLOOKUP($E119,'[1]Organisation Categories'!$G$4:$O$831,6,0)","v":138},{"$f":"VLOOKUP($E119,'[1]Organisation Categories'!$G$4:$O$831,7,0)","v":26},0,0,0,0,0,0,0,0,0]
["QJM","RY5","LINCOLNSHIRE COMMUNITY HEALTH SERVICES NHS TRUST","Community Inpatient Services","RY5Community Inpatient Services",351,0.98005698005698005,5.6980056980056983E-3,314,30,3,0,2,2,{"$f":"VLOOKUP($E120,'[1]Organisation Categories'!$G$4:$O$831,8,0)","v":351},0.98005698005698005,5.6980056980056983E-3,{"$f":"VLOOKUP($E120,'[1]Organisation Categories'!$G$4:$O$831,2,0)","v":314},{"$f":"VLOOKUP($E120,'[1]Organisation Categories'!$G$4:$O$831,3,0)","v":30},{"$f":"VLOOKUP($E120,'[1]Organisation Categories'!$G$4:$O$831,4,0)","v":3},{"$f":"VLOOKUP($E120,'[1]Organisation Categories'!$G$4:$O$831,5,0)","v":0},{"$f":"VLOOKUP($E120,'[1]Organisation Categories'!$G$4:$O$831,6,0)","v":2},{"$f":"VLOOKUP($E120,'[1]Organisation Categories'!$G$4:$O$831,7,0)","v":2},0,0,0,0,0,0,0,0,0]
["QJM","RY5","LINCOLNSHIRE COMMUNITY HEALTH SERVICES NHS TRUST","Community Nursing Services","RY5Community Nursing Services",549,0.92349726775956287,2.185792349726776E-2,436,71,24,9,3,6,{"$f":"VLOOKUP($E121,'[1]Organisation Categories'!$G$4:$O$831,8,0)","v":549},0.92349726775956287,2.185792349726776E-2,{"$f":"VLOOKUP($E121,'[1]Organisation Categories'!$G$4:$O$831,2,0)","v":436},{"$f":"VLOOKUP($E121,'[1]Organisation Categories'!$G$4:$O$831,3,0)","v":71},{"$f":"VLOOKUP($E121,'[1]Organisation Categories'!$G$4:$O$831,4,0)","v":24},{"$f":"VLOOKUP($E121,'[1]Organisation Categories'!$G$4:$O$831,5,0)","v":9},{"$f":"VLOOKUP($E121,'[1]Organisation Categories'!$G$4:$O$831,6,0)","v":3},{"$f":"VLOOKUP($E121,'[1]Organisation Categories'!$G$4:$O$831,7,0)","v":6},0,0,0,0,0,0,0,0,0]
["QJM","RY5","LINCOLNSHIRE COMMUNITY HEALTH SERVICES NHS TRUST","Rehabilitation & Therapy Services","RY5Rehabilitation & Therapy Services",153,0.94117647058823528,0,128,16,6,0,0,3,{"$f":"VLOOKUP($E122,'[1]Organisation Categories'!$G$4:$O$831,8,0)","v":153},0.94117647058823528,0,{"$f":"VLOOKUP($E122,'[1]Organisation Categories'!$G$4:$O$831,2,0)","v":128},{"$f":"VLOOKUP($E122,'[1]Organisation Categories'!$G$4:$O$831,3,0)","v":16},{"$f":"VLOOKUP($E122,'[1]Organisation Categories'!$G$4:$O$831,4,0)","v":6},{"$f":"VLOOKUP($E122,'[1]Organisation Categories'!$G$4:$O$831,5,0)","v":0},{"$f":"VLOOKUP($E122,'[1]Organisation Categories'!$G$4:$O$831,6,0)","v":0},{"$f":"VLOOKUP($E122,'[1]Organisation Categories'!$G$4:$O$831,7,0)","v":3},0,0,0,0,0,0,0,0,0]
["QJM","RY5","LINCOLNSHIRE COMMUNITY HEALTH SERVICES NHS TRUST","Specialist Services","RY5Specialist Services",1049,0.94756911344137273,2.4785510009532889E-2,870,124,16,15,11,13,{"$f":"VLOOKUP($E123,'[1]Organisation Categories'!$G$4:$O$831,8,0)","v":1049},0.94756911344137273,2.4785510009532889E-2,{"$f":"VLOOKUP($E123,'[1]Organisation Categories'!$G$4:$O$831,2,0)","v":870},{"$f":"VLOOKUP($E123,'[1]Organisation Categories'!$G$4:$O$831,3,0)","v":124},{"$f":"VLOOKUP($E123,'[1]Organisation Categories'!$G$4:$O$831,4,0)","v":16},{"$f":"VLOOKUP($E123,'[1]Organisation Categories'!$G$4:$O$831,5,0)","v":15},{"$f":"VLOOKUP($E123,'[1]Organisation Categories'!$G$4:$O$831,6,0)","v":11},{"$f":"VLOOKUP($E123,'[1]Organisation Categories'!$G$4:$O$831,7,0)","v":13},0,0,0,0,0,0,0,0,0]
["QK1","RT5","LEICESTERSHIRE PARTNERSHIP NHS TRUST","Children & Family Services","RT5Children & Family Services",200,0.9,0.06,165,15,6,4,8,2,{"$f":"VLOOKUP($E124,'[1]Organisation Categories'!$G$4:$O$831,8,0)","v":200},0.9,0.06,{"$f":"VLOOKUP($E124,'[1]Organisation Categories'!$G$4:$O$831,2,0)","v":165},{"$f":"VLOOKUP($E124,'[1]Organisation Categories'!$G$4:$O$831,3,0)","v":15},{"$f":"VLOOKUP($E124,'[1]Organisation Categories'!$G$4:$O$831,4,0)","v":6},{"$f":"VLOOKUP($E124,'[1]Organisation Categories'!$G$4:$O$831,5,0)","v":4},{"$f":"VLOOKUP($E124,'[1]Organisation Categories'!$G$4:$O$831,6,0)","v":8},{"$f":"VLOOKUP($E124,'[1]Organisation Categories'!$G$4:$O$831,7,0)","v":2},0,0,0,0,0,0,0,0,0]
["QK1","RT5","LEICESTERSHIRE PARTNERSHIP NHS TRUST","Community Healthcare Other","RT5Community Healthcare Other",20,1,0,19,1,0,0,0,0,{"$f":"VLOOKUP($E125,'[1]Organisation Categories'!$G$4:$O$831,8,0)","v":20},1,0,{"$f":"VLOOKUP($E125,'[1]Organisation Categories'!$G$4:$O$831,2,0)","v":19},{"$f":"VLOOKUP($E125,'[1]Organisation Categories'!$G$4:$O$831,3,0)","v":1},{"$f":"VLOOKUP($E125,'[1]Organisation Categories'!$G$4:$O$831,4,0)","v":0},{"$f":"VLOOKUP($E125,'[1]Organisation Categories'!$G$4:$O$831,5,0)","v":0},{"$f":"VLOOKUP($E125,'[1]Organisation Categories'!$G$4:$O$831,6,0)","v":0},{"$f":"VLOOKUP($E125,'[1]Organisation Categories'!$G$4:$O$831,7,0)","v":0},0,0,0,0,0,0,0,0,0]
["QK1","RT5","LEICESTERSHIRE PARTNERSHIP NHS TRUST","Community Inpatient Services","RT5Community Inpatient Services",111,0.95495495495495497,2.7027027027027029E-2,82,24,2,2,1,0,{"$f":"VLOOKUP($E126,'[1]Organisation Categories'!$G$4:$O$831,8,0)","v":111},0.95495495495495497,2.7027027027027029E-2,{"$f":"VLOOKUP($E126,'[1]Organisation Categories'!$G$4:$O$831,2,0)","v":82},{"$f":"VLOOKUP($E126,'[1]Organisation Categories'!$G$4:$O$831,3,0)","v":24},{"$f":"VLOOKUP($E126,'[1]Organisation Categories'!$G$4:$O$831,4,0)","v":2},{"$f":"VLOOKUP($E126,'[1]Organisation Categories'!$G$4:$O$831,5,0)","v":2},{"$f":"VLOOKUP($E126,'[1]Organisation Categories'!$G$4:$O$831,6,0)","v":1},{"$f":"VLOOKUP($E126,'[1]Organisation Categories'!$G$4:$O$831,7,0)","v":0},0,0,0,0,0,0,0,0,0]
["QK1","RT5","LEICESTERSHIRE PARTNERSHIP NHS TRUST","Community Nursing Services","RT5Community Nursing Services",376,0.91223404255319152,7.9787234042553185E-3,265,78,23,1,2,7,{"$f":"VLOOKUP($E127,'[1]Organisation Categories'!$G$4:$O$831,8,0)","v":376},0.91223404255319152,7.9787234042553185E-3,{"$f":"VLOOKUP($E127,'[1]Organisation Categories'!$G$4:$O$831,2,0)","v":265},{"$f":"VLOOKUP($E127,'[1]Organisation Categories'!$G$4:$O$831,3,0)","v":78},{"$f":"VLOOKUP($E127,'[1]Organisation Categories'!$G$4:$O$831,4,0)","v":23},{"$f":"VLOOKUP($E127,'[1]Organisation Categories'!$G$4:$O$831,5,0)","v":1},{"$f":"VLOOKUP($E127,'[1]Organisation Categories'!$G$4:$O$831,6,0)","v":2},{"$f":"VLOOKUP($E127,'[1]Organisation Categories'!$G$4:$O$831,7,0)","v":7},0,0,0,0,0,0,0,0,0]
["QK1","RT5","LEICESTERSHIRE PARTNERSHIP NHS TRUST","Rehabilitation & Therapy Services","RT5Rehabilitation & Therapy Services",264,0.95833333333333337,1.893939393939394E-2,221,32,6,2,3,0,{"$f":"VLOOKUP($E128,'[1]Organisation Categories'!$G$4:$O$831,8,0)","v":264},0.95833333333333337,1.893939393939394E-2,{"$f":"VLOOKUP($E128,'[1]Organisation Categories'!$G$4:$O$831,2,0)","v":221},{"$f":"VLOOKUP($E128,'[1]Organisation Categories'!$G$4:$O$831,3,0)","v":32},{"$f":"VLOOKUP($E128,'[1]Organisation Categories'!$G$4:$O$831,4,0)","v":6},{"$f":"VLOOKUP($E128,'[1]Organisation Categories'!$G$4:$O$831,5,0)","v":2},{"$f":"VLOOKUP($E128,'[1]Organisation Categories'!$G$4:$O$831,6,0)","v":3},{"$f":"VLOOKUP($E128,'[1]Organisation Categories'!$G$4:$O$831,7,0)","v":0},0,0,0,0,0,0,0,0,0]
["QK1","RT5","LEICESTERSHIRE PARTNERSHIP NHS TRUST","Specialist Services","RT5Specialist Services",187,0.89304812834224601,3.7433155080213901E-2,141,26,11,4,3,2,{"$f":"VLOOKUP($E129,'[1]Organisation Categories'!$G$4:$O$831,8,0)","v":187},0.89304812834224601,3.7433155080213901E-2,{"$f":"VLOOKUP($E129,'[1]Organisation Categories'!$G$4:$O$831,2,0)","v":141},{"$f":"VLOOKUP($E129,'[1]Organisation Categories'!$G$4:$O$831,3,0)","v":26},{"$f":"VLOOKUP($E129,'[1]Organisation Categories'!$G$4:$O$831,4,0)","v":11},{"$f":"VLOOKUP($E129,'[1]Organisation Categories'!$G$4:$O$831,5,0)","v":4},{"$f":"VLOOKUP($E129,'[1]Organisation Categories'!$G$4:$O$831,6,0)","v":3},{"$f":"VLOOKUP($E129,'[1]Organisation Categories'!$G$4:$O$831,7,0)","v":2},0,0,0,0,0,0,0,0,0]
["QKK","RJ1","GUY'S AND ST THOMAS' NHS FOUNDATION TRUST","Children & Family Services","RJ1Children & Family Services",107,0.94392523364485981,2.8037383177570093E-2,88,13,1,2,1,2,{"$f":"VLOOKUP($E130,'[1]Organisation Categories'!$G$4:$O$831,8,0)","v":107},0.94392523364485981,2.8037383177570093E-2,{"$f":"VLOOKUP($E130,'[1]Organisation Categories'!$G$4:$O$831,2,0)","v":88},{"$f":"VLOOKUP($E130,'[1]Organisation Categories'!$G$4:$O$831,3,0)","v":13},{"$f":"VLOOKUP($E130,'[1]Organisation Categories'!$G$4:$O$831,4,0)","v":1},{"$f":"VLOOKUP($E130,'[1]Organisation Categories'!$G$4:$O$831,5,0)","v":2},{"$f":"VLOOKUP($E130,'[1]Organisation Categories'!$G$4:$O$831,6,0)","v":1},{"$f":"VLOOKUP($E130,'[1]Organisation Categories'!$G$4:$O$831,7,0)","v":2},0,0,0,0,0,0,0,0,0]
["QKK","RJ1","GUY'S AND ST THOMAS' NHS FOUNDATION TRUST","Community Inpatient Services","RJ1Community Inpatient Services",7,0.8571428571428571,0,4,2,1,0,0,0,{"$f":"VLOOKUP($E131,'[1]Organisation Categories'!$G$4:$O$831,8,0)","v":7},0.8571428571428571,0,{"$f":"VLOOKUP($E131,'[1]Organisation Categories'!$G$4:$O$831,2,0)","v":4},{"$f":"VLOOKUP($E131,'[1]Organisation Categories'!$G$4:$O$831,3,0)","v":2},{"$f":"VLOOKUP($E131,'[1]Organisation Categories'!$G$4:$O$831,4,0)","v":1},{"$f":"VLOOKUP($E131,'[1]Organisation Categories'!$G$4:$O$831,5,0)","v":0},{"$f":"VLOOKUP($E131,'[1]Organisation Categories'!$G$4:$O$831,6,0)","v":0},{"$f":"VLOOKUP($E131,'[1]Organisation Categories'!$G$4:$O$831,7,0)","v":0},0,0,0,0,0,0,0,0,0]
["QKK","RJ1","GUY'S AND ST THOMAS' NHS FOUNDATION TRUST","Community Nursing Services","RJ1Community Nursing Services",139,0.98561151079136688,0,88,49,2,0,0,0,{"$f":"VLOOKUP($E132,'[1]Organisation Categories'!$G$4:$O$831,8,0)","v":139},0.98561151079136688,0,{"$f":"VLOOKUP($E132,'[1]Organisation Categories'!$G$4:$O$831,2,0)","v":88},{"$f":"VLOOKUP($E132,'[1]Organisation Categories'!$G$4:$O$831,3,0)","v":49},{"$f":"VLOOKUP($E132,'[1]Organisation Categories'!$G$4:$O$831,4,0)","v":2},{"$f":"VLOOKUP($E132,'[1]Organisation Categories'!$G$4:$O$831,5,0)","v":0},{"$f":"VLOOKUP($E132,'[1]Organisation Categories'!$G$4:$O$831,6,0)","v":0},{"$f":"VLOOKUP($E132,'[1]Organisation Categories'!$G$4:$O$831,7,0)","v":0},0,0,0,0,0,0,0,0,0]
["QKK","RJ1","GUY'S AND ST THOMAS' NHS FOUNDATION TRUST","Rehabilitation & Therapy Services","RJ1Rehabilitation & Therapy Services",58,0.98275862068965514,1.7241379310344827E-2,43,14,0,1,0,0,{"$f":"VLOOKUP($E133,'[1]Organisation Categories'!$G$4:$O$831,8,0)","v":58},0.98275862068965514,1.7241379310344827E-2,{"$f":"VLOOKUP($E133,'[1]Organisation Categories'!$G$4:$O$831,2,0)","v":43},{"$f":"VLOOKUP($E133,'[1]Organisation Categories'!$G$4:$O$831,3,0)","v":14},{"$f":"VLOOKUP($E133,'[1]Organisation Categories'!$G$4:$O$831,4,0)","v":0},{"$f":"VLOOKUP($E133,'[1]Organisation Categories'!$G$4:$O$831,5,0)","v":1},{"$f":"VLOOKUP($E133,'[1]Organisation Categories'!$G$4:$O$831,6,0)","v":0},{"$f":"VLOOKUP($E133,'[1]Organisation Categories'!$G$4:$O$831,7,0)","v":0},0,0,0,0,0,0,0,0,0]
["QKK","RJ1","GUY'S AND ST THOMAS' NHS FOUNDATION TRUST","Specialist Services","RJ1Specialist Services",72,0.97222222222222221,1.3888888888888888E-2,58,12,0,0,1,1,{"$f":"VLOOKUP($E134,'[1]Organisation Categories'!$G$4:$O$831,8,0)","v":72},0.97222222222222221,1.3888888888888888E-2,{"$f":"VLOOKUP($E134,'[1]Organisation Categories'!$G$4:$O$831,2,0)","v":58},{"$f":"VLOOKUP($E134,'[1]Organisation Categories'!$G$4:$O$831,3,0)","v":12},{"$f":"VLOOKUP($E134,'[1]Organisation Categories'!$G$4:$O$831,4,0)","v":0},{"$f":"VLOOKUP($E134,'[1]Organisation Categories'!$G$4:$O$831,5,0)","v":0},{"$f":"VLOOKUP($E134,'[1]Organisation Categories'!$G$4:$O$831,6,0)","v":1},{"$f":"VLOOKUP($E134,'[1]Organisation Categories'!$G$4:$O$831,7,0)","v":1},0,0,0,0,0,0,0,0,0]
["QKK","RJ2","LEWISHAM AND GREENWICH NHS TRUST","Children & Family Services","RJ2Children & Family Services",29,1,0,24,5,0,0,0,0,{"$f":"VLOOKUP($E135,'[1]Organisation Categories'!$G$4:$O$831,8,0)","v":29},1,0,{"$f":"VLOOKUP($E135,'[1]Organisation Categories'!$G$4:$O$831,2,0)","v":24},{"$f":"VLOOKUP($E135,'[1]Organisation Categories'!$G$4:$O$831,3,0)","v":5},{"$f":"VLOOKUP($E135,'[1]Organisation Categories'!$G$4:$O$831,4,0)","v":0},{"$f":"VLOOKUP($E135,'[1]Organisation Categories'!$G$4:$O$831,5,0)","v":0},{"$f":"VLOOKUP($E135,'[1]Organisation Categories'!$G$4:$O$831,6,0)","v":0},{"$f":"VLOOKUP($E135,'[1]Organisation Categories'!$G$4:$O$831,7,0)","v":0},0,0,0,0,0,0,0,0,0]
["QKK","RJ2","LEWISHAM AND GREENWICH NHS TRUST","Community Nursing Services","RJ2Community Nursing Services",578,0.99480968858131491,0,523,52,3,0,0,0,{"$f":"VLOOKUP($E136,'[1]Organisation Categories'!$G$4:$O$831,8,0)","v":578},0.99480968858131491,0,{"$f":"VLOOKUP($E136,'[1]Organisation Categories'!$G$4:$O$831,2,0)","v":523},{"$f":"VLOOKUP($E136,'[1]Organisation Categories'!$G$4:$O$831,3,0)","v":52},{"$f":"VLOOKUP($E136,'[1]Organisation Categories'!$G$4:$O$831,4,0)","v":3},{"$f":"VLOOKUP($E136,'[1]Organisation Categories'!$G$4:$O$831,5,0)","v":0},{"$f":"VLOOKUP($E136,'[1]Organisation Categories'!$G$4:$O$831,6,0)","v":0},{"$f":"VLOOKUP($E136,'[1]Organisation Categories'!$G$4:$O$831,7,0)","v":0},0,0,0,0,0,0,0,0,0]
["QKK","RJ2","LEWISHAM AND GREENWICH NHS TRUST","Rehabilitation & Therapy Services",{"$f":"B137&D137","v":"RJ2Rehabilitation & Therapy Services"},36,1,0,33,3,0,0,0,0,{"$f":"VLOOKUP($E137,'[1]Organisation Categories'!$G$4:$O$831,8,0)","v":36},{"$f":"SUM(R137+S137)/SUM(R137:W137)","v":1},{"$f":"SUM(U137+V137)/SUM(R137:W137)","v":0},{"$f":"VLOOKUP($E137,'[1]Organisation Categories'!$G$4:$O$831,2,0)","v":33},{"$f":"VLOOKUP($E137,'[1]Organisation Categories'!$G$4:$O$831,3,0)","v":3},{"$f":"VLOOKUP($E137,'[1]Organisation Categories'!$G$4:$O$831,4,0)","v":0},{"$f":"VLOOKUP($E137,'[1]Organisation Categories'!$G$4:$O$831,5,0)","v":0},{"$f":"VLOOKUP($E137,'[1]Organisation Categories'!$G$4:$O$831,6,0)","v":0},{"$f":"VLOOKUP($E137,'[1]Organisation Categories'!$G$4:$O$831,7,0)","v":0},{"$f":"IFERROR(F137-O137,0)","v":0},{"$f":"IFERROR(G137-P137,0)","v":0},{"$f":"IFERROR(H137-Q137,0)","v":0},{"$f":"IFERROR(I137-R137,0)","v":0},{"$f":"IFERROR(J137-S137,0)","v":0},{"$f":"IFERROR(K137-T137,0)","v":0},{"$f":"IFERROR(L137-U137,0)","v":0},{"$f":"IFERROR(M137-V137,0)","v":0},{"$f":"IFERROR(N137-W137,0)","v":0}]
["QKK","RJ2","LEWISHAM AND GREENWICH NHS TRUST","Specialist Services","RJ2Specialist Services",266,0.94360902255639101,3.7593984962406013E-2,223,28,5,5,5,0,{"$f":"VLOOKUP($E138,'[1]Organisation Categories'!$G$4:$O$831,8,0)","v":266},0.94360902255639101,3.7593984962406013E-2,{"$f":"VLOOKUP($E138,'[1]Organisation Categories'!$G$4:$O$831,2,0)","v":223},{"$f":"VLOOKUP($E138,'[1]Organisation Categories'!$G$4:$O$831,3,0)","v":28},{"$f":"VLOOKUP($E138,'[1]Organisation Categories'!$G$4:$O$831,4,0)","v":5},{"$f":"VLOOKUP($E138,'[1]Organisation Categories'!$G$4:$O$831,5,0)","v":5},{"$f":"VLOOKUP($E138,'[1]Organisation Categories'!$G$4:$O$831,6,0)","v":5},{"$f":"VLOOKUP($E138,'[1]Organisation Categories'!$G$4:$O$831,7,0)","v":0},0,0,0,0,0,0,0,0,0]
["QKK","RPG","OXLEAS NHS FOUNDATION TRUST","Children & Family Services","RPGChildren & Family Services",213,0.92957746478873238,1.4084507042253521E-2,160,38,10,1,2,2,{"$f":"VLOOKUP($E139,'[1]Organisation Categories'!$G$4:$O$831,8,0)","v":213},0.92957746478873238,1.4084507042253521E-2,{"$f":"VLOOKUP($E139,'[1]Organisation Categories'!$G$4:$O$831,2,0)","v":160},{"$f":"VLOOKUP($E139,'[1]Organisation Categories'!$G$4:$O$831,3,0)","v":38},{"$f":"VLOOKUP($E139,'[1]Organisation Categories'!$G$4:$O$831,4,0)","v":10},{"$f":"VLOOKUP($E139,'[1]Organisation Categories'!$G$4:$O$831,5,0)","v":1},{"$f":"VLOOKUP($E139,'[1]Organisation Categories'!$G$4:$O$831,6,0)","v":2},{"$f":"VLOOKUP($E139,'[1]Organisation Categories'!$G$4:$O$831,7,0)","v":2},0,0,0,0,0,0,0,0,0]
["QKK","RPG","OXLEAS NHS FOUNDATION TRUST","Community Healthcare Other","RPGCommunity Healthcare Other",529,0.83364839319470696,6.6162570888468802E-2,346,95,50,15,20,3,{"$f":"VLOOKUP($E140,'[1]Organisation Categories'!$G$4:$O$831,8,0)","v":529},0.83364839319470696,6.6162570888468802E-2,{"$f":"VLOOKUP($E140,'[1]Organisation Categories'!$G$4:$O$831,2,0)","v":346},{"$f":"VLOOKUP($E140,'[1]Organisation Categories'!$G$4:$O$831,3,0)","v":95},{"$f":"VLOOKUP($E140,'[1]Organisation Categories'!$G$4:$O$831,4,0)","v":50},{"$f":"VLOOKUP($E140,'[1]Organisation Categories'!$G$4:$O$831,5,0)","v":15},{"$f":"VLOOKUP($E140,'[1]Organisation Categories'!$G$4:$O$831,6,0)","v":20},{"$f":"VLOOKUP($E140,'[1]Organisation Categories'!$G$4:$O$831,7,0)","v":3},0,0,0,0,0,0,0,0,0]
["QKK","RPG","OXLEAS NHS FOUNDATION TRUST","Community Inpatient Services","RPGCommunity Inpatient Services",33,1,0,28,5,0,0,0,0,{"$f":"VLOOKUP($E141,'[1]Organisation Categories'!$G$4:$O$831,8,0)","v":33},1,0,{"$f":"VLOOKUP($E141,'[1]Organisation Categories'!$G$4:$O$831,2,0)","v":28},{"$f":"VLOOKUP($E141,'[1]Organisation Categories'!$G$4:$O$831,3,0)","v":5},{"$f":"VLOOKUP($E141,'[1]Organisation Categories'!$G$4:$O$831,4,0)","v":0},{"$f":"VLOOKUP($E141,'[1]Organisation Categories'!$G$4:$O$831,5,0)","v":0},{"$f":"VLOOKUP($E141,'[1]Organisation Categories'!$G$4:$O$831,6,0)","v":0},{"$f":"VLOOKUP($E141,'[1]Organisation Categories'!$G$4:$O$831,7,0)","v":0},0,0,0,0,0,0,0,0,0]
["QKK","RPG","OXLEAS NHS FOUNDATION TRUST","Community Nursing Services","RPGCommunity Nursing Services",177,0.9152542372881356,1.1299435028248588E-2,140,22,11,1,1,2,{"$f":"VLOOKUP($E142,'[1]Organisation Categories'!$G$4:$O$831,8,0)","v":177},0.9152542372881356,1.1299435028248588E-2,{"$f":"VLOOKUP($E142,'[1]Organisation Categories'!$G$4:$O$831,2,0)","v":140},{"$f":"VLOOKUP($E142,'[1]Organisation Categories'!$G$4:$O$831,3,0)","v":22},{"$f":"VLOOKUP($E142,'[1]Organisation Categories'!$G$4:$O$831,4,0)","v":11},{"$f":"VLOOKUP($E142,'[1]Organisation Categories'!$G$4:$O$831,5,0)","v":1},{"$f":"VLOOKUP($E142,'[1]Organisation Categories'!$G$4:$O$831,6,0)","v":1},{"$f":"VLOOKUP($E142,'[1]Organisation Categories'!$G$4:$O$831,7,0)","v":2},0,0,0,0,0,0,0,0,0]
["QKK","RPG","OXLEAS NHS FOUNDATION TRUST","Rehabilitation & Therapy Services","RPGRehabilitation & Therapy Services",130,0.96923076923076923,7.6923076923076927E-3,106,20,3,1,0,0,{"$f":"VLOOKUP($E143,'[1]Organisation Categories'!$G$4:$O$831,8,0)","v":130},0.96923076923076923,7.6923076923076927E-3,{"$f":"VLOOKUP($E143,'[1]Organisation Categories'!$G$4:$O$831,2,0)","v":106},{"$f":"VLOOKUP($E143,'[1]Organisation Categories'!$G$4:$O$831,3,0)","v":20},{"$f":"VLOOKUP($E143,'[1]Organisation Categories'!$G$4:$O$831,4,0)","v":3},{"$f":"VLOOKUP($E143,'[1]Organisation Categories'!$G$4:$O$831,5,0)","v":1},{"$f":"VLOOKUP($E143,'[1]Organisation Categories'!$G$4:$O$831,6,0)","v":0},{"$f":"VLOOKUP($E143,'[1]Organisation Categories'!$G$4:$O$831,7,0)","v":0},0,0,0,0,0,0,0,0,0]
["QKK","RPG","OXLEAS NHS FOUNDATION TRUST","Specialist Services","RPGSpecialist Services",1020,0.90490196078431373,3.2352941176470591E-2,760,163,52,21,12,12,{"$f":"VLOOKUP($E144,'[1]Organisation Categories'!$G$4:$O$831,8,0)","v":1020},0.90490196078431373,3.2352941176470591E-2,{"$f":"VLOOKUP($E144,'[1]Organisation Categories'!$G$4:$O$831,2,0)","v":760},{"$f":"VLOOKUP($E144,'[1]Organisation Categories'!$G$4:$O$831,3,0)","v":163},{"$f":"VLOOKUP($E144,'[1]Organisation Categories'!$G$4:$O$831,4,0)","v":52},{"$f":"VLOOKUP($E144,'[1]Organisation Categories'!$G$4:$O$831,5,0)","v":21},{"$f":"VLOOKUP($E144,'[1]Organisation Categories'!$G$4:$O$831,6,0)","v":12},{"$f":"VLOOKUP($E144,'[1]Organisation Categories'!$G$4:$O$831,7,0)","v":12},0,0,0,0,0,0,0,0,0]
["QKS","RYY","KENT COMMUNITY HEALTH NHS FOUNDATION TRUST","Children & Family Services","RYYChildren & Family Services",102,0.92156862745098034,4.9019607843137254E-2,82,12,3,0,5,0,{"$f":"VLOOKUP($E145,'[1]Organisation Categories'!$G$4:$O$831,8,0)","v":102},0.92156862745098034,4.9019607843137254E-2,{"$f":"VLOOKUP($E145,'[1]Organisation Categories'!$G$4:$O$831,2,0)","v":82},{"$f":"VLOOKUP($E145,'[1]Organisation Categories'!$G$4:$O$831,3,0)","v":12},{"$f":"VLOOKUP($E145,'[1]Organisation Categories'!$G$4:$O$831,4,0)","v":3},{"$f":"VLOOKUP($E145,'[1]Organisation Categories'!$G$4:$O$831,5,0)","v":0},{"$f":"VLOOKUP($E145,'[1]Organisation Categories'!$G$4:$O$831,6,0)","v":5},{"$f":"VLOOKUP($E145,'[1]Organisation Categories'!$G$4:$O$831,7,0)","v":0},0,0,0,0,0,0,0,0,0]
["QKS","RYY","KENT COMMUNITY HEALTH NHS FOUNDATION TRUST","Community Healthcare Other","RYYCommunity Healthcare Other",665,0.99097744360902251,3.0075187969924814E-3,603,56,4,1,1,0,{"$f":"VLOOKUP($E146,'[1]Organisation Categories'!$G$4:$O$831,8,0)","v":665},0.99097744360902251,3.0075187969924814E-3,{"$f":"VLOOKUP($E146,'[1]Organisation Categories'!$G$4:$O$831,2,0)","v":603},{"$f":"VLOOKUP($E146,'[1]Organisation Categories'!$G$4:$O$831,3,0)","v":56},{"$f":"VLOOKUP($E146,'[1]Organisation Categories'!$G$4:$O$831,4,0)","v":4},{"$f":"VLOOKUP($E146,'[1]Organisation Categories'!$G$4:$O$831,5,0)","v":1},{"$f":"VLOOKUP($E146,'[1]Organisation Categories'!$G$4:$O$831,6,0)","v":1},{"$f":"VLOOKUP($E146,'[1]Organisation Categories'!$G$4:$O$831,7,0)","v":0},0,0,0,0,0,0,0,0,0]
["QKS","RYY","KENT COMMUNITY HEALTH NHS FOUNDATION TRUST","Community Inpatient Services","RYYCommunity Inpatient Services",69,0.95652173913043481,0,49,17,3,0,0,0,{"$f":"VLOOKUP($E147,'[1]Organisation Categories'!$G$4:$O$831,8,0)","v":69},0.95652173913043481,0,{"$f":"VLOOKUP($E147,'[1]Organisation Categories'!$G$4:$O$831,2,0)","v":49},{"$f":"VLOOKUP($E147,'[1]Organisation Categories'!$G$4:$O$831,3,0)","v":17},{"$f":"VLOOKUP($E147,'[1]Organisation Categories'!$G$4:$O$831,4,0)","v":3},{"$f":"VLOOKUP($E147,'[1]Organisation Categories'!$G$4:$O$831,5,0)","v":0},{"$f":"VLOOKUP($E147,'[1]Organisation Categories'!$G$4:$O$831,6,0)","v":0},{"$f":"VLOOKUP($E147,'[1]Organisation Categories'!$G$4:$O$831,7,0)","v":0},0,0,0,0,0,0,0,0,0]
["QKS","RYY","KENT COMMUNITY HEALTH NHS FOUNDATION TRUST","Community Nursing Services","RYYCommunity Nursing Services",510,0.97843137254901957,7.8431372549019607E-3,431,68,6,1,3,1,{"$f":"VLOOKUP($E148,'[1]Organisation Categories'!$G$4:$O$831,8,0)","v":510},0.97843137254901957,7.8431372549019607E-3,{"$f":"VLOOKUP($E148,'[1]Organisation Categories'!$G$4:$O$831,2,0)","v":431},{"$f":"VLOOKUP($E148,'[1]Organisation Categories'!$G$4:$O$831,3,0)","v":68},{"$f":"VLOOKUP($E148,'[1]Organisation Categories'!$G$4:$O$831,4,0)","v":6},{"$f":"VLOOKUP($E148,'[1]Organisation Categories'!$G$4:$O$831,5,0)","v":1},{"$f":"VLOOKUP($E148,'[1]Organisation Categories'!$G$4:$O$831,6,0)","v":3},{"$f":"VLOOKUP($E148,'[1]Organisation Categories'!$G$4:$O$831,7,0)","v":1},0,0,0,0,0,0,0,0,0]
["QKS","RYY","KENT COMMUNITY HEALTH NHS FOUNDATION TRUST","Rehabilitation & Therapy Services","RYYRehabilitation & Therapy Services",1513,0.96364838070059489,1.1896893588896233E-2,1302,156,29,11,7,8,{"$f":"VLOOKUP($E149,'[1]Organisation Categories'!$G$4:$O$831,8,0)","v":1513},0.96364838070059489,1.1896893588896233E-2,{"$f":"VLOOKUP($E149,'[1]Organisation Categories'!$G$4:$O$831,2,0)","v":1302},{"$f":"VLOOKUP($E149,'[1]Organisation Categories'!$G$4:$O$831,3,0)","v":156},{"$f":"VLOOKUP($E149,'[1]Organisation Categories'!$G$4:$O$831,4,0)","v":29},{"$f":"VLOOKUP($E149,'[1]Organisation Categories'!$G$4:$O$831,5,0)","v":11},{"$f":"VLOOKUP($E149,'[1]Organisation Categories'!$G$4:$O$831,6,0)","v":7},{"$f":"VLOOKUP($E149,'[1]Organisation Categories'!$G$4:$O$831,7,0)","v":8},0,0,0,0,0,0,0,0,0]
["QKS","RYY","KENT COMMUNITY HEALTH NHS FOUNDATION TRUST","Specialist Services","RYYSpecialist Services",2181,0.97203117835855113,7.7945896377808344E-3,1926,194,36,8,9,8,{"$f":"VLOOKUP($E150,'[1]Organisation Categories'!$G$4:$O$831,8,0)","v":2181},0.97203117835855113,7.7945896377808344E-3,{"$f":"VLOOKUP($E150,'[1]Organisation Categories'!$G$4:$O$831,2,0)","v":1926},{"$f":"VLOOKUP($E150,'[1]Organisation Categories'!$G$4:$O$831,3,0)","v":194},{"$f":"VLOOKUP($E150,'[1]Organisation Categories'!$G$4:$O$831,4,0)","v":36},{"$f":"VLOOKUP($E150,'[1]Organisation Categories'!$G$4:$O$831,5,0)","v":8},{"$f":"VLOOKUP($E150,'[1]Organisation Categories'!$G$4:$O$831,6,0)","v":9},{"$f":"VLOOKUP($E150,'[1]Organisation Categories'!$G$4:$O$831,7,0)","v":8},0,0,0,0,0,0,0,0,0]
["QM7","RY4","HERTFORDSHIRE COMMUNITY NHS TRUST","Children & Family Services","RY4Children & Family Services",277,0.94945848375451258,2.8880866425992781E-2,239,24,6,4,4,0,{"$f":"VLOOKUP($E151,'[1]Organisation Categories'!$G$4:$O$831,8,0)","v":277},0.94945848375451258,2.8880866425992781E-2,{"$f":"VLOOKUP($E151,'[1]Organisation Categories'!$G$4:$O$831,2,0)","v":239},{"$f":"VLOOKUP($E151,'[1]Organisation Categories'!$G$4:$O$831,3,0)","v":24},{"$f":"VLOOKUP($E151,'[1]Organisation Categories'!$G$4:$O$831,4,0)","v":6},{"$f":"VLOOKUP($E151,'[1]Organisation Categories'!$G$4:$O$831,5,0)","v":4},{"$f":"VLOOKUP($E151,'[1]Organisation Categories'!$G$4:$O$831,6,0)","v":4},{"$f":"VLOOKUP($E151,'[1]Organisation Categories'!$G$4:$O$831,7,0)","v":0},0,0,0,0,0,0,0,0,0]
["QM7","RY4","HERTFORDSHIRE COMMUNITY NHS TRUST","Community Healthcare Other","RY4Community Healthcare Other",36,0.94444444444444442,0,28,6,1,0,0,1,{"$f":"VLOOKUP($E152,'[1]Organisation Categories'!$G$4:$O$831,8,0)","v":36},0.94444444444444442,0,{"$f":"VLOOKUP($E152,'[1]Organisation Categories'!$G$4:$O$831,2,0)","v":28},{"$f":"VLOOKUP($E152,'[1]Organisation Categories'!$G$4:$O$831,3,0)","v":6},{"$f":"VLOOKUP($E152,'[1]Organisation Categories'!$G$4:$O$831,4,0)","v":1},{"$f":"VLOOKUP($E152,'[1]Organisation Categories'!$G$4:$O$831,5,0)","v":0},{"$f":"VLOOKUP($E152,'[1]Organisation Categories'!$G$4:$O$831,6,0)","v":0},{"$f":"VLOOKUP($E152,'[1]Organisation Categories'!$G$4:$O$831,7,0)","v":1},0,0,0,0,0,0,0,0,0]
["QM7","RY4","HERTFORDSHIRE COMMUNITY NHS TRUST","Community Inpatient Services","RY4Community Inpatient Services",25,0.96,0,23,1,0,0,0,1,{"$f":"VLOOKUP($E153,'[1]Organisation Categories'!$G$4:$O$831,8,0)","v":25},0.96,0,{"$f":"VLOOKUP($E153,'[1]Organisation Categories'!$G$4:$O$831,2,0)","v":23},{"$f":"VLOOKUP($E153,'[1]Organisation Categories'!$G$4:$O$831,3,0)","v":1},{"$f":"VLOOKUP($E153,'[1]Organisation Categories'!$G$4:$O$831,4,0)","v":0},{"$f":"VLOOKUP($E153,'[1]Organisation Categories'!$G$4:$O$831,5,0)","v":0},{"$f":"VLOOKUP($E153,'[1]Organisation Categories'!$G$4:$O$831,6,0)","v":0},{"$f":"VLOOKUP($E153,'[1]Organisation Categories'!$G$4:$O$831,7,0)","v":1},0,0,0,0,0,0,0,0,0]
["QM7","RY4","HERTFORDSHIRE COMMUNITY NHS TRUST","Community Nursing Services","RY4Community Nursing Services",263,0.87072243346007605,6.0836501901140684E-2,190,39,15,8,8,3,{"$f":"VLOOKUP($E154,'[1]Organisation Categories'!$G$4:$O$831,8,0)","v":263},0.87072243346007605,6.0836501901140684E-2,{"$f":"VLOOKUP($E154,'[1]Organisation Categories'!$G$4:$O$831,2,0)","v":190},{"$f":"VLOOKUP($E154,'[1]Organisation Categories'!$G$4:$O$831,3,0)","v":39},{"$f":"VLOOKUP($E154,'[1]Organisation Categories'!$G$4:$O$831,4,0)","v":15},{"$f":"VLOOKUP($E154,'[1]Organisation Categories'!$G$4:$O$831,5,0)","v":8},{"$f":"VLOOKUP($E154,'[1]Organisation Categories'!$G$4:$O$831,6,0)","v":8},{"$f":"VLOOKUP($E154,'[1]Organisation Categories'!$G$4:$O$831,7,0)","v":3},0,0,0,0,0,0,0,0,0]
["QM7","RY4","HERTFORDSHIRE COMMUNITY NHS TRUST","Rehabilitation & Therapy Services","RY4Rehabilitation & Therapy Services",322,0.93167701863354035,2.4844720496894408E-2,266,34,12,4,4,2,{"$f":"VLOOKUP($E155,'[1]Organisation Categories'!$G$4:$O$831,8,0)","v":322},0.93167701863354035,2.4844720496894408E-2,{"$f":"VLOOKUP($E155,'[1]Organisation Categories'!$G$4:$O$831,2,0)","v":266},{"$f":"VLOOKUP($E155,'[1]Organisation Categories'!$G$4:$O$831,3,0)","v":34},{"$f":"VLOOKUP($E155,'[1]Organisation Categories'!$G$4:$O$831,4,0)","v":12},{"$f":"VLOOKUP($E155,'[1]Organisation Categories'!$G$4:$O$831,5,0)","v":4},{"$f":"VLOOKUP($E155,'[1]Organisation Categories'!$G$4:$O$831,6,0)","v":4},{"$f":"VLOOKUP($E155,'[1]Organisation Categories'!$G$4:$O$831,7,0)","v":2},0,0,0,0,0,0,0,0,0]
["QM7","RY4","HERTFORDSHIRE COMMUNITY NHS TRUST","Specialist Services","RY4Specialist Services",49,0.97959183673469385,2.0408163265306121E-2,47,1,0,1,0,0,{"$f":"VLOOKUP($E156,'[1]Organisation Categories'!$G$4:$O$831,8,0)","v":49},0.97959183673469385,2.0408163265306121E-2,{"$f":"VLOOKUP($E156,'[1]Organisation Categories'!$G$4:$O$831,2,0)","v":47},{"$f":"VLOOKUP($E156,'[1]Organisation Categories'!$G$4:$O$831,3,0)","v":1},{"$f":"VLOOKUP($E156,'[1]Organisation Categories'!$G$4:$O$831,4,0)","v":0},{"$f":"VLOOKUP($E156,'[1]Organisation Categories'!$G$4:$O$831,5,0)","v":1},{"$f":"VLOOKUP($E156,'[1]Organisation Categories'!$G$4:$O$831,6,0)","v":0},{"$f":"VLOOKUP($E156,'[1]Organisation Categories'!$G$4:$O$831,7,0)","v":0},0,0,0,0,0,0,0,0,0]
["QMF","RWK","EAST LONDON NHS FOUNDATION TRUST","Children & Family Services","RWKChildren & Family Services",31,0.93548387096774188,0,23,6,1,0,0,1,{"$f":"VLOOKUP($E157,'[1]Organisation Categories'!$G$4:$O$831,8,0)","v":31},0.93548387096774188,0,{"$f":"VLOOKUP($E157,'[1]Organisation Categories'!$G$4:$O$831,2,0)","v":23},{"$f":"VLOOKUP($E157,'[1]Organisation Categories'!$G$4:$O$831,3,0)","v":6},{"$f":"VLOOKUP($E157,'[1]Organisation Categories'!$G$4:$O$831,4,0)","v":1},{"$f":"VLOOKUP($E157,'[1]Organisation Categories'!$G$4:$O$831,5,0)","v":0},{"$f":"VLOOKUP($E157,'[1]Organisation Categories'!$G$4:$O$831,6,0)","v":0},{"$f":"VLOOKUP($E157,'[1]Organisation Categories'!$G$4:$O$831,7,0)","v":1},0,0,0,0,0,0,0,0,0]
["QMF","RWK","EAST LONDON NHS FOUNDATION TRUST","Community Healthcare Other","RWKCommunity Healthcare Other",115,0.93913043478260871,8.6956521739130436E-3,75,33,5,1,0,1,{"$f":"VLOOKUP($E158,'[1]Organisation Categories'!$G$4:$O$831,8,0)","v":115},0.93913043478260871,8.6956521739130436E-3,{"$f":"VLOOKUP($E158,'[1]Organisation Categories'!$G$4:$O$831,2,0)","v":75},{"$f":"VLOOKUP($E158,'[1]Organisation Categories'!$G$4:$O$831,3,0)","v":33},{"$f":"VLOOKUP($E158,'[1]Organisation Categories'!$G$4:$O$831,4,0)","v":5},{"$f":"VLOOKUP($E158,'[1]Organisation Categories'!$G$4:$O$831,5,0)","v":1},{"$f":"VLOOKUP($E158,'[1]Organisation Categories'!$G$4:$O$831,6,0)","v":0},{"$f":"VLOOKUP($E158,'[1]Organisation Categories'!$G$4:$O$831,7,0)","v":1},0,0,0,0,0,0,0,0,0]
["QMF","RWK","EAST LONDON NHS FOUNDATION TRUST","Community Inpatient Services","RWKCommunity Inpatient Services",5,1,0,4,1,0,0,0,0,{"$f":"VLOOKUP($E159,'[1]Organisation Categories'!$G$4:$O$831,8,0)","v":5},1,0,{"$f":"VLOOKUP($E159,'[1]Organisation Categories'!$G$4:$O$831,2,0)","v":4},{"$f":"VLOOKUP($E159,'[1]Organisation Categories'!$G$4:$O$831,3,0)","v":1},{"$f":"VLOOKUP($E159,'[1]Organisation Categories'!$G$4:$O$831,4,0)","v":0},{"$f":"VLOOKUP($E159,'[1]Organisation Categories'!$G$4:$O$831,5,0)","v":0},{"$f":"VLOOKUP($E159,'[1]Organisation Categories'!$G$4:$O$831,6,0)","v":0},{"$f":"VLOOKUP($E159,'[1]Organisation Categories'!$G$4:$O$831,7,0)","v":0},0,0,0,0,0,0,0,0,0]
["QMF","RWK","EAST LONDON NHS FOUNDATION TRUST","Community Nursing Services","RWKCommunity Nursing Services",223,0.97309417040358748,8.9686098654708519E-3,130,87,4,2,0,0,{"$f":"VLOOKUP($E160,'[1]Organisation Categories'!$G$4:$O$831,8,0)","v":223},0.97309417040358748,8.9686098654708519E-3,{"$f":"VLOOKUP($E160,'[1]Organisation Categories'!$G$4:$O$831,2,0)","v":130},{"$f":"VLOOKUP($E160,'[1]Organisation Categories'!$G$4:$O$831,3,0)","v":87},{"$f":"VLOOKUP($E160,'[1]Organisation Categories'!$G$4:$O$831,4,0)","v":4},{"$f":"VLOOKUP($E160,'[1]Organisation Categories'!$G$4:$O$831,5,0)","v":2},{"$f":"VLOOKUP($E160,'[1]Organisation Categories'!$G$4:$O$831,6,0)","v":0},{"$f":"VLOOKUP($E160,'[1]Organisation Categories'!$G$4:$O$831,7,0)","v":0},0,0,0,0,0,0,0,0,0]
["QMF","RWK","EAST LONDON NHS FOUNDATION TRUST","Rehabilitation & Therapy Services","RWKRehabilitation & Therapy Services",216,0.90277777777777779,5.5555555555555552E-2,135,60,5,5,7,4,{"$f":"VLOOKUP($E161,'[1]Organisation Categories'!$G$4:$O$831,8,0)","v":216},0.90277777777777779,5.5555555555555552E-2,{"$f":"VLOOKUP($E161,'[1]Organisation Categories'!$G$4:$O$831,2,0)","v":135},{"$f":"VLOOKUP($E161,'[1]Organisation Categories'!$G$4:$O$831,3,0)","v":60},{"$f":"VLOOKUP($E161,'[1]Organisation Categories'!$G$4:$O$831,4,0)","v":5},{"$f":"VLOOKUP($E161,'[1]Organisation Categories'!$G$4:$O$831,5,0)","v":5},{"$f":"VLOOKUP($E161,'[1]Organisation Categories'!$G$4:$O$831,6,0)","v":7},{"$f":"VLOOKUP($E161,'[1]Organisation Categories'!$G$4:$O$831,7,0)","v":4},0,0,0,0,0,0,0,0,0]
["QMF","RWK","EAST LONDON NHS FOUNDATION TRUST","Specialist Services","RWKSpecialist Services",284,1,0,23,261,0,0,0,0,{"$f":"VLOOKUP($E162,'[1]Organisation Categories'!$G$4:$O$831,8,0)","v":284},1,0,{"$f":"VLOOKUP($E162,'[1]Organisation Categories'!$G$4:$O$831,2,0)","v":23},{"$f":"VLOOKUP($E162,'[1]Organisation Categories'!$G$4:$O$831,3,0)","v":261},{"$f":"VLOOKUP($E162,'[1]Organisation Categories'!$G$4:$O$831,4,0)","v":0},{"$f":"VLOOKUP($E162,'[1]Organisation Categories'!$G$4:$O$831,5,0)","v":0},{"$f":"VLOOKUP($E162,'[1]Organisation Categories'!$G$4:$O$831,6,0)","v":0},{"$f":"VLOOKUP($E162,'[1]Organisation Categories'!$G$4:$O$831,7,0)","v":0},0,0,0,0,0,0,0,0,0]
["QMF","RQX","HOMERTON HEALTHCARE NHS FOUNDATION TRUST","Children & Family Services","RQXChildren & Family Services",3,"*","*","*","*","*","*","*","*",{"$f":"VLOOKUP($E163,'[1]Organisation Categories'!$G$4:$O$831,8,0)","v":3},1,0,{"$f":"VLOOKUP($E163,'[1]Organisation Categories'!$G$4:$O$831,2,0)","v":3},{"$f":"VLOOKUP($E163,'[1]Organisation Categories'!$G$4:$O$831,3,0)","v":0},{"$f":"VLOOKUP($E163,'[1]Organisation Categories'!$G$4:$O$831,4,0)","v":0},{"$f":"VLOOKUP($E163,'[1]Organisation Categories'!$G$4:$O$831,5,0)","v":0},{"$f":"VLOOKUP($E163,'[1]Organisation Categories'!$G$4:$O$831,6,0)","v":0},{"$f":"VLOOKUP($E163,'[1]Organisation Categories'!$G$4:$O$831,7,0)","v":0},0,0,0,0,0,0,0,0,0]
["QMF","RQX","HOMERTON HEALTHCARE NHS FOUNDATION TRUST","Community Nursing Services","RQXCommunity Nursing Services",65,0.89230769230769236,6.1538461538461542E-2,47,11,3,1,3,0,{"$f":"VLOOKUP($E164,'[1]Organisation Categories'!$G$4:$O$831,8,0)","v":65},0.89230769230769236,6.1538461538461542E-2,{"$f":"VLOOKUP($E164,'[1]Organisation Categories'!$G$4:$O$831,2,0)","v":47},{"$f":"VLOOKUP($E164,'[1]Organisation Categories'!$G$4:$O$831,3,0)","v":11},{"$f":"VLOOKUP($E164,'[1]Organisation Categories'!$G$4:$O$831,4,0)","v":3},{"$f":"VLOOKUP($E164,'[1]Organisation Categories'!$G$4:$O$831,5,0)","v":1},{"$f":"VLOOKUP($E164,'[1]Organisation Categories'!$G$4:$O$831,6,0)","v":3},{"$f":"VLOOKUP($E164,'[1]Organisation Categories'!$G$4:$O$831,7,0)","v":0},0,0,0,0,0,0,0,0,0]
["QMF","RQX","HOMERTON HEALTHCARE NHS FOUNDATION TRUST","Rehabilitation & Therapy Services","RQXRehabilitation & Therapy Services",47,0.95744680851063835,0,"*","*","*","*","*","*",{"$f":"VLOOKUP($E165,'[1]Organisation Categories'!$G$4:$O$831,8,0)","v":47},0.95744680851063835,0,{"$f":"VLOOKUP($E165,'[1]Organisation Categories'!$G$4:$O$831,2,0)","v":36},{"$f":"VLOOKUP($E165,'[1]Organisation Categories'!$G$4:$O$831,3,0)","v":9},{"$f":"VLOOKUP($E165,'[1]Organisation Categories'!$G$4:$O$831,4,0)","v":2},{"$f":"VLOOKUP($E165,'[1]Organisation Categories'!$G$4:$O$831,5,0)","v":0},{"$f":"VLOOKUP($E165,'[1]Organisation Categories'!$G$4:$O$831,6,0)","v":0},{"$f":"VLOOKUP($E165,'[1]Organisation Categories'!$G$4:$O$831,7,0)","v":0},0,0,0,0,0,0,0,0,0]
["QMF","RQX","HOMERTON HEALTHCARE NHS FOUNDATION TRUST","Specialist Services","RQXSpecialist Services",833,0.97478991596638653,1.2004801920768308E-2,695,117,11,2,8,0,{"$f":"VLOOKUP($E166,'[1]Organisation Categories'!$G$4:$O$831,8,0)","v":833},0.97478991596638653,1.2004801920768308E-2,{"$f":"VLOOKUP($E166,'[1]Organisation Categories'!$G$4:$O$831,2,0)","v":695},{"$f":"VLOOKUP($E166,'[1]Organisation Categories'!$G$4:$O$831,3,0)","v":117},{"$f":"VLOOKUP($E166,'[1]Organisation Categories'!$G$4:$O$831,4,0)","v":11},{"$f":"VLOOKUP($E166,'[1]Organisation Categories'!$G$4:$O$831,5,0)","v":2},{"$f":"VLOOKUP($E166,'[1]Organisation Categories'!$G$4:$O$831,6,0)","v":8},{"$f":"VLOOKUP($E166,'[1]Organisation Categories'!$G$4:$O$831,7,0)","v":0},0,0,0,0,0,0,0,0,0]
["QMF","RAT","NORTH EAST LONDON NHS FOUNDATION TRUST","Children & Family Services","RATChildren & Family Services",230,0.87826086956521743,4.7826086956521741E-2,154,48,12,5,6,5,{"$f":"VLOOKUP($E167,'[1]Organisation Categories'!$G$4:$O$831,8,0)","v":230},0.87826086956521743,4.7826086956521741E-2,{"$f":"VLOOKUP($E167,'[1]Organisation Categories'!$G$4:$O$831,2,0)","v":154},{"$f":"VLOOKUP($E167,'[1]Organisation Categories'!$G$4:$O$831,3,0)","v":48},{"$f":"VLOOKUP($E167,'[1]Organisation Categories'!$G$4:$O$831,4,0)","v":12},{"$f":"VLOOKUP($E167,'[1]Organisation Categories'!$G$4:$O$831,5,0)","v":5},{"$f":"VLOOKUP($E167,'[1]Organisation Categories'!$G$4:$O$831,6,0)","v":6},{"$f":"VLOOKUP($E167,'[1]Organisation Categories'!$G$4:$O$831,7,0)","v":5},0,0,0,0,0,0,0,0,0]
["QMF","RAT","NORTH EAST LONDON NHS FOUNDATION TRUST","Community Healthcare Other","RATCommunity Healthcare Other",113,0.72566371681415931,0.15929203539823009,56,26,13,12,6,0,{"$f":"VLOOKUP($E168,'[1]Organisation Categories'!$G$4:$O$831,8,0)","v":113},0.72566371681415931,0.15929203539823009,{"$f":"VLOOKUP($E168,'[1]Organisation Categories'!$G$4:$O$831,2,0)","v":56},{"$f":"VLOOKUP($E168,'[1]Organisation Categories'!$G$4:$O$831,3,0)","v":26},{"$f":"VLOOKUP($E168,'[1]Organisation Categories'!$G$4:$O$831,4,0)","v":13},{"$f":"VLOOKUP($E168,'[1]Organisation Categories'!$G$4:$O$831,5,0)","v":12},{"$f":"VLOOKUP($E168,'[1]Organisation Categories'!$G$4:$O$831,6,0)","v":6},{"$f":"VLOOKUP($E168,'[1]Organisation Categories'!$G$4:$O$831,7,0)","v":0},0,0,0,0,0,0,0,0,0]
["QMF","RAT","NORTH EAST LONDON NHS FOUNDATION TRUST","Community Inpatient Services","RATCommunity Inpatient Services",55,0.92727272727272725,5.4545454545454543E-2,41,10,1,0,3,0,{"$f":"VLOOKUP($E169,'[1]Organisation Categories'!$G$4:$O$831,8,0)","v":55},0.92727272727272725,5.4545454545454543E-2,{"$f":"VLOOKUP($E169,'[1]Organisation Categories'!$G$4:$O$831,2,0)","v":41},{"$f":"VLOOKUP($E169,'[1]Organisation Categories'!$G$4:$O$831,3,0)","v":10},{"$f":"VLOOKUP($E169,'[1]Organisation Categories'!$G$4:$O$831,4,0)","v":1},{"$f":"VLOOKUP($E169,'[1]Organisation Categories'!$G$4:$O$831,5,0)","v":0},{"$f":"VLOOKUP($E169,'[1]Organisation Categories'!$G$4:$O$831,6,0)","v":3},{"$f":"VLOOKUP($E169,'[1]Organisation Categories'!$G$4:$O$831,7,0)","v":0},0,0,0,0,0,0,0,0,0]
["QMF","RAT","NORTH EAST LONDON NHS FOUNDATION TRUST","Community Nursing Services","RATCommunity Nursing Services",189,0.8835978835978836,5.2910052910052907E-2,125,42,9,3,7,3,{"$f":"VLOOKUP($E170,'[1]Organisation Categories'!$G$4:$O$831,8,0)","v":189},0.8835978835978836,5.2910052910052907E-2,{"$f":"VLOOKUP($E170,'[1]Organisation Categories'!$G$4:$O$831,2,0)","v":125},{"$f":"VLOOKUP($E170,'[1]Organisation Categories'!$G$4:$O$831,3,0)","v":42},{"$f":"VLOOKUP($E170,'[1]Organisation Categories'!$G$4:$O$831,4,0)","v":9},{"$f":"VLOOKUP($E170,'[1]Organisation Categories'!$G$4:$O$831,5,0)","v":3},{"$f":"VLOOKUP($E170,'[1]Organisation Categories'!$G$4:$O$831,6,0)","v":7},{"$f":"VLOOKUP($E170,'[1]Organisation Categories'!$G$4:$O$831,7,0)","v":3},0,0,0,0,0,0,0,0,0]
["QMF","RAT","NORTH EAST LONDON NHS FOUNDATION TRUST","Rehabilitation & Therapy Services","RATRehabilitation & Therapy Services",192,0.90104166666666663,3.6458333333333336E-2,134,39,10,5,2,2,{"$f":"VLOOKUP($E171,'[1]Organisation Categories'!$G$4:$O$831,8,0)","v":192},0.90104166666666663,3.6458333333333336E-2,{"$f":"VLOOKUP($E171,'[1]Organisation Categories'!$G$4:$O$831,2,0)","v":134},{"$f":"VLOOKUP($E171,'[1]Organisation Categories'!$G$4:$O$831,3,0)","v":39},{"$f":"VLOOKUP($E171,'[1]Organisation Categories'!$G$4:$O$831,4,0)","v":10},{"$f":"VLOOKUP($E171,'[1]Organisation Categories'!$G$4:$O$831,5,0)","v":5},{"$f":"VLOOKUP($E171,'[1]Organisation Categories'!$G$4:$O$831,6,0)","v":2},{"$f":"VLOOKUP($E171,'[1]Organisation Categories'!$G$4:$O$831,7,0)","v":2},0,0,0,0,0,0,0,0,0]
["QMF","RAT","NORTH EAST LONDON NHS FOUNDATION TRUST","Specialist Services","RATSpecialist Services",307,0.92508143322475567,1.9543973941368076E-2,224,60,12,1,5,5,{"$f":"VLOOKUP($E172,'[1]Organisation Categories'!$G$4:$O$831,8,0)","v":307},0.92508143322475567,1.9543973941368076E-2,{"$f":"VLOOKUP($E172,'[1]Organisation Categories'!$G$4:$O$831,2,0)","v":224},{"$f":"VLOOKUP($E172,'[1]Organisation Categories'!$G$4:$O$831,3,0)","v":60},{"$f":"VLOOKUP($E172,'[1]Organisation Categories'!$G$4:$O$831,4,0)","v":12},{"$f":"VLOOKUP($E172,'[1]Organisation Categories'!$G$4:$O$831,5,0)","v":1},{"$f":"VLOOKUP($E172,'[1]Organisation Categories'!$G$4:$O$831,6,0)","v":5},{"$f":"VLOOKUP($E172,'[1]Organisation Categories'!$G$4:$O$831,7,0)","v":5},0,0,0,0,0,0,0,0,0]
["QMJ","RV3","CENTRAL AND NORTH WEST LONDON NHS FOUNDATION TRUST","Children & Family Services","RV3Children & Family Services",33,1,0,24,9,0,0,0,0,{"$f":"VLOOKUP($E173,'[1]Organisation Categories'!$G$4:$O$831,8,0)","v":33},1,0,{"$f":"VLOOKUP($E173,'[1]Organisation Categories'!$G$4:$O$831,2,0)","v":24},{"$f":"VLOOKUP($E173,'[1]Organisation Categories'!$G$4:$O$831,3,0)","v":9},{"$f":"VLOOKUP($E173,'[1]Organisation Categories'!$G$4:$O$831,4,0)","v":0},{"$f":"VLOOKUP($E173,'[1]Organisation Categories'!$G$4:$O$831,5,0)","v":0},{"$f":"VLOOKUP($E173,'[1]Organisation Categories'!$G$4:$O$831,6,0)","v":0},{"$f":"VLOOKUP($E173,'[1]Organisation Categories'!$G$4:$O$831,7,0)","v":0},0,0,0,0,0,0,0,0,0]
["QMJ","RV3","CENTRAL AND NORTH WEST LONDON NHS FOUNDATION TRUST","Community Healthcare Other","RV3Community Healthcare Other",32,0.96875,0,28,3,1,0,0,0,{"$f":"VLOOKUP($E174,'[1]Organisation Categories'!$G$4:$O$831,8,0)","v":32},0.96875,0,{"$f":"VLOOKUP($E174,'[1]Organisation Categories'!$G$4:$O$831,2,0)","v":28},{"$f":"VLOOKUP($E174,'[1]Organisation Categories'!$G$4:$O$831,3,0)","v":3},{"$f":"VLOOKUP($E174,'[1]Organisation Categories'!$G$4:$O$831,4,0)","v":1},{"$f":"VLOOKUP($E174,'[1]Organisation Categories'!$G$4:$O$831,5,0)","v":0},{"$f":"VLOOKUP($E174,'[1]Organisation Categories'!$G$4:$O$831,6,0)","v":0},{"$f":"VLOOKUP($E174,'[1]Organisation Categories'!$G$4:$O$831,7,0)","v":0},0,0,0,0,0,0,0,0,0]
["QMJ","RV3","CENTRAL AND NORTH WEST LONDON NHS FOUNDATION TRUST","Community Inpatient Services","RV3Community Inpatient Services",71,0.95774647887323938,0,48,20,3,0,0,0,{"$f":"VLOOKUP($E175,'[1]Organisation Categories'!$G$4:$O$831,8,0)","v":71},0.95774647887323938,0,{"$f":"VLOOKUP($E175,'[1]Organisation Categories'!$G$4:$O$831,2,0)","v":48},{"$f":"VLOOKUP($E175,'[1]Organisation Categories'!$G$4:$O$831,3,0)","v":20},{"$f":"VLOOKUP($E175,'[1]Organisation Categories'!$G$4:$O$831,4,0)","v":3},{"$f":"VLOOKUP($E175,'[1]Organisation Categories'!$G$4:$O$831,5,0)","v":0},{"$f":"VLOOKUP($E175,'[1]Organisation Categories'!$G$4:$O$831,6,0)","v":0},{"$f":"VLOOKUP($E175,'[1]Organisation Categories'!$G$4:$O$831,7,0)","v":0},0,0,0,0,0,0,0,0,0]
["QMJ","RV3","CENTRAL AND NORTH WEST LONDON NHS FOUNDATION TRUST","Community Nursing Services","RV3Community Nursing Services",66,1,0,65,1,0,0,0,0,{"$f":"VLOOKUP($E176,'[1]Organisation Categories'!$G$4:$O$831,8,0)","v":66},1,0,{"$f":"VLOOKUP($E176,'[1]Organisation Categories'!$G$4:$O$831,2,0)","v":65},{"$f":"VLOOKUP($E176,'[1]Organisation Categories'!$G$4:$O$831,3,0)","v":1},{"$f":"VLOOKUP($E176,'[1]Organisation Categories'!$G$4:$O$831,4,0)","v":0},{"$f":"VLOOKUP($E176,'[1]Organisation Categories'!$G$4:$O$831,5,0)","v":0},{"$f":"VLOOKUP($E176,'[1]Organisation Categories'!$G$4:$O$831,6,0)","v":0},{"$f":"VLOOKUP($E176,'[1]Organisation Categories'!$G$4:$O$831,7,0)","v":0},0,0,0,0,0,0,0,0,0]
["QMJ","RV3","CENTRAL AND NORTH WEST LONDON NHS FOUNDATION TRUST","Rehabilitation & Therapy Services","RV3Rehabilitation & Therapy Services",142,0.97887323943661975,0,117,22,3,0,0,0,{"$f":"VLOOKUP($E177,'[1]Organisation Categories'!$G$4:$O$831,8,0)","v":142},0.97887323943661975,0,{"$f":"VLOOKUP($E177,'[1]Organisation Categories'!$G$4:$O$831,2,0)","v":117},{"$f":"VLOOKUP($E177,'[1]Organisation Categories'!$G$4:$O$831,3,0)","v":22},{"$f":"VLOOKUP($E177,'[1]Organisation Categories'!$G$4:$O$831,4,0)","v":3},{"$f":"VLOOKUP($E177,'[1]Organisation Categories'!$G$4:$O$831,5,0)","v":0},{"$f":"VLOOKUP($E177,'[1]Organisation Categories'!$G$4:$O$831,6,0)","v":0},{"$f":"VLOOKUP($E177,'[1]Organisation Categories'!$G$4:$O$831,7,0)","v":0},0,0,0,0,0,0,0,0,0]
["QMJ","RV3","CENTRAL AND NORTH WEST LONDON NHS FOUNDATION TRUST","Specialist Services","RV3Specialist Services",53,0.94339622641509435,5.6603773584905662E-2,39,11,0,3,0,0,{"$f":"VLOOKUP($E178,'[1]Organisation Categories'!$G$4:$O$831,8,0)","v":53},0.94339622641509435,5.6603773584905662E-2,{"$f":"VLOOKUP($E178,'[1]Organisation Categories'!$G$4:$O$831,2,0)","v":39},{"$f":"VLOOKUP($E178,'[1]Organisation Categories'!$G$4:$O$831,3,0)","v":11},{"$f":"VLOOKUP($E178,'[1]Organisation Categories'!$G$4:$O$831,4,0)","v":0},{"$f":"VLOOKUP($E178,'[1]Organisation Categories'!$G$4:$O$831,5,0)","v":3},{"$f":"VLOOKUP($E178,'[1]Organisation Categories'!$G$4:$O$831,6,0)","v":0},{"$f":"VLOOKUP($E178,'[1]Organisation Categories'!$G$4:$O$831,7,0)","v":0},0,0,0,0,0,0,0,0,0]
["QMJ","RAL","ROYAL FREE LONDON NHS FOUNDATION TRUST","Community Healthcare Other","RALCommunity Healthcare Other",8,1,0,4,4,0,0,0,0,{"$f":"VLOOKUP($E179,'[1]Organisation Categories'!$G$4:$O$831,8,0)","v":8},1,0,{"$f":"VLOOKUP($E179,'[1]Organisation Categories'!$G$4:$O$831,2,0)","v":4},{"$f":"VLOOKUP($E179,'[1]Organisation Categories'!$G$4:$O$831,3,0)","v":4},{"$f":"VLOOKUP($E179,'[1]Organisation Categories'!$G$4:$O$831,4,0)","v":0},{"$f":"VLOOKUP($E179,'[1]Organisation Categories'!$G$4:$O$831,5,0)","v":0},{"$f":"VLOOKUP($E179,'[1]Organisation Categories'!$G$4:$O$831,6,0)","v":0},{"$f":"VLOOKUP($E179,'[1]Organisation Categories'!$G$4:$O$831,7,0)","v":0},0,0,0,0,0,0,0,0,0]
["QMJ","RAL","ROYAL FREE LONDON NHS FOUNDATION TRUST","Community Inpatient Services","RALCommunity Inpatient Services",10,1,0,6,4,0,0,0,0,{"$f":"VLOOKUP($E180,'[1]Organisation Categories'!$G$4:$O$831,8,0)","v":10},1,0,{"$f":"VLOOKUP($E180,'[1]Organisation Categories'!$G$4:$O$831,2,0)","v":6},{"$f":"VLOOKUP($E180,'[1]Organisation Categories'!$G$4:$O$831,3,0)","v":4},{"$f":"VLOOKUP($E180,'[1]Organisation Categories'!$G$4:$O$831,4,0)","v":0},{"$f":"VLOOKUP($E180,'[1]Organisation Categories'!$G$4:$O$831,5,0)","v":0},{"$f":"VLOOKUP($E180,'[1]Organisation Categories'!$G$4:$O$831,6,0)","v":0},{"$f":"VLOOKUP($E180,'[1]Organisation Categories'!$G$4:$O$831,7,0)","v":0},0,0,0,0,0,0,0,0,0]
["QMJ","RAL","ROYAL FREE LONDON NHS FOUNDATION TRUST","Community Nursing Services","RALCommunity Nursing Services",389,0.91002570694087404,7.7120822622107968E-3,124,230,32,3,0,0,{"$f":"VLOOKUP($E181,'[1]Organisation Categories'!$G$4:$O$831,8,0)","v":389},0.91002570694087404,7.7120822622107968E-3,{"$f":"VLOOKUP($E181,'[1]Organisation Categories'!$G$4:$O$831,2,0)","v":124},{"$f":"VLOOKUP($E181,'[1]Organisation Categories'!$G$4:$O$831,3,0)","v":230},{"$f":"VLOOKUP($E181,'[1]Organisation Categories'!$G$4:$O$831,4,0)","v":32},{"$f":"VLOOKUP($E181,'[1]Organisation Categories'!$G$4:$O$831,5,0)","v":3},{"$f":"VLOOKUP($E181,'[1]Organisation Categories'!$G$4:$O$831,6,0)","v":0},{"$f":"VLOOKUP($E181,'[1]Organisation Categories'!$G$4:$O$831,7,0)","v":0},0,0,0,0,0,0,0,0,0]
["QMJ","RAL","ROYAL FREE LONDON NHS FOUNDATION TRUST","Rehabilitation & Therapy Services","RALRehabilitation & Therapy Services",80,1,0,68,12,0,0,0,0,{"$f":"VLOOKUP($E182,'[1]Organisation Categories'!$G$4:$O$831,8,0)","v":80},1,0,{"$f":"VLOOKUP($E182,'[1]Organisation Categories'!$G$4:$O$831,2,0)","v":68},{"$f":"VLOOKUP($E182,'[1]Organisation Categories'!$G$4:$O$831,3,0)","v":12},{"$f":"VLOOKUP($E182,'[1]Organisation Categories'!$G$4:$O$831,4,0)","v":0},{"$f":"VLOOKUP($E182,'[1]Organisation Categories'!$G$4:$O$831,5,0)","v":0},{"$f":"VLOOKUP($E182,'[1]Organisation Categories'!$G$4:$O$831,6,0)","v":0},{"$f":"VLOOKUP($E182,'[1]Organisation Categories'!$G$4:$O$831,7,0)","v":0},0,0,0,0,0,0,0,0,0]
["QMJ","RAL","ROYAL FREE LONDON NHS FOUNDATION TRUST","Specialist Services","RALSpecialist Services",282,0.98226950354609932,0,236,41,4,0,0,1,{"$f":"VLOOKUP($E183,'[1]Organisation Categories'!$G$4:$O$831,8,0)","v":282},0.98226950354609932,0,{"$f":"VLOOKUP($E183,'[1]Organisation Categories'!$G$4:$O$831,2,0)","v":236},{"$f":"VLOOKUP($E183,'[1]Organisation Categories'!$G$4:$O$831,3,0)","v":41},{"$f":"VLOOKUP($E183,'[1]Organisation Categories'!$G$4:$O$831,4,0)","v":4},{"$f":"VLOOKUP($E183,'[1]Organisation Categories'!$G$4:$O$831,5,0)","v":0},{"$f":"VLOOKUP($E183,'[1]Organisation Categories'!$G$4:$O$831,6,0)","v":0},{"$f":"VLOOKUP($E183,'[1]Organisation Categories'!$G$4:$O$831,7,0)","v":1},0,0,0,0,0,0,0,0,0]
["QMJ","RKE","WHITTINGTON HEALTH NHS TRUST","Children & Family Services","RKEChildren & Family Services",191,0.96335078534031415,2.0942408376963352E-2,161,23,2,2,2,1,{"$f":"VLOOKUP($E184,'[1]Organisation Categories'!$G$4:$O$831,8,0)","v":191},0.96335078534031415,2.0942408376963352E-2,{"$f":"VLOOKUP($E184,'[1]Organisation Categories'!$G$4:$O$831,2,0)","v":161},{"$f":"VLOOKUP($E184,'[1]Organisation Categories'!$G$4:$O$831,3,0)","v":23},{"$f":"VLOOKUP($E184,'[1]Organisation Categories'!$G$4:$O$831,4,0)","v":2},{"$f":"VLOOKUP($E184,'[1]Organisation Categories'!$G$4:$O$831,5,0)","v":2},{"$f":"VLOOKUP($E184,'[1]Organisation Categories'!$G$4:$O$831,6,0)","v":2},{"$f":"VLOOKUP($E184,'[1]Organisation Categories'!$G$4:$O$831,7,0)","v":1},0,0,0,0,0,0,0,0,0]
["QMJ","RKE","WHITTINGTON HEALTH NHS TRUST","Community Healthcare Other","RKECommunity Healthcare Other",22,1,0,"*","*","*","*","*","*",{"$f":"VLOOKUP($E185,'[1]Organisation Categories'!$G$4:$O$831,8,0)","v":22},1,0,{"$f":"VLOOKUP($E185,'[1]Organisation Categories'!$G$4:$O$831,2,0)","v":20},{"$f":"VLOOKUP($E185,'[1]Organisation Categories'!$G$4:$O$831,3,0)","v":2},{"$f":"VLOOKUP($E185,'[1]Organisation Categories'!$G$4:$O$831,4,0)","v":0},{"$f":"VLOOKUP($E185,'[1]Organisation Categories'!$G$4:$O$831,5,0)","v":0},{"$f":"VLOOKUP($E185,'[1]Organisation Categories'!$G$4:$O$831,6,0)","v":0},{"$f":"VLOOKUP($E185,'[1]Organisation Categories'!$G$4:$O$831,7,0)","v":0},0,0,0,0,0,0,0,0,0]
["QMJ","RKE","WHITTINGTON HEALTH NHS TRUST","Community Nursing Services","RKECommunity Nursing Services",1,"*","*","*","*","*","*","*","*",{"$f":"VLOOKUP($E186,'[1]Organisation Categories'!$G$4:$O$831,8,0)","v":1},1,0,{"$f":"VLOOKUP($E186,'[1]Organisation Categories'!$G$4:$O$831,2,0)","v":1},{"$f":"VLOOKUP($E186,'[1]Organisation Categories'!$G$4:$O$831,3,0)","v":0},{"$f":"VLOOKUP($E186,'[1]Organisation Categories'!$G$4:$O$831,4,0)","v":0},{"$f":"VLOOKUP($E186,'[1]Organisation Categories'!$G$4:$O$831,5,0)","v":0},{"$f":"VLOOKUP($E186,'[1]Organisation Categories'!$G$4:$O$831,6,0)","v":0},{"$f":"VLOOKUP($E186,'[1]Organisation Categories'!$G$4:$O$831,7,0)","v":0},0,0,0,0,0,0,0,0,0]
["QMJ","RKE","WHITTINGTON HEALTH NHS TRUST","Rehabilitation & Therapy Services","RKERehabilitation & Therapy Services",310,0.95483870967741935,2.2580645161290321E-2,245,51,5,3,4,2,{"$f":"VLOOKUP($E187,'[1]Organisation Categories'!$G$4:$O$831,8,0)","v":310},0.95483870967741935,2.2580645161290321E-2,{"$f":"VLOOKUP($E187,'[1]Organisation Categories'!$G$4:$O$831,2,0)","v":245},{"$f":"VLOOKUP($E187,'[1]Organisation Categories'!$G$4:$O$831,3,0)","v":51},{"$f":"VLOOKUP($E187,'[1]Organisation Categories'!$G$4:$O$831,4,0)","v":5},{"$f":"VLOOKUP($E187,'[1]Organisation Categories'!$G$4:$O$831,5,0)","v":3},{"$f":"VLOOKUP($E187,'[1]Organisation Categories'!$G$4:$O$831,6,0)","v":4},{"$f":"VLOOKUP($E187,'[1]Organisation Categories'!$G$4:$O$831,7,0)","v":2},0,0,0,0,0,0,0,0,0]
["QMJ","RKE","WHITTINGTON HEALTH NHS TRUST","Specialist Services","RKESpecialist Services",328,0.96036585365853655,1.8292682926829267E-2,291,24,5,2,4,2,{"$f":"VLOOKUP($E188,'[1]Organisation Categories'!$G$4:$O$831,8,0)","v":328},0.96036585365853655,1.8292682926829267E-2,{"$f":"VLOOKUP($E188,'[1]Organisation Categories'!$G$4:$O$831,2,0)","v":291},{"$f":"VLOOKUP($E188,'[1]Organisation Categories'!$G$4:$O$831,3,0)","v":24},{"$f":"VLOOKUP($E188,'[1]Organisation Categories'!$G$4:$O$831,4,0)","v":5},{"$f":"VLOOKUP($E188,'[1]Organisation Categories'!$G$4:$O$831,5,0)","v":2},{"$f":"VLOOKUP($E188,'[1]Organisation Categories'!$G$4:$O$831,6,0)","v":4},{"$f":"VLOOKUP($E188,'[1]Organisation Categories'!$G$4:$O$831,7,0)","v":2},0,0,0,0,0,0,0,0,0]
["QMM","RY3","NORFOLK COMMUNITY HEALTH AND CARE NHS TRUST","Children & Family Services","RY3Children & Family Services",18,1,0,15,3,0,0,0,0,{"$f":"VLOOKUP($E189,'[1]Organisation Categories'!$G$4:$O$831,8,0)","v":18},1,0,{"$f":"VLOOKUP($E189,'[1]Organisation Categories'!$G$4:$O$831,2,0)","v":15},{"$f":"VLOOKUP($E189,'[1]Organisation Categories'!$G$4:$O$831,3,0)","v":3},{"$f":"VLOOKUP($E189,'[1]Organisation Categories'!$G$4:$O$831,4,0)","v":0},{"$f":"VLOOKUP($E189,'[1]Organisation Categories'!$G$4:$O$831,5,0)","v":0},{"$f":"VLOOKUP($E189,'[1]Organisation Categories'!$G$4:$O$831,6,0)","v":0},{"$f":"VLOOKUP($E189,'[1]Organisation Categories'!$G$4:$O$831,7,0)","v":0},0,0,0,0,0,0,0,0,0]
["QMM","RY3","NORFOLK COMMUNITY HEALTH AND CARE NHS TRUST","Community Healthcare Other","RY3Community Healthcare Other",27,0.92592592592592593,0,22,3,2,0,0,0,{"$f":"VLOOKUP($E190,'[1]Organisation Categories'!$G$4:$O$831,8,0)","v":27},0.92592592592592593,0,{"$f":"VLOOKUP($E190,'[1]Organisation Categories'!$G$4:$O$831,2,0)","v":22},{"$f":"VLOOKUP($E190,'[1]Organisation Categories'!$G$4:$O$831,3,0)","v":3},{"$f":"VLOOKUP($E190,'[1]Organisation Categories'!$G$4:$O$831,4,0)","v":2},{"$f":"VLOOKUP($E190,'[1]Organisation Categories'!$G$4:$O$831,5,0)","v":0},{"$f":"VLOOKUP($E190,'[1]Organisation Categories'!$G$4:$O$831,6,0)","v":0},{"$f":"VLOOKUP($E190,'[1]Organisation Categories'!$G$4:$O$831,7,0)","v":0},0,0,0,0,0,0,0,0,0]
["QMM","RY3","NORFOLK COMMUNITY HEALTH AND CARE NHS TRUST","Community Inpatient Services","RY3Community Inpatient Services",51,0.86274509803921573,1.9607843137254902E-2,31,13,6,1,0,0,{"$f":"VLOOKUP($E191,'[1]Organisation Categories'!$G$4:$O$831,8,0)","v":51},0.86274509803921573,1.9607843137254902E-2,{"$f":"VLOOKUP($E191,'[1]Organisation Categories'!$G$4:$O$831,2,0)","v":31},{"$f":"VLOOKUP($E191,'[1]Organisation Categories'!$G$4:$O$831,3,0)","v":13},{"$f":"VLOOKUP($E191,'[1]Organisation Categories'!$G$4:$O$831,4,0)","v":6},{"$f":"VLOOKUP($E191,'[1]Organisation Categories'!$G$4:$O$831,5,0)","v":1},{"$f":"VLOOKUP($E191,'[1]Organisation Categories'!$G$4:$O$831,6,0)","v":0},{"$f":"VLOOKUP($E191,'[1]Organisation Categories'!$G$4:$O$831,7,0)","v":0},0,0,0,0,0,0,0,0,0]
["QMM","RY3","NORFOLK COMMUNITY HEALTH AND CARE NHS TRUST","Community Nursing Services","RY3Community Nursing Services",192,0.98958333333333337,0,168,22,2,0,0,0,{"$f":"VLOOKUP($E192,'[1]Organisation Categories'!$G$4:$O$831,8,0)","v":192},0.98958333333333337,0,{"$f":"VLOOKUP($E192,'[1]Organisation Categories'!$G$4:$O$831,2,0)","v":168},{"$f":"VLOOKUP($E192,'[1]Organisation Categories'!$G$4:$O$831,3,0)","v":22},{"$f":"VLOOKUP($E192,'[1]Organisation Categories'!$G$4:$O$831,4,0)","v":2},{"$f":"VLOOKUP($E192,'[1]Organisation Categories'!$G$4:$O$831,5,0)","v":0},{"$f":"VLOOKUP($E192,'[1]Organisation Categories'!$G$4:$O$831,6,0)","v":0},{"$f":"VLOOKUP($E192,'[1]Organisation Categories'!$G$4:$O$831,7,0)","v":0},0,0,0,0,0,0,0,0,0]
["QMM","RY3","NORFOLK COMMUNITY HEALTH AND CARE NHS TRUST","Rehabilitation & Therapy Services","RY3Rehabilitation & Therapy Services",103,1,0,91,12,0,0,0,0,{"$f":"VLOOKUP($E193,'[1]Organisation Categories'!$G$4:$O$831,8,0)","v":103},1,0,{"$f":"VLOOKUP($E193,'[1]Organisation Categories'!$G$4:$O$831,2,0)","v":91},{"$f":"VLOOKUP($E193,'[1]Organisation Categories'!$G$4:$O$831,3,0)","v":12},{"$f":"VLOOKUP($E193,'[1]Organisation Categories'!$G$4:$O$831,4,0)","v":0},{"$f":"VLOOKUP($E193,'[1]Organisation Categories'!$G$4:$O$831,5,0)","v":0},{"$f":"VLOOKUP($E193,'[1]Organisation Categories'!$G$4:$O$831,6,0)","v":0},{"$f":"VLOOKUP($E193,'[1]Organisation Categories'!$G$4:$O$831,7,0)","v":0},0,0,0,0,0,0,0,0,0]
["QMM","RY3","NORFOLK COMMUNITY HEALTH AND CARE NHS TRUST","Specialist Services","RY3Specialist Services",22,0.86363636363636365,4.5454545454545456E-2,15,4,2,0,1,0,{"$f":"VLOOKUP($E194,'[1]Organisation Categories'!$G$4:$O$831,8,0)","v":22},0.86363636363636365,4.5454545454545456E-2,{"$f":"VLOOKUP($E194,'[1]Organisation Categories'!$G$4:$O$831,2,0)","v":15},{"$f":"VLOOKUP($E194,'[1]Organisation Categories'!$G$4:$O$831,3,0)","v":4},{"$f":"VLOOKUP($E194,'[1]Organisation Categories'!$G$4:$O$831,4,0)","v":2},{"$f":"VLOOKUP($E194,'[1]Organisation Categories'!$G$4:$O$831,5,0)","v":0},{"$f":"VLOOKUP($E194,'[1]Organisation Categories'!$G$4:$O$831,6,0)","v":1},{"$f":"VLOOKUP($E194,'[1]Organisation Categories'!$G$4:$O$831,7,0)","v":0},0,0,0,0,0,0,0,0,0]
["QNC","RRE","MIDLANDS PARTNERSHIP UNIVERSITY NHS FOUNDATION TRUST","Children & Family Services","RREChildren & Family Services",143,0.90909090909090906,5.5944055944055944E-2,117,13,3,3,5,2,{"$f":"VLOOKUP($E195,'[1]Organisation Categories'!$G$4:$O$831,8,0)","v":143},0.90909090909090906,5.5944055944055944E-2,{"$f":"VLOOKUP($E195,'[1]Organisation Categories'!$G$4:$O$831,2,0)","v":117},{"$f":"VLOOKUP($E195,'[1]Organisation Categories'!$G$4:$O$831,3,0)","v":13},{"$f":"VLOOKUP($E195,'[1]Organisation Categories'!$G$4:$O$831,4,0)","v":3},{"$f":"VLOOKUP($E195,'[1]Organisation Categories'!$G$4:$O$831,5,0)","v":3},{"$f":"VLOOKUP($E195,'[1]Organisation Categories'!$G$4:$O$831,6,0)","v":5},{"$f":"VLOOKUP($E195,'[1]Organisation Categories'!$G$4:$O$831,7,0)","v":2},0,0,0,0,0,0,0,0,0]
["QNC","RRE","MIDLANDS PARTNERSHIP UNIVERSITY NHS FOUNDATION TRUST","Community Healthcare Other","RRECommunity Healthcare Other",44,0.95454545454545459,2.2727272727272728E-2,38,4,1,0,1,0,{"$f":"VLOOKUP($E196,'[1]Organisation Categories'!$G$4:$O$831,8,0)","v":44},0.95454545454545459,2.2727272727272728E-2,{"$f":"VLOOKUP($E196,'[1]Organisation Categories'!$G$4:$O$831,2,0)","v":38},{"$f":"VLOOKUP($E196,'[1]Organisation Categories'!$G$4:$O$831,3,0)","v":4},{"$f":"VLOOKUP($E196,'[1]Organisation Categories'!$G$4:$O$831,4,0)","v":1},{"$f":"VLOOKUP($E196,'[1]Organisation Categories'!$G$4:$O$831,5,0)","v":0},{"$f":"VLOOKUP($E196,'[1]Organisation Categories'!$G$4:$O$831,6,0)","v":1},{"$f":"VLOOKUP($E196,'[1]Organisation Categories'!$G$4:$O$831,7,0)","v":0},0,0,0,0,0,0,0,0,0]
["QNC","RRE","MIDLANDS PARTNERSHIP UNIVERSITY NHS FOUNDATION TRUST","Community Nursing Services","RRECommunity Nursing Services",469,0.92963752665245203,2.1321961620469083E-2,359,77,15,5,5,8,{"$f":"VLOOKUP($E197,'[1]Organisation Categories'!$G$4:$O$831,8,0)","v":469},0.92963752665245203,2.1321961620469083E-2,{"$f":"VLOOKUP($E197,'[1]Organisation Categories'!$G$4:$O$831,2,0)","v":359},{"$f":"VLOOKUP($E197,'[1]Organisation Categories'!$G$4:$O$831,3,0)","v":77},{"$f":"VLOOKUP($E197,'[1]Organisation Categories'!$G$4:$O$831,4,0)","v":15},{"$f":"VLOOKUP($E197,'[1]Organisation Categories'!$G$4:$O$831,5,0)","v":5},{"$f":"VLOOKUP($E197,'[1]Organisation Categories'!$G$4:$O$831,6,0)","v":5},{"$f":"VLOOKUP($E197,'[1]Organisation Categories'!$G$4:$O$831,7,0)","v":8},0,0,0,0,0,0,0,0,0]
["QNC","RRE","MIDLANDS PARTNERSHIP UNIVERSITY NHS FOUNDATION TRUST","Rehabilitation & Therapy Services","RRERehabilitation & Therapy Services",564,0.93439716312056742,2.6595744680851064E-2,452,75,18,7,8,4,{"$f":"VLOOKUP($E198,'[1]Organisation Categories'!$G$4:$O$831,8,0)","v":564},0.93439716312056742,2.6595744680851064E-2,{"$f":"VLOOKUP($E198,'[1]Organisation Categories'!$G$4:$O$831,2,0)","v":452},{"$f":"VLOOKUP($E198,'[1]Organisation Categories'!$G$4:$O$831,3,0)","v":75},{"$f":"VLOOKUP($E198,'[1]Organisation Categories'!$G$4:$O$831,4,0)","v":18},{"$f":"VLOOKUP($E198,'[1]Organisation Categories'!$G$4:$O$831,5,0)","v":7},{"$f":"VLOOKUP($E198,'[1]Organisation Categories'!$G$4:$O$831,6,0)","v":8},{"$f":"VLOOKUP($E198,'[1]Organisation Categories'!$G$4:$O$831,7,0)","v":4},0,0,0,0,0,0,0,0,0]
["QNC","RRE","MIDLANDS PARTNERSHIP UNIVERSITY NHS FOUNDATION TRUST","Specialist Services","RRESpecialist Services",141,0.8936170212765957,4.9645390070921988E-2,117,9,4,3,4,4,{"$f":"VLOOKUP($E199,'[1]Organisation Categories'!$G$4:$O$831,8,0)","v":141},0.8936170212765957,4.9645390070921988E-2,{"$f":"VLOOKUP($E199,'[1]Organisation Categories'!$G$4:$O$831,2,0)","v":117},{"$f":"VLOOKUP($E199,'[1]Organisation Categories'!$G$4:$O$831,3,0)","v":9},{"$f":"VLOOKUP($E199,'[1]Organisation Categories'!$G$4:$O$831,4,0)","v":4},{"$f":"VLOOKUP($E199,'[1]Organisation Categories'!$G$4:$O$831,5,0)","v":3},{"$f":"VLOOKUP($E199,'[1]Organisation Categories'!$G$4:$O$831,6,0)","v":4},{"$f":"VLOOKUP($E199,'[1]Organisation Categories'!$G$4:$O$831,7,0)","v":4},0,0,0,0,0,0,0,0,0]
["QNQ","RWX","BERKSHIRE HEALTHCARE NHS FOUNDATION TRUST","Children & Family Services","RWXChildren & Family Services",1278,0.93818466353677621,8.6071987480438178E-3,924,275,29,3,8,39,{"$f":"VLOOKUP($E200,'[1]Organisation Categories'!$G$4:$O$831,8,0)","v":1278},0.93818466353677621,8.6071987480438178E-3,{"$f":"VLOOKUP($E200,'[1]Organisation Categories'!$G$4:$O$831,2,0)","v":924},{"$f":"VLOOKUP($E200,'[1]Organisation Categories'!$G$4:$O$831,3,0)","v":275},{"$f":"VLOOKUP($E200,'[1]Organisation Categories'!$G$4:$O$831,4,0)","v":29},{"$f":"VLOOKUP($E200,'[1]Organisation Categories'!$G$4:$O$831,5,0)","v":3},{"$f":"VLOOKUP($E200,'[1]Organisation Categories'!$G$4:$O$831,6,0)","v":8},{"$f":"VLOOKUP($E200,'[1]Organisation Categories'!$G$4:$O$831,7,0)","v":39},0,0,0,0,0,0,0,0,0]
["QNQ","RWX","BERKSHIRE HEALTHCARE NHS FOUNDATION TRUST","Community Healthcare Other",{"$f":"B201&D201","v":"RWXCommunity Healthcare Other"},480,0.96666666666666667,1.8749999999999999E-2,430,34,7,5,4,0,{"$f":"VLOOKUP($E201,'[1]Organisation Categories'!$G$4:$O$831,8,0)","v":480},{"$f":"SUM(R201+S201)/SUM(R201:W201)","v":0.96666666666666667},{"$f":"SUM(U201+V201)/SUM(R201:W201)","v":1.8749999999999999E-2},{"$f":"VLOOKUP($E201,'[1]Organisation Categories'!$G$4:$O$831,2,0)","v":430},{"$f":"VLOOKUP($E201,'[1]Organisation Categories'!$G$4:$O$831,3,0)","v":34},{"$f":"VLOOKUP($E201,'[1]Organisation Categories'!$G$4:$O$831,4,0)","v":7},{"$f":"VLOOKUP($E201,'[1]Organisation Categories'!$G$4:$O$831,5,0)","v":5},{"$f":"VLOOKUP($E201,'[1]Organisation Categories'!$G$4:$O$831,6,0)","v":4},{"$f":"VLOOKUP($E201,'[1]Organisation Categories'!$G$4:$O$831,7,0)","v":0},{"$f":"IFERROR(F201-O201,0)","v":0},{"$f":"IFERROR(G201-P201,0)","v":0},{"$f":"IFERROR(H201-Q201,0)","v":0},{"$f":"IFERROR(I201-R201,0)","v":0},{"$f":"IFERROR(J201-S201,0)","v":0},{"$f":"IFERROR(K201-T201,0)","v":0},{"$f":"IFERROR(L201-U201,0)","v":0},{"$f":"IFERROR(M201-V201,0)","v":0},{"$f":"IFERROR(N201-W201,0)","v":0}]
["QNQ","RWX","BERKSHIRE HEALTHCARE NHS FOUNDATION TRUST","Community Inpatient Services","RWXCommunity Inpatient Services",115,0.91304347826086951,8.6956521739130432E-2,71,34,0,2,8,0,{"$f":"VLOOKUP($E202,'[1]Organisation Categories'!$G$4:$O$831,8,0)","v":115},0.91304347826086951,8.6956521739130432E-2,{"$f":"VLOOKUP($E202,'[1]Organisation Categories'!$G$4:$O$831,2,0)","v":71},{"$f":"VLOOKUP($E202,'[1]Organisation Categories'!$G$4:$O$831,3,0)","v":34},{"$f":"VLOOKUP($E202,'[1]Organisation Categories'!$G$4:$O$831,4,0)","v":0},{"$f":"VLOOKUP($E202,'[1]Organisation Categories'!$G$4:$O$831,5,0)","v":2},{"$f":"VLOOKUP($E202,'[1]Organisation Categories'!$G$4:$O$831,6,0)","v":8},{"$f":"VLOOKUP($E202,'[1]Organisation Categories'!$G$4:$O$831,7,0)","v":0},0,0,0,0,0,0,0,0,0]
["QNQ","RWX","BERKSHIRE HEALTHCARE NHS FOUNDATION TRUST","Community Nursing Services","RWXCommunity Nursing Services",512,0.984375,7.8125E-3,485,19,4,1,3,0,{"$f":"VLOOKUP($E203,'[1]Organisation Categories'!$G$4:$O$831,8,0)","v":512},0.984375,7.8125E-3,{"$f":"VLOOKUP($E203,'[1]Organisation Categories'!$G$4:$O$831,2,0)","v":485},{"$f":"VLOOKUP($E203,'[1]Organisation Categories'!$G$4:$O$831,3,0)","v":19},{"$f":"VLOOKUP($E203,'[1]Organisation Categories'!$G$4:$O$831,4,0)","v":4},{"$f":"VLOOKUP($E203,'[1]Organisation Categories'!$G$4:$O$831,5,0)","v":1},{"$f":"VLOOKUP($E203,'[1]Organisation Categories'!$G$4:$O$831,6,0)","v":3},{"$f":"VLOOKUP($E203,'[1]Organisation Categories'!$G$4:$O$831,7,0)","v":0},0,0,0,0,0,0,0,0,0]
["QNQ","RWX","BERKSHIRE HEALTHCARE NHS FOUNDATION TRUST","Rehabilitation & Therapy Services","RWXRehabilitation & Therapy Services",684,0.97368421052631582,1.1695906432748537E-2,629,37,8,3,5,2,{"$f":"VLOOKUP($E204,'[1]Organisation Categories'!$G$4:$O$831,8,0)","v":684},0.97368421052631582,1.1695906432748537E-2,{"$f":"VLOOKUP($E204,'[1]Organisation Categories'!$G$4:$O$831,2,0)","v":629},{"$f":"VLOOKUP($E204,'[1]Organisation Categories'!$G$4:$O$831,3,0)","v":37},{"$f":"VLOOKUP($E204,'[1]Organisation Categories'!$G$4:$O$831,4,0)","v":8},{"$f":"VLOOKUP($E204,'[1]Organisation Categories'!$G$4:$O$831,5,0)","v":3},{"$f":"VLOOKUP($E204,'[1]Organisation Categories'!$G$4:$O$831,6,0)","v":5},{"$f":"VLOOKUP($E204,'[1]Organisation Categories'!$G$4:$O$831,7,0)","v":2},0,0,0,0,0,0,0,0,0]
["QNQ","RWX","BERKSHIRE HEALTHCARE NHS FOUNDATION TRUST","Specialist Services","RWXSpecialist Services",522,0.96551724137931039,1.7241379310344827E-2,461,43,8,7,2,1,{"$f":"VLOOKUP($E205,'[1]Organisation Categories'!$G$4:$O$831,8,0)","v":522},0.96551724137931039,1.7241379310344827E-2,{"$f":"VLOOKUP($E205,'[1]Organisation Categories'!$G$4:$O$831,2,0)","v":461},{"$f":"VLOOKUP($E205,'[1]Organisation Categories'!$G$4:$O$831,3,0)","v":43},{"$f":"VLOOKUP($E205,'[1]Organisation Categories'!$G$4:$O$831,4,0)","v":8},{"$f":"VLOOKUP($E205,'[1]Organisation Categories'!$G$4:$O$831,5,0)","v":7},{"$f":"VLOOKUP($E205,'[1]Organisation Categories'!$G$4:$O$831,6,0)","v":2},{"$f":"VLOOKUP($E205,'[1]Organisation Categories'!$G$4:$O$831,7,0)","v":1},0,0,0,0,0,0,0,0,0]
["QNQ","RDU","FRIMLEY HEALTH NHS FOUNDATION TRUST","Community Healthcare Other","RDUCommunity Healthcare Other",303,0.99339933993399343,0,278,23,2,0,0,0,{"$f":"VLOOKUP($E206,'[1]Organisation Categories'!$G$4:$O$831,8,0)","v":303},0.99339933993399343,0,{"$f":"VLOOKUP($E206,'[1]Organisation Categories'!$G$4:$O$831,2,0)","v":278},{"$f":"VLOOKUP($E206,'[1]Organisation Categories'!$G$4:$O$831,3,0)","v":23},{"$f":"VLOOKUP($E206,'[1]Organisation Categories'!$G$4:$O$831,4,0)","v":2},{"$f":"VLOOKUP($E206,'[1]Organisation Categories'!$G$4:$O$831,5,0)","v":0},{"$f":"VLOOKUP($E206,'[1]Organisation Categories'!$G$4:$O$831,6,0)","v":0},{"$f":"VLOOKUP($E206,'[1]Organisation Categories'!$G$4:$O$831,7,0)","v":0},0,0,0,0,0,0,0,0,0]
["QNX","RXC","EAST SUSSEX HEALTHCARE NHS TRUST","Children & Family Services","RXCChildren & Family Services",5,1,0,"*","*","*","*","*","*",{"$f":"VLOOKUP($E207,'[1]Organisation Categories'!$G$4:$O$831,8,0)","v":5},1,0,{"$f":"VLOOKUP($E207,'[1]Organisation Categories'!$G$4:$O$831,2,0)","v":5},{"$f":"VLOOKUP($E207,'[1]Organisation Categories'!$G$4:$O$831,3,0)","v":0},{"$f":"VLOOKUP($E207,'[1]Organisation Categories'!$G$4:$O$831,4,0)","v":0},{"$f":"VLOOKUP($E207,'[1]Organisation Categories'!$G$4:$O$831,5,0)","v":0},{"$f":"VLOOKUP($E207,'[1]Organisation Categories'!$G$4:$O$831,6,0)","v":0},{"$f":"VLOOKUP($E207,'[1]Organisation Categories'!$G$4:$O$831,7,0)","v":0},0,0,0,0,0,0,0,0,0]
["QNX","RXC","EAST SUSSEX HEALTHCARE NHS TRUST","Community Inpatient Services","RXCCommunity Inpatient Services",4,"*","*","*","*","*","*","*","*",{"$f":"VLOOKUP($E208,'[1]Organisation Categories'!$G$4:$O$831,8,0)","v":4},0.75,0.25,{"$f":"VLOOKUP($E208,'[1]Organisation Categories'!$G$4:$O$831,2,0)","v":1},{"$f":"VLOOKUP($E208,'[1]Organisation Categories'!$G$4:$O$831,3,0)","v":2},{"$f":"VLOOKUP($E208,'[1]Organisation Categories'!$G$4:$O$831,4,0)","v":0},{"$f":"VLOOKUP($E208,'[1]Organisation Categories'!$G$4:$O$831,5,0)","v":1},{"$f":"VLOOKUP($E208,'[1]Organisation Categories'!$G$4:$O$831,6,0)","v":0},{"$f":"VLOOKUP($E208,'[1]Organisation Categories'!$G$4:$O$831,7,0)","v":0},0,0,0,0,0,0,0,0,0]
["QNX","RXC","EAST SUSSEX HEALTHCARE NHS TRUST","Community Nursing Services","RXCCommunity Nursing Services",401,0.93017456359102246,4.2394014962593519E-2,339,34,8,3,14,3,{"$f":"VLOOKUP($E209,'[1]Organisation Categories'!$G$4:$O$831,8,0)","v":401},0.93017456359102246,4.2394014962593519E-2,{"$f":"VLOOKUP($E209,'[1]Organisation Categories'!$G$4:$O$831,2,0)","v":339},{"$f":"VLOOKUP($E209,'[1]Organisation Categories'!$G$4:$O$831,3,0)","v":34},{"$f":"VLOOKUP($E209,'[1]Organisation Categories'!$G$4:$O$831,4,0)","v":8},{"$f":"VLOOKUP($E209,'[1]Organisation Categories'!$G$4:$O$831,5,0)","v":3},{"$f":"VLOOKUP($E209,'[1]Organisation Categories'!$G$4:$O$831,6,0)","v":14},{"$f":"VLOOKUP($E209,'[1]Organisation Categories'!$G$4:$O$831,7,0)","v":3},0,0,0,0,0,0,0,0,0]
["QNX","RXC","EAST SUSSEX HEALTHCARE NHS TRUST","Rehabilitation & Therapy Services","RXCRehabilitation & Therapy Services",1017,0.96165191740412981,1.6715830875122909E-2,903,75,17,9,8,5,{"$f":"VLOOKUP($E210,'[1]Organisation Categories'!$G$4:$O$831,8,0)","v":1017},0.96165191740412981,1.6715830875122909E-2,{"$f":"VLOOKUP($E210,'[1]Organisation Categories'!$G$4:$O$831,2,0)","v":903},{"$f":"VLOOKUP($E210,'[1]Organisation Categories'!$G$4:$O$831,3,0)","v":75},{"$f":"VLOOKUP($E210,'[1]Organisation Categories'!$G$4:$O$831,4,0)","v":17},{"$f":"VLOOKUP($E210,'[1]Organisation Categories'!$G$4:$O$831,5,0)","v":9},{"$f":"VLOOKUP($E210,'[1]Organisation Categories'!$G$4:$O$831,6,0)","v":8},{"$f":"VLOOKUP($E210,'[1]Organisation Categories'!$G$4:$O$831,7,0)","v":5},0,0,0,0,0,0,0,0,0]
["QNX","RXC","EAST SUSSEX HEALTHCARE NHS TRUST","Specialist Services","RXCSpecialist Services",486,0.9423868312757202,1.646090534979424E-2,420,38,17,6,2,3,{"$f":"VLOOKUP($E211,'[1]Organisation Categories'!$G$4:$O$831,8,0)","v":486},0.9423868312757202,1.646090534979424E-2,{"$f":"VLOOKUP($E211,'[1]Organisation Categories'!$G$4:$O$831,2,0)","v":420},{"$f":"VLOOKUP($E211,'[1]Organisation Categories'!$G$4:$O$831,3,0)","v":38},{"$f":"VLOOKUP($E211,'[1]Organisation Categories'!$G$4:$O$831,4,0)","v":17},{"$f":"VLOOKUP($E211,'[1]Organisation Categories'!$G$4:$O$831,5,0)","v":6},{"$f":"VLOOKUP($E211,'[1]Organisation Categories'!$G$4:$O$831,6,0)","v":2},{"$f":"VLOOKUP($E211,'[1]Organisation Categories'!$G$4:$O$831,7,0)","v":3},0,0,0,0,0,0,0,0,0]
["QNX","RDR","SUSSEX COMMUNITY NHS FOUNDATION TRUST","Children & Family Services","RDRChildren & Family Services",378,0.94444444444444442,3.439153439153439E-2,327,30,7,3,10,1,{"$f":"VLOOKUP($E212,'[1]Organisation Categories'!$G$4:$O$831,8,0)","v":378},0.94444444444444442,3.439153439153439E-2,{"$f":"VLOOKUP($E212,'[1]Organisation Categories'!$G$4:$O$831,2,0)","v":327},{"$f":"VLOOKUP($E212,'[1]Organisation Categories'!$G$4:$O$831,3,0)","v":30},{"$f":"VLOOKUP($E212,'[1]Organisation Categories'!$G$4:$O$831,4,0)","v":7},{"$f":"VLOOKUP($E212,'[1]Organisation Categories'!$G$4:$O$831,5,0)","v":3},{"$f":"VLOOKUP($E212,'[1]Organisation Categories'!$G$4:$O$831,6,0)","v":10},{"$f":"VLOOKUP($E212,'[1]Organisation Categories'!$G$4:$O$831,7,0)","v":1},0,0,0,0,0,0,0,0,0]
["QNX","RDR","SUSSEX COMMUNITY NHS FOUNDATION TRUST","Community Healthcare Other","RDRCommunity Healthcare Other",1411,0.94755492558469168,2.7639971651311126E-2,1150,187,31,20,19,4,{"$f":"VLOOKUP($E213,'[1]Organisation Categories'!$G$4:$O$831,8,0)","v":1411},0.94755492558469168,2.7639971651311126E-2,{"$f":"VLOOKUP($E213,'[1]Organisation Categories'!$G$4:$O$831,2,0)","v":1150},{"$f":"VLOOKUP($E213,'[1]Organisation Categories'!$G$4:$O$831,3,0)","v":187},{"$f":"VLOOKUP($E213,'[1]Organisation Categories'!$G$4:$O$831,4,0)","v":31},{"$f":"VLOOKUP($E213,'[1]Organisation Categories'!$G$4:$O$831,5,0)","v":20},{"$f":"VLOOKUP($E213,'[1]Organisation Categories'!$G$4:$O$831,6,0)","v":19},{"$f":"VLOOKUP($E213,'[1]Organisation Categories'!$G$4:$O$831,7,0)","v":4},0,0,0,0,0,0,0,0,0]
["QNX","RDR","SUSSEX COMMUNITY NHS FOUNDATION TRUST","Community Inpatient Services","RDRCommunity Inpatient Services",89,1,0,62,27,0,0,0,0,{"$f":"VLOOKUP($E214,'[1]Organisation Categories'!$G$4:$O$831,8,0)","v":89},1,0,{"$f":"VLOOKUP($E214,'[1]Organisation Categories'!$G$4:$O$831,2,0)","v":62},{"$f":"VLOOKUP($E214,'[1]Organisation Categories'!$G$4:$O$831,3,0)","v":27},{"$f":"VLOOKUP($E214,'[1]Organisation Categories'!$G$4:$O$831,4,0)","v":0},{"$f":"VLOOKUP($E214,'[1]Organisation Categories'!$G$4:$O$831,5,0)","v":0},{"$f":"VLOOKUP($E214,'[1]Organisation Categories'!$G$4:$O$831,6,0)","v":0},{"$f":"VLOOKUP($E214,'[1]Organisation Categories'!$G$4:$O$831,7,0)","v":0},0,0,0,0,0,0,0,0,0]
["QNX","RDR","SUSSEX COMMUNITY NHS FOUNDATION TRUST","Community Nursing Services","RDRCommunity Nursing Services",157,0.95541401273885351,6.369426751592357E-3,117,33,6,0,1,0,{"$f":"VLOOKUP($E215,'[1]Organisation Categories'!$G$4:$O$831,8,0)","v":157},0.95541401273885351,6.369426751592357E-3,{"$f":"VLOOKUP($E215,'[1]Organisation Categories'!$G$4:$O$831,2,0)","v":117},{"$f":"VLOOKUP($E215,'[1]Organisation Categories'!$G$4:$O$831,3,0)","v":33},{"$f":"VLOOKUP($E215,'[1]Organisation Categories'!$G$4:$O$831,4,0)","v":6},{"$f":"VLOOKUP($E215,'[1]Organisation Categories'!$G$4:$O$831,5,0)","v":0},{"$f":"VLOOKUP($E215,'[1]Organisation Categories'!$G$4:$O$831,6,0)","v":1},{"$f":"VLOOKUP($E215,'[1]Organisation Categories'!$G$4:$O$831,7,0)","v":0},0,0,0,0,0,0,0,0,0]
["QNX","RDR","SUSSEX COMMUNITY NHS FOUNDATION TRUST","Rehabilitation & Therapy Services","RDRRehabilitation & Therapy Services",320,0.97812500000000002,9.3749999999999997E-3,280,33,3,2,1,1,{"$f":"VLOOKUP($E216,'[1]Organisation Categories'!$G$4:$O$831,8,0)","v":320},0.97812500000000002,9.3749999999999997E-3,{"$f":"VLOOKUP($E216,'[1]Organisation Categories'!$G$4:$O$831,2,0)","v":280},{"$f":"VLOOKUP($E216,'[1]Organisation Categories'!$G$4:$O$831,3,0)","v":33},{"$f":"VLOOKUP($E216,'[1]Organisation Categories'!$G$4:$O$831,4,0)","v":3},{"$f":"VLOOKUP($E216,'[1]Organisation Categories'!$G$4:$O$831,5,0)","v":2},{"$f":"VLOOKUP($E216,'[1]Organisation Categories'!$G$4:$O$831,6,0)","v":1},{"$f":"VLOOKUP($E216,'[1]Organisation Categories'!$G$4:$O$831,7,0)","v":1},0,0,0,0,0,0,0,0,0]
["QNX","RDR","SUSSEX COMMUNITY NHS FOUNDATION TRUST","Specialist Services","RDRSpecialist Services",523,0.98470363288718932,5.7361376673040155E-3,487,28,5,1,2,0,{"$f":"VLOOKUP($E217,'[1]Organisation Categories'!$G$4:$O$831,8,0)","v":523},0.98470363288718932,5.7361376673040155E-3,{"$f":"VLOOKUP($E217,'[1]Organisation Categories'!$G$4:$O$831,2,0)","v":487},{"$f":"VLOOKUP($E217,'[1]Organisation Categories'!$G$4:$O$831,3,0)","v":28},{"$f":"VLOOKUP($E217,'[1]Organisation Categories'!$G$4:$O$831,4,0)","v":5},{"$f":"VLOOKUP($E217,'[1]Organisation Categories'!$G$4:$O$831,5,0)","v":1},{"$f":"VLOOKUP($E217,'[1]Organisation Categories'!$G$4:$O$831,6,0)","v":2},{"$f":"VLOOKUP($E217,'[1]Organisation Categories'!$G$4:$O$831,7,0)","v":0},0,0,0,0,0,0,0,0,0]
["QOC","R1D","SHROPSHIRE COMMUNITY HEALTH NHS TRUST","Children & Family Services","R1DChildren & Family Services",48,1,0,45,3,0,0,0,0,{"$f":"VLOOKUP($E218,'[1]Organisation Categories'!$G$4:$O$831,8,0)","v":48},1,0,{"$f":"VLOOKUP($E218,'[1]Organisation Categories'!$G$4:$O$831,2,0)","v":45},{"$f":"VLOOKUP($E218,'[1]Organisation Categories'!$G$4:$O$831,3,0)","v":3},{"$f":"VLOOKUP($E218,'[1]Organisation Categories'!$G$4:$O$831,4,0)","v":0},{"$f":"VLOOKUP($E218,'[1]Organisation Categories'!$G$4:$O$831,5,0)","v":0},{"$f":"VLOOKUP($E218,'[1]Organisation Categories'!$G$4:$O$831,6,0)","v":0},{"$f":"VLOOKUP($E218,'[1]Organisation Categories'!$G$4:$O$831,7,0)","v":0},0,0,0,0,0,0,0,0,0]
["QOC","R1D","SHROPSHIRE COMMUNITY HEALTH NHS TRUST","Community Healthcare Other","R1DCommunity Healthcare Other",26,1,0,25,1,0,0,0,0,{"$f":"VLOOKUP($E219,'[1]Organisation Categories'!$G$4:$O$831,8,0)","v":26},1,0,{"$f":"VLOOKUP($E219,'[1]Organisation Categories'!$G$4:$O$831,2,0)","v":25},{"$f":"VLOOKUP($E219,'[1]Organisation Categories'!$G$4:$O$831,3,0)","v":1},{"$f":"VLOOKUP($E219,'[1]Organisation Categories'!$G$4:$O$831,4,0)","v":0},{"$f":"VLOOKUP($E219,'[1]Organisation Categories'!$G$4:$O$831,5,0)","v":0},{"$f":"VLOOKUP($E219,'[1]Organisation Categories'!$G$4:$O$831,6,0)","v":0},{"$f":"VLOOKUP($E219,'[1]Organisation Categories'!$G$4:$O$831,7,0)","v":0},0,0,0,0,0,0,0,0,0]
["QOC","R1D","SHROPSHIRE COMMUNITY HEALTH NHS TRUST","Community Inpatient Services","R1DCommunity Inpatient Services",20,0.9,0,15,3,2,0,0,0,{"$f":"VLOOKUP($E220,'[1]Organisation Categories'!$G$4:$O$831,8,0)","v":20},0.9,0,{"$f":"VLOOKUP($E220,'[1]Organisation Categories'!$G$4:$O$831,2,0)","v":15},{"$f":"VLOOKUP($E220,'[1]Organisation Categories'!$G$4:$O$831,3,0)","v":3},{"$f":"VLOOKUP($E220,'[1]Organisation Categories'!$G$4:$O$831,4,0)","v":2},{"$f":"VLOOKUP($E220,'[1]Organisation Categories'!$G$4:$O$831,5,0)","v":0},{"$f":"VLOOKUP($E220,'[1]Organisation Categories'!$G$4:$O$831,6,0)","v":0},{"$f":"VLOOKUP($E220,'[1]Organisation Categories'!$G$4:$O$831,7,0)","v":0},0,0,0,0,0,0,0,0,0]
["QOC","R1D","SHROPSHIRE COMMUNITY HEALTH NHS TRUST","Community Nursing Services","R1DCommunity Nursing Services",42,0.95238095238095233,0,34,6,2,0,0,0,{"$f":"VLOOKUP($E221,'[1]Organisation Categories'!$G$4:$O$831,8,0)","v":42},0.95238095238095233,0,{"$f":"VLOOKUP($E221,'[1]Organisation Categories'!$G$4:$O$831,2,0)","v":34},{"$f":"VLOOKUP($E221,'[1]Organisation Categories'!$G$4:$O$831,3,0)","v":6},{"$f":"VLOOKUP($E221,'[1]Organisation Categories'!$G$4:$O$831,4,0)","v":2},{"$f":"VLOOKUP($E221,'[1]Organisation Categories'!$G$4:$O$831,5,0)","v":0},{"$f":"VLOOKUP($E221,'[1]Organisation Categories'!$G$4:$O$831,6,0)","v":0},{"$f":"VLOOKUP($E221,'[1]Organisation Categories'!$G$4:$O$831,7,0)","v":0},0,0,0,0,0,0,0,0,0]
["QOC","R1D","SHROPSHIRE COMMUNITY HEALTH NHS TRUST","Rehabilitation & Therapy Services","R1DRehabilitation & Therapy Services",21,1,0,20,1,0,0,0,0,{"$f":"VLOOKUP($E222,'[1]Organisation Categories'!$G$4:$O$831,8,0)","v":21},1,0,{"$f":"VLOOKUP($E222,'[1]Organisation Categories'!$G$4:$O$831,2,0)","v":20},{"$f":"VLOOKUP($E222,'[1]Organisation Categories'!$G$4:$O$831,3,0)","v":1},{"$f":"VLOOKUP($E222,'[1]Organisation Categories'!$G$4:$O$831,4,0)","v":0},{"$f":"VLOOKUP($E222,'[1]Organisation Categories'!$G$4:$O$831,5,0)","v":0},{"$f":"VLOOKUP($E222,'[1]Organisation Categories'!$G$4:$O$831,6,0)","v":0},{"$f":"VLOOKUP($E222,'[1]Organisation Categories'!$G$4:$O$831,7,0)","v":0},0,0,0,0,0,0,0,0,0]
["QOC","R1D","SHROPSHIRE COMMUNITY HEALTH NHS TRUST","Specialist Services","R1DSpecialist Services",66,0.98484848484848486,1.5151515151515152E-2,64,1,0,1,0,0,{"$f":"VLOOKUP($E223,'[1]Organisation Categories'!$G$4:$O$831,8,0)","v":66},0.98484848484848486,1.5151515151515152E-2,{"$f":"VLOOKUP($E223,'[1]Organisation Categories'!$G$4:$O$831,2,0)","v":64},{"$f":"VLOOKUP($E223,'[1]Organisation Categories'!$G$4:$O$831,3,0)","v":1},{"$f":"VLOOKUP($E223,'[1]Organisation Categories'!$G$4:$O$831,4,0)","v":0},{"$f":"VLOOKUP($E223,'[1]Organisation Categories'!$G$4:$O$831,5,0)","v":1},{"$f":"VLOOKUP($E223,'[1]Organisation Categories'!$G$4:$O$831,6,0)","v":0},{"$f":"VLOOKUP($E223,'[1]Organisation Categories'!$G$4:$O$831,7,0)","v":0},0,0,0,0,0,0,0,0,0]
["QOP","RMC","BOLTON NHS FOUNDATION TRUST","Children & Family Services","RMCChildren & Family Services",325,0.97846153846153849,1.2307692307692308E-2,292,26,2,2,2,1,{"$f":"VLOOKUP($E224,'[1]Organisation Categories'!$G$4:$O$831,8,0)","v":325},0.97846153846153849,1.2307692307692308E-2,{"$f":"VLOOKUP($E224,'[1]Organisation Categories'!$G$4:$O$831,2,0)","v":292},{"$f":"VLOOKUP($E224,'[1]Organisation Categories'!$G$4:$O$831,3,0)","v":26},{"$f":"VLOOKUP($E224,'[1]Organisation Categories'!$G$4:$O$831,4,0)","v":2},{"$f":"VLOOKUP($E224,'[1]Organisation Categories'!$G$4:$O$831,5,0)","v":2},{"$f":"VLOOKUP($E224,'[1]Organisation Categories'!$G$4:$O$831,6,0)","v":2},{"$f":"VLOOKUP($E224,'[1]Organisation Categories'!$G$4:$O$831,7,0)","v":1},0,0,0,0,0,0,0,0,0]
["QOP","RMC","BOLTON NHS FOUNDATION TRUST","Community Healthcare Other","RMCCommunity Healthcare Other",52,1,0,50,2,0,0,0,0,{"$f":"VLOOKUP($E225,'[1]Organisation Categories'!$G$4:$O$831,8,0)","v":52},1,0,{"$f":"VLOOKUP($E225,'[1]Organisation Categories'!$G$4:$O$831,2,0)","v":50},{"$f":"VLOOKUP($E225,'[1]Organisation Categories'!$G$4:$O$831,3,0)","v":2},{"$f":"VLOOKUP($E225,'[1]Organisation Categories'!$G$4:$O$831,4,0)","v":0},{"$f":"VLOOKUP($E225,'[1]Organisation Categories'!$G$4:$O$831,5,0)","v":0},{"$f":"VLOOKUP($E225,'[1]Organisation Categories'!$G$4:$O$831,6,0)","v":0},{"$f":"VLOOKUP($E225,'[1]Organisation Categories'!$G$4:$O$831,7,0)","v":0},0,0,0,0,0,0,0,0,0]
["QOP","RMC","BOLTON NHS FOUNDATION TRUST","Community Inpatient Services","RMCCommunity Inpatient Services",57,1,0,39,18,0,0,0,0,{"$f":"VLOOKUP($E226,'[1]Organisation Categories'!$G$4:$O$831,8,0)","v":57},1,0,{"$f":"VLOOKUP($E226,'[1]Organisation Categories'!$G$4:$O$831,2,0)","v":39},{"$f":"VLOOKUP($E226,'[1]Organisation Categories'!$G$4:$O$831,3,0)","v":18},{"$f":"VLOOKUP($E226,'[1]Organisation Categories'!$G$4:$O$831,4,0)","v":0},{"$f":"VLOOKUP($E226,'[1]Organisation Categories'!$G$4:$O$831,5,0)","v":0},{"$f":"VLOOKUP($E226,'[1]Organisation Categories'!$G$4:$O$831,6,0)","v":0},{"$f":"VLOOKUP($E226,'[1]Organisation Categories'!$G$4:$O$831,7,0)","v":0},0,0,0,0,0,0,0,0,0]
["QOP","RMC","BOLTON NHS FOUNDATION TRUST","Community Nursing Services","RMCCommunity Nursing Services",284,0.97535211267605637,0,264,13,1,0,0,6,{"$f":"VLOOKUP($E227,'[1]Organisation Categories'!$G$4:$O$831,8,0)","v":284},0.97535211267605637,0,{"$f":"VLOOKUP($E227,'[1]Organisation Categories'!$G$4:$O$831,2,0)","v":264},{"$f":"VLOOKUP($E227,'[1]Organisation Categories'!$G$4:$O$831,3,0)","v":13},{"$f":"VLOOKUP($E227,'[1]Organisation Categories'!$G$4:$O$831,4,0)","v":1},{"$f":"VLOOKUP($E227,'[1]Organisation Categories'!$G$4:$O$831,5,0)","v":0},{"$f":"VLOOKUP($E227,'[1]Organisation Categories'!$G$4:$O$831,6,0)","v":0},{"$f":"VLOOKUP($E227,'[1]Organisation Categories'!$G$4:$O$831,7,0)","v":6},0,0,0,0,0,0,0,0,0]
["QOP","RMC","BOLTON NHS FOUNDATION TRUST","Rehabilitation & Therapy Services","RMCRehabilitation & Therapy Services",8,0.875,0,5,2,1,0,0,0,{"$f":"VLOOKUP($E228,'[1]Organisation Categories'!$G$4:$O$831,8,0)","v":8},0.875,0,{"$f":"VLOOKUP($E228,'[1]Organisation Categories'!$G$4:$O$831,2,0)","v":5},{"$f":"VLOOKUP($E228,'[1]Organisation Categories'!$G$4:$O$831,3,0)","v":2},{"$f":"VLOOKUP($E228,'[1]Organisation Categories'!$G$4:$O$831,4,0)","v":1},{"$f":"VLOOKUP($E228,'[1]Organisation Categories'!$G$4:$O$831,5,0)","v":0},{"$f":"VLOOKUP($E228,'[1]Organisation Categories'!$G$4:$O$831,6,0)","v":0},{"$f":"VLOOKUP($E228,'[1]Organisation Categories'!$G$4:$O$831,7,0)","v":0},0,0,0,0,0,0,0,0,0]
["QOP","RMC","BOLTON NHS FOUNDATION TRUST","Specialist Services","RMCSpecialist Services",118,0.99152542372881358,0,104,13,0,0,0,1,{"$f":"VLOOKUP($E229,'[1]Organisation Categories'!$G$4:$O$831,8,0)","v":118},0.99152542372881358,0,{"$f":"VLOOKUP($E229,'[1]Organisation Categories'!$G$4:$O$831,2,0)","v":104},{"$f":"VLOOKUP($E229,'[1]Organisation Categories'!$G$4:$O$831,3,0)","v":13},{"$f":"VLOOKUP($E229,'[1]Organisation Categories'!$G$4:$O$831,4,0)","v":0},{"$f":"VLOOKUP($E229,'[1]Organisation Categories'!$G$4:$O$831,5,0)","v":0},{"$f":"VLOOKUP($E229,'[1]Organisation Categories'!$G$4:$O$831,6,0)","v":0},{"$f":"VLOOKUP($E229,'[1]Organisation Categories'!$G$4:$O$831,7,0)","v":1},0,0,0,0,0,0,0,0,0]
["QOP","R0A","MANCHESTER UNIVERSITY NHS FOUNDATION TRUST","Children & Family Services","R0AChildren & Family Services",227,0.97797356828193838,8.8105726872246704E-3,205,17,3,1,1,0,{"$f":"VLOOKUP($E230,'[1]Organisation Categories'!$G$4:$O$831,8,0)","v":227},0.97797356828193838,8.8105726872246704E-3,{"$f":"VLOOKUP($E230,'[1]Organisation Categories'!$G$4:$O$831,2,0)","v":205},{"$f":"VLOOKUP($E230,'[1]Organisation Categories'!$G$4:$O$831,3,0)","v":17},{"$f":"VLOOKUP($E230,'[1]Organisation Categories'!$G$4:$O$831,4,0)","v":3},{"$f":"VLOOKUP($E230,'[1]Organisation Categories'!$G$4:$O$831,5,0)","v":1},{"$f":"VLOOKUP($E230,'[1]Organisation Categories'!$G$4:$O$831,6,0)","v":1},{"$f":"VLOOKUP($E230,'[1]Organisation Categories'!$G$4:$O$831,7,0)","v":0},0,0,0,0,0,0,0,0,0]
["QOP","R0A","MANCHESTER UNIVERSITY NHS FOUNDATION TRUST","Community Healthcare Other","R0ACommunity Healthcare Other",49,0.95918367346938771,2.0408163265306121E-2,"*","*","*","*","*","*",{"$f":"VLOOKUP($E231,'[1]Organisation Categories'!$G$4:$O$831,8,0)","v":49},0.95918367346938771,2.0408163265306121E-2,{"$f":"VLOOKUP($E231,'[1]Organisation Categories'!$G$4:$O$831,2,0)","v":44},{"$f":"VLOOKUP($E231,'[1]Organisation Categories'!$G$4:$O$831,3,0)","v":3},{"$f":"VLOOKUP($E231,'[1]Organisation Categories'!$G$4:$O$831,4,0)","v":0},{"$f":"VLOOKUP($E231,'[1]Organisation Categories'!$G$4:$O$831,5,0)","v":1},{"$f":"VLOOKUP($E231,'[1]Organisation Categories'!$G$4:$O$831,6,0)","v":0},{"$f":"VLOOKUP($E231,'[1]Organisation Categories'!$G$4:$O$831,7,0)","v":1},0,0,0,0,0,0,0,0,0]
["QOP","R0A","MANCHESTER UNIVERSITY NHS FOUNDATION TRUST","Community Inpatient Services","R0ACommunity Inpatient Services",3,"*","*","*","*","*","*","*","*",{"$f":"VLOOKUP($E232,'[1]Organisation Categories'!$G$4:$O$831,8,0)","v":3},1,0,{"$f":"VLOOKUP($E232,'[1]Organisation Categories'!$G$4:$O$831,2,0)","v":3},{"$f":"VLOOKUP($E232,'[1]Organisation Categories'!$G$4:$O$831,3,0)","v":0},{"$f":"VLOOKUP($E232,'[1]Organisation Categories'!$G$4:$O$831,4,0)","v":0},{"$f":"VLOOKUP($E232,'[1]Organisation Categories'!$G$4:$O$831,5,0)","v":0},{"$f":"VLOOKUP($E232,'[1]Organisation Categories'!$G$4:$O$831,6,0)","v":0},{"$f":"VLOOKUP($E232,'[1]Organisation Categories'!$G$4:$O$831,7,0)","v":0},0,0,0,0,0,0,0,0,0]
["QOP","R0A","MANCHESTER UNIVERSITY NHS FOUNDATION TRUST","Community Nursing Services","R0ACommunity Nursing Services",662,0.99697885196374625,1.5105740181268882E-3,629,31,1,1,0,0,{"$f":"VLOOKUP($E233,'[1]Organisation Categories'!$G$4:$O$831,8,0)","v":662},0.99697885196374625,1.5105740181268882E-3,{"$f":"VLOOKUP($E233,'[1]Organisation Categories'!$G$4:$O$831,2,0)","v":629},{"$f":"VLOOKUP($E233,'[1]Organisation Categories'!$G$4:$O$831,3,0)","v":31},{"$f":"VLOOKUP($E233,'[1]Organisation Categories'!$G$4:$O$831,4,0)","v":1},{"$f":"VLOOKUP($E233,'[1]Organisation Categories'!$G$4:$O$831,5,0)","v":1},{"$f":"VLOOKUP($E233,'[1]Organisation Categories'!$G$4:$O$831,6,0)","v":0},{"$f":"VLOOKUP($E233,'[1]Organisation Categories'!$G$4:$O$831,7,0)","v":0},0,0,0,0,0,0,0,0,0]
["QOP","R0A","MANCHESTER UNIVERSITY NHS FOUNDATION TRUST","Rehabilitation & Therapy Services","R0ARehabilitation & Therapy Services",50,0.98,0,42,7,1,0,0,0,{"$f":"VLOOKUP($E234,'[1]Organisation Categories'!$G$4:$O$831,8,0)","v":50},0.98,0,{"$f":"VLOOKUP($E234,'[1]Organisation Categories'!$G$4:$O$831,2,0)","v":42},{"$f":"VLOOKUP($E234,'[1]Organisation Categories'!$G$4:$O$831,3,0)","v":7},{"$f":"VLOOKUP($E234,'[1]Organisation Categories'!$G$4:$O$831,4,0)","v":1},{"$f":"VLOOKUP($E234,'[1]Organisation Categories'!$G$4:$O$831,5,0)","v":0},{"$f":"VLOOKUP($E234,'[1]Organisation Categories'!$G$4:$O$831,6,0)","v":0},{"$f":"VLOOKUP($E234,'[1]Organisation Categories'!$G$4:$O$831,7,0)","v":0},0,0,0,0,0,0,0,0,0]
["QOP","R0A","MANCHESTER UNIVERSITY NHS FOUNDATION TRUST","Specialist Services","R0ASpecialist Services",608,0.96710526315789469,9.8684210526315784E-3,532,56,12,3,3,2,{"$f":"VLOOKUP($E235,'[1]Organisation Categories'!$G$4:$O$831,8,0)","v":608},0.96710526315789469,9.8684210526315784E-3,{"$f":"VLOOKUP($E235,'[1]Organisation Categories'!$G$4:$O$831,2,0)","v":532},{"$f":"VLOOKUP($E235,'[1]Organisation Categories'!$G$4:$O$831,3,0)","v":56},{"$f":"VLOOKUP($E235,'[1]Organisation Categories'!$G$4:$O$831,4,0)","v":12},{"$f":"VLOOKUP($E235,'[1]Organisation Categories'!$G$4:$O$831,5,0)","v":3},{"$f":"VLOOKUP($E235,'[1]Organisation Categories'!$G$4:$O$831,6,0)","v":3},{"$f":"VLOOKUP($E235,'[1]Organisation Categories'!$G$4:$O$831,7,0)","v":2},0,0,0,0,0,0,0,0,0]
["QOP","RWJ","STOCKPORT NHS FOUNDATION TRUST","Community Nursing Services","RWJCommunity Nursing Services",58,0.94827586206896552,1.7241379310344827E-2,47,8,2,1,0,0,{"$f":"VLOOKUP($E236,'[1]Organisation Categories'!$G$4:$O$831,8,0)","v":58},0.94827586206896552,1.7241379310344827E-2,{"$f":"VLOOKUP($E236,'[1]Organisation Categories'!$G$4:$O$831,2,0)","v":47},{"$f":"VLOOKUP($E236,'[1]Organisation Categories'!$G$4:$O$831,3,0)","v":8},{"$f":"VLOOKUP($E236,'[1]Organisation Categories'!$G$4:$O$831,4,0)","v":2},{"$f":"VLOOKUP($E236,'[1]Organisation Categories'!$G$4:$O$831,5,0)","v":1},{"$f":"VLOOKUP($E236,'[1]Organisation Categories'!$G$4:$O$831,6,0)","v":0},{"$f":"VLOOKUP($E236,'[1]Organisation Categories'!$G$4:$O$831,7,0)","v":0},0,0,0,0,0,0,0,0,0]
["QOP","RWJ","STOCKPORT NHS FOUNDATION TRUST","Rehabilitation & Therapy Services","RWJRehabilitation & Therapy Services",46,0.91304347826086951,8.6956521739130432E-2,38,4,0,3,1,0,{"$f":"VLOOKUP($E237,'[1]Organisation Categories'!$G$4:$O$831,8,0)","v":46},0.91304347826086951,8.6956521739130432E-2,{"$f":"VLOOKUP($E237,'[1]Organisation Categories'!$G$4:$O$831,2,0)","v":38},{"$f":"VLOOKUP($E237,'[1]Organisation Categories'!$G$4:$O$831,3,0)","v":4},{"$f":"VLOOKUP($E237,'[1]Organisation Categories'!$G$4:$O$831,4,0)","v":0},{"$f":"VLOOKUP($E237,'[1]Organisation Categories'!$G$4:$O$831,5,0)","v":3},{"$f":"VLOOKUP($E237,'[1]Organisation Categories'!$G$4:$O$831,6,0)","v":1},{"$f":"VLOOKUP($E237,'[1]Organisation Categories'!$G$4:$O$831,7,0)","v":0},0,0,0,0,0,0,0,0,0]
["QOP","RWJ","STOCKPORT NHS FOUNDATION TRUST","Specialist Services","RWJSpecialist Services",8,1,0,5,3,0,0,0,0,{"$f":"VLOOKUP($E238,'[1]Organisation Categories'!$G$4:$O$831,8,0)","v":8},1,0,{"$f":"VLOOKUP($E238,'[1]Organisation Categories'!$G$4:$O$831,2,0)","v":5},{"$f":"VLOOKUP($E238,'[1]Organisation Categories'!$G$4:$O$831,3,0)","v":3},{"$f":"VLOOKUP($E238,'[1]Organisation Categories'!$G$4:$O$831,4,0)","v":0},{"$f":"VLOOKUP($E238,'[1]Organisation Categories'!$G$4:$O$831,5,0)","v":0},{"$f":"VLOOKUP($E238,'[1]Organisation Categories'!$G$4:$O$831,6,0)","v":0},{"$f":"VLOOKUP($E238,'[1]Organisation Categories'!$G$4:$O$831,7,0)","v":0},0,0,0,0,0,0,0,0,0]
["QOP","RMP","TAMESIDE AND GLOSSOP INTEGRATED CARE NHS FOUNDATION TRUST","Children & Family Services","RMPChildren & Family Services",39,1,0,36,3,0,0,0,0,{"$f":"VLOOKUP($E239,'[1]Organisation Categories'!$G$4:$O$831,8,0)","v":39},1,0,{"$f":"VLOOKUP($E239,'[1]Organisation Categories'!$G$4:$O$831,2,0)","v":36},{"$f":"VLOOKUP($E239,'[1]Organisation Categories'!$G$4:$O$831,3,0)","v":3},{"$f":"VLOOKUP($E239,'[1]Organisation Categories'!$G$4:$O$831,4,0)","v":0},{"$f":"VLOOKUP($E239,'[1]Organisation Categories'!$G$4:$O$831,5,0)","v":0},{"$f":"VLOOKUP($E239,'[1]Organisation Categories'!$G$4:$O$831,6,0)","v":0},{"$f":"VLOOKUP($E239,'[1]Organisation Categories'!$G$4:$O$831,7,0)","v":0},0,0,0,0,0,0,0,0,0]
["QOP","RMP","TAMESIDE AND GLOSSOP INTEGRATED CARE NHS FOUNDATION TRUST","Community Healthcare Other","RMPCommunity Healthcare Other",88,1,0,88,0,0,0,0,0,{"$f":"VLOOKUP($E240,'[1]Organisation Categories'!$G$4:$O$831,8,0)","v":88},1,0,{"$f":"VLOOKUP($E240,'[1]Organisation Categories'!$G$4:$O$831,2,0)","v":88},{"$f":"VLOOKUP($E240,'[1]Organisation Categories'!$G$4:$O$831,3,0)","v":0},{"$f":"VLOOKUP($E240,'[1]Organisation Categories'!$G$4:$O$831,4,0)","v":0},{"$f":"VLOOKUP($E240,'[1]Organisation Categories'!$G$4:$O$831,5,0)","v":0},{"$f":"VLOOKUP($E240,'[1]Organisation Categories'!$G$4:$O$831,6,0)","v":0},{"$f":"VLOOKUP($E240,'[1]Organisation Categories'!$G$4:$O$831,7,0)","v":0},0,0,0,0,0,0,0,0,0]
["QOP","RMP","TAMESIDE AND GLOSSOP INTEGRATED CARE NHS FOUNDATION TRUST","Community Inpatient Services","RMPCommunity Inpatient Services",186,0.967741935483871,1.6129032258064516E-2,132,48,3,1,2,0,{"$f":"VLOOKUP($E241,'[1]Organisation Categories'!$G$4:$O$831,8,0)","v":186},0.967741935483871,1.6129032258064516E-2,{"$f":"VLOOKUP($E241,'[1]Organisation Categories'!$G$4:$O$831,2,0)","v":132},{"$f":"VLOOKUP($E241,'[1]Organisation Categories'!$G$4:$O$831,3,0)","v":48},{"$f":"VLOOKUP($E241,'[1]Organisation Categories'!$G$4:$O$831,4,0)","v":3},{"$f":"VLOOKUP($E241,'[1]Organisation Categories'!$G$4:$O$831,5,0)","v":1},{"$f":"VLOOKUP($E241,'[1]Organisation Categories'!$G$4:$O$831,6,0)","v":2},{"$f":"VLOOKUP($E241,'[1]Organisation Categories'!$G$4:$O$831,7,0)","v":0},0,0,0,0,0,0,0,0,0]
["QOP","RMP","TAMESIDE AND GLOSSOP INTEGRATED CARE NHS FOUNDATION TRUST","Community Nursing Services","RMPCommunity Nursing Services",97,0.97938144329896903,2.0618556701030927E-2,88,7,0,0,2,0,{"$f":"VLOOKUP($E242,'[1]Organisation Categories'!$G$4:$O$831,8,0)","v":97},0.97938144329896903,2.0618556701030927E-2,{"$f":"VLOOKUP($E242,'[1]Organisation Categories'!$G$4:$O$831,2,0)","v":88},{"$f":"VLOOKUP($E242,'[1]Organisation Categories'!$G$4:$O$831,3,0)","v":7},{"$f":"VLOOKUP($E242,'[1]Organisation Categories'!$G$4:$O$831,4,0)","v":0},{"$f":"VLOOKUP($E242,'[1]Organisation Categories'!$G$4:$O$831,5,0)","v":0},{"$f":"VLOOKUP($E242,'[1]Organisation Categories'!$G$4:$O$831,6,0)","v":2},{"$f":"VLOOKUP($E242,'[1]Organisation Categories'!$G$4:$O$831,7,0)","v":0},0,0,0,0,0,0,0,0,0]
["QOP","RMP","TAMESIDE AND GLOSSOP INTEGRATED CARE NHS FOUNDATION TRUST","Rehabilitation & Therapy Services","RMPRehabilitation & Therapy Services",197,0.97969543147208127,1.5228426395939087E-2,174,19,1,0,3,0,{"$f":"VLOOKUP($E243,'[1]Organisation Categories'!$G$4:$O$831,8,0)","v":197},0.97969543147208127,1.5228426395939087E-2,{"$f":"VLOOKUP($E243,'[1]Organisation Categories'!$G$4:$O$831,2,0)","v":174},{"$f":"VLOOKUP($E243,'[1]Organisation Categories'!$G$4:$O$831,3,0)","v":19},{"$f":"VLOOKUP($E243,'[1]Organisation Categories'!$G$4:$O$831,4,0)","v":1},{"$f":"VLOOKUP($E243,'[1]Organisation Categories'!$G$4:$O$831,5,0)","v":0},{"$f":"VLOOKUP($E243,'[1]Organisation Categories'!$G$4:$O$831,6,0)","v":3},{"$f":"VLOOKUP($E243,'[1]Organisation Categories'!$G$4:$O$831,7,0)","v":0},0,0,0,0,0,0,0,0,0]
["QOP","RMP","TAMESIDE AND GLOSSOP INTEGRATED CARE NHS FOUNDATION TRUST","Specialist Services","RMPSpecialist Services",7,0.8571428571428571,0,6,0,1,0,0,0,{"$f":"VLOOKUP($E244,'[1]Organisation Categories'!$G$4:$O$831,8,0)","v":7},0.8571428571428571,0,{"$f":"VLOOKUP($E244,'[1]Organisation Categories'!$G$4:$O$831,2,0)","v":6},{"$f":"VLOOKUP($E244,'[1]Organisation Categories'!$G$4:$O$831,3,0)","v":0},{"$f":"VLOOKUP($E244,'[1]Organisation Categories'!$G$4:$O$831,4,0)","v":1},{"$f":"VLOOKUP($E244,'[1]Organisation Categories'!$G$4:$O$831,5,0)","v":0},{"$f":"VLOOKUP($E244,'[1]Organisation Categories'!$G$4:$O$831,6,0)","v":0},{"$f":"VLOOKUP($E244,'[1]Organisation Categories'!$G$4:$O$831,7,0)","v":0},0,0,0,0,0,0,0,0,0]
["QOP","RRF","WRIGHTINGTON, WIGAN AND LEIGH NHS FOUNDATION TRUST","Children & Family Services","RRFChildren & Family Services",3,"*","*","*","*","*","*","*","*",{"$f":"VLOOKUP($E245,'[1]Organisation Categories'!$G$4:$O$831,8,0)","v":3},1,0,{"$f":"VLOOKUP($E245,'[1]Organisation Categories'!$G$4:$O$831,2,0)","v":3},{"$f":"VLOOKUP($E245,'[1]Organisation Categories'!$G$4:$O$831,3,0)","v":0},{"$f":"VLOOKUP($E245,'[1]Organisation Categories'!$G$4:$O$831,4,0)","v":0},{"$f":"VLOOKUP($E245,'[1]Organisation Categories'!$G$4:$O$831,5,0)","v":0},{"$f":"VLOOKUP($E245,'[1]Organisation Categories'!$G$4:$O$831,6,0)","v":0},{"$f":"VLOOKUP($E245,'[1]Organisation Categories'!$G$4:$O$831,7,0)","v":0},0,0,0,0,0,0,0,0,0]
["QOP","RRF","WRIGHTINGTON, WIGAN AND LEIGH NHS FOUNDATION TRUST","Community Inpatient Services","RRFCommunity Inpatient Services",15,0.93333333333333335,0,11,3,1,0,0,0,{"$f":"VLOOKUP($E246,'[1]Organisation Categories'!$G$4:$O$831,8,0)","v":15},0.93333333333333335,0,{"$f":"VLOOKUP($E246,'[1]Organisation Categories'!$G$4:$O$831,2,0)","v":11},{"$f":"VLOOKUP($E246,'[1]Organisation Categories'!$G$4:$O$831,3,0)","v":3},{"$f":"VLOOKUP($E246,'[1]Organisation Categories'!$G$4:$O$831,4,0)","v":1},{"$f":"VLOOKUP($E246,'[1]Organisation Categories'!$G$4:$O$831,5,0)","v":0},{"$f":"VLOOKUP($E246,'[1]Organisation Categories'!$G$4:$O$831,6,0)","v":0},{"$f":"VLOOKUP($E246,'[1]Organisation Categories'!$G$4:$O$831,7,0)","v":0},0,0,0,0,0,0,0,0,0]
["QOP","RRF","WRIGHTINGTON, WIGAN AND LEIGH NHS FOUNDATION TRUST","Rehabilitation & Therapy Services","RRFRehabilitation & Therapy Services",2,"*","*","*","*","*","*","*","*",{"$f":"VLOOKUP($E247,'[1]Organisation Categories'!$G$4:$O$831,8,0)","v":2},1,0,{"$f":"VLOOKUP($E247,'[1]Organisation Categories'!$G$4:$O$831,2,0)","v":1},{"$f":"VLOOKUP($E247,'[1]Organisation Categories'!$G$4:$O$831,3,0)","v":1},{"$f":"VLOOKUP($E247,'[1]Organisation Categories'!$G$4:$O$831,4,0)","v":0},{"$f":"VLOOKUP($E247,'[1]Organisation Categories'!$G$4:$O$831,5,0)","v":0},{"$f":"VLOOKUP($E247,'[1]Organisation Categories'!$G$4:$O$831,6,0)","v":0},{"$f":"VLOOKUP($E247,'[1]Organisation Categories'!$G$4:$O$831,7,0)","v":0},0,0,0,0,0,0,0,0,0]
["QOQ","RCD","HARROGATE AND DISTRICT NHS FOUNDATION TRUST","Community Inpatient Services","RCDCommunity Inpatient Services",11,1,0,10,1,0,0,0,0,{"$f":"VLOOKUP($E248,'[1]Organisation Categories'!$G$4:$O$831,8,0)","v":11},1,0,{"$f":"VLOOKUP($E248,'[1]Organisation Categories'!$G$4:$O$831,2,0)","v":10},{"$f":"VLOOKUP($E248,'[1]Organisation Categories'!$G$4:$O$831,3,0)","v":1},{"$f":"VLOOKUP($E248,'[1]Organisation Categories'!$G$4:$O$831,4,0)","v":0},{"$f":"VLOOKUP($E248,'[1]Organisation Categories'!$G$4:$O$831,5,0)","v":0},{"$f":"VLOOKUP($E248,'[1]Organisation Categories'!$G$4:$O$831,6,0)","v":0},{"$f":"VLOOKUP($E248,'[1]Organisation Categories'!$G$4:$O$831,7,0)","v":0},0,0,0,0,0,0,0,0,0]
["QOQ","RV9","HUMBER TEACHING NHS FOUNDATION TRUST","Children & Family Services","RV9Children & Family Services",60,0.98333333333333328,0,57,2,1,0,0,0,{"$f":"VLOOKUP($E249,'[1]Organisation Categories'!$G$4:$O$831,8,0)","v":60},0.98333333333333328,0,{"$f":"VLOOKUP($E249,'[1]Organisation Categories'!$G$4:$O$831,2,0)","v":57},{"$f":"VLOOKUP($E249,'[1]Organisation Categories'!$G$4:$O$831,3,0)","v":2},{"$f":"VLOOKUP($E249,'[1]Organisation Categories'!$G$4:$O$831,4,0)","v":1},{"$f":"VLOOKUP($E249,'[1]Organisation Categories'!$G$4:$O$831,5,0)","v":0},{"$f":"VLOOKUP($E249,'[1]Organisation Categories'!$G$4:$O$831,6,0)","v":0},{"$f":"VLOOKUP($E249,'[1]Organisation Categories'!$G$4:$O$831,7,0)","v":0},0,0,0,0,0,0,0,0,0]
["QOQ","RV9","HUMBER TEACHING NHS FOUNDATION TRUST","Community Healthcare Other","RV9Community Healthcare Other",14,1,0,"*","*","*","*","*","*",{"$f":"VLOOKUP($E250,'[1]Organisation Categories'!$G$4:$O$831,8,0)","v":14},1,0,{"$f":"VLOOKUP($E250,'[1]Organisation Categories'!$G$4:$O$831,2,0)","v":14},{"$f":"VLOOKUP($E250,'[1]Organisation Categories'!$G$4:$O$831,3,0)","v":0},{"$f":"VLOOKUP($E250,'[1]Organisation Categories'!$G$4:$O$831,4,0)","v":0},{"$f":"VLOOKUP($E250,'[1]Organisation Categories'!$G$4:$O$831,5,0)","v":0},{"$f":"VLOOKUP($E250,'[1]Organisation Categories'!$G$4:$O$831,6,0)","v":0},{"$f":"VLOOKUP($E250,'[1]Organisation Categories'!$G$4:$O$831,7,0)","v":0},0,0,0,0,0,0,0,0,0]
["QOQ","RV9","HUMBER TEACHING NHS FOUNDATION TRUST","Community Inpatient Services","RV9Community Inpatient Services",4,"*","*","*","*","*","*","*","*",{"$f":"VLOOKUP($E251,'[1]Organisation Categories'!$G$4:$O$831,8,0)","v":4},1,0,{"$f":"VLOOKUP($E251,'[1]Organisation Categories'!$G$4:$O$831,2,0)","v":4},{"$f":"VLOOKUP($E251,'[1]Organisation Categories'!$G$4:$O$831,3,0)","v":0},{"$f":"VLOOKUP($E251,'[1]Organisation Categories'!$G$4:$O$831,4,0)","v":0},{"$f":"VLOOKUP($E251,'[1]Organisation Categories'!$G$4:$O$831,5,0)","v":0},{"$f":"VLOOKUP($E251,'[1]Organisation Categories'!$G$4:$O$831,6,0)","v":0},{"$f":"VLOOKUP($E251,'[1]Organisation Categories'!$G$4:$O$831,7,0)","v":0},0,0,0,0,0,0,0,0,0]
["QOQ","RV9","HUMBER TEACHING NHS FOUNDATION TRUST","Community Nursing Services","RV9Community Nursing Services",30,0.8666666666666667,0.1,21,5,1,2,1,0,{"$f":"VLOOKUP($E252,'[1]Organisation Categories'!$G$4:$O$831,8,0)","v":30},0.8666666666666667,0.1,{"$f":"VLOOKUP($E252,'[1]Organisation Categories'!$G$4:$O$831,2,0)","v":21},{"$f":"VLOOKUP($E252,'[1]Organisation Categories'!$G$4:$O$831,3,0)","v":5},{"$f":"VLOOKUP($E252,'[1]Organisation Categories'!$G$4:$O$831,4,0)","v":1},{"$f":"VLOOKUP($E252,'[1]Organisation Categories'!$G$4:$O$831,5,0)","v":2},{"$f":"VLOOKUP($E252,'[1]Organisation Categories'!$G$4:$O$831,6,0)","v":1},{"$f":"VLOOKUP($E252,'[1]Organisation Categories'!$G$4:$O$831,7,0)","v":0},0,0,0,0,0,0,0,0,0]
["QOQ","RJL","NORTHERN LINCOLNSHIRE AND GOOLE NHS FOUNDATION TRUST","Children & Family Services","RJLChildren & Family Services",2,"*","*","*","*","*","*","*","*",{"$f":"VLOOKUP($E253,'[1]Organisation Categories'!$G$4:$O$831,8,0)","v":2},1,0,{"$f":"VLOOKUP($E253,'[1]Organisation Categories'!$G$4:$O$831,2,0)","v":2},{"$f":"VLOOKUP($E253,'[1]Organisation Categories'!$G$4:$O$831,3,0)","v":0},{"$f":"VLOOKUP($E253,'[1]Organisation Categories'!$G$4:$O$831,4,0)","v":0},{"$f":"VLOOKUP($E253,'[1]Organisation Categories'!$G$4:$O$831,5,0)","v":0},{"$f":"VLOOKUP($E253,'[1]Organisation Categories'!$G$4:$O$831,6,0)","v":0},{"$f":"VLOOKUP($E253,'[1]Organisation Categories'!$G$4:$O$831,7,0)","v":0},0,0,0,0,0,0,0,0,0]
["QOQ","RJL","NORTHERN LINCOLNSHIRE AND GOOLE NHS FOUNDATION TRUST","Community Healthcare Other","RJLCommunity Healthcare Other",84,0.98809523809523814,1.1904761904761904E-2,79,4,0,0,1,0,{"$f":"VLOOKUP($E254,'[1]Organisation Categories'!$G$4:$O$831,8,0)","v":84},0.98809523809523814,1.1904761904761904E-2,{"$f":"VLOOKUP($E254,'[1]Organisation Categories'!$G$4:$O$831,2,0)","v":79},{"$f":"VLOOKUP($E254,'[1]Organisation Categories'!$G$4:$O$831,3,0)","v":4},{"$f":"VLOOKUP($E254,'[1]Organisation Categories'!$G$4:$O$831,4,0)","v":0},{"$f":"VLOOKUP($E254,'[1]Organisation Categories'!$G$4:$O$831,5,0)","v":0},{"$f":"VLOOKUP($E254,'[1]Organisation Categories'!$G$4:$O$831,6,0)","v":1},{"$f":"VLOOKUP($E254,'[1]Organisation Categories'!$G$4:$O$831,7,0)","v":0},0,0,0,0,0,0,0,0,0]
["QOQ","RJL","NORTHERN LINCOLNSHIRE AND GOOLE NHS FOUNDATION TRUST","Community Nursing Services","RJLCommunity Nursing Services",89,0.9887640449438202,0,84,4,1,0,0,0,{"$f":"VLOOKUP($E255,'[1]Organisation Categories'!$G$4:$O$831,8,0)","v":89},0.9887640449438202,0,{"$f":"VLOOKUP($E255,'[1]Organisation Categories'!$G$4:$O$831,2,0)","v":84},{"$f":"VLOOKUP($E255,'[1]Organisation Categories'!$G$4:$O$831,3,0)","v":4},{"$f":"VLOOKUP($E255,'[1]Organisation Categories'!$G$4:$O$831,4,0)","v":1},{"$f":"VLOOKUP($E255,'[1]Organisation Categories'!$G$4:$O$831,5,0)","v":0},{"$f":"VLOOKUP($E255,'[1]Organisation Categories'!$G$4:$O$831,6,0)","v":0},{"$f":"VLOOKUP($E255,'[1]Organisation Categories'!$G$4:$O$831,7,0)","v":0},0,0,0,0,0,0,0,0,0]
["QOQ","RJL","NORTHERN LINCOLNSHIRE AND GOOLE NHS FOUNDATION TRUST","Rehabilitation & Therapy Services","RJLRehabilitation & Therapy Services",80,0.97499999999999998,2.5000000000000001E-2,"*","*","*","*","*","*",{"$f":"VLOOKUP($E256,'[1]Organisation Categories'!$G$4:$O$831,8,0)","v":80},0.97499999999999998,2.5000000000000001E-2,{"$f":"VLOOKUP($E256,'[1]Organisation Categories'!$G$4:$O$831,2,0)","v":78},{"$f":"VLOOKUP($E256,'[1]Organisation Categories'!$G$4:$O$831,3,0)","v":0},{"$f":"VLOOKUP($E256,'[1]Organisation Categories'!$G$4:$O$831,4,0)","v":0},{"$f":"VLOOKUP($E256,'[1]Organisation Categories'!$G$4:$O$831,5,0)","v":0},{"$f":"VLOOKUP($E256,'[1]Organisation Categories'!$G$4:$O$831,6,0)","v":2},{"$f":"VLOOKUP($E256,'[1]Organisation Categories'!$G$4:$O$831,7,0)","v":0},0,0,0,0,0,0,0,0,0]
["QPM","RP1","NORTHAMPTONSHIRE HEALTHCARE NHS FOUNDATION TRUST","Children & Family Services","RP1Children & Family Services",88,0.98863636363636365,0,79,8,0,0,0,1,{"$f":"VLOOKUP($E257,'[1]Organisation Categories'!$G$4:$O$831,8,0)","v":88},0.98863636363636365,0,{"$f":"VLOOKUP($E257,'[1]Organisation Categories'!$G$4:$O$831,2,0)","v":79},{"$f":"VLOOKUP($E257,'[1]Organisation Categories'!$G$4:$O$831,3,0)","v":8},{"$f":"VLOOKUP($E257,'[1]Organisation Categories'!$G$4:$O$831,4,0)","v":0},{"$f":"VLOOKUP($E257,'[1]Organisation Categories'!$G$4:$O$831,5,0)","v":0},{"$f":"VLOOKUP($E257,'[1]Organisation Categories'!$G$4:$O$831,6,0)","v":0},{"$f":"VLOOKUP($E257,'[1]Organisation Categories'!$G$4:$O$831,7,0)","v":1},0,0,0,0,0,0,0,0,0]
["QPM","RP1","NORTHAMPTONSHIRE HEALTHCARE NHS FOUNDATION TRUST","Community Healthcare Other","RP1Community Healthcare Other",6,1,0,6,0,0,0,0,0,{"$f":"VLOOKUP($E258,'[1]Organisation Categories'!$G$4:$O$831,8,0)","v":6},1,0,{"$f":"VLOOKUP($E258,'[1]Organisation Categories'!$G$4:$O$831,2,0)","v":6},{"$f":"VLOOKUP($E258,'[1]Organisation Categories'!$G$4:$O$831,3,0)","v":0},{"$f":"VLOOKUP($E258,'[1]Organisation Categories'!$G$4:$O$831,4,0)","v":0},{"$f":"VLOOKUP($E258,'[1]Organisation Categories'!$G$4:$O$831,5,0)","v":0},{"$f":"VLOOKUP($E258,'[1]Organisation Categories'!$G$4:$O$831,6,0)","v":0},{"$f":"VLOOKUP($E258,'[1]Organisation Categories'!$G$4:$O$831,7,0)","v":0},0,0,0,0,0,0,0,0,0]
["QPM","RP1","NORTHAMPTONSHIRE HEALTHCARE NHS FOUNDATION TRUST","Community Inpatient Services","RP1Community Inpatient Services",64,0.90625,0,48,10,2,0,0,4,{"$f":"VLOOKUP($E259,'[1]Organisation Categories'!$G$4:$O$831,8,0)","v":64},0.90625,0,{"$f":"VLOOKUP($E259,'[1]Organisation Categories'!$G$4:$O$831,2,0)","v":48},{"$f":"VLOOKUP($E259,'[1]Organisation Categories'!$G$4:$O$831,3,0)","v":10},{"$f":"VLOOKUP($E259,'[1]Organisation Categories'!$G$4:$O$831,4,0)","v":2},{"$f":"VLOOKUP($E259,'[1]Organisation Categories'!$G$4:$O$831,5,0)","v":0},{"$f":"VLOOKUP($E259,'[1]Organisation Categories'!$G$4:$O$831,6,0)","v":0},{"$f":"VLOOKUP($E259,'[1]Organisation Categories'!$G$4:$O$831,7,0)","v":4},0,0,0,0,0,0,0,0,0]
["QPM","RP1","NORTHAMPTONSHIRE HEALTHCARE NHS FOUNDATION TRUST","Community Nursing Services","RP1Community Nursing Services",19,1,0,18,1,0,0,0,0,{"$f":"VLOOKUP($E260,'[1]Organisation Categories'!$G$4:$O$831,8,0)","v":19},1,0,{"$f":"VLOOKUP($E260,'[1]Organisation Categories'!$G$4:$O$831,2,0)","v":18},{"$f":"VLOOKUP($E260,'[1]Organisation Categories'!$G$4:$O$831,3,0)","v":1},{"$f":"VLOOKUP($E260,'[1]Organisation Categories'!$G$4:$O$831,4,0)","v":0},{"$f":"VLOOKUP($E260,'[1]Organisation Categories'!$G$4:$O$831,5,0)","v":0},{"$f":"VLOOKUP($E260,'[1]Organisation Categories'!$G$4:$O$831,6,0)","v":0},{"$f":"VLOOKUP($E260,'[1]Organisation Categories'!$G$4:$O$831,7,0)","v":0},0,0,0,0,0,0,0,0,0]
["QPM","RP1","NORTHAMPTONSHIRE HEALTHCARE NHS FOUNDATION TRUST","Rehabilitation & Therapy Services","RP1Rehabilitation & Therapy Services",566,0.97349823321554774,8.8339222614840993E-3,499,52,8,3,2,2,{"$f":"VLOOKUP($E261,'[1]Organisation Categories'!$G$4:$O$831,8,0)","v":566},0.97349823321554774,8.8339222614840993E-3,{"$f":"VLOOKUP($E261,'[1]Organisation Categories'!$G$4:$O$831,2,0)","v":499},{"$f":"VLOOKUP($E261,'[1]Organisation Categories'!$G$4:$O$831,3,0)","v":52},{"$f":"VLOOKUP($E261,'[1]Organisation Categories'!$G$4:$O$831,4,0)","v":8},{"$f":"VLOOKUP($E261,'[1]Organisation Categories'!$G$4:$O$831,5,0)","v":3},{"$f":"VLOOKUP($E261,'[1]Organisation Categories'!$G$4:$O$831,6,0)","v":2},{"$f":"VLOOKUP($E261,'[1]Organisation Categories'!$G$4:$O$831,7,0)","v":2},0,0,0,0,0,0,0,0,0]
["QPM","RP1","NORTHAMPTONSHIRE HEALTHCARE NHS FOUNDATION TRUST","Specialist Services","RP1Specialist Services",29,0.96551724137931039,0,24,4,0,0,0,1,{"$f":"VLOOKUP($E262,'[1]Organisation Categories'!$G$4:$O$831,8,0)","v":29},0.96551724137931039,0,{"$f":"VLOOKUP($E262,'[1]Organisation Categories'!$G$4:$O$831,2,0)","v":24},{"$f":"VLOOKUP($E262,'[1]Organisation Categories'!$G$4:$O$831,3,0)","v":4},{"$f":"VLOOKUP($E262,'[1]Organisation Categories'!$G$4:$O$831,4,0)","v":0},{"$f":"VLOOKUP($E262,'[1]Organisation Categories'!$G$4:$O$831,5,0)","v":0},{"$f":"VLOOKUP($E262,'[1]Organisation Categories'!$G$4:$O$831,6,0)","v":0},{"$f":"VLOOKUP($E262,'[1]Organisation Categories'!$G$4:$O$831,7,0)","v":1},0,0,0,0,0,0,0,0,0]
["QR1","RTQ","GLOUCESTERSHIRE HEALTH AND CARE NHS FOUNDATION TRUST","Children & Family Services","RTQChildren & Family Services",685,0.91678832116788322,2.7737226277372264E-2,455,173,22,5,14,16,{"$f":"VLOOKUP($E263,'[1]Organisation Categories'!$G$4:$O$831,8,0)","v":685},0.91678832116788322,2.7737226277372264E-2,{"$f":"VLOOKUP($E263,'[1]Organisation Categories'!$G$4:$O$831,2,0)","v":455},{"$f":"VLOOKUP($E263,'[1]Organisation Categories'!$G$4:$O$831,3,0)","v":173},{"$f":"VLOOKUP($E263,'[1]Organisation Categories'!$G$4:$O$831,4,0)","v":22},{"$f":"VLOOKUP($E263,'[1]Organisation Categories'!$G$4:$O$831,5,0)","v":5},{"$f":"VLOOKUP($E263,'[1]Organisation Categories'!$G$4:$O$831,6,0)","v":14},{"$f":"VLOOKUP($E263,'[1]Organisation Categories'!$G$4:$O$831,7,0)","v":16},0,0,0,0,0,0,0,0,0]
["QR1","RTQ","GLOUCESTERSHIRE HEALTH AND CARE NHS FOUNDATION TRUST","Community Healthcare Other","RTQCommunity Healthcare Other",937,0.94557097118463185,3.7353255069370331E-2,769,117,13,18,17,3,{"$f":"VLOOKUP($E264,'[1]Organisation Categories'!$G$4:$O$831,8,0)","v":937},0.94557097118463185,3.7353255069370331E-2,{"$f":"VLOOKUP($E264,'[1]Organisation Categories'!$G$4:$O$831,2,0)","v":769},{"$f":"VLOOKUP($E264,'[1]Organisation Categories'!$G$4:$O$831,3,0)","v":117},{"$f":"VLOOKUP($E264,'[1]Organisation Categories'!$G$4:$O$831,4,0)","v":13},{"$f":"VLOOKUP($E264,'[1]Organisation Categories'!$G$4:$O$831,5,0)","v":18},{"$f":"VLOOKUP($E264,'[1]Organisation Categories'!$G$4:$O$831,6,0)","v":17},{"$f":"VLOOKUP($E264,'[1]Organisation Categories'!$G$4:$O$831,7,0)","v":3},0,0,0,0,0,0,0,0,0]
["QR1","RTQ","GLOUCESTERSHIRE HEALTH AND CARE NHS FOUNDATION TRUST","Community Inpatient Services",{"$f":"B265&D265","v":"RTQCommunity Inpatient Services"},155,0.94838709677419353,1.935483870967742E-2,123,24,4,2,1,1,{"$f":"VLOOKUP($E265,'[1]Organisation Categories'!$G$4:$O$831,8,0)","v":155},{"$f":"SUM(R265+S265)/SUM(R265:W265)","v":0.94838709677419353},{"$f":"SUM(U265+V265)/SUM(R265:W265)","v":1.935483870967742E-2},{"$f":"VLOOKUP($E265,'[1]Organisation Categories'!$G$4:$O$831,2,0)","v":123},{"$f":"VLOOKUP($E265,'[1]Organisation Categories'!$G$4:$O$831,3,0)","v":24},{"$f":"VLOOKUP($E265,'[1]Organisation Categories'!$G$4:$O$831,4,0)","v":4},{"$f":"VLOOKUP($E265,'[1]Organisation Categories'!$G$4:$O$831,5,0)","v":2},{"$f":"VLOOKUP($E265,'[1]Organisation Categories'!$G$4:$O$831,6,0)","v":1},{"$f":"VLOOKUP($E265,'[1]Organisation Categories'!$G$4:$O$831,7,0)","v":1},{"$f":"IFERROR(F265-O265,0)","v":0},{"$f":"IFERROR(G265-P265,0)","v":0},{"$f":"IFERROR(H265-Q265,0)","v":0},{"$f":"IFERROR(I265-R265,0)","v":0},{"$f":"IFERROR(J265-S265,0)","v":0},{"$f":"IFERROR(K265-T265,0)","v":0},{"$f":"IFERROR(L265-U265,0)","v":0},{"$f":"IFERROR(M265-V265,0)","v":0},{"$f":"IFERROR(N265-W265,0)","v":0}]
["QR1","RTQ","GLOUCESTERSHIRE HEALTH AND CARE NHS FOUNDATION TRUST","Community Nursing Services","RTQCommunity Nursing Services",87,0.94252873563218387,3.4482758620689655E-2,74,8,2,2,1,0,{"$f":"VLOOKUP($E266,'[1]Organisation Categories'!$G$4:$O$831,8,0)","v":87},0.94252873563218387,3.4482758620689655E-2,{"$f":"VLOOKUP($E266,'[1]Organisation Categories'!$G$4:$O$831,2,0)","v":74},{"$f":"VLOOKUP($E266,'[1]Organisation Categories'!$G$4:$O$831,3,0)","v":8},{"$f":"VLOOKUP($E266,'[1]Organisation Categories'!$G$4:$O$831,4,0)","v":2},{"$f":"VLOOKUP($E266,'[1]Organisation Categories'!$G$4:$O$831,5,0)","v":2},{"$f":"VLOOKUP($E266,'[1]Organisation Categories'!$G$4:$O$831,6,0)","v":1},{"$f":"VLOOKUP($E266,'[1]Organisation Categories'!$G$4:$O$831,7,0)","v":0},0,0,0,0,0,0,0,0,0]
["QR1","RTQ","GLOUCESTERSHIRE HEALTH AND CARE NHS FOUNDATION TRUST","Rehabilitation & Therapy Services","RTQRehabilitation & Therapy Services",211,0.92890995260663511,3.7914691943127965E-2,168,28,5,3,5,2,{"$f":"VLOOKUP($E267,'[1]Organisation Categories'!$G$4:$O$831,8,0)","v":211},0.92890995260663511,3.7914691943127965E-2,{"$f":"VLOOKUP($E267,'[1]Organisation Categories'!$G$4:$O$831,2,0)","v":168},{"$f":"VLOOKUP($E267,'[1]Organisation Categories'!$G$4:$O$831,3,0)","v":28},{"$f":"VLOOKUP($E267,'[1]Organisation Categories'!$G$4:$O$831,4,0)","v":5},{"$f":"VLOOKUP($E267,'[1]Organisation Categories'!$G$4:$O$831,5,0)","v":3},{"$f":"VLOOKUP($E267,'[1]Organisation Categories'!$G$4:$O$831,6,0)","v":5},{"$f":"VLOOKUP($E267,'[1]Organisation Categories'!$G$4:$O$831,7,0)","v":2},0,0,0,0,0,0,0,0,0]
["QR1","RTQ","GLOUCESTERSHIRE HEALTH AND CARE NHS FOUNDATION TRUST","Specialist Services","RTQSpecialist Services",251,0.98007968127490042,3.9840637450199202E-3,221,25,2,0,1,2,{"$f":"VLOOKUP($E268,'[1]Organisation Categories'!$G$4:$O$831,8,0)","v":251},0.98007968127490042,3.9840637450199202E-3,{"$f":"VLOOKUP($E268,'[1]Organisation Categories'!$G$4:$O$831,2,0)","v":221},{"$f":"VLOOKUP($E268,'[1]Organisation Categories'!$G$4:$O$831,3,0)","v":25},{"$f":"VLOOKUP($E268,'[1]Organisation Categories'!$G$4:$O$831,4,0)","v":2},{"$f":"VLOOKUP($E268,'[1]Organisation Categories'!$G$4:$O$831,5,0)","v":0},{"$f":"VLOOKUP($E268,'[1]Organisation Categories'!$G$4:$O$831,6,0)","v":1},{"$f":"VLOOKUP($E268,'[1]Organisation Categories'!$G$4:$O$831,7,0)","v":2},0,0,0,0,0,0,0,0,0]
["QRL","RW1","HAMPSHIRE AND ISLE OF WIGHT HEALTHCARE NHS FOUNDATION TRUST","Children & Family Services","RW1Children & Family Services",324,0.9135802469135802,3.0864197530864196E-3,152,144,20,1,0,7,{"$f":"VLOOKUP($E269,'[1]Organisation Categories'!$G$4:$O$831,8,0)","v":324},0.9135802469135802,3.0864197530864196E-3,{"$f":"VLOOKUP($E269,'[1]Organisation Categories'!$G$4:$O$831,2,0)","v":152},{"$f":"VLOOKUP($E269,'[1]Organisation Categories'!$G$4:$O$831,3,0)","v":144},{"$f":"VLOOKUP($E269,'[1]Organisation Categories'!$G$4:$O$831,4,0)","v":20},{"$f":"VLOOKUP($E269,'[1]Organisation Categories'!$G$4:$O$831,5,0)","v":1},{"$f":"VLOOKUP($E269,'[1]Organisation Categories'!$G$4:$O$831,6,0)","v":0},{"$f":"VLOOKUP($E269,'[1]Organisation Categories'!$G$4:$O$831,7,0)","v":7},0,0,0,0,0,0,0,0,0]
["QRL","RW1","HAMPSHIRE AND ISLE OF WIGHT HEALTHCARE NHS FOUNDATION TRUST","Community Healthcare Other","RW1Community Healthcare Other",172,0.97093023255813948,1.1627906976744186E-2,128,39,3,1,1,0,{"$f":"VLOOKUP($E270,'[1]Organisation Categories'!$G$4:$O$831,8,0)","v":172},0.97093023255813948,1.1627906976744186E-2,{"$f":"VLOOKUP($E270,'[1]Organisation Categories'!$G$4:$O$831,2,0)","v":128},{"$f":"VLOOKUP($E270,'[1]Organisation Categories'!$G$4:$O$831,3,0)","v":39},{"$f":"VLOOKUP($E270,'[1]Organisation Categories'!$G$4:$O$831,4,0)","v":3},{"$f":"VLOOKUP($E270,'[1]Organisation Categories'!$G$4:$O$831,5,0)","v":1},{"$f":"VLOOKUP($E270,'[1]Organisation Categories'!$G$4:$O$831,6,0)","v":1},{"$f":"VLOOKUP($E270,'[1]Organisation Categories'!$G$4:$O$831,7,0)","v":0},0,0,0,0,0,0,0,0,0]
["QRL","RW1","HAMPSHIRE AND ISLE OF WIGHT HEALTHCARE NHS FOUNDATION TRUST","Community Inpatient Services","RW1Community Inpatient Services",66,0.96969696969696972,0,57,7,1,0,0,1,{"$f":"VLOOKUP($E271,'[1]Organisation Categories'!$G$4:$O$831,8,0)","v":66},0.96969696969696972,0,{"$f":"VLOOKUP($E271,'[1]Organisation Categories'!$G$4:$O$831,2,0)","v":57},{"$f":"VLOOKUP($E271,'[1]Organisation Categories'!$G$4:$O$831,3,0)","v":7},{"$f":"VLOOKUP($E271,'[1]Organisation Categories'!$G$4:$O$831,4,0)","v":1},{"$f":"VLOOKUP($E271,'[1]Organisation Categories'!$G$4:$O$831,5,0)","v":0},{"$f":"VLOOKUP($E271,'[1]Organisation Categories'!$G$4:$O$831,6,0)","v":0},{"$f":"VLOOKUP($E271,'[1]Organisation Categories'!$G$4:$O$831,7,0)","v":1},0,0,0,0,0,0,0,0,0]
["QRL","RW1","HAMPSHIRE AND ISLE OF WIGHT HEALTHCARE NHS FOUNDATION TRUST","Community Nursing Services","RW1Community Nursing Services",241,0.96265560165975106,0,202,30,5,0,0,4,{"$f":"VLOOKUP($E272,'[1]Organisation Categories'!$G$4:$O$831,8,0)","v":241},0.96265560165975106,0,{"$f":"VLOOKUP($E272,'[1]Organisation Categories'!$G$4:$O$831,2,0)","v":202},{"$f":"VLOOKUP($E272,'[1]Organisation Categories'!$G$4:$O$831,3,0)","v":30},{"$f":"VLOOKUP($E272,'[1]Organisation Categories'!$G$4:$O$831,4,0)","v":5},{"$f":"VLOOKUP($E272,'[1]Organisation Categories'!$G$4:$O$831,5,0)","v":0},{"$f":"VLOOKUP($E272,'[1]Organisation Categories'!$G$4:$O$831,6,0)","v":0},{"$f":"VLOOKUP($E272,'[1]Organisation Categories'!$G$4:$O$831,7,0)","v":4},0,0,0,0,0,0,0,0,0]
["QRL","RW1","HAMPSHIRE AND ISLE OF WIGHT HEALTHCARE NHS FOUNDATION TRUST","Rehabilitation & Therapy Services","RW1Rehabilitation & Therapy Services",1432,0.98324022346368711,7.6815642458100556E-3,1318,90,13,0,11,0,{"$f":"VLOOKUP($E273,'[1]Organisation Categories'!$G$4:$O$831,8,0)","v":1432},0.98324022346368711,7.6815642458100556E-3,{"$f":"VLOOKUP($E273,'[1]Organisation Categories'!$G$4:$O$831,2,0)","v":1318},{"$f":"VLOOKUP($E273,'[1]Organisation Categories'!$G$4:$O$831,3,0)","v":90},{"$f":"VLOOKUP($E273,'[1]Organisation Categories'!$G$4:$O$831,4,0)","v":13},{"$f":"VLOOKUP($E273,'[1]Organisation Categories'!$G$4:$O$831,5,0)","v":0},{"$f":"VLOOKUP($E273,'[1]Organisation Categories'!$G$4:$O$831,6,0)","v":11},{"$f":"VLOOKUP($E273,'[1]Organisation Categories'!$G$4:$O$831,7,0)","v":0},0,0,0,0,0,0,0,0,0]
["QRL","RW1","HAMPSHIRE AND ISLE OF WIGHT HEALTHCARE NHS FOUNDATION TRUST","Specialist Services","RW1Specialist Services",286,0.97902097902097907,6.993006993006993E-3,250,30,2,1,1,2,{"$f":"VLOOKUP($E274,'[1]Organisation Categories'!$G$4:$O$831,8,0)","v":286},0.97902097902097907,6.993006993006993E-3,{"$f":"VLOOKUP($E274,'[1]Organisation Categories'!$G$4:$O$831,2,0)","v":250},{"$f":"VLOOKUP($E274,'[1]Organisation Categories'!$G$4:$O$831,3,0)","v":30},{"$f":"VLOOKUP($E274,'[1]Organisation Categories'!$G$4:$O$831,4,0)","v":2},{"$f":"VLOOKUP($E274,'[1]Organisation Categories'!$G$4:$O$831,5,0)","v":1},{"$f":"VLOOKUP($E274,'[1]Organisation Categories'!$G$4:$O$831,6,0)","v":1},{"$f":"VLOOKUP($E274,'[1]Organisation Categories'!$G$4:$O$831,7,0)","v":2},0,0,0,0,0,0,0,0,0]
["QRV","RYX","CENTRAL LONDON COMMUNITY HEALTHCARE NHS TRUST","Children & Family Services","RYXChildren & Family Services",149,0.90604026845637586,4.0268456375838924E-2,118,17,3,1,5,5,{"$f":"VLOOKUP($E275,'[1]Organisation Categories'!$G$4:$O$831,8,0)","v":149},0.90604026845637586,4.0268456375838924E-2,{"$f":"VLOOKUP($E275,'[1]Organisation Categories'!$G$4:$O$831,2,0)","v":118},{"$f":"VLOOKUP($E275,'[1]Organisation Categories'!$G$4:$O$831,3,0)","v":17},{"$f":"VLOOKUP($E275,'[1]Organisation Categories'!$G$4:$O$831,4,0)","v":3},{"$f":"VLOOKUP($E275,'[1]Organisation Categories'!$G$4:$O$831,5,0)","v":1},{"$f":"VLOOKUP($E275,'[1]Organisation Categories'!$G$4:$O$831,6,0)","v":5},{"$f":"VLOOKUP($E275,'[1]Organisation Categories'!$G$4:$O$831,7,0)","v":5},0,0,0,0,0,0,0,0,0]
["QRV","RYX","CENTRAL LONDON COMMUNITY HEALTHCARE NHS TRUST","Community Healthcare Other","RYXCommunity Healthcare Other",715,0.90209790209790208,6.433566433566433E-2,548,97,19,17,29,5,{"$f":"VLOOKUP($E276,'[1]Organisation Categories'!$G$4:$O$831,8,0)","v":715},0.90209790209790208,6.433566433566433E-2,{"$f":"VLOOKUP($E276,'[1]Organisation Categories'!$G$4:$O$831,2,0)","v":548},{"$f":"VLOOKUP($E276,'[1]Organisation Categories'!$G$4:$O$831,3,0)","v":97},{"$f":"VLOOKUP($E276,'[1]Organisation Categories'!$G$4:$O$831,4,0)","v":19},{"$f":"VLOOKUP($E276,'[1]Organisation Categories'!$G$4:$O$831,5,0)","v":17},{"$f":"VLOOKUP($E276,'[1]Organisation Categories'!$G$4:$O$831,6,0)","v":29},{"$f":"VLOOKUP($E276,'[1]Organisation Categories'!$G$4:$O$831,7,0)","v":5},0,0,0,0,0,0,0,0,0]
["QRV","RYX","CENTRAL LONDON COMMUNITY HEALTHCARE NHS TRUST","Community Inpatient Services","RYXCommunity Inpatient Services",113,0.94690265486725667,0,90,17,3,0,0,3,{"$f":"VLOOKUP($E277,'[1]Organisation Categories'!$G$4:$O$831,8,0)","v":113},0.94690265486725667,0,{"$f":"VLOOKUP($E277,'[1]Organisation Categories'!$G$4:$O$831,2,0)","v":90},{"$f":"VLOOKUP($E277,'[1]Organisation Categories'!$G$4:$O$831,3,0)","v":17},{"$f":"VLOOKUP($E277,'[1]Organisation Categories'!$G$4:$O$831,4,0)","v":3},{"$f":"VLOOKUP($E277,'[1]Organisation Categories'!$G$4:$O$831,5,0)","v":0},{"$f":"VLOOKUP($E277,'[1]Organisation Categories'!$G$4:$O$831,6,0)","v":0},{"$f":"VLOOKUP($E277,'[1]Organisation Categories'!$G$4:$O$831,7,0)","v":3},0,0,0,0,0,0,0,0,0]
["QRV","RYX","CENTRAL LONDON COMMUNITY HEALTHCARE NHS TRUST","Community Nursing Services","RYXCommunity Nursing Services",691,0.8929088277858177,5.2098408104196817E-2,528,89,20,16,20,18,{"$f":"VLOOKUP($E278,'[1]Organisation Categories'!$G$4:$O$831,8,0)","v":691},0.8929088277858177,5.2098408104196817E-2,{"$f":"VLOOKUP($E278,'[1]Organisation Categories'!$G$4:$O$831,2,0)","v":528},{"$f":"VLOOKUP($E278,'[1]Organisation Categories'!$G$4:$O$831,3,0)","v":89},{"$f":"VLOOKUP($E278,'[1]Organisation Categories'!$G$4:$O$831,4,0)","v":20},{"$f":"VLOOKUP($E278,'[1]Organisation Categories'!$G$4:$O$831,5,0)","v":16},{"$f":"VLOOKUP($E278,'[1]Organisation Categories'!$G$4:$O$831,6,0)","v":20},{"$f":"VLOOKUP($E278,'[1]Organisation Categories'!$G$4:$O$831,7,0)","v":18},0,0,0,0,0,0,0,0,0]
["QRV","RYX","CENTRAL LONDON COMMUNITY HEALTHCARE NHS TRUST","Rehabilitation & Therapy Services","RYXRehabilitation & Therapy Services",484,0.92355371900826444,3.3057851239669422E-2,379,68,8,6,10,13,{"$f":"VLOOKUP($E279,'[1]Organisation Categories'!$G$4:$O$831,8,0)","v":484},0.92355371900826444,3.3057851239669422E-2,{"$f":"VLOOKUP($E279,'[1]Organisation Categories'!$G$4:$O$831,2,0)","v":379},{"$f":"VLOOKUP($E279,'[1]Organisation Categories'!$G$4:$O$831,3,0)","v":68},{"$f":"VLOOKUP($E279,'[1]Organisation Categories'!$G$4:$O$831,4,0)","v":8},{"$f":"VLOOKUP($E279,'[1]Organisation Categories'!$G$4:$O$831,5,0)","v":6},{"$f":"VLOOKUP($E279,'[1]Organisation Categories'!$G$4:$O$831,6,0)","v":10},{"$f":"VLOOKUP($E279,'[1]Organisation Categories'!$G$4:$O$831,7,0)","v":13},0,0,0,0,0,0,0,0,0]
["QRV","RYX","CENTRAL LONDON COMMUNITY HEALTHCARE NHS TRUST","Specialist Services","RYXSpecialist Services",894,0.92393736017897088,3.2438478747203577E-2,719,107,19,13,16,20,{"$f":"VLOOKUP($E280,'[1]Organisation Categories'!$G$4:$O$831,8,0)","v":894},0.92393736017897088,3.2438478747203577E-2,{"$f":"VLOOKUP($E280,'[1]Organisation Categories'!$G$4:$O$831,2,0)","v":719},{"$f":"VLOOKUP($E280,'[1]Organisation Categories'!$G$4:$O$831,3,0)","v":107},{"$f":"VLOOKUP($E280,'[1]Organisation Categories'!$G$4:$O$831,4,0)","v":19},{"$f":"VLOOKUP($E280,'[1]Organisation Categories'!$G$4:$O$831,5,0)","v":13},{"$f":"VLOOKUP($E280,'[1]Organisation Categories'!$G$4:$O$831,6,0)","v":16},{"$f":"VLOOKUP($E280,'[1]Organisation Categories'!$G$4:$O$831,7,0)","v":20},0,0,0,0,0,0,0,0,0]
["QRV","RQM","CHELSEA AND WESTMINSTER HOSPITAL NHS FOUNDATION TRUST","Specialist Services","RQMSpecialist Services",163,0.94478527607361962,3.6809815950920248E-2,147,7,3,2,4,0,{"$f":"VLOOKUP($E281,'[1]Organisation Categories'!$G$4:$O$831,8,0)","v":163},0.94478527607361962,3.6809815950920248E-2,{"$f":"VLOOKUP($E281,'[1]Organisation Categories'!$G$4:$O$831,2,0)","v":147},{"$f":"VLOOKUP($E281,'[1]Organisation Categories'!$G$4:$O$831,3,0)","v":7},{"$f":"VLOOKUP($E281,'[1]Organisation Categories'!$G$4:$O$831,4,0)","v":3},{"$f":"VLOOKUP($E281,'[1]Organisation Categories'!$G$4:$O$831,5,0)","v":2},{"$f":"VLOOKUP($E281,'[1]Organisation Categories'!$G$4:$O$831,6,0)","v":4},{"$f":"VLOOKUP($E281,'[1]Organisation Categories'!$G$4:$O$831,7,0)","v":0},0,0,0,0,0,0,0,0,0]
["QRV","R1K","LONDON NORTH WEST UNIVERSITY HEALTHCARE NHS TRUST","Specialist Services","R1KSpecialist Services",547,0.96160877513711152,2.1937842778793418E-2,479,47,8,7,5,1,{"$f":"VLOOKUP($E282,'[1]Organisation Categories'!$G$4:$O$831,8,0)","v":547},0.96160877513711152,2.1937842778793418E-2,{"$f":"VLOOKUP($E282,'[1]Organisation Categories'!$G$4:$O$831,2,0)","v":479},{"$f":"VLOOKUP($E282,'[1]Organisation Categories'!$G$4:$O$831,3,0)","v":47},{"$f":"VLOOKUP($E282,'[1]Organisation Categories'!$G$4:$O$831,4,0)","v":8},{"$f":"VLOOKUP($E282,'[1]Organisation Categories'!$G$4:$O$831,5,0)","v":7},{"$f":"VLOOKUP($E282,'[1]Organisation Categories'!$G$4:$O$831,6,0)","v":5},{"$f":"VLOOKUP($E282,'[1]Organisation Categories'!$G$4:$O$831,7,0)","v":1},0,0,0,0,0,0,0,0,0]
["QRV","RKL","WEST LONDON NHS TRUST","Children & Family Services","RKLChildren & Family Services",87,1,0,84,3,0,0,0,0,{"$f":"VLOOKUP($E283,'[1]Organisation Categories'!$G$4:$O$831,8,0)","v":87},1,0,{"$f":"VLOOKUP($E283,'[1]Organisation Categories'!$G$4:$O$831,2,0)","v":84},{"$f":"VLOOKUP($E283,'[1]Organisation Categories'!$G$4:$O$831,3,0)","v":3},{"$f":"VLOOKUP($E283,'[1]Organisation Categories'!$G$4:$O$831,4,0)","v":0},{"$f":"VLOOKUP($E283,'[1]Organisation Categories'!$G$4:$O$831,5,0)","v":0},{"$f":"VLOOKUP($E283,'[1]Organisation Categories'!$G$4:$O$831,6,0)","v":0},{"$f":"VLOOKUP($E283,'[1]Organisation Categories'!$G$4:$O$831,7,0)","v":0},0,0,0,0,0,0,0,0,0]
["QRV","RKL","WEST LONDON NHS TRUST","Community Healthcare Other","RKLCommunity Healthcare Other",6,0.83333333333333337,0.16666666666666666,5,0,0,0,1,0,{"$f":"VLOOKUP($E284,'[1]Organisation Categories'!$G$4:$O$831,8,0)","v":6},0.83333333333333337,0.16666666666666666,{"$f":"VLOOKUP($E284,'[1]Organisation Categories'!$G$4:$O$831,2,0)","v":5},{"$f":"VLOOKUP($E284,'[1]Organisation Categories'!$G$4:$O$831,3,0)","v":0},{"$f":"VLOOKUP($E284,'[1]Organisation Categories'!$G$4:$O$831,4,0)","v":0},{"$f":"VLOOKUP($E284,'[1]Organisation Categories'!$G$4:$O$831,5,0)","v":0},{"$f":"VLOOKUP($E284,'[1]Organisation Categories'!$G$4:$O$831,6,0)","v":1},{"$f":"VLOOKUP($E284,'[1]Organisation Categories'!$G$4:$O$831,7,0)","v":0},0,0,0,0,0,0,0,0,0]
["QRV","RKL","WEST LONDON NHS TRUST","Community Inpatient Services","RKLCommunity Inpatient Services",43,0.95348837209302328,2.3255813953488372E-2,26,15,1,1,0,0,{"$f":"VLOOKUP($E285,'[1]Organisation Categories'!$G$4:$O$831,8,0)","v":43},0.95348837209302328,2.3255813953488372E-2,{"$f":"VLOOKUP($E285,'[1]Organisation Categories'!$G$4:$O$831,2,0)","v":26},{"$f":"VLOOKUP($E285,'[1]Organisation Categories'!$G$4:$O$831,3,0)","v":15},{"$f":"VLOOKUP($E285,'[1]Organisation Categories'!$G$4:$O$831,4,0)","v":1},{"$f":"VLOOKUP($E285,'[1]Organisation Categories'!$G$4:$O$831,5,0)","v":1},{"$f":"VLOOKUP($E285,'[1]Organisation Categories'!$G$4:$O$831,6,0)","v":0},{"$f":"VLOOKUP($E285,'[1]Organisation Categories'!$G$4:$O$831,7,0)","v":0},0,0,0,0,0,0,0,0,0]
["QRV","RKL","WEST LONDON NHS TRUST","Community Nursing Services","RKLCommunity Nursing Services",321,0.99688473520249221,0,307,13,0,0,0,1,{"$f":"VLOOKUP($E286,'[1]Organisation Categories'!$G$4:$O$831,8,0)","v":321},0.99688473520249221,0,{"$f":"VLOOKUP($E286,'[1]Organisation Categories'!$G$4:$O$831,2,0)","v":307},{"$f":"VLOOKUP($E286,'[1]Organisation Categories'!$G$4:$O$831,3,0)","v":13},{"$f":"VLOOKUP($E286,'[1]Organisation Categories'!$G$4:$O$831,4,0)","v":0},{"$f":"VLOOKUP($E286,'[1]Organisation Categories'!$G$4:$O$831,5,0)","v":0},{"$f":"VLOOKUP($E286,'[1]Organisation Categories'!$G$4:$O$831,6,0)","v":0},{"$f":"VLOOKUP($E286,'[1]Organisation Categories'!$G$4:$O$831,7,0)","v":1},0,0,0,0,0,0,0,0,0]
["QRV","RKL","WEST LONDON NHS TRUST","Rehabilitation & Therapy Services","RKLRehabilitation & Therapy Services",104,0.97115384615384615,0,91,10,1,0,0,2,{"$f":"VLOOKUP($E287,'[1]Organisation Categories'!$G$4:$O$831,8,0)","v":104},0.97115384615384615,0,{"$f":"VLOOKUP($E287,'[1]Organisation Categories'!$G$4:$O$831,2,0)","v":91},{"$f":"VLOOKUP($E287,'[1]Organisation Categories'!$G$4:$O$831,3,0)","v":10},{"$f":"VLOOKUP($E287,'[1]Organisation Categories'!$G$4:$O$831,4,0)","v":1},{"$f":"VLOOKUP($E287,'[1]Organisation Categories'!$G$4:$O$831,5,0)","v":0},{"$f":"VLOOKUP($E287,'[1]Organisation Categories'!$G$4:$O$831,6,0)","v":0},{"$f":"VLOOKUP($E287,'[1]Organisation Categories'!$G$4:$O$831,7,0)","v":2},0,0,0,0,0,0,0,0,0]
["QRV","RKL","WEST LONDON NHS TRUST","Specialist Services","RKLSpecialist Services",54,1,0,51,3,0,0,0,0,{"$f":"VLOOKUP($E288,'[1]Organisation Categories'!$G$4:$O$831,8,0)","v":54},1,0,{"$f":"VLOOKUP($E288,'[1]Organisation Categories'!$G$4:$O$831,2,0)","v":51},{"$f":"VLOOKUP($E288,'[1]Organisation Categories'!$G$4:$O$831,3,0)","v":3},{"$f":"VLOOKUP($E288,'[1]Organisation Categories'!$G$4:$O$831,4,0)","v":0},{"$f":"VLOOKUP($E288,'[1]Organisation Categories'!$G$4:$O$831,5,0)","v":0},{"$f":"VLOOKUP($E288,'[1]Organisation Categories'!$G$4:$O$831,6,0)","v":0},{"$f":"VLOOKUP($E288,'[1]Organisation Categories'!$G$4:$O$831,7,0)","v":0},0,0,0,0,0,0,0,0,0]
["QT1","RX1","NOTTINGHAM UNIVERSITY HOSPITALS NHS TRUST","Children & Family Services","RX1Children & Family Services",70,0.97142857142857142,1.4285714285714285E-2,53,15,0,1,0,1,{"$f":"VLOOKUP($E289,'[1]Organisation Categories'!$G$4:$O$831,8,0)","v":70},0.97142857142857142,1.4285714285714285E-2,{"$f":"VLOOKUP($E289,'[1]Organisation Categories'!$G$4:$O$831,2,0)","v":53},{"$f":"VLOOKUP($E289,'[1]Organisation Categories'!$G$4:$O$831,3,0)","v":15},{"$f":"VLOOKUP($E289,'[1]Organisation Categories'!$G$4:$O$831,4,0)","v":0},{"$f":"VLOOKUP($E289,'[1]Organisation Categories'!$G$4:$O$831,5,0)","v":1},{"$f":"VLOOKUP($E289,'[1]Organisation Categories'!$G$4:$O$831,6,0)","v":0},{"$f":"VLOOKUP($E289,'[1]Organisation Categories'!$G$4:$O$831,7,0)","v":1},0,0,0,0,0,0,0,0,0]
["QT1","RHA","NOTTINGHAMSHIRE HEALTHCARE NHS FOUNDATION TRUST","Children & Family Services","RHAChildren & Family Services",80,0.96250000000000002,1.2500000000000001E-2,69,8,2,0,1,0,{"$f":"VLOOKUP($E290,'[1]Organisation Categories'!$G$4:$O$831,8,0)","v":80},0.96250000000000002,1.2500000000000001E-2,{"$f":"VLOOKUP($E290,'[1]Organisation Categories'!$G$4:$O$831,2,0)","v":69},{"$f":"VLOOKUP($E290,'[1]Organisation Categories'!$G$4:$O$831,3,0)","v":8},{"$f":"VLOOKUP($E290,'[1]Organisation Categories'!$G$4:$O$831,4,0)","v":2},{"$f":"VLOOKUP($E290,'[1]Organisation Categories'!$G$4:$O$831,5,0)","v":0},{"$f":"VLOOKUP($E290,'[1]Organisation Categories'!$G$4:$O$831,6,0)","v":1},{"$f":"VLOOKUP($E290,'[1]Organisation Categories'!$G$4:$O$831,7,0)","v":0},0,0,0,0,0,0,0,0,0]
["QT1","RHA","NOTTINGHAMSHIRE HEALTHCARE NHS FOUNDATION TRUST","Community Healthcare Other","RHACommunity Healthcare Other",7,1,0,5,2,0,0,0,0,{"$f":"VLOOKUP($E291,'[1]Organisation Categories'!$G$4:$O$831,8,0)","v":7},1,0,{"$f":"VLOOKUP($E291,'[1]Organisation Categories'!$G$4:$O$831,2,0)","v":5},{"$f":"VLOOKUP($E291,'[1]Organisation Categories'!$G$4:$O$831,3,0)","v":2},{"$f":"VLOOKUP($E291,'[1]Organisation Categories'!$G$4:$O$831,4,0)","v":0},{"$f":"VLOOKUP($E291,'[1]Organisation Categories'!$G$4:$O$831,5,0)","v":0},{"$f":"VLOOKUP($E291,'[1]Organisation Categories'!$G$4:$O$831,6,0)","v":0},{"$f":"VLOOKUP($E291,'[1]Organisation Categories'!$G$4:$O$831,7,0)","v":0},0,0,0,0,0,0,0,0,0]
["QT1","RHA","NOTTINGHAMSHIRE HEALTHCARE NHS FOUNDATION TRUST","Community Nursing Services","RHACommunity Nursing Services",3,"*","*","*","*","*","*","*","*",{"$f":"VLOOKUP($E292,'[1]Organisation Categories'!$G$4:$O$831,8,0)","v":3},1,0,{"$f":"VLOOKUP($E292,'[1]Organisation Categories'!$G$4:$O$831,2,0)","v":2},{"$f":"VLOOKUP($E292,'[1]Organisation Categories'!$G$4:$O$831,3,0)","v":1},{"$f":"VLOOKUP($E292,'[1]Organisation Categories'!$G$4:$O$831,4,0)","v":0},{"$f":"VLOOKUP($E292,'[1]Organisation Categories'!$G$4:$O$831,5,0)","v":0},{"$f":"VLOOKUP($E292,'[1]Organisation Categories'!$G$4:$O$831,6,0)","v":0},{"$f":"VLOOKUP($E292,'[1]Organisation Categories'!$G$4:$O$831,7,0)","v":0},0,0,0,0,0,0,0,0,0]
["QT1","RHA","NOTTINGHAMSHIRE HEALTHCARE NHS FOUNDATION TRUST","Rehabilitation & Therapy Services","RHARehabilitation & Therapy Services",2,"*","*","*","*","*","*","*","*",{"$f":"VLOOKUP($E293,'[1]Organisation Categories'!$G$4:$O$831,8,0)","v":2},1,0,{"$f":"VLOOKUP($E293,'[1]Organisation Categories'!$G$4:$O$831,2,0)","v":2},{"$f":"VLOOKUP($E293,'[1]Organisation Categories'!$G$4:$O$831,3,0)","v":0},{"$f":"VLOOKUP($E293,'[1]Organisation Categories'!$G$4:$O$831,4,0)","v":0},{"$f":"VLOOKUP($E293,'[1]Organisation Categories'!$G$4:$O$831,5,0)","v":0},{"$f":"VLOOKUP($E293,'[1]Organisation Categories'!$G$4:$O$831,6,0)","v":0},{"$f":"VLOOKUP($E293,'[1]Organisation Categories'!$G$4:$O$831,7,0)","v":0},0,0,0,0,0,0,0,0,0]
["QT1","RHA","NOTTINGHAMSHIRE HEALTHCARE NHS FOUNDATION TRUST","Specialist Services","RHASpecialist Services",98,0.91836734693877553,5.1020408163265307E-2,79,11,3,2,3,0,{"$f":"VLOOKUP($E294,'[1]Organisation Categories'!$G$4:$O$831,8,0)","v":98},0.91836734693877553,5.1020408163265307E-2,{"$f":"VLOOKUP($E294,'[1]Organisation Categories'!$G$4:$O$831,2,0)","v":79},{"$f":"VLOOKUP($E294,'[1]Organisation Categories'!$G$4:$O$831,3,0)","v":11},{"$f":"VLOOKUP($E294,'[1]Organisation Categories'!$G$4:$O$831,4,0)","v":3},{"$f":"VLOOKUP($E294,'[1]Organisation Categories'!$G$4:$O$831,5,0)","v":2},{"$f":"VLOOKUP($E294,'[1]Organisation Categories'!$G$4:$O$831,6,0)","v":3},{"$f":"VLOOKUP($E294,'[1]Organisation Categories'!$G$4:$O$831,7,0)","v":0},0,0,0,0,0,0,0,0,0]
["QU9","RXQ","BUCKINGHAMSHIRE HEALTHCARE NHS TRUST","Children & Family Services","RXQChildren & Family Services",28,0.9642857142857143,3.5714285714285712E-2,25,2,0,0,1,0,{"$f":"VLOOKUP($E295,'[1]Organisation Categories'!$G$4:$O$831,8,0)","v":28},0.9642857142857143,3.5714285714285712E-2,{"$f":"VLOOKUP($E295,'[1]Organisation Categories'!$G$4:$O$831,2,0)","v":25},{"$f":"VLOOKUP($E295,'[1]Organisation Categories'!$G$4:$O$831,3,0)","v":2},{"$f":"VLOOKUP($E295,'[1]Organisation Categories'!$G$4:$O$831,4,0)","v":0},{"$f":"VLOOKUP($E295,'[1]Organisation Categories'!$G$4:$O$831,5,0)","v":0},{"$f":"VLOOKUP($E295,'[1]Organisation Categories'!$G$4:$O$831,6,0)","v":1},{"$f":"VLOOKUP($E295,'[1]Organisation Categories'!$G$4:$O$831,7,0)","v":0},0,0,0,0,0,0,0,0,0]
["QU9","RXQ","BUCKINGHAMSHIRE HEALTHCARE NHS TRUST","Community Healthcare Other","RXQCommunity Healthcare Other",6,0.83333333333333337,0.16666666666666666,4,1,0,0,1,0,{"$f":"VLOOKUP($E296,'[1]Organisation Categories'!$G$4:$O$831,8,0)","v":6},0.83333333333333337,0.16666666666666666,{"$f":"VLOOKUP($E296,'[1]Organisation Categories'!$G$4:$O$831,2,0)","v":4},{"$f":"VLOOKUP($E296,'[1]Organisation Categories'!$G$4:$O$831,3,0)","v":1},{"$f":"VLOOKUP($E296,'[1]Organisation Categories'!$G$4:$O$831,4,0)","v":0},{"$f":"VLOOKUP($E296,'[1]Organisation Categories'!$G$4:$O$831,5,0)","v":0},{"$f":"VLOOKUP($E296,'[1]Organisation Categories'!$G$4:$O$831,6,0)","v":1},{"$f":"VLOOKUP($E296,'[1]Organisation Categories'!$G$4:$O$831,7,0)","v":0},0,0,0,0,0,0,0,0,0]
["QU9","RXQ","BUCKINGHAMSHIRE HEALTHCARE NHS TRUST","Community Inpatient Services","RXQCommunity Inpatient Services",40,0.95,0.05,34,4,0,0,2,0,{"$f":"VLOOKUP($E297,'[1]Organisation Categories'!$G$4:$O$831,8,0)","v":40},0.95,0.05,{"$f":"VLOOKUP($E297,'[1]Organisation Categories'!$G$4:$O$831,2,0)","v":34},{"$f":"VLOOKUP($E297,'[1]Organisation Categories'!$G$4:$O$831,3,0)","v":4},{"$f":"VLOOKUP($E297,'[1]Organisation Categories'!$G$4:$O$831,4,0)","v":0},{"$f":"VLOOKUP($E297,'[1]Organisation Categories'!$G$4:$O$831,5,0)","v":0},{"$f":"VLOOKUP($E297,'[1]Organisation Categories'!$G$4:$O$831,6,0)","v":2},{"$f":"VLOOKUP($E297,'[1]Organisation Categories'!$G$4:$O$831,7,0)","v":0},0,0,0,0,0,0,0,0,0]
["QU9","RXQ","BUCKINGHAMSHIRE HEALTHCARE NHS TRUST","Community Nursing Services","RXQCommunity Nursing Services",232,0.93534482758620685,3.017241379310345E-2,172,45,7,2,5,1,{"$f":"VLOOKUP($E298,'[1]Organisation Categories'!$G$4:$O$831,8,0)","v":232},0.93534482758620685,3.017241379310345E-2,{"$f":"VLOOKUP($E298,'[1]Organisation Categories'!$G$4:$O$831,2,0)","v":172},{"$f":"VLOOKUP($E298,'[1]Organisation Categories'!$G$4:$O$831,3,0)","v":45},{"$f":"VLOOKUP($E298,'[1]Organisation Categories'!$G$4:$O$831,4,0)","v":7},{"$f":"VLOOKUP($E298,'[1]Organisation Categories'!$G$4:$O$831,5,0)","v":2},{"$f":"VLOOKUP($E298,'[1]Organisation Categories'!$G$4:$O$831,6,0)","v":5},{"$f":"VLOOKUP($E298,'[1]Organisation Categories'!$G$4:$O$831,7,0)","v":1},0,0,0,0,0,0,0,0,0]
["QU9","RXQ","BUCKINGHAMSHIRE HEALTHCARE NHS TRUST","Rehabilitation & Therapy Services","RXQRehabilitation & Therapy Services",70,0.94285714285714284,4.2857142857142858E-2,55,11,1,3,0,0,{"$f":"VLOOKUP($E299,'[1]Organisation Categories'!$G$4:$O$831,8,0)","v":70},0.94285714285714284,4.2857142857142858E-2,{"$f":"VLOOKUP($E299,'[1]Organisation Categories'!$G$4:$O$831,2,0)","v":55},{"$f":"VLOOKUP($E299,'[1]Organisation Categories'!$G$4:$O$831,3,0)","v":11},{"$f":"VLOOKUP($E299,'[1]Organisation Categories'!$G$4:$O$831,4,0)","v":1},{"$f":"VLOOKUP($E299,'[1]Organisation Categories'!$G$4:$O$831,5,0)","v":3},{"$f":"VLOOKUP($E299,'[1]Organisation Categories'!$G$4:$O$831,6,0)","v":0},{"$f":"VLOOKUP($E299,'[1]Organisation Categories'!$G$4:$O$831,7,0)","v":0},0,0,0,0,0,0,0,0,0]
["QU9","RXQ","BUCKINGHAMSHIRE HEALTHCARE NHS TRUST","Specialist Services","RXQSpecialist Services",40,1,0,36,4,0,0,0,0,{"$f":"VLOOKUP($E300,'[1]Organisation Categories'!$G$4:$O$831,8,0)","v":40},1,0,{"$f":"VLOOKUP($E300,'[1]Organisation Categories'!$G$4:$O$831,2,0)","v":36},{"$f":"VLOOKUP($E300,'[1]Organisation Categories'!$G$4:$O$831,3,0)","v":4},{"$f":"VLOOKUP($E300,'[1]Organisation Categories'!$G$4:$O$831,4,0)","v":0},{"$f":"VLOOKUP($E300,'[1]Organisation Categories'!$G$4:$O$831,5,0)","v":0},{"$f":"VLOOKUP($E300,'[1]Organisation Categories'!$G$4:$O$831,6,0)","v":0},{"$f":"VLOOKUP($E300,'[1]Organisation Categories'!$G$4:$O$831,7,0)","v":0},0,0,0,0,0,0,0,0,0]
["QU9","RNU","OXFORD HEALTH NHS FOUNDATION TRUST","Children & Family Services","RNUChildren & Family Services",154,0.93506493506493504,1.948051948051948E-2,129,15,4,0,3,3,{"$f":"VLOOKUP($E301,'[1]Organisation Categories'!$G$4:$O$831,8,0)","v":154},0.93506493506493504,1.948051948051948E-2,{"$f":"VLOOKUP($E301,'[1]Organisation Categories'!$G$4:$O$831,2,0)","v":129},{"$f":"VLOOKUP($E301,'[1]Organisation Categories'!$G$4:$O$831,3,0)","v":15},{"$f":"VLOOKUP($E301,'[1]Organisation Categories'!$G$4:$O$831,4,0)","v":4},{"$f":"VLOOKUP($E301,'[1]Organisation Categories'!$G$4:$O$831,5,0)","v":0},{"$f":"VLOOKUP($E301,'[1]Organisation Categories'!$G$4:$O$831,6,0)","v":3},{"$f":"VLOOKUP($E301,'[1]Organisation Categories'!$G$4:$O$831,7,0)","v":3},0,0,0,0,0,0,0,0,0]
["QU9","RNU","OXFORD HEALTH NHS FOUNDATION TRUST","Community Healthcare Other","RNUCommunity Healthcare Other",153,0.94117647058823528,1.9607843137254902E-2,129,15,2,1,2,4,{"$f":"VLOOKUP($E302,'[1]Organisation Categories'!$G$4:$O$831,8,0)","v":153},0.94117647058823528,1.9607843137254902E-2,{"$f":"VLOOKUP($E302,'[1]Organisation Categories'!$G$4:$O$831,2,0)","v":129},{"$f":"VLOOKUP($E302,'[1]Organisation Categories'!$G$4:$O$831,3,0)","v":15},{"$f":"VLOOKUP($E302,'[1]Organisation Categories'!$G$4:$O$831,4,0)","v":2},{"$f":"VLOOKUP($E302,'[1]Organisation Categories'!$G$4:$O$831,5,0)","v":1},{"$f":"VLOOKUP($E302,'[1]Organisation Categories'!$G$4:$O$831,6,0)","v":2},{"$f":"VLOOKUP($E302,'[1]Organisation Categories'!$G$4:$O$831,7,0)","v":4},0,0,0,0,0,0,0,0,0]
["QU9","RNU","OXFORD HEALTH NHS FOUNDATION TRUST","Community Inpatient Services","RNUCommunity Inpatient Services",80,0.96250000000000002,0,60,17,3,0,0,0,{"$f":"VLOOKUP($E303,'[1]Organisation Categories'!$G$4:$O$831,8,0)","v":80},0.96250000000000002,0,{"$f":"VLOOKUP($E303,'[1]Organisation Categories'!$G$4:$O$831,2,0)","v":60},{"$f":"VLOOKUP($E303,'[1]Organisation Categories'!$G$4:$O$831,3,0)","v":17},{"$f":"VLOOKUP($E303,'[1]Organisation Categories'!$G$4:$O$831,4,0)","v":3},{"$f":"VLOOKUP($E303,'[1]Organisation Categories'!$G$4:$O$831,5,0)","v":0},{"$f":"VLOOKUP($E303,'[1]Organisation Categories'!$G$4:$O$831,6,0)","v":0},{"$f":"VLOOKUP($E303,'[1]Organisation Categories'!$G$4:$O$831,7,0)","v":0},0,0,0,0,0,0,0,0,0]
["QU9","RNU","OXFORD HEALTH NHS FOUNDATION TRUST","Community Nursing Services","RNUCommunity Nursing Services",129,0.94573643410852715,2.3255813953488372E-2,115,7,1,0,3,3,{"$f":"VLOOKUP($E304,'[1]Organisation Categories'!$G$4:$O$831,8,0)","v":129},0.94573643410852715,2.3255813953488372E-2,{"$f":"VLOOKUP($E304,'[1]Organisation Categories'!$G$4:$O$831,2,0)","v":115},{"$f":"VLOOKUP($E304,'[1]Organisation Categories'!$G$4:$O$831,3,0)","v":7},{"$f":"VLOOKUP($E304,'[1]Organisation Categories'!$G$4:$O$831,4,0)","v":1},{"$f":"VLOOKUP($E304,'[1]Organisation Categories'!$G$4:$O$831,5,0)","v":0},{"$f":"VLOOKUP($E304,'[1]Organisation Categories'!$G$4:$O$831,6,0)","v":3},{"$f":"VLOOKUP($E304,'[1]Organisation Categories'!$G$4:$O$831,7,0)","v":3},0,0,0,0,0,0,0,0,0]
["QU9","RNU","OXFORD HEALTH NHS FOUNDATION TRUST","Rehabilitation & Therapy Services","RNURehabilitation & Therapy Services",87,0.95402298850574707,2.2988505747126436E-2,74,9,0,0,2,2,{"$f":"VLOOKUP($E305,'[1]Organisation Categories'!$G$4:$O$831,8,0)","v":87},0.95402298850574707,2.2988505747126436E-2,{"$f":"VLOOKUP($E305,'[1]Organisation Categories'!$G$4:$O$831,2,0)","v":74},{"$f":"VLOOKUP($E305,'[1]Organisation Categories'!$G$4:$O$831,3,0)","v":9},{"$f":"VLOOKUP($E305,'[1]Organisation Categories'!$G$4:$O$831,4,0)","v":0},{"$f":"VLOOKUP($E305,'[1]Organisation Categories'!$G$4:$O$831,5,0)","v":0},{"$f":"VLOOKUP($E305,'[1]Organisation Categories'!$G$4:$O$831,6,0)","v":2},{"$f":"VLOOKUP($E305,'[1]Organisation Categories'!$G$4:$O$831,7,0)","v":2},0,0,0,0,0,0,0,0,0]
["QU9","RNU","OXFORD HEALTH NHS FOUNDATION TRUST","Specialist Services","RNUSpecialist Services",257,0.98054474708171202,1.556420233463035E-2,230,22,1,1,3,0,{"$f":"VLOOKUP($E306,'[1]Organisation Categories'!$G$4:$O$831,8,0)","v":257},0.98054474708171202,1.556420233463035E-2,{"$f":"VLOOKUP($E306,'[1]Organisation Categories'!$G$4:$O$831,2,0)","v":230},{"$f":"VLOOKUP($E306,'[1]Organisation Categories'!$G$4:$O$831,3,0)","v":22},{"$f":"VLOOKUP($E306,'[1]Organisation Categories'!$G$4:$O$831,4,0)","v":1},{"$f":"VLOOKUP($E306,'[1]Organisation Categories'!$G$4:$O$831,5,0)","v":1},{"$f":"VLOOKUP($E306,'[1]Organisation Categories'!$G$4:$O$831,6,0)","v":3},{"$f":"VLOOKUP($E306,'[1]Organisation Categories'!$G$4:$O$831,7,0)","v":0},0,0,0,0,0,0,0,0,0]
["QUA","TAJ","BLACK COUNTRY HEALTHCARE NHS FOUNDATION TRUST","Community Healthcare Other","TAJCommunity Healthcare Other",42,0.95238095238095233,4.7619047619047616E-2,38,2,0,1,1,0,{"$f":"VLOOKUP($E307,'[1]Organisation Categories'!$G$4:$O$831,8,0)","v":42},0.95238095238095233,4.7619047619047616E-2,{"$f":"VLOOKUP($E307,'[1]Organisation Categories'!$G$4:$O$831,2,0)","v":38},{"$f":"VLOOKUP($E307,'[1]Organisation Categories'!$G$4:$O$831,3,0)","v":2},{"$f":"VLOOKUP($E307,'[1]Organisation Categories'!$G$4:$O$831,4,0)","v":0},{"$f":"VLOOKUP($E307,'[1]Organisation Categories'!$G$4:$O$831,5,0)","v":1},{"$f":"VLOOKUP($E307,'[1]Organisation Categories'!$G$4:$O$831,6,0)","v":1},{"$f":"VLOOKUP($E307,'[1]Organisation Categories'!$G$4:$O$831,7,0)","v":0},0,0,0,0,0,0,0,0,0]
["QUA","RNA","THE DUDLEY GROUP NHS FOUNDATION TRUST","Community Nursing Services","RNACommunity Nursing Services",179,0.86592178770949724,1.6759776536312849E-2,134,21,7,1,2,14,{"$f":"VLOOKUP($E308,'[1]Organisation Categories'!$G$4:$O$831,8,0)","v":179},0.86592178770949724,1.6759776536312849E-2,{"$f":"VLOOKUP($E308,'[1]Organisation Categories'!$G$4:$O$831,2,0)","v":134},{"$f":"VLOOKUP($E308,'[1]Organisation Categories'!$G$4:$O$831,3,0)","v":21},{"$f":"VLOOKUP($E308,'[1]Organisation Categories'!$G$4:$O$831,4,0)","v":7},{"$f":"VLOOKUP($E308,'[1]Organisation Categories'!$G$4:$O$831,5,0)","v":1},{"$f":"VLOOKUP($E308,'[1]Organisation Categories'!$G$4:$O$831,6,0)","v":2},{"$f":"VLOOKUP($E308,'[1]Organisation Categories'!$G$4:$O$831,7,0)","v":14},0,0,0,0,0,0,0,0,0]
["QUA","RNA","THE DUDLEY GROUP NHS FOUNDATION TRUST","Rehabilitation & Therapy Services","RNARehabilitation & Therapy Services",172,0.91860465116279066,1.7441860465116279E-2,148,10,5,1,2,6,{"$f":"VLOOKUP($E309,'[1]Organisation Categories'!$G$4:$O$831,8,0)","v":172},0.91860465116279066,1.7441860465116279E-2,{"$f":"VLOOKUP($E309,'[1]Organisation Categories'!$G$4:$O$831,2,0)","v":148},{"$f":"VLOOKUP($E309,'[1]Organisation Categories'!$G$4:$O$831,3,0)","v":10},{"$f":"VLOOKUP($E309,'[1]Organisation Categories'!$G$4:$O$831,4,0)","v":5},{"$f":"VLOOKUP($E309,'[1]Organisation Categories'!$G$4:$O$831,5,0)","v":1},{"$f":"VLOOKUP($E309,'[1]Organisation Categories'!$G$4:$O$831,6,0)","v":2},{"$f":"VLOOKUP($E309,'[1]Organisation Categories'!$G$4:$O$831,7,0)","v":6},0,0,0,0,0,0,0,0,0]
["QUA","RNA","THE DUDLEY GROUP NHS FOUNDATION TRUST","Specialist Services","RNASpecialist Services",18,0.77777777777777779,0,14,0,0,0,0,4,{"$f":"VLOOKUP($E310,'[1]Organisation Categories'!$G$4:$O$831,8,0)","v":18},0.77777777777777779,0,{"$f":"VLOOKUP($E310,'[1]Organisation Categories'!$G$4:$O$831,2,0)","v":14},{"$f":"VLOOKUP($E310,'[1]Organisation Categories'!$G$4:$O$831,3,0)","v":0},{"$f":"VLOOKUP($E310,'[1]Organisation Categories'!$G$4:$O$831,4,0)","v":0},{"$f":"VLOOKUP($E310,'[1]Organisation Categories'!$G$4:$O$831,5,0)","v":0},{"$f":"VLOOKUP($E310,'[1]Organisation Categories'!$G$4:$O$831,6,0)","v":0},{"$f":"VLOOKUP($E310,'[1]Organisation Categories'!$G$4:$O$831,7,0)","v":4},0,0,0,0,0,0,0,0,0]
["QUA","RL4","THE ROYAL WOLVERHAMPTON NHS TRUST","Community Healthcare Other","RL4Community Healthcare Other",288,0.91666666666666663,2.0833333333333332E-2,212,52,10,4,2,8,{"$f":"VLOOKUP($E311,'[1]Organisation Categories'!$G$4:$O$831,8,0)","v":288},0.91666666666666663,2.0833333333333332E-2,{"$f":"VLOOKUP($E311,'[1]Organisation Categories'!$G$4:$O$831,2,0)","v":212},{"$f":"VLOOKUP($E311,'[1]Organisation Categories'!$G$4:$O$831,3,0)","v":52},{"$f":"VLOOKUP($E311,'[1]Organisation Categories'!$G$4:$O$831,4,0)","v":10},{"$f":"VLOOKUP($E311,'[1]Organisation Categories'!$G$4:$O$831,5,0)","v":4},{"$f":"VLOOKUP($E311,'[1]Organisation Categories'!$G$4:$O$831,6,0)","v":2},{"$f":"VLOOKUP($E311,'[1]Organisation Categories'!$G$4:$O$831,7,0)","v":8},0,0,0,0,0,0,0,0,0]
["QUA","RBK","WALSALL HEALTHCARE NHS TRUST","Community Healthcare Other","RBKCommunity Healthcare Other",542,0.98708487084870844,0,478,57,7,0,0,0,{"$f":"VLOOKUP($E312,'[1]Organisation Categories'!$G$4:$O$831,8,0)","v":542},0.98708487084870844,0,{"$f":"VLOOKUP($E312,'[1]Organisation Categories'!$G$4:$O$831,2,0)","v":478},{"$f":"VLOOKUP($E312,'[1]Organisation Categories'!$G$4:$O$831,3,0)","v":57},{"$f":"VLOOKUP($E312,'[1]Organisation Categories'!$G$4:$O$831,4,0)","v":7},{"$f":"VLOOKUP($E312,'[1]Organisation Categories'!$G$4:$O$831,5,0)","v":0},{"$f":"VLOOKUP($E312,'[1]Organisation Categories'!$G$4:$O$831,6,0)","v":0},{"$f":"VLOOKUP($E312,'[1]Organisation Categories'!$G$4:$O$831,7,0)","v":0},0,0,0,0,0,0,0,0,0]
["QUE","RT1","CAMBRIDGESHIRE AND PETERBOROUGH NHS FOUNDATION TRUST","Children & Family Services","RT1Children & Family Services",21,0.95238095238095233,0,15,5,1,0,0,0,{"$f":"VLOOKUP($E313,'[1]Organisation Categories'!$G$4:$O$831,8,0)","v":21},0.95238095238095233,0,{"$f":"VLOOKUP($E313,'[1]Organisation Categories'!$G$4:$O$831,2,0)","v":15},{"$f":"VLOOKUP($E313,'[1]Organisation Categories'!$G$4:$O$831,3,0)","v":5},{"$f":"VLOOKUP($E313,'[1]Organisation Categories'!$G$4:$O$831,4,0)","v":1},{"$f":"VLOOKUP($E313,'[1]Organisation Categories'!$G$4:$O$831,5,0)","v":0},{"$f":"VLOOKUP($E313,'[1]Organisation Categories'!$G$4:$O$831,6,0)","v":0},{"$f":"VLOOKUP($E313,'[1]Organisation Categories'!$G$4:$O$831,7,0)","v":0},0,0,0,0,0,0,0,0,0]
["QUE","RT1","CAMBRIDGESHIRE AND PETERBOROUGH NHS FOUNDATION TRUST","Community Healthcare Other","RT1Community Healthcare Other",333,0.90390390390390385,6.006006006006006E-2,256,45,9,5,15,3,{"$f":"VLOOKUP($E314,'[1]Organisation Categories'!$G$4:$O$831,8,0)","v":333},0.90390390390390385,6.006006006006006E-2,{"$f":"VLOOKUP($E314,'[1]Organisation Categories'!$G$4:$O$831,2,0)","v":256},{"$f":"VLOOKUP($E314,'[1]Organisation Categories'!$G$4:$O$831,3,0)","v":45},{"$f":"VLOOKUP($E314,'[1]Organisation Categories'!$G$4:$O$831,4,0)","v":9},{"$f":"VLOOKUP($E314,'[1]Organisation Categories'!$G$4:$O$831,5,0)","v":5},{"$f":"VLOOKUP($E314,'[1]Organisation Categories'!$G$4:$O$831,6,0)","v":15},{"$f":"VLOOKUP($E314,'[1]Organisation Categories'!$G$4:$O$831,7,0)","v":3},0,0,0,0,0,0,0,0,0]
["QUE","RT1","CAMBRIDGESHIRE AND PETERBOROUGH NHS FOUNDATION TRUST","Community Inpatient Services","RT1Community Inpatient Services",16,0.9375,0,"*","*","*","*","*","*",{"$f":"VLOOKUP($E315,'[1]Organisation Categories'!$G$4:$O$831,8,0)","v":16},0.9375,0,{"$f":"VLOOKUP($E315,'[1]Organisation Categories'!$G$4:$O$831,2,0)","v":12},{"$f":"VLOOKUP($E315,'[1]Organisation Categories'!$G$4:$O$831,3,0)","v":3},{"$f":"VLOOKUP($E315,'[1]Organisation Categories'!$G$4:$O$831,4,0)","v":1},{"$f":"VLOOKUP($E315,'[1]Organisation Categories'!$G$4:$O$831,5,0)","v":0},{"$f":"VLOOKUP($E315,'[1]Organisation Categories'!$G$4:$O$831,6,0)","v":0},{"$f":"VLOOKUP($E315,'[1]Organisation Categories'!$G$4:$O$831,7,0)","v":0},0,0,0,0,0,0,0,0,0]
["QUE","RT1","CAMBRIDGESHIRE AND PETERBOROUGH NHS FOUNDATION TRUST","Community Nursing Services","RT1Community Nursing Services",218,0.9678899082568807,4.5871559633027525E-3,170,41,2,0,1,4,{"$f":"VLOOKUP($E316,'[1]Organisation Categories'!$G$4:$O$831,8,0)","v":218},0.9678899082568807,4.5871559633027525E-3,{"$f":"VLOOKUP($E316,'[1]Organisation Categories'!$G$4:$O$831,2,0)","v":170},{"$f":"VLOOKUP($E316,'[1]Organisation Categories'!$G$4:$O$831,3,0)","v":41},{"$f":"VLOOKUP($E316,'[1]Organisation Categories'!$G$4:$O$831,4,0)","v":2},{"$f":"VLOOKUP($E316,'[1]Organisation Categories'!$G$4:$O$831,5,0)","v":0},{"$f":"VLOOKUP($E316,'[1]Organisation Categories'!$G$4:$O$831,6,0)","v":1},{"$f":"VLOOKUP($E316,'[1]Organisation Categories'!$G$4:$O$831,7,0)","v":4},0,0,0,0,0,0,0,0,0]
["QUE","RT1","CAMBRIDGESHIRE AND PETERBOROUGH NHS FOUNDATION TRUST","Rehabilitation & Therapy Services","RT1Rehabilitation & Therapy Services",135,0.97777777777777775,0,98,34,1,0,0,2,{"$f":"VLOOKUP($E317,'[1]Organisation Categories'!$G$4:$O$831,8,0)","v":135},0.97777777777777775,0,{"$f":"VLOOKUP($E317,'[1]Organisation Categories'!$G$4:$O$831,2,0)","v":98},{"$f":"VLOOKUP($E317,'[1]Organisation Categories'!$G$4:$O$831,3,0)","v":34},{"$f":"VLOOKUP($E317,'[1]Organisation Categories'!$G$4:$O$831,4,0)","v":1},{"$f":"VLOOKUP($E317,'[1]Organisation Categories'!$G$4:$O$831,5,0)","v":0},{"$f":"VLOOKUP($E317,'[1]Organisation Categories'!$G$4:$O$831,6,0)","v":0},{"$f":"VLOOKUP($E317,'[1]Organisation Categories'!$G$4:$O$831,7,0)","v":2},0,0,0,0,0,0,0,0,0]
["QUE","RT1","CAMBRIDGESHIRE AND PETERBOROUGH NHS FOUNDATION TRUST","Specialist Services","RT1Specialist Services",2,"*","*","*","*","*","*","*","*",{"$f":"VLOOKUP($E318,'[1]Organisation Categories'!$G$4:$O$831,8,0)","v":2},1,0,{"$f":"VLOOKUP($E318,'[1]Organisation Categories'!$G$4:$O$831,2,0)","v":2},{"$f":"VLOOKUP($E318,'[1]Organisation Categories'!$G$4:$O$831,3,0)","v":0},{"$f":"VLOOKUP($E318,'[1]Organisation Categories'!$G$4:$O$831,4,0)","v":0},{"$f":"VLOOKUP($E318,'[1]Organisation Categories'!$G$4:$O$831,5,0)","v":0},{"$f":"VLOOKUP($E318,'[1]Organisation Categories'!$G$4:$O$831,6,0)","v":0},{"$f":"VLOOKUP($E318,'[1]Organisation Categories'!$G$4:$O$831,7,0)","v":0},0,0,0,0,0,0,0,0,0]
["QUE","RYV","CAMBRIDGESHIRE COMMUNITY SERVICES NHS TRUST","Children & Family Services","RYVChildren & Family Services",580,0.96551724137931039,1.896551724137931E-2,498,62,6,6,5,3,{"$f":"VLOOKUP($E319,'[1]Organisation Categories'!$G$4:$O$831,8,0)","v":580},0.96551724137931039,1.896551724137931E-2,{"$f":"VLOOKUP($E319,'[1]Organisation Categories'!$G$4:$O$831,2,0)","v":498},{"$f":"VLOOKUP($E319,'[1]Organisation Categories'!$G$4:$O$831,3,0)","v":62},{"$f":"VLOOKUP($E319,'[1]Organisation Categories'!$G$4:$O$831,4,0)","v":6},{"$f":"VLOOKUP($E319,'[1]Organisation Categories'!$G$4:$O$831,5,0)","v":6},{"$f":"VLOOKUP($E319,'[1]Organisation Categories'!$G$4:$O$831,6,0)","v":5},{"$f":"VLOOKUP($E319,'[1]Organisation Categories'!$G$4:$O$831,7,0)","v":3},0,0,0,0,0,0,0,0,0]
["QUE","RYV","CAMBRIDGESHIRE COMMUNITY SERVICES NHS TRUST","Community Nursing Services","RYVCommunity Nursing Services",119,0.95798319327731096,8.4033613445378148E-3,97,17,3,0,1,1,{"$f":"VLOOKUP($E320,'[1]Organisation Categories'!$G$4:$O$831,8,0)","v":119},0.95798319327731096,8.4033613445378148E-3,{"$f":"VLOOKUP($E320,'[1]Organisation Categories'!$G$4:$O$831,2,0)","v":97},{"$f":"VLOOKUP($E320,'[1]Organisation Categories'!$G$4:$O$831,3,0)","v":17},{"$f":"VLOOKUP($E320,'[1]Organisation Categories'!$G$4:$O$831,4,0)","v":3},{"$f":"VLOOKUP($E320,'[1]Organisation Categories'!$G$4:$O$831,5,0)","v":0},{"$f":"VLOOKUP($E320,'[1]Organisation Categories'!$G$4:$O$831,6,0)","v":1},{"$f":"VLOOKUP($E320,'[1]Organisation Categories'!$G$4:$O$831,7,0)","v":1},0,0,0,0,0,0,0,0,0]
["QUE","RYV","CAMBRIDGESHIRE COMMUNITY SERVICES NHS TRUST","Rehabilitation & Therapy Services","RYVRehabilitation & Therapy Services",474,0.97890295358649793,1.0548523206751054E-2,425,39,3,2,3,2,{"$f":"VLOOKUP($E321,'[1]Organisation Categories'!$G$4:$O$831,8,0)","v":474},0.97890295358649793,1.0548523206751054E-2,{"$f":"VLOOKUP($E321,'[1]Organisation Categories'!$G$4:$O$831,2,0)","v":425},{"$f":"VLOOKUP($E321,'[1]Organisation Categories'!$G$4:$O$831,3,0)","v":39},{"$f":"VLOOKUP($E321,'[1]Organisation Categories'!$G$4:$O$831,4,0)","v":3},{"$f":"VLOOKUP($E321,'[1]Organisation Categories'!$G$4:$O$831,5,0)","v":2},{"$f":"VLOOKUP($E321,'[1]Organisation Categories'!$G$4:$O$831,6,0)","v":3},{"$f":"VLOOKUP($E321,'[1]Organisation Categories'!$G$4:$O$831,7,0)","v":2},0,0,0,0,0,0,0,0,0]
["QUE","RYV","CAMBRIDGESHIRE COMMUNITY SERVICES NHS TRUST","Specialist Services","RYVSpecialist Services",1329,0.93002257336343119,1.8058690744920992E-2,1044,192,55,12,12,14,{"$f":"VLOOKUP($E322,'[1]Organisation Categories'!$G$4:$O$831,8,0)","v":1329},0.93002257336343119,1.8058690744920992E-2,{"$f":"VLOOKUP($E322,'[1]Organisation Categories'!$G$4:$O$831,2,0)","v":1044},{"$f":"VLOOKUP($E322,'[1]Organisation Categories'!$G$4:$O$831,3,0)","v":192},{"$f":"VLOOKUP($E322,'[1]Organisation Categories'!$G$4:$O$831,4,0)","v":55},{"$f":"VLOOKUP($E322,'[1]Organisation Categories'!$G$4:$O$831,5,0)","v":12},{"$f":"VLOOKUP($E322,'[1]Organisation Categories'!$G$4:$O$831,6,0)","v":12},{"$f":"VLOOKUP($E322,'[1]Organisation Categories'!$G$4:$O$831,7,0)","v":14},0,0,0,0,0,0,0,0,0]
["QVV","RDY","DORSET HEALTHCARE UNIVERSITY NHS FOUNDATION TRUST","Children & Family Services","RDYChildren & Family Services",56,1,0,44,12,0,0,0,0,{"$f":"VLOOKUP($E323,'[1]Organisation Categories'!$G$4:$O$831,8,0)","v":56},1,0,{"$f":"VLOOKUP($E323,'[1]Organisation Categories'!$G$4:$O$831,2,0)","v":44},{"$f":"VLOOKUP($E323,'[1]Organisation Categories'!$G$4:$O$831,3,0)","v":12},{"$f":"VLOOKUP($E323,'[1]Organisation Categories'!$G$4:$O$831,4,0)","v":0},{"$f":"VLOOKUP($E323,'[1]Organisation Categories'!$G$4:$O$831,5,0)","v":0},{"$f":"VLOOKUP($E323,'[1]Organisation Categories'!$G$4:$O$831,6,0)","v":0},{"$f":"VLOOKUP($E323,'[1]Organisation Categories'!$G$4:$O$831,7,0)","v":0},0,0,0,0,0,0,0,0,0]
["QVV","RDY","DORSET HEALTHCARE UNIVERSITY NHS FOUNDATION TRUST","Community Healthcare Other","RDYCommunity Healthcare Other",604,0.8112582781456954,0.12913907284768211,415,75,35,29,49,1,{"$f":"VLOOKUP($E324,'[1]Organisation Categories'!$G$4:$O$831,8,0)","v":604},0.8112582781456954,0.12913907284768211,{"$f":"VLOOKUP($E324,'[1]Organisation Categories'!$G$4:$O$831,2,0)","v":415},{"$f":"VLOOKUP($E324,'[1]Organisation Categories'!$G$4:$O$831,3,0)","v":75},{"$f":"VLOOKUP($E324,'[1]Organisation Categories'!$G$4:$O$831,4,0)","v":35},{"$f":"VLOOKUP($E324,'[1]Organisation Categories'!$G$4:$O$831,5,0)","v":29},{"$f":"VLOOKUP($E324,'[1]Organisation Categories'!$G$4:$O$831,6,0)","v":49},{"$f":"VLOOKUP($E324,'[1]Organisation Categories'!$G$4:$O$831,7,0)","v":1},0,0,0,0,0,0,0,0,0]
["QVV","RDY","DORSET HEALTHCARE UNIVERSITY NHS FOUNDATION TRUST","Community Inpatient Services","RDYCommunity Inpatient Services",172,0.90116279069767447,5.8139534883720929E-3,96,59,16,1,0,0,{"$f":"VLOOKUP($E325,'[1]Organisation Categories'!$G$4:$O$831,8,0)","v":172},0.90116279069767447,5.8139534883720929E-3,{"$f":"VLOOKUP($E325,'[1]Organisation Categories'!$G$4:$O$831,2,0)","v":96},{"$f":"VLOOKUP($E325,'[1]Organisation Categories'!$G$4:$O$831,3,0)","v":59},{"$f":"VLOOKUP($E325,'[1]Organisation Categories'!$G$4:$O$831,4,0)","v":16},{"$f":"VLOOKUP($E325,'[1]Organisation Categories'!$G$4:$O$831,5,0)","v":1},{"$f":"VLOOKUP($E325,'[1]Organisation Categories'!$G$4:$O$831,6,0)","v":0},{"$f":"VLOOKUP($E325,'[1]Organisation Categories'!$G$4:$O$831,7,0)","v":0},0,0,0,0,0,0,0,0,0]
["QVV","RDY","DORSET HEALTHCARE UNIVERSITY NHS FOUNDATION TRUST","Community Nursing Services","RDYCommunity Nursing Services",146,0.95890410958904104,6.8493150684931503E-3,130,10,5,0,1,0,{"$f":"VLOOKUP($E326,'[1]Organisation Categories'!$G$4:$O$831,8,0)","v":146},0.95890410958904104,6.8493150684931503E-3,{"$f":"VLOOKUP($E326,'[1]Organisation Categories'!$G$4:$O$831,2,0)","v":130},{"$f":"VLOOKUP($E326,'[1]Organisation Categories'!$G$4:$O$831,3,0)","v":10},{"$f":"VLOOKUP($E326,'[1]Organisation Categories'!$G$4:$O$831,4,0)","v":5},{"$f":"VLOOKUP($E326,'[1]Organisation Categories'!$G$4:$O$831,5,0)","v":0},{"$f":"VLOOKUP($E326,'[1]Organisation Categories'!$G$4:$O$831,6,0)","v":1},{"$f":"VLOOKUP($E326,'[1]Organisation Categories'!$G$4:$O$831,7,0)","v":0},0,0,0,0,0,0,0,0,0]
["QVV","RDY","DORSET HEALTHCARE UNIVERSITY NHS FOUNDATION TRUST","Rehabilitation & Therapy Services","RDYRehabilitation & Therapy Services",191,0.98952879581151831,0,173,16,1,0,0,1,{"$f":"VLOOKUP($E327,'[1]Organisation Categories'!$G$4:$O$831,8,0)","v":191},0.98952879581151831,0,{"$f":"VLOOKUP($E327,'[1]Organisation Categories'!$G$4:$O$831,2,0)","v":173},{"$f":"VLOOKUP($E327,'[1]Organisation Categories'!$G$4:$O$831,3,0)","v":16},{"$f":"VLOOKUP($E327,'[1]Organisation Categories'!$G$4:$O$831,4,0)","v":1},{"$f":"VLOOKUP($E327,'[1]Organisation Categories'!$G$4:$O$831,5,0)","v":0},{"$f":"VLOOKUP($E327,'[1]Organisation Categories'!$G$4:$O$831,6,0)","v":0},{"$f":"VLOOKUP($E327,'[1]Organisation Categories'!$G$4:$O$831,7,0)","v":1},0,0,0,0,0,0,0,0,0]
["QVV","RDY","DORSET HEALTHCARE UNIVERSITY NHS FOUNDATION TRUST","Specialist Services","RDYSpecialist Services",337,0.97329376854599403,8.9020771513353119E-3,286,42,4,3,0,2,{"$f":"VLOOKUP($E328,'[1]Organisation Categories'!$G$4:$O$831,8,0)","v":337},0.97329376854599403,8.9020771513353119E-3,{"$f":"VLOOKUP($E328,'[1]Organisation Categories'!$G$4:$O$831,2,0)","v":286},{"$f":"VLOOKUP($E328,'[1]Organisation Categories'!$G$4:$O$831,3,0)","v":42},{"$f":"VLOOKUP($E328,'[1]Organisation Categories'!$G$4:$O$831,4,0)","v":4},{"$f":"VLOOKUP($E328,'[1]Organisation Categories'!$G$4:$O$831,5,0)","v":3},{"$f":"VLOOKUP($E328,'[1]Organisation Categories'!$G$4:$O$831,6,0)","v":0},{"$f":"VLOOKUP($E328,'[1]Organisation Categories'!$G$4:$O$831,7,0)","v":2},0,0,0,0,0,0,0,0,0]
["QWE","RJ6","CROYDON HEALTH SERVICES NHS TRUST","Children & Family Services",{"$f":"B329&D329","v":"RJ6Children & Family Services"},16,1,0,14,2,0,0,0,0,{"$f":"VLOOKUP($E329,'[1]Organisation Categories'!$G$4:$O$831,8,0)","v":16},{"$f":"SUM(R329+S329)/SUM(R329:W329)","v":1},{"$f":"SUM(U329+V329)/SUM(R329:W329)","v":0},{"$f":"VLOOKUP($E329,'[1]Organisation Categories'!$G$4:$O$831,2,0)","v":14},{"$f":"VLOOKUP($E329,'[1]Organisation Categories'!$G$4:$O$831,3,0)","v":2},{"$f":"VLOOKUP($E329,'[1]Organisation Categories'!$G$4:$O$831,4,0)","v":0},{"$f":"VLOOKUP($E329,'[1]Organisation Categories'!$G$4:$O$831,5,0)","v":0},{"$f":"VLOOKUP($E329,'[1]Organisation Categories'!$G$4:$O$831,6,0)","v":0},{"$f":"VLOOKUP($E329,'[1]Organisation Categories'!$G$4:$O$831,7,0)","v":0},{"$f":"IFERROR(F329-O329,0)","v":0},{"$f":"IFERROR(G329-P329,0)","v":0},{"$f":"IFERROR(H329-Q329,0)","v":0},{"$f":"IFERROR(I329-R329,0)","v":0},{"$f":"IFERROR(J329-S329,0)","v":0},{"$f":"IFERROR(K329-T329,0)","v":0},{"$f":"IFERROR(L329-U329,0)","v":0},{"$f":"IFERROR(M329-V329,0)","v":0},{"$f":"IFERROR(N329-W329,0)","v":0}]
["QWE","RJ6","CROYDON HEALTH SERVICES NHS TRUST","Community Healthcare Other","RJ6Community Healthcare Other",31,1,0,30,1,0,0,0,0,{"$f":"VLOOKUP($E330,'[1]Organisation Categories'!$G$4:$O$831,8,0)","v":31},1,0,{"$f":"VLOOKUP($E330,'[1]Organisation Categories'!$G$4:$O$831,2,0)","v":30},{"$f":"VLOOKUP($E330,'[1]Organisation Categories'!$G$4:$O$831,3,0)","v":1},{"$f":"VLOOKUP($E330,'[1]Organisation Categories'!$G$4:$O$831,4,0)","v":0},{"$f":"VLOOKUP($E330,'[1]Organisation Categories'!$G$4:$O$831,5,0)","v":0},{"$f":"VLOOKUP($E330,'[1]Organisation Categories'!$G$4:$O$831,6,0)","v":0},{"$f":"VLOOKUP($E330,'[1]Organisation Categories'!$G$4:$O$831,7,0)","v":0},0,0,0,0,0,0,0,0,0]
["QWE","RJ6","CROYDON HEALTH SERVICES NHS TRUST","Community Inpatient Services","RJ6Community Inpatient Services",4,"*","*","*","*","*","*","*","*",{"$f":"VLOOKUP($E331,'[1]Organisation Categories'!$G$4:$O$831,8,0)","v":4},1,0,{"$f":"VLOOKUP($E331,'[1]Organisation Categories'!$G$4:$O$831,2,0)","v":4},{"$f":"VLOOKUP($E331,'[1]Organisation Categories'!$G$4:$O$831,3,0)","v":0},{"$f":"VLOOKUP($E331,'[1]Organisation Categories'!$G$4:$O$831,4,0)","v":0},{"$f":"VLOOKUP($E331,'[1]Organisation Categories'!$G$4:$O$831,5,0)","v":0},{"$f":"VLOOKUP($E331,'[1]Organisation Categories'!$G$4:$O$831,6,0)","v":0},{"$f":"VLOOKUP($E331,'[1]Organisation Categories'!$G$4:$O$831,7,0)","v":0},0,0,0,0,0,0,0,0,0]
["QWE","RJ6","CROYDON HEALTH SERVICES NHS TRUST","Community Nursing Services","RJ6Community Nursing Services",370,0.94594594594594594,8.1081081081081086E-3,188,162,13,2,1,4,{"$f":"VLOOKUP($E332,'[1]Organisation Categories'!$G$4:$O$831,8,0)","v":370},0.94594594594594594,8.1081081081081086E-3,{"$f":"VLOOKUP($E332,'[1]Organisation Categories'!$G$4:$O$831,2,0)","v":188},{"$f":"VLOOKUP($E332,'[1]Organisation Categories'!$G$4:$O$831,3,0)","v":162},{"$f":"VLOOKUP($E332,'[1]Organisation Categories'!$G$4:$O$831,4,0)","v":13},{"$f":"VLOOKUP($E332,'[1]Organisation Categories'!$G$4:$O$831,5,0)","v":2},{"$f":"VLOOKUP($E332,'[1]Organisation Categories'!$G$4:$O$831,6,0)","v":1},{"$f":"VLOOKUP($E332,'[1]Organisation Categories'!$G$4:$O$831,7,0)","v":4},0,0,0,0,0,0,0,0,0]
["QWE","RJ6","CROYDON HEALTH SERVICES NHS TRUST","Rehabilitation & Therapy Services","RJ6Rehabilitation & Therapy Services",201,0.92537313432835822,4.4776119402985072E-2,156,30,6,7,2,0,{"$f":"VLOOKUP($E333,'[1]Organisation Categories'!$G$4:$O$831,8,0)","v":201},0.92537313432835822,4.4776119402985072E-2,{"$f":"VLOOKUP($E333,'[1]Organisation Categories'!$G$4:$O$831,2,0)","v":156},{"$f":"VLOOKUP($E333,'[1]Organisation Categories'!$G$4:$O$831,3,0)","v":30},{"$f":"VLOOKUP($E333,'[1]Organisation Categories'!$G$4:$O$831,4,0)","v":6},{"$f":"VLOOKUP($E333,'[1]Organisation Categories'!$G$4:$O$831,5,0)","v":7},{"$f":"VLOOKUP($E333,'[1]Organisation Categories'!$G$4:$O$831,6,0)","v":2},{"$f":"VLOOKUP($E333,'[1]Organisation Categories'!$G$4:$O$831,7,0)","v":0},0,0,0,0,0,0,0,0,0]
["QWE","RJ6","CROYDON HEALTH SERVICES NHS TRUST","Specialist Services","RJ6Specialist Services",10,1,0,"*","*","*","*","*","*",{"$f":"VLOOKUP($E334,'[1]Organisation Categories'!$G$4:$O$831,8,0)","v":10},1,0,{"$f":"VLOOKUP($E334,'[1]Organisation Categories'!$G$4:$O$831,2,0)","v":10},{"$f":"VLOOKUP($E334,'[1]Organisation Categories'!$G$4:$O$831,3,0)","v":0},{"$f":"VLOOKUP($E334,'[1]Organisation Categories'!$G$4:$O$831,4,0)","v":0},{"$f":"VLOOKUP($E334,'[1]Organisation Categories'!$G$4:$O$831,5,0)","v":0},{"$f":"VLOOKUP($E334,'[1]Organisation Categories'!$G$4:$O$831,6,0)","v":0},{"$f":"VLOOKUP($E334,'[1]Organisation Categories'!$G$4:$O$831,7,0)","v":0},0,0,0,0,0,0,0,0,0]
["QWE","RVR","EPSOM AND ST HELIER UNIVERSITY HOSPITALS NHS TRUST","Children & Family Services","RVRChildren & Family Services",3,"*","*","*","*","*","*","*","*",{"$f":"VLOOKUP($E335,'[1]Organisation Categories'!$G$4:$O$831,8,0)","v":3},1,0,{"$f":"VLOOKUP($E335,'[1]Organisation Categories'!$G$4:$O$831,2,0)","v":3},{"$f":"VLOOKUP($E335,'[1]Organisation Categories'!$G$4:$O$831,3,0)","v":0},{"$f":"VLOOKUP($E335,'[1]Organisation Categories'!$G$4:$O$831,4,0)","v":0},{"$f":"VLOOKUP($E335,'[1]Organisation Categories'!$G$4:$O$831,5,0)","v":0},{"$f":"VLOOKUP($E335,'[1]Organisation Categories'!$G$4:$O$831,6,0)","v":0},{"$f":"VLOOKUP($E335,'[1]Organisation Categories'!$G$4:$O$831,7,0)","v":0},0,0,0,0,0,0,0,0,0]
["QWE","RVR","EPSOM AND ST HELIER UNIVERSITY HOSPITALS NHS TRUST","Community Inpatient Services","RVRCommunity Inpatient Services",48,0.97916666666666663,2.0833333333333332E-2,"*","*","*","*","*","*",{"$f":"VLOOKUP($E336,'[1]Organisation Categories'!$G$4:$O$831,8,0)","v":48},0.97916666666666663,2.0833333333333332E-2,{"$f":"VLOOKUP($E336,'[1]Organisation Categories'!$G$4:$O$831,2,0)","v":41},{"$f":"VLOOKUP($E336,'[1]Organisation Categories'!$G$4:$O$831,3,0)","v":6},{"$f":"VLOOKUP($E336,'[1]Organisation Categories'!$G$4:$O$831,4,0)","v":0},{"$f":"VLOOKUP($E336,'[1]Organisation Categories'!$G$4:$O$831,5,0)","v":0},{"$f":"VLOOKUP($E336,'[1]Organisation Categories'!$G$4:$O$831,6,0)","v":1},{"$f":"VLOOKUP($E336,'[1]Organisation Categories'!$G$4:$O$831,7,0)","v":0},0,0,0,0,0,0,0,0,0]
["QWE","RVR","EPSOM AND ST HELIER UNIVERSITY HOSPITALS NHS TRUST","Community Nursing Services","RVRCommunity Nursing Services",187,0.99465240641711228,0,171,15,1,0,0,0,{"$f":"VLOOKUP($E337,'[1]Organisation Categories'!$G$4:$O$831,8,0)","v":187},0.99465240641711228,0,{"$f":"VLOOKUP($E337,'[1]Organisation Categories'!$G$4:$O$831,2,0)","v":171},{"$f":"VLOOKUP($E337,'[1]Organisation Categories'!$G$4:$O$831,3,0)","v":15},{"$f":"VLOOKUP($E337,'[1]Organisation Categories'!$G$4:$O$831,4,0)","v":1},{"$f":"VLOOKUP($E337,'[1]Organisation Categories'!$G$4:$O$831,5,0)","v":0},{"$f":"VLOOKUP($E337,'[1]Organisation Categories'!$G$4:$O$831,6,0)","v":0},{"$f":"VLOOKUP($E337,'[1]Organisation Categories'!$G$4:$O$831,7,0)","v":0},0,0,0,0,0,0,0,0,0]
["QWE","RVR","EPSOM AND ST HELIER UNIVERSITY HOSPITALS NHS TRUST","Rehabilitation & Therapy Services","RVRRehabilitation & Therapy Services",560,0.9642857142857143,8.9285714285714281E-3,481,59,13,2,3,2,{"$f":"VLOOKUP($E338,'[1]Organisation Categories'!$G$4:$O$831,8,0)","v":560},0.9642857142857143,8.9285714285714281E-3,{"$f":"VLOOKUP($E338,'[1]Organisation Categories'!$G$4:$O$831,2,0)","v":481},{"$f":"VLOOKUP($E338,'[1]Organisation Categories'!$G$4:$O$831,3,0)","v":59},{"$f":"VLOOKUP($E338,'[1]Organisation Categories'!$G$4:$O$831,4,0)","v":13},{"$f":"VLOOKUP($E338,'[1]Organisation Categories'!$G$4:$O$831,5,0)","v":2},{"$f":"VLOOKUP($E338,'[1]Organisation Categories'!$G$4:$O$831,6,0)","v":3},{"$f":"VLOOKUP($E338,'[1]Organisation Categories'!$G$4:$O$831,7,0)","v":2},0,0,0,0,0,0,0,0,0]
["QWE","RVR","EPSOM AND ST HELIER UNIVERSITY HOSPITALS NHS TRUST","Specialist Services","RVRSpecialist Services",108,0.89814814814814814,4.6296296296296294E-2,86,11,5,2,3,1,{"$f":"VLOOKUP($E339,'[1]Organisation Categories'!$G$4:$O$831,8,0)","v":108},0.89814814814814814,4.6296296296296294E-2,{"$f":"VLOOKUP($E339,'[1]Organisation Categories'!$G$4:$O$831,2,0)","v":86},{"$f":"VLOOKUP($E339,'[1]Organisation Categories'!$G$4:$O$831,3,0)","v":11},{"$f":"VLOOKUP($E339,'[1]Organisation Categories'!$G$4:$O$831,4,0)","v":5},{"$f":"VLOOKUP($E339,'[1]Organisation Categories'!$G$4:$O$831,5,0)","v":2},{"$f":"VLOOKUP($E339,'[1]Organisation Categories'!$G$4:$O$831,6,0)","v":3},{"$f":"VLOOKUP($E339,'[1]Organisation Categories'!$G$4:$O$831,7,0)","v":1},0,0,0,0,0,0,0,0,0]
["QWE","RAX","KINGSTON AND RICHMOND NHS FOUNDATION TRUST","Children & Family Services","RAXChildren & Family Services",257,0.96108949416342415,1.9455252918287938E-2,202,45,4,3,2,1,{"$f":"VLOOKUP($E340,'[1]Organisation Categories'!$G$4:$O$831,8,0)","v":257},0.96108949416342415,1.9455252918287938E-2,{"$f":"VLOOKUP($E340,'[1]Organisation Categories'!$G$4:$O$831,2,0)","v":202},{"$f":"VLOOKUP($E340,'[1]Organisation Categories'!$G$4:$O$831,3,0)","v":45},{"$f":"VLOOKUP($E340,'[1]Organisation Categories'!$G$4:$O$831,4,0)","v":4},{"$f":"VLOOKUP($E340,'[1]Organisation Categories'!$G$4:$O$831,5,0)","v":3},{"$f":"VLOOKUP($E340,'[1]Organisation Categories'!$G$4:$O$831,6,0)","v":2},{"$f":"VLOOKUP($E340,'[1]Organisation Categories'!$G$4:$O$831,7,0)","v":1},0,0,0,0,0,0,0,0,0]
["QWE","RAX","KINGSTON AND RICHMOND NHS FOUNDATION TRUST","Community Healthcare Other","RAXCommunity Healthcare Other",648,0.90432098765432101,5.4012345679012343E-2,490,96,24,24,11,3,{"$f":"VLOOKUP($E341,'[1]Organisation Categories'!$G$4:$O$831,8,0)","v":648},0.90432098765432101,5.4012345679012343E-2,{"$f":"VLOOKUP($E341,'[1]Organisation Categories'!$G$4:$O$831,2,0)","v":490},{"$f":"VLOOKUP($E341,'[1]Organisation Categories'!$G$4:$O$831,3,0)","v":96},{"$f":"VLOOKUP($E341,'[1]Organisation Categories'!$G$4:$O$831,4,0)","v":24},{"$f":"VLOOKUP($E341,'[1]Organisation Categories'!$G$4:$O$831,5,0)","v":24},{"$f":"VLOOKUP($E341,'[1]Organisation Categories'!$G$4:$O$831,6,0)","v":11},{"$f":"VLOOKUP($E341,'[1]Organisation Categories'!$G$4:$O$831,7,0)","v":3},0,0,0,0,0,0,0,0,0]
["QWE","RAX","KINGSTON AND RICHMOND NHS FOUNDATION TRUST","Community Inpatient Services","RAXCommunity Inpatient Services",21,1,0,5,16,0,0,0,0,{"$f":"VLOOKUP($E342,'[1]Organisation Categories'!$G$4:$O$831,8,0)","v":21},1,0,{"$f":"VLOOKUP($E342,'[1]Organisation Categories'!$G$4:$O$831,2,0)","v":5},{"$f":"VLOOKUP($E342,'[1]Organisation Categories'!$G$4:$O$831,3,0)","v":16},{"$f":"VLOOKUP($E342,'[1]Organisation Categories'!$G$4:$O$831,4,0)","v":0},{"$f":"VLOOKUP($E342,'[1]Organisation Categories'!$G$4:$O$831,5,0)","v":0},{"$f":"VLOOKUP($E342,'[1]Organisation Categories'!$G$4:$O$831,6,0)","v":0},{"$f":"VLOOKUP($E342,'[1]Organisation Categories'!$G$4:$O$831,7,0)","v":0},0,0,0,0,0,0,0,0,0]
["QWE","RAX","KINGSTON AND RICHMOND NHS FOUNDATION TRUST","Community Nursing Services","RAXCommunity Nursing Services",347,0.98270893371757928,5.763688760806916E-3,324,17,1,2,0,3,{"$f":"VLOOKUP($E343,'[1]Organisation Categories'!$G$4:$O$831,8,0)","v":347},0.98270893371757928,5.763688760806916E-3,{"$f":"VLOOKUP($E343,'[1]Organisation Categories'!$G$4:$O$831,2,0)","v":324},{"$f":"VLOOKUP($E343,'[1]Organisation Categories'!$G$4:$O$831,3,0)","v":17},{"$f":"VLOOKUP($E343,'[1]Organisation Categories'!$G$4:$O$831,4,0)","v":1},{"$f":"VLOOKUP($E343,'[1]Organisation Categories'!$G$4:$O$831,5,0)","v":2},{"$f":"VLOOKUP($E343,'[1]Organisation Categories'!$G$4:$O$831,6,0)","v":0},{"$f":"VLOOKUP($E343,'[1]Organisation Categories'!$G$4:$O$831,7,0)","v":3},0,0,0,0,0,0,0,0,0]
["QWE","RAX","KINGSTON AND RICHMOND NHS FOUNDATION TRUST","Rehabilitation & Therapy Services","RAXRehabilitation & Therapy Services",288,0.95486111111111116,3.4722222222222224E-2,230,45,3,6,4,0,{"$f":"VLOOKUP($E344,'[1]Organisation Categories'!$G$4:$O$831,8,0)","v":288},0.95486111111111116,3.4722222222222224E-2,{"$f":"VLOOKUP($E344,'[1]Organisation Categories'!$G$4:$O$831,2,0)","v":230},{"$f":"VLOOKUP($E344,'[1]Organisation Categories'!$G$4:$O$831,3,0)","v":45},{"$f":"VLOOKUP($E344,'[1]Organisation Categories'!$G$4:$O$831,4,0)","v":3},{"$f":"VLOOKUP($E344,'[1]Organisation Categories'!$G$4:$O$831,5,0)","v":6},{"$f":"VLOOKUP($E344,'[1]Organisation Categories'!$G$4:$O$831,6,0)","v":4},{"$f":"VLOOKUP($E344,'[1]Organisation Categories'!$G$4:$O$831,7,0)","v":0},0,0,0,0,0,0,0,0,0]
["QWE","RAX","KINGSTON AND RICHMOND NHS FOUNDATION TRUST","Specialist Services","RAXSpecialist Services",63,0.90476190476190477,3.1746031746031744E-2,51,6,1,1,1,3,{"$f":"VLOOKUP($E345,'[1]Organisation Categories'!$G$4:$O$831,8,0)","v":63},0.90476190476190477,3.1746031746031744E-2,{"$f":"VLOOKUP($E345,'[1]Organisation Categories'!$G$4:$O$831,2,0)","v":51},{"$f":"VLOOKUP($E345,'[1]Organisation Categories'!$G$4:$O$831,3,0)","v":6},{"$f":"VLOOKUP($E345,'[1]Organisation Categories'!$G$4:$O$831,4,0)","v":1},{"$f":"VLOOKUP($E345,'[1]Organisation Categories'!$G$4:$O$831,5,0)","v":1},{"$f":"VLOOKUP($E345,'[1]Organisation Categories'!$G$4:$O$831,6,0)","v":1},{"$f":"VLOOKUP($E345,'[1]Organisation Categories'!$G$4:$O$831,7,0)","v":3},0,0,0,0,0,0,0,0,0]
["QWE","RJ7","ST GEORGE'S UNIVERSITY HOSPITALS NHS FOUNDATION TRUST","Rehabilitation & Therapy Services","RJ7Rehabilitation & Therapy Services",6,1,0,4,2,0,0,0,0,{"$f":"VLOOKUP($E346,'[1]Organisation Categories'!$G$4:$O$831,8,0)","v":6},1,0,{"$f":"VLOOKUP($E346,'[1]Organisation Categories'!$G$4:$O$831,2,0)","v":4},{"$f":"VLOOKUP($E346,'[1]Organisation Categories'!$G$4:$O$831,3,0)","v":2},{"$f":"VLOOKUP($E346,'[1]Organisation Categories'!$G$4:$O$831,4,0)","v":0},{"$f":"VLOOKUP($E346,'[1]Organisation Categories'!$G$4:$O$831,5,0)","v":0},{"$f":"VLOOKUP($E346,'[1]Organisation Categories'!$G$4:$O$831,6,0)","v":0},{"$f":"VLOOKUP($E346,'[1]Organisation Categories'!$G$4:$O$831,7,0)","v":0},0,0,0,0,0,0,0,0,0]
["QWO","RCF","AIREDALE NHS FOUNDATION TRUST","Community Healthcare Other","RCFCommunity Healthcare Other",159,0.89937106918238996,5.0314465408805034E-2,121,22,7,1,7,1,{"$f":"VLOOKUP($E347,'[1]Organisation Categories'!$G$4:$O$831,8,0)","v":159},0.89937106918238996,5.0314465408805034E-2,{"$f":"VLOOKUP($E347,'[1]Organisation Categories'!$G$4:$O$831,2,0)","v":121},{"$f":"VLOOKUP($E347,'[1]Organisation Categories'!$G$4:$O$831,3,0)","v":22},{"$f":"VLOOKUP($E347,'[1]Organisation Categories'!$G$4:$O$831,4,0)","v":7},{"$f":"VLOOKUP($E347,'[1]Organisation Categories'!$G$4:$O$831,5,0)","v":1},{"$f":"VLOOKUP($E347,'[1]Organisation Categories'!$G$4:$O$831,6,0)","v":7},{"$f":"VLOOKUP($E347,'[1]Organisation Categories'!$G$4:$O$831,7,0)","v":1},0,0,0,0,0,0,0,0,0]
["QWO","TAD","BRADFORD DISTRICT CARE NHS FOUNDATION TRUST","Children & Family Services","TADChildren & Family Services",146,0.97945205479452058,1.3698630136986301E-2,129,14,0,1,1,1,{"$f":"VLOOKUP($E348,'[1]Organisation Categories'!$G$4:$O$831,8,0)","v":146},0.97945205479452058,1.3698630136986301E-2,{"$f":"VLOOKUP($E348,'[1]Organisation Categories'!$G$4:$O$831,2,0)","v":129},{"$f":"VLOOKUP($E348,'[1]Organisation Categories'!$G$4:$O$831,3,0)","v":14},{"$f":"VLOOKUP($E348,'[1]Organisation Categories'!$G$4:$O$831,4,0)","v":0},{"$f":"VLOOKUP($E348,'[1]Organisation Categories'!$G$4:$O$831,5,0)","v":1},{"$f":"VLOOKUP($E348,'[1]Organisation Categories'!$G$4:$O$831,6,0)","v":1},{"$f":"VLOOKUP($E348,'[1]Organisation Categories'!$G$4:$O$831,7,0)","v":1},0,0,0,0,0,0,0,0,0]
["QWO","TAD","BRADFORD DISTRICT CARE NHS FOUNDATION TRUST","Community Healthcare Other","TADCommunity Healthcare Other",13,1,0,12,1,0,0,0,0,{"$f":"VLOOKUP($E349,'[1]Organisation Categories'!$G$4:$O$831,8,0)","v":13},1,0,{"$f":"VLOOKUP($E349,'[1]Organisation Categories'!$G$4:$O$831,2,0)","v":12},{"$f":"VLOOKUP($E349,'[1]Organisation Categories'!$G$4:$O$831,3,0)","v":1},{"$f":"VLOOKUP($E349,'[1]Organisation Categories'!$G$4:$O$831,4,0)","v":0},{"$f":"VLOOKUP($E349,'[1]Organisation Categories'!$G$4:$O$831,5,0)","v":0},{"$f":"VLOOKUP($E349,'[1]Organisation Categories'!$G$4:$O$831,6,0)","v":0},{"$f":"VLOOKUP($E349,'[1]Organisation Categories'!$G$4:$O$831,7,0)","v":0},0,0,0,0,0,0,0,0,0]
["QWO","TAD","BRADFORD DISTRICT CARE NHS FOUNDATION TRUST","Community Nursing Services","TADCommunity Nursing Services",115,0.97391304347826091,2.6086956521739129E-2,100,12,0,1,2,0,{"$f":"VLOOKUP($E350,'[1]Organisation Categories'!$G$4:$O$831,8,0)","v":115},0.97391304347826091,2.6086956521739129E-2,{"$f":"VLOOKUP($E350,'[1]Organisation Categories'!$G$4:$O$831,2,0)","v":100},{"$f":"VLOOKUP($E350,'[1]Organisation Categories'!$G$4:$O$831,3,0)","v":12},{"$f":"VLOOKUP($E350,'[1]Organisation Categories'!$G$4:$O$831,4,0)","v":0},{"$f":"VLOOKUP($E350,'[1]Organisation Categories'!$G$4:$O$831,5,0)","v":1},{"$f":"VLOOKUP($E350,'[1]Organisation Categories'!$G$4:$O$831,6,0)","v":2},{"$f":"VLOOKUP($E350,'[1]Organisation Categories'!$G$4:$O$831,7,0)","v":0},0,0,0,0,0,0,0,0,0]
["QWO","TAD","BRADFORD DISTRICT CARE NHS FOUNDATION TRUST","Rehabilitation & Therapy Services","TADRehabilitation & Therapy Services",36,1,0,34,2,0,0,0,0,{"$f":"VLOOKUP($E351,'[1]Organisation Categories'!$G$4:$O$831,8,0)","v":36},1,0,{"$f":"VLOOKUP($E351,'[1]Organisation Categories'!$G$4:$O$831,2,0)","v":34},{"$f":"VLOOKUP($E351,'[1]Organisation Categories'!$G$4:$O$831,3,0)","v":2},{"$f":"VLOOKUP($E351,'[1]Organisation Categories'!$G$4:$O$831,4,0)","v":0},{"$f":"VLOOKUP($E351,'[1]Organisation Categories'!$G$4:$O$831,5,0)","v":0},{"$f":"VLOOKUP($E351,'[1]Organisation Categories'!$G$4:$O$831,6,0)","v":0},{"$f":"VLOOKUP($E351,'[1]Organisation Categories'!$G$4:$O$831,7,0)","v":0},0,0,0,0,0,0,0,0,0]
["QWO","TAD","BRADFORD DISTRICT CARE NHS FOUNDATION TRUST","Specialist Services","TADSpecialist Services",1445,0.96539792387543255,1.384083044982699E-2,1345,50,30,14,6,0,{"$f":"VLOOKUP($E352,'[1]Organisation Categories'!$G$4:$O$831,8,0)","v":1445},0.96539792387543255,1.384083044982699E-2,{"$f":"VLOOKUP($E352,'[1]Organisation Categories'!$G$4:$O$831,2,0)","v":1345},{"$f":"VLOOKUP($E352,'[1]Organisation Categories'!$G$4:$O$831,3,0)","v":50},{"$f":"VLOOKUP($E352,'[1]Organisation Categories'!$G$4:$O$831,4,0)","v":30},{"$f":"VLOOKUP($E352,'[1]Organisation Categories'!$G$4:$O$831,5,0)","v":14},{"$f":"VLOOKUP($E352,'[1]Organisation Categories'!$G$4:$O$831,6,0)","v":6},{"$f":"VLOOKUP($E352,'[1]Organisation Categories'!$G$4:$O$831,7,0)","v":0},0,0,0,0,0,0,0,0,0]
["QWO","RWY","CALDERDALE AND HUDDERSFIELD NHS FOUNDATION TRUST","Children & Family Services","RWYChildren & Family Services",7,1,0,6,1,0,0,0,0,{"$f":"VLOOKUP($E353,'[1]Organisation Categories'!$G$4:$O$831,8,0)","v":7},1,0,{"$f":"VLOOKUP($E353,'[1]Organisation Categories'!$G$4:$O$831,2,0)","v":6},{"$f":"VLOOKUP($E353,'[1]Organisation Categories'!$G$4:$O$831,3,0)","v":1},{"$f":"VLOOKUP($E353,'[1]Organisation Categories'!$G$4:$O$831,4,0)","v":0},{"$f":"VLOOKUP($E353,'[1]Organisation Categories'!$G$4:$O$831,5,0)","v":0},{"$f":"VLOOKUP($E353,'[1]Organisation Categories'!$G$4:$O$831,6,0)","v":0},{"$f":"VLOOKUP($E353,'[1]Organisation Categories'!$G$4:$O$831,7,0)","v":0},0,0,0,0,0,0,0,0,0]
["QWO","RWY","CALDERDALE AND HUDDERSFIELD NHS FOUNDATION TRUST","Community Nursing Services","RWYCommunity Nursing Services",78,0.98717948717948723,0,62,15,1,0,0,0,{"$f":"VLOOKUP($E354,'[1]Organisation Categories'!$G$4:$O$831,8,0)","v":78},0.98717948717948723,0,{"$f":"VLOOKUP($E354,'[1]Organisation Categories'!$G$4:$O$831,2,0)","v":62},{"$f":"VLOOKUP($E354,'[1]Organisation Categories'!$G$4:$O$831,3,0)","v":15},{"$f":"VLOOKUP($E354,'[1]Organisation Categories'!$G$4:$O$831,4,0)","v":1},{"$f":"VLOOKUP($E354,'[1]Organisation Categories'!$G$4:$O$831,5,0)","v":0},{"$f":"VLOOKUP($E354,'[1]Organisation Categories'!$G$4:$O$831,6,0)","v":0},{"$f":"VLOOKUP($E354,'[1]Organisation Categories'!$G$4:$O$831,7,0)","v":0},0,0,0,0,0,0,0,0,0]
["QWO","RWY","CALDERDALE AND HUDDERSFIELD NHS FOUNDATION TRUST","Rehabilitation & Therapy Services","RWYRehabilitation & Therapy Services",73,0.95890410958904104,1.3698630136986301E-2,64,6,1,0,1,1,{"$f":"VLOOKUP($E355,'[1]Organisation Categories'!$G$4:$O$831,8,0)","v":73},0.95890410958904104,1.3698630136986301E-2,{"$f":"VLOOKUP($E355,'[1]Organisation Categories'!$G$4:$O$831,2,0)","v":64},{"$f":"VLOOKUP($E355,'[1]Organisation Categories'!$G$4:$O$831,3,0)","v":6},{"$f":"VLOOKUP($E355,'[1]Organisation Categories'!$G$4:$O$831,4,0)","v":1},{"$f":"VLOOKUP($E355,'[1]Organisation Categories'!$G$4:$O$831,5,0)","v":0},{"$f":"VLOOKUP($E355,'[1]Organisation Categories'!$G$4:$O$831,6,0)","v":1},{"$f":"VLOOKUP($E355,'[1]Organisation Categories'!$G$4:$O$831,7,0)","v":1},0,0,0,0,0,0,0,0,0]
["QWO","RWY","CALDERDALE AND HUDDERSFIELD NHS FOUNDATION TRUST","Specialist Services","RWYSpecialist Services",88,0.98863636363636365,1.1363636363636364E-2,87,0,0,1,0,0,{"$f":"VLOOKUP($E356,'[1]Organisation Categories'!$G$4:$O$831,8,0)","v":88},0.98863636363636365,1.1363636363636364E-2,{"$f":"VLOOKUP($E356,'[1]Organisation Categories'!$G$4:$O$831,2,0)","v":87},{"$f":"VLOOKUP($E356,'[1]Organisation Categories'!$G$4:$O$831,3,0)","v":0},{"$f":"VLOOKUP($E356,'[1]Organisation Categories'!$G$4:$O$831,4,0)","v":0},{"$f":"VLOOKUP($E356,'[1]Organisation Categories'!$G$4:$O$831,5,0)","v":1},{"$f":"VLOOKUP($E356,'[1]Organisation Categories'!$G$4:$O$831,6,0)","v":0},{"$f":"VLOOKUP($E356,'[1]Organisation Categories'!$G$4:$O$831,7,0)","v":0},0,0,0,0,0,0,0,0,0]
["QWO","RXF","MID YORKSHIRE TEACHING NHS TRUST","Children & Family Services","RXFChildren & Family Services",27,1,0,26,1,0,0,0,0,{"$f":"VLOOKUP($E357,'[1]Organisation Categories'!$G$4:$O$831,8,0)","v":27},1,0,{"$f":"VLOOKUP($E357,'[1]Organisation Categories'!$G$4:$O$831,2,0)","v":26},{"$f":"VLOOKUP($E357,'[1]Organisation Categories'!$G$4:$O$831,3,0)","v":1},{"$f":"VLOOKUP($E357,'[1]Organisation Categories'!$G$4:$O$831,4,0)","v":0},{"$f":"VLOOKUP($E357,'[1]Organisation Categories'!$G$4:$O$831,5,0)","v":0},{"$f":"VLOOKUP($E357,'[1]Organisation Categories'!$G$4:$O$831,6,0)","v":0},{"$f":"VLOOKUP($E357,'[1]Organisation Categories'!$G$4:$O$831,7,0)","v":0},0,0,0,0,0,0,0,0,0]
["QWO","RXF","MID YORKSHIRE TEACHING NHS TRUST","Community Inpatient Services","RXFCommunity Inpatient Services",36,0.91666666666666663,0,26,7,3,0,0,0,{"$f":"VLOOKUP($E358,'[1]Organisation Categories'!$G$4:$O$831,8,0)","v":36},0.91666666666666663,0,{"$f":"VLOOKUP($E358,'[1]Organisation Categories'!$G$4:$O$831,2,0)","v":26},{"$f":"VLOOKUP($E358,'[1]Organisation Categories'!$G$4:$O$831,3,0)","v":7},{"$f":"VLOOKUP($E358,'[1]Organisation Categories'!$G$4:$O$831,4,0)","v":3},{"$f":"VLOOKUP($E358,'[1]Organisation Categories'!$G$4:$O$831,5,0)","v":0},{"$f":"VLOOKUP($E358,'[1]Organisation Categories'!$G$4:$O$831,6,0)","v":0},{"$f":"VLOOKUP($E358,'[1]Organisation Categories'!$G$4:$O$831,7,0)","v":0},0,0,0,0,0,0,0,0,0]
["QWO","RXF","MID YORKSHIRE TEACHING NHS TRUST","Community Nursing Services","RXFCommunity Nursing Services",330,0.9939393939393939,3.0303030303030303E-3,295,33,1,0,1,0,{"$f":"VLOOKUP($E359,'[1]Organisation Categories'!$G$4:$O$831,8,0)","v":330},0.9939393939393939,3.0303030303030303E-3,{"$f":"VLOOKUP($E359,'[1]Organisation Categories'!$G$4:$O$831,2,0)","v":295},{"$f":"VLOOKUP($E359,'[1]Organisation Categories'!$G$4:$O$831,3,0)","v":33},{"$f":"VLOOKUP($E359,'[1]Organisation Categories'!$G$4:$O$831,4,0)","v":1},{"$f":"VLOOKUP($E359,'[1]Organisation Categories'!$G$4:$O$831,5,0)","v":0},{"$f":"VLOOKUP($E359,'[1]Organisation Categories'!$G$4:$O$831,6,0)","v":1},{"$f":"VLOOKUP($E359,'[1]Organisation Categories'!$G$4:$O$831,7,0)","v":0},0,0,0,0,0,0,0,0,0]
["QWO","RXF","MID YORKSHIRE TEACHING NHS TRUST","Rehabilitation & Therapy Services","RXFRehabilitation & Therapy Services",762,0.97769028871391073,7.874015748031496E-3,686,59,10,2,4,1,{"$f":"VLOOKUP($E360,'[1]Organisation Categories'!$G$4:$O$831,8,0)","v":762},0.97769028871391073,7.874015748031496E-3,{"$f":"VLOOKUP($E360,'[1]Organisation Categories'!$G$4:$O$831,2,0)","v":686},{"$f":"VLOOKUP($E360,'[1]Organisation Categories'!$G$4:$O$831,3,0)","v":59},{"$f":"VLOOKUP($E360,'[1]Organisation Categories'!$G$4:$O$831,4,0)","v":10},{"$f":"VLOOKUP($E360,'[1]Organisation Categories'!$G$4:$O$831,5,0)","v":2},{"$f":"VLOOKUP($E360,'[1]Organisation Categories'!$G$4:$O$831,6,0)","v":4},{"$f":"VLOOKUP($E360,'[1]Organisation Categories'!$G$4:$O$831,7,0)","v":1},0,0,0,0,0,0,0,0,0]
["QWO","RXF","MID YORKSHIRE TEACHING NHS TRUST","Specialist Services","RXFSpecialist Services",141,0.98581560283687941,7.0921985815602835E-3,130,9,1,0,1,0,{"$f":"VLOOKUP($E361,'[1]Organisation Categories'!$G$4:$O$831,8,0)","v":141},0.98581560283687941,7.0921985815602835E-3,{"$f":"VLOOKUP($E361,'[1]Organisation Categories'!$G$4:$O$831,2,0)","v":130},{"$f":"VLOOKUP($E361,'[1]Organisation Categories'!$G$4:$O$831,3,0)","v":9},{"$f":"VLOOKUP($E361,'[1]Organisation Categories'!$G$4:$O$831,4,0)","v":1},{"$f":"VLOOKUP($E361,'[1]Organisation Categories'!$G$4:$O$831,5,0)","v":0},{"$f":"VLOOKUP($E361,'[1]Organisation Categories'!$G$4:$O$831,6,0)","v":1},{"$f":"VLOOKUP($E361,'[1]Organisation Categories'!$G$4:$O$831,7,0)","v":0},0,0,0,0,0,0,0,0,0]
["QWO","RXG","SOUTH WEST YORKSHIRE PARTNERSHIP NHS FOUNDATION TRUST","Children & Family Services","RXGChildren & Family Services",40,0.95,0,34,4,2,0,0,0,{"$f":"VLOOKUP($E362,'[1]Organisation Categories'!$G$4:$O$831,8,0)","v":40},0.95,0,{"$f":"VLOOKUP($E362,'[1]Organisation Categories'!$G$4:$O$831,2,0)","v":34},{"$f":"VLOOKUP($E362,'[1]Organisation Categories'!$G$4:$O$831,3,0)","v":4},{"$f":"VLOOKUP($E362,'[1]Organisation Categories'!$G$4:$O$831,4,0)","v":2},{"$f":"VLOOKUP($E362,'[1]Organisation Categories'!$G$4:$O$831,5,0)","v":0},{"$f":"VLOOKUP($E362,'[1]Organisation Categories'!$G$4:$O$831,6,0)","v":0},{"$f":"VLOOKUP($E362,'[1]Organisation Categories'!$G$4:$O$831,7,0)","v":0},0,0,0,0,0,0,0,0,0]
["QWO","RXG","SOUTH WEST YORKSHIRE PARTNERSHIP NHS FOUNDATION TRUST","Community Healthcare Other","RXGCommunity Healthcare Other",7,1,0,"*","*","*","*","*","*",{"$f":"VLOOKUP($E363,'[1]Organisation Categories'!$G$4:$O$831,8,0)","v":7},1,0,{"$f":"VLOOKUP($E363,'[1]Organisation Categories'!$G$4:$O$831,2,0)","v":7},{"$f":"VLOOKUP($E363,'[1]Organisation Categories'!$G$4:$O$831,3,0)","v":0},{"$f":"VLOOKUP($E363,'[1]Organisation Categories'!$G$4:$O$831,4,0)","v":0},{"$f":"VLOOKUP($E363,'[1]Organisation Categories'!$G$4:$O$831,5,0)","v":0},{"$f":"VLOOKUP($E363,'[1]Organisation Categories'!$G$4:$O$831,6,0)","v":0},{"$f":"VLOOKUP($E363,'[1]Organisation Categories'!$G$4:$O$831,7,0)","v":0},0,0,0,0,0,0,0,0,0]
["QWO","RXG","SOUTH WEST YORKSHIRE PARTNERSHIP NHS FOUNDATION TRUST","Community Inpatient Services","RXGCommunity Inpatient Services",3,"*","*","*","*","*","*","*","*",{"$f":"VLOOKUP($E364,'[1]Organisation Categories'!$G$4:$O$831,8,0)","v":3},1,0,{"$f":"VLOOKUP($E364,'[1]Organisation Categories'!$G$4:$O$831,2,0)","v":3},{"$f":"VLOOKUP($E364,'[1]Organisation Categories'!$G$4:$O$831,3,0)","v":0},{"$f":"VLOOKUP($E364,'[1]Organisation Categories'!$G$4:$O$831,4,0)","v":0},{"$f":"VLOOKUP($E364,'[1]Organisation Categories'!$G$4:$O$831,5,0)","v":0},{"$f":"VLOOKUP($E364,'[1]Organisation Categories'!$G$4:$O$831,6,0)","v":0},{"$f":"VLOOKUP($E364,'[1]Organisation Categories'!$G$4:$O$831,7,0)","v":0},0,0,0,0,0,0,0,0,0]
["QWO","RXG","SOUTH WEST YORKSHIRE PARTNERSHIP NHS FOUNDATION TRUST","Community Nursing Services","RXGCommunity Nursing Services",87,0.96551724137931039,1.1494252873563218E-2,72,12,1,0,1,1,{"$f":"VLOOKUP($E365,'[1]Organisation Categories'!$G$4:$O$831,8,0)","v":87},0.96551724137931039,1.1494252873563218E-2,{"$f":"VLOOKUP($E365,'[1]Organisation Categories'!$G$4:$O$831,2,0)","v":72},{"$f":"VLOOKUP($E365,'[1]Organisation Categories'!$G$4:$O$831,3,0)","v":12},{"$f":"VLOOKUP($E365,'[1]Organisation Categories'!$G$4:$O$831,4,0)","v":1},{"$f":"VLOOKUP($E365,'[1]Organisation Categories'!$G$4:$O$831,5,0)","v":0},{"$f":"VLOOKUP($E365,'[1]Organisation Categories'!$G$4:$O$831,6,0)","v":1},{"$f":"VLOOKUP($E365,'[1]Organisation Categories'!$G$4:$O$831,7,0)","v":1},0,0,0,0,0,0,0,0,0]
["QWO","RXG","SOUTH WEST YORKSHIRE PARTNERSHIP NHS FOUNDATION TRUST","Rehabilitation & Therapy Services","RXGRehabilitation & Therapy Services",243,0.95884773662551437,2.0576131687242798E-2,208,25,4,4,1,1,{"$f":"VLOOKUP($E366,'[1]Organisation Categories'!$G$4:$O$831,8,0)","v":243},0.95884773662551437,2.0576131687242798E-2,{"$f":"VLOOKUP($E366,'[1]Organisation Categories'!$G$4:$O$831,2,0)","v":208},{"$f":"VLOOKUP($E366,'[1]Organisation Categories'!$G$4:$O$831,3,0)","v":25},{"$f":"VLOOKUP($E366,'[1]Organisation Categories'!$G$4:$O$831,4,0)","v":4},{"$f":"VLOOKUP($E366,'[1]Organisation Categories'!$G$4:$O$831,5,0)","v":4},{"$f":"VLOOKUP($E366,'[1]Organisation Categories'!$G$4:$O$831,6,0)","v":1},{"$f":"VLOOKUP($E366,'[1]Organisation Categories'!$G$4:$O$831,7,0)","v":1},0,0,0,0,0,0,0,0,0]
["QWO","RXG","SOUTH WEST YORKSHIRE PARTNERSHIP NHS FOUNDATION TRUST","Specialist Services","RXGSpecialist Services",21,0.95238095238095233,4.7619047619047616E-2,19,1,0,0,1,0,{"$f":"VLOOKUP($E367,'[1]Organisation Categories'!$G$4:$O$831,8,0)","v":21},0.95238095238095233,4.7619047619047616E-2,{"$f":"VLOOKUP($E367,'[1]Organisation Categories'!$G$4:$O$831,2,0)","v":19},{"$f":"VLOOKUP($E367,'[1]Organisation Categories'!$G$4:$O$831,3,0)","v":1},{"$f":"VLOOKUP($E367,'[1]Organisation Categories'!$G$4:$O$831,4,0)","v":0},{"$f":"VLOOKUP($E367,'[1]Organisation Categories'!$G$4:$O$831,5,0)","v":0},{"$f":"VLOOKUP($E367,'[1]Organisation Categories'!$G$4:$O$831,6,0)","v":1},{"$f":"VLOOKUP($E367,'[1]Organisation Categories'!$G$4:$O$831,7,0)","v":0},0,0,0,0,0,0,0,0,0]
["QWU","RJC","SOUTH WARWICKSHIRE UNIVERSITY NHS FOUNDATION TRUST","Children & Family Services","RJCChildren & Family Services",2,"*","*","*","*","*","*","*","*",{"$f":"VLOOKUP($E368,'[1]Organisation Categories'!$G$4:$O$831,8,0)","v":2},1,0,{"$f":"VLOOKUP($E368,'[1]Organisation Categories'!$G$4:$O$831,2,0)","v":2},{"$f":"VLOOKUP($E368,'[1]Organisation Categories'!$G$4:$O$831,3,0)","v":0},{"$f":"VLOOKUP($E368,'[1]Organisation Categories'!$G$4:$O$831,4,0)","v":0},{"$f":"VLOOKUP($E368,'[1]Organisation Categories'!$G$4:$O$831,5,0)","v":0},{"$f":"VLOOKUP($E368,'[1]Organisation Categories'!$G$4:$O$831,6,0)","v":0},{"$f":"VLOOKUP($E368,'[1]Organisation Categories'!$G$4:$O$831,7,0)","v":0},0,0,0,0,0,0,0,0,0]
["QWU","RJC","SOUTH WARWICKSHIRE UNIVERSITY NHS FOUNDATION TRUST","Community Inpatient Services","RJCCommunity Inpatient Services",13,0.92307692307692313,0,"*","*","*","*","*","*",{"$f":"VLOOKUP($E369,'[1]Organisation Categories'!$G$4:$O$831,8,0)","v":13},0.92307692307692313,0,{"$f":"VLOOKUP($E369,'[1]Organisation Categories'!$G$4:$O$831,2,0)","v":10},{"$f":"VLOOKUP($E369,'[1]Organisation Categories'!$G$4:$O$831,3,0)","v":2},{"$f":"VLOOKUP($E369,'[1]Organisation Categories'!$G$4:$O$831,4,0)","v":0},{"$f":"VLOOKUP($E369,'[1]Organisation Categories'!$G$4:$O$831,5,0)","v":0},{"$f":"VLOOKUP($E369,'[1]Organisation Categories'!$G$4:$O$831,6,0)","v":0},{"$f":"VLOOKUP($E369,'[1]Organisation Categories'!$G$4:$O$831,7,0)","v":1},0,0,0,0,0,0,0,0,0]
["QWU","RJC","SOUTH WARWICKSHIRE UNIVERSITY NHS FOUNDATION TRUST","Community Nursing Services","RJCCommunity Nursing Services",83,0.91566265060240959,3.614457831325301E-2,70,6,0,0,3,4,{"$f":"VLOOKUP($E370,'[1]Organisation Categories'!$G$4:$O$831,8,0)","v":83},0.91566265060240959,3.614457831325301E-2,{"$f":"VLOOKUP($E370,'[1]Organisation Categories'!$G$4:$O$831,2,0)","v":70},{"$f":"VLOOKUP($E370,'[1]Organisation Categories'!$G$4:$O$831,3,0)","v":6},{"$f":"VLOOKUP($E370,'[1]Organisation Categories'!$G$4:$O$831,4,0)","v":0},{"$f":"VLOOKUP($E370,'[1]Organisation Categories'!$G$4:$O$831,5,0)","v":0},{"$f":"VLOOKUP($E370,'[1]Organisation Categories'!$G$4:$O$831,6,0)","v":3},{"$f":"VLOOKUP($E370,'[1]Organisation Categories'!$G$4:$O$831,7,0)","v":4},0,0,0,0,0,0,0,0,0]
["QWU","RJC","SOUTH WARWICKSHIRE UNIVERSITY NHS FOUNDATION TRUST","Specialist Services","RJCSpecialist Services",46,1,0,43,3,0,0,0,0,{"$f":"VLOOKUP($E371,'[1]Organisation Categories'!$G$4:$O$831,8,0)","v":46},1,0,{"$f":"VLOOKUP($E371,'[1]Organisation Categories'!$G$4:$O$831,2,0)","v":43},{"$f":"VLOOKUP($E371,'[1]Organisation Categories'!$G$4:$O$831,3,0)","v":3},{"$f":"VLOOKUP($E371,'[1]Organisation Categories'!$G$4:$O$831,4,0)","v":0},{"$f":"VLOOKUP($E371,'[1]Organisation Categories'!$G$4:$O$831,5,0)","v":0},{"$f":"VLOOKUP($E371,'[1]Organisation Categories'!$G$4:$O$831,6,0)","v":0},{"$f":"VLOOKUP($E371,'[1]Organisation Categories'!$G$4:$O$831,7,0)","v":0},0,0,0,0,0,0,0,0,0]
["QXU","RA2","ROYAL SURREY COUNTY HOSPITAL NHS FOUNDATION TRUST","Community Inpatient Services","RA2Community Inpatient Services",29,0.96551724137931039,0,19,9,1,0,0,0,{"$f":"VLOOKUP($E372,'[1]Organisation Categories'!$G$4:$O$831,8,0)","v":29},0.96551724137931039,0,{"$f":"VLOOKUP($E372,'[1]Organisation Categories'!$G$4:$O$831,2,0)","v":19},{"$f":"VLOOKUP($E372,'[1]Organisation Categories'!$G$4:$O$831,3,0)","v":9},{"$f":"VLOOKUP($E372,'[1]Organisation Categories'!$G$4:$O$831,4,0)","v":1},{"$f":"VLOOKUP($E372,'[1]Organisation Categories'!$G$4:$O$831,5,0)","v":0},{"$f":"VLOOKUP($E372,'[1]Organisation Categories'!$G$4:$O$831,6,0)","v":0},{"$f":"VLOOKUP($E372,'[1]Organisation Categories'!$G$4:$O$831,7,0)","v":0},0,0,0,0,0,0,0,0,0]
["QXU","RA2","ROYAL SURREY COUNTY HOSPITAL NHS FOUNDATION TRUST","Community Nursing Services","RA2Community Nursing Services",2,"*","*","*","*","*","*","*","*",{"$f":"VLOOKUP($E373,'[1]Organisation Categories'!$G$4:$O$831,8,0)","v":2},1,0,{"$f":"VLOOKUP($E373,'[1]Organisation Categories'!$G$4:$O$831,2,0)","v":2},{"$f":"VLOOKUP($E373,'[1]Organisation Categories'!$G$4:$O$831,3,0)","v":0},{"$f":"VLOOKUP($E373,'[1]Organisation Categories'!$G$4:$O$831,4,0)","v":0},{"$f":"VLOOKUP($E373,'[1]Organisation Categories'!$G$4:$O$831,5,0)","v":0},{"$f":"VLOOKUP($E373,'[1]Organisation Categories'!$G$4:$O$831,6,0)","v":0},{"$f":"VLOOKUP($E373,'[1]Organisation Categories'!$G$4:$O$831,7,0)","v":0},0,0,0,0,0,0,0,0,0]
["QXU","RA2","ROYAL SURREY COUNTY HOSPITAL NHS FOUNDATION TRUST","Rehabilitation & Therapy Services","RA2Rehabilitation & Therapy Services",5,1,0,"*","*","*","*","*","*",{"$f":"VLOOKUP($E374,'[1]Organisation Categories'!$G$4:$O$831,8,0)","v":5},1,0,{"$f":"VLOOKUP($E374,'[1]Organisation Categories'!$G$4:$O$831,2,0)","v":5},{"$f":"VLOOKUP($E374,'[1]Organisation Categories'!$G$4:$O$831,3,0)","v":0},{"$f":"VLOOKUP($E374,'[1]Organisation Categories'!$G$4:$O$831,4,0)","v":0},{"$f":"VLOOKUP($E374,'[1]Organisation Categories'!$G$4:$O$831,5,0)","v":0},{"$f":"VLOOKUP($E374,'[1]Organisation Categories'!$G$4:$O$831,6,0)","v":0},{"$f":"VLOOKUP($E374,'[1]Organisation Categories'!$G$4:$O$831,7,0)","v":0},0,0,0,0,0,0,0,0,0]
["QXU","RA2","ROYAL SURREY COUNTY HOSPITAL NHS FOUNDATION TRUST","Specialist Services","RA2Specialist Services",13,1,0,13,0,0,0,0,0,{"$f":"VLOOKUP($E375,'[1]Organisation Categories'!$G$4:$O$831,8,0)","v":13},1,0,{"$f":"VLOOKUP($E375,'[1]Organisation Categories'!$G$4:$O$831,2,0)","v":13},{"$f":"VLOOKUP($E375,'[1]Organisation Categories'!$G$4:$O$831,3,0)","v":0},{"$f":"VLOOKUP($E375,'[1]Organisation Categories'!$G$4:$O$831,4,0)","v":0},{"$f":"VLOOKUP($E375,'[1]Organisation Categories'!$G$4:$O$831,5,0)","v":0},{"$f":"VLOOKUP($E375,'[1]Organisation Categories'!$G$4:$O$831,6,0)","v":0},{"$f":"VLOOKUP($E375,'[1]Organisation Categories'!$G$4:$O$831,7,0)","v":0},0,0,0,0,0,0,0,0,0]
["QYG","RBS","ALDER HEY CHILDREN'S NHS FOUNDATION TRUST","Children & Family Services","RBSChildren & Family Services",173,0.93063583815028905,4.6242774566473986E-2,146,15,4,2,6,0,{"$f":"VLOOKUP($E376,'[1]Organisation Categories'!$G$4:$O$831,8,0)","v":173},0.93063583815028905,4.6242774566473986E-2,{"$f":"VLOOKUP($E376,'[1]Organisation Categories'!$G$4:$O$831,2,0)","v":146},{"$f":"VLOOKUP($E376,'[1]Organisation Categories'!$G$4:$O$831,3,0)","v":15},{"$f":"VLOOKUP($E376,'[1]Organisation Categories'!$G$4:$O$831,4,0)","v":4},{"$f":"VLOOKUP($E376,'[1]Organisation Categories'!$G$4:$O$831,5,0)","v":2},{"$f":"VLOOKUP($E376,'[1]Organisation Categories'!$G$4:$O$831,6,0)","v":6},{"$f":"VLOOKUP($E376,'[1]Organisation Categories'!$G$4:$O$831,7,0)","v":0},0,0,0,0,0,0,0,0,0]
["QYG","RY2","BRIDGEWATER COMMUNITY HEALTHCARE NHS FOUNDATION TRUST","Children & Family Services","RY2Children & Family Services",1434,0.98047419804741975,5.5788005578800556E-3,1193,213,15,6,2,5,{"$f":"VLOOKUP($E377,'[1]Organisation Categories'!$G$4:$O$831,8,0)","v":1434},0.98047419804741975,5.5788005578800556E-3,{"$f":"VLOOKUP($E377,'[1]Organisation Categories'!$G$4:$O$831,2,0)","v":1193},{"$f":"VLOOKUP($E377,'[1]Organisation Categories'!$G$4:$O$831,3,0)","v":213},{"$f":"VLOOKUP($E377,'[1]Organisation Categories'!$G$4:$O$831,4,0)","v":15},{"$f":"VLOOKUP($E377,'[1]Organisation Categories'!$G$4:$O$831,5,0)","v":6},{"$f":"VLOOKUP($E377,'[1]Organisation Categories'!$G$4:$O$831,6,0)","v":2},{"$f":"VLOOKUP($E377,'[1]Organisation Categories'!$G$4:$O$831,7,0)","v":5},0,0,0,0,0,0,0,0,0]
["QYG","RY2","BRIDGEWATER COMMUNITY HEALTHCARE NHS FOUNDATION TRUST","Community Healthcare Other","RY2Community Healthcare Other",547,0.84095063985374774,0.11334552102376599,393,67,21,23,39,4,{"$f":"VLOOKUP($E378,'[1]Organisation Categories'!$G$4:$O$831,8,0)","v":547},0.84095063985374774,0.11334552102376599,{"$f":"VLOOKUP($E378,'[1]Organisation Categories'!$G$4:$O$831,2,0)","v":393},{"$f":"VLOOKUP($E378,'[1]Organisation Categories'!$G$4:$O$831,3,0)","v":67},{"$f":"VLOOKUP($E378,'[1]Organisation Categories'!$G$4:$O$831,4,0)","v":21},{"$f":"VLOOKUP($E378,'[1]Organisation Categories'!$G$4:$O$831,5,0)","v":23},{"$f":"VLOOKUP($E378,'[1]Organisation Categories'!$G$4:$O$831,6,0)","v":39},{"$f":"VLOOKUP($E378,'[1]Organisation Categories'!$G$4:$O$831,7,0)","v":4},0,0,0,0,0,0,0,0,0]
["QYG","RY2","BRIDGEWATER COMMUNITY HEALTHCARE NHS FOUNDATION TRUST","Community Nursing Services","RY2Community Nursing Services",1158,0.95164075993091535,2.3316062176165803E-2,1012,90,18,14,13,11,{"$f":"VLOOKUP($E379,'[1]Organisation Categories'!$G$4:$O$831,8,0)","v":1158},0.95164075993091535,2.3316062176165803E-2,{"$f":"VLOOKUP($E379,'[1]Organisation Categories'!$G$4:$O$831,2,0)","v":1012},{"$f":"VLOOKUP($E379,'[1]Organisation Categories'!$G$4:$O$831,3,0)","v":90},{"$f":"VLOOKUP($E379,'[1]Organisation Categories'!$G$4:$O$831,4,0)","v":18},{"$f":"VLOOKUP($E379,'[1]Organisation Categories'!$G$4:$O$831,5,0)","v":14},{"$f":"VLOOKUP($E379,'[1]Organisation Categories'!$G$4:$O$831,6,0)","v":13},{"$f":"VLOOKUP($E379,'[1]Organisation Categories'!$G$4:$O$831,7,0)","v":11},0,0,0,0,0,0,0,0,0]
["QYG","RY2","BRIDGEWATER COMMUNITY HEALTHCARE NHS FOUNDATION TRUST","Rehabilitation & Therapy Services","RY2Rehabilitation & Therapy Services",988,0.96457489878542513,1.7206477732793522E-2,884,69,15,10,7,3,{"$f":"VLOOKUP($E380,'[1]Organisation Categories'!$G$4:$O$831,8,0)","v":988},0.96457489878542513,1.7206477732793522E-2,{"$f":"VLOOKUP($E380,'[1]Organisation Categories'!$G$4:$O$831,2,0)","v":884},{"$f":"VLOOKUP($E380,'[1]Organisation Categories'!$G$4:$O$831,3,0)","v":69},{"$f":"VLOOKUP($E380,'[1]Organisation Categories'!$G$4:$O$831,4,0)","v":15},{"$f":"VLOOKUP($E380,'[1]Organisation Categories'!$G$4:$O$831,5,0)","v":10},{"$f":"VLOOKUP($E380,'[1]Organisation Categories'!$G$4:$O$831,6,0)","v":7},{"$f":"VLOOKUP($E380,'[1]Organisation Categories'!$G$4:$O$831,7,0)","v":3},0,0,0,0,0,0,0,0,0]
["QYG","RY2","BRIDGEWATER COMMUNITY HEALTHCARE NHS FOUNDATION TRUST","Specialist Services","RY2Specialist Services",253,0.96047430830039526,2.3715415019762844E-2,232,11,3,4,2,1,{"$f":"VLOOKUP($E381,'[1]Organisation Categories'!$G$4:$O$831,8,0)","v":253},0.96047430830039526,2.3715415019762844E-2,{"$f":"VLOOKUP($E381,'[1]Organisation Categories'!$G$4:$O$831,2,0)","v":232},{"$f":"VLOOKUP($E381,'[1]Organisation Categories'!$G$4:$O$831,3,0)","v":11},{"$f":"VLOOKUP($E381,'[1]Organisation Categories'!$G$4:$O$831,4,0)","v":3},{"$f":"VLOOKUP($E381,'[1]Organisation Categories'!$G$4:$O$831,5,0)","v":4},{"$f":"VLOOKUP($E381,'[1]Organisation Categories'!$G$4:$O$831,6,0)","v":2},{"$f":"VLOOKUP($E381,'[1]Organisation Categories'!$G$4:$O$831,7,0)","v":1},0,0,0,0,0,0,0,0,0]
["QYG","RXA","CHESHIRE AND WIRRAL PARTNERSHIP NHS FOUNDATION TRUST","Children & Family Services","RXAChildren & Family Services",121,0.85950413223140498,8.2644628099173556E-2,91,13,4,2,8,3,{"$f":"VLOOKUP($E382,'[1]Organisation Categories'!$G$4:$O$831,8,0)","v":121},0.85950413223140498,8.2644628099173556E-2,{"$f":"VLOOKUP($E382,'[1]Organisation Categories'!$G$4:$O$831,2,0)","v":91},{"$f":"VLOOKUP($E382,'[1]Organisation Categories'!$G$4:$O$831,3,0)","v":13},{"$f":"VLOOKUP($E382,'[1]Organisation Categories'!$G$4:$O$831,4,0)","v":4},{"$f":"VLOOKUP($E382,'[1]Organisation Categories'!$G$4:$O$831,5,0)","v":2},{"$f":"VLOOKUP($E382,'[1]Organisation Categories'!$G$4:$O$831,6,0)","v":8},{"$f":"VLOOKUP($E382,'[1]Organisation Categories'!$G$4:$O$831,7,0)","v":3},0,0,0,0,0,0,0,0,0]
["QYG","RXA","CHESHIRE AND WIRRAL PARTNERSHIP NHS FOUNDATION TRUST","Community Healthcare Other","RXACommunity Healthcare Other",132,0.95454545454545459,1.5151515151515152E-2,117,9,3,0,2,1,{"$f":"VLOOKUP($E383,'[1]Organisation Categories'!$G$4:$O$831,8,0)","v":132},0.95454545454545459,1.5151515151515152E-2,{"$f":"VLOOKUP($E383,'[1]Organisation Categories'!$G$4:$O$831,2,0)","v":117},{"$f":"VLOOKUP($E383,'[1]Organisation Categories'!$G$4:$O$831,3,0)","v":9},{"$f":"VLOOKUP($E383,'[1]Organisation Categories'!$G$4:$O$831,4,0)","v":3},{"$f":"VLOOKUP($E383,'[1]Organisation Categories'!$G$4:$O$831,5,0)","v":0},{"$f":"VLOOKUP($E383,'[1]Organisation Categories'!$G$4:$O$831,6,0)","v":2},{"$f":"VLOOKUP($E383,'[1]Organisation Categories'!$G$4:$O$831,7,0)","v":1},0,0,0,0,0,0,0,0,0]
["QYG","RXA","CHESHIRE AND WIRRAL PARTNERSHIP NHS FOUNDATION TRUST","Community Nursing Services","RXACommunity Nursing Services",172,0.88953488372093026,2.9069767441860465E-2,128,25,11,0,5,3,{"$f":"VLOOKUP($E384,'[1]Organisation Categories'!$G$4:$O$831,8,0)","v":172},0.88953488372093026,2.9069767441860465E-2,{"$f":"VLOOKUP($E384,'[1]Organisation Categories'!$G$4:$O$831,2,0)","v":128},{"$f":"VLOOKUP($E384,'[1]Organisation Categories'!$G$4:$O$831,3,0)","v":25},{"$f":"VLOOKUP($E384,'[1]Organisation Categories'!$G$4:$O$831,4,0)","v":11},{"$f":"VLOOKUP($E384,'[1]Organisation Categories'!$G$4:$O$831,5,0)","v":0},{"$f":"VLOOKUP($E384,'[1]Organisation Categories'!$G$4:$O$831,6,0)","v":5},{"$f":"VLOOKUP($E384,'[1]Organisation Categories'!$G$4:$O$831,7,0)","v":3},0,0,0,0,0,0,0,0,0]
["QYG","RXA","CHESHIRE AND WIRRAL PARTNERSHIP NHS FOUNDATION TRUST","Rehabilitation & Therapy Services","RXARehabilitation & Therapy Services",489,0.94887525562372188,1.8404907975460124E-2,422,42,10,4,5,6,{"$f":"VLOOKUP($E385,'[1]Organisation Categories'!$G$4:$O$831,8,0)","v":489},0.94887525562372188,1.8404907975460124E-2,{"$f":"VLOOKUP($E385,'[1]Organisation Categories'!$G$4:$O$831,2,0)","v":422},{"$f":"VLOOKUP($E385,'[1]Organisation Categories'!$G$4:$O$831,3,0)","v":42},{"$f":"VLOOKUP($E385,'[1]Organisation Categories'!$G$4:$O$831,4,0)","v":10},{"$f":"VLOOKUP($E385,'[1]Organisation Categories'!$G$4:$O$831,5,0)","v":4},{"$f":"VLOOKUP($E385,'[1]Organisation Categories'!$G$4:$O$831,6,0)","v":5},{"$f":"VLOOKUP($E385,'[1]Organisation Categories'!$G$4:$O$831,7,0)","v":6},0,0,0,0,0,0,0,0,0]
["QYG","RXA","CHESHIRE AND WIRRAL PARTNERSHIP NHS FOUNDATION TRUST","Specialist Services","RXASpecialist Services",173,0.91907514450867056,3.4682080924855488E-2,142,17,4,2,4,4,{"$f":"VLOOKUP($E386,'[1]Organisation Categories'!$G$4:$O$831,8,0)","v":173},0.91907514450867056,3.4682080924855488E-2,{"$f":"VLOOKUP($E386,'[1]Organisation Categories'!$G$4:$O$831,2,0)","v":142},{"$f":"VLOOKUP($E386,'[1]Organisation Categories'!$G$4:$O$831,3,0)","v":17},{"$f":"VLOOKUP($E386,'[1]Organisation Categories'!$G$4:$O$831,4,0)","v":4},{"$f":"VLOOKUP($E386,'[1]Organisation Categories'!$G$4:$O$831,5,0)","v":2},{"$f":"VLOOKUP($E386,'[1]Organisation Categories'!$G$4:$O$831,6,0)","v":4},{"$f":"VLOOKUP($E386,'[1]Organisation Categories'!$G$4:$O$831,7,0)","v":4},0,0,0,0,0,0,0,0,0]
["QYG","RJN","EAST CHESHIRE NHS TRUST","Children & Family Services","RJNChildren & Family Services",3,"*","*","*","*","*","*","*","*",{"$f":"VLOOKUP($E387,'[1]Organisation Categories'!$G$4:$O$831,8,0)","v":3},1,0,{"$f":"VLOOKUP($E387,'[1]Organisation Categories'!$G$4:$O$831,2,0)","v":3},{"$f":"VLOOKUP($E387,'[1]Organisation Categories'!$G$4:$O$831,3,0)","v":0},{"$f":"VLOOKUP($E387,'[1]Organisation Categories'!$G$4:$O$831,4,0)","v":0},{"$f":"VLOOKUP($E387,'[1]Organisation Categories'!$G$4:$O$831,5,0)","v":0},{"$f":"VLOOKUP($E387,'[1]Organisation Categories'!$G$4:$O$831,6,0)","v":0},{"$f":"VLOOKUP($E387,'[1]Organisation Categories'!$G$4:$O$831,7,0)","v":0},0,0,0,0,0,0,0,0,0]
["QYG","RJN","EAST CHESHIRE NHS TRUST","Community Nursing Services","RJNCommunity Nursing Services",86,0.93023255813953487,4.6511627906976744E-2,69,11,1,2,2,1,{"$f":"VLOOKUP($E388,'[1]Organisation Categories'!$G$4:$O$831,8,0)","v":86},0.93023255813953487,4.6511627906976744E-2,{"$f":"VLOOKUP($E388,'[1]Organisation Categories'!$G$4:$O$831,2,0)","v":69},{"$f":"VLOOKUP($E388,'[1]Organisation Categories'!$G$4:$O$831,3,0)","v":11},{"$f":"VLOOKUP($E388,'[1]Organisation Categories'!$G$4:$O$831,4,0)","v":1},{"$f":"VLOOKUP($E388,'[1]Organisation Categories'!$G$4:$O$831,5,0)","v":2},{"$f":"VLOOKUP($E388,'[1]Organisation Categories'!$G$4:$O$831,6,0)","v":2},{"$f":"VLOOKUP($E388,'[1]Organisation Categories'!$G$4:$O$831,7,0)","v":1},0,0,0,0,0,0,0,0,0]
["QYG","RJN","EAST CHESHIRE NHS TRUST","Rehabilitation & Therapy Services","RJNRehabilitation & Therapy Services",89,0.9550561797752809,1.1235955056179775E-2,73,12,3,1,0,0,{"$f":"VLOOKUP($E389,'[1]Organisation Categories'!$G$4:$O$831,8,0)","v":89},0.9550561797752809,1.1235955056179775E-2,{"$f":"VLOOKUP($E389,'[1]Organisation Categories'!$G$4:$O$831,2,0)","v":73},{"$f":"VLOOKUP($E389,'[1]Organisation Categories'!$G$4:$O$831,3,0)","v":12},{"$f":"VLOOKUP($E389,'[1]Organisation Categories'!$G$4:$O$831,4,0)","v":3},{"$f":"VLOOKUP($E389,'[1]Organisation Categories'!$G$4:$O$831,5,0)","v":1},{"$f":"VLOOKUP($E389,'[1]Organisation Categories'!$G$4:$O$831,6,0)","v":0},{"$f":"VLOOKUP($E389,'[1]Organisation Categories'!$G$4:$O$831,7,0)","v":0},0,0,0,0,0,0,0,0,0]
["QYG","RJN","EAST CHESHIRE NHS TRUST","Specialist Services","RJNSpecialist Services",6,1,0,"*","*","*","*","*","*",{"$f":"VLOOKUP($E390,'[1]Organisation Categories'!$G$4:$O$831,8,0)","v":6},1,0,{"$f":"VLOOKUP($E390,'[1]Organisation Categories'!$G$4:$O$831,2,0)","v":5},{"$f":"VLOOKUP($E390,'[1]Organisation Categories'!$G$4:$O$831,3,0)","v":1},{"$f":"VLOOKUP($E390,'[1]Organisation Categories'!$G$4:$O$831,4,0)","v":0},{"$f":"VLOOKUP($E390,'[1]Organisation Categories'!$G$4:$O$831,5,0)","v":0},{"$f":"VLOOKUP($E390,'[1]Organisation Categories'!$G$4:$O$831,6,0)","v":0},{"$f":"VLOOKUP($E390,'[1]Organisation Categories'!$G$4:$O$831,7,0)","v":0},0,0,0,0,0,0,0,0,0]
["QYG","RBN","MERSEY AND WEST LANCASHIRE TEACHING HOSPITALS NHS TRUST","Children & Family Services","RBNChildren & Family Services",22,1,0,21,1,0,0,0,0,{"$f":"VLOOKUP($E391,'[1]Organisation Categories'!$G$4:$O$831,8,0)","v":22},1,0,{"$f":"VLOOKUP($E391,'[1]Organisation Categories'!$G$4:$O$831,2,0)","v":21},{"$f":"VLOOKUP($E391,'[1]Organisation Categories'!$G$4:$O$831,3,0)","v":1},{"$f":"VLOOKUP($E391,'[1]Organisation Categories'!$G$4:$O$831,4,0)","v":0},{"$f":"VLOOKUP($E391,'[1]Organisation Categories'!$G$4:$O$831,5,0)","v":0},{"$f":"VLOOKUP($E391,'[1]Organisation Categories'!$G$4:$O$831,6,0)","v":0},{"$f":"VLOOKUP($E391,'[1]Organisation Categories'!$G$4:$O$831,7,0)","v":0},0,0,0,0,0,0,0,0,0]
["QYG","RBN","MERSEY AND WEST LANCASHIRE TEACHING HOSPITALS NHS TRUST","Community Healthcare Other","RBNCommunity Healthcare Other",38,0.97368421052631582,2.6315789473684209E-2,33,4,0,1,0,0,{"$f":"VLOOKUP($E392,'[1]Organisation Categories'!$G$4:$O$831,8,0)","v":38},0.97368421052631582,2.6315789473684209E-2,{"$f":"VLOOKUP($E392,'[1]Organisation Categories'!$G$4:$O$831,2,0)","v":33},{"$f":"VLOOKUP($E392,'[1]Organisation Categories'!$G$4:$O$831,3,0)","v":4},{"$f":"VLOOKUP($E392,'[1]Organisation Categories'!$G$4:$O$831,4,0)","v":0},{"$f":"VLOOKUP($E392,'[1]Organisation Categories'!$G$4:$O$831,5,0)","v":1},{"$f":"VLOOKUP($E392,'[1]Organisation Categories'!$G$4:$O$831,6,0)","v":0},{"$f":"VLOOKUP($E392,'[1]Organisation Categories'!$G$4:$O$831,7,0)","v":0},0,0,0,0,0,0,0,0,0]
["QYG","RBN","MERSEY AND WEST LANCASHIRE TEACHING HOSPITALS NHS TRUST","Community Inpatient Services",{"$f":"B393&D393","v":"RBNCommunity Inpatient Services"},12,1,0,10,2,0,0,0,0,{"$f":"VLOOKUP($E393,'[1]Organisation Categories'!$G$4:$O$831,8,0)","v":12},{"$f":"SUM(R393+S393)/SUM(R393:W393)","v":1},{"$f":"SUM(U393+V393)/SUM(R393:W393)","v":0},{"$f":"VLOOKUP($E393,'[1]Organisation Categories'!$G$4:$O$831,2,0)","v":10},{"$f":"VLOOKUP($E393,'[1]Organisation Categories'!$G$4:$O$831,3,0)","v":2},{"$f":"VLOOKUP($E393,'[1]Organisation Categories'!$G$4:$O$831,4,0)","v":0},{"$f":"VLOOKUP($E393,'[1]Organisation Categories'!$G$4:$O$831,5,0)","v":0},{"$f":"VLOOKUP($E393,'[1]Organisation Categories'!$G$4:$O$831,6,0)","v":0},{"$f":"VLOOKUP($E393,'[1]Organisation Categories'!$G$4:$O$831,7,0)","v":0},{"$f":"IFERROR(F393-O393,0)","v":0},{"$f":"IFERROR(G393-P393,0)","v":0},{"$f":"IFERROR(H393-Q393,0)","v":0},{"$f":"IFERROR(I393-R393,0)","v":0},{"$f":"IFERROR(J393-S393,0)","v":0},{"$f":"IFERROR(K393-T393,0)","v":0},{"$f":"IFERROR(L393-U393,0)","v":0},{"$f":"IFERROR(M393-V393,0)","v":0},{"$f":"IFERROR(N393-W393,0)","v":0}]
["QYG","RBN","MERSEY AND WEST LANCASHIRE TEACHING HOSPITALS NHS TRUST","Community Nursing Services","RBNCommunity Nursing Services",45,1,0,45,0,0,0,0,0,{"$f":"VLOOKUP($E394,'[1]Organisation Categories'!$G$4:$O$831,8,0)","v":45},1,0,{"$f":"VLOOKUP($E394,'[1]Organisation Categories'!$G$4:$O$831,2,0)","v":45},{"$f":"VLOOKUP($E394,'[1]Organisation Categories'!$G$4:$O$831,3,0)","v":0},{"$f":"VLOOKUP($E394,'[1]Organisation Categories'!$G$4:$O$831,4,0)","v":0},{"$f":"VLOOKUP($E394,'[1]Organisation Categories'!$G$4:$O$831,5,0)","v":0},{"$f":"VLOOKUP($E394,'[1]Organisation Categories'!$G$4:$O$831,6,0)","v":0},{"$f":"VLOOKUP($E394,'[1]Organisation Categories'!$G$4:$O$831,7,0)","v":0},0,0,0,0,0,0,0,0,0]
["QYG","RBN","MERSEY AND WEST LANCASHIRE TEACHING HOSPITALS NHS TRUST","Rehabilitation & Therapy Services","RBNRehabilitation & Therapy Services",15,1,0,15,0,0,0,0,0,{"$f":"VLOOKUP($E395,'[1]Organisation Categories'!$G$4:$O$831,8,0)","v":15},1,0,{"$f":"VLOOKUP($E395,'[1]Organisation Categories'!$G$4:$O$831,2,0)","v":15},{"$f":"VLOOKUP($E395,'[1]Organisation Categories'!$G$4:$O$831,3,0)","v":0},{"$f":"VLOOKUP($E395,'[1]Organisation Categories'!$G$4:$O$831,4,0)","v":0},{"$f":"VLOOKUP($E395,'[1]Organisation Categories'!$G$4:$O$831,5,0)","v":0},{"$f":"VLOOKUP($E395,'[1]Organisation Categories'!$G$4:$O$831,6,0)","v":0},{"$f":"VLOOKUP($E395,'[1]Organisation Categories'!$G$4:$O$831,7,0)","v":0},0,0,0,0,0,0,0,0,0]
["QYG","RBN","MERSEY AND WEST LANCASHIRE TEACHING HOSPITALS NHS TRUST","Specialist Services","RBNSpecialist Services",6,0.83333333333333337,0.16666666666666666,5,0,0,0,1,0,{"$f":"VLOOKUP($E396,'[1]Organisation Categories'!$G$4:$O$831,8,0)","v":6},0.83333333333333337,0.16666666666666666,{"$f":"VLOOKUP($E396,'[1]Organisation Categories'!$G$4:$O$831,2,0)","v":5},{"$f":"VLOOKUP($E396,'[1]Organisation Categories'!$G$4:$O$831,3,0)","v":0},{"$f":"VLOOKUP($E396,'[1]Organisation Categories'!$G$4:$O$831,4,0)","v":0},{"$f":"VLOOKUP($E396,'[1]Organisation Categories'!$G$4:$O$831,5,0)","v":0},{"$f":"VLOOKUP($E396,'[1]Organisation Categories'!$G$4:$O$831,6,0)","v":1},{"$f":"VLOOKUP($E396,'[1]Organisation Categories'!$G$4:$O$831,7,0)","v":0},0,0,0,0,0,0,0,0,0]
["QYG","RW4","MERSEY CARE NHS FOUNDATION TRUST","Children & Family Services","RW4Children & Family Services",942,0.9713375796178344,3.1847133757961785E-3,753,162,14,2,1,10,{"$f":"VLOOKUP($E397,'[1]Organisation Categories'!$G$4:$O$831,8,0)","v":942},0.9713375796178344,3.1847133757961785E-3,{"$f":"VLOOKUP($E397,'[1]Organisation Categories'!$G$4:$O$831,2,0)","v":753},{"$f":"VLOOKUP($E397,'[1]Organisation Categories'!$G$4:$O$831,3,0)","v":162},{"$f":"VLOOKUP($E397,'[1]Organisation Categories'!$G$4:$O$831,4,0)","v":14},{"$f":"VLOOKUP($E397,'[1]Organisation Categories'!$G$4:$O$831,5,0)","v":2},{"$f":"VLOOKUP($E397,'[1]Organisation Categories'!$G$4:$O$831,6,0)","v":1},{"$f":"VLOOKUP($E397,'[1]Organisation Categories'!$G$4:$O$831,7,0)","v":10},0,0,0,0,0,0,0,0,0]
["QYG","RW4","MERSEY CARE NHS FOUNDATION TRUST","Community Healthcare Other","RW4Community Healthcare Other",160,0.98750000000000004,1.2500000000000001E-2,150,8,0,1,1,0,{"$f":"VLOOKUP($E398,'[1]Organisation Categories'!$G$4:$O$831,8,0)","v":160},0.98750000000000004,1.2500000000000001E-2,{"$f":"VLOOKUP($E398,'[1]Organisation Categories'!$G$4:$O$831,2,0)","v":150},{"$f":"VLOOKUP($E398,'[1]Organisation Categories'!$G$4:$O$831,3,0)","v":8},{"$f":"VLOOKUP($E398,'[1]Organisation Categories'!$G$4:$O$831,4,0)","v":0},{"$f":"VLOOKUP($E398,'[1]Organisation Categories'!$G$4:$O$831,5,0)","v":1},{"$f":"VLOOKUP($E398,'[1]Organisation Categories'!$G$4:$O$831,6,0)","v":1},{"$f":"VLOOKUP($E398,'[1]Organisation Categories'!$G$4:$O$831,7,0)","v":0},0,0,0,0,0,0,0,0,0]
["QYG","RW4","MERSEY CARE NHS FOUNDATION TRUST","Community Nursing Services","RW4Community Nursing Services",446,0.99551569506726456,2.242152466367713E-3,421,23,1,0,1,0,{"$f":"VLOOKUP($E399,'[1]Organisation Categories'!$G$4:$O$831,8,0)","v":446},0.99551569506726456,2.242152466367713E-3,{"$f":"VLOOKUP($E399,'[1]Organisation Categories'!$G$4:$O$831,2,0)","v":421},{"$f":"VLOOKUP($E399,'[1]Organisation Categories'!$G$4:$O$831,3,0)","v":23},{"$f":"VLOOKUP($E399,'[1]Organisation Categories'!$G$4:$O$831,4,0)","v":1},{"$f":"VLOOKUP($E399,'[1]Organisation Categories'!$G$4:$O$831,5,0)","v":0},{"$f":"VLOOKUP($E399,'[1]Organisation Categories'!$G$4:$O$831,6,0)","v":1},{"$f":"VLOOKUP($E399,'[1]Organisation Categories'!$G$4:$O$831,7,0)","v":0},0,0,0,0,0,0,0,0,0]
["QYG","RW4","MERSEY CARE NHS FOUNDATION TRUST","Rehabilitation & Therapy Services","RW4Rehabilitation & Therapy Services",246,0.97967479674796742,2.032520325203252E-2,232,9,0,2,3,0,{"$f":"VLOOKUP($E400,'[1]Organisation Categories'!$G$4:$O$831,8,0)","v":246},0.97967479674796742,2.032520325203252E-2,{"$f":"VLOOKUP($E400,'[1]Organisation Categories'!$G$4:$O$831,2,0)","v":232},{"$f":"VLOOKUP($E400,'[1]Organisation Categories'!$G$4:$O$831,3,0)","v":9},{"$f":"VLOOKUP($E400,'[1]Organisation Categories'!$G$4:$O$831,4,0)","v":0},{"$f":"VLOOKUP($E400,'[1]Organisation Categories'!$G$4:$O$831,5,0)","v":2},{"$f":"VLOOKUP($E400,'[1]Organisation Categories'!$G$4:$O$831,6,0)","v":3},{"$f":"VLOOKUP($E400,'[1]Organisation Categories'!$G$4:$O$831,7,0)","v":0},0,0,0,0,0,0,0,0,0]
["QYG","RBT","MID CHESHIRE HOSPITALS NHS FOUNDATION TRUST","Children & Family Services","RBTChildren & Family Services",20,0.85,0.1,17,0,1,1,1,0,{"$f":"VLOOKUP($E401,'[1]Organisation Categories'!$G$4:$O$831,8,0)","v":20},0.85,0.1,{"$f":"VLOOKUP($E401,'[1]Organisation Categories'!$G$4:$O$831,2,0)","v":17},{"$f":"VLOOKUP($E401,'[1]Organisation Categories'!$G$4:$O$831,3,0)","v":0},{"$f":"VLOOKUP($E401,'[1]Organisation Categories'!$G$4:$O$831,4,0)","v":1},{"$f":"VLOOKUP($E401,'[1]Organisation Categories'!$G$4:$O$831,5,0)","v":1},{"$f":"VLOOKUP($E401,'[1]Organisation Categories'!$G$4:$O$831,6,0)","v":1},{"$f":"VLOOKUP($E401,'[1]Organisation Categories'!$G$4:$O$831,7,0)","v":0},0,0,0,0,0,0,0,0,0]
["QYG","RBT","MID CHESHIRE HOSPITALS NHS FOUNDATION TRUST","Community Healthcare Other","RBTCommunity Healthcare Other",8,0.75,0.25,5,1,0,1,1,0,{"$f":"VLOOKUP($E402,'[1]Organisation Categories'!$G$4:$O$831,8,0)","v":8},0.75,0.25,{"$f":"VLOOKUP($E402,'[1]Organisation Categories'!$G$4:$O$831,2,0)","v":5},{"$f":"VLOOKUP($E402,'[1]Organisation Categories'!$G$4:$O$831,3,0)","v":1},{"$f":"VLOOKUP($E402,'[1]Organisation Categories'!$G$4:$O$831,4,0)","v":0},{"$f":"VLOOKUP($E402,'[1]Organisation Categories'!$G$4:$O$831,5,0)","v":1},{"$f":"VLOOKUP($E402,'[1]Organisation Categories'!$G$4:$O$831,6,0)","v":1},{"$f":"VLOOKUP($E402,'[1]Organisation Categories'!$G$4:$O$831,7,0)","v":0},0,0,0,0,0,0,0,0,0]
["QYG","RBT","MID CHESHIRE HOSPITALS NHS FOUNDATION TRUST","Community Nursing Services","RBTCommunity Nursing Services",123,0.95934959349593496,1.6260162601626018E-2,106,12,2,1,1,1,{"$f":"VLOOKUP($E403,'[1]Organisation Categories'!$G$4:$O$831,8,0)","v":123},0.95934959349593496,1.6260162601626018E-2,{"$f":"VLOOKUP($E403,'[1]Organisation Categories'!$G$4:$O$831,2,0)","v":106},{"$f":"VLOOKUP($E403,'[1]Organisation Categories'!$G$4:$O$831,3,0)","v":12},{"$f":"VLOOKUP($E403,'[1]Organisation Categories'!$G$4:$O$831,4,0)","v":2},{"$f":"VLOOKUP($E403,'[1]Organisation Categories'!$G$4:$O$831,5,0)","v":1},{"$f":"VLOOKUP($E403,'[1]Organisation Categories'!$G$4:$O$831,6,0)","v":1},{"$f":"VLOOKUP($E403,'[1]Organisation Categories'!$G$4:$O$831,7,0)","v":1},0,0,0,0,0,0,0,0,0]
["QYG","RBT","MID CHESHIRE HOSPITALS NHS FOUNDATION TRUST","Rehabilitation & Therapy Services","RBTRehabilitation & Therapy Services",261,0.96551724137931039,1.1494252873563218E-2,236,16,5,1,2,1,{"$f":"VLOOKUP($E404,'[1]Organisation Categories'!$G$4:$O$831,8,0)","v":261},0.96551724137931039,1.1494252873563218E-2,{"$f":"VLOOKUP($E404,'[1]Organisation Categories'!$G$4:$O$831,2,0)","v":236},{"$f":"VLOOKUP($E404,'[1]Organisation Categories'!$G$4:$O$831,3,0)","v":16},{"$f":"VLOOKUP($E404,'[1]Organisation Categories'!$G$4:$O$831,4,0)","v":5},{"$f":"VLOOKUP($E404,'[1]Organisation Categories'!$G$4:$O$831,5,0)","v":1},{"$f":"VLOOKUP($E404,'[1]Organisation Categories'!$G$4:$O$831,6,0)","v":2},{"$f":"VLOOKUP($E404,'[1]Organisation Categories'!$G$4:$O$831,7,0)","v":1},0,0,0,0,0,0,0,0,0]
["QYG","RY7","WIRRAL COMMUNITY HEALTH AND CARE NHS FOUNDATION TRUST","Children & Family Services","RY7Children & Family Services",1,"*","*","*","*","*","*","*","*",{"$f":"VLOOKUP($E405,'[1]Organisation Categories'!$G$4:$O$831,8,0)","v":1},1,0,{"$f":"VLOOKUP($E405,'[1]Organisation Categories'!$G$4:$O$831,2,0)","v":0},{"$f":"VLOOKUP($E405,'[1]Organisation Categories'!$G$4:$O$831,3,0)","v":1},{"$f":"VLOOKUP($E405,'[1]Organisation Categories'!$G$4:$O$831,4,0)","v":0},{"$f":"VLOOKUP($E405,'[1]Organisation Categories'!$G$4:$O$831,5,0)","v":0},{"$f":"VLOOKUP($E405,'[1]Organisation Categories'!$G$4:$O$831,6,0)","v":0},{"$f":"VLOOKUP($E405,'[1]Organisation Categories'!$G$4:$O$831,7,0)","v":0},0,0,0,0,0,0,0,0,0]
["QYG","RY7","WIRRAL COMMUNITY HEALTH AND CARE NHS FOUNDATION TRUST","Community Healthcare Other","RY7Community Healthcare Other",356,0.8398876404494382,9.5505617977528087E-2,246,53,19,17,17,4,{"$f":"VLOOKUP($E406,'[1]Organisation Categories'!$G$4:$O$831,8,0)","v":356},0.8398876404494382,9.5505617977528087E-2,{"$f":"VLOOKUP($E406,'[1]Organisation Categories'!$G$4:$O$831,2,0)","v":246},{"$f":"VLOOKUP($E406,'[1]Organisation Categories'!$G$4:$O$831,3,0)","v":53},{"$f":"VLOOKUP($E406,'[1]Organisation Categories'!$G$4:$O$831,4,0)","v":19},{"$f":"VLOOKUP($E406,'[1]Organisation Categories'!$G$4:$O$831,5,0)","v":17},{"$f":"VLOOKUP($E406,'[1]Organisation Categories'!$G$4:$O$831,6,0)","v":17},{"$f":"VLOOKUP($E406,'[1]Organisation Categories'!$G$4:$O$831,7,0)","v":4},0,0,0,0,0,0,0,0,0]
["QYG","RY7","WIRRAL COMMUNITY HEALTH AND CARE NHS FOUNDATION TRUST","Community Inpatient Services","RY7Community Inpatient Services",30,0.96666666666666667,0,21,8,1,0,0,0,{"$f":"VLOOKUP($E407,'[1]Organisation Categories'!$G$4:$O$831,8,0)","v":30},0.96666666666666667,0,{"$f":"VLOOKUP($E407,'[1]Organisation Categories'!$G$4:$O$831,2,0)","v":21},{"$f":"VLOOKUP($E407,'[1]Organisation Categories'!$G$4:$O$831,3,0)","v":8},{"$f":"VLOOKUP($E407,'[1]Organisation Categories'!$G$4:$O$831,4,0)","v":1},{"$f":"VLOOKUP($E407,'[1]Organisation Categories'!$G$4:$O$831,5,0)","v":0},{"$f":"VLOOKUP($E407,'[1]Organisation Categories'!$G$4:$O$831,6,0)","v":0},{"$f":"VLOOKUP($E407,'[1]Organisation Categories'!$G$4:$O$831,7,0)","v":0},0,0,0,0,0,0,0,0,0]
["QYG","RY7","WIRRAL COMMUNITY HEALTH AND CARE NHS FOUNDATION TRUST","Community Nursing Services","RY7Community Nursing Services",10,1,0,"*","*","*","*","*","*",{"$f":"VLOOKUP($E408,'[1]Organisation Categories'!$G$4:$O$831,8,0)","v":10},1,0,{"$f":"VLOOKUP($E408,'[1]Organisation Categories'!$G$4:$O$831,2,0)","v":8},{"$f":"VLOOKUP($E408,'[1]Organisation Categories'!$G$4:$O$831,3,0)","v":2},{"$f":"VLOOKUP($E408,'[1]Organisation Categories'!$G$4:$O$831,4,0)","v":0},{"$f":"VLOOKUP($E408,'[1]Organisation Categories'!$G$4:$O$831,5,0)","v":0},{"$f":"VLOOKUP($E408,'[1]Organisation Categories'!$G$4:$O$831,6,0)","v":0},{"$f":"VLOOKUP($E408,'[1]Organisation Categories'!$G$4:$O$831,7,0)","v":0},0,0,0,0,0,0,0,0,0]
["QYG","RY7","WIRRAL COMMUNITY HEALTH AND CARE NHS FOUNDATION TRUST","Rehabilitation & Therapy Services","RY7Rehabilitation & Therapy Services",13,0.92307692307692313,0,7,5,1,0,0,0,{"$f":"VLOOKUP($E409,'[1]Organisation Categories'!$G$4:$O$831,8,0)","v":13},0.92307692307692313,0,{"$f":"VLOOKUP($E409,'[1]Organisation Categories'!$G$4:$O$831,2,0)","v":7},{"$f":"VLOOKUP($E409,'[1]Organisation Categories'!$G$4:$O$831,3,0)","v":5},{"$f":"VLOOKUP($E409,'[1]Organisation Categories'!$G$4:$O$831,4,0)","v":1},{"$f":"VLOOKUP($E409,'[1]Organisation Categories'!$G$4:$O$831,5,0)","v":0},{"$f":"VLOOKUP($E409,'[1]Organisation Categories'!$G$4:$O$831,6,0)","v":0},{"$f":"VLOOKUP($E409,'[1]Organisation Categories'!$G$4:$O$831,7,0)","v":0},0,0,0,0,0,0,0,0,0]
["QYG","RY7","WIRRAL COMMUNITY HEALTH AND CARE NHS FOUNDATION TRUST","Specialist Services","RY7Specialist Services",54,1,0,48,6,0,0,0,0,{"$f":"VLOOKUP($E410,'[1]Organisation Categories'!$G$4:$O$831,8,0)","v":54},1,0,{"$f":"VLOOKUP($E410,'[1]Organisation Categories'!$G$4:$O$831,2,0)","v":48},{"$f":"VLOOKUP($E410,'[1]Organisation Categories'!$G$4:$O$831,3,0)","v":6},{"$f":"VLOOKUP($E410,'[1]Organisation Categories'!$G$4:$O$831,4,0)","v":0},{"$f":"VLOOKUP($E410,'[1]Organisation Categories'!$G$4:$O$831,5,0)","v":0},{"$f":"VLOOKUP($E410,'[1]Organisation Categories'!$G$4:$O$831,6,0)","v":0},{"$f":"VLOOKUP($E410,'[1]Organisation Categories'!$G$4:$O$831,7,0)","v":0},0,0,0,0,0,0,0,0,0]
["IS1","NEC","ALLIED HEALTH PROFESSIONALS SUFFOLK CIC","Rehabilitation & Therapy Services","NECRehabilitation & Therapy Services",842,0.92874109263657956,3.4441805225653203E-2,666,116,30,16,13,1,{"$f":"VLOOKUP($E411,'[1]Organisation Categories'!$G$4:$O$831,8,0)","v":842},0.92874109263657956,3.4441805225653203E-2,{"$f":"VLOOKUP($E411,'[1]Organisation Categories'!$G$4:$O$831,2,0)","v":666},{"$f":"VLOOKUP($E411,'[1]Organisation Categories'!$G$4:$O$831,3,0)","v":116},{"$f":"VLOOKUP($E411,'[1]Organisation Categories'!$G$4:$O$831,4,0)","v":30},{"$f":"VLOOKUP($E411,'[1]Organisation Categories'!$G$4:$O$831,5,0)","v":16},{"$f":"VLOOKUP($E411,'[1]Organisation Categories'!$G$4:$O$831,6,0)","v":13},{"$f":"VLOOKUP($E411,'[1]Organisation Categories'!$G$4:$O$831,7,0)","v":1},0,0,0,0,0,0,0,0,0]
["IS1","8J094","BADGER LTD","Community Healthcare Other","8J094Community Healthcare Other",554,0.83754512635379064,9.0252707581227443E-2,375,89,0,21,29,40,{"$f":"VLOOKUP($E412,'[1]Organisation Categories'!$G$4:$O$831,8,0)","v":554},0.83754512635379064,9.0252707581227443E-2,{"$f":"VLOOKUP($E412,'[1]Organisation Categories'!$G$4:$O$831,2,0)","v":375},{"$f":"VLOOKUP($E412,'[1]Organisation Categories'!$G$4:$O$831,3,0)","v":89},{"$f":"VLOOKUP($E412,'[1]Organisation Categories'!$G$4:$O$831,4,0)","v":0},{"$f":"VLOOKUP($E412,'[1]Organisation Categories'!$G$4:$O$831,5,0)","v":21},{"$f":"VLOOKUP($E412,'[1]Organisation Categories'!$G$4:$O$831,6,0)","v":29},{"$f":"VLOOKUP($E412,'[1]Organisation Categories'!$G$4:$O$831,7,0)","v":40},0,0,0,0,0,0,0,0,0]
["IS1","DVG","BARDOC","Community Healthcare Other","DVGCommunity Healthcare Other",661,0.85022692889561269,0.11800302571860817,432,130,21,40,38,0,{"$f":"VLOOKUP($E413,'[1]Organisation Categories'!$G$4:$O$831,8,0)","v":661},0.85022692889561269,0.11800302571860817,{"$f":"VLOOKUP($E413,'[1]Organisation Categories'!$G$4:$O$831,2,0)","v":432},{"$f":"VLOOKUP($E413,'[1]Organisation Categories'!$G$4:$O$831,3,0)","v":130},{"$f":"VLOOKUP($E413,'[1]Organisation Categories'!$G$4:$O$831,4,0)","v":21},{"$f":"VLOOKUP($E413,'[1]Organisation Categories'!$G$4:$O$831,5,0)","v":40},{"$f":"VLOOKUP($E413,'[1]Organisation Categories'!$G$4:$O$831,6,0)","v":38},{"$f":"VLOOKUP($E413,'[1]Organisation Categories'!$G$4:$O$831,7,0)","v":0},0,0,0,0,0,0,0,0,0]
["IS1","NQV","BROMLEY HEALTHCARE","Children & Family Services","NQVChildren & Family Services",121,0.97520661157024791,0,107,11,3,0,0,0,{"$f":"VLOOKUP($E414,'[1]Organisation Categories'!$G$4:$O$831,8,0)","v":121},0.97520661157024791,0,{"$f":"VLOOKUP($E414,'[1]Organisation Categories'!$G$4:$O$831,2,0)","v":107},{"$f":"VLOOKUP($E414,'[1]Organisation Categories'!$G$4:$O$831,3,0)","v":11},{"$f":"VLOOKUP($E414,'[1]Organisation Categories'!$G$4:$O$831,4,0)","v":3},{"$f":"VLOOKUP($E414,'[1]Organisation Categories'!$G$4:$O$831,5,0)","v":0},{"$f":"VLOOKUP($E414,'[1]Organisation Categories'!$G$4:$O$831,6,0)","v":0},{"$f":"VLOOKUP($E414,'[1]Organisation Categories'!$G$4:$O$831,7,0)","v":0},0,0,0,0,0,0,0,0,0]
["IS1","NQV","BROMLEY HEALTHCARE","Community Healthcare Other","NQVCommunity Healthcare Other",52,0.90384615384615385,1.9230769230769232E-2,38,9,4,0,1,0,{"$f":"VLOOKUP($E415,'[1]Organisation Categories'!$G$4:$O$831,8,0)","v":52},0.90384615384615385,1.9230769230769232E-2,{"$f":"VLOOKUP($E415,'[1]Organisation Categories'!$G$4:$O$831,2,0)","v":38},{"$f":"VLOOKUP($E415,'[1]Organisation Categories'!$G$4:$O$831,3,0)","v":9},{"$f":"VLOOKUP($E415,'[1]Organisation Categories'!$G$4:$O$831,4,0)","v":4},{"$f":"VLOOKUP($E415,'[1]Organisation Categories'!$G$4:$O$831,5,0)","v":0},{"$f":"VLOOKUP($E415,'[1]Organisation Categories'!$G$4:$O$831,6,0)","v":1},{"$f":"VLOOKUP($E415,'[1]Organisation Categories'!$G$4:$O$831,7,0)","v":0},0,0,0,0,0,0,0,0,0]
["IS1","NQV","BROMLEY HEALTHCARE","Community Inpatient Services","NQVCommunity Inpatient Services",17,1,0,16,1,0,0,0,0,{"$f":"VLOOKUP($E416,'[1]Organisation Categories'!$G$4:$O$831,8,0)","v":17},1,0,{"$f":"VLOOKUP($E416,'[1]Organisation Categories'!$G$4:$O$831,2,0)","v":16},{"$f":"VLOOKUP($E416,'[1]Organisation Categories'!$G$4:$O$831,3,0)","v":1},{"$f":"VLOOKUP($E416,'[1]Organisation Categories'!$G$4:$O$831,4,0)","v":0},{"$f":"VLOOKUP($E416,'[1]Organisation Categories'!$G$4:$O$831,5,0)","v":0},{"$f":"VLOOKUP($E416,'[1]Organisation Categories'!$G$4:$O$831,6,0)","v":0},{"$f":"VLOOKUP($E416,'[1]Organisation Categories'!$G$4:$O$831,7,0)","v":0},0,0,0,0,0,0,0,0,0]
["IS1","NQV","BROMLEY HEALTHCARE","Community Nursing Services","NQVCommunity Nursing Services",15,1,0,15,0,0,0,0,0,{"$f":"VLOOKUP($E417,'[1]Organisation Categories'!$G$4:$O$831,8,0)","v":15},1,0,{"$f":"VLOOKUP($E417,'[1]Organisation Categories'!$G$4:$O$831,2,0)","v":15},{"$f":"VLOOKUP($E417,'[1]Organisation Categories'!$G$4:$O$831,3,0)","v":0},{"$f":"VLOOKUP($E417,'[1]Organisation Categories'!$G$4:$O$831,4,0)","v":0},{"$f":"VLOOKUP($E417,'[1]Organisation Categories'!$G$4:$O$831,5,0)","v":0},{"$f":"VLOOKUP($E417,'[1]Organisation Categories'!$G$4:$O$831,6,0)","v":0},{"$f":"VLOOKUP($E417,'[1]Organisation Categories'!$G$4:$O$831,7,0)","v":0},0,0,0,0,0,0,0,0,0]
["IS1","NQV","BROMLEY HEALTHCARE","Rehabilitation & Therapy Services","NQVRehabilitation & Therapy Services",88,0.95454545454545459,1.1363636363636364E-2,82,2,2,0,1,1,{"$f":"VLOOKUP($E418,'[1]Organisation Categories'!$G$4:$O$831,8,0)","v":88},0.95454545454545459,1.1363636363636364E-2,{"$f":"VLOOKUP($E418,'[1]Organisation Categories'!$G$4:$O$831,2,0)","v":82},{"$f":"VLOOKUP($E418,'[1]Organisation Categories'!$G$4:$O$831,3,0)","v":2},{"$f":"VLOOKUP($E418,'[1]Organisation Categories'!$G$4:$O$831,4,0)","v":2},{"$f":"VLOOKUP($E418,'[1]Organisation Categories'!$G$4:$O$831,5,0)","v":0},{"$f":"VLOOKUP($E418,'[1]Organisation Categories'!$G$4:$O$831,6,0)","v":1},{"$f":"VLOOKUP($E418,'[1]Organisation Categories'!$G$4:$O$831,7,0)","v":1},0,0,0,0,0,0,0,0,0]
["IS1","NQV","BROMLEY HEALTHCARE","Specialist Services","NQVSpecialist Services",90,0.9555555555555556,1.1111111111111112E-2,76,10,3,1,0,0,{"$f":"VLOOKUP($E419,'[1]Organisation Categories'!$G$4:$O$831,8,0)","v":90},0.9555555555555556,1.1111111111111112E-2,{"$f":"VLOOKUP($E419,'[1]Organisation Categories'!$G$4:$O$831,2,0)","v":76},{"$f":"VLOOKUP($E419,'[1]Organisation Categories'!$G$4:$O$831,3,0)","v":10},{"$f":"VLOOKUP($E419,'[1]Organisation Categories'!$G$4:$O$831,4,0)","v":3},{"$f":"VLOOKUP($E419,'[1]Organisation Categories'!$G$4:$O$831,5,0)","v":1},{"$f":"VLOOKUP($E419,'[1]Organisation Categories'!$G$4:$O$831,6,0)","v":0},{"$f":"VLOOKUP($E419,'[1]Organisation Categories'!$G$4:$O$831,7,0)","v":0},0,0,0,0,0,0,0,0,0]
["IS1","NL3","CARE PLUS GROUP","Community Healthcare Other","NL3Community Healthcare Other",15,1,0,"*","*","*","*","*","*",{"$f":"VLOOKUP($E420,'[1]Organisation Categories'!$G$4:$O$831,8,0)","v":15},1,0,{"$f":"VLOOKUP($E420,'[1]Organisation Categories'!$G$4:$O$831,2,0)","v":8},{"$f":"VLOOKUP($E420,'[1]Organisation Categories'!$G$4:$O$831,3,0)","v":7},{"$f":"VLOOKUP($E420,'[1]Organisation Categories'!$G$4:$O$831,4,0)","v":0},{"$f":"VLOOKUP($E420,'[1]Organisation Categories'!$G$4:$O$831,5,0)","v":0},{"$f":"VLOOKUP($E420,'[1]Organisation Categories'!$G$4:$O$831,6,0)","v":0},{"$f":"VLOOKUP($E420,'[1]Organisation Categories'!$G$4:$O$831,7,0)","v":0},0,0,0,0,0,0,0,0,0]
["IS1","NL3","CARE PLUS GROUP","Community Nursing Services","NL3Community Nursing Services",4,"*","*","*","*","*","*","*","*",{"$f":"VLOOKUP($E421,'[1]Organisation Categories'!$G$4:$O$831,8,0)","v":4},1,0,{"$f":"VLOOKUP($E421,'[1]Organisation Categories'!$G$4:$O$831,2,0)","v":4},{"$f":"VLOOKUP($E421,'[1]Organisation Categories'!$G$4:$O$831,3,0)","v":0},{"$f":"VLOOKUP($E421,'[1]Organisation Categories'!$G$4:$O$831,4,0)","v":0},{"$f":"VLOOKUP($E421,'[1]Organisation Categories'!$G$4:$O$831,5,0)","v":0},{"$f":"VLOOKUP($E421,'[1]Organisation Categories'!$G$4:$O$831,6,0)","v":0},{"$f":"VLOOKUP($E421,'[1]Organisation Categories'!$G$4:$O$831,7,0)","v":0},0,0,0,0,0,0,0,0,0]
["IS1","NL3","CARE PLUS GROUP","Rehabilitation & Therapy Services","NL3Rehabilitation & Therapy Services",87,1,0,80,7,0,0,0,0,{"$f":"VLOOKUP($E422,'[1]Organisation Categories'!$G$4:$O$831,8,0)","v":87},1,0,{"$f":"VLOOKUP($E422,'[1]Organisation Categories'!$G$4:$O$831,2,0)","v":80},{"$f":"VLOOKUP($E422,'[1]Organisation Categories'!$G$4:$O$831,3,0)","v":7},{"$f":"VLOOKUP($E422,'[1]Organisation Categories'!$G$4:$O$831,4,0)","v":0},{"$f":"VLOOKUP($E422,'[1]Organisation Categories'!$G$4:$O$831,5,0)","v":0},{"$f":"VLOOKUP($E422,'[1]Organisation Categories'!$G$4:$O$831,6,0)","v":0},{"$f":"VLOOKUP($E422,'[1]Organisation Categories'!$G$4:$O$831,7,0)","v":0},0,0,0,0,0,0,0,0,0]
["IS1","NL3","CARE PLUS GROUP","Specialist Services","NL3Specialist Services",65,1,0,65,0,0,0,0,0,{"$f":"VLOOKUP($E423,'[1]Organisation Categories'!$G$4:$O$831,8,0)","v":65},1,0,{"$f":"VLOOKUP($E423,'[1]Organisation Categories'!$G$4:$O$831,2,0)","v":65},{"$f":"VLOOKUP($E423,'[1]Organisation Categories'!$G$4:$O$831,3,0)","v":0},{"$f":"VLOOKUP($E423,'[1]Organisation Categories'!$G$4:$O$831,4,0)","v":0},{"$f":"VLOOKUP($E423,'[1]Organisation Categories'!$G$4:$O$831,5,0)","v":0},{"$f":"VLOOKUP($E423,'[1]Organisation Categories'!$G$4:$O$831,6,0)","v":0},{"$f":"VLOOKUP($E423,'[1]Organisation Categories'!$G$4:$O$831,7,0)","v":0},0,0,0,0,0,0,0,0,0]
["IS1","NNF","CITY HEALTH CARE PARTNERSHIP CIC","Children & Family Services","NNFChildren & Family Services",87,0.97701149425287359,0,81,4,2,0,0,0,{"$f":"VLOOKUP($E424,'[1]Organisation Categories'!$G$4:$O$831,8,0)","v":87},0.97701149425287359,0,{"$f":"VLOOKUP($E424,'[1]Organisation Categories'!$G$4:$O$831,2,0)","v":81},{"$f":"VLOOKUP($E424,'[1]Organisation Categories'!$G$4:$O$831,3,0)","v":4},{"$f":"VLOOKUP($E424,'[1]Organisation Categories'!$G$4:$O$831,4,0)","v":2},{"$f":"VLOOKUP($E424,'[1]Organisation Categories'!$G$4:$O$831,5,0)","v":0},{"$f":"VLOOKUP($E424,'[1]Organisation Categories'!$G$4:$O$831,6,0)","v":0},{"$f":"VLOOKUP($E424,'[1]Organisation Categories'!$G$4:$O$831,7,0)","v":0},0,0,0,0,0,0,0,0,0]
["IS1","NNF","CITY HEALTH CARE PARTNERSHIP CIC","Community Healthcare Other","NNFCommunity Healthcare Other",158,0.93670886075949367,6.3291139240506333E-2,136,12,0,3,7,0,{"$f":"VLOOKUP($E425,'[1]Organisation Categories'!$G$4:$O$831,8,0)","v":158},0.93670886075949367,6.3291139240506333E-2,{"$f":"VLOOKUP($E425,'[1]Organisation Categories'!$G$4:$O$831,2,0)","v":136},{"$f":"VLOOKUP($E425,'[1]Organisation Categories'!$G$4:$O$831,3,0)","v":12},{"$f":"VLOOKUP($E425,'[1]Organisation Categories'!$G$4:$O$831,4,0)","v":0},{"$f":"VLOOKUP($E425,'[1]Organisation Categories'!$G$4:$O$831,5,0)","v":3},{"$f":"VLOOKUP($E425,'[1]Organisation Categories'!$G$4:$O$831,6,0)","v":7},{"$f":"VLOOKUP($E425,'[1]Organisation Categories'!$G$4:$O$831,7,0)","v":0},0,0,0,0,0,0,0,0,0]
["IS1","NNF","CITY HEALTH CARE PARTNERSHIP CIC","Community Inpatient Services","NNFCommunity Inpatient Services",28,0.9642857142857143,0,22,5,1,0,0,0,{"$f":"VLOOKUP($E426,'[1]Organisation Categories'!$G$4:$O$831,8,0)","v":28},0.9642857142857143,0,{"$f":"VLOOKUP($E426,'[1]Organisation Categories'!$G$4:$O$831,2,0)","v":22},{"$f":"VLOOKUP($E426,'[1]Organisation Categories'!$G$4:$O$831,3,0)","v":5},{"$f":"VLOOKUP($E426,'[1]Organisation Categories'!$G$4:$O$831,4,0)","v":1},{"$f":"VLOOKUP($E426,'[1]Organisation Categories'!$G$4:$O$831,5,0)","v":0},{"$f":"VLOOKUP($E426,'[1]Organisation Categories'!$G$4:$O$831,6,0)","v":0},{"$f":"VLOOKUP($E426,'[1]Organisation Categories'!$G$4:$O$831,7,0)","v":0},0,0,0,0,0,0,0,0,0]
["IS1","NNF","CITY HEALTH CARE PARTNERSHIP CIC","Community Nursing Services","NNFCommunity Nursing Services",397,0.99244332493702769,0,366,28,1,0,0,2,{"$f":"VLOOKUP($E427,'[1]Organisation Categories'!$G$4:$O$831,8,0)","v":397},0.99244332493702769,0,{"$f":"VLOOKUP($E427,'[1]Organisation Categories'!$G$4:$O$831,2,0)","v":366},{"$f":"VLOOKUP($E427,'[1]Organisation Categories'!$G$4:$O$831,3,0)","v":28},{"$f":"VLOOKUP($E427,'[1]Organisation Categories'!$G$4:$O$831,4,0)","v":1},{"$f":"VLOOKUP($E427,'[1]Organisation Categories'!$G$4:$O$831,5,0)","v":0},{"$f":"VLOOKUP($E427,'[1]Organisation Categories'!$G$4:$O$831,6,0)","v":0},{"$f":"VLOOKUP($E427,'[1]Organisation Categories'!$G$4:$O$831,7,0)","v":2},0,0,0,0,0,0,0,0,0]
["IS1","NNF","CITY HEALTH CARE PARTNERSHIP CIC","Rehabilitation & Therapy Services","NNFRehabilitation & Therapy Services",646,0.96749226006191946,2.0123839009287926E-2,568,57,6,6,7,2,{"$f":"VLOOKUP($E428,'[1]Organisation Categories'!$G$4:$O$831,8,0)","v":646},0.96749226006191946,2.0123839009287926E-2,{"$f":"VLOOKUP($E428,'[1]Organisation Categories'!$G$4:$O$831,2,0)","v":568},{"$f":"VLOOKUP($E428,'[1]Organisation Categories'!$G$4:$O$831,3,0)","v":57},{"$f":"VLOOKUP($E428,'[1]Organisation Categories'!$G$4:$O$831,4,0)","v":6},{"$f":"VLOOKUP($E428,'[1]Organisation Categories'!$G$4:$O$831,5,0)","v":6},{"$f":"VLOOKUP($E428,'[1]Organisation Categories'!$G$4:$O$831,6,0)","v":7},{"$f":"VLOOKUP($E428,'[1]Organisation Categories'!$G$4:$O$831,7,0)","v":2},0,0,0,0,0,0,0,0,0]
["IS1","NNF","CITY HEALTH CARE PARTNERSHIP CIC","Specialist Services","NNFSpecialist Services",1347,0.95694135115070522,1.7074981440237565E-2,1147,142,25,9,14,10,{"$f":"VLOOKUP($E429,'[1]Organisation Categories'!$G$4:$O$831,8,0)","v":1347},0.95694135115070522,1.7074981440237565E-2,{"$f":"VLOOKUP($E429,'[1]Organisation Categories'!$G$4:$O$831,2,0)","v":1147},{"$f":"VLOOKUP($E429,'[1]Organisation Categories'!$G$4:$O$831,3,0)","v":142},{"$f":"VLOOKUP($E429,'[1]Organisation Categories'!$G$4:$O$831,4,0)","v":25},{"$f":"VLOOKUP($E429,'[1]Organisation Categories'!$G$4:$O$831,5,0)","v":9},{"$f":"VLOOKUP($E429,'[1]Organisation Categories'!$G$4:$O$831,6,0)","v":14},{"$f":"VLOOKUP($E429,'[1]Organisation Categories'!$G$4:$O$831,7,0)","v":10},0,0,0,0,0,0,0,0,0]
["IS1","NMG","CONNECT HEALTH LIMITED","Community Healthcare Other","NMGCommunity Healthcare Other",2649,0.84862212155530392,7.6632691581728959E-2,1829,419,155,72,131,43,{"$f":"VLOOKUP($E430,'[1]Organisation Categories'!$G$4:$O$831,8,0)","v":2649},0.84862212155530392,7.6632691581728959E-2,{"$f":"VLOOKUP($E430,'[1]Organisation Categories'!$G$4:$O$831,2,0)","v":1829},{"$f":"VLOOKUP($E430,'[1]Organisation Categories'!$G$4:$O$831,3,0)","v":419},{"$f":"VLOOKUP($E430,'[1]Organisation Categories'!$G$4:$O$831,4,0)","v":155},{"$f":"VLOOKUP($E430,'[1]Organisation Categories'!$G$4:$O$831,5,0)","v":72},{"$f":"VLOOKUP($E430,'[1]Organisation Categories'!$G$4:$O$831,6,0)","v":131},{"$f":"VLOOKUP($E430,'[1]Organisation Categories'!$G$4:$O$831,7,0)","v":43},0,0,0,0,0,0,0,0,0]
["IS1","NY6","CONNECT HEALTH PAIN SERVICES","Community Healthcare Other","NY6Community Healthcare Other",108,0.87037037037037035,7.407407407407407E-2,76,18,4,5,3,2,{"$f":"VLOOKUP($E431,'[1]Organisation Categories'!$G$4:$O$831,8,0)","v":108},0.87037037037037035,7.407407407407407E-2,{"$f":"VLOOKUP($E431,'[1]Organisation Categories'!$G$4:$O$831,2,0)","v":76},{"$f":"VLOOKUP($E431,'[1]Organisation Categories'!$G$4:$O$831,3,0)","v":18},{"$f":"VLOOKUP($E431,'[1]Organisation Categories'!$G$4:$O$831,4,0)","v":4},{"$f":"VLOOKUP($E431,'[1]Organisation Categories'!$G$4:$O$831,5,0)","v":5},{"$f":"VLOOKUP($E431,'[1]Organisation Categories'!$G$4:$O$831,6,0)","v":3},{"$f":"VLOOKUP($E431,'[1]Organisation Categories'!$G$4:$O$831,7,0)","v":2},0,0,0,0,0,0,0,0,0]
["IS1","DFY01","COTSWOLDS SURGICAL PARTNERS","Community Healthcare Other","DFY01Community Healthcare Other",85,1,0,85,0,0,0,0,0,{"$f":"VLOOKUP($E432,'[1]Organisation Categories'!$G$4:$O$831,8,0)","v":85},1,0,{"$f":"VLOOKUP($E432,'[1]Organisation Categories'!$G$4:$O$831,2,0)","v":85},{"$f":"VLOOKUP($E432,'[1]Organisation Categories'!$G$4:$O$831,3,0)","v":0},{"$f":"VLOOKUP($E432,'[1]Organisation Categories'!$G$4:$O$831,4,0)","v":0},{"$f":"VLOOKUP($E432,'[1]Organisation Categories'!$G$4:$O$831,5,0)","v":0},{"$f":"VLOOKUP($E432,'[1]Organisation Categories'!$G$4:$O$831,6,0)","v":0},{"$f":"VLOOKUP($E432,'[1]Organisation Categories'!$G$4:$O$831,7,0)","v":0},0,0,0,0,0,0,0,0,0]
["IS1","NTV","CSH SURREY","Community Healthcare Other","NTVCommunity Healthcare Other",24,1,0,"*","*","*","*","*","*",{"$f":"VLOOKUP($E433,'[1]Organisation Categories'!$G$4:$O$831,8,0)","v":24},1,0,{"$f":"VLOOKUP($E433,'[1]Organisation Categories'!$G$4:$O$831,2,0)","v":20},{"$f":"VLOOKUP($E433,'[1]Organisation Categories'!$G$4:$O$831,3,0)","v":4},{"$f":"VLOOKUP($E433,'[1]Organisation Categories'!$G$4:$O$831,4,0)","v":0},{"$f":"VLOOKUP($E433,'[1]Organisation Categories'!$G$4:$O$831,5,0)","v":0},{"$f":"VLOOKUP($E433,'[1]Organisation Categories'!$G$4:$O$831,6,0)","v":0},{"$f":"VLOOKUP($E433,'[1]Organisation Categories'!$G$4:$O$831,7,0)","v":0},0,0,0,0,0,0,0,0,0]
["IS1","NTV","CSH SURREY","Community Inpatient Services","NTVCommunity Inpatient Services",26,1,0,21,5,0,0,0,0,{"$f":"VLOOKUP($E434,'[1]Organisation Categories'!$G$4:$O$831,8,0)","v":26},1,0,{"$f":"VLOOKUP($E434,'[1]Organisation Categories'!$G$4:$O$831,2,0)","v":21},{"$f":"VLOOKUP($E434,'[1]Organisation Categories'!$G$4:$O$831,3,0)","v":5},{"$f":"VLOOKUP($E434,'[1]Organisation Categories'!$G$4:$O$831,4,0)","v":0},{"$f":"VLOOKUP($E434,'[1]Organisation Categories'!$G$4:$O$831,5,0)","v":0},{"$f":"VLOOKUP($E434,'[1]Organisation Categories'!$G$4:$O$831,6,0)","v":0},{"$f":"VLOOKUP($E434,'[1]Organisation Categories'!$G$4:$O$831,7,0)","v":0},0,0,0,0,0,0,0,0,0]
["IS1","NTV","CSH SURREY","Community Nursing Services","NTVCommunity Nursing Services",188,0.79255319148936165,0.14893617021276595,130,19,11,9,19,0,{"$f":"VLOOKUP($E435,'[1]Organisation Categories'!$G$4:$O$831,8,0)","v":188},0.79255319148936165,0.14893617021276595,{"$f":"VLOOKUP($E435,'[1]Organisation Categories'!$G$4:$O$831,2,0)","v":130},{"$f":"VLOOKUP($E435,'[1]Organisation Categories'!$G$4:$O$831,3,0)","v":19},{"$f":"VLOOKUP($E435,'[1]Organisation Categories'!$G$4:$O$831,4,0)","v":11},{"$f":"VLOOKUP($E435,'[1]Organisation Categories'!$G$4:$O$831,5,0)","v":9},{"$f":"VLOOKUP($E435,'[1]Organisation Categories'!$G$4:$O$831,6,0)","v":19},{"$f":"VLOOKUP($E435,'[1]Organisation Categories'!$G$4:$O$831,7,0)","v":0},0,0,0,0,0,0,0,0,0]
["IS1","NTV","CSH SURREY","Rehabilitation & Therapy Services","NTVRehabilitation & Therapy Services",30,0.96666666666666667,3.3333333333333333E-2,28,1,0,0,1,0,{"$f":"VLOOKUP($E436,'[1]Organisation Categories'!$G$4:$O$831,8,0)","v":30},0.96666666666666667,3.3333333333333333E-2,{"$f":"VLOOKUP($E436,'[1]Organisation Categories'!$G$4:$O$831,2,0)","v":28},{"$f":"VLOOKUP($E436,'[1]Organisation Categories'!$G$4:$O$831,3,0)","v":1},{"$f":"VLOOKUP($E436,'[1]Organisation Categories'!$G$4:$O$831,4,0)","v":0},{"$f":"VLOOKUP($E436,'[1]Organisation Categories'!$G$4:$O$831,5,0)","v":0},{"$f":"VLOOKUP($E436,'[1]Organisation Categories'!$G$4:$O$831,6,0)","v":1},{"$f":"VLOOKUP($E436,'[1]Organisation Categories'!$G$4:$O$831,7,0)","v":0},0,0,0,0,0,0,0,0,0]
["IS1","NTV","CSH SURREY","Specialist Services","NTVSpecialist Services",1,"*","*","*","*","*","*","*","*",{"$f":"VLOOKUP($E437,'[1]Organisation Categories'!$G$4:$O$831,8,0)","v":1},1,0,{"$f":"VLOOKUP($E437,'[1]Organisation Categories'!$G$4:$O$831,2,0)","v":1},{"$f":"VLOOKUP($E437,'[1]Organisation Categories'!$G$4:$O$831,3,0)","v":0},{"$f":"VLOOKUP($E437,'[1]Organisation Categories'!$G$4:$O$831,4,0)","v":0},{"$f":"VLOOKUP($E437,'[1]Organisation Categories'!$G$4:$O$831,5,0)","v":0},{"$f":"VLOOKUP($E437,'[1]Organisation Categories'!$G$4:$O$831,6,0)","v":0},{"$f":"VLOOKUP($E437,'[1]Organisation Categories'!$G$4:$O$831,7,0)","v":0},0,0,0,0,0,0,0,0,0]
["IS1","8HE44","DR KERSHAWS HOSPICE","Community Healthcare Other","8HE44Community Healthcare Other",1,"*","*","*","*","*","*","*","*",{"$f":"VLOOKUP($E438,'[1]Organisation Categories'!$G$4:$O$831,8,0)","v":1},1,0,{"$f":"VLOOKUP($E438,'[1]Organisation Categories'!$G$4:$O$831,2,0)","v":1},{"$f":"VLOOKUP($E438,'[1]Organisation Categories'!$G$4:$O$831,3,0)","v":0},{"$f":"VLOOKUP($E438,'[1]Organisation Categories'!$G$4:$O$831,4,0)","v":0},{"$f":"VLOOKUP($E438,'[1]Organisation Categories'!$G$4:$O$831,5,0)","v":0},{"$f":"VLOOKUP($E438,'[1]Organisation Categories'!$G$4:$O$831,6,0)","v":0},{"$f":"VLOOKUP($E438,'[1]Organisation Categories'!$G$4:$O$831,7,0)","v":0},0,0,0,0,0,0,0,0,0]
["IS1","8HE44","DR KERSHAWS HOSPICE","Community Inpatient Services","8HE44Community Inpatient Services",5,1,0,5,0,0,0,0,0,{"$f":"VLOOKUP($E439,'[1]Organisation Categories'!$G$4:$O$831,8,0)","v":5},1,0,{"$f":"VLOOKUP($E439,'[1]Organisation Categories'!$G$4:$O$831,2,0)","v":5},{"$f":"VLOOKUP($E439,'[1]Organisation Categories'!$G$4:$O$831,3,0)","v":0},{"$f":"VLOOKUP($E439,'[1]Organisation Categories'!$G$4:$O$831,4,0)","v":0},{"$f":"VLOOKUP($E439,'[1]Organisation Categories'!$G$4:$O$831,5,0)","v":0},{"$f":"VLOOKUP($E439,'[1]Organisation Categories'!$G$4:$O$831,6,0)","v":0},{"$f":"VLOOKUP($E439,'[1]Organisation Categories'!$G$4:$O$831,7,0)","v":0},0,0,0,0,0,0,0,0,0]
["IS1","8HE44","DR KERSHAWS HOSPICE","Community Nursing Services","8HE44Community Nursing Services",4,"*","*","*","*","*","*","*","*",{"$f":"VLOOKUP($E440,'[1]Organisation Categories'!$G$4:$O$831,8,0)","v":4},1,0,{"$f":"VLOOKUP($E440,'[1]Organisation Categories'!$G$4:$O$831,2,0)","v":4},{"$f":"VLOOKUP($E440,'[1]Organisation Categories'!$G$4:$O$831,3,0)","v":0},{"$f":"VLOOKUP($E440,'[1]Organisation Categories'!$G$4:$O$831,4,0)","v":0},{"$f":"VLOOKUP($E440,'[1]Organisation Categories'!$G$4:$O$831,5,0)","v":0},{"$f":"VLOOKUP($E440,'[1]Organisation Categories'!$G$4:$O$831,6,0)","v":0},{"$f":"VLOOKUP($E440,'[1]Organisation Categories'!$G$4:$O$831,7,0)","v":0},0,0,0,0,0,0,0,0,0]
["IS1","NAX","EAST COAST COMMUNITY HEALTHCARE C.I.C","Children & Family Services","NAXChildren & Family Services",9,1,0,8,1,0,0,0,0,{"$f":"VLOOKUP($E441,'[1]Organisation Categories'!$G$4:$O$831,8,0)","v":9},1,0,{"$f":"VLOOKUP($E441,'[1]Organisation Categories'!$G$4:$O$831,2,0)","v":8},{"$f":"VLOOKUP($E441,'[1]Organisation Categories'!$G$4:$O$831,3,0)","v":1},{"$f":"VLOOKUP($E441,'[1]Organisation Categories'!$G$4:$O$831,4,0)","v":0},{"$f":"VLOOKUP($E441,'[1]Organisation Categories'!$G$4:$O$831,5,0)","v":0},{"$f":"VLOOKUP($E441,'[1]Organisation Categories'!$G$4:$O$831,6,0)","v":0},{"$f":"VLOOKUP($E441,'[1]Organisation Categories'!$G$4:$O$831,7,0)","v":0},0,0,0,0,0,0,0,0,0]
["IS1","NAX","EAST COAST COMMUNITY HEALTHCARE C.I.C","Community Healthcare Other","NAXCommunity Healthcare Other",19,0.89473684210526316,0,14,3,1,0,0,1,{"$f":"VLOOKUP($E442,'[1]Organisation Categories'!$G$4:$O$831,8,0)","v":19},0.89473684210526316,0,{"$f":"VLOOKUP($E442,'[1]Organisation Categories'!$G$4:$O$831,2,0)","v":14},{"$f":"VLOOKUP($E442,'[1]Organisation Categories'!$G$4:$O$831,3,0)","v":3},{"$f":"VLOOKUP($E442,'[1]Organisation Categories'!$G$4:$O$831,4,0)","v":1},{"$f":"VLOOKUP($E442,'[1]Organisation Categories'!$G$4:$O$831,5,0)","v":0},{"$f":"VLOOKUP($E442,'[1]Organisation Categories'!$G$4:$O$831,6,0)","v":0},{"$f":"VLOOKUP($E442,'[1]Organisation Categories'!$G$4:$O$831,7,0)","v":1},0,0,0,0,0,0,0,0,0]
["IS1","NAX","EAST COAST COMMUNITY HEALTHCARE C.I.C","Community Inpatient Services","NAXCommunity Inpatient Services",9,1,0,6,3,0,0,0,0,{"$f":"VLOOKUP($E443,'[1]Organisation Categories'!$G$4:$O$831,8,0)","v":9},1,0,{"$f":"VLOOKUP($E443,'[1]Organisation Categories'!$G$4:$O$831,2,0)","v":6},{"$f":"VLOOKUP($E443,'[1]Organisation Categories'!$G$4:$O$831,3,0)","v":3},{"$f":"VLOOKUP($E443,'[1]Organisation Categories'!$G$4:$O$831,4,0)","v":0},{"$f":"VLOOKUP($E443,'[1]Organisation Categories'!$G$4:$O$831,5,0)","v":0},{"$f":"VLOOKUP($E443,'[1]Organisation Categories'!$G$4:$O$831,6,0)","v":0},{"$f":"VLOOKUP($E443,'[1]Organisation Categories'!$G$4:$O$831,7,0)","v":0},0,0,0,0,0,0,0,0,0]
["IS1","NAX","EAST COAST COMMUNITY HEALTHCARE C.I.C","Community Nursing Services","NAXCommunity Nursing Services",23,0.91304347826086951,0,19,2,2,0,0,0,{"$f":"VLOOKUP($E444,'[1]Organisation Categories'!$G$4:$O$831,8,0)","v":23},0.91304347826086951,0,{"$f":"VLOOKUP($E444,'[1]Organisation Categories'!$G$4:$O$831,2,0)","v":19},{"$f":"VLOOKUP($E444,'[1]Organisation Categories'!$G$4:$O$831,3,0)","v":2},{"$f":"VLOOKUP($E444,'[1]Organisation Categories'!$G$4:$O$831,4,0)","v":2},{"$f":"VLOOKUP($E444,'[1]Organisation Categories'!$G$4:$O$831,5,0)","v":0},{"$f":"VLOOKUP($E444,'[1]Organisation Categories'!$G$4:$O$831,6,0)","v":0},{"$f":"VLOOKUP($E444,'[1]Organisation Categories'!$G$4:$O$831,7,0)","v":0},0,0,0,0,0,0,0,0,0]
["IS1","NAX","EAST COAST COMMUNITY HEALTHCARE C.I.C","Rehabilitation & Therapy Services","NAXRehabilitation & Therapy Services",103,0.90291262135922334,2.9126213592233011E-2,72,21,7,1,2,0,{"$f":"VLOOKUP($E445,'[1]Organisation Categories'!$G$4:$O$831,8,0)","v":103},0.90291262135922334,2.9126213592233011E-2,{"$f":"VLOOKUP($E445,'[1]Organisation Categories'!$G$4:$O$831,2,0)","v":72},{"$f":"VLOOKUP($E445,'[1]Organisation Categories'!$G$4:$O$831,3,0)","v":21},{"$f":"VLOOKUP($E445,'[1]Organisation Categories'!$G$4:$O$831,4,0)","v":7},{"$f":"VLOOKUP($E445,'[1]Organisation Categories'!$G$4:$O$831,5,0)","v":1},{"$f":"VLOOKUP($E445,'[1]Organisation Categories'!$G$4:$O$831,6,0)","v":2},{"$f":"VLOOKUP($E445,'[1]Organisation Categories'!$G$4:$O$831,7,0)","v":0},0,0,0,0,0,0,0,0,0]
["IS1","NAX","EAST COAST COMMUNITY HEALTHCARE C.I.C","Specialist Services","NAXSpecialist Services",24,1,0,23,1,0,0,0,0,{"$f":"VLOOKUP($E446,'[1]Organisation Categories'!$G$4:$O$831,8,0)","v":24},1,0,{"$f":"VLOOKUP($E446,'[1]Organisation Categories'!$G$4:$O$831,2,0)","v":23},{"$f":"VLOOKUP($E446,'[1]Organisation Categories'!$G$4:$O$831,3,0)","v":1},{"$f":"VLOOKUP($E446,'[1]Organisation Categories'!$G$4:$O$831,4,0)","v":0},{"$f":"VLOOKUP($E446,'[1]Organisation Categories'!$G$4:$O$831,5,0)","v":0},{"$f":"VLOOKUP($E446,'[1]Organisation Categories'!$G$4:$O$831,6,0)","v":0},{"$f":"VLOOKUP($E446,'[1]Organisation Categories'!$G$4:$O$831,7,0)","v":0},0,0,0,0,0,0,0,0,0]
["IS1","DY6","EASTLEIGH SOUTHERN PARISHES NETWORK LTD","Community Healthcare Other","DY6Community Healthcare Other",23,1,0,23,0,0,0,0,0,{"$f":"VLOOKUP($E447,'[1]Organisation Categories'!$G$4:$O$831,8,0)","v":23},1,0,{"$f":"VLOOKUP($E447,'[1]Organisation Categories'!$G$4:$O$831,2,0)","v":23},{"$f":"VLOOKUP($E447,'[1]Organisation Categories'!$G$4:$O$831,3,0)","v":0},{"$f":"VLOOKUP($E447,'[1]Organisation Categories'!$G$4:$O$831,4,0)","v":0},{"$f":"VLOOKUP($E447,'[1]Organisation Categories'!$G$4:$O$831,5,0)","v":0},{"$f":"VLOOKUP($E447,'[1]Organisation Categories'!$G$4:$O$831,6,0)","v":0},{"$f":"VLOOKUP($E447,'[1]Organisation Categories'!$G$4:$O$831,7,0)","v":0},0,0,0,0,0,0,0,0,0]
["IS1","NDJ","FIRST COMMUNITY HEALTH AND CARE CIC","Community Healthcare Other","NDJCommunity Healthcare Other",34,0.97058823529411764,2.9411764705882353E-2,30,3,0,0,1,0,{"$f":"VLOOKUP($E448,'[1]Organisation Categories'!$G$4:$O$831,8,0)","v":34},0.97058823529411764,2.9411764705882353E-2,{"$f":"VLOOKUP($E448,'[1]Organisation Categories'!$G$4:$O$831,2,0)","v":30},{"$f":"VLOOKUP($E448,'[1]Organisation Categories'!$G$4:$O$831,3,0)","v":3},{"$f":"VLOOKUP($E448,'[1]Organisation Categories'!$G$4:$O$831,4,0)","v":0},{"$f":"VLOOKUP($E448,'[1]Organisation Categories'!$G$4:$O$831,5,0)","v":0},{"$f":"VLOOKUP($E448,'[1]Organisation Categories'!$G$4:$O$831,6,0)","v":1},{"$f":"VLOOKUP($E448,'[1]Organisation Categories'!$G$4:$O$831,7,0)","v":0},0,0,0,0,0,0,0,0,0]
["IS1","NDJ","FIRST COMMUNITY HEALTH AND CARE CIC","Community Inpatient Services","NDJCommunity Inpatient Services",1,"*","*","*","*","*","*","*","*",{"$f":"VLOOKUP($E449,'[1]Organisation Categories'!$G$4:$O$831,8,0)","v":1},1,0,{"$f":"VLOOKUP($E449,'[1]Organisation Categories'!$G$4:$O$831,2,0)","v":1},{"$f":"VLOOKUP($E449,'[1]Organisation Categories'!$G$4:$O$831,3,0)","v":0},{"$f":"VLOOKUP($E449,'[1]Organisation Categories'!$G$4:$O$831,4,0)","v":0},{"$f":"VLOOKUP($E449,'[1]Organisation Categories'!$G$4:$O$831,5,0)","v":0},{"$f":"VLOOKUP($E449,'[1]Organisation Categories'!$G$4:$O$831,6,0)","v":0},{"$f":"VLOOKUP($E449,'[1]Organisation Categories'!$G$4:$O$831,7,0)","v":0},0,0,0,0,0,0,0,0,0]
["IS1","NDJ","FIRST COMMUNITY HEALTH AND CARE CIC","Community Nursing Services","NDJCommunity Nursing Services",1,"*","*","*","*","*","*","*","*",{"$f":"VLOOKUP($E450,'[1]Organisation Categories'!$G$4:$O$831,8,0)","v":1},1,0,{"$f":"VLOOKUP($E450,'[1]Organisation Categories'!$G$4:$O$831,2,0)","v":1},{"$f":"VLOOKUP($E450,'[1]Organisation Categories'!$G$4:$O$831,3,0)","v":0},{"$f":"VLOOKUP($E450,'[1]Organisation Categories'!$G$4:$O$831,4,0)","v":0},{"$f":"VLOOKUP($E450,'[1]Organisation Categories'!$G$4:$O$831,5,0)","v":0},{"$f":"VLOOKUP($E450,'[1]Organisation Categories'!$G$4:$O$831,6,0)","v":0},{"$f":"VLOOKUP($E450,'[1]Organisation Categories'!$G$4:$O$831,7,0)","v":0},0,0,0,0,0,0,0,0,0]
["IS1","NDJ","FIRST COMMUNITY HEALTH AND CARE CIC","Rehabilitation & Therapy Services","NDJRehabilitation & Therapy Services",117,0.97435897435897434,1.7094017094017096E-2,107,7,1,1,1,0,{"$f":"VLOOKUP($E451,'[1]Organisation Categories'!$G$4:$O$831,8,0)","v":117},0.97435897435897434,1.7094017094017096E-2,{"$f":"VLOOKUP($E451,'[1]Organisation Categories'!$G$4:$O$831,2,0)","v":107},{"$f":"VLOOKUP($E451,'[1]Organisation Categories'!$G$4:$O$831,3,0)","v":7},{"$f":"VLOOKUP($E451,'[1]Organisation Categories'!$G$4:$O$831,4,0)","v":1},{"$f":"VLOOKUP($E451,'[1]Organisation Categories'!$G$4:$O$831,5,0)","v":1},{"$f":"VLOOKUP($E451,'[1]Organisation Categories'!$G$4:$O$831,6,0)","v":1},{"$f":"VLOOKUP($E451,'[1]Organisation Categories'!$G$4:$O$831,7,0)","v":0},0,0,0,0,0,0,0,0,0]
["IS1","NDJ","FIRST COMMUNITY HEALTH AND CARE CIC","Specialist Services","NDJSpecialist Services",31,1,0,30,1,0,0,0,0,{"$f":"VLOOKUP($E452,'[1]Organisation Categories'!$G$4:$O$831,8,0)","v":31},1,0,{"$f":"VLOOKUP($E452,'[1]Organisation Categories'!$G$4:$O$831,2,0)","v":30},{"$f":"VLOOKUP($E452,'[1]Organisation Categories'!$G$4:$O$831,3,0)","v":1},{"$f":"VLOOKUP($E452,'[1]Organisation Categories'!$G$4:$O$831,4,0)","v":0},{"$f":"VLOOKUP($E452,'[1]Organisation Categories'!$G$4:$O$831,5,0)","v":0},{"$f":"VLOOKUP($E452,'[1]Organisation Categories'!$G$4:$O$831,6,0)","v":0},{"$f":"VLOOKUP($E452,'[1]Organisation Categories'!$G$4:$O$831,7,0)","v":0},0,0,0,0,0,0,0,0,0]
["IS1","NDK","FRESHNEY PELHAM CARE LIMITED","Community Nursing Services","NDKCommunity Nursing Services",31,1,0,29,2,0,0,0,0,{"$f":"VLOOKUP($E453,'[1]Organisation Categories'!$G$4:$O$831,8,0)","v":31},1,0,{"$f":"VLOOKUP($E453,'[1]Organisation Categories'!$G$4:$O$831,2,0)","v":29},{"$f":"VLOOKUP($E453,'[1]Organisation Categories'!$G$4:$O$831,3,0)","v":2},{"$f":"VLOOKUP($E453,'[1]Organisation Categories'!$G$4:$O$831,4,0)","v":0},{"$f":"VLOOKUP($E453,'[1]Organisation Categories'!$G$4:$O$831,5,0)","v":0},{"$f":"VLOOKUP($E453,'[1]Organisation Categories'!$G$4:$O$831,6,0)","v":0},{"$f":"VLOOKUP($E453,'[1]Organisation Categories'!$G$4:$O$831,7,0)","v":0},0,0,0,0,0,0,0,0,0]
["IS1","NWV01","GP CARE UK","Community Healthcare Other","NWV01Community Healthcare Other",450,0.98666666666666669,6.6666666666666671E-3,372,72,3,2,1,0,{"$f":"VLOOKUP($E454,'[1]Organisation Categories'!$G$4:$O$831,8,0)","v":450},0.98666666666666669,6.6666666666666671E-3,{"$f":"VLOOKUP($E454,'[1]Organisation Categories'!$G$4:$O$831,2,0)","v":372},{"$f":"VLOOKUP($E454,'[1]Organisation Categories'!$G$4:$O$831,3,0)","v":72},{"$f":"VLOOKUP($E454,'[1]Organisation Categories'!$G$4:$O$831,4,0)","v":3},{"$f":"VLOOKUP($E454,'[1]Organisation Categories'!$G$4:$O$831,5,0)","v":2},{"$f":"VLOOKUP($E454,'[1]Organisation Categories'!$G$4:$O$831,6,0)","v":1},{"$f":"VLOOKUP($E454,'[1]Organisation Categories'!$G$4:$O$831,7,0)","v":0},0,0,0,0,0,0,0,0,0]
["IS1","NQT","HCRG CARE LTD","Children & Family Services","NQTChildren & Family Services",583,0.94339622641509435,1.0291595197255575E-2,356,194,25,3,3,2,{"$f":"VLOOKUP($E455,'[1]Organisation Categories'!$G$4:$O$831,8,0)","v":583},0.94339622641509435,1.0291595197255575E-2,{"$f":"VLOOKUP($E455,'[1]Organisation Categories'!$G$4:$O$831,2,0)","v":356},{"$f":"VLOOKUP($E455,'[1]Organisation Categories'!$G$4:$O$831,3,0)","v":194},{"$f":"VLOOKUP($E455,'[1]Organisation Categories'!$G$4:$O$831,4,0)","v":25},{"$f":"VLOOKUP($E455,'[1]Organisation Categories'!$G$4:$O$831,5,0)","v":3},{"$f":"VLOOKUP($E455,'[1]Organisation Categories'!$G$4:$O$831,6,0)","v":3},{"$f":"VLOOKUP($E455,'[1]Organisation Categories'!$G$4:$O$831,7,0)","v":2},0,0,0,0,0,0,0,0,0]
["IS1","NQT","HCRG CARE LTD","Community Inpatient Services","NQTCommunity Inpatient Services",1,"*","*","*","*","*","*","*","*",{"$f":"VLOOKUP($E456,'[1]Organisation Categories'!$G$4:$O$831,8,0)","v":1},1,0,{"$f":"VLOOKUP($E456,'[1]Organisation Categories'!$G$4:$O$831,2,0)","v":1},{"$f":"VLOOKUP($E456,'[1]Organisation Categories'!$G$4:$O$831,3,0)","v":0},{"$f":"VLOOKUP($E456,'[1]Organisation Categories'!$G$4:$O$831,4,0)","v":0},{"$f":"VLOOKUP($E456,'[1]Organisation Categories'!$G$4:$O$831,5,0)","v":0},{"$f":"VLOOKUP($E456,'[1]Organisation Categories'!$G$4:$O$831,6,0)","v":0},{"$f":"VLOOKUP($E456,'[1]Organisation Categories'!$G$4:$O$831,7,0)","v":0},0,0,0,0,0,0,0,0,0]
["IS1","NQT","HCRG CARE LTD","Community Nursing Services",{"$f":"B457&D457","v":"NQTCommunity Nursing Services"},1108,0.92599277978339345,3.8808664259927801E-2,888,138,32,27,16,7,{"$f":"VLOOKUP($E457,'[1]Organisation Categories'!$G$4:$O$831,8,0)","v":1108},{"$f":"SUM(R457+S457)/SUM(R457:W457)","v":0.92599277978339345},{"$f":"SUM(U457+V457)/SUM(R457:W457)","v":3.8808664259927801E-2},{"$f":"VLOOKUP($E457,'[1]Organisation Categories'!$G$4:$O$831,2,0)","v":888},{"$f":"VLOOKUP($E457,'[1]Organisation Categories'!$G$4:$O$831,3,0)","v":138},{"$f":"VLOOKUP($E457,'[1]Organisation Categories'!$G$4:$O$831,4,0)","v":32},{"$f":"VLOOKUP($E457,'[1]Organisation Categories'!$G$4:$O$831,5,0)","v":27},{"$f":"VLOOKUP($E457,'[1]Organisation Categories'!$G$4:$O$831,6,0)","v":16},{"$f":"VLOOKUP($E457,'[1]Organisation Categories'!$G$4:$O$831,7,0)","v":7},{"$f":"IFERROR(F457-O457,0)","v":0},{"$f":"IFERROR(G457-P457,0)","v":0},{"$f":"IFERROR(H457-Q457,0)","v":0},{"$f":"IFERROR(I457-R457,0)","v":0},{"$f":"IFERROR(J457-S457,0)","v":0},{"$f":"IFERROR(K457-T457,0)","v":0},{"$f":"IFERROR(L457-U457,0)","v":0},{"$f":"IFERROR(M457-V457,0)","v":0},{"$f":"IFERROR(N457-W457,0)","v":0}]
["IS1","NQT","HCRG CARE LTD","Rehabilitation & Therapy Services","NQTRehabilitation & Therapy Services",149,0.95973154362416102,2.0134228187919462E-2,"*","*","*","*","*","*",{"$f":"VLOOKUP($E458,'[1]Organisation Categories'!$G$4:$O$831,8,0)","v":149},0.95973154362416102,2.0134228187919462E-2,{"$f":"VLOOKUP($E458,'[1]Organisation Categories'!$G$4:$O$831,2,0)","v":122},{"$f":"VLOOKUP($E458,'[1]Organisation Categories'!$G$4:$O$831,3,0)","v":21},{"$f":"VLOOKUP($E458,'[1]Organisation Categories'!$G$4:$O$831,4,0)","v":2},{"$f":"VLOOKUP($E458,'[1]Organisation Categories'!$G$4:$O$831,5,0)","v":0},{"$f":"VLOOKUP($E458,'[1]Organisation Categories'!$G$4:$O$831,6,0)","v":3},{"$f":"VLOOKUP($E458,'[1]Organisation Categories'!$G$4:$O$831,7,0)","v":1},0,0,0,0,0,0,0,0,0]
["IS1","NQT","HCRG CARE LTD","Specialist Services","NQTSpecialist Services",460,0.94782608695652171,2.8260869565217391E-2,408,28,11,7,6,0,{"$f":"VLOOKUP($E459,'[1]Organisation Categories'!$G$4:$O$831,8,0)","v":460},0.94782608695652171,2.8260869565217391E-2,{"$f":"VLOOKUP($E459,'[1]Organisation Categories'!$G$4:$O$831,2,0)","v":408},{"$f":"VLOOKUP($E459,'[1]Organisation Categories'!$G$4:$O$831,3,0)","v":28},{"$f":"VLOOKUP($E459,'[1]Organisation Categories'!$G$4:$O$831,4,0)","v":11},{"$f":"VLOOKUP($E459,'[1]Organisation Categories'!$G$4:$O$831,5,0)","v":7},{"$f":"VLOOKUP($E459,'[1]Organisation Categories'!$G$4:$O$831,6,0)","v":6},{"$f":"VLOOKUP($E459,'[1]Organisation Categories'!$G$4:$O$831,7,0)","v":0},0,0,0,0,0,0,0,0,0]
["IS1","NDA","HCRG CARE SERVICES LTD","Children & Family Services","NDAChildren & Family Services",1,"*","*","*","*","*","*","*","*",{"$f":"VLOOKUP($E460,'[1]Organisation Categories'!$G$4:$O$831,8,0)","v":1},1,0,{"$f":"VLOOKUP($E460,'[1]Organisation Categories'!$G$4:$O$831,2,0)","v":1},{"$f":"VLOOKUP($E460,'[1]Organisation Categories'!$G$4:$O$831,3,0)","v":0},{"$f":"VLOOKUP($E460,'[1]Organisation Categories'!$G$4:$O$831,4,0)","v":0},{"$f":"VLOOKUP($E460,'[1]Organisation Categories'!$G$4:$O$831,5,0)","v":0},{"$f":"VLOOKUP($E460,'[1]Organisation Categories'!$G$4:$O$831,6,0)","v":0},{"$f":"VLOOKUP($E460,'[1]Organisation Categories'!$G$4:$O$831,7,0)","v":0},0,0,0,0,0,0,0,0,0]
["IS1","NDA","HCRG CARE SERVICES LTD","Community Healthcare Other","NDACommunity Healthcare Other",11,1,0,"*","*","*","*","*","*",{"$f":"VLOOKUP($E461,'[1]Organisation Categories'!$G$4:$O$831,8,0)","v":11},1,0,{"$f":"VLOOKUP($E461,'[1]Organisation Categories'!$G$4:$O$831,2,0)","v":11},{"$f":"VLOOKUP($E461,'[1]Organisation Categories'!$G$4:$O$831,3,0)","v":0},{"$f":"VLOOKUP($E461,'[1]Organisation Categories'!$G$4:$O$831,4,0)","v":0},{"$f":"VLOOKUP($E461,'[1]Organisation Categories'!$G$4:$O$831,5,0)","v":0},{"$f":"VLOOKUP($E461,'[1]Organisation Categories'!$G$4:$O$831,6,0)","v":0},{"$f":"VLOOKUP($E461,'[1]Organisation Categories'!$G$4:$O$831,7,0)","v":0},0,0,0,0,0,0,0,0,0]
["IS1","NDA","HCRG CARE SERVICES LTD","Community Nursing Services","NDACommunity Nursing Services",42,1,0,40,2,0,0,0,0,{"$f":"VLOOKUP($E462,'[1]Organisation Categories'!$G$4:$O$831,8,0)","v":42},1,0,{"$f":"VLOOKUP($E462,'[1]Organisation Categories'!$G$4:$O$831,2,0)","v":40},{"$f":"VLOOKUP($E462,'[1]Organisation Categories'!$G$4:$O$831,3,0)","v":2},{"$f":"VLOOKUP($E462,'[1]Organisation Categories'!$G$4:$O$831,4,0)","v":0},{"$f":"VLOOKUP($E462,'[1]Organisation Categories'!$G$4:$O$831,5,0)","v":0},{"$f":"VLOOKUP($E462,'[1]Organisation Categories'!$G$4:$O$831,6,0)","v":0},{"$f":"VLOOKUP($E462,'[1]Organisation Categories'!$G$4:$O$831,7,0)","v":0},0,0,0,0,0,0,0,0,0]
["IS1","NDA","HCRG CARE SERVICES LTD","Rehabilitation & Therapy Services","NDARehabilitation & Therapy Services",28,1,0,25,3,0,0,0,0,{"$f":"VLOOKUP($E463,'[1]Organisation Categories'!$G$4:$O$831,8,0)","v":28},1,0,{"$f":"VLOOKUP($E463,'[1]Organisation Categories'!$G$4:$O$831,2,0)","v":25},{"$f":"VLOOKUP($E463,'[1]Organisation Categories'!$G$4:$O$831,3,0)","v":3},{"$f":"VLOOKUP($E463,'[1]Organisation Categories'!$G$4:$O$831,4,0)","v":0},{"$f":"VLOOKUP($E463,'[1]Organisation Categories'!$G$4:$O$831,5,0)","v":0},{"$f":"VLOOKUP($E463,'[1]Organisation Categories'!$G$4:$O$831,6,0)","v":0},{"$f":"VLOOKUP($E463,'[1]Organisation Categories'!$G$4:$O$831,7,0)","v":0},0,0,0,0,0,0,0,0,0]
["IS1","NDA","HCRG CARE SERVICES LTD","Specialist Services","NDASpecialist Services",18,0.94444444444444442,5.5555555555555552E-2,16,1,0,1,0,0,{"$f":"VLOOKUP($E464,'[1]Organisation Categories'!$G$4:$O$831,8,0)","v":18},0.94444444444444442,5.5555555555555552E-2,{"$f":"VLOOKUP($E464,'[1]Organisation Categories'!$G$4:$O$831,2,0)","v":16},{"$f":"VLOOKUP($E464,'[1]Organisation Categories'!$G$4:$O$831,3,0)","v":1},{"$f":"VLOOKUP($E464,'[1]Organisation Categories'!$G$4:$O$831,4,0)","v":0},{"$f":"VLOOKUP($E464,'[1]Organisation Categories'!$G$4:$O$831,5,0)","v":1},{"$f":"VLOOKUP($E464,'[1]Organisation Categories'!$G$4:$O$831,6,0)","v":0},{"$f":"VLOOKUP($E464,'[1]Organisation Categories'!$G$4:$O$831,7,0)","v":0},0,0,0,0,0,0,0,0,0]
["IS1","NHA","INSIDEVUE LIMITED","Community Inpatient Services","NHACommunity Inpatient Services",91,0.89010989010989006,2.197802197802198E-2,54,27,4,2,0,4,{"$f":"VLOOKUP($E465,'[1]Organisation Categories'!$G$4:$O$831,8,0)","v":91},0.89010989010989006,2.197802197802198E-2,{"$f":"VLOOKUP($E465,'[1]Organisation Categories'!$G$4:$O$831,2,0)","v":54},{"$f":"VLOOKUP($E465,'[1]Organisation Categories'!$G$4:$O$831,3,0)","v":27},{"$f":"VLOOKUP($E465,'[1]Organisation Categories'!$G$4:$O$831,4,0)","v":4},{"$f":"VLOOKUP($E465,'[1]Organisation Categories'!$G$4:$O$831,5,0)","v":2},{"$f":"VLOOKUP($E465,'[1]Organisation Categories'!$G$4:$O$831,6,0)","v":0},{"$f":"VLOOKUP($E465,'[1]Organisation Categories'!$G$4:$O$831,7,0)","v":4},0,0,0,0,0,0,0,0,0]
["IS1","NLE01","LANCASTER HOUSE CONSULTING DIAGNOSTICS SURGICAL LTD HQ","Community Healthcare Other","NLE01Community Healthcare Other",355,0.9971830985915493,0,205,149,1,0,0,0,{"$f":"VLOOKUP($E466,'[1]Organisation Categories'!$G$4:$O$831,8,0)","v":355},0.9971830985915493,0,{"$f":"VLOOKUP($E466,'[1]Organisation Categories'!$G$4:$O$831,2,0)","v":205},{"$f":"VLOOKUP($E466,'[1]Organisation Categories'!$G$4:$O$831,3,0)","v":149},{"$f":"VLOOKUP($E466,'[1]Organisation Categories'!$G$4:$O$831,4,0)","v":1},{"$f":"VLOOKUP($E466,'[1]Organisation Categories'!$G$4:$O$831,5,0)","v":0},{"$f":"VLOOKUP($E466,'[1]Organisation Categories'!$G$4:$O$831,6,0)","v":0},{"$f":"VLOOKUP($E466,'[1]Organisation Categories'!$G$4:$O$831,7,0)","v":0},0,0,0,0,0,0,0,0,0]
["IS1","NR5","LIVEWELL SOUTHWEST","Children & Family Services","NR5Children & Family Services",134,0.95522388059701491,7.462686567164179E-3,108,20,1,0,1,4,{"$f":"VLOOKUP($E467,'[1]Organisation Categories'!$G$4:$O$831,8,0)","v":134},0.95522388059701491,7.462686567164179E-3,{"$f":"VLOOKUP($E467,'[1]Organisation Categories'!$G$4:$O$831,2,0)","v":108},{"$f":"VLOOKUP($E467,'[1]Organisation Categories'!$G$4:$O$831,3,0)","v":20},{"$f":"VLOOKUP($E467,'[1]Organisation Categories'!$G$4:$O$831,4,0)","v":1},{"$f":"VLOOKUP($E467,'[1]Organisation Categories'!$G$4:$O$831,5,0)","v":0},{"$f":"VLOOKUP($E467,'[1]Organisation Categories'!$G$4:$O$831,6,0)","v":1},{"$f":"VLOOKUP($E467,'[1]Organisation Categories'!$G$4:$O$831,7,0)","v":4},0,0,0,0,0,0,0,0,0]
["IS1","NR5","LIVEWELL SOUTHWEST","Community Healthcare Other","NR5Community Healthcare Other",104,0.92307692307692313,4.807692307692308E-2,81,15,3,1,4,0,{"$f":"VLOOKUP($E468,'[1]Organisation Categories'!$G$4:$O$831,8,0)","v":104},0.92307692307692313,4.807692307692308E-2,{"$f":"VLOOKUP($E468,'[1]Organisation Categories'!$G$4:$O$831,2,0)","v":81},{"$f":"VLOOKUP($E468,'[1]Organisation Categories'!$G$4:$O$831,3,0)","v":15},{"$f":"VLOOKUP($E468,'[1]Organisation Categories'!$G$4:$O$831,4,0)","v":3},{"$f":"VLOOKUP($E468,'[1]Organisation Categories'!$G$4:$O$831,5,0)","v":1},{"$f":"VLOOKUP($E468,'[1]Organisation Categories'!$G$4:$O$831,6,0)","v":4},{"$f":"VLOOKUP($E468,'[1]Organisation Categories'!$G$4:$O$831,7,0)","v":0},0,0,0,0,0,0,0,0,0]
["IS1","NR5","LIVEWELL SOUTHWEST","Community Nursing Services","NR5Community Nursing Services",305,0.99344262295081964,0,279,24,2,0,0,0,{"$f":"VLOOKUP($E469,'[1]Organisation Categories'!$G$4:$O$831,8,0)","v":305},0.99344262295081964,0,{"$f":"VLOOKUP($E469,'[1]Organisation Categories'!$G$4:$O$831,2,0)","v":279},{"$f":"VLOOKUP($E469,'[1]Organisation Categories'!$G$4:$O$831,3,0)","v":24},{"$f":"VLOOKUP($E469,'[1]Organisation Categories'!$G$4:$O$831,4,0)","v":2},{"$f":"VLOOKUP($E469,'[1]Organisation Categories'!$G$4:$O$831,5,0)","v":0},{"$f":"VLOOKUP($E469,'[1]Organisation Categories'!$G$4:$O$831,6,0)","v":0},{"$f":"VLOOKUP($E469,'[1]Organisation Categories'!$G$4:$O$831,7,0)","v":0},0,0,0,0,0,0,0,0,0]
["IS1","NR5","LIVEWELL SOUTHWEST","Rehabilitation & Therapy Services","NR5Rehabilitation & Therapy Services",151,0.98675496688741726,0,141,8,1,0,0,1,{"$f":"VLOOKUP($E470,'[1]Organisation Categories'!$G$4:$O$831,8,0)","v":151},0.98675496688741726,0,{"$f":"VLOOKUP($E470,'[1]Organisation Categories'!$G$4:$O$831,2,0)","v":141},{"$f":"VLOOKUP($E470,'[1]Organisation Categories'!$G$4:$O$831,3,0)","v":8},{"$f":"VLOOKUP($E470,'[1]Organisation Categories'!$G$4:$O$831,4,0)","v":1},{"$f":"VLOOKUP($E470,'[1]Organisation Categories'!$G$4:$O$831,5,0)","v":0},{"$f":"VLOOKUP($E470,'[1]Organisation Categories'!$G$4:$O$831,6,0)","v":0},{"$f":"VLOOKUP($E470,'[1]Organisation Categories'!$G$4:$O$831,7,0)","v":1},0,0,0,0,0,0,0,0,0]
["IS1","DAY","LLR PATIENT CARE LOCALLY","Community Healthcare Other","DAYCommunity Healthcare Other",781,0.95262483994878366,2.8169014084507043E-2,653,91,14,12,10,1,{"$f":"VLOOKUP($E471,'[1]Organisation Categories'!$G$4:$O$831,8,0)","v":781},0.95262483994878366,2.8169014084507043E-2,{"$f":"VLOOKUP($E471,'[1]Organisation Categories'!$G$4:$O$831,2,0)","v":653},{"$f":"VLOOKUP($E471,'[1]Organisation Categories'!$G$4:$O$831,3,0)","v":91},{"$f":"VLOOKUP($E471,'[1]Organisation Categories'!$G$4:$O$831,4,0)","v":14},{"$f":"VLOOKUP($E471,'[1]Organisation Categories'!$G$4:$O$831,5,0)","v":12},{"$f":"VLOOKUP($E471,'[1]Organisation Categories'!$G$4:$O$831,6,0)","v":10},{"$f":"VLOOKUP($E471,'[1]Organisation Categories'!$G$4:$O$831,7,0)","v":1},0,0,0,0,0,0,0,0,0]
["IS1","NL8","LOCALA COMMUNITY PARTNERSHIPS CIC","Children & Family Services","NL8Children & Family Services",280,0.97499999999999998,1.4285714285714285E-2,244,29,2,2,2,1,{"$f":"VLOOKUP($E472,'[1]Organisation Categories'!$G$4:$O$831,8,0)","v":280},0.97499999999999998,1.4285714285714285E-2,{"$f":"VLOOKUP($E472,'[1]Organisation Categories'!$G$4:$O$831,2,0)","v":244},{"$f":"VLOOKUP($E472,'[1]Organisation Categories'!$G$4:$O$831,3,0)","v":29},{"$f":"VLOOKUP($E472,'[1]Organisation Categories'!$G$4:$O$831,4,0)","v":2},{"$f":"VLOOKUP($E472,'[1]Organisation Categories'!$G$4:$O$831,5,0)","v":2},{"$f":"VLOOKUP($E472,'[1]Organisation Categories'!$G$4:$O$831,6,0)","v":2},{"$f":"VLOOKUP($E472,'[1]Organisation Categories'!$G$4:$O$831,7,0)","v":1},0,0,0,0,0,0,0,0,0]
["IS1","NL8","LOCALA COMMUNITY PARTNERSHIPS CIC","Community Healthcare Other","NL8Community Healthcare Other",378,0.98148148148148151,1.0582010582010581E-2,337,34,3,2,2,0,{"$f":"VLOOKUP($E473,'[1]Organisation Categories'!$G$4:$O$831,8,0)","v":378},0.98148148148148151,1.0582010582010581E-2,{"$f":"VLOOKUP($E473,'[1]Organisation Categories'!$G$4:$O$831,2,0)","v":337},{"$f":"VLOOKUP($E473,'[1]Organisation Categories'!$G$4:$O$831,3,0)","v":34},{"$f":"VLOOKUP($E473,'[1]Organisation Categories'!$G$4:$O$831,4,0)","v":3},{"$f":"VLOOKUP($E473,'[1]Organisation Categories'!$G$4:$O$831,5,0)","v":2},{"$f":"VLOOKUP($E473,'[1]Organisation Categories'!$G$4:$O$831,6,0)","v":2},{"$f":"VLOOKUP($E473,'[1]Organisation Categories'!$G$4:$O$831,7,0)","v":0},0,0,0,0,0,0,0,0,0]
["IS1","NL8","LOCALA COMMUNITY PARTNERSHIPS CIC","Community Inpatient Services","NL8Community Inpatient Services",17,0.94117647058823528,0,14,2,1,0,0,0,{"$f":"VLOOKUP($E474,'[1]Organisation Categories'!$G$4:$O$831,8,0)","v":17},0.94117647058823528,0,{"$f":"VLOOKUP($E474,'[1]Organisation Categories'!$G$4:$O$831,2,0)","v":14},{"$f":"VLOOKUP($E474,'[1]Organisation Categories'!$G$4:$O$831,3,0)","v":2},{"$f":"VLOOKUP($E474,'[1]Organisation Categories'!$G$4:$O$831,4,0)","v":1},{"$f":"VLOOKUP($E474,'[1]Organisation Categories'!$G$4:$O$831,5,0)","v":0},{"$f":"VLOOKUP($E474,'[1]Organisation Categories'!$G$4:$O$831,6,0)","v":0},{"$f":"VLOOKUP($E474,'[1]Organisation Categories'!$G$4:$O$831,7,0)","v":0},0,0,0,0,0,0,0,0,0]
["IS1","NL8","LOCALA COMMUNITY PARTNERSHIPS CIC","Community Nursing Services","NL8Community Nursing Services",115,1,0,104,11,0,0,0,0,{"$f":"VLOOKUP($E475,'[1]Organisation Categories'!$G$4:$O$831,8,0)","v":115},1,0,{"$f":"VLOOKUP($E475,'[1]Organisation Categories'!$G$4:$O$831,2,0)","v":104},{"$f":"VLOOKUP($E475,'[1]Organisation Categories'!$G$4:$O$831,3,0)","v":11},{"$f":"VLOOKUP($E475,'[1]Organisation Categories'!$G$4:$O$831,4,0)","v":0},{"$f":"VLOOKUP($E475,'[1]Organisation Categories'!$G$4:$O$831,5,0)","v":0},{"$f":"VLOOKUP($E475,'[1]Organisation Categories'!$G$4:$O$831,6,0)","v":0},{"$f":"VLOOKUP($E475,'[1]Organisation Categories'!$G$4:$O$831,7,0)","v":0},0,0,0,0,0,0,0,0,0]
["IS1","NL8","LOCALA COMMUNITY PARTNERSHIPS CIC","Rehabilitation & Therapy Services","NL8Rehabilitation & Therapy Services",194,0.9329896907216495,3.0927835051546393E-2,147,34,5,5,1,2,{"$f":"VLOOKUP($E476,'[1]Organisation Categories'!$G$4:$O$831,8,0)","v":194},0.9329896907216495,3.0927835051546393E-2,{"$f":"VLOOKUP($E476,'[1]Organisation Categories'!$G$4:$O$831,2,0)","v":147},{"$f":"VLOOKUP($E476,'[1]Organisation Categories'!$G$4:$O$831,3,0)","v":34},{"$f":"VLOOKUP($E476,'[1]Organisation Categories'!$G$4:$O$831,4,0)","v":5},{"$f":"VLOOKUP($E476,'[1]Organisation Categories'!$G$4:$O$831,5,0)","v":5},{"$f":"VLOOKUP($E476,'[1]Organisation Categories'!$G$4:$O$831,6,0)","v":1},{"$f":"VLOOKUP($E476,'[1]Organisation Categories'!$G$4:$O$831,7,0)","v":2},0,0,0,0,0,0,0,0,0]
["IS1","NL8","LOCALA COMMUNITY PARTNERSHIPS CIC","Specialist Services","NL8Specialist Services",195,0.97948717948717945,1.0256410256410256E-2,165,26,2,1,1,0,{"$f":"VLOOKUP($E477,'[1]Organisation Categories'!$G$4:$O$831,8,0)","v":195},0.97948717948717945,1.0256410256410256E-2,{"$f":"VLOOKUP($E477,'[1]Organisation Categories'!$G$4:$O$831,2,0)","v":165},{"$f":"VLOOKUP($E477,'[1]Organisation Categories'!$G$4:$O$831,3,0)","v":26},{"$f":"VLOOKUP($E477,'[1]Organisation Categories'!$G$4:$O$831,4,0)","v":2},{"$f":"VLOOKUP($E477,'[1]Organisation Categories'!$G$4:$O$831,5,0)","v":1},{"$f":"VLOOKUP($E477,'[1]Organisation Categories'!$G$4:$O$831,6,0)","v":1},{"$f":"VLOOKUP($E477,'[1]Organisation Categories'!$G$4:$O$831,7,0)","v":0},0,0,0,0,0,0,0,0,0]
["IS1","NCE","MASTERCALL HEALTHCARE","Community Healthcare Other","NCECommunity Healthcare Other",364,0.86538461538461542,8.7912087912087919E-2,265,50,15,7,25,2,{"$f":"VLOOKUP($E478,'[1]Organisation Categories'!$G$4:$O$831,8,0)","v":364},0.86538461538461542,8.7912087912087919E-2,{"$f":"VLOOKUP($E478,'[1]Organisation Categories'!$G$4:$O$831,2,0)","v":265},{"$f":"VLOOKUP($E478,'[1]Organisation Categories'!$G$4:$O$831,3,0)","v":50},{"$f":"VLOOKUP($E478,'[1]Organisation Categories'!$G$4:$O$831,4,0)","v":15},{"$f":"VLOOKUP($E478,'[1]Organisation Categories'!$G$4:$O$831,5,0)","v":7},{"$f":"VLOOKUP($E478,'[1]Organisation Categories'!$G$4:$O$831,6,0)","v":25},{"$f":"VLOOKUP($E478,'[1]Organisation Categories'!$G$4:$O$831,7,0)","v":2},0,0,0,0,0,0,0,0,0]
["IS1","NQ7","MEDWAY COMMUNITY HEALTHCARE","Children & Family Services","NQ7Children & Family Services",58,0.86206896551724133,0.10344827586206896,"*","*","*","*","*","*",{"$f":"VLOOKUP($E479,'[1]Organisation Categories'!$G$4:$O$831,8,0)","v":58},0.86206896551724133,0.10344827586206896,{"$f":"VLOOKUP($E479,'[1]Organisation Categories'!$G$4:$O$831,2,0)","v":46},{"$f":"VLOOKUP($E479,'[1]Organisation Categories'!$G$4:$O$831,3,0)","v":4},{"$f":"VLOOKUP($E479,'[1]Organisation Categories'!$G$4:$O$831,4,0)","v":2},{"$f":"VLOOKUP($E479,'[1]Organisation Categories'!$G$4:$O$831,5,0)","v":2},{"$f":"VLOOKUP($E479,'[1]Organisation Categories'!$G$4:$O$831,6,0)","v":4},{"$f":"VLOOKUP($E479,'[1]Organisation Categories'!$G$4:$O$831,7,0)","v":0},0,0,0,0,0,0,0,0,0]
["IS1","NQ7","MEDWAY COMMUNITY HEALTHCARE","Community Healthcare Other","NQ7Community Healthcare Other",799,0.96871088861076349,1.8773466833541929E-2,705,69,10,6,9,0,{"$f":"VLOOKUP($E480,'[1]Organisation Categories'!$G$4:$O$831,8,0)","v":799},0.96871088861076349,1.8773466833541929E-2,{"$f":"VLOOKUP($E480,'[1]Organisation Categories'!$G$4:$O$831,2,0)","v":705},{"$f":"VLOOKUP($E480,'[1]Organisation Categories'!$G$4:$O$831,3,0)","v":69},{"$f":"VLOOKUP($E480,'[1]Organisation Categories'!$G$4:$O$831,4,0)","v":10},{"$f":"VLOOKUP($E480,'[1]Organisation Categories'!$G$4:$O$831,5,0)","v":6},{"$f":"VLOOKUP($E480,'[1]Organisation Categories'!$G$4:$O$831,6,0)","v":9},{"$f":"VLOOKUP($E480,'[1]Organisation Categories'!$G$4:$O$831,7,0)","v":0},0,0,0,0,0,0,0,0,0]
["IS1","NQ7","MEDWAY COMMUNITY HEALTHCARE","Community Inpatient Services","NQ7Community Inpatient Services",1,"*","*","*","*","*","*","*","*",{"$f":"VLOOKUP($E481,'[1]Organisation Categories'!$G$4:$O$831,8,0)","v":1},0,0,{"$f":"VLOOKUP($E481,'[1]Organisation Categories'!$G$4:$O$831,2,0)","v":0},{"$f":"VLOOKUP($E481,'[1]Organisation Categories'!$G$4:$O$831,3,0)","v":0},{"$f":"VLOOKUP($E481,'[1]Organisation Categories'!$G$4:$O$831,4,0)","v":1},{"$f":"VLOOKUP($E481,'[1]Organisation Categories'!$G$4:$O$831,5,0)","v":0},{"$f":"VLOOKUP($E481,'[1]Organisation Categories'!$G$4:$O$831,6,0)","v":0},{"$f":"VLOOKUP($E481,'[1]Organisation Categories'!$G$4:$O$831,7,0)","v":0},0,0,0,0,0,0,0,0,0]
["IS1","NQ7","MEDWAY COMMUNITY HEALTHCARE","Community Nursing Services","NQ7Community Nursing Services",181,0.93370165745856348,3.3149171270718231E-2,145,24,6,3,3,0,{"$f":"VLOOKUP($E482,'[1]Organisation Categories'!$G$4:$O$831,8,0)","v":181},0.93370165745856348,3.3149171270718231E-2,{"$f":"VLOOKUP($E482,'[1]Organisation Categories'!$G$4:$O$831,2,0)","v":145},{"$f":"VLOOKUP($E482,'[1]Organisation Categories'!$G$4:$O$831,3,0)","v":24},{"$f":"VLOOKUP($E482,'[1]Organisation Categories'!$G$4:$O$831,4,0)","v":6},{"$f":"VLOOKUP($E482,'[1]Organisation Categories'!$G$4:$O$831,5,0)","v":3},{"$f":"VLOOKUP($E482,'[1]Organisation Categories'!$G$4:$O$831,6,0)","v":3},{"$f":"VLOOKUP($E482,'[1]Organisation Categories'!$G$4:$O$831,7,0)","v":0},0,0,0,0,0,0,0,0,0]
["IS1","NQ7","MEDWAY COMMUNITY HEALTHCARE","Rehabilitation & Therapy Services","NQ7Rehabilitation & Therapy Services",114,0.92982456140350878,4.3859649122807015E-2,92,14,2,3,2,1,{"$f":"VLOOKUP($E483,'[1]Organisation Categories'!$G$4:$O$831,8,0)","v":114},0.92982456140350878,4.3859649122807015E-2,{"$f":"VLOOKUP($E483,'[1]Organisation Categories'!$G$4:$O$831,2,0)","v":92},{"$f":"VLOOKUP($E483,'[1]Organisation Categories'!$G$4:$O$831,3,0)","v":14},{"$f":"VLOOKUP($E483,'[1]Organisation Categories'!$G$4:$O$831,4,0)","v":2},{"$f":"VLOOKUP($E483,'[1]Organisation Categories'!$G$4:$O$831,5,0)","v":3},{"$f":"VLOOKUP($E483,'[1]Organisation Categories'!$G$4:$O$831,6,0)","v":2},{"$f":"VLOOKUP($E483,'[1]Organisation Categories'!$G$4:$O$831,7,0)","v":1},0,0,0,0,0,0,0,0,0]
["IS1","NQ7","MEDWAY COMMUNITY HEALTHCARE","Specialist Services","NQ7Specialist Services",179,0.97765363128491622,0,160,15,3,0,0,1,{"$f":"VLOOKUP($E484,'[1]Organisation Categories'!$G$4:$O$831,8,0)","v":179},0.97765363128491622,0,{"$f":"VLOOKUP($E484,'[1]Organisation Categories'!$G$4:$O$831,2,0)","v":160},{"$f":"VLOOKUP($E484,'[1]Organisation Categories'!$G$4:$O$831,3,0)","v":15},{"$f":"VLOOKUP($E484,'[1]Organisation Categories'!$G$4:$O$831,4,0)","v":3},{"$f":"VLOOKUP($E484,'[1]Organisation Categories'!$G$4:$O$831,5,0)","v":0},{"$f":"VLOOKUP($E484,'[1]Organisation Categories'!$G$4:$O$831,6,0)","v":0},{"$f":"VLOOKUP($E484,'[1]Organisation Categories'!$G$4:$O$831,7,0)","v":1},0,0,0,0,0,0,0,0,0]
["IS1","ARA","MID HAMPSHIRE HEALTHCARE LIMITED","Children & Family Services","ARAChildren & Family Services",1742,0.9374282433983927,3.1572904707233063E-2,1447,186,54,22,33,0,{"$f":"VLOOKUP($E485,'[1]Organisation Categories'!$G$4:$O$831,8,0)","v":1742},0.9374282433983927,3.1572904707233063E-2,{"$f":"VLOOKUP($E485,'[1]Organisation Categories'!$G$4:$O$831,2,0)","v":1447},{"$f":"VLOOKUP($E485,'[1]Organisation Categories'!$G$4:$O$831,3,0)","v":186},{"$f":"VLOOKUP($E485,'[1]Organisation Categories'!$G$4:$O$831,4,0)","v":54},{"$f":"VLOOKUP($E485,'[1]Organisation Categories'!$G$4:$O$831,5,0)","v":22},{"$f":"VLOOKUP($E485,'[1]Organisation Categories'!$G$4:$O$831,6,0)","v":33},{"$f":"VLOOKUP($E485,'[1]Organisation Categories'!$G$4:$O$831,7,0)","v":0},0,0,0,0,0,0,0,0,0]
["IS1","ARA","MID HAMPSHIRE HEALTHCARE LIMITED","Community Nursing Services","ARACommunity Nursing Services",201,0.97512437810945274,9.9502487562189053E-3,179,17,3,0,2,0,{"$f":"VLOOKUP($E486,'[1]Organisation Categories'!$G$4:$O$831,8,0)","v":201},0.97512437810945274,9.9502487562189053E-3,{"$f":"VLOOKUP($E486,'[1]Organisation Categories'!$G$4:$O$831,2,0)","v":179},{"$f":"VLOOKUP($E486,'[1]Organisation Categories'!$G$4:$O$831,3,0)","v":17},{"$f":"VLOOKUP($E486,'[1]Organisation Categories'!$G$4:$O$831,4,0)","v":3},{"$f":"VLOOKUP($E486,'[1]Organisation Categories'!$G$4:$O$831,5,0)","v":0},{"$f":"VLOOKUP($E486,'[1]Organisation Categories'!$G$4:$O$831,6,0)","v":2},{"$f":"VLOOKUP($E486,'[1]Organisation Categories'!$G$4:$O$831,7,0)","v":0},0,0,0,0,0,0,0,0,0]
["IS1","ARA","MID HAMPSHIRE HEALTHCARE LIMITED","Specialist Services","ARASpecialist Services",235,0.97021276595744677,1.276595744680851E-2,216,12,4,2,1,0,{"$f":"VLOOKUP($E487,'[1]Organisation Categories'!$G$4:$O$831,8,0)","v":235},0.97021276595744677,1.276595744680851E-2,{"$f":"VLOOKUP($E487,'[1]Organisation Categories'!$G$4:$O$831,2,0)","v":216},{"$f":"VLOOKUP($E487,'[1]Organisation Categories'!$G$4:$O$831,3,0)","v":12},{"$f":"VLOOKUP($E487,'[1]Organisation Categories'!$G$4:$O$831,4,0)","v":4},{"$f":"VLOOKUP($E487,'[1]Organisation Categories'!$G$4:$O$831,5,0)","v":2},{"$f":"VLOOKUP($E487,'[1]Organisation Categories'!$G$4:$O$831,6,0)","v":1},{"$f":"VLOOKUP($E487,'[1]Organisation Categories'!$G$4:$O$831,7,0)","v":0},0,0,0,0,0,0,0,0,0]
["IS1","NPH","MILTON KEYNES URGENT CARE SERVICES CIC HQ","Children & Family Services","NPHChildren & Family Services",11,0.90909090909090906,9.0909090909090912E-2,8,2,0,1,0,0,{"$f":"VLOOKUP($E488,'[1]Organisation Categories'!$G$4:$O$831,8,0)","v":11},0.90909090909090906,9.0909090909090912E-2,{"$f":"VLOOKUP($E488,'[1]Organisation Categories'!$G$4:$O$831,2,0)","v":8},{"$f":"VLOOKUP($E488,'[1]Organisation Categories'!$G$4:$O$831,3,0)","v":2},{"$f":"VLOOKUP($E488,'[1]Organisation Categories'!$G$4:$O$831,4,0)","v":0},{"$f":"VLOOKUP($E488,'[1]Organisation Categories'!$G$4:$O$831,5,0)","v":1},{"$f":"VLOOKUP($E488,'[1]Organisation Categories'!$G$4:$O$831,6,0)","v":0},{"$f":"VLOOKUP($E488,'[1]Organisation Categories'!$G$4:$O$831,7,0)","v":0},0,0,0,0,0,0,0,0,0]
["IS1","NPH","MILTON KEYNES URGENT CARE SERVICES CIC HQ","Community Healthcare Other","NPHCommunity Healthcare Other",510,0.81764705882352939,8.6274509803921567E-2,263,154,43,20,24,6,{"$f":"VLOOKUP($E489,'[1]Organisation Categories'!$G$4:$O$831,8,0)","v":510},0.81764705882352939,8.6274509803921567E-2,{"$f":"VLOOKUP($E489,'[1]Organisation Categories'!$G$4:$O$831,2,0)","v":263},{"$f":"VLOOKUP($E489,'[1]Organisation Categories'!$G$4:$O$831,3,0)","v":154},{"$f":"VLOOKUP($E489,'[1]Organisation Categories'!$G$4:$O$831,4,0)","v":43},{"$f":"VLOOKUP($E489,'[1]Organisation Categories'!$G$4:$O$831,5,0)","v":20},{"$f":"VLOOKUP($E489,'[1]Organisation Categories'!$G$4:$O$831,6,0)","v":24},{"$f":"VLOOKUP($E489,'[1]Organisation Categories'!$G$4:$O$831,7,0)","v":6},0,0,0,0,0,0,0,0,0]
["IS1","NHX","NORTH HAMPSHIRE URGENT CARE","Community Healthcare Other","NHXCommunity Healthcare Other",103,0.970873786407767,9.7087378640776691E-3,77,23,2,1,0,0,{"$f":"VLOOKUP($E490,'[1]Organisation Categories'!$G$4:$O$831,8,0)","v":103},0.970873786407767,9.7087378640776691E-3,{"$f":"VLOOKUP($E490,'[1]Organisation Categories'!$G$4:$O$831,2,0)","v":77},{"$f":"VLOOKUP($E490,'[1]Organisation Categories'!$G$4:$O$831,3,0)","v":23},{"$f":"VLOOKUP($E490,'[1]Organisation Categories'!$G$4:$O$831,4,0)","v":2},{"$f":"VLOOKUP($E490,'[1]Organisation Categories'!$G$4:$O$831,5,0)","v":1},{"$f":"VLOOKUP($E490,'[1]Organisation Categories'!$G$4:$O$831,6,0)","v":0},{"$f":"VLOOKUP($E490,'[1]Organisation Categories'!$G$4:$O$831,7,0)","v":0},0,0,0,0,0,0,0,0,0]
["IS1","NR3","NOTTINGHAM CITYCARE PARTNERSHIP","Children & Family Services","NR3Children & Family Services",70,0.97142857142857142,2.8571428571428571E-2,60,8,0,1,1,0,{"$f":"VLOOKUP($E491,'[1]Organisation Categories'!$G$4:$O$831,8,0)","v":70},0.97142857142857142,2.8571428571428571E-2,{"$f":"VLOOKUP($E491,'[1]Organisation Categories'!$G$4:$O$831,2,0)","v":60},{"$f":"VLOOKUP($E491,'[1]Organisation Categories'!$G$4:$O$831,3,0)","v":8},{"$f":"VLOOKUP($E491,'[1]Organisation Categories'!$G$4:$O$831,4,0)","v":0},{"$f":"VLOOKUP($E491,'[1]Organisation Categories'!$G$4:$O$831,5,0)","v":1},{"$f":"VLOOKUP($E491,'[1]Organisation Categories'!$G$4:$O$831,6,0)","v":1},{"$f":"VLOOKUP($E491,'[1]Organisation Categories'!$G$4:$O$831,7,0)","v":0},0,0,0,0,0,0,0,0,0]
["IS1","NR3","NOTTINGHAM CITYCARE PARTNERSHIP","Community Nursing Services","NR3Community Nursing Services",35,0.88571428571428568,2.8571428571428571E-2,25,6,3,1,0,0,{"$f":"VLOOKUP($E492,'[1]Organisation Categories'!$G$4:$O$831,8,0)","v":35},0.88571428571428568,2.8571428571428571E-2,{"$f":"VLOOKUP($E492,'[1]Organisation Categories'!$G$4:$O$831,2,0)","v":25},{"$f":"VLOOKUP($E492,'[1]Organisation Categories'!$G$4:$O$831,3,0)","v":6},{"$f":"VLOOKUP($E492,'[1]Organisation Categories'!$G$4:$O$831,4,0)","v":3},{"$f":"VLOOKUP($E492,'[1]Organisation Categories'!$G$4:$O$831,5,0)","v":1},{"$f":"VLOOKUP($E492,'[1]Organisation Categories'!$G$4:$O$831,6,0)","v":0},{"$f":"VLOOKUP($E492,'[1]Organisation Categories'!$G$4:$O$831,7,0)","v":0},0,0,0,0,0,0,0,0,0]
["IS1","NR3","NOTTINGHAM CITYCARE PARTNERSHIP","Rehabilitation & Therapy Services","NR3Rehabilitation & Therapy Services",1076,0.8011152416356877,0.11524163568773234,630,232,85,49,75,5,{"$f":"VLOOKUP($E493,'[1]Organisation Categories'!$G$4:$O$831,8,0)","v":1076},0.8011152416356877,0.11524163568773234,{"$f":"VLOOKUP($E493,'[1]Organisation Categories'!$G$4:$O$831,2,0)","v":630},{"$f":"VLOOKUP($E493,'[1]Organisation Categories'!$G$4:$O$831,3,0)","v":232},{"$f":"VLOOKUP($E493,'[1]Organisation Categories'!$G$4:$O$831,4,0)","v":85},{"$f":"VLOOKUP($E493,'[1]Organisation Categories'!$G$4:$O$831,5,0)","v":49},{"$f":"VLOOKUP($E493,'[1]Organisation Categories'!$G$4:$O$831,6,0)","v":75},{"$f":"VLOOKUP($E493,'[1]Organisation Categories'!$G$4:$O$831,7,0)","v":5},0,0,0,0,0,0,0,0,0]
["IS1","NR3","NOTTINGHAM CITYCARE PARTNERSHIP","Specialist Services","NR3Specialist Services",416,0.94951923076923073,2.6442307692307692E-2,353,42,8,5,6,2,{"$f":"VLOOKUP($E494,'[1]Organisation Categories'!$G$4:$O$831,8,0)","v":416},0.94951923076923073,2.6442307692307692E-2,{"$f":"VLOOKUP($E494,'[1]Organisation Categories'!$G$4:$O$831,2,0)","v":353},{"$f":"VLOOKUP($E494,'[1]Organisation Categories'!$G$4:$O$831,3,0)","v":42},{"$f":"VLOOKUP($E494,'[1]Organisation Categories'!$G$4:$O$831,4,0)","v":8},{"$f":"VLOOKUP($E494,'[1]Organisation Categories'!$G$4:$O$831,5,0)","v":5},{"$f":"VLOOKUP($E494,'[1]Organisation Categories'!$G$4:$O$831,6,0)","v":6},{"$f":"VLOOKUP($E494,'[1]Organisation Categories'!$G$4:$O$831,7,0)","v":2},0,0,0,0,0,0,0,0,0]
["IS1","NQH","NOVUS HEALTH LTD","Community Healthcare Other","NQHCommunity Healthcare Other",142,0.95774647887323938,1.4084507042253521E-2,128,8,4,1,1,0,{"$f":"VLOOKUP($E495,'[1]Organisation Categories'!$G$4:$O$831,8,0)","v":142},0.95774647887323938,1.4084507042253521E-2,{"$f":"VLOOKUP($E495,'[1]Organisation Categories'!$G$4:$O$831,2,0)","v":128},{"$f":"VLOOKUP($E495,'[1]Organisation Categories'!$G$4:$O$831,3,0)","v":8},{"$f":"VLOOKUP($E495,'[1]Organisation Categories'!$G$4:$O$831,4,0)","v":4},{"$f":"VLOOKUP($E495,'[1]Organisation Categories'!$G$4:$O$831,5,0)","v":1},{"$f":"VLOOKUP($E495,'[1]Organisation Categories'!$G$4:$O$831,6,0)","v":1},{"$f":"VLOOKUP($E495,'[1]Organisation Categories'!$G$4:$O$831,7,0)","v":0},0,0,0,0,0,0,0,0,0]
["IS1","NQH","NOVUS HEALTH LTD","Rehabilitation & Therapy Services","NQHRehabilitation & Therapy Services",627,0.95374800637958534,2.0733652312599681E-2,516,82,14,6,7,2,{"$f":"VLOOKUP($E496,'[1]Organisation Categories'!$G$4:$O$831,8,0)","v":627},0.95374800637958534,2.0733652312599681E-2,{"$f":"VLOOKUP($E496,'[1]Organisation Categories'!$G$4:$O$831,2,0)","v":516},{"$f":"VLOOKUP($E496,'[1]Organisation Categories'!$G$4:$O$831,3,0)","v":82},{"$f":"VLOOKUP($E496,'[1]Organisation Categories'!$G$4:$O$831,4,0)","v":14},{"$f":"VLOOKUP($E496,'[1]Organisation Categories'!$G$4:$O$831,5,0)","v":6},{"$f":"VLOOKUP($E496,'[1]Organisation Categories'!$G$4:$O$831,6,0)","v":7},{"$f":"VLOOKUP($E496,'[1]Organisation Categories'!$G$4:$O$831,7,0)","v":2},0,0,0,0,0,0,0,0,0]
["IS1","DCF","OZONE HEALTH","Community Healthcare Other","DCFCommunity Healthcare Other",153,0.76470588235294112,6.535947712418301E-2,98,19,15,7,3,11,{"$f":"VLOOKUP($E497,'[1]Organisation Categories'!$G$4:$O$831,8,0)","v":153},0.76470588235294112,6.535947712418301E-2,{"$f":"VLOOKUP($E497,'[1]Organisation Categories'!$G$4:$O$831,2,0)","v":98},{"$f":"VLOOKUP($E497,'[1]Organisation Categories'!$G$4:$O$831,3,0)","v":19},{"$f":"VLOOKUP($E497,'[1]Organisation Categories'!$G$4:$O$831,4,0)","v":15},{"$f":"VLOOKUP($E497,'[1]Organisation Categories'!$G$4:$O$831,5,0)","v":7},{"$f":"VLOOKUP($E497,'[1]Organisation Categories'!$G$4:$O$831,6,0)","v":3},{"$f":"VLOOKUP($E497,'[1]Organisation Categories'!$G$4:$O$831,7,0)","v":11},0,0,0,0,0,0,0,0,0]
["IS1","NLF","PENNINE MUSCULOSKELETAL PARTNERSHIP (ICATS)","Community Healthcare Other","NLFCommunity Healthcare Other",499,0.95991983967935868,2.2044088176352707E-2,434,45,5,3,8,4,{"$f":"VLOOKUP($E498,'[1]Organisation Categories'!$G$4:$O$831,8,0)","v":499},0.95991983967935868,2.2044088176352707E-2,{"$f":"VLOOKUP($E498,'[1]Organisation Categories'!$G$4:$O$831,2,0)","v":434},{"$f":"VLOOKUP($E498,'[1]Organisation Categories'!$G$4:$O$831,3,0)","v":45},{"$f":"VLOOKUP($E498,'[1]Organisation Categories'!$G$4:$O$831,4,0)","v":5},{"$f":"VLOOKUP($E498,'[1]Organisation Categories'!$G$4:$O$831,5,0)","v":3},{"$f":"VLOOKUP($E498,'[1]Organisation Categories'!$G$4:$O$831,6,0)","v":8},{"$f":"VLOOKUP($E498,'[1]Organisation Categories'!$G$4:$O$831,7,0)","v":4},0,0,0,0,0,0,0,0,0]
["IS1","NTP","PRACTICE PLUS GROUP HOLDINGS","Community Healthcare Other","NTPCommunity Healthcare Other",795,0.88553459119496858,8.1761006289308172E-2,566,138,22,26,39,4,{"$f":"VLOOKUP($E499,'[1]Organisation Categories'!$G$4:$O$831,8,0)","v":795},0.88553459119496858,8.1761006289308172E-2,{"$f":"VLOOKUP($E499,'[1]Organisation Categories'!$G$4:$O$831,2,0)","v":566},{"$f":"VLOOKUP($E499,'[1]Organisation Categories'!$G$4:$O$831,3,0)","v":138},{"$f":"VLOOKUP($E499,'[1]Organisation Categories'!$G$4:$O$831,4,0)","v":22},{"$f":"VLOOKUP($E499,'[1]Organisation Categories'!$G$4:$O$831,5,0)","v":26},{"$f":"VLOOKUP($E499,'[1]Organisation Categories'!$G$4:$O$831,6,0)","v":39},{"$f":"VLOOKUP($E499,'[1]Organisation Categories'!$G$4:$O$831,7,0)","v":4},0,0,0,0,0,0,0,0,0]
["IS1","D0V7H","PROCARE COMMUNITY SERVICES LTD","Community Nursing Services","D0V7HCommunity Nursing Services",3,"*","*","*","*","*","*","*","*",{"$f":"VLOOKUP($E500,'[1]Organisation Categories'!$G$4:$O$831,8,0)","v":3},1,0,{"$f":"VLOOKUP($E500,'[1]Organisation Categories'!$G$4:$O$831,2,0)","v":3},{"$f":"VLOOKUP($E500,'[1]Organisation Categories'!$G$4:$O$831,3,0)","v":0},{"$f":"VLOOKUP($E500,'[1]Organisation Categories'!$G$4:$O$831,4,0)","v":0},{"$f":"VLOOKUP($E500,'[1]Organisation Categories'!$G$4:$O$831,5,0)","v":0},{"$f":"VLOOKUP($E500,'[1]Organisation Categories'!$G$4:$O$831,6,0)","v":0},{"$f":"VLOOKUP($E500,'[1]Organisation Categories'!$G$4:$O$831,7,0)","v":0},0,0,0,0,0,0,0,0,0]
["IS1","NQA","PROVIDE","Children & Family Services","NQAChildren & Family Services",14,1,0,14,0,0,0,0,0,{"$f":"VLOOKUP($E501,'[1]Organisation Categories'!$G$4:$O$831,8,0)","v":14},1,0,{"$f":"VLOOKUP($E501,'[1]Organisation Categories'!$G$4:$O$831,2,0)","v":14},{"$f":"VLOOKUP($E501,'[1]Organisation Categories'!$G$4:$O$831,3,0)","v":0},{"$f":"VLOOKUP($E501,'[1]Organisation Categories'!$G$4:$O$831,4,0)","v":0},{"$f":"VLOOKUP($E501,'[1]Organisation Categories'!$G$4:$O$831,5,0)","v":0},{"$f":"VLOOKUP($E501,'[1]Organisation Categories'!$G$4:$O$831,6,0)","v":0},{"$f":"VLOOKUP($E501,'[1]Organisation Categories'!$G$4:$O$831,7,0)","v":0},0,0,0,0,0,0,0,0,0]
["IS1","NQA","PROVIDE","Community Healthcare Other","NQACommunity Healthcare Other",854,0.98009367681498827,8.1967213114754103E-3,789,48,9,5,2,1,{"$f":"VLOOKUP($E502,'[1]Organisation Categories'!$G$4:$O$831,8,0)","v":854},0.98009367681498827,8.1967213114754103E-3,{"$f":"VLOOKUP($E502,'[1]Organisation Categories'!$G$4:$O$831,2,0)","v":789},{"$f":"VLOOKUP($E502,'[1]Organisation Categories'!$G$4:$O$831,3,0)","v":48},{"$f":"VLOOKUP($E502,'[1]Organisation Categories'!$G$4:$O$831,4,0)","v":9},{"$f":"VLOOKUP($E502,'[1]Organisation Categories'!$G$4:$O$831,5,0)","v":5},{"$f":"VLOOKUP($E502,'[1]Organisation Categories'!$G$4:$O$831,6,0)","v":2},{"$f":"VLOOKUP($E502,'[1]Organisation Categories'!$G$4:$O$831,7,0)","v":1},0,0,0,0,0,0,0,0,0]
["IS1","NQA","PROVIDE","Community Inpatient Services","NQACommunity Inpatient Services",7,1,0,"*","*","*","*","*","*",{"$f":"VLOOKUP($E503,'[1]Organisation Categories'!$G$4:$O$831,8,0)","v":7},1,0,{"$f":"VLOOKUP($E503,'[1]Organisation Categories'!$G$4:$O$831,2,0)","v":5},{"$f":"VLOOKUP($E503,'[1]Organisation Categories'!$G$4:$O$831,3,0)","v":2},{"$f":"VLOOKUP($E503,'[1]Organisation Categories'!$G$4:$O$831,4,0)","v":0},{"$f":"VLOOKUP($E503,'[1]Organisation Categories'!$G$4:$O$831,5,0)","v":0},{"$f":"VLOOKUP($E503,'[1]Organisation Categories'!$G$4:$O$831,6,0)","v":0},{"$f":"VLOOKUP($E503,'[1]Organisation Categories'!$G$4:$O$831,7,0)","v":0},0,0,0,0,0,0,0,0,0]
["IS1","NQA","PROVIDE","Community Nursing Services","NQACommunity Nursing Services",1,"*","*","*","*","*","*","*","*",{"$f":"VLOOKUP($E504,'[1]Organisation Categories'!$G$4:$O$831,8,0)","v":1},1,0,{"$f":"VLOOKUP($E504,'[1]Organisation Categories'!$G$4:$O$831,2,0)","v":1},{"$f":"VLOOKUP($E504,'[1]Organisation Categories'!$G$4:$O$831,3,0)","v":0},{"$f":"VLOOKUP($E504,'[1]Organisation Categories'!$G$4:$O$831,4,0)","v":0},{"$f":"VLOOKUP($E504,'[1]Organisation Categories'!$G$4:$O$831,5,0)","v":0},{"$f":"VLOOKUP($E504,'[1]Organisation Categories'!$G$4:$O$831,6,0)","v":0},{"$f":"VLOOKUP($E504,'[1]Organisation Categories'!$G$4:$O$831,7,0)","v":0},0,0,0,0,0,0,0,0,0]
["IS1","NQA","PROVIDE","Specialist Services","NQASpecialist Services",92,0.96739130434782605,1.0869565217391304E-2,78,11,2,1,0,0,{"$f":"VLOOKUP($E505,'[1]Organisation Categories'!$G$4:$O$831,8,0)","v":92},0.96739130434782605,1.0869565217391304E-2,{"$f":"VLOOKUP($E505,'[1]Organisation Categories'!$G$4:$O$831,2,0)","v":78},{"$f":"VLOOKUP($E505,'[1]Organisation Categories'!$G$4:$O$831,3,0)","v":11},{"$f":"VLOOKUP($E505,'[1]Organisation Categories'!$G$4:$O$831,4,0)","v":2},{"$f":"VLOOKUP($E505,'[1]Organisation Categories'!$G$4:$O$831,5,0)","v":1},{"$f":"VLOOKUP($E505,'[1]Organisation Categories'!$G$4:$O$831,6,0)","v":0},{"$f":"VLOOKUP($E505,'[1]Organisation Categories'!$G$4:$O$831,7,0)","v":0},0,0,0,0,0,0,0,0,0]
["IS1","NLX","SIRONA CARE & HEALTH","Children & Family Services","NLXChildren & Family Services",3,"*","*","*","*","*","*","*","*",{"$f":"VLOOKUP($E506,'[1]Organisation Categories'!$G$4:$O$831,8,0)","v":3},0.33333333333333331,0.33333333333333331,{"$f":"VLOOKUP($E506,'[1]Organisation Categories'!$G$4:$O$831,2,0)","v":1},{"$f":"VLOOKUP($E506,'[1]Organisation Categories'!$G$4:$O$831,3,0)","v":0},{"$f":"VLOOKUP($E506,'[1]Organisation Categories'!$G$4:$O$831,4,0)","v":1},{"$f":"VLOOKUP($E506,'[1]Organisation Categories'!$G$4:$O$831,5,0)","v":1},{"$f":"VLOOKUP($E506,'[1]Organisation Categories'!$G$4:$O$831,6,0)","v":0},{"$f":"VLOOKUP($E506,'[1]Organisation Categories'!$G$4:$O$831,7,0)","v":0},0,0,0,0,0,0,0,0,0]
["IS1","NLX","SIRONA CARE & HEALTH","Community Healthcare Other","NLXCommunity Healthcare Other",62,0.967741935483871,1.6129032258064516E-2,58,2,1,0,1,0,{"$f":"VLOOKUP($E507,'[1]Organisation Categories'!$G$4:$O$831,8,0)","v":62},0.967741935483871,1.6129032258064516E-2,{"$f":"VLOOKUP($E507,'[1]Organisation Categories'!$G$4:$O$831,2,0)","v":58},{"$f":"VLOOKUP($E507,'[1]Organisation Categories'!$G$4:$O$831,3,0)","v":2},{"$f":"VLOOKUP($E507,'[1]Organisation Categories'!$G$4:$O$831,4,0)","v":1},{"$f":"VLOOKUP($E507,'[1]Organisation Categories'!$G$4:$O$831,5,0)","v":0},{"$f":"VLOOKUP($E507,'[1]Organisation Categories'!$G$4:$O$831,6,0)","v":1},{"$f":"VLOOKUP($E507,'[1]Organisation Categories'!$G$4:$O$831,7,0)","v":0},0,0,0,0,0,0,0,0,0]
["IS1","NLX","SIRONA CARE & HEALTH","Community Inpatient Services","NLXCommunity Inpatient Services",33,0.93939393939393945,0,27,4,2,0,0,0,{"$f":"VLOOKUP($E508,'[1]Organisation Categories'!$G$4:$O$831,8,0)","v":33},0.93939393939393945,0,{"$f":"VLOOKUP($E508,'[1]Organisation Categories'!$G$4:$O$831,2,0)","v":27},{"$f":"VLOOKUP($E508,'[1]Organisation Categories'!$G$4:$O$831,3,0)","v":4},{"$f":"VLOOKUP($E508,'[1]Organisation Categories'!$G$4:$O$831,4,0)","v":2},{"$f":"VLOOKUP($E508,'[1]Organisation Categories'!$G$4:$O$831,5,0)","v":0},{"$f":"VLOOKUP($E508,'[1]Organisation Categories'!$G$4:$O$831,6,0)","v":0},{"$f":"VLOOKUP($E508,'[1]Organisation Categories'!$G$4:$O$831,7,0)","v":0},0,0,0,0,0,0,0,0,0]
["IS1","NLX","SIRONA CARE & HEALTH","Community Nursing Services","NLXCommunity Nursing Services",5,0.8,0,"*","*","*","*","*","*",{"$f":"VLOOKUP($E509,'[1]Organisation Categories'!$G$4:$O$831,8,0)","v":5},0.8,0,{"$f":"VLOOKUP($E509,'[1]Organisation Categories'!$G$4:$O$831,2,0)","v":3},{"$f":"VLOOKUP($E509,'[1]Organisation Categories'!$G$4:$O$831,3,0)","v":1},{"$f":"VLOOKUP($E509,'[1]Organisation Categories'!$G$4:$O$831,4,0)","v":1},{"$f":"VLOOKUP($E509,'[1]Organisation Categories'!$G$4:$O$831,5,0)","v":0},{"$f":"VLOOKUP($E509,'[1]Organisation Categories'!$G$4:$O$831,6,0)","v":0},{"$f":"VLOOKUP($E509,'[1]Organisation Categories'!$G$4:$O$831,7,0)","v":0},0,0,0,0,0,0,0,0,0]
["IS1","NLX","SIRONA CARE & HEALTH","Rehabilitation & Therapy Services","NLXRehabilitation & Therapy Services",49,0.89795918367346939,8.1632653061224483E-2,37,7,1,0,4,0,{"$f":"VLOOKUP($E510,'[1]Organisation Categories'!$G$4:$O$831,8,0)","v":49},0.89795918367346939,8.1632653061224483E-2,{"$f":"VLOOKUP($E510,'[1]Organisation Categories'!$G$4:$O$831,2,0)","v":37},{"$f":"VLOOKUP($E510,'[1]Organisation Categories'!$G$4:$O$831,3,0)","v":7},{"$f":"VLOOKUP($E510,'[1]Organisation Categories'!$G$4:$O$831,4,0)","v":1},{"$f":"VLOOKUP($E510,'[1]Organisation Categories'!$G$4:$O$831,5,0)","v":0},{"$f":"VLOOKUP($E510,'[1]Organisation Categories'!$G$4:$O$831,6,0)","v":4},{"$f":"VLOOKUP($E510,'[1]Organisation Categories'!$G$4:$O$831,7,0)","v":0},0,0,0,0,0,0,0,0,0]
["IS1","NLX","SIRONA CARE & HEALTH","Specialist Services","NLXSpecialist Services",46,1,0,40,6,0,0,0,0,{"$f":"VLOOKUP($E511,'[1]Organisation Categories'!$G$4:$O$831,8,0)","v":46},1,0,{"$f":"VLOOKUP($E511,'[1]Organisation Categories'!$G$4:$O$831,2,0)","v":40},{"$f":"VLOOKUP($E511,'[1]Organisation Categories'!$G$4:$O$831,3,0)","v":6},{"$f":"VLOOKUP($E511,'[1]Organisation Categories'!$G$4:$O$831,4,0)","v":0},{"$f":"VLOOKUP($E511,'[1]Organisation Categories'!$G$4:$O$831,5,0)","v":0},{"$f":"VLOOKUP($E511,'[1]Organisation Categories'!$G$4:$O$831,6,0)","v":0},{"$f":"VLOOKUP($E511,'[1]Organisation Categories'!$G$4:$O$831,7,0)","v":0},0,0,0,0,0,0,0,0,0]
["IS1","NDL","SUFFOLK GP FEDERATION","Community Healthcare Other","NDLCommunity Healthcare Other",986,0.9391480730223124,4.2596348884381338E-2,809,117,18,23,19,0,{"$f":"VLOOKUP($E512,'[1]Organisation Categories'!$G$4:$O$831,8,0)","v":986},0.9391480730223124,4.2596348884381338E-2,{"$f":"VLOOKUP($E512,'[1]Organisation Categories'!$G$4:$O$831,2,0)","v":809},{"$f":"VLOOKUP($E512,'[1]Organisation Categories'!$G$4:$O$831,3,0)","v":117},{"$f":"VLOOKUP($E512,'[1]Organisation Categories'!$G$4:$O$831,4,0)","v":18},{"$f":"VLOOKUP($E512,'[1]Organisation Categories'!$G$4:$O$831,5,0)","v":23},{"$f":"VLOOKUP($E512,'[1]Organisation Categories'!$G$4:$O$831,6,0)","v":19},{"$f":"VLOOKUP($E512,'[1]Organisation Categories'!$G$4:$O$831,7,0)","v":0},0,0,0,0,0,0,0,0,0]
["IS1","NYG","SUSSEX COMMUNITY DERMATOLOGY SERVICE","Community Healthcare Other","NYGCommunity Healthcare Other",341,0.99706744868035191,0,194,146,1,0,0,0,{"$f":"VLOOKUP($E513,'[1]Organisation Categories'!$G$4:$O$831,8,0)","v":341},0.99706744868035191,0,{"$f":"VLOOKUP($E513,'[1]Organisation Categories'!$G$4:$O$831,2,0)","v":194},{"$f":"VLOOKUP($E513,'[1]Organisation Categories'!$G$4:$O$831,3,0)","v":146},{"$f":"VLOOKUP($E513,'[1]Organisation Categories'!$G$4:$O$831,4,0)","v":1},{"$f":"VLOOKUP($E513,'[1]Organisation Categories'!$G$4:$O$831,5,0)","v":0},{"$f":"VLOOKUP($E513,'[1]Organisation Categories'!$G$4:$O$831,6,0)","v":0},{"$f":"VLOOKUP($E513,'[1]Organisation Categories'!$G$4:$O$831,7,0)","v":0},0,0,0,0,0,0,0,0,0]
["IS1","NGX","TAURUS HEALTHCARE LTD","Community Healthcare Other","NGXCommunity Healthcare Other",376,0.95478723404255317,2.3936170212765957E-2,292,67,8,6,3,0,{"$f":"VLOOKUP($E514,'[1]Organisation Categories'!$G$4:$O$831,8,0)","v":376},0.95478723404255317,2.3936170212765957E-2,{"$f":"VLOOKUP($E514,'[1]Organisation Categories'!$G$4:$O$831,2,0)","v":292},{"$f":"VLOOKUP($E514,'[1]Organisation Categories'!$G$4:$O$831,3,0)","v":67},{"$f":"VLOOKUP($E514,'[1]Organisation Categories'!$G$4:$O$831,4,0)","v":8},{"$f":"VLOOKUP($E514,'[1]Organisation Categories'!$G$4:$O$831,5,0)","v":6},{"$f":"VLOOKUP($E514,'[1]Organisation Categories'!$G$4:$O$831,6,0)","v":3},{"$f":"VLOOKUP($E514,'[1]Organisation Categories'!$G$4:$O$831,7,0)","v":0},0,0,0,0,0,0,0,0,0]
["IS1","NN1","THE ROYAL HOSPITAL FOR NEURO-DISABILITY","Community Inpatient Services","NN1Community Inpatient Services",10,1,0,2,8,0,0,0,0,{"$f":"VLOOKUP($E515,'[1]Organisation Categories'!$G$4:$O$831,8,0)","v":10},1,0,{"$f":"VLOOKUP($E515,'[1]Organisation Categories'!$G$4:$O$831,2,0)","v":2},{"$f":"VLOOKUP($E515,'[1]Organisation Categories'!$G$4:$O$831,3,0)","v":8},{"$f":"VLOOKUP($E515,'[1]Organisation Categories'!$G$4:$O$831,4,0)","v":0},{"$f":"VLOOKUP($E515,'[1]Organisation Categories'!$G$4:$O$831,5,0)","v":0},{"$f":"VLOOKUP($E515,'[1]Organisation Categories'!$G$4:$O$831,6,0)","v":0},{"$f":"VLOOKUP($E515,'[1]Organisation Categories'!$G$4:$O$831,7,0)","v":0},0,0,0,0,0,0,0,0,0]
["IS1","VLN99","TURNING POINT - BIRCHWOOD NURSING HOME","Community Healthcare Other","VLN99Community Healthcare Other",2,"*","*","*","*","*","*","*","*",{"$f":"VLOOKUP($E516,'[1]Organisation Categories'!$G$4:$O$831,8,0)","v":2},0.5,0,{"$f":"VLOOKUP($E516,'[1]Organisation Categories'!$G$4:$O$831,2,0)","v":1},{"$f":"VLOOKUP($E516,'[1]Organisation Categories'!$G$4:$O$831,3,0)","v":0},{"$f":"VLOOKUP($E516,'[1]Organisation Categories'!$G$4:$O$831,4,0)","v":1},{"$f":"VLOOKUP($E516,'[1]Organisation Categories'!$G$4:$O$831,5,0)","v":0},{"$f":"VLOOKUP($E516,'[1]Organisation Categories'!$G$4:$O$831,6,0)","v":0},{"$f":"VLOOKUP($E516,'[1]Organisation Categories'!$G$4:$O$831,7,0)","v":0},0,0,0,0,0,0,0,0,0]
["IS1","NNV","YOUR HEALTHCARE","Children & Family Services","NNVChildren & Family Services",176,0.75,2.8409090909090908E-2,41,91,27,4,1,12,{"$f":"VLOOKUP($E517,'[1]Organisation Categories'!$G$4:$O$831,8,0)","v":176},0.75,2.8409090909090908E-2,{"$f":"VLOOKUP($E517,'[1]Organisation Categories'!$G$4:$O$831,2,0)","v":41},{"$f":"VLOOKUP($E517,'[1]Organisation Categories'!$G$4:$O$831,3,0)","v":91},{"$f":"VLOOKUP($E517,'[1]Organisation Categories'!$G$4:$O$831,4,0)","v":27},{"$f":"VLOOKUP($E517,'[1]Organisation Categories'!$G$4:$O$831,5,0)","v":4},{"$f":"VLOOKUP($E517,'[1]Organisation Categories'!$G$4:$O$831,6,0)","v":1},{"$f":"VLOOKUP($E517,'[1]Organisation Categories'!$G$4:$O$831,7,0)","v":12},0,0,0,0,0,0,0,0,0]
["IS1","NNV","YOUR HEALTHCARE","Community Nursing Services","NNVCommunity Nursing Services",6,1,0,6,0,0,0,0,0,{"$f":"VLOOKUP($E518,'[1]Organisation Categories'!$G$4:$O$831,8,0)","v":6},1,0,{"$f":"VLOOKUP($E518,'[1]Organisation Categories'!$G$4:$O$831,2,0)","v":6},{"$f":"VLOOKUP($E518,'[1]Organisation Categories'!$G$4:$O$831,3,0)","v":0},{"$f":"VLOOKUP($E518,'[1]Organisation Categories'!$G$4:$O$831,4,0)","v":0},{"$f":"VLOOKUP($E518,'[1]Organisation Categories'!$G$4:$O$831,5,0)","v":0},{"$f":"VLOOKUP($E518,'[1]Organisation Categories'!$G$4:$O$831,6,0)","v":0},{"$f":"VLOOKUP($E518,'[1]Organisation Categories'!$G$4:$O$831,7,0)","v":0},0,0,0,0,0,0,0,0,0]
["IS1","NNV","YOUR HEALTHCARE","Rehabilitation & Therapy Services","NNVRehabilitation & Therapy Services",81,1,0,78,3,0,0,0,0,{"$f":"VLOOKUP($E519,'[1]Organisation Categories'!$G$4:$O$831,8,0)","v":81},1,0,{"$f":"VLOOKUP($E519,'[1]Organisation Categories'!$G$4:$O$831,2,0)","v":78},{"$f":"VLOOKUP($E519,'[1]Organisation Categories'!$G$4:$O$831,3,0)","v":3},{"$f":"VLOOKUP($E519,'[1]Organisation Categories'!$G$4:$O$831,4,0)","v":0},{"$f":"VLOOKUP($E519,'[1]Organisation Categories'!$G$4:$O$831,5,0)","v":0},{"$f":"VLOOKUP($E519,'[1]Organisation Categories'!$G$4:$O$831,6,0)","v":0},{"$f":"VLOOKUP($E519,'[1]Organisation Categories'!$G$4:$O$831,7,0)","v":0},0,0,0,0,0,0,0,0,0]
["IS1","NNV","YOUR HEALTHCARE","Specialist Services","NNVSpecialist Services",12,1,0,7,5,0,0,0,0,{"$f":"VLOOKUP($E520,'[1]Organisation Categories'!$G$4:$O$831,8,0)","v":12},1,0,{"$f":"VLOOKUP($E520,'[1]Organisation Categories'!$G$4:$O$831,2,0)","v":7},{"$f":"VLOOKUP($E520,'[1]Organisation Categories'!$G$4:$O$831,3,0)","v":5},{"$f":"VLOOKUP($E520,'[1]Organisation Categories'!$G$4:$O$831,4,0)","v":0},{"$f":"VLOOKUP($E520,'[1]Organisation Categories'!$G$4:$O$831,5,0)","v":0},{"$f":"VLOOKUP($E520,'[1]Organisation Categories'!$G$4:$O$831,6,0)","v":0},{"$f":"VLOOKUP($E520,'[1]Organisation Categories'!$G$4:$O$831,7,0)","v":0},0,0,0,0,0,0,0,0,0]

{"sheet":"BS","index":5,"n_rows":514,"n_cols":30,"rows_kept":514,"cut":false,"hidden":true,"merged":[]}
[null,"Sort","Region (LO) Code","Region (LO) name","Trust code","Trust name","Category",null,"Sort Lists:","Sort range…","Sort range…","Sort range…","Reference Region Lists:","Code…","Name…","Linked Region Lists:","Code…","Name…","Reference Lists:","Code…","Code…","Name…","Category…","Trusts Linked lists:","Code…","Name…","Categories Linked lists:","Code…","Name…","Category…"]
["Region (LO)",1,1,1,"-","-","-",null,null,"ICB Code","ICB Code","ICB code",null,"QE1","LANCASHIRE AND SOUTH CUMBRIA ICB",null,"QE1","LANCASHIRE AND SOUTH CUMBRIA ICB",null,"QE1","RXL","BLACKPOOL TEACHING HOSPITALS NHS FOUNDATION TRUST","Children & Family Services",null,"8HE44","AIREDALE NHS FOUNDATION TRUST",null,"8HE44","AIREDALE NHS FOUNDATION TRUST","Children & Family Services"]
["Trusts",1,1,1,1,1,"-",null,null,"ICB Name","Trust Code","Trust Code",null,"QF7","SOUTH YORKSHIRE ICB",null,"QF7","SOUTH YORKSHIRE ICB",null,"QE1","RXL","BLACKPOOL TEACHING HOSPITALS NHS FOUNDATION TRUST","Community Inpatient Services",null,"8J094","ALDER HEY CHILDREN'S NHS FOUNDATION TRUST",null,"8J094","ALDER HEY CHILDREN'S NHS FOUNDATION TRUST","Community Healthcare Other"]
["Categories",1,1,1,1,1,1,null,null,"Total Responses","Trust Name","Trust Name",null,"QGH","HEREFORDSHIRE AND WORCESTERSHIRE ICB",null,"QGH","HEREFORDSHIRE AND WORCESTERSHIRE ICB",null,"QE1","RXL","BLACKPOOL TEACHING HOSPITALS NHS FOUNDATION TRUST","Community Nursing Services",null,"ARA","ALLIED HEALTH PROFESSIONALS SUFFOLK CIC",null,"ARA","ALLIED HEALTH PROFESSIONALS SUFFOLK CIC","Community Inpatient Services"]
[null,null,null,null,null,null,null,null,null,"Total Eligible","Total Responses","Category",null,"QH8","MID AND SOUTH ESSEX ICB",null,"QH8","MID AND SOUTH ESSEX ICB",null,"QE1","RXL","BLACKPOOL TEACHING HOSPITALS NHS FOUNDATION TRUST","Rehabilitation & Therapy Services",null,"D0V7H","BADGER LTD",null,"D0V7H","BADGER LTD","Community Nursing Services"]
[null,null,null,null,null,null,null,null,null,"Percentage Positive","Total Eligible","Total Responses",null,"QHG","BEDFORDSHIRE, LUTON AND MILTON KEYNES ICB",null,"QHG","BEDFORDSHIRE, LUTON AND MILTON KEYNES ICB",null,"QE1","RXL","BLACKPOOL TEACHING HOSPITALS NHS FOUNDATION TRUST","Specialist Services",null,"DAY","BARDOC",null,"DAY","BARDOC","Rehabilitation & Therapy Services"]
[null,null,null,null,null,null,null,null,null,"Percentage Negative","Percentage Positive","Percentage Positive",null,"QHL","BIRMINGHAM AND SOLIHULL ICB",null,"QHL","BIRMINGHAM AND SOLIHULL ICB",null,"QE1","RXR","EAST LANCASHIRE HOSPITALS NHS TRUST","Children & Family Services",null,"DCF","BERKSHIRE HEALTHCARE NHS FOUNDATION TRUST",null,"DCF","BERKSHIRE HEALTHCARE NHS FOUNDATION TRUST","Specialist Services"]
[null,null,null,null,null,null,null,null,null,"Very Good","Percentage Negative","Percentage Negative",null,"QHM","NORTH EAST AND NORTH CUMBRIA ICB",null,"QHM","NORTH EAST AND NORTH CUMBRIA ICB",null,"QE1","RXR","EAST LANCASHIRE HOSPITALS NHS TRUST","Community Healthcare Other",null,"DFY01","BIRMINGHAM COMMUNITY HEALTHCARE NHS FOUNDATION TRUST",null,"DFY01","BIRMINGHAM COMMUNITY HEALTHCARE NHS FOUNDATION TRUST"]
[null,null,null,null,null,null,null,null,null,"Good","Very Good","Very Good",null,"QJ2","DERBY AND DERBYSHIRE ICB",null,"QJ2","DERBY AND DERBYSHIRE ICB",null,"QE1","RXR","EAST LANCASHIRE HOSPITALS NHS TRUST","Community Inpatient Services",null,"DVG","BLACK COUNTRY HEALTHCARE NHS FOUNDATION TRUST",null,"DVG","BLACK COUNTRY HEALTHCARE NHS FOUNDATION TRUST"]
[null,null,null,null,null,null,null,null,null,"Neither Good nor Poor","Good","Good",null,"QJG","SUFFOLK AND NORTH EAST ESSEX ICB",null,"QJG","SUFFOLK AND NORTH EAST ESSEX ICB",null,"QE1","RXR","EAST LANCASHIRE HOSPITALS NHS TRUST","Community Nursing Services",null,"DY6","BLACKPOOL TEACHING HOSPITALS NHS FOUNDATION TRUST",null,"DY6","BLACKPOOL TEACHING HOSPITALS NHS FOUNDATION TRUST"]
[null,null,null,null,null,null,null,null,null,"Poor","Neither Good nor Poor","Neither Good nor Poor",null,"QJK","DEVON ICB",null,"QJK","DEVON ICB",null,"QE1","RXR","EAST LANCASHIRE HOSPITALS NHS TRUST","Rehabilitation & Therapy Services",null,"NAX","BOLTON NHS FOUNDATION TRUST",null,"NAX","BOLTON NHS FOUNDATION TRUST"]
[null,null,null,null,null,null,null,null,null,"Very Poor","Poor","Poor",null,"QJM","LINCOLNSHIRE ICB",null,"QJM","LINCOLNSHIRE ICB",null,"QE1","RXR","EAST LANCASHIRE HOSPITALS NHS TRUST","Specialist Services",null,"NCE","BRADFORD DISTRICT CARE NHS FOUNDATION TRUST",null,"NCE","BRADFORD DISTRICT CARE NHS FOUNDATION TRUST"]
[null,null,null,null,null,null,null,null,null,"Don't Know","Very Poor","Very Poor",null,"QK1","LEICESTER, LEICESTERSHIRE AND RUTLAND ICB",null,"QK1","LEICESTER, LEICESTERSHIRE AND RUTLAND ICB",null,"QE1","RW5","LANCASHIRE & SOUTH CUMBRIA NHS FOUNDATION TRUST","Children & Family Services",null,"NDA","BRIDGEWATER COMMUNITY HEALTHCARE NHS FOUNDATION TRUST",null,"NDA","BRIDGEWATER COMMUNITY HEALTHCARE NHS FOUNDATION TRUST"]
[null,null,null,null,null,null,null,null,null,null,"Don't Know","Don't Know",null,"QKK","SOUTH EAST LONDON ICB",null,"QKK","SOUTH EAST LONDON ICB",null,"QE1","RW5","LANCASHIRE & SOUTH CUMBRIA NHS FOUNDATION TRUST","Community Inpatient Services",null,"NDJ","BROMLEY HEALTHCARE",null,"NDJ","BROMLEY HEALTHCARE"]
[null,null,null,null,null,null,null,null,null,null,"Mode SMS",null,null,"QKS","KENT AND MEDWAY ICB",null,"QKS","KENT AND MEDWAY ICB",null,"QE1","RW5","LANCASHIRE & SOUTH CUMBRIA NHS FOUNDATION TRUST","Community Nursing Services",null,"NDK","BUCKINGHAMSHIRE HEALTHCARE NHS TRUST",null,"NDK","BUCKINGHAMSHIRE HEALTHCARE NHS TRUST"]
[null,null,null,null,null,null,null,null,null,null,"Mode Electronic Discharge",null,null,"QM7","HERTFORDSHIRE AND WEST ESSEX ICB",null,"QM7","HERTFORDSHIRE AND WEST ESSEX ICB",null,"QE1","RW5","LANCASHIRE & SOUTH CUMBRIA NHS FOUNDATION TRUST","Rehabilitation & Therapy Services",null,"NDL","CALDERDALE AND HUDDERSFIELD NHS FOUNDATION TRUST",null,"NDL","CALDERDALE AND HUDDERSFIELD NHS FOUNDATION TRUST"]
[null,null,null,null,null,null,null,null,null,null,"Mode Paper Home",null,null,"QMF","NORTH EAST LONDON ICB",null,"QMF","NORTH EAST LONDON ICB",null,"QE1","RW5","LANCASHIRE & SOUTH CUMBRIA NHS FOUNDATION TRUST","Specialist Services",null,"NEC","CAMBRIDGESHIRE AND PETERBOROUGH NHS FOUNDATION TRUST",null,"NEC","CAMBRIDGESHIRE AND PETERBOROUGH NHS FOUNDATION TRUST"]
[null,null,null,null,null,null,null,null,null,null,"Mode Telephone",null,null,"QMJ","NORTH CENTRAL LONDON ICB",null,"QMJ","NORTH CENTRAL LONDON ICB",null,"QE1","RTX","UNIVERSITY HOSPITALS OF MORECAMBE BAY NHS FOUNDATION TRUST","Children & Family Services",null,"NGX","CAMBRIDGESHIRE COMMUNITY SERVICES NHS TRUST",null,"NGX","CAMBRIDGESHIRE COMMUNITY SERVICES NHS TRUST"]
[null,null,null,null,null,null,null,null,null,null,"Mode Online",null,null,"QMM","NORFOLK AND WAVENEY ICB",null,"QMM","NORFOLK AND WAVENEY ICB",null,"QE1","RTX","UNIVERSITY HOSPITALS OF MORECAMBE BAY NHS FOUNDATION TRUST","Community Inpatient Services",null,"NHA","CARE PLUS GROUP",null,"NHA","CARE PLUS GROUP"]
[null,null,null,null,null,null,null,null,null,null,"Mode Other",null,null,"QNC","STAFFORDSHIRE AND STOKE-ON-TRENT ICB",null,"QNC","STAFFORDSHIRE AND STOKE-ON-TRENT ICB",null,"QE1","RTX","UNIVERSITY HOSPITALS OF MORECAMBE BAY NHS FOUNDATION TRUST","Community Nursing Services",null,"NHX","CENTRAL AND NORTH WEST LONDON NHS FOUNDATION TRUST",null,"NHX","CENTRAL AND NORTH WEST LONDON NHS FOUNDATION TRUST"]
[null,null,null,null,null,null,null,null,null,null,null,null,null,"QNQ","FRIMLEY ICB",null,"QNQ","FRIMLEY ICB",null,"QE1","RTX","UNIVERSITY HOSPITALS OF MORECAMBE BAY NHS FOUNDATION TRUST","Rehabilitation & Therapy Services",null,"NL3","CENTRAL LONDON COMMUNITY HEALTHCARE NHS TRUST",null,"NL3","CENTRAL LONDON COMMUNITY HEALTHCARE NHS TRUST"]
[null,null,null,null,null,null,null,null,null,null,null,null,null,"QNX","SUSSEX ICB",null,"QNX","SUSSEX ICB",null,"QF7","RXE","ROTHERHAM DONCASTER AND SOUTH HUMBER NHS FOUNDATION TRUST","Children & Family Services",null,"NL8","CHELSEA AND WESTMINSTER HOSPITAL NHS FOUNDATION TRUST",null,"NL8","CHELSEA AND WESTMINSTER HOSPITAL NHS FOUNDATION TRUST"]
[null,null,null,null,null,null,null,null,null,null,null,null,null,"QOC","SHROPSHIRE, TELFORD AND WREKIN ICB",null,"QOC","SHROPSHIRE, TELFORD AND WREKIN ICB",null,"QF7","RXE","ROTHERHAM DONCASTER AND SOUTH HUMBER NHS FOUNDATION TRUST","Community Inpatient Services",null,"NLE01","CHESHIRE AND WIRRAL PARTNERSHIP NHS FOUNDATION TRUST",null,"NLE01","CHESHIRE AND WIRRAL PARTNERSHIP NHS FOUNDATION TRUST"]
[null,null,null,null,null,null,null,null,null,null,null,null,null,"QOP","GREATER MANCHESTER ICB",null,"QOP","GREATER MANCHESTER ICB",null,"QF7","RXE","ROTHERHAM DONCASTER AND SOUTH HUMBER NHS FOUNDATION TRUST","Community Nursing Services",null,"NLF","CITY HEALTH CARE PARTNERSHIP CIC",null,"NLF","CITY HEALTH CARE PARTNERSHIP CIC"]
[null,null,null,null,null,null,null,null,null,null,null,null,null,"QOQ","HUMBER AND NORTH YORKSHIRE ICB",null,"QOQ","HUMBER AND NORTH YORKSHIRE ICB",null,"QF7","RXE","ROTHERHAM DONCASTER AND SOUTH HUMBER NHS FOUNDATION TRUST","Rehabilitation & Therapy Services",null,"NLX","CONNECT HEALTH LIMITED",null,"NLX","CONNECT HEALTH LIMITED"]
[null,null,null,null,null,null,null,null,null,null,null,null,null,"QOX","BATH AND NORTH EAST SOMERSET, SWINDON AND WILTSHIRE ICB",null,"QOX","BATH AND NORTH EAST SOMERSET, SWINDON AND WILTSHIRE ICB",null,"QF7","RCU","SHEFFIELD CHILDREN'S NHS FOUNDATION TRUST","Community Nursing Services",null,"NMG","CONNECT HEALTH PAIN SERVICES",null,"NMG","CONNECT HEALTH PAIN SERVICES"]
[null,null,null,null,null,null,null,null,null,null,null,null,null,"QPM","NORTHAMPTONSHIRE ICB",null,"QPM","NORTHAMPTONSHIRE ICB",null,"QF7","RHQ","SHEFFIELD TEACHING HOSPITALS NHS FOUNDATION TRUST","Community Healthcare Other",null,"NN1","COTSWOLDS SURGICAL PARTNERS",null,"NN1","COTSWOLDS SURGICAL PARTNERS"]
[null,null,null,null,null,null,null,null,null,null,null,null,null,"QR1","GLOUCESTERSHIRE ICB",null,"QR1","GLOUCESTERSHIRE ICB",null,"QF7","RHQ","SHEFFIELD TEACHING HOSPITALS NHS FOUNDATION TRUST","Community Inpatient Services",null,"NNF","COUNTY DURHAM AND DARLINGTON NHS FOUNDATION TRUST",null,"NNF","COUNTY DURHAM AND DARLINGTON NHS FOUNDATION TRUST"]
[null,null,null,null,null,null,null,null,null,null,null,null,null,"QRL","HAMPSHIRE AND ISLE OF WIGHT ICB",null,"QRL","HAMPSHIRE AND ISLE OF WIGHT ICB",null,"QF7","RHQ","SHEFFIELD TEACHING HOSPITALS NHS FOUNDATION TRUST","Community Nursing Services",null,"NNV","CROYDON HEALTH SERVICES NHS TRUST",null,"NNV","CROYDON HEALTH SERVICES NHS TRUST"]
[null,null,null,null,null,null,null,null,null,null,null,null,null,"QRV","NORTH WEST LONDON ICB",null,"QRV","NORTH WEST LONDON ICB",null,"QF7","RHQ","SHEFFIELD TEACHING HOSPITALS NHS FOUNDATION TRUST","Rehabilitation & Therapy Services",null,"NPH","CSH SURREY",null,"NPH","CSH SURREY"]
[null,null,null,null,null,null,null,null,null,null,null,null,null,"QSL","SOMERSET ICB",null,"QSL","SOMERSET ICB",null,"QF7","RHQ","SHEFFIELD TEACHING HOSPITALS NHS FOUNDATION TRUST","Specialist Services",null,"NQ7","DERBYSHIRE COMMUNITY HEALTH SERVICES NHS FOUNDATION TRUST",null,"NQ7","DERBYSHIRE COMMUNITY HEALTH SERVICES NHS FOUNDATION TRUST"]
[null,null,null,null,null,null,null,null,null,null,null,null,null,"QT1","NOTTINGHAM AND NOTTINGHAMSHIRE ICB",null,"QT1","NOTTINGHAM AND NOTTINGHAMSHIRE ICB",null,"QF7","RFR","THE ROTHERHAM NHS FOUNDATION TRUST","Children & Family Services",null,"NQA","DERBYSHIRE HEALTHCARE NHS FOUNDATION TRUST",null,"NQA","DERBYSHIRE HEALTHCARE NHS FOUNDATION TRUST"]
[null,null,null,null,null,null,null,null,null,null,null,null,null,"QT6","CORNWALL AND THE ISLES OF SCILLY ICB",null,"QT6","CORNWALL AND THE ISLES OF SCILLY ICB",null,"QF7","RFR","THE ROTHERHAM NHS FOUNDATION TRUST","Community Nursing Services",null,"NQH","DORSET HEALTHCARE UNIVERSITY NHS FOUNDATION TRUST",null,"NQH","DORSET HEALTHCARE UNIVERSITY NHS FOUNDATION TRUST"]
[null,null,null,null,null,null,null,null,null,null,null,null,null,"QU9","BUCKINGHAMSHIRE, OXFORDSHIRE AND BERKSHIRE WEST ICB",null,"QU9","BUCKINGHAMSHIRE, OXFORDSHIRE AND BERKSHIRE WEST ICB",null,"QF7","RFR","THE ROTHERHAM NHS FOUNDATION TRUST","Rehabilitation & Therapy Services",null,"NQT","DR KERSHAWS HOSPICE",null,"NQT","DR KERSHAWS HOSPICE"]
[null,null,null,null,null,null,null,null,null,null,null,null,null,"QUA","BLACK COUNTRY ICB",null,"QUA","BLACK COUNTRY ICB",null,"QF7","RFR","THE ROTHERHAM NHS FOUNDATION TRUST","Specialist Services",null,"NQV","EAST CHESHIRE NHS TRUST",null,"NQV","EAST CHESHIRE NHS TRUST"]
[null,null,null,null,null,null,null,null,null,null,null,null,null,"QUE","CAMBRIDGESHIRE AND PETERBOROUGH ICB",null,"QUE","CAMBRIDGESHIRE AND PETERBOROUGH ICB",null,"QGH","R1A","HEREFORDSHIRE AND WORCESTERSHIRE HEALTH AND CARE NHS TRUST","Children & Family Services",null,"NR3","EAST COAST COMMUNITY HEALTHCARE C.I.C",null,"NR3","EAST COAST COMMUNITY HEALTHCARE C.I.C"]
[null,null,null,null,null,null,null,null,null,null,null,null,null,"QUY","BRISTOL, NORTH SOMERSET AND SOUTH GLOUCESTERSHIRE ICB",null,"QUY","BRISTOL, NORTH SOMERSET AND SOUTH GLOUCESTERSHIRE ICB",null,"QGH","R1A","HEREFORDSHIRE AND WORCESTERSHIRE HEALTH AND CARE NHS TRUST","Community Healthcare Other",null,"NR5","EAST LANCASHIRE HOSPITALS NHS TRUST",null,"NR5","EAST LANCASHIRE HOSPITALS NHS TRUST"]
[null,null,null,null,null,null,null,null,null,null,null,null,null,"QVV","DORSET ICB",null,"QVV","DORSET ICB",null,"QGH","R1A","HEREFORDSHIRE AND WORCESTERSHIRE HEALTH AND CARE NHS TRUST","Community Inpatient Services",null,"NTP","EAST LONDON NHS FOUNDATION TRUST",null,"NTP","EAST LONDON NHS FOUNDATION TRUST"]
[null,null,null,null,null,null,null,null,null,null,null,null,null,"QWE","SOUTH WEST LONDON ICB",null,"QWE","SOUTH WEST LONDON ICB",null,"QGH","R1A","HEREFORDSHIRE AND WORCESTERSHIRE HEALTH AND CARE NHS TRUST","Community Nursing Services",null,"NTV","EAST SUFFOLK AND NORTH ESSEX NHS FOUNDATION TRUST",null,"NTV","EAST SUFFOLK AND NORTH ESSEX NHS FOUNDATION TRUST"]
[null,null,null,null,null,null,null,null,null,null,null,null,null,"QWO","WEST YORKSHIRE ICB",null,"QWO","WEST YORKSHIRE ICB",null,"QGH","R1A","HEREFORDSHIRE AND WORCESTERSHIRE HEALTH AND CARE NHS TRUST","Rehabilitation & Therapy Services",null,"NWV01","EAST SUSSEX HEALTHCARE NHS TRUST",null,"NWV01","EAST SUSSEX HEALTHCARE NHS TRUST"]
[null,null,null,null,null,null,null,null,null,null,null,null,null,"QWU","COVENTRY AND WARWICKSHIRE ICB",null,"QWU","COVENTRY AND WARWICKSHIRE ICB",null,"QGH","R1A","HEREFORDSHIRE AND WORCESTERSHIRE HEALTH AND CARE NHS TRUST","Specialist Services",null,"NY6","EASTLEIGH SOUTHERN PARISHES NETWORK LTD",null,"NY6","EASTLEIGH SOUTHERN PARISHES NETWORK LTD"]
[null,null,null,null,null,null,null,null,null,null,null,null,null,"QXU","SURREY HEARTLANDS ICB",null,"QXU","SURREY HEARTLANDS ICB",null,"QGH","RLQ","WYE VALLEY NHS TRUST","Community Inpatient Services",null,"NYG","EPSOM AND ST HELIER UNIVERSITY HOSPITALS NHS TRUST",null,"NYG","EPSOM AND ST HELIER UNIVERSITY HOSPITALS NHS TRUST"]
[null,null,null,null,null,null,null,null,null,null,null,null,null,"QYG","CHESHIRE AND MERSEYSIDE ICB",null,"QYG","CHESHIRE AND MERSEYSIDE ICB",null,"QH8","R1L","ESSEX PARTNERSHIP UNIVERSITY NHS FOUNDATION TRUST","Community Healthcare Other",null,"R0A","ESSEX PARTNERSHIP UNIVERSITY NHS FOUNDATION TRUST",null,"R0A","ESSEX PARTNERSHIP UNIVERSITY NHS FOUNDATION TRUST"]
[null,null,null,null,null,null,null,null,null,null,null,null,null,null,null,null,null,null,null,"QH8","R1L","ESSEX PARTNERSHIP UNIVERSITY NHS FOUNDATION TRUST","Community Inpatient Services",null,"R0B","FIRST COMMUNITY HEALTH AND CARE CIC",null,"R0B","FIRST COMMUNITY HEALTH AND CARE CIC"]
[null,null,null,null,null,null,null,null,null,null,null,null,null,null,null,null,null,null,null,"QH8","R1L","ESSEX PARTNERSHIP UNIVERSITY NHS FOUNDATION TRUST","Community Nursing Services",null,"R1A","FRESHNEY PELHAM CARE LIMITED",null,"R1A","FRESHNEY PELHAM CARE LIMITED"]
[null,null,null,null,null,null,null,null,null,null,null,null,null,null,null,null,null,null,null,"QH8","R1L","ESSEX PARTNERSHIP UNIVERSITY NHS FOUNDATION TRUST","Rehabilitation & Therapy Services",null,"R1D","FRIMLEY HEALTH NHS FOUNDATION TRUST",null,"R1D","FRIMLEY HEALTH NHS FOUNDATION TRUST"]
[null,null,null,null,null,null,null,null,null,null,null,null,null,null,null,null,null,null,null,"QH8","R1L","ESSEX PARTNERSHIP UNIVERSITY NHS FOUNDATION TRUST","Specialist Services",null,"R1K","GATESHEAD HEALTH NHS FOUNDATION TRUST",null,"R1K","GATESHEAD HEALTH NHS FOUNDATION TRUST"]
[null,null,null,null,null,null,null,null,null,null,null,null,null,null,null,null,null,null,null,"QHL","RYW","BIRMINGHAM COMMUNITY HEALTHCARE NHS FOUNDATION TRUST","Children & Family Services",null,"R1L","GLOUCESTERSHIRE HEALTH AND CARE NHS FOUNDATION TRUST",null,"R1L","GLOUCESTERSHIRE HEALTH AND CARE NHS FOUNDATION TRUST"]
[null,null,null,null,null,null,null,null,null,null,null,null,null,null,null,null,null,null,null,"QHL","RYW","BIRMINGHAM COMMUNITY HEALTHCARE NHS FOUNDATION TRUST","Community Healthcare Other",null,"RA2","GP CARE UK",null,"RA2","GP CARE UK"]
[null,null,null,null,null,null,null,null,null,null,null,null,null,null,null,null,null,null,null,"QHL","RYW","BIRMINGHAM COMMUNITY HEALTHCARE NHS FOUNDATION TRUST","Community Inpatient Services",null,"RA9","GUY'S AND ST THOMAS' NHS FOUNDATION TRUST",null,"RA9","GUY'S AND ST THOMAS' NHS FOUNDATION TRUST"]
[null,null,null,null,null,null,null,null,null,null,null,null,null,null,null,null,null,null,null,"QHL","RYW","BIRMINGHAM COMMUNITY HEALTHCARE NHS FOUNDATION TRUST","Community Nursing Services",null,"RAL","HAMPSHIRE AND ISLE OF WIGHT HEALTHCARE NHS FOUNDATION TRUST",null,"RAL","HAMPSHIRE AND ISLE OF WIGHT HEALTHCARE NHS FOUNDATION TRUST"]
[null,null,null,null,null,null,null,null,null,null,null,null,null,null,null,null,null,null,null,"QHL","RYW","BIRMINGHAM COMMUNITY HEALTHCARE NHS FOUNDATION TRUST","Rehabilitation & Therapy Services",null,"RAT","HARROGATE AND DISTRICT NHS FOUNDATION TRUST",null,"RAT","HARROGATE AND DISTRICT NHS FOUNDATION TRUST"]
[null,null,null,null,null,null,null,null,null,null,null,null,null,null,null,null,null,null,null,"QHL","RYW","BIRMINGHAM COMMUNITY HEALTHCARE NHS FOUNDATION TRUST","Specialist Services",null,"RAX","HCRG CARE LTD",null,"RAX","HCRG CARE LTD"]
[null,null,null,null,null,null,null,null,null,null,null,null,null,null,null,null,null,null,null,"QHL","RRK","UNIVERSITY HOSPITALS BIRMINGHAM NHS FOUNDATION TRUST","Children & Family Services",null,"RBK","HCRG CARE SERVICES LTD",null,"RBK","HCRG CARE SERVICES LTD"]
[null,null,null,null,null,null,null,null,null,null,null,null,null,null,null,null,null,null,null,"QHL","RRK","UNIVERSITY HOSPITALS BIRMINGHAM NHS FOUNDATION TRUST","Community Healthcare Other",null,"RBN","HEREFORDSHIRE AND WORCESTERSHIRE HEALTH AND CARE NHS TRUST",null,"RBN","HEREFORDSHIRE AND WORCESTERSHIRE HEALTH AND CARE NHS TRUST"]
[null,null,null,null,null,null,null,null,null,null,null,null,null,null,null,null,null,null,null,"QHL","RRK","UNIVERSITY HOSPITALS BIRMINGHAM NHS FOUNDATION TRUST","Community Nursing Services",null,"RBS","HERTFORDSHIRE COMMUNITY NHS TRUST",null,"RBS","HERTFORDSHIRE COMMUNITY NHS TRUST"]
[null,null,null,null,null,null,null,null,null,null,null,null,null,null,null,null,null,null,null,"QHL","RRK","UNIVERSITY HOSPITALS BIRMINGHAM NHS FOUNDATION TRUST","Rehabilitation & Therapy Services",null,"RBT","HOMERTON HEALTHCARE NHS FOUNDATION TRUST",null,"RBT","HOMERTON HEALTHCARE NHS FOUNDATION TRUST"]
[null,null,null,null,null,null,null,null,null,null,null,null,null,null,null,null,null,null,null,"QHL","RRK","UNIVERSITY HOSPITALS BIRMINGHAM NHS FOUNDATION TRUST","Specialist Services",null,"RCD","HUMBER TEACHING NHS FOUNDATION TRUST",null,"RCD","HUMBER TEACHING NHS FOUNDATION TRUST"]
[null,null,null,null,null,null,null,null,null,null,null,null,null,null,null,null,null,null,null,"QHM","RXP","COUNTY DURHAM AND DARLINGTON NHS FOUNDATION TRUST","Community Inpatient Services",null,"RCF","INSIDEVUE LIMITED",null,"RCF","INSIDEVUE LIMITED"]
[null,null,null,null,null,null,null,null,null,null,null,null,null,null,null,null,null,null,null,"QHM","RR7","GATESHEAD HEALTH NHS FOUNDATION TRUST","Specialist Services",null,"RCU","KENT COMMUNITY HEALTH NHS FOUNDATION TRUST",null,"RCU","KENT COMMUNITY HEALTH NHS FOUNDATION TRUST"]
[null,null,null,null,null,null,null,null,null,null,null,null,null,null,null,null,null,null,null,"QHM","RNN","NORTH CUMBRIA INTEGRATED CARE NHS FOUNDATION TRUST","Children & Family Services",null,"RDE","KINGSTON AND RICHMOND NHS FOUNDATION TRUST",null,"RDE","KINGSTON AND RICHMOND NHS FOUNDATION TRUST"]
[null,null,null,null,null,null,null,null,null,null,null,null,null,null,null,null,null,null,null,"QHM","RNN","NORTH CUMBRIA INTEGRATED CARE NHS FOUNDATION TRUST","Community Healthcare Other",null,"RDR","LANCASHIRE & SOUTH CUMBRIA NHS FOUNDATION TRUST",null,"RDR","LANCASHIRE & SOUTH CUMBRIA NHS FOUNDATION TRUST"]
[null,null,null,null,null,null,null,null,null,null,null,null,null,null,null,null,null,null,null,"QHM","RNN","NORTH CUMBRIA INTEGRATED CARE NHS FOUNDATION TRUST","Community Inpatient Services",null,"RDU","LANCASTER HOUSE CONSULTING DIAGNOSTICS SURGICAL LTD HQ",null,"RDU","LANCASTER HOUSE CONSULTING DIAGNOSTICS SURGICAL LTD HQ"]
[null,null,null,null,null,null,null,null,null,null,null,null,null,null,null,null,null,null,null,"QHM","RNN","NORTH CUMBRIA INTEGRATED CARE NHS FOUNDATION TRUST","Community Nursing Services",null,"RDY","LEICESTERSHIRE PARTNERSHIP NHS TRUST",null,"RDY","LEICESTERSHIRE PARTNERSHIP NHS TRUST"]
[null,null,null,null,null,null,null,null,null,null,null,null,null,null,null,null,null,null,null,"QHM","RNN","NORTH CUMBRIA INTEGRATED CARE NHS FOUNDATION TRUST","Rehabilitation & Therapy Services",null,"RFR","LEWISHAM AND GREENWICH NHS TRUST",null,"RFR","LEWISHAM AND GREENWICH NHS TRUST"]
[null,null,null,null,null,null,null,null,null,null,null,null,null,null,null,null,null,null,null,"QHM","RNN","NORTH CUMBRIA INTEGRATED CARE NHS FOUNDATION TRUST","Specialist Services",null,"RGR","LINCOLNSHIRE COMMUNITY HEALTH SERVICES NHS TRUST",null,"RGR","LINCOLNSHIRE COMMUNITY HEALTH SERVICES NHS TRUST"]
[null,null,null,null,null,null,null,null,null,null,null,null,null,null,null,null,null,null,null,"QHM","RVW","NORTH TEES AND HARTLEPOOL NHS FOUNDATION TRUST","Community Healthcare Other",null,"RH8","LIVEWELL SOUTHWEST",null,"RH8","LIVEWELL SOUTHWEST"]
[null,null,null,null,null,null,null,null,null,null,null,null,null,null,null,null,null,null,null,"QHM","RVW","NORTH TEES AND HARTLEPOOL NHS FOUNDATION TRUST","Community Nursing Services",null,"RHA","LLR PATIENT CARE LOCALLY",null,"RHA","LLR PATIENT CARE LOCALLY"]
[null,null,null,null,null,null,null,null,null,null,null,null,null,null,null,null,null,null,null,"QHM","RVW","NORTH TEES AND HARTLEPOOL NHS FOUNDATION TRUST","Rehabilitation & Therapy Services",null,"RHQ","LOCALA COMMUNITY PARTNERSHIPS CIC",null,"RHQ","LOCALA COMMUNITY PARTNERSHIPS CIC"]
[null,null,null,null,null,null,null,null,null,null,null,null,null,null,null,null,null,null,null,"QHM","RVW","NORTH TEES AND HARTLEPOOL NHS FOUNDATION TRUST","Specialist Services",null,"RJ1","LONDON NORTH WEST UNIVERSITY HEALTHCARE NHS TRUST",null,"RJ1","LONDON NORTH WEST UNIVERSITY HEALTHCARE NHS TRUST"]
[null,null,null,null,null,null,null,null,null,null,null,null,null,null,null,null,null,null,null,"QHM","RTF","NORTHUMBRIA HEALTHCARE NHS FOUNDATION TRUST","Community Nursing Services",null,"RJ2","MANCHESTER UNIVERSITY NHS FOUNDATION TRUST",null,"RJ2","MANCHESTER UNIVERSITY NHS FOUNDATION TRUST"]
[null,null,null,null,null,null,null,null,null,null,null,null,null,null,null,null,null,null,null,"QHM","RTF","NORTHUMBRIA HEALTHCARE NHS FOUNDATION TRUST","Rehabilitation & Therapy Services",null,"RJ6","MASTERCALL HEALTHCARE",null,"RJ6","MASTERCALL HEALTHCARE"]
[null,null,null,null,null,null,null,null,null,null,null,null,null,null,null,null,null,null,null,"QHM","RTF","NORTHUMBRIA HEALTHCARE NHS FOUNDATION TRUST","Specialist Services",null,"RJ7","MEDWAY COMMUNITY HEALTHCARE",null,"RJ7","MEDWAY COMMUNITY HEALTHCARE"]
[null,null,null,null,null,null,null,null,null,null,null,null,null,null,null,null,null,null,null,"QHM","RTR","SOUTH TEES HOSPITALS NHS FOUNDATION TRUST","Children & Family Services",null,"RJC","MERSEY AND WEST LANCASHIRE TEACHING HOSPITALS NHS TRUST",null,"RJC","MERSEY AND WEST LANCASHIRE TEACHING HOSPITALS NHS TRUST"]
[null,null,null,null,null,null,null,null,null,null,null,null,null,null,null,null,null,null,null,"QHM","RTR","SOUTH TEES HOSPITALS NHS FOUNDATION TRUST","Community Inpatient Services",null,"RJL","MERSEY CARE NHS FOUNDATION TRUST",null,"RJL","MERSEY CARE NHS FOUNDATION TRUST"]
[null,null,null,null,null,null,null,null,null,null,null,null,null,null,null,null,null,null,null,"QHM","RTR","SOUTH TEES HOSPITALS NHS FOUNDATION TRUST","Community Nursing Services",null,"RJN","MID CHESHIRE HOSPITALS NHS FOUNDATION TRUST",null,"RJN","MID CHESHIRE HOSPITALS NHS FOUNDATION TRUST"]
[null,null,null,null,null,null,null,null,null,null,null,null,null,null,null,null,null,null,null,"QHM","RTR","SOUTH TEES HOSPITALS NHS FOUNDATION TRUST","Rehabilitation & Therapy Services",null,"RK9","MID HAMPSHIRE HEALTHCARE LIMITED",null,"RK9","MID HAMPSHIRE HEALTHCARE LIMITED"]
[null,null,null,null,null,null,null,null,null,null,null,null,null,null,null,null,null,null,null,"QHM","RTR","SOUTH TEES HOSPITALS NHS FOUNDATION TRUST","Specialist Services",null,"RKE","MID YORKSHIRE TEACHING NHS TRUST",null,"RKE","MID YORKSHIRE TEACHING NHS TRUST"]
[null,null,null,null,null,null,null,null,null,null,null,null,null,null,null,null,null,null,null,"QHM","R0B","SOUTH TYNESIDE AND SUNDERLAND NHS FOUNDATION TRUST","Children & Family Services",null,"RKL","MIDLANDS PARTNERSHIP UNIVERSITY NHS FOUNDATION TRUST",null,"RKL","MIDLANDS PARTNERSHIP UNIVERSITY NHS FOUNDATION TRUST"]
[null,null,null,null,null,null,null,null,null,null,null,null,null,null,null,null,null,null,null,"QHM","R0B","SOUTH TYNESIDE AND SUNDERLAND NHS FOUNDATION TRUST","Community Healthcare Other",null,"RL4","MILTON KEYNES URGENT CARE SERVICES CIC HQ",null,"RL4","MILTON KEYNES URGENT CARE SERVICES CIC HQ"]
[null,null,null,null,null,null,null,null,null,null,null,null,null,null,null,null,null,null,null,"QHM","R0B","SOUTH TYNESIDE AND SUNDERLAND NHS FOUNDATION TRUST","Community Inpatient Services",null,"RLQ","NORFOLK COMMUNITY HEALTH AND CARE NHS TRUST",null,"RLQ","NORFOLK COMMUNITY HEALTH AND CARE NHS TRUST"]
[null,null,null,null,null,null,null,null,null,null,null,null,null,null,null,null,null,null,null,"QHM","R0B","SOUTH TYNESIDE AND SUNDERLAND NHS FOUNDATION TRUST","Community Nursing Services",null,"RMC","NORTH CUMBRIA INTEGRATED CARE NHS FOUNDATION TRUST",null,"RMC","NORTH CUMBRIA INTEGRATED CARE NHS FOUNDATION TRUST"]
[null,null,null,null,null,null,null,null,null,null,null,null,null,null,null,null,null,null,null,"QHM","R0B","SOUTH TYNESIDE AND SUNDERLAND NHS FOUNDATION TRUST","Rehabilitation & Therapy Services",null,"RMP","NORTH EAST LONDON NHS FOUNDATION TRUST",null,"RMP","NORTH EAST LONDON NHS FOUNDATION TRUST"]
[null,null,null,null,null,null,null,null,null,null,null,null,null,null,null,null,null,null,null,"QHM","R0B","SOUTH TYNESIDE AND SUNDERLAND NHS FOUNDATION TRUST","Specialist Services",null,"RNA","NORTH HAMPSHIRE URGENT CARE",null,"RNA","NORTH HAMPSHIRE URGENT CARE"]
[null,null,null,null,null,null,null,null,null,null,null,null,null,null,null,null,null,null,null,"QHM","RTD","THE NEWCASTLE UPON TYNE HOSPITALS NHS FOUNDATION TRUST","Children & Family Services",null,"RNN","NORTH TEES AND HARTLEPOOL NHS FOUNDATION TRUST",null,"RNN","NORTH TEES AND HARTLEPOOL NHS FOUNDATION TRUST"]
[null,null,null,null,null,null,null,null,null,null,null,null,null,null,null,null,null,null,null,"QJ2","RY8","DERBYSHIRE COMMUNITY HEALTH SERVICES NHS FOUNDATION TRUST","Children & Family Services",null,"RNU","NORTHAMPTONSHIRE HEALTHCARE NHS FOUNDATION TRUST",null,"RNU","NORTHAMPTONSHIRE HEALTHCARE NHS FOUNDATION TRUST"]
[null,null,null,null,null,null,null,null,null,null,null,null,null,null,null,null,null,null,null,"QJ2","RY8","DERBYSHIRE COMMUNITY HEALTH SERVICES NHS FOUNDATION TRUST","Community Healthcare Other",null,"RP1","NORTHERN LINCOLNSHIRE AND GOOLE NHS FOUNDATION TRUST",null,"RP1","NORTHERN LINCOLNSHIRE AND GOOLE NHS FOUNDATION TRUST"]
[null,null,null,null,null,null,null,null,null,null,null,null,null,null,null,null,null,null,null,"QJ2","RY8","DERBYSHIRE COMMUNITY HEALTH SERVICES NHS FOUNDATION TRUST","Community Inpatient Services",null,"RPG","NORTHUMBRIA HEALTHCARE NHS FOUNDATION TRUST",null,"RPG","NORTHUMBRIA HEALTHCARE NHS FOUNDATION TRUST"]
[null,null,null,null,null,null,null,null,null,null,null,null,null,null,null,null,null,null,null,"QJ2","RY8","DERBYSHIRE COMMUNITY HEALTH SERVICES NHS FOUNDATION TRUST","Community Nursing Services",null,"RQM","NOTTINGHAM CITYCARE PARTNERSHIP",null,"RQM","NOTTINGHAM CITYCARE PARTNERSHIP"]
[null,null,null,null,null,null,null,null,null,null,null,null,null,null,null,null,null,null,null,"QJ2","RY8","DERBYSHIRE COMMUNITY HEALTH SERVICES NHS FOUNDATION TRUST","Rehabilitation & Therapy Services",null,"RQX","NOTTINGHAM UNIVERSITY HOSPITALS NHS TRUST",null,"RQX","NOTTINGHAM UNIVERSITY HOSPITALS NHS TRUST"]
[null,null,null,null,null,null,null,null,null,null,null,null,null,null,null,null,null,null,null,"QJ2","RY8","DERBYSHIRE COMMUNITY HEALTH SERVICES NHS FOUNDATION TRUST","Specialist Services",null,"RR7","NOTTINGHAMSHIRE HEALTHCARE NHS FOUNDATION TRUST",null,"RR7","NOTTINGHAMSHIRE HEALTHCARE NHS FOUNDATION TRUST"]
[null,null,null,null,null,null,null,null,null,null,null,null,null,null,null,null,null,null,null,"QJ2","RXM","DERBYSHIRE HEALTHCARE NHS FOUNDATION TRUST","Children & Family Services",null,"RRE","NOVUS HEALTH LTD",null,"RRE","NOVUS HEALTH LTD"]
[null,null,null,null,null,null,null,null,null,null,null,null,null,null,null,null,null,null,null,"QJG","RDE","EAST SUFFOLK AND NORTH ESSEX NHS FOUNDATION TRUST","Children & Family Services",null,"RRF","OXFORD HEALTH NHS FOUNDATION TRUST",null,"RRF","OXFORD HEALTH NHS FOUNDATION TRUST"]
[null,null,null,null,null,null,null,null,null,null,null,null,null,null,null,null,null,null,null,"QJG","RDE","EAST SUFFOLK AND NORTH ESSEX NHS FOUNDATION TRUST","Community Healthcare Other",null,"RRK","OXLEAS NHS FOUNDATION TRUST",null,"RRK","OXLEAS NHS FOUNDATION TRUST"]
[null,null,null,null,null,null,null,null,null,null,null,null,null,null,null,null,null,null,null,"QJG","RDE","EAST SUFFOLK AND NORTH ESSEX NHS FOUNDATION TRUST","Community Nursing Services",null,"RT1","OZONE HEALTH",null,"RT1","OZONE HEALTH"]
[null,null,null,null,null,null,null,null,null,null,null,null,null,null,null,null,null,null,null,"QJG","RDE","EAST SUFFOLK AND NORTH ESSEX NHS FOUNDATION TRUST","Rehabilitation & Therapy Services",null,"RT5","PENNINE MUSCULOSKELETAL PARTNERSHIP (ICATS)",null,"RT5","PENNINE MUSCULOSKELETAL PARTNERSHIP (ICATS)"]
[null,null,null,null,null,null,null,null,null,null,null,null,null,null,null,null,null,null,null,"QJG","RGR","WEST SUFFOLK NHS FOUNDATION TRUST","Children & Family Services",null,"RTD","PRACTICE PLUS GROUP HOLDINGS",null,"RTD","PRACTICE PLUS GROUP HOLDINGS"]
[null,null,null,null,null,null,null,null,null,null,null,null,null,null,null,null,null,null,null,"QJG","RGR","WEST SUFFOLK NHS FOUNDATION TRUST","Community Healthcare Other",null,"RTF","PROCARE COMMUNITY SERVICES LTD",null,"RTF","PROCARE COMMUNITY SERVICES LTD"]
[null,null,null,null,null,null,null,null,null,null,null,null,null,null,null,null,null,null,null,"QJG","RGR","WEST SUFFOLK NHS FOUNDATION TRUST","Community Inpatient Services",null,"RTQ","PROVIDE",null,"RTQ","PROVIDE"]
[null,null,null,null,null,null,null,null,null,null,null,null,null,null,null,null,null,null,null,"QJG","RGR","WEST SUFFOLK NHS FOUNDATION TRUST","Community Nursing Services",null,"RTR","ROTHERHAM DONCASTER AND SOUTH HUMBER NHS FOUNDATION TRUST",null,"RTR","ROTHERHAM DONCASTER AND SOUTH HUMBER NHS FOUNDATION TRUST"]
[null,null,null,null,null,null,null,null,null,null,null,null,null,null,null,null,null,null,null,"QJG","RGR","WEST SUFFOLK NHS FOUNDATION TRUST","Rehabilitation & Therapy Services",null,"RTX","ROYAL DEVON UNIVERSITY HEALTHCARE NHS FOUNDATION TRUST",null,"RTX","ROYAL DEVON UNIVERSITY HEALTHCARE NHS FOUNDATION TRUST"]
[null,null,null,null,null,null,null,null,null,null,null,null,null,null,null,null,null,null,null,"QJK","RH8","ROYAL DEVON UNIVERSITY HEALTHCARE NHS FOUNDATION TRUST","Community Healthcare Other",null,"RV3","ROYAL FREE LONDON NHS FOUNDATION TRUST",null,"RV3","ROYAL FREE LONDON NHS FOUNDATION TRUST"]
[null,null,null,null,null,null,null,null,null,null,null,null,null,null,null,null,null,null,null,"QJK","RH8","ROYAL DEVON UNIVERSITY HEALTHCARE NHS FOUNDATION TRUST","Community Inpatient Services",null,"RV9","ROYAL SURREY COUNTY HOSPITAL NHS FOUNDATION TRUST",null,"RV9","ROYAL SURREY COUNTY HOSPITAL NHS FOUNDATION TRUST"]
[null,null,null,null,null,null,null,null,null,null,null,null,null,null,null,null,null,null,null,"QJK","RH8","ROYAL DEVON UNIVERSITY HEALTHCARE NHS FOUNDATION TRUST","Community Nursing Services",null,"RVR","SHEFFIELD CHILDREN'S NHS FOUNDATION TRUST",null,"RVR","SHEFFIELD CHILDREN'S NHS FOUNDATION TRUST"]
[null,null,null,null,null,null,null,null,null,null,null,null,null,null,null,null,null,null,null,"QJK","RH8","ROYAL DEVON UNIVERSITY HEALTHCARE NHS FOUNDATION TRUST","Rehabilitation & Therapy Services",null,"RVW","SHEFFIELD TEACHING HOSPITALS NHS FOUNDATION TRUST",null,"RVW","SHEFFIELD TEACHING HOSPITALS NHS FOUNDATION TRUST"]
[null,null,null,null,null,null,null,null,null,null,null,null,null,null,null,null,null,null,null,"QJK","RH8","ROYAL DEVON UNIVERSITY HEALTHCARE NHS FOUNDATION TRUST","Specialist Services",null,"RW1","SHROPSHIRE COMMUNITY HEALTH NHS TRUST",null,"RW1","SHROPSHIRE COMMUNITY HEALTH NHS TRUST"]
[null,null,null,null,null,null,null,null,null,null,null,null,null,null,null,null,null,null,null,"QJK","RA9","TORBAY AND SOUTH DEVON NHS FOUNDATION TRUST","Community Inpatient Services",null,"RW4","SIRONA CARE & HEALTH",null,"RW4","SIRONA CARE & HEALTH"]
[null,null,null,null,null,null,null,null,null,null,null,null,null,null,null,null,null,null,null,"QJK","RA9","TORBAY AND SOUTH DEVON NHS FOUNDATION TRUST","Community Nursing Services",null,"RW5","SOUTH TEES HOSPITALS NHS FOUNDATION TRUST",null,"RW5","SOUTH TEES HOSPITALS NHS FOUNDATION TRUST"]
[null,null,null,null,null,null,null,null,null,null,null,null,null,null,null,null,null,null,null,"QJK","RA9","TORBAY AND SOUTH DEVON NHS FOUNDATION TRUST","Rehabilitation & Therapy Services",null,"RWJ","SOUTH TYNESIDE AND SUNDERLAND NHS FOUNDATION TRUST",null,"RWJ","SOUTH TYNESIDE AND SUNDERLAND NHS FOUNDATION TRUST"]
[null,null,null,null,null,null,null,null,null,null,null,null,null,null,null,null,null,null,null,"QJK","RA9","TORBAY AND SOUTH DEVON NHS FOUNDATION TRUST","Specialist Services",null,"RWK","SOUTH WARWICKSHIRE UNIVERSITY NHS FOUNDATION TRUST",null,"RWK","SOUTH WARWICKSHIRE UNIVERSITY NHS FOUNDATION TRUST"]
[null,null,null,null,null,null,null,null,null,null,null,null,null,null,null,null,null,null,null,"QJK","RK9","UNIVERSITY HOSPITALS PLYMOUTH NHS TRUST","Children & Family Services",null,"RWX","SOUTH WEST YORKSHIRE PARTNERSHIP NHS FOUNDATION TRUST",null,"RWX","SOUTH WEST YORKSHIRE PARTNERSHIP NHS FOUNDATION TRUST"]
[null,null,null,null,null,null,null,null,null,null,null,null,null,null,null,null,null,null,null,"QJM","RY5","LINCOLNSHIRE COMMUNITY HEALTH SERVICES NHS TRUST","Children & Family Services",null,"RWY","ST GEORGE'S UNIVERSITY HOSPITALS NHS FOUNDATION TRUST",null,"RWY","ST GEORGE'S UNIVERSITY HOSPITALS NHS FOUNDATION TRUST"]
[null,null,null,null,null,null,null,null,null,null,null,null,null,null,null,null,null,null,null,"QJM","RY5","LINCOLNSHIRE COMMUNITY HEALTH SERVICES NHS TRUST","Community Healthcare Other",null,"RX1","STOCKPORT NHS FOUNDATION TRUST",null,"RX1","STOCKPORT NHS FOUNDATION TRUST"]
[null,null,null,null,null,null,null,null,null,null,null,null,null,null,null,null,null,null,null,"QJM","RY5","LINCOLNSHIRE COMMUNITY HEALTH SERVICES NHS TRUST","Community Inpatient Services",null,"RXA","SUFFOLK GP FEDERATION",null,"RXA","SUFFOLK GP FEDERATION"]
[null,null,null,null,null,null,null,null,null,null,null,null,null,null,null,null,null,null,null,"QJM","RY5","LINCOLNSHIRE COMMUNITY HEALTH SERVICES NHS TRUST","Community Nursing Services",null,"RXC","SUSSEX COMMUNITY DERMATOLOGY SERVICE",null,"RXC","SUSSEX COMMUNITY DERMATOLOGY SERVICE"]
[null,null,null,null,null,null,null,null,null,null,null,null,null,null,null,null,null,null,null,"QJM","RY5","LINCOLNSHIRE COMMUNITY HEALTH SERVICES NHS TRUST","Rehabilitation & Therapy Services",null,"RXE","SUSSEX COMMUNITY NHS FOUNDATION TRUST",null,"RXE","SUSSEX COMMUNITY NHS FOUNDATION TRUST"]
[null,null,null,null,null,null,null,null,null,null,null,null,null,null,null,null,null,null,null,"QJM","RY5","LINCOLNSHIRE COMMUNITY HEALTH SERVICES NHS TRUST","Specialist Services",null,"RXF","TAMESIDE AND GLOSSOP INTEGRATED CARE NHS FOUNDATION TRUST",null,"RXF","TAMESIDE AND GLOSSOP INTEGRATED CARE NHS FOUNDATION TRUST"]
[null,null,null,null,null,null,null,null,null,null,null,null,null,null,null,null,null,null,null,"QK1","RT5","LEICESTERSHIRE PARTNERSHIP NHS TRUST","Children & Family Services",null,"RXG","TAURUS HEALTHCARE LTD",null,"RXG","TAURUS HEALTHCARE LTD"]
[null,null,null,null,null,null,null,null,null,null,null,null,null,null,null,null,null,null,null,"QK1","RT5","LEICESTERSHIRE PARTNERSHIP NHS TRUST","Community Healthcare Other",null,"RXL","THE DUDLEY GROUP NHS FOUNDATION TRUST",null,"RXL","THE DUDLEY GROUP NHS FOUNDATION TRUST"]
[null,null,null,null,null,null,null,null,null,null,null,null,null,null,null,null,null,null,null,"QK1","RT5","LEICESTERSHIRE PARTNERSHIP NHS TRUST","Community Inpatient Services",null,"RXM","THE NEWCASTLE UPON TYNE HOSPITALS NHS FOUNDATION TRUST",null,"RXM","THE NEWCASTLE UPON TYNE HOSPITALS NHS FOUNDATION TRUST"]
[null,null,null,null,null,null,null,null,null,null,null,null,null,null,null,null,null,null,null,"QK1","RT5","LEICESTERSHIRE PARTNERSHIP NHS TRUST","Community Nursing Services",null,"RXP","THE ROTHERHAM NHS FOUNDATION TRUST",null,"RXP","THE ROTHERHAM NHS FOUNDATION TRUST"]
[null,null,null,null,null,null,null,null,null,null,null,null,null,null,null,null,null,null,null,"QK1","RT5","LEICESTERSHIRE PARTNERSHIP NHS TRUST","Rehabilitation & Therapy Services",null,"RXQ","THE ROYAL HOSPITAL FOR NEURO-DISABILITY",null,"RXQ","THE ROYAL HOSPITAL FOR NEURO-DISABILITY"]
[null,null,null,null,null,null,null,null,null,null,null,null,null,null,null,null,null,null,null,"QK1","RT5","LEICESTERSHIRE PARTNERSHIP NHS TRUST","Specialist Services",null,"RXR","THE ROYAL WOLVERHAMPTON NHS TRUST",null,"RXR","THE ROYAL WOLVERHAMPTON NHS TRUST"]
[null,null,null,null,null,null,null,null,null,null,null,null,null,null,null,null,null,null,null,"QKK","RJ1","GUY'S AND ST THOMAS' NHS FOUNDATION TRUST","Children & Family Services",null,"RY2","TORBAY AND SOUTH DEVON NHS FOUNDATION TRUST",null,"RY2","TORBAY AND SOUTH DEVON NHS FOUNDATION TRUST"]
[null,null,null,null,null,null,null,null,null,null,null,null,null,null,null,null,null,null,null,"QKK","RJ1","GUY'S AND ST THOMAS' NHS FOUNDATION TRUST","Community Inpatient Services",null,"RY3","TURNING POINT - BIRCHWOOD NURSING HOME",null,"RY3","TURNING POINT - BIRCHWOOD NURSING HOME"]
[null,null,null,null,null,null,null,null,null,null,null,null,null,null,null,null,null,null,null,"QKK","RJ1","GUY'S AND ST THOMAS' NHS FOUNDATION TRUST","Community Nursing Services",null,"RY4","UNIVERSITY HOSPITALS BIRMINGHAM NHS FOUNDATION TRUST",null,"RY4","UNIVERSITY HOSPITALS BIRMINGHAM NHS FOUNDATION TRUST"]
[null,null,null,null,null,null,null,null,null,null,null,null,null,null,null,null,null,null,null,"QKK","RJ1","GUY'S AND ST THOMAS' NHS FOUNDATION TRUST","Rehabilitation & Therapy Services",null,"RY5","UNIVERSITY HOSPITALS OF MORECAMBE BAY NHS FOUNDATION TRUST",null,"RY5","UNIVERSITY HOSPITALS OF MORECAMBE BAY NHS FOUNDATION TRUST"]
[null,null,null,null,null,null,null,null,null,null,null,null,null,null,null,null,null,null,null,"QKK","RJ1","GUY'S AND ST THOMAS' NHS FOUNDATION TRUST","Specialist Services",null,"RY7","UNIVERSITY HOSPITALS PLYMOUTH NHS TRUST",null,"RY7","UNIVERSITY HOSPITALS PLYMOUTH NHS TRUST"]
[null,null,null,null,null,null,null,null,null,null,null,null,null,null,null,null,null,null,null,"QKK","RJ2","LEWISHAM AND GREENWICH NHS TRUST","Children & Family Services",null,"RY8","WALSALL HEALTHCARE NHS TRUST",null,"RY8","WALSALL HEALTHCARE NHS TRUST"]
[null,null,null,null,null,null,null,null,null,null,null,null,null,null,null,null,null,null,null,"QKK","RJ2","LEWISHAM AND GREENWICH NHS TRUST","Community Nursing Services",null,"RYV","WEST LONDON NHS TRUST",null,"RYV","WEST LONDON NHS TRUST"]
[null,null,null,null,null,null,null,null,null,null,null,null,null,null,null,null,null,null,null,"QKK","RJ2","LEWISHAM AND GREENWICH NHS TRUST","Rehabilitation & Therapy Services",null,"RYW","WEST SUFFOLK NHS FOUNDATION TRUST",null,"RYW","WEST SUFFOLK NHS FOUNDATION TRUST"]
[null,null,null,null,null,null,null,null,null,null,null,null,null,null,null,null,null,null,null,"QKK","RJ2","LEWISHAM AND GREENWICH NHS TRUST","Specialist Services",null,"RYX","WHITTINGTON HEALTH NHS TRUST",null,"RYX","WHITTINGTON HEALTH NHS TRUST"]
[null,null,null,null,null,null,null,null,null,null,null,null,null,null,null,null,null,null,null,"QKK","RPG","OXLEAS NHS FOUNDATION TRUST","Children & Family Services",null,"RYY","WIRRAL COMMUNITY HEALTH AND CARE NHS FOUNDATION TRUST",null,"RYY","WIRRAL COMMUNITY HEALTH AND CARE NHS FOUNDATION TRUST"]
[null,null,null,null,null,null,null,null,null,null,null,null,null,null,null,null,null,null,null,"QKK","RPG","OXLEAS NHS FOUNDATION TRUST","Community Healthcare Other",null,"TAD","WRIGHTINGTON, WIGAN AND LEIGH NHS FOUNDATION TRUST",null,"TAD","WRIGHTINGTON, WIGAN AND LEIGH NHS FOUNDATION TRUST"]
[null,null,null,null,null,null,null,null,null,null,null,null,null,null,null,null,null,null,null,"QKK","RPG","OXLEAS NHS FOUNDATION TRUST","Community Inpatient Services",null,"TAJ","WYE VALLEY NHS TRUST",null,"TAJ","WYE VALLEY NHS TRUST"]
[null,null,null,null,null,null,null,null,null,null,null,null,null,null,null,null,null,null,null,"QKK","RPG","OXLEAS NHS FOUNDATION TRUST","Community Nursing Services",null,"VLN99","YOUR HEALTHCARE",null,"VLN99","YOUR HEALTHCARE"]
[null,null,null,null,null,null,null,null,null,null,null,null,null,null,null,null,null,null,null,"QKK","RPG","OXLEAS NHS FOUNDATION TRUST","Rehabilitation & Therapy Services"]
[null,null,null,null,null,null,null,null,null,null,null,null,null,null,null,null,null,null,null,"QKK","RPG","OXLEAS NHS FOUNDATION TRUST","Specialist Services"]
[null,null,null,null,null,null,null,null,null,null,null,null,null,null,null,null,null,null,null,"QKS","RYY","KENT COMMUNITY HEALTH NHS FOUNDATION TRUST","Children & Family Services"]
[null,null,null,null,null,null,null,null,null,null,null,null,null,null,null,null,null,null,null,"QKS","RYY","KENT COMMUNITY HEALTH NHS FOUNDATION TRUST","Community Healthcare Other"]
[null,null,null,null,null,null,null,null,null,null,null,null,null,null,null,null,null,null,null,"QKS","RYY","KENT COMMUNITY HEALTH NHS FOUNDATION TRUST","Community Inpatient Services"]
[null,null,null,null,null,null,null,null,null,null,null,null,null,null,null,null,null,null,null,"QKS","RYY","KENT COMMUNITY HEALTH NHS FOUNDATION TRUST","Community Nursing Services"]
[null,null,null,null,null,null,null,null,null,null,null,null,null,null,null,null,null,null,null,"QKS","RYY","KENT COMMUNITY HEALTH NHS FOUNDATION TRUST","Rehabilitation & Therapy Services"]
[null,null,null,null,null,null,null,null,null,null,null,null,null,null,null,null,null,null,null,"QKS","RYY","KENT COMMUNITY HEALTH NHS FOUNDATION TRUST","Specialist Services"]
[null,null,null,null,null,null,null,null,null,null,null,null,null,null,null,null,null,null,null,"QM7","RY4","HERTFORDSHIRE COMMUNITY NHS TRUST","Children & Family Services"]
[null,null,null,null,null,null,null,null,null,null,null,null,null,null,null,null,null,null,null,"QM7","RY4","HERTFORDSHIRE COMMUNITY NHS TRUST","Community Healthcare Other"]
[null,null,null,null,null,null,null,null,null,null,null,null,null,null,null,null,null,null,null,"QM7","RY4","HERTFORDSHIRE COMMUNITY NHS TRUST","Community Inpatient Services"]
[null,null,null,null,null,null,null,null,null,null,null,null,null,null,null,null,null,null,null,"QM7","RY4","HERTFORDSHIRE COMMUNITY NHS TRUST","Community Nursing Services"]
[null,null,null,null,null,null,null,null,null,null,null,null,null,null,null,null,null,null,null,"QM7","RY4","HERTFORDSHIRE COMMUNITY NHS TRUST","Rehabilitation & Therapy Services"]
[null,null,null,null,null,null,null,null,null,null,null,null,null,null,null,null,null,null,null,"QM7","RY4","HERTFORDSHIRE COMMUNITY NHS TRUST","Specialist Services"]
[null,null,null,null,null,null,null,null,null,null,null,null,null,null,null,null,null,null,null,"QMF","RWK","EAST LONDON NHS FOUNDATION TRUST","Children & Family Services"]
[null,null,null,null,null,null,null,null,null,null,null,null,null,null,null,null,null,null,null,"QMF","RWK","EAST LONDON NHS FOUNDATION TRUST","Community Healthcare Other"]
[null,null,null,null,null,null,null,null,null,null,null,null,null,null,null,null,null,null,null,"QMF","RWK","EAST LONDON NHS FOUNDATION TRUST","Community Inpatient Services"]
[null,null,null,null,null,null,null,null,null,null,null,null,null,null,null,null,null,null,null,"QMF","RWK","EAST LONDON NHS FOUNDATION TRUST","Community Nursing Services"]
[null,null,null,null,null,null,null,null,null,null,null,null,null,null,null,null,null,null,null,"QMF","RWK","EAST LONDON NHS FOUNDATION TRUST","Rehabilitation & Therapy Services"]
[null,null,null,null,null,null,null,null,null,null,null,null,null,null,null,null,null,null,null,"QMF","RWK","EAST LONDON NHS FOUNDATION TRUST","Specialist Services"]
[null,null,null,null,null,null,null,null,null,null,null,null,null,null,null,null,null,null,null,"QMF","RQX","HOMERTON HEALTHCARE NHS FOUNDATION TRUST","Children & Family Services"]
[null,null,null,null,null,null,null,null,null,null,null,null,null,null,null,null,null,null,null,"QMF","RQX","HOMERTON HEALTHCARE NHS FOUNDATION TRUST","Community Nursing Services"]
[null,null,null,null,null,null,null,null,null,null,null,null,null,null,null,null,null,null,null,"QMF","RQX","HOMERTON HEALTHCARE NHS FOUNDATION TRUST","Rehabilitation & Therapy Services"]
[null,null,null,null,null,null,null,null,null,null,null,null,null,null,null,null,null,null,null,"QMF","RQX","HOMERTON HEALTHCARE NHS FOUNDATION TRUST","Specialist Services"]
[null,null,null,null,null,null,null,null,null,null,null,null,null,null,null,null,null,null,null,"QMF","RAT","NORTH EAST LONDON NHS FOUNDATION TRUST","Children & Family Services"]
[null,null,null,null,null,null,null,null,null,null,null,null,null,null,null,null,null,null,null,"QMF","RAT","NORTH EAST LONDON NHS FOUNDATION TRUST","Community Healthcare Other"]
[null,null,null,null,null,null,null,null,null,null,null,null,null,null,null,null,null,null,null,"QMF","RAT","NORTH EAST LONDON NHS FOUNDATION TRUST","Community Inpatient Services"]
[null,null,null,null,null,null,null,null,null,null,null,null,null,null,null,null,null,null,null,"QMF","RAT","NORTH EAST LONDON NHS FOUNDATION TRUST","Community Nursing Services"]
[null,null,null,null,null,null,null,null,null,null,null,null,null,null,null,null,null,null,null,"QMF","RAT","NORTH EAST LONDON NHS FOUNDATION TRUST","Rehabilitation & Therapy Services"]
[null,null,null,null,null,null,null,null,null,null,null,null,null,null,null,null,null,null,null,"QMF","RAT","NORTH EAST LONDON NHS FOUNDATION TRUST","Specialist Services"]
[null,null,null,null,null,null,null,null,null,null,null,null,null,null,null,null,null,null,null,"QMJ","RV3","CENTRAL AND NORTH WEST LONDON NHS FOUNDATION TRUST","Children & Family Services"]
[null,null,null,null,null,null,null,null,null,null,null,null,null,null,null,null,null,null,null,"QMJ","RV3","CENTRAL AND NORTH WEST LONDON NHS FOUNDATION TRUST","Community Healthcare Other"]
[null,null,null,null,null,null,null,null,null,null,null,null,null,null,null,null,null,null,null,"QMJ","RV3","CENTRAL AND NORTH WEST LONDON NHS FOUNDATION TRUST","Community Inpatient Services"]
[null,null,null,null,null,null,null,null,null,null,null,null,null,null,null,null,null,null,null,"QMJ","RV3","CENTRAL AND NORTH WEST LONDON NHS FOUNDATION TRUST","Community Nursing Services"]
[null,null,null,null,null,null,null,null,null,null,null,null,null,null,null,null,null,null,null,"QMJ","RV3","CENTRAL AND NORTH WEST LONDON NHS FOUNDATION TRUST","Rehabilitation & Therapy Services"]
[null,null,null,null,null,null,null,null,null,null,null,null,null,null,null,null,null,null,null,"QMJ","RV3","CENTRAL AND NORTH WEST LONDON NHS FOUNDATION TRUST","Specialist Services"]
[null,null,null,null,null,null,null,null,null,null,null,null,null,null,null,null,null,null,null,"QMJ","RAL","ROYAL FREE LONDON NHS FOUNDATION TRUST","Community Healthcare Other"]
[null,null,null,null,null,null,null,null,null,null,null,null,null,null,null,null,null,null,null,"QMJ","RAL","ROYAL FREE LONDON NHS FOUNDATION TRUST","Community Inpatient Services"]
[null,null,null,null,null,null,null,null,null,null,null,null,null,null,null,null,null,null,null,"QMJ","RAL","ROYAL FREE LONDON NHS FOUNDATION TRUST","Community Nursing Services"]
[null,null,null,null,null,null,null,null,null,null,null,null,null,null,null,null,null,null,null,"QMJ","RAL","ROYAL FREE LONDON NHS FOUNDATION TRUST","Rehabilitation & Therapy Services"]
[null,null,null,null,null,null,null,null,null,null,null,null,null,null,null,null,null,null,null,"QMJ","RAL","ROYAL FREE LONDON NHS FOUNDATION TRUST","Specialist Services"]
[null,null,null,null,null,null,null,null,null,null,null,null,null,null,null,null,null,null,null,"QMJ","RKE","WHITTINGTON HEALTH NHS TRUST","Children & Family Services"]
[null,null,null,null,null,null,null,null,null,null,null,null,null,null,null,null,null,null,null,"QMJ","RKE","WHITTINGTON HEALTH NHS TRUST","Community Healthcare Other"]
[null,null,null,null,null,null,null,null,null,null,null,null,null,null,null,null,null,null,null,"QMJ","RKE","WHITTINGTON HEALTH NHS TRUST","Community Nursing Services"]
[null,null,null,null,null,null,null,null,null,null,null,null,null,null,null,null,null,null,null,"QMJ","RKE","WHITTINGTON HEALTH NHS TRUST","Rehabilitation & Therapy Services"]
[null,null,null,null,null,null,null,null,null,null,null,null,null,null,null,null,null,null,null,"QMJ","RKE","WHITTINGTON HEALTH NHS TRUST","Specialist Services"]
[null,null,null,null,null,null,null,null,null,null,null,null,null,null,null,null,null,null,null,"QMM","RY3","NORFOLK COMMUNITY HEALTH AND CARE NHS TRUST","Children & Family Services"]
[null,null,null,null,null,null,null,null,null,null,null,null,null,null,null,null,null,null,null,"QMM","RY3","NORFOLK COMMUNITY HEALTH AND CARE NHS TRUST","Community Healthcare Other"]
[null,null,null,null,null,null,null,null,null,null,null,null,null,null,null,null,null,null,null,"QMM","RY3","NORFOLK COMMUNITY HEALTH AND CARE NHS TRUST","Community Inpatient Services"]
[null,null,null,null,null,null,null,null,null,null,null,null,null,null,null,null,null,null,null,"QMM","RY3","NORFOLK COMMUNITY HEALTH AND CARE NHS TRUST","Community Nursing Services"]
[null,null,null,null,null,null,null,null,null,null,null,null,null,null,null,null,null,null,null,"QMM","RY3","NORFOLK COMMUNITY HEALTH AND CARE NHS TRUST","Rehabilitation & Therapy Services"]
[null,null,null,null,null,null,null,null,null,null,null,null,null,null,null,null,null,null,null,"QMM","RY3","NORFOLK COMMUNITY HEALTH AND CARE NHS TRUST","Specialist Services"]
[null,null,null,null,null,null,null,null,null,null,null,null,null,null,null,null,null,null,null,"QNC","RRE","MIDLANDS PARTNERSHIP UNIVERSITY NHS FOUNDATION TRUST","Children & Family Services"]
[null,null,null,null,null,null,null,null,null,null,null,null,null,null,null,null,null,null,null,"QNC","RRE","MIDLANDS PARTNERSHIP UNIVERSITY NHS FOUNDATION TRUST","Community Healthcare Other"]
[null,null,null,null,null,null,null,null,null,null,null,null,null,null,null,null,null,null,null,"QNC","RRE","MIDLANDS PARTNERSHIP UNIVERSITY NHS FOUNDATION TRUST","Community Nursing Services"]
[null,null,null,null,null,null,null,null,null,null,null,null,null,null,null,null,null,null,null,"QNC","RRE","MIDLANDS PARTNERSHIP UNIVERSITY NHS FOUNDATION TRUST","Rehabilitation & Therapy Services"]
[null,null,null,null,null,null,null,null,null,null,null,null,null,null,null,null,null,null,null,"QNC","RRE","MIDLANDS PARTNERSHIP UNIVERSITY NHS FOUNDATION TRUST","Specialist Services"]
[null,null,null,null,null,null,null,null,null,null,null,null,null,null,null,null,null,null,null,"QNQ","RWX","BERKSHIRE HEALTHCARE NHS FOUNDATION TRUST","Children & Family Services"]
[null,null,null,null,null,null,null,null,null,null,null,null,null,null,null,null,null,null,null,"QNQ","RWX","BERKSHIRE HEALTHCARE NHS FOUNDATION TRUST","Community Healthcare Other"]
[null,null,null,null,null,null,null,null,null,null,null,null,null,null,null,null,null,null,null,"QNQ","RWX","BERKSHIRE HEALTHCARE NHS FOUNDATION TRUST","Community Inpatient Services"]
[null,null,null,null,null,null,null,null,null,null,null,null,null,null,null,null,null,null,null,"QNQ","RWX","BERKSHIRE HEALTHCARE NHS FOUNDATION TRUST","Community Nursing Services"]
[null,null,null,null,null,null,null,null,null,null,null,null,null,null,null,null,null,null,null,"QNQ","RWX","BERKSHIRE HEALTHCARE NHS FOUNDATION TRUST","Rehabilitation & Therapy Services"]
[null,null,null,null,null,null,null,null,null,null,null,null,null,null,null,null,null,null,null,"QNQ","RWX","BERKSHIRE HEALTHCARE NHS FOUNDATION TRUST","Specialist Services"]
[null,null,null,null,null,null,null,null,null,null,null,null,null,null,null,null,null,null,null,"QNQ","RDU","FRIMLEY HEALTH NHS FOUNDATION TRUST","Community Healthcare Other"]
[null,null,null,null,null,null,null,null,null,null,null,null,null,null,null,null,null,null,null,"QNX","RXC","EAST SUSSEX HEALTHCARE NHS TRUST","Children & Family Services"]
[null,null,null,null,null,null,null,null,null,null,null,null,null,null,null,null,null,null,null,"QNX","RXC","EAST SUSSEX HEALTHCARE NHS TRUST","Community Inpatient Services"]
[null,null,null,null,null,null,null,null,null,null,null,null,null,null,null,null,null,null,null,"QNX","RXC","EAST SUSSEX HEALTHCARE NHS TRUST","Community Nursing Services"]
[null,null,null,null,null,null,null,null,null,null,null,null,null,null,null,null,null,null,null,"QNX","RXC","EAST SUSSEX HEALTHCARE NHS TRUST","Rehabilitation & Therapy Services"]
[null,null,null,null,null,null,null,null,null,null,null,null,null,null,null,null,null,null,null,"QNX","RXC","EAST SUSSEX HEALTHCARE NHS TRUST","Specialist Services"]
[null,null,null,null,null,null,null,null,null,null,null,null,null,null,null,null,null,null,null,"QNX","RDR","SUSSEX COMMUNITY NHS FOUNDATION TRUST","Children & Family Services"]
[null,null,null,null,null,null,null,null,null,null,null,null,null,null,null,null,null,null,null,"QNX","RDR","SUSSEX COMMUNITY NHS FOUNDATION TRUST","Community Healthcare Other"]
[null,null,null,null,null,null,null,null,null,null,null,null,null,null,null,null,null,null,null,"QNX","RDR","SUSSEX COMMUNITY NHS FOUNDATION TRUST","Community Inpatient Services"]
[null,null,null,null,null,null,null,null,null,null,null,null,null,null,null,null,null,null,null,"QNX","RDR","SUSSEX COMMUNITY NHS FOUNDATION TRUST","Community Nursing Services"]
[null,null,null,null,null,null,null,null,null,null,null,null,null,null,null,null,null,null,null,"QNX","RDR","SUSSEX COMMUNITY NHS FOUNDATION TRUST","Rehabilitation & Therapy Services"]
[null,null,null,null,null,null,null,null,null,null,null,null,null,null,null,null,null,null,null,"QNX","RDR","SUSSEX COMMUNITY NHS FOUNDATION TRUST","Specialist Services"]
[null,null,null,null,null,null,null,null,null,null,null,null,null,null,null,null,null,null,null,"QOC","R1D","SHROPSHIRE COMMUNITY HEALTH NHS TRUST","Children & Family Services"]
[null,null,null,null,null,null,null,null,null,null,null,null,null,null,null,null,null,null,null,"QOC","R1D","SHROPSHIRE COMMUNITY HEALTH NHS TRUST","Community Healthcare Other"]
[null,null,null,null,null,null,null,null,null,null,null,null,null,null,null,null,null,null,null,"QOC","R1D","SHROPSHIRE COMMUNITY HEALTH NHS TRUST","Community Inpatient Services"]
[null,null,null,null,null,null,null,null,null,null,null,null,null,null,null,null,null,null,null,"QOC","R1D","SHROPSHIRE COMMUNITY HEALTH NHS TRUST","Community Nursing Services"]
[null,null,null,null,null,null,null,null,null,null,null,null,null,null,null,null,null,null,null,"QOC","R1D","SHROPSHIRE COMMUNITY HEALTH NHS TRUST","Rehabilitation & Therapy Services"]
[null,null,null,null,null,null,null,null,null,null,null,null,null,null,null,null,null,null,null,"QOC","R1D","SHROPSHIRE COMMUNITY HEALTH NHS TRUST","Specialist Services"]
[null,null,null,null,null,null,null,null,null,null,null,null,null,null,null,null,null,null,null,"QOP","RMC","BOLTON NHS FOUNDATION TRUST","Children & Family Services"]
[null,null,null,null,null,null,null,null,null,null,null,null,null,null,null,null,null,null,null,"QOP","RMC","BOLTON NHS FOUNDATION TRUST","Community Healthcare Other"]
[null,null,null,null,null,null,null,null,null,null,null,null,null,null,null,null,null,null,null,"QOP","RMC","BOLTON NHS FOUNDATION TRUST","Community Inpatient Services"]
[null,null,null,null,null,null,null,null,null,null,null,null,null,null,null,null,null,null,null,"QOP","RMC","BOLTON NHS FOUNDATION TRUST","Community Nursing Services"]
[null,null,null,null,null,null,null,null,null,null,null,null,null,null,null,null,null,null,null,"QOP","RMC","BOLTON NHS FOUNDATION TRUST","Rehabilitation & Therapy Services"]
[null,null,null,null,null,null,null,null,null,null,null,null,null,null,null,null,null,null,null,"QOP","RMC","BOLTON NHS FOUNDATION TRUST","Specialist Services"]
[null,null,null,null,null,null,null,null,null,null,null,null,null,null,null,null,null,null,null,"QOP","R0A","MANCHESTER UNIVERSITY NHS FOUNDATION TRUST","Children & Family Services"]
[null,null,null,null,null,null,null,null,null,null,null,null,null,null,null,null,null,null,null,"QOP","R0A","MANCHESTER UNIVERSITY NHS FOUNDATION TRUST","Community Healthcare Other"]
[null,null,null,null,null,null,null,null,null,null,null,null,null,null,null,null,null,null,null,"QOP","R0A","MANCHESTER UNIVERSITY NHS FOUNDATION TRUST","Community Inpatient Services"]
[null,null,null,null,null,null,null,null,null,null,null,null,null,null,null,null,null,null,null,"QOP","R0A","MANCHESTER UNIVERSITY NHS FOUNDATION TRUST","Community Nursing Services"]
[null,null,null,null,null,null,null,null,null,null,null,null,null,null,null,null,null,null,null,"QOP","R0A","MANCHESTER UNIVERSITY NHS FOUNDATION TRUST","Rehabilitation & Therapy Services"]
[null,null,null,null,null,null,null,null,null,null,null,null,null,null,null,null,null,null,null,"QOP","R0A","MANCHESTER UNIVERSITY NHS FOUNDATION TRUST","Specialist Services"]
[null,null,null,null,null,null,null,null,null,null,null,null,null,null,null,null,null,null,null,"QOP","RWJ","STOCKPORT NHS FOUNDATION TRUST","Community Nursing Services"]
[null,null,null,null,null,null,null,null,null,null,null,null,null,null,null,null,null,null,null,"QOP","RWJ","STOCKPORT NHS FOUNDATION TRUST","Rehabilitation & Therapy Services"]
[null,null,null,null,null,null,null,null,null,null,null,null,null,null,null,null,null,null,null,"QOP","RWJ","STOCKPORT NHS FOUNDATION TRUST","Specialist Services"]
[null,null,null,null,null,null,null,null,null,null,null,null,null,null,null,null,null,null,null,"QOP","RMP","TAMESIDE AND GLOSSOP INTEGRATED CARE NHS FOUNDATION TRUST","Children & Family Services"]
[null,null,null,null,null,null,null,null,null,null,null,null,null,null,null,null,null,null,null,"QOP","RMP","TAMESIDE AND GLOSSOP INTEGRATED CARE NHS FOUNDATION TRUST","Community Healthcare Other"]
[null,null,null,null,null,null,null,null,null,null,null,null,null,null,null,null,null,null,null,"QOP","RMP","TAMESIDE AND GLOSSOP INTEGRATED CARE NHS FOUNDATION TRUST","Community Inpatient Services"]
[null,null,null,null,null,null,null,null,null,null,null,null,null,null,null,null,null,null,null,"QOP","RMP","TAMESIDE AND GLOSSOP INTEGRATED CARE NHS FOUNDATION TRUST","Community Nursing Services"]
[null,null,null,null,null,null,null,null,null,null,null,null,null,null,null,null,null,null,null,"QOP","RMP","TAMESIDE AND GLOSSOP INTEGRATED CARE NHS FOUNDATION TRUST","Rehabilitation & Therapy Services"]
[null,null,null,null,null,null,null,null,null,null,null,null,null,null,null,null,null,null,null,"QOP","RMP","TAMESIDE AND GLOSSOP INTEGRATED CARE NHS FOUNDATION TRUST","Specialist Services"]
[null,null,null,null,null,null,null,null,null,null,null,null,null,null,null,null,null,null,null,"QOP","RRF","WRIGHTINGTON, WIGAN AND LEIGH NHS FOUNDATION TRUST","Children & Family Services"]
[null,null,null,null,null,null,null,null,null,null,null,null,null,null,null,null,null,null,null,"QOP","RRF","WRIGHTINGTON, WIGAN AND LEIGH NHS FOUNDATION TRUST","Community Inpatient Services"]
[null,null,null,null,null,null,null,null,null,null,null,null,null,null,null,null,null,null,null,"QOP","RRF","WRIGHTINGTON, WIGAN AND LEIGH NHS FOUNDATION TRUST","Rehabilitation & Therapy Services"]
[null,null,null,null,null,null,null,null,null,null,null,null,null,null,null,null,null,null,null,"QOQ","RCD","HARROGATE AND DISTRICT NHS FOUNDATION TRUST","Community Inpatient Services"]
[null,null,null,null,null,null,null,null,null,null,null,null,null,null,null,null,null,null,null,"QOQ","RV9","HUMBER TEACHING NHS FOUNDATION TRUST","Children & Family Services"]
[null,null,null,null,null,null,null,null,null,null,null,null,null,null,null,null,null,null,null,"QOQ","RV9","HUMBER TEACHING NHS FOUNDATION TRUST","Community Healthcare Other"]
[null,null,null,null,null,null,null,null,null,null,null,null,null,null,null,null,null,null,null,"QOQ","RV9","HUMBER TEACHING NHS FOUNDATION TRUST","Community Inpatient Services"]
[null,null,null,null,null,null,null,null,null,null,null,null,null,null,null,null,null,null,null,"QOQ","RV9","HUMBER TEACHING NHS FOUNDATION TRUST","Community Nursing Services"]
[null,null,null,null,null,null,null,null,null,null,null,null,null,null,null,null,null,null,null,"QOQ","RJL","NORTHERN LINCOLNSHIRE AND GOOLE NHS FOUNDATION TRUST","Children & Family Services"]
[null,null,null,null,null,null,null,null,null,null,null,null,null,null,null,null,null,null,null,"QOQ","RJL","NORTHERN LINCOLNSHIRE AND GOOLE NHS FOUNDATION TRUST","Community Healthcare Other"]
[null,null,null,null,null,null,null,null,null,null,null,null,null,null,null,null,null,null,null,"QOQ","RJL","NORTHERN LINCOLNSHIRE AND GOOLE NHS FOUNDATION TRUST","Community Nursing Services"]
[null,null,null,null,null,null,null,null,null,null,null,null,null,null,null,null,null,null,null,"QOQ","RJL","NORTHERN LINCOLNSHIRE AND GOOLE NHS FOUNDATION TRUST","Rehabilitation & Therapy Services"]
[null,null,null,null,null,null,null,null,null,null,null,null,null,null,null,null,null,null,null,"QPM","RP1","NORTHAMPTONSHIRE HEALTHCARE NHS FOUNDATION TRUST","Children & Family Services"]
[null,null,null,null,null,null,null,null,null,null,null,null,null,null,null,null,null,null,null,"QPM","RP1","NORTHAMPTONSHIRE HEALTHCARE NHS FOUNDATION TRUST","Community Healthcare Other"]
[null,null,null,null,null,null,null,null,null,null,null,null,null,null,null,null,null,null,null,"QPM","RP1","NORTHAMPTONSHIRE HEALTHCARE NHS FOUNDATION TRUST","Community Inpatient Services"]
[null,null,null,null,null,null,null,null,null,null,null,null,null,null,null,null,null,null,null,"QPM","RP1","NORTHAMPTONSHIRE HEALTHCARE NHS FOUNDATION TRUST","Community Nursing Services"]
[null,null,null,null,null,null,null,null,null,null,null,null,null,null,null,null,null,null,null,"QPM","RP1","NORTHAMPTONSHIRE HEALTHCARE NHS FOUNDATION TRUST","Rehabilitation & Therapy Services"]
[null,null,null,null,null,null,null,null,null,null,null,null,null,null,null,null,null,null,null,"QPM","RP1","NORTHAMPTONSHIRE HEALTHCARE NHS FOUNDATION TRUST","Specialist Services"]
[null,null,null,null,null,null,null,null,null,null,null,null,null,null,null,null,null,null,null,"QR1","RTQ","GLOUCESTERSHIRE HEALTH AND CARE NHS FOUNDATION TRUST","Children & Family Services"]
[null,null,null,null,null,null,null,null,null,null,null,null,null,null,null,null,null,null,null,"QR1","RTQ","GLOUCESTERSHIRE HEALTH AND CARE NHS FOUNDATION TRUST","Community Healthcare Other"]
[null,null,null,null,null,null,null,null,null,null,null,null,null,null,null,null,null,null,null,"QR1","RTQ","GLOUCESTERSHIRE HEALTH AND CARE NHS FOUNDATION TRUST","Community Inpatient Services"]
[null,null,null,null,null,null,null,null,null,null,null,null,null,null,null,null,null,null,null,"QR1","RTQ","GLOUCESTERSHIRE HEALTH AND CARE NHS FOUNDATION TRUST","Community Nursing Services"]
[null,null,null,null,null,null,null,null,null,null,null,null,null,null,null,null,null,null,null,"QR1","RTQ","GLOUCESTERSHIRE HEALTH AND CARE NHS FOUNDATION TRUST","Rehabilitation & Therapy Services"]
[null,null,null,null,null,null,null,null,null,null,null,null,null,null,null,null,null,null,null,"QR1","RTQ","GLOUCESTERSHIRE HEALTH AND CARE NHS FOUNDATION TRUST","Specialist Services"]
[null,null,null,null,null,null,null,null,null,null,null,null,null,null,null,null,null,null,null,"QRL","RW1","HAMPSHIRE AND ISLE OF WIGHT HEALTHCARE NHS FOUNDATION TRUST","Children & Family Services"]
[null,null,null,null,null,null,null,null,null,null,null,null,null,null,null,null,null,null,null,"QRL","RW1","HAMPSHIRE AND ISLE OF WIGHT HEALTHCARE NHS FOUNDATION TRUST","Community Healthcare Other"]
[null,null,null,null,null,null,null,null,null,null,null,null,null,null,null,null,null,null,null,"QRL","RW1","HAMPSHIRE AND ISLE OF WIGHT HEALTHCARE NHS FOUNDATION TRUST","Community Inpatient Services"]
[null,null,null,null,null,null,null,null,null,null,null,null,null,null,null,null,null,null,null,"QRL","RW1","HAMPSHIRE AND ISLE OF WIGHT HEALTHCARE NHS FOUNDATION TRUST","Community Nursing Services"]
[null,null,null,null,null,null,null,null,null,null,null,null,null,null,null,null,null,null,null,"QRL","RW1","HAMPSHIRE AND ISLE OF WIGHT HEALTHCARE NHS FOUNDATION TRUST","Rehabilitation & Therapy Services"]
[null,null,null,null,null,null,null,null,null,null,null,null,null,null,null,null,null,null,null,"QRL","RW1","HAMPSHIRE AND ISLE OF WIGHT HEALTHCARE NHS FOUNDATION TRUST","Specialist Services"]
[null,null,null,null,null,null,null,null,null,null,null,null,null,null,null,null,null,null,null,"QRV","RYX","CENTRAL LONDON COMMUNITY HEALTHCARE NHS TRUST","Children & Family Services"]
[null,null,null,null,null,null,null,null,null,null,null,null,null,null,null,null,null,null,null,"QRV","RYX","CENTRAL LONDON COMMUNITY HEALTHCARE NHS TRUST","Community Healthcare Other"]
[null,null,null,null,null,null,null,null,null,null,null,null,null,null,null,null,null,null,null,"QRV","RYX","CENTRAL LONDON COMMUNITY HEALTHCARE NHS TRUST","Community Inpatient Services"]
[null,null,null,null,null,null,null,null,null,null,null,null,null,null,null,null,null,null,null,"QRV","RYX","CENTRAL LONDON COMMUNITY HEALTHCARE NHS TRUST","Community Nursing Services"]
[null,null,null,null,null,null,null,null,null,null,null,null,null,null,null,null,null,null,null,"QRV","RYX","CENTRAL LONDON COMMUNITY HEALTHCARE NHS TRUST","Rehabilitation & Therapy Services"]
[null,null,null,null,null,null,null,null,null,null,null,null,null,null,null,null,null,null,null,"QRV","RYX","CENTRAL LONDON COMMUNITY HEALTHCARE NHS TRUST","Specialist Services"]
[null,null,null,null,null,null,null,null,null,null,null,null,null,null,null,null,null,null,null,"QRV","RQM","CHELSEA AND WESTMINSTER HOSPITAL NHS FOUNDATION TRUST","Specialist Services"]
[null,null,null,null,null,null,null,null,null,null,null,null,null,null,null,null,null,null,null,"QRV","R1K","LONDON NORTH WEST UNIVERSITY HEALTHCARE NHS TRUST","Specialist Services"]
[null,null,null,null,null,null,null,null,null,null,null,null,null,null,null,null,null,null,null,"QRV","RKL","WEST LONDON NHS TRUST","Children & Family Services"]
[null,null,null,null,null,null,null,null,null,null,null,null,null,null,null,null,null,null,null,"QRV","RKL","WEST LONDON NHS TRUST","Community Healthcare Other"]
[null,null,null,null,null,null,null,null,null,null,null,null,null,null,null,null,null,null,null,"QRV","RKL","WEST LONDON NHS TRUST","Community Inpatient Services"]
[null,null,null,null,null,null,null,null,null,null,null,null,null,null,null,null,null,null,null,"QRV","RKL","WEST LONDON NHS TRUST","Community Nursing Services"]
[null,null,null,null,null,null,null,null,null,null,null,null,null,null,null,null,null,null,null,"QRV","RKL","WEST LONDON NHS TRUST","Rehabilitation & Therapy Services"]
[null,null,null,null,null,null,null,null,null,null,null,null,null,null,null,null,null,null,null,"QRV","RKL","WEST LONDON NHS TRUST","Specialist Services"]
[null,null,null,null,null,null,null,null,null,null,null,null,null,null,null,null,null,null,null,"QT1","RX1","NOTTINGHAM UNIVERSITY HOSPITALS NHS TRUST","Children & Family Services"]
[null,null,null,null,null,null,null,null,null,null,null,null,null,null,null,null,null,null,null,"QT1","RHA","NOTTINGHAMSHIRE HEALTHCARE NHS FOUNDATION TRUST","Children & Family Services"]
[null,null,null,null,null,null,null,null,null,null,null,null,null,null,null,null,null,null,null,"QT1","RHA","NOTTINGHAMSHIRE HEALTHCARE NHS FOUNDATION TRUST","Community Healthcare Other"]
[null,null,null,null,null,null,null,null,null,null,null,null,null,null,null,null,null,null,null,"QT1","RHA","NOTTINGHAMSHIRE HEALTHCARE NHS FOUNDATION TRUST","Community Nursing Services"]
[null,null,null,null,null,null,null,null,null,null,null,null,null,null,null,null,null,null,null,"QT1","RHA","NOTTINGHAMSHIRE HEALTHCARE NHS FOUNDATION TRUST","Rehabilitation & Therapy Services"]
[null,null,null,null,null,null,null,null,null,null,null,null,null,null,null,null,null,null,null,"QT1","RHA","NOTTINGHAMSHIRE HEALTHCARE NHS FOUNDATION TRUST","Specialist Services"]
[null,null,null,null,null,null,null,null,null,null,null,null,null,null,null,null,null,null,null,"QU9","RXQ","BUCKINGHAMSHIRE HEALTHCARE NHS TRUST","Children & Family Services"]
[null,null,null,null,null,null,null,null,null,null,null,null,null,null,null,null,null,null,null,"QU9","RXQ","BUCKINGHAMSHIRE HEALTHCARE NHS TRUST","Community Healthcare Other"]
[null,null,null,null,null,null,null,null,null,null,null,null,null,null,null,null,null,null,null,"QU9","RXQ","BUCKINGHAMSHIRE HEALTHCARE NHS TRUST","Community Inpatient Services"]
[null,null,null,null,null,null,null,null,null,null,null,null,null,null,null,null,null,null,null,"QU9","RXQ","BUCKINGHAMSHIRE HEALTHCARE NHS TRUST","Community Nursing Services"]
[null,null,null,null,null,null,null,null,null,null,null,null,null,null,null,null,null,null,null,"QU9","RXQ","BUCKINGHAMSHIRE HEALTHCARE NHS TRUST","Rehabilitation & Therapy Services"]
[null,null,null,null,null,null,null,null,null,null,null,null,null,null,null,null,null,null,null,"QU9","RXQ","BUCKINGHAMSHIRE HEALTHCARE NHS TRUST","Specialist Services"]
[null,null,null,null,null,null,null,null,null,null,null,null,null,null,null,null,null,null,null,"QU9","RNU","OXFORD HEALTH NHS FOUNDATION TRUST","Children & Family Services"]
[null,null,null,null,null,null,null,null,null,null,null,null,null,null,null,null,null,null,null,"QU9","RNU","OXFORD HEALTH NHS FOUNDATION TRUST","Community Healthcare Other"]
[null,null,null,null,null,null,null,null,null,null,null,null,null,null,null,null,null,null,null,"QU9","RNU","OXFORD HEALTH NHS FOUNDATION TRUST","Community Inpatient Services"]
[null,null,null,null,null,null,null,null,null,null,null,null,null,null,null,null,null,null,null,"QU9","RNU","OXFORD HEALTH NHS FOUNDATION TRUST","Community Nursing Services"]
[null,null,null,null,null,null,null,null,null,null,null,null,null,null,null,null,null,null,null,"QU9","RNU","OXFORD HEALTH NHS FOUNDATION TRUST","Rehabilitation & Therapy Services"]
[null,null,null,null,null,null,null,null,null,null,null,null,null,null,null,null,null,null,null,"QU9","RNU","OXFORD HEALTH NHS FOUNDATION TRUST","Specialist Services"]
[null,null,null,null,null,null,null,null,null,null,null,null,null,null,null,null,null,null,null,"QUA","TAJ","BLACK COUNTRY HEALTHCARE NHS FOUNDATION TRUST","Community Healthcare Other"]
[null,null,null,null,null,null,null,null,null,null,null,null,null,null,null,null,null,null,null,"QUA","RNA","THE DUDLEY GROUP NHS FOUNDATION TRUST","Community Nursing Services"]
[null,null,null,null,null,null,null,null,null,null,null,null,null,null,null,null,null,null,null,"QUA","RNA","THE DUDLEY GROUP NHS FOUNDATION TRUST","Rehabilitation & Therapy Services"]
[null,null,null,null,null,null,null,null,null,null,null,null,null,null,null,null,null,null,null,"QUA","RNA","THE DUDLEY GROUP NHS FOUNDATION TRUST","Specialist Services"]
[null,null,null,null,null,null,null,null,null,null,null,null,null,null,null,null,null,null,null,"QUA","RL4","THE ROYAL WOLVERHAMPTON NHS TRUST","Community Healthcare Other"]
[null,null,null,null,null,null,null,null,null,null,null,null,null,null,null,null,null,null,null,"QUA","RBK","WALSALL HEALTHCARE NHS TRUST","Community Healthcare Other"]
[null,null,null,null,null,null,null,null,null,null,null,null,null,null,null,null,null,null,null,"QUE","RT1","CAMBRIDGESHIRE AND PETERBOROUGH NHS FOUNDATION TRUST","Children & Family Services"]
[null,null,null,null,null,null,null,null,null,null,null,null,null,null,null,null,null,null,null,"QUE","RT1","CAMBRIDGESHIRE AND PETERBOROUGH NHS FOUNDATION TRUST","Community Healthcare Other"]
[null,null,null,null,null,null,null,null,null,null,null,null,null,null,null,null,null,null,null,"QUE","RT1","CAMBRIDGESHIRE AND PETERBOROUGH NHS FOUNDATION TRUST","Community Inpatient Services"]
[null,null,null,null,null,null,null,null,null,null,null,null,null,null,null,null,null,null,null,"QUE","RT1","CAMBRIDGESHIRE AND PETERBOROUGH NHS FOUNDATION TRUST","Community Nursing Services"]
[null,null,null,null,null,null,null,null,null,null,null,null,null,null,null,null,null,null,null,"QUE","RT1","CAMBRIDGESHIRE AND PETERBOROUGH NHS FOUNDATION TRUST","Rehabilitation & Therapy Services"]
[null,null,null,null,null,null,null,null,null,null,null,null,null,null,null,null,null,null,null,"QUE","RT1","CAMBRIDGESHIRE AND PETERBOROUGH NHS FOUNDATION TRUST","Specialist Services"]
[null,null,null,null,null,null,null,null,null,null,null,null,null,null,null,null,null,null,null,"QUE","RYV","CAMBRIDGESHIRE COMMUNITY SERVICES NHS TRUST","Children & Family Services"]
[null,null,null,null,null,null,null,null,null,null,null,null,null,null,null,null,null,null,null,"QUE","RYV","CAMBRIDGESHIRE COMMUNITY SERVICES NHS TRUST","Community Nursing Services"]
[null,null,null,null,null,null,null,null,null,null,null,null,null,null,null,null,null,null,null,"QUE","RYV","CAMBRIDGESHIRE COMMUNITY SERVICES NHS TRUST","Rehabilitation & Therapy Services"]
[null,null,null,null,null,null,null,null,null,null,null,null,null,null,null,null,null,null,null,"QUE","RYV","CAMBRIDGESHIRE COMMUNITY SERVICES NHS TRUST","Specialist Services"]
[null,null,null,null,null,null,null,null,null,null,null,null,null,null,null,null,null,null,null,"QVV","RDY","DORSET HEALTHCARE UNIVERSITY NHS FOUNDATION TRUST","Children & Family Services"]
[null,null,null,null,null,null,null,null,null,null,null,null,null,null,null,null,null,null,null,"QVV","RDY","DORSET HEALTHCARE UNIVERSITY NHS FOUNDATION TRUST","Community Healthcare Other"]
[null,null,null,null,null,null,null,null,null,null,null,null,null,null,null,null,null,null,null,"QVV","RDY","DORSET HEALTHCARE UNIVERSITY NHS FOUNDATION TRUST","Community Inpatient Services"]
[null,null,null,null,null,null,null,null,null,null,null,null,null,null,null,null,null,null,null,"QVV","RDY","DORSET HEALTHCARE UNIVERSITY NHS FOUNDATION TRUST","Community Nursing Services"]
[null,null,null,null,null,null,null,null,null,null,null,null,null,null,null,null,null,null,null,"QVV","RDY","DORSET HEALTHCARE UNIVERSITY NHS FOUNDATION TRUST","Rehabilitation & Therapy Services"]
[null,null,null,null,null,null,null,null,null,null,null,null,null,null,null,null,null,null,null,"QVV","RDY","DORSET HEALTHCARE UNIVERSITY NHS FOUNDATION TRUST","Specialist Services"]
[null,null,null,null,null,null,null,null,null,null,null,null,null,null,null,null,null,null,null,"QWE","RJ6","CROYDON HEALTH SERVICES NHS TRUST","Children & Family Services"]
[null,null,null,null,null,null,null,null,null,null,null,null,null,null,null,null,null,null,null,"QWE","RJ6","CROYDON HEALTH SERVICES NHS TRUST","Community Healthcare Other"]
[null,null,null,null,null,null,null,null,null,null,null,null,null,null,null,null,null,null,null,"QWE","RJ6","CROYDON HEALTH SERVICES NHS TRUST","Community Inpatient Services"]
[null,null,null,null,null,null,null,null,null,null,null,null,null,null,null,null,null,null,null,"QWE","RJ6","CROYDON HEALTH SERVICES NHS TRUST","Community Nursing Services"]
[null,null,null,null,null,null,null,null,null,null,null,null,null,null,null,null,null,null,null,"QWE","RJ6","CROYDON HEALTH SERVICES NHS TRUST","Rehabilitation & Therapy Services"]
[null,null,null,null,null,null,null,null,null,null,null,null,null,null,null,null,null,null,null,"QWE","RJ6","CROYDON HEALTH SERVICES NHS TRUST","Specialist Services"]
[null,null,null,null,null,null,null,null,null,null,null,null,null,null,null,null,null,null,null,"QWE","RVR","EPSOM AND ST HELIER UNIVERSITY HOSPITALS NHS TRUST","Children & Family Services"]
[null,null,null,null,null,null,null,null,null,null,null,null,null,null,null,null,null,null,null,"QWE","RVR","EPSOM AND ST HELIER UNIVERSITY HOSPITALS NHS TRUST","Community Inpatient Services"]
[null,null,null,null,null,null,null,null,null,null,null,null,null,null,null,null,null,null,null,"QWE","RVR","EPSOM AND ST HELIER UNIVERSITY HOSPITALS NHS TRUST","Community Nursing Services"]
[null,null,null,null,null,null,null,null,null,null,null,null,null,null,null,null,null,null,null,"QWE","RVR","EPSOM AND ST HELIER UNIVERSITY HOSPITALS NHS TRUST","Rehabilitation & Therapy Services"]
[null,null,null,null,null,null,null,null,null,null,null,null,null,null,null,null,null,null,null,"QWE","RVR","EPSOM AND ST HELIER UNIVERSITY HOSPITALS NHS TRUST","Specialist Services"]
[null,null,null,null,null,null,null,null,null,null,null,null,null,null,null,null,null,null,null,"QWE","RAX","KINGSTON AND RICHMOND NHS FOUNDATION TRUST","Children & Family Services"]
[null,null,null,null,null,null,null,null,null,null,null,null,null,null,null,null,null,null,null,"QWE","RAX","KINGSTON AND RICHMOND NHS FOUNDATION TRUST","Community Healthcare Other"]
[null,null,null,null,null,null,null,null,null,null,null,null,null,null,null,null,null,null,null,"QWE","RAX","KINGSTON AND RICHMOND NHS FOUNDATION TRUST","Community Inpatient Services"]
[null,null,null,null,null,null,null,null,null,null,null,null,null,null,null,null,null,null,null,"QWE","RAX","KINGSTON AND RICHMOND NHS FOUNDATION TRUST","Community Nursing Services"]
[null,null,null,null,null,null,null,null,null,null,null,null,null,null,null,null,null,null,null,"QWE","RAX","KINGSTON AND RICHMOND NHS FOUNDATION TRUST","Rehabilitation & Therapy Services"]
[null,null,null,null,null,null,null,null,null,null,null,null,null,null,null,null,null,null,null,"QWE","RAX","KINGSTON AND RICHMOND NHS FOUNDATION TRUST","Specialist Services"]
[null,null,null,null,null,null,null,null,null,null,null,null,null,null,null,null,null,null,null,"QWE","RJ7","ST GEORGE'S UNIVERSITY HOSPITALS NHS FOUNDATION TRUST","Rehabilitation & Therapy Services"]
[null,null,null,null,null,null,null,null,null,null,null,null,null,null,null,null,null,null,null,"QWO","RCF","AIREDALE NHS FOUNDATION TRUST","Community Healthcare Other"]
[null,null,null,null,null,null,null,null,null,null,null,null,null,null,null,null,null,null,null,"QWO","TAD","BRADFORD DISTRICT CARE NHS FOUNDATION TRUST","Children & Family Services"]
[null,null,null,null,null,null,null,null,null,null,null,null,null,null,null,null,null,null,null,"QWO","TAD","BRADFORD DISTRICT CARE NHS FOUNDATION TRUST","Community Healthcare Other"]
[null,null,null,null,null,null,null,null,null,null,null,null,null,null,null,null,null,null,null,"QWO","TAD","BRADFORD DISTRICT CARE NHS FOUNDATION TRUST","Community Nursing Services"]
[null,null,null,null,null,null,null,null,null,null,null,null,null,null,null,null,null,null,null,"QWO","TAD","BRADFORD DISTRICT CARE NHS FOUNDATION TRUST","Rehabilitation & Therapy Services"]
[null,null,null,null,null,null,null,null,null,null,null,null,null,null,null,null,null,null,null,"QWO","TAD","BRADFORD DISTRICT CARE NHS FOUNDATION TRUST","Specialist Services"]
[null,null,null,null,null,null,null,null,null,null,null,null,null,null,null,null,null,null,null,"QWO","RWY","CALDERDALE AND HUDDERSFIELD NHS FOUNDATION TRUST","Children & Family Services"]
[null,null,null,null,null,null,null,null,null,null,null,null,null,null,null,null,null,null,null,"QWO","RWY","CALDERDALE AND HUDDERSFIELD NHS FOUNDATION TRUST","Community Nursing Services"]
[null,null,null,null,null,null,null,null,null,null,null,null,null,null,null,null,null,null,null,"QWO","RWY","CALDERDALE AND HUDDERSFIELD NHS FOUNDATION TRUST","Rehabilitation & Therapy Services"]
[null,null,null,null,null,null,null,null,null,null,null,null,null,null,null,null,null,null,null,"QWO","RWY","CALDERDALE AND HUDDERSFIELD NHS FOUNDATION TRUST","Specialist Services"]
[null,null,null,null,null,null,null,null,null,null,null,null,null,null,null,null,null,null,null,"QWO","RXF","MID YORKSHIRE TEACHING NHS TRUST","Children & Family Services"]
[null,null,null,null,null,null,null,null,null,null,null,null,null,null,null,null,null,null,null,"QWO","RXF","MID YORKSHIRE TEACHING NHS TRUST","Community Inpatient Services"]
[null,null,null,null,null,null,null,null,null,null,null,null,null,null,null,null,null,null,null,"QWO","RXF","MID YORKSHIRE TEACHING NHS TRUST","Community Nursing Services"]
[null,null,null,null,null,null,null,null,null,null,null,null,null,null,null,null,null,null,null,"QWO","RXF","MID YORKSHIRE TEACHING NHS TRUST","Rehabilitation & Therapy Services"]
[null,null,null,null,null,null,null,null,null,null,null,null,null,null,null,null,null,null,null,"QWO","RXF","MID YORKSHIRE TEACHING NHS TRUST","Specialist Services"]
[null,null,null,null,null,null,null,null,null,null,null,null,null,null,null,null,null,null,null,"QWO","RXG","SOUTH WEST YORKSHIRE PARTNERSHIP NHS FOUNDATION TRUST","Children & Family Services"]
[null,null,null,null,null,null,null,null,null,null,null,null,null,null,null,null,null,null,null,"QWO","RXG","SOUTH WEST YORKSHIRE PARTNERSHIP NHS FOUNDATION TRUST","Community Healthcare Other"]
[null,null,null,null,null,null,null,null,null,null,null,null,null,null,null,null,null,null,null,"QWO","RXG","SOUTH WEST YORKSHIRE PARTNERSHIP NHS FOUNDATION TRUST","Community Inpatient Services"]
[null,null,null,null,null,null,null,null,null,null,null,null,null,null,null,null,null,null,null,"QWO","RXG","SOUTH WEST YORKSHIRE PARTNERSHIP NHS FOUNDATION TRUST","Community Nursing Services"]
[null,null,null,null,null,null,null,null,null,null,null,null,null,null,null,null,null,null,null,"QWO","RXG","SOUTH WEST YORKSHIRE PARTNERSHIP NHS FOUNDATION TRUST","Rehabilitation & Therapy Services"]
[null,null,null,null,null,null,null,null,null,null,null,null,null,null,null,null,null,null,null,"QWO","RXG","SOUTH WEST YORKSHIRE PARTNERSHIP NHS FOUNDATION TRUST","Specialist Services"]
[null,null,null,null,null,null,null,null,null,null,null,null,null,null,null,null,null,null,null,"QWU","RJC","SOUTH WARWICKSHIRE UNIVERSITY NHS FOUNDATION TRUST","Children & Family Services"]
[null,null,null,null,null,null,null,null,null,null,null,null,null,null,null,null,null,null,null,"QWU","RJC","SOUTH WARWICKSHIRE UNIVERSITY NHS FOUNDATION TRUST","Community Inpatient Services"]
[null,null,null,null,null,null,null,null,null,null,null,null,null,null,null,null,null,null,null,"QWU","RJC","SOUTH WARWICKSHIRE UNIVERSITY NHS FOUNDATION TRUST","Community Nursing Services"]
[null,null,null,null,null,null,null,null,null,null,null,null,null,null,null,null,null,null,null,"QWU","RJC","SOUTH WARWICKSHIRE UNIVERSITY NHS FOUNDATION TRUST","Specialist Services"]
[null,null,null,null,null,null,null,null,null,null,null,null,null,null,null,null,null,null,null,"QXU","RA2","ROYAL SURREY COUNTY HOSPITAL NHS FOUNDATION TRUST","Community Inpatient Services"]
[null,null,null,null,null,null,null,null,null,null,null,null,null,null,null,null,null,null,null,"QXU","RA2","ROYAL SURREY COUNTY HOSPITAL NHS FOUNDATION TRUST","Community Nursing Services"]
[null,null,null,null,null,null,null,null,null,null,null,null,null,null,null,null,null,null,null,"QXU","RA2","ROYAL SURREY COUNTY HOSPITAL NHS FOUNDATION TRUST","Rehabilitation & Therapy Services"]
[null,null,null,null,null,null,null,null,null,null,null,null,null,null,null,null,null,null,null,"QXU","RA2","ROYAL SURREY COUNTY HOSPITAL NHS FOUNDATION TRUST","Specialist Services"]
[null,null,null,null,null,null,null,null,null,null,null,null,null,null,null,null,null,null,null,"QYG","RBS","ALDER HEY CHILDREN'S NHS FOUNDATION TRUST","Children & Family Services"]
[null,null,null,null,null,null,null,null,null,null,null,null,null,null,null,null,null,null,null,"QYG","RY2","BRIDGEWATER COMMUNITY HEALTHCARE NHS FOUNDATION TRUST","Children & Family Services"]
[null,null,null,null,null,null,null,null,null,null,null,null,null,null,null,null,null,null,null,"QYG","RY2","BRIDGEWATER COMMUNITY HEALTHCARE NHS FOUNDATION TRUST","Community Healthcare Other"]
[null,null,null,null,null,null,null,null,null,null,null,null,null,null,null,null,null,null,null,"QYG","RY2","BRIDGEWATER COMMUNITY HEALTHCARE NHS FOUNDATION TRUST","Community Nursing Services"]
[null,null,null,null,null,null,null,null,null,null,null,null,null,null,null,null,null,null,null,"QYG","RY2","BRIDGEWATER COMMUNITY HEALTHCARE NHS FOUNDATION TRUST","Rehabilitation & Therapy Services"]
[null,null,null,null,null,null,null,null,null,null,null,null,null,null,null,null,null,null,null,"QYG","RY2","BRIDGEWATER COMMUNITY HEALTHCARE NHS FOUNDATION TRUST","Specialist Services"]
[null,null,null,null,null,null,null,null,null,null,null,null,null,null,null,null,null,null,null,"QYG","RXA","CHESHIRE AND WIRRAL PARTNERSHIP NHS FOUNDATION TRUST","Children & Family Services"]
[null,null,null,null,null,null,null,null,null,null,null,null,null,null,null,null,null,null,null,"QYG","RXA","CHESHIRE AND WIRRAL PARTNERSHIP NHS FOUNDATION TRUST","Community Healthcare Other"]
[null,null,null,null,null,null,null,null,null,null,null,null,null,null,null,null,null,null,null,"QYG","RXA","CHESHIRE AND WIRRAL PARTNERSHIP NHS FOUNDATION TRUST","Community Nursing Services"]
[null,null,null,null,null,null,null,null,null,null,null,null,null,null,null,null,null,null,null,"QYG","RXA","CHESHIRE AND WIRRAL PARTNERSHIP NHS FOUNDATION TRUST","Rehabilitation & Therapy Services"]
[null,null,null,null,null,null,null,null,null,null,null,null,null,null,null,null,null,null,null,"QYG","RXA","CHESHIRE AND WIRRAL PARTNERSHIP NHS FOUNDATION TRUST","Specialist Services"]
[null,null,null,null,null,null,null,null,null,null,null,null,null,null,null,null,null,null,null,"QYG","RJN","EAST CHESHIRE NHS TRUST","Children & Family Services"]
[null,null,null,null,null,null,null,null,null,null,null,null,null,null,null,null,null,null,null,"QYG","RJN","EAST CHESHIRE NHS TRUST","Community Nursing Services"]
[null,null,null,null,null,null,null,null,null,null,null,null,null,null,null,null,null,null,null,"QYG","RJN","EAST CHESHIRE NHS TRUST","Rehabilitation & Therapy Services"]
[null,null,null,null,null,null,null,null,null,null,null,null,null,null,null,null,null,null,null,"QYG","RJN","EAST CHESHIRE NHS TRUST","Specialist Services"]
[null,null,null,null,null,null,null,null,null,null,null,null,null,null,null,null,null,null,null,"QYG","RBN","MERSEY AND WEST LANCASHIRE TEACHING HOSPITALS NHS TRUST","Children & Family Services"]
[null,null,null,null,null,null,null,null,null,null,null,null,null,null,null,null,null,null,null,"QYG","RBN","MERSEY AND WEST LANCASHIRE TEACHING HOSPITALS NHS TRUST","Community Healthcare Other"]
[null,null,null,null,null,null,null,null,null,null,null,null,null,null,null,null,null,null,null,"QYG","RBN","MERSEY AND WEST LANCASHIRE TEACHING HOSPITALS NHS TRUST","Community Inpatient Services"]
[null,null,null,null,null,null,null,null,null,null,null,null,null,null,null,null,null,null,null,"QYG","RBN","MERSEY AND WEST LANCASHIRE TEACHING HOSPITALS NHS TRUST","Community Nursing Services"]
[null,null,null,null,null,null,null,null,null,null,null,null,null,null,null,null,null,null,null,"QYG","RBN","MERSEY AND WEST LANCASHIRE TEACHING HOSPITALS NHS TRUST","Rehabilitation & Therapy Services"]
[null,null,null,null,null,null,null,null,null,null,null,null,null,null,null,null,null,null,null,"QYG","RBN","MERSEY AND WEST LANCASHIRE TEACHING HOSPITALS NHS TRUST","Specialist Services"]
[null,null,null,null,null,null,null,null,null,null,null,null,null,null,null,null,null,null,null,"QYG","RW4","MERSEY CARE NHS FOUNDATION TRUST","Children & Family Services"]
[null,null,null,null,null,null,null,null,null,null,null,null,null,null,null,null,null,null,null,"QYG","RW4","MERSEY CARE NHS FOUNDATION TRUST","Community Healthcare Other"]
[null,null,null,null,null,null,null,null,null,null,null,null,null,null,null,null,null,null,null,"QYG","RW4","MERSEY CARE NHS FOUNDATION TRUST","Community Nursing Services"]
[null,null,null,null,null,null,null,null,null,null,null,null,null,null,null,null,null,null,null,"QYG","RW4","MERSEY CARE NHS FOUNDATION TRUST","Rehabilitation & Therapy Services"]
[null,null,null,null,null,null,null,null,null,null,null,null,null,null,null,null,null,null,null,"QYG","RBT","MID CHESHIRE HOSPITALS NHS FOUNDATION TRUST","Children & Family Services"]
[null,null,null,null,null,null,null,null,null,null,null,null,null,null,null,null,null,null,null,"QYG","RBT","MID CHESHIRE HOSPITALS NHS FOUNDATION TRUST","Community Healthcare Other"]
[null,null,null,null,null,null,null,null,null,null,null,null,null,null,null,null,null,null,null,"QYG","RBT","MID CHESHIRE HOSPITALS NHS FOUNDATION TRUST","Community Nursing Services"]
[null,null,null,null,null,null,null,null,null,null,null,null,null,null,null,null,null,null,null,"QYG","RBT","MID CHESHIRE HOSPITALS NHS FOUNDATION TRUST","Rehabilitation & Therapy Services"]
[null,null,null,null,null,null,null,null,null,null,null,null,null,null,null,null,null,null,null,"QYG","RY7","WIRRAL COMMUNITY HEALTH AND CARE NHS FOUNDATION TRUST","Children & Family Services"]
[null,null,null,null,null,null,null,null,null,null,null,null,null,null,null,null,null,null,null,"QYG","RY7","WIRRAL COMMUNITY HEALTH AND CARE NHS FOUNDATION TRUST","Community Healthcare Other"]
[null,null,null,null,null,null,null,null,null,null,null,null,null,null,null,null,null,null,null,"QYG","RY7","WIRRAL COMMUNITY HEALTH AND CARE NHS FOUNDATION TRUST","Community Inpatient Services"]
[null,null,null,null,null,null,null,null,null,null,null,null,null,null,null,null,null,null,null,"QYG","RY7","WIRRAL COMMUNITY HEALTH AND CARE NHS FOUNDATION TRUST","Community Nursing Services"]
[null,null,null,null,null,null,null,null,null,null,null,null,null,null,null,null,null,null,null,"QYG","RY7","WIRRAL COMMUNITY HEALTH AND CARE NHS FOUNDATION TRUST","Rehabilitation & Therapy Services"]
[null,null,null,null,null,null,null,null,null,null,null,null,null,null,null,null,null,null,null,"QYG","RY7","WIRRAL COMMUNITY HEALTH AND CARE NHS FOUNDATION TRUST","Specialist Services"]
[null,null,null,null,null,null,null,null,null,null,null,null,null,null,null,null,null,null,null,"IS1","NEC","ALLIED HEALTH PROFESSIONALS SUFFOLK CIC","Rehabilitation & Therapy Services"]
[null,null,null,null,null,null,null,null,null,null,null,null,null,null,null,null,null,null,null,"IS1","8J094","BADGER LTD","Community Healthcare Other"]
[null,null,null,null,null,null,null,null,null,null,null,null,null,null,null,null,null,null,null,"IS1","DVG","BARDOC","Community Healthcare Other"]
[null,null,null,null,null,null,null,null,null,null,null,null,null,null,null,null,null,null,null,"IS1","NQV","BROMLEY HEALTHCARE","Children & Family Services"]
[null,null,null,null,null,null,null,null,null,null,null,null,null,null,null,null,null,null,null,"IS1","NQV","BROMLEY HEALTHCARE","Community Healthcare Other"]
[null,null,null,null,null,null,null,null,null,null,null,null,null,null,null,null,null,null,null,"IS1","NQV","BROMLEY HEALTHCARE","Community Inpatient Services"]
[null,null,null,null,null,null,null,null,null,null,null,null,null,null,null,null,null,null,null,"IS1","NQV","BROMLEY HEALTHCARE","Community Nursing Services"]
[null,null,null,null,null,null,null,null,null,null,null,null,null,null,null,null,null,null,null,"IS1","NQV","BROMLEY HEALTHCARE","Rehabilitation & Therapy Services"]
[null,null,null,null,null,null,null,null,null,null,null,null,null,null,null,null,null,null,null,"IS1","NQV","BROMLEY HEALTHCARE","Specialist Services"]
[null,null,null,null,null,null,null,null,null,null,null,null,null,null,null,null,null,null,null,"IS1","NL3","CARE PLUS GROUP","Community Healthcare Other"]
[null,null,null,null,null,null,null,null,null,null,null,null,null,null,null,null,null,null,null,"IS1","NL3","CARE PLUS GROUP","Community Nursing Services"]
[null,null,null,null,null,null,null,null,null,null,null,null,null,null,null,null,null,null,null,"IS1","NL3","CARE PLUS GROUP","Rehabilitation & Therapy Services"]
[null,null,null,null,null,null,null,null,null,null,null,null,null,null,null,null,null,null,null,"IS1","NL3","CARE PLUS GROUP","Specialist Services"]
[null,null,null,null,null,null,null,null,null,null,null,null,null,null,null,null,null,null,null,"IS1","NNF","CITY HEALTH CARE PARTNERSHIP CIC","Children & Family Services"]
[null,null,null,null,null,null,null,null,null,null,null,null,null,null,null,null,null,null,null,"IS1","NNF","CITY HEALTH CARE PARTNERSHIP CIC","Community Healthcare Other"]
[null,null,null,null,null,null,null,null,null,null,null,null,null,null,null,null,null,null,null,"IS1","NNF","CITY HEALTH CARE PARTNERSHIP CIC","Community Inpatient Services"]
[null,null,null,null,null,null,null,null,null,null,null,null,null,null,null,null,null,null,null,"IS1","NNF","CITY HEALTH CARE PARTNERSHIP CIC","Community Nursing Services"]
[null,null,null,null,null,null,null,null,null,null,null,null,null,null,null,null,null,null,null,"IS1","NNF","CITY HEALTH CARE PARTNERSHIP CIC","Rehabilitation & Therapy Services"]
[null,null,null,null,null,null,null,null,null,null,null,null,null,null,null,null,null,null,null,"IS1","NNF","CITY HEALTH CARE PARTNERSHIP CIC","Specialist Services"]
[null,null,null,null,null,null,null,null,null,null,null,null,null,null,null,null,null,null,null,"IS1","NMG","CONNECT HEALTH LIMITED","Community Healthcare Other"]
[null,null,null,null,null,null,null,null,null,null,null,null,null,null,null,null,null,null,null,"IS1","NY6","CONNECT HEALTH PAIN SERVICES","Community Healthcare Other"]
[null,null,null,null,null,null,null,null,null,null,null,null,null,null,null,null,null,null,null,"IS1","DFY01","COTSWOLDS SURGICAL PARTNERS","Community Healthcare Other"]
[null,null,null,null,null,null,null,null,null,null,null,null,null,null,null,null,null,null,null,"IS1","NTV","CSH SURREY","Community Healthcare Other"]
[null,null,null,null,null,null,null,null,null,null,null,null,null,null,null,null,null,null,null,"IS1","NTV","CSH SURREY","Community Inpatient Services"]
[null,null,null,null,null,null,null,null,null,null,null,null,null,null,null,null,null,null,null,"IS1","NTV","CSH SURREY","Community Nursing Services"]
[null,null,null,null,null,null,null,null,null,null,null,null,null,null,null,null,null,null,null,"IS1","NTV","CSH SURREY","Rehabilitation & Therapy Services"]
[null,null,null,null,null,null,null,null,null,null,null,null,null,null,null,null,null,null,null,"IS1","NTV","CSH SURREY","Specialist Services"]
[null,null,null,null,null,null,null,null,null,null,null,null,null,null,null,null,null,null,null,"IS1","8HE44","DR KERSHAWS HOSPICE","Community Healthcare Other"]
[null,null,null,null,null,null,null,null,null,null,null,null,null,null,null,null,null,null,null,"IS1","8HE44","DR KERSHAWS HOSPICE","Community Inpatient Services"]
[null,null,null,null,null,null,null,null,null,null,null,null,null,null,null,null,null,null,null,"IS1","8HE44","DR KERSHAWS HOSPICE","Community Nursing Services"]
[null,null,null,null,null,null,null,null,null,null,null,null,null,null,null,null,null,null,null,"IS1","NAX","EAST COAST COMMUNITY HEALTHCARE C.I.C","Children & Family Services"]
[null,null,null,null,null,null,null,null,null,null,null,null,null,null,null,null,null,null,null,"IS1","NAX","EAST COAST COMMUNITY HEALTHCARE C.I.C","Community Healthcare Other"]
[null,null,null,null,null,null,null,null,null,null,null,null,null,null,null,null,null,null,null,"IS1","NAX","EAST COAST COMMUNITY HEALTHCARE C.I.C","Community Inpatient Services"]
[null,null,null,null,null,null,null,null,null,null,null,null,null,null,null,null,null,null,null,"IS1","NAX","EAST COAST COMMUNITY HEALTHCARE C.I.C","Community Nursing Services"]
[null,null,null,null,null,null,null,null,null,null,null,null,null,null,null,null,null,null,null,"IS1","NAX","EAST COAST COMMUNITY HEALTHCARE C.I.C","Rehabilitation & Therapy Services"]
[null,null,null,null,null,null,null,null,null,null,null,null,null,null,null,null,null,null,null,"IS1","NAX","EAST COAST COMMUNITY HEALTHCARE C.I.C","Specialist Services"]
[null,null,null,null,null,null,null,null,null,null,null,null,null,null,null,null,null,null,null,"IS1","DY6","EASTLEIGH SOUTHERN PARISHES NETWORK LTD","Community Healthcare Other"]
[null,null,null,null,null,null,null,null,null,null,null,null,null,null,null,null,null,null,null,"IS1","NDJ","FIRST COMMUNITY HEALTH AND CARE CIC","Community Healthcare Other"]
[null,null,null,null,null,null,null,null,null,null,null,null,null,null,null,null,null,null,null,"IS1","NDJ","FIRST COMMUNITY HEALTH AND CARE CIC","Community Inpatient Services"]
[null,null,null,null,null,null,null,null,null,null,null,null,null,null,null,null,null,null,null,"IS1","NDJ","FIRST COMMUNITY HEALTH AND CARE CIC","Community Nursing Services"]
[null,null,null,null,null,null,null,null,null,null,null,null,null,null,null,null,null,null,null,"IS1","NDJ","FIRST COMMUNITY HEALTH AND CARE CIC","Rehabilitation & Therapy Services"]
[null,null,null,null,null,null,null,null,null,null,null,null,null,null,null,null,null,null,null,"IS1","NDJ","FIRST COMMUNITY HEALTH AND CARE CIC","Specialist Services"]
[null,null,null,null,null,null,null,null,null,null,null,null,null,null,null,null,null,null,null,"IS1","NDK","FRESHNEY PELHAM CARE LIMITED","Community Nursing Services"]
[null,null,null,null,null,null,null,null,null,null,null,null,null,null,null,null,null,null,null,"IS1","NWV01","GP CARE UK","Community Healthcare Other"]
[null,null,null,null,null,null,null,null,null,null,null,null,null,null,null,null,null,null,null,"IS1","NQT","HCRG CARE LTD","Children & Family Services"]
[null,null,null,null,null,null,null,null,null,null,null,null,null,null,null,null,null,null,null,"IS1","NQT","HCRG CARE LTD","Community Inpatient Services"]
[null,null,null,null,null,null,null,null,null,null,null,null,null,null,null,null,null,null,null,"IS1","NQT","HCRG CARE LTD","Community Nursing Services"]
[null,null,null,null,null,null,null,null,null,null,null,null,null,null,null,null,null,null,null,"IS1","NQT","HCRG CARE LTD","Rehabilitation & Therapy Services"]
[null,null,null,null,null,null,null,null,null,null,null,null,null,null,null,null,null,null,null,"IS1","NQT","HCRG CARE LTD","Specialist Services"]
[null,null,null,null,null,null,null,null,null,null,null,null,null,null,null,null,null,null,null,"IS1","NDA","HCRG CARE SERVICES LTD","Children & Family Services"]
[null,null,null,null,null,null,null,null,null,null,null,null,null,null,null,null,null,null,null,"IS1","NDA","HCRG CARE SERVICES LTD","Community Healthcare Other"]
[null,null,null,null,null,null,null,null,null,null,null,null,null,null,null,null,null,null,null,"IS1","NDA","HCRG CARE SERVICES LTD","Community Nursing Services"]
[null,null,null,null,null,null,null,null,null,null,null,null,null,null,null,null,null,null,null,"IS1","NDA","HCRG CARE SERVICES LTD","Rehabilitation & Therapy Services"]
[null,null,null,null,null,null,null,null,null,null,null,null,null,null,null,null,null,null,null,"IS1","NDA","HCRG CARE SERVICES LTD","Specialist Services"]
[null,null,null,null,null,null,null,null,null,null,null,null,null,null,null,null,null,null,null,"IS1","NHA","INSIDEVUE LIMITED","Community Inpatient Services"]
[null,null,null,null,null,null,null,null,null,null,null,null,null,null,null,null,null,null,null,"IS1","NLE01","LANCASTER HOUSE CONSULTING DIAGNOSTICS SURGICAL LTD HQ","Community Healthcare Other"]
[null,null,null,null,null,null,null,null,null,null,null,null,null,null,null,null,null,null,null,"IS1","NR5","LIVEWELL SOUTHWEST","Children & Family Services"]
[null,null,null,null,null,null,null,null,null,null,null,null,null,null,null,null,null,null,null,"IS1","NR5","LIVEWELL SOUTHWEST","Community Healthcare Other"]
[null,null,null,null,null,null,null,null,null,null,null,null,null,null,null,null,null,null,null,"IS1","NR5","LIVEWELL SOUTHWEST","Community Nursing Services"]
[null,null,null,null,null,null,null,null,null,null,null,null,null,null,null,null,null,null,null,"IS1","NR5","LIVEWELL SOUTHWEST","Rehabilitation & Therapy Services"]
[null,null,null,null,null,null,null,null,null,null,null,null,null,null,null,null,null,null,null,"IS1","DAY","LLR PATIENT CARE LOCALLY","Community Healthcare Other"]
[null,null,null,null,null,null,null,null,null,null,null,null,null,null,null,null,null,null,null,"IS1","NL8","LOCALA COMMUNITY PARTNERSHIPS CIC","Children & Family Services"]
[null,null,null,null,null,null,null,null,null,null,null,null,null,null,null,null,null,null,null,"IS1","NL8","LOCALA COMMUNITY PARTNERSHIPS CIC","Community Healthcare Other"]
[null,null,null,null,null,null,null,null,null,null,null,null,null,null,null,null,null,null,null,"IS1","NL8","LOCALA COMMUNITY PARTNERSHIPS CIC","Community Inpatient Services"]
[null,null,null,null,null,null,null,null,null,null,null,null,null,null,null,null,null,null,null,"IS1","NL8","LOCALA COMMUNITY PARTNERSHIPS CIC","Community Nursing Services"]
[null,null,null,null,null,null,null,null,null,null,null,null,null,null,null,null,null,null,null,"IS1","NL8","LOCALA COMMUNITY PARTNERSHIPS CIC","Rehabilitation & Therapy Services"]
[null,null,null,null,null,null,null,null,null,null,null,null,null,null,null,null,null,null,null,"IS1","NL8","LOCALA COMMUNITY PARTNERSHIPS CIC","Specialist Services"]
[null,null,null,null,null,null,null,null,null,null,null,null,null,null,null,null,null,null,null,"IS1","NCE","MASTERCALL HEALTHCARE","Community Healthcare Other"]
[null,null,null,null,null,null,null,null,null,null,null,null,null,null,null,null,null,null,null,"IS1","NQ7","MEDWAY COMMUNITY HEALTHCARE","Children & Family Services"]
[null,null,null,null,null,null,null,null,null,null,null,null,null,null,null,null,null,null,null,"IS1","NQ7","MEDWAY COMMUNITY HEALTHCARE","Community Healthcare Other"]
[null,null,null,null,null,null,null,null,null,null,null,null,null,null,null,null,null,null,null,"IS1","NQ7","MEDWAY COMMUNITY HEALTHCARE","Community Inpatient Services"]
[null,null,null,null,null,null,null,null,null,null,null,null,null,null,null,null,null,null,null,"IS1","NQ7","MEDWAY COMMUNITY HEALTHCARE","Community Nursing Services"]
[null,null,null,null,null,null,null,null,null,null,null,null,null,null,null,null,null,null,null,"IS1","NQ7","MEDWAY COMMUNITY HEALTHCARE","Rehabilitation & Therapy Services"]
[null,null,null,null,null,null,null,null,null,null,null,null,null,null,null,null,null,null,null,"IS1","NQ7","MEDWAY COMMUNITY HEALTHCARE","Specialist Services"]
[null,null,null,null,null,null,null,null,null,null,null,null,null,null,null,null,null,null,null,"IS1","ARA","MID HAMPSHIRE HEALTHCARE LIMITED","Children & Family Services"]
[null,null,null,null,null,null,null,null,null,null,null,null,null,null,null,null,null,null,null,"IS1","ARA","MID HAMPSHIRE HEALTHCARE LIMITED","Community Nursing Services"]
[null,null,null,null,null,null,null,null,null,null,null,null,null,null,null,null,null,null,null,"IS1","ARA","MID HAMPSHIRE HEALTHCARE LIMITED","Specialist Services"]
[null,null,null,null,null,null,null,null,null,null,null,null,null,null,null,null,null,null,null,"IS1","NPH","MILTON KEYNES URGENT CARE SERVICES CIC HQ","Children & Family Services"]
[null,null,null,null,null,null,null,null,null,null,null,null,null,null,null,null,null,null,null,"IS1","NPH","MILTON KEYNES URGENT CARE SERVICES CIC HQ","Community Healthcare Other"]
[null,null,null,null,null,null,null,null,null,null,null,null,null,null,null,null,null,null,null,"IS1","NHX","NORTH HAMPSHIRE URGENT CARE","Community Healthcare Other"]
[null,null,null,null,null,null,null,null,null,null,null,null,null,null,null,null,null,null,null,"IS1","NR3","NOTTINGHAM CITYCARE PARTNERSHIP","Children & Family Services"]
[null,null,null,null,null,null,null,null,null,null,null,null,null,null,null,null,null,null,null,"IS1","NR3","NOTTINGHAM CITYCARE PARTNERSHIP","Community Nursing Services"]
[null,null,null,null,null,null,null,null,null,null,null,null,null,null,null,null,null,null,null,"IS1","NR3","NOTTINGHAM CITYCARE PARTNERSHIP","Rehabilitation & Therapy Services"]
[null,null,null,null,null,null,null,null,null,null,null,null,null,null,null,null,null,null,null,"IS1","NR3","NOTTINGHAM CITYCARE PARTNERSHIP","Specialist Services"]
[null,null,null,null,null,null,null,null,null,null,null,null,null,null,null,null,null,null,null,"IS1","NQH","NOVUS HEALTH LTD","Community Healthcare Other"]
[null,null,null,null,null,null,null,null,null,null,null,null,null,null,null,null,null,null,null,"IS1","NQH","NOVUS HEALTH LTD","Rehabilitation & Therapy Services"]
[null,null,null,null,null,null,null,null,null,null,null,null,null,null,null,null,null,null,null,"IS1","DCF","OZONE HEALTH","Community Healthcare Other"]
[null,null,null,null,null,null,null,null,null,null,null,null,null,null,null,null,null,null,null,"IS1","NLF","PENNINE MUSCULOSKELETAL PARTNERSHIP (ICATS)","Community Healthcare Other"]
[null,null,null,null,null,null,null,null,null,null,null,null,null,null,null,null,null,null,null,"IS1","NTP","PRACTICE PLUS GROUP HOLDINGS","Community Healthcare Other"]
[null,null,null,null,null,null,null,null,null,null,null,null,null,null,null,null,null,null,null,"IS1","D0V7H","PROCARE COMMUNITY SERVICES LTD","Community Nursing Services"]
[null,null,null,null,null,null,null,null,null,null,null,null,null,null,null,null,null,null,null,"IS1","NQA","PROVIDE","Children & Family Services"]
[null,null,null,null,null,null,null,null,null,null,null,null,null,null,null,null,null,null,null,"IS1","NQA","PROVIDE","Community Healthcare Other"]
[null,null,null,null,null,null,null,null,null,null,null,null,null,null,null,null,null,null,null,"IS1","NQA","PROVIDE","Community Inpatient Services"]
[null,null,null,null,null,null,null,null,null,null,null,null,null,null,null,null,null,null,null,"IS1","NQA","PROVIDE","Community Nursing Services"]
[null,null,null,null,null,null,null,null,null,null,null,null,null,null,null,null,null,null,null,"IS1","NQA","PROVIDE","Specialist Services"]
[null,null,null,null,null,null,null,null,null,null,null,null,null,null,null,null,null,null,null,"IS1","NLX","SIRONA CARE & HEALTH","Children & Family Services"]
[null,null,null,null,null,null,null,null,null,null,null,null,null,null,null,null,null,null,null,"IS1","NLX","SIRONA CARE & HEALTH","Community Healthcare Other"]
[null,null,null,null,null,null,null,null,null,null,null,null,null,null,null,null,null,null,null,"IS1","NLX","SIRONA CARE & HEALTH","Community Inpatient Services"]
[null,null,null,null,null,null,null,null,null,null,null,null,null,null,null,null,null,null,null,"IS1","NLX","SIRONA CARE & HEALTH","Community Nursing Services"]
[null,null,null,null,null,null,null,null,null,null,null,null,null,null,null,null,null,null,null,"IS1","NLX","SIRONA CARE & HEALTH","Rehabilitation & Therapy Services"]
[null,null,null,null,null,null,null,null,null,null,null,null,null,null,null,null,null,null,null,"IS1","NLX","SIRONA CARE & HEALTH","Specialist Services"]
[null,null,null,null,null,null,null,null,null,null,null,null,null,null,null,null,null,null,null,"IS1","NDL","SUFFOLK GP FEDERATION","Community Healthcare Other"]
[null,null,null,null,null,null,null,null,null,null,null,null,null,null,null,null,null,null,null,"IS1","NYG","SUSSEX COMMUNITY DERMATOLOGY SERVICE","Community Healthcare Other"]
[null,null,null,null,null,null,null,null,null,null,null,null,null,null,null,null,null,null,null,"IS1","NGX","TAURUS HEALTHCARE LTD","Community Healthcare Other"]
[null,null,null,null,null,null,null,null,null,null,null,null,null,null,null,null,null,null,null,"IS1","NN1","THE ROYAL HOSPITAL FOR NEURO-DISABILITY","Community Inpatient Services"]
[null,null,null,null,null,null,null,null,null,null,null,null,null,null,null,null,null,null,null,"IS1","VLN99","TURNING POINT - BIRCHWOOD NURSING HOME","Community Healthcare Other"]
[null,null,null,null,null,null,null,null,null,null,null,null,null,null,null,null,null,null,null,"IS1","NNV","YOUR HEALTHCARE","Children & Family Services"]
[null,null,null,null,null,null,null,null,null,null,null,null,null,null,null,null,null,null,null,"IS1","NNV","YOUR HEALTHCARE","Community Nursing Services"]
[null,null,null,null,null,null,null,null,null,null,null,null,null,null,null,null,null,null,null,"IS1","NNV","YOUR HEALTHCARE","Rehabilitation & Therapy Services"]
[null,null,null,null,null,null,null,null,null,null,null,null,null,null,null,null,null,null,null,"IS1","NNV","YOUR HEALTHCARE","Specialist Services"]